{"text_format":"1","workbook":"xlsx","n_sheets":64,"sheets":["Start","Vorgaben","Gruppe AF6","Gruppe AF7","Elfmeter","Gruppe AF8","VR Gruppeneinteilung","Gruppe A1","Gruppe B1","Gruppe C1","Gruppe D1","Gruppe E1","Gruppe F1","Platzzuordnung","Sonntag","ZR Gruppeneinteilung","ZwRuA","ZwRuB","Halbfinale","Endrunde","GR Platzierungsspiele VR","PlSp13-18","PlSp19-24","PlSp25-30","PlSp31-36","PlSp37-42","PlSp43-48","Spiele ZR_ER","Spiele ZR","Spiele VR","Platzierungen gesamt","Lauf GA","Lauf GB","Lauf GC","Lauf GD","Lauf GE","Lauf GF","Spiele VR1","Lauf ZRA","Lauf ZRB","Lauf Halbfinale","Lauf Endrunde","Lauf PlSp13-18","Lauf PlSp19-24","Lauf PlSp25-30","Lauf PlSp31-36","Lauf PlSp37-42","Lauf PlSp43-48","Spiele ZR1","Tabelle1","exportva","exportvb","exportvc","exportvd","exportve","exportvf","exportzwrua","exportzwrub","exportplsp1318","exportplsp1924","exportplsp2530","exportplsp3136","exportplsp3742","exportplsp4348"],"not_rendered":{"charts":0,"images":39,"macros":1,"external_links":0,"defined_names":11,"comments":2,"pivot_tables":0},"unopened":[],"bounds":{"document_bytes":16777216,"sheet_cells":100000,"rows_first":2000,"rows_last":500,"rows_between":2000,"halvings":0,"cell_chars":16384,"cell_head_chars":4096},"cells_cut":0,"cells_raw":0,"read":"whole","date_system":"1900"}

{"sheet":"Start","index":0,"n_rows":22,"n_cols":2,"rows_kept":22,"cut":false,"hidden":false,"merged":[]}
[]
[null,"Hallo,"]
[null,"Futures dieser Datei:"]
[]
[null,"Der direkter Vergleich wird, anders als bei anderen Turnierdateien, berücksichtigt und bei Gleichheit durchgeführt. Sollte dieser kein Ergebnis bringen ist eine Hanndsorrtierung erforderlich."]
[null,"Durch dieses Verfahren kann man nach einem Elfmeterschießen die Tabellen neu sortieren."]
[null,"Sollte es zu diesem Fall kommen werden in den Gruppenübersichten neben den Teams orangefarbende Kästchen sichtbar."]
[]
[null,"Die Datei ist für verschiedene Turniergrößen konzepiert."]
[]
[null,"Ab einer Turniergröße von 42 Mannschaften wird das Modul \"Platzzuordnuing aktiv. "]
[null,"Die Platzzuordnung ist für die Turnierfortsetzung nach den Vorrunden gedacht."]
[null,"Die Vorrunden werden je nach Turniergröße in 4- 6 Gruppen gespielt. "]
[null,"Am Folgetag wird das Turnier in zwei Zwischenrunden und Platzierungsrunden fortgesetzt. Ab einer Größe von 42 Teams"]
[null,"wird es deshalb erforderlich Platzierungsrunden auf die Plätze zu verteilen. Bei 48 Mannschaften werden zwei Gruppen auf die Plätze"]
[null,"der übrigen Platzierungsgruppen aufgeteilt."]
[]
[null,"Da diese Datei eine Demodatei ist, sind nicht alle Ergebnisse änderbar."]
[null,"Wir würden uns über Anregungen und Verbesserungsvorschläge sehr freuen. Schickt uns sie einfach an jugendturnier@fortuna-veenhusen.de"]
[]
[null,"LG"]
[null,"Frank Ammermann"]

{"sheet":"Vorgaben","index":1,"n_rows":66,"n_cols":26,"rows_kept":66,"cut":false,"hidden":false,"merged":[[37,0,37,1],[37,4,37,5],[17,0,17,1],[1,1,1,6],[27,0,27,1],[18,13,22,14],[27,13,31,14],[8,3,8,4],[9,3,9,4],[15,3,15,4],[14,3,14,4],[12,3,12,4],[13,3,13,4],[11,3,11,4],[10,3,10,4],[17,4,17,5],[27,4,27,5],[13,11,15,13]]}
[null,"Anzahl der Mannschaften",48,null,{"$f":"IF(C1=48,E3,IF(C1=42,E4,IF(C1<42,E5,\"\")))","v":"AF8"}]
[null,"17. E- Jugend- Turnier",null,null,null,null,null,null,null,null,null,null,null,null,null,null,null,null,null,null,null,null,null,null,"07:00:00","00:01:00"]
[null,"Samstag","2014-06-28",null,{"$f":"IF(OR(B17=\"ACHTUNG! Direkter Vergleich war unentschieden!\",F17=\"ACHTUNG! Direkter Vergleich war unentschieden!\",B27=\"ACHTUNG! Direkter Vergleich war unentschieden!\",F27=\"ACHTUNG! Direkter Vergleich war unentschieden!\",B37=\"ACHTUNG! Direkter Vergleich war unentschieden!\",F37=\"ACHTUNG! Direkter Vergleich war unentschieden!\"),\"AF8\",IF(OR(B17=\"ACHTUNG: Direkter Vergleich erfolgreich durchlaufen!\",F17=\"ACHTUNG: Direkter Vergleich erfolgreich durchlaufen!\",B27=\"ACHTUNG: Direkter Vergleich erfolgreich durchlaufen!\",F27=\"ACHTUNG: Direkter Vergleich erfolgreich durchlaufen!\",B37=\"ACHTUNG: Direkter Vergleich erfolgreich durchlaufen!\",F37=\"ACHTUNG: Direkter Vergleich erfolgreich durchlaufen!\",B17=\"Min. 3 Teams identisch.  HANDSORTIERUNG!\",F17=\"Min. 3 Teams identisch.  HANDSORTIERUNG!\",B27=\"Min. 3 Teams identisch.  HANDSORTIERUNG!\",F27=\"Min. 3 Teams identisch.  HANDSORTIERUNG!\",B37=\"Min. 3 Teams identisch.  HANDSORTIERUNG!\",F37=\"Min. 3 Teams identisch.  HANDSORTIERUNG!\"),\"AF8\",\"\"))","v":"AF8"},"Sonntag","2014-06-29",null,null,null,null,null,null,null,null,null,null,null,null,null,null,null,null,null,"07:15:00","00:02:00"]
[null,"Startzeit","14:15:00",null,{"$f":"IF(OR(B17=\"ACHTUNG! Direkter Vergleich war unentschieden!\",F17=\"ACHTUNG! Direkter Vergleich war unentschieden!\",B27=\"ACHTUNG! Direkter Vergleich war unentschieden!\",F27=\"ACHTUNG! Direkter Vergleich war unentschieden!\",B37=\"ACHTUNG! Direkter Vergleich war unentschieden!\",F37=\"ACHTUNG! Direkter Vergleich war unentschieden!\",B17=\"Min. 3 Teams identisch.  HANDSORTIERUNG!\",F17=\"Min. 3 Teams identisch.  HANDSORTIERUNG!\",B27=\"Min. 3 Teams identisch.  HANDSORTIERUNG!\",F27=\"Min. 3 Teams identisch.  HANDSORTIERUNG!\",B37=\"Min. 3 Teams identisch.  HANDSORTIERUNG!\",F37=\"Min. 3 Teams identisch.  HANDSORTIERUNG!\"),\"AF7\",\"\")","v":"AF7"},"Startzeit","08:45:00",null,null,null,null,null,null,null,null,null,null,null,null,null,null,null,null,null,"07:30:00","00:03:00"]
[null,"Spielabschnitte",1,null,{"$f":"IF(OR(B17=\"ACHTUNG! Direkter Vergleich war unentschieden!\",F17=\"ACHTUNG! Direkter Vergleich war unentschieden!\",B27=\"ACHTUNG! Direkter Vergleich war unentschieden!\",F27=\"ACHTUNG! Direkter Vergleich war unentschieden!\",B37=\"ACHTUNG! Direkter Vergleich war unentschieden!\",F37=\"ACHTUNG! Direkter Vergleich war unentschieden!\",B17=\"Min. 3 Teams identisch.  HANDSORTIERUNG!\",F17=\"Min. 3 Teams identisch.  HANDSORTIERUNG!\",B27=\"Min. 3 Teams identisch.  HANDSORTIERUNG!\",F27=\"Min. 3 Teams identisch.  HANDSORTIERUNG!\",B37=\"Min. 3 Teams identisch.  HANDSORTIERUNG!\",F37=\"Min. 3 Teams identisch.  HANDSORTIERUNG!\"),\"AF6\",\"\")","v":"AF6"},"Spielabschnitte",1,null,null,null,null,null,null,null,null,null,null,null,null,null,null,null,null,null,"07:45:00","00:04:00"]
[null,"Abschnittsdauer","00:09:00",null,null,"Abschnittsdauer","00:10:00",null,null,null,null,null,null,null,null,null,null,null,null,null,null,null,null,null,"08:00:00","00:05:00"]
[null,"Wechselpausenzeit Samstag","00:01:00",null,null,"Wechselpausenzeit Sonntag","00:01:00",null,null,null,null,null,null,null,null,null,null,null,null,null,null,null,null,null,"08:15:00","00:06:00"]
[null,"Halbzeit zwischen den Spielabschnitten","00:01:00",null,null,"Halbzeit zwischen den Spielabschnitten","00:02:00",null,null,null,null,null,null,null,null,null,null,null,null,null,null,null,null,null,"08:30:00","00:07:00"]
[null,"Pausen Samstag / vor Spiel","Dauer",null,null,"Pausen Sonntag / vor Spiel","Dauer",null,null,null,null,null,null,null,null,null,null,null,null,null,null,null,null,null,"08:45:00","00:08:00"]
[null,null,null,null,null,16,3.125E-2,null,null,null,null,null,null,null,null,null,null,null,null,null,null,null,null,null,"09:00:00","00:09:00"]
[null,null,null,null,null,null,null,null,null,null,null,null,null,null,null,null,null,null,null,null,null,null,null,null,"09:15:00","00:10:00"]
[null,null,null,null,null,null,null,null,null,null,null,null,null,null,null,null,null,null,null,null,null,null,null,null,"09:30:00","00:11:00"]
[null,null,null,null,null,null,null,null,null,null,null,null,null,null,null,null,null,null,null,null,null,null,null,null,"09:45:00","00:12:00"]
[null,null,null,null,null,null,null,null,null,null,null,null,null,null,null,null,null,null,null,null,null,null,null,null,"10:00:00","00:13:00"]
[null,null,null,null,null,null,null,null,null,null,null,null,null,null,null,null,null,null,null,null,null,null,null,null,"10:15:00","00:14:00"]
[null,null,null,null,null,null,null,null,null,null,null,null,null,null,null,null,null,null,null,null,null,null,null,null,"10:30:00","00:15:00"]
[null,{"$f":"IF('Gruppe A1'!AK61<3,\"\",IF(C1=48,'Gruppe AF8'!BM30,IF(C1=42,'Gruppe AF7'!BM29,IF(C1<42,'Gruppe AF6'!BM23,\"\"))))","v":""},null,null,null,{"$f":"IF('Gruppe B1'!AK61<3,\"\",IF(C1=48,'Gruppe AF8'!BM130,IF(C1=42,'Gruppe AF7'!BM129,IF(C1<42,'Gruppe AF6'!BM123,\"\"))))","v":"Min. 3 Teams identisch.  HANDSORTIERUNG!"},null,null,null,"EINGABE DER BILDDATEN FUER DIE URKUNDEN",null,null,null,null,null,null,null,null,null,null,null,null,null,null,"10:45:00","00:16:00"]
["Gruppe A",null,"Platz",null,"Gruppe B",null,"Platz",null,null,"Team",null,"Name",null,null,null,null,null,null,null,null,null,null,null,null,"11:00:00","00:17:00"]
["1.","Gruppe A1",1,null,"1.","Gruppe B1",2,null,null,{"$f":"B19","v":"Gruppe A1"},{"$f":"IF(L19=\"\",N$28 & \"\" & N$26 & \"\" & N$24,N$19 & \"\" & L19 & \"\" & N$24)","v":"C:\\Mannschaftsbilder_Urkunde\\_66.jpg"},"_66","Speicherort:","C:\\Mannschaftsbilder_Urkunde\\",null,null,null,null,null,null,null,null,null,null,"11:15:00","00:18:00"]
["2.","Gruppe A2",{"$f":"$C$19","v":1},null,"2.","Gruppe B2",{"$f":"$G$19","v":2},null,null,{"$f":"B20","v":"Gruppe A2"},{"$f":"IF(L20=\"\",N$28 & \"\" & N$26 & \"\" & N$24,N$19 & \"\" & L20 & \"\" & N$24)","v":"C:\\Mannschaftsbilder_Urkunde\\_11.jpg"},"_11",null,null,null,null,null,null,null,null,null,null,null,null,"11:30:00","00:19:00"]
["3.","Gruppe A3",{"$f":"$C$19","v":1},null,"3.","Gruppe B3",{"$f":"$G$19","v":2},null,null,"Gruppe A3","C:\\Mannschaftsbilder_Urkunde\\_20.jpg","_20",null,null,null,null,null,null,null,null,null,null,null,null,"11:45:00","00:20:00"]
["4.","Gruppe A4",1,null,"4.","Gruppe B4",2,null,null,{"$f":"B22","v":"Gruppe A4"},"C:\\Mannschaftsbilder_Urkunde\\_9.jpg","_9",null,null,null,null,null,null,null,null,null,null,null,null,"12:00:00"]
["5.","Gruppe A5",1,null,"5.","Gruppe B5",2,null,null,"Gruppe A5","C:\\Mannschaftsbilder_Urkunde\\_15.jpg","_15",null,null,null,null,null,null,null,null,null,null,null,null,"12:15:00"]
["6.","Gruppe A6",1,null,"6.","Gruppe B6",2,null,null,"Gruppe A6","C:\\Mannschaftsbilder_Urkunde\\_12.jpg","_12","Endung:",".jpg",null,null,{"$f":"A$2","v":0},null,null,null,null,null,null,null,"12:30:00"]
["7.","Gruppe A7",1,null,"7.","Gruppe B7",2,null,null,"Gruppe A7","C:\\Mannschaftsbilder_Urkunde\\kein_bild.jpg",null,null,null,null,null,null,null,null,null,null,null,null,null,"12:45:00"]
["8.","Gruppe A8",1,null,"8.","Gruppe B8",2,null,null,"Gruppe A8","C:\\Mannschaftsbilder_Urkunde\\_6.jpg","_6","Kein Bild:","kein_bild",null,null,{"$f":"A$2","v":0},null,null,null,null,null,null,null,"13:00:00"]
[null,{"$f":"IF('Gruppe B1'!AK61<3,\"\",IF(C1=48,'Gruppe AF8'!BM230,IF(C1=42,'Gruppe AF7'!BM229,IF(C1<42,'Gruppe AF6'!BM223,\"\"))))","v":"ACHTUNG: Direkter Vergleich erfolgreich durchlaufen!"},null,null,null,{"$f":"IF('Gruppe D1'!AK61<3,\"\",IF(C1=48,'Gruppe AF8'!BM330,IF(C1=42,'Gruppe AF7'!BM329,IF(C1<42,'Gruppe AF6'!BM323,\"\"))))","v":""},null,null,null,{"$f":"F19","v":"Gruppe B1"},"C:\\Mannschaftsbilder_Urkunde\\_5.jpg","_5",null,null,null,null,0,null,null,null,null,null,null,null,"13:15:00"]
["Gruppe C",null,"Platz",null,"Gruppe D",null,"Platz",null,null,{"$f":"F20","v":"Gruppe B2"},"C:\\Mannschaftsbilder_Urkunde\\_19.jpg","_19","Pfad k Bild:","C:\\Mannschaftsbilder_Urkunde\\",null,null,0,null,null,null,null,null,null,null,"13:30:00"]
["1.","Gruppe C1",3,null,"1.","Gruppe D1",4,null,null,"Gruppe B3","C:\\Mannschaftsbilder_Urkunde\\_25.jpg","_25",null,null,null,null,0,null,null,null,null,null,null,null,"13:45:00"]
["2.","Gruppe C2",{"$f":"$C$29","v":3},null,"2.","Gruppe D2",{"$f":"$G$29","v":4},null,null,"Gruppe B4","C:\\Mannschaftsbilder_Urkunde\\_2.jpg","_2",null,null,null,null,0,null,null,null,null,null,null,null,"14:00:00"]
["3.","Gruppe C3",{"$f":"$C$29","v":3},null,"3.","Gruppe D3",{"$f":"$G$29","v":4},null,null,"Gruppe B5","C:\\Mannschaftsbilder_Urkunde\\_1.jpg","_1",null,null,null,null,{"$f":"E$2","v":0},null,null,null,null,null,null,null,"14:15:00"]
["4.","Gruppe C4",3,null,"4.","Gruppe D4",4,null,null,"Gruppe B6","C:\\Mannschaftsbilder_Urkunde\\_7.jpg","_7",null,null,null,null,{"$f":"E$2","v":0},null,null,null,null,null,null,null,"14:30:00"]
["5.","Gruppe C5",3,null,"5.","Gruppe D5",4,null,null,"Gruppe B7","C:\\Mannschaftsbilder_Urkunde\\kein_bild.jpg",null,null,null,null,null,0,null,null,null,null,null,null,null,"14:45:00"]
["6.","Gruppe C6",3,null,"6.","Gruppe D6",4,null,null,"Gruppe B8","C:\\Mannschaftsbilder_Urkunde\\_23.jpg","_23",null,null,null,null,0,null,null,null,null,null,null,null,"15:00:00"]
["7.","Gruppe C7",3,null,"7.","Gruppe D7",4,null,null,{"$f":"B29","v":"Gruppe C1"},"C:\\Mannschaftsbilder_Urkunde\\_17.jpg","_17",null,null,null,null,0,null,null,null,null,null,null,null,"15:15:00"]
["8.","Gruppe C8",3,null,"8.","Gruppe D8",4,null,null,{"$f":"B30","v":"Gruppe C2"},"C:\\Mannschaftsbilder_Urkunde\\kein_bild.jpg",null,null,null,null,null,null,null,null,null,null,null,null,null,"15:30:00"]
[null,{"$f":"IF('Gruppe E1'!AK61<3,\"\",IF(C1=48,'Gruppe AF8'!BM430,IF(C1=42,'Gruppe AF7'!BM429,IF(C1<42,'Gruppe AF6'!BM423,\"\"))))","v":"ACHTUNG! Direkter Vergleich war unentschieden!"},null,null,null,{"$f":"IF('Gruppe F1'!AK61<3,\"\",IF(C1=48,'Gruppe AF8'!BM530,IF(C1=42,'Gruppe AF7'!BM529,IF(C1<42,'Gruppe AF6'!BM523,\"\"))))","v":"Min. 3 Teams identisch.  HANDSORTIERUNG!"},null,null,null,"Gruppe C3","C:\\Mannschaftsbilder_Urkunde\\kein_bild.jpg",null,null,null,null,null,null,null,null,null,null,null,null,null,"15:45:00"]
["Gruppe E",null,"Platz",null,"Gruppe F",null,"Platz",null,null,"Gruppe C4","C:\\Mannschaftsbilder_Urkunde\\_28.jpg","_28",null,null,null,null,0,null,null,null,null,null,null,null,"16:00:00"]
["1.","Gruppe E1",5,null,"1.","Gruppe F1",6,null,null,"Gruppe C5","C:\\Mannschaftsbilder_Urkunde\\_14.jpg","_14",null,null,null,null,0,null,null,null,null,null,null,null,"16:15:00"]
["2.","Gruppe E2",{"$f":"$C$39","v":5},null,"2.","Gruppe F2",{"$f":"$G$39","v":6},null,null,"Gruppe C6","C:\\Mannschaftsbilder_Urkunde\\_4.jpg","_4",null,null,null,null,{"$f":"A$12","v":0},null,null,null,null,null,null,null,"16:30:00"]
["3.","Gruppe E3",{"$f":"$C$39","v":5},null,"3.","Gruppe F3",{"$f":"$G$39","v":6},null,null,"Gruppe C7","C:\\Mannschaftsbilder_Urkunde\\_26.jpg","_26",null,null,null,null,{"$f":"A$12","v":0},null,null,null,null,null,null,null,"16:45:00"]
["4.","Gruppe E4",5,null,"4.","Gruppe F4",6,null,null,"Gruppe C8","C:\\Mannschaftsbilder_Urkunde\\_8.jpg","_8",null,null,null,null,0,null,null,null,null,null,null,null,"17:00:00"]
["5.","Gruppe E5",5,null,"5.","Gruppe F5",6,null,null,{"$f":"F29","v":"Gruppe D1"},"C:\\Mannschaftsbilder_Urkunde\\_27.jpg","_27",null,null,null,null,0,null,null,null,null,null,null,null,"17:15:00"]
["6.","Gruppe E6",5,null,"6.","Gruppe F6",6,null,null,{"$f":"F30","v":"Gruppe D2"},"C:\\Mannschaftsbilder_Urkunde\\_3.jpg","_3",null,null,null,null,0,null,null,null,null,null,null,null,"17:30:00"]
["7.","Gruppe E7",5,null,"7.","Gruppe F7",6,null,null,"Gruppe D3","C:\\Mannschaftsbilder_Urkunde\\_16.jpg","_16",null,null,null,null,{"$f":"E$12","v":0},null,null,null,null,null,null,null,"17:45:00"]
["8.","Gruppe E8",5,null,"8.","Gruppe F8",6,null,null,"Gruppe D4","C:\\Mannschaftsbilder_Urkunde\\_29.jpg","_29",null,null,null,null,{"$f":"E$12","v":0},null,null,null,null,null,null,null,"18:00:00"]
[null,null,null,null,null,null,null,null,null,"Gruppe D5","C:\\Mannschaftsbilder_Urkunde\\_10.jpg","_10",null,null,null,null,0,null,null,null,null,null,null,null,"18:15:00"]
[null,null,null,null,null,null,null,null,null,"Gruppe D6","C:\\Mannschaftsbilder_Urkunde\\_21.jpg","_21",null,null,null,null,0,null,null,null,null,null,null,null,"18:30:00"]
[null,null,null,null,null,null,null,null,null,"Gruppe D7","C:\\Mannschaftsbilder_Urkunde\\_22.jpg","_22",null,null,null,null,0,null,null,null,null,null,null,null,"18:45:00"]
[null,null,null,null,null,null,null,null,null,"Gruppe D8","C:\\Mannschaftsbilder_Urkunde\\_30.jpg","_30",null,null,null,null,0,null,null,null,null,null,null,null,"19:00:00"]
[null,null,null,null,null,null,null,null,null,{"$f":"B39","v":"Gruppe E1"},"C:\\Mannschaftsbilder_Urkunde\\_13.jpg","_13",null,null,null,null,null,null,null,null,null,null,null,null,"19:15:00"]
[null,null,null,null,null,null,null,null,null,{"$f":"B40","v":"Gruppe E2"},"C:\\Mannschaftsbilder_Urkunde\\kein_bild.jpg",null,null,null,null,null,null,null,null,null,null,null,null,null,"19:30:00"]
[null,null,null,null,null,null,null,null,null,"Gruppe E3","C:\\Mannschaftsbilder_Urkunde\\kein_bild.jpg",null,null,null,null,null,null,null,null,null,null,null,null,null,"19:45:00"]
[null,null,null,null,null,null,null,null,null,"Gruppe E4","C:\\Mannschaftsbilder_Urkunde\\kein_bild.jpg",null,null,null,null,null,null,null,null,null,null,null,null,null,"20:00:00"]
[null,null,null,null,null,null,null,null,null,"Gruppe E5","C:\\Mannschaftsbilder_Urkunde\\kein_bild.jpg"]
[null,null,null,null,null,null,null,null,null,"Gruppe E6","C:\\Mannschaftsbilder_Urkunde\\kein_bild.jpg"]
[null,null,null,null,null,null,null,null,null,"Gruppe E7","C:\\Mannschaftsbilder_Urkunde\\kein_bild.jpg"]
[null,null,null,null,null,null,null,null,null,"Gruppe E8","C:\\Mannschaftsbilder_Urkunde\\kein_bild.jpg"]
[null,null,null,null,null,null,null,null,null,{"$f":"F39","v":"Gruppe F1"},"C:\\Mannschaftsbilder_Urkunde\\kein_bild.jpg"]
[null,null,null,null,null,null,null,null,null,{"$f":"F40","v":"Gruppe F2"},"C:\\Mannschaftsbilder_Urkunde\\kein_bild.jpg"]
[null,null,null,null,null,null,null,null,null,"Gruppe F3","C:\\Mannschaftsbilder_Urkunde\\_24.jpg","_24"]
[null,null,null,null,null,null,null,null,null,"Gruppe F4","C:\\Mannschaftsbilder_Urkunde\\kein_bild.jpg"]
[null,null,null,null,null,null,null,null,null,"Gruppe F5","C:\\Mannschaftsbilder_Urkunde\\kein_bild.jpg"]
[null,null,null,null,null,null,null,null,null,"Gruppe F6","C:\\Mannschaftsbilder_Urkunde\\kein_bild.jpg"]
[null,null,null,null,null,null,null,null,null,"Gruppe F7","C:\\Mannschaftsbilder_Urkunde\\kein_bild.jpg"]
[null,null,null,null,null,null,null,null,null,"Gruppe F8","C:\\Mannschaftsbilder_Urkunde\\kein_bild.jpg"]

{"sheet":"Gruppe AF6","index":2,"n_rows":545,"n_cols":108,"rows_kept":545,"cut":false,"hidden":true,"merged":[[1,0,1,54],[2,0,2,54],[4,7,4,11],[4,20,4,21],[4,23,4,27],[4,37,4,41],[19,1,19,2],[19,3,19,7],[19,8,19,47],[19,48,19,52],[19,53,19,54],[20,1,20,2],[20,3,20,7],[20,8,20,26],[20,28,20,47],[20,48,20,49],[13,14,13,15],[13,16,13,40],[14,14,14,15],[14,16,14,40],[15,14,15,15],[15,16,15,40],[9,14,9,40],[10,14,10,15],[10,16,10,40],[11,14,11,15],[11,16,11,40],[12,14,12,15],[12,16,12,40],[22,53,22,54],[23,1,23,2],[23,3,23,7],[23,8,23,26],[23,28,23,47],[23,48,23,49],[23,51,23,52],[23,53,23,54],[22,1,22,2],[22,3,22,7],[22,8,22,26],[22,28,22,47],[22,48,22,49],[22,51,22,52],[20,51,20,52],[20,53,20,54],[21,1,21,2],[21,3,21,7],[21,8,21,26],[21,28,21,47],[21,48,21,49],[21,51,21,52],[21,53,21,54],[26,53,26,54],[27,1,27,2],[27,3,27,7],[27,8,27,26],[27,28,27,47],[27,48,27,49],[27,51,27,52],[27,53,27,54],[26,1,26,2],[26,3,26,7],[26,8,26,26],[26,28,26,47],[26,48,26,49],[26,51,26,52],[24,53,24,54],[25,1,25,2],[25,3,25,7],[25,8,25,26],[25,28,25,47],[25,48,25,49],[25,51,25,52],[25,53,25,54],[24,1,24,2],[24,3,24,7],[24,8,24,26],[24,28,24,47],[24,48,24,49],[24,51,24,52],[30,53,30,54],[31,1,31,2],[31,3,31,7],[31,8,31,26],[31,28,31,47],[31,48,31,49],[31,51,31,52],[31,53,31,54],[30,1,30,2],[30,3,30,7],[30,8,30,26],[30,28,30,47],[30,48,30,49],[30,51,30,52],[28,53,28,54],[29,1,29,2],[29,3,29,7],[29,8,29,26],[29,28,29,47],[29,48,29,49],[29,51,29,52],[29,53,29,54],[28,1,28,2],[28,3,28,7],[28,8,28,26],[28,28,28,47],[28,48,28,49],[28,51,28,52],[34,53,34,54],[38,8,38,33],[38,34,38,36],[38,37,38,39],[38,40,38,44],[38,45,38,47],[34,1,34,2],[34,3,34,7],[34,8,34,26],[34,28,34,47],[34,48,34,49],[34,51,34,52],[32,53,32,54],[33,1,33,2],[33,3,33,7],[33,8,33,26],[33,28,33,47],[33,48,33,49],[33,51,33,52],[33,53,33,54],[32,1,32,2],[32,3,32,7],[32,8,32,26],[32,28,32,47],[32,48,32,49],[32,51,32,52],[41,45,41,47],[42,8,42,9],[42,10,42,33],[42,34,42,36],[42,37,42,39],[42,40,42,41],[42,43,42,44],[42,45,42,47],[41,8,41,9],[41,10,41,33],[41,34,41,36],[41,37,41,39],[41,40,41,41],[41,43,41,44],[39,45,39,47],[40,8,40,9],[40,10,40,33],[40,34,40,36],[40,37,40,39],[40,40,40,41],[40,43,40,44],[40,45,40,47],[39,8,39,9],[39,10,39,33],[39,34,39,36],[39,37,39,39],[39,40,39,41],[39,43,39,44],[101,0,101,54],[102,0,102,54],[104,7,104,11],[104,20,104,21],[104,23,104,27],[104,37,104,41],[43,45,43,47],[44,8,44,9],[44,10,44,33],[44,34,44,36],[44,37,44,39],[44,40,44,41],[44,43,44,44],[44,45,44,47],[43,8,43,9],[43,10,43,33],[43,34,43,36],[43,37,43,39],[43,40,43,41],[43,43,43,44],[119,1,119,2],[119,3,119,7],[119,8,119,47],[119,48,119,52],[119,53,119,54],[120,1,120,2],[120,3,120,7],[120,8,120,26],[120,28,120,47],[120,48,120,49],[113,14,113,15],[113,16,113,40],[114,14,114,15],[114,16,114,40],[115,14,115,15],[115,16,115,40],[109,14,109,40],[110,14,110,15],[110,16,110,40],[111,14,111,15],[111,16,111,40],[112,14,112,15],[112,16,112,40],[122,53,122,54],[123,1,123,2],[123,3,123,7],[123,8,123,26],[123,28,123,47],[123,48,123,49],[123,51,123,52],[123,53,123,54],[122,1,122,2],[122,3,122,7],[122,8,122,26],[122,28,122,47],[122,48,122,49],[122,51,122,52],[120,51,120,52],[120,53,120,54],[121,1,121,2],[121,3,121,7],[121,8,121,26],[121,28,121,47],[121,48,121,49],[121,51,121,52],[121,53,121,54],[126,53,126,54],[127,1,127,2],[127,3,127,7],[127,8,127,26],[127,28,127,47],[127,48,127,49],[127,51,127,52],[127,53,127,54],[126,1,126,2],[126,3,126,7],[126,8,126,26],[126,28,126,47],[126,48,126,49],[126,51,126,52],[124,53,124,54],[125,1,125,2],[125,3,125,7],[125,8,125,26],[125,28,125,47],[125,48,125,49],[125,51,125,52],[125,53,125,54],[124,1,124,2],[124,3,124,7],[124,8,124,26],[124,28,124,47],[124,48,124,49],[124,51,124,52],[130,53,130,54],[131,1,131,2],[131,3,131,7],[131,8,131,26],[131,28,131,47],[131,48,131,49],[131,51,131,52],[131,53,131,54],[130,1,130,2],[130,3,130,7],[130,8,130,26],[130,28,130,47],[130,48,130,49],[130,51,130,52],[128,53,128,54],[129,1,129,2],[129,3,129,7],[129,8,129,26],[129,28,129,47],[129,48,129,49],[129,51,129,52],[129,53,129,54],[128,1,128,2],[128,3,128,7],[128,8,128,26],[128,28,128,47],[128,48,128,49],[128,51,128,52],[134,53,134,54],[138,8,138,33],[138,34,138,36],[138,37,138,39],[138,40,138,44],[138,45,138,47],[134,1,134,2],[134,3,134,7],[134,8,134,26],[134,28,134,47],[134,48,134,49],[134,51,134,52],[132,53,132,54],[133,1,133,2],[133,3,133,7],[133,8,133,26],[133,28,133,47],[133,48,133,49],[133,51,133,52],[133,53,133,54],[132,1,132,2],[132,3,132,7],[132,8,132,26],[132,28,132,47],[132,48,132,49],[132,51,132,52],[141,45,141,47],[142,8,142,9],[142,10,142,33],[142,34,142,36],[142,37,142,39],[142,40,142,41],[142,43,142,44],[142,45,142,47],[141,8,141,9],[141,10,141,33],[141,34,141,36],[141,37,141,39],[141,40,141,41],[141,43,141,44],[139,45,139,47],[140,8,140,9],[140,10,140,33],[140,34,140,36],[140,37,140,39],[140,40,140,41],[140,43,140,44],[140,45,140,47],[139,8,139,9],[139,10,139,33],[139,34,139,36],[139,37,139,39],[139,40,139,41],[139,43,139,44],[201,0,201,54],[202,0,202,54],[204,7,204,11],[204,20,204,21],[204,23,204,27],[204,37,204,41],[143,45,143,47],[144,8,144,9],[144,10,144,33],[144,34,144,36],[144,37,144,39],[144,40,144,41],[144,43,144,44],[144,45,144,47],[143,8,143,9],[143,10,143,33],[143,34,143,36],[143,37,143,39],[143,40,143,41],[143,43,143,44],[219,1,219,2],[219,3,219,7],[219,8,219,47],[219,48,219,52],[219,53,219,54],[220,1,220,2],[220,3,220,7],[220,8,220,26],[220,28,220,47],[220,48,220,49],[213,14,213,15],[213,16,213,40],[214,14,214,15],[214,16,214,40],[215,14,215,15],[215,16,215,40],[209,14,209,40],[210,14,210,15],[210,16,210,40],[211,14,211,15],[211,16,211,40],[212,14,212,15],[212,16,212,40],[222,53,222,54],[223,1,223,2],[223,3,223,7],[223,8,223,26],[223,28,223,47],[223,48,223,49],[223,51,223,52],[223,53,223,54],[222,1,222,2],[222,3,222,7],[222,8,222,26],[222,28,222,47],[222,48,222,49],[222,51,222,52],[220,51,220,52],[220,53,220,54],[221,1,221,2],[221,3,221,7],[221,8,221,26],[221,28,221,47],[221,48,221,49],[221,51,221,52],[221,53,221,54],[226,53,226,54],[227,1,227,2],[227,3,227,7],[227,8,227,26],[227,28,227,47],[227,48,227,49],[227,51,227,52],[227,53,227,54],[226,1,226,2],[226,3,226,7],[226,8,226,26],[226,28,226,47],[226,48,226,49],[226,51,226,52],[224,53,224,54],[225,1,225,2],[225,3,225,7],[225,8,225,26],[225,28,225,47],[225,48,225,49],[225,51,225,52],[225,53,225,54],[224,1,224,2],[224,3,224,7],[224,8,224,26],[224,28,224,47],[224,48,224,49],[224,51,224,52],[230,53,230,54],[231,1,231,2],[231,3,231,7],[231,8,231,26],[231,28,231,47],[231,48,231,49],[231,51,231,52],[231,53,231,54],[230,1,230,2],[230,3,230,7],[230,8,230,26],[230,28,230,47],[230,48,230,49],[230,51,230,52],[228,53,228,54],[229,1,229,2],[229,3,229,7],[229,8,229,26],[229,28,229,47],[229,48,229,49],[229,51,229,52],[229,53,229,54],[228,1,228,2],[228,3,228,7],[228,8,228,26],[228,28,228,47],[228,48,228,49],[228,51,228,52],[234,53,234,54],[238,8,238,33],[238,34,238,36],[238,37,238,39],[238,40,238,44],[238,45,238,47],[234,1,234,2],[234,3,234,7],[234,8,234,26],[234,28,234,47],[234,48,234,49],[234,51,234,52],[232,53,232,54],[233,1,233,2],[233,3,233,7],[233,8,233,26],[233,28,233,47],[233,48,233,49],[233,51,233,52],[233,53,233,54],[232,1,232,2],[232,3,232,7],[232,8,232,26],[232,28,232,47],[232,48,232,49],[232,51,232,52],[241,45,241,47],[242,8,242,9],[242,10,242,33],[242,34,242,36],[242,37,242,39],[242,40,242,41],[242,43,242,44],[242,45,242,47],[241,8,241,9],[241,10,241,33],[241,34,241,36],[241,37,241,39],[241,40,241,41],[241,43,241,44],[239,45,239,47],[240,8,240,9],[240,10,240,33],[240,34,240,36],[240,37,240,39],[240,40,240,41],[240,43,240,44],[240,45,240,47],[239,8,239,9],[239,10,239,33],[239,34,239,36],[239,37,239,39],[239,40,239,41],[239,43,239,44],[301,0,301,54],[302,0,302,54],[304,7,304,11],[304,20,304,21],[304,23,304,27],[304,37,304,41],[243,45,243,47],[244,8,244,9],[244,10,244,33],[244,34,244,36],[244,37,244,39],[244,40,244,41],[244,43,244,44],[244,45,244,47],[243,8,243,9],[243,10,243,33],[243,34,243,36],[243,37,243,39],[243,40,243,41],[243,43,243,44],[319,1,319,2],[319,3,319,7],[319,8,319,47],[319,48,319,52],[319,53,319,54],[320,1,320,2],[320,3,320,7],[320,8,320,26],[320,28,320,47],[320,48,320,49],[313,14,313,15],[313,16,313,40],[314,14,314,15],[314,16,314,40],[315,14,315,15],[315,16,315,40],[309,14,309,40],[310,14,310,15],[310,16,310,40],[311,14,311,15],[311,16,311,40],[312,14,312,15],[312,16,312,40],[322,53,322,54],[323,1,323,2],[323,3,323,7],[323,8,323,26],[323,28,323,47],[323,48,323,49],[323,51,323,52],[323,53,323,54],[322,1,322,2],[322,3,322,7],[322,8,322,26],[322,28,322,47],[322,48,322,49],[322,51,322,52],[320,51,320,52],[320,53,320,54],[321,1,321,2],[321,3,321,7],[321,8,321,26],[321,28,321,47],[321,48,321,49],[321,51,321,52],[321,53,321,54],[326,53,326,54],[327,1,327,2],[327,3,327,7],[327,8,327,26],[327,28,327,47],[327,48,327,49],[327,51,327,52],[327,53,327,54],[326,1,326,2],[326,3,326,7],[326,8,326,26],[326,28,326,47],[326,48,326,49],[326,51,326,52],[324,53,324,54],[325,1,325,2],[325,3,325,7],[325,8,325,26],[325,28,325,47],[325,48,325,49],[325,51,325,52],[325,53,325,54],[324,1,324,2],[324,3,324,7],[324,8,324,26],[324,28,324,47],[324,48,324,49],[324,51,324,52],[330,53,330,54],[331,1,331,2],[331,3,331,7],[331,8,331,26],[331,28,331,47],[331,48,331,49],[331,51,331,52],[331,53,331,54],[330,1,330,2],[330,3,330,7],[330,8,330,26],[330,28,330,47],[330,48,330,49],[330,51,330,52],[328,53,328,54],[329,1,329,2],[329,3,329,7],[329,8,329,26],[329,28,329,47],[329,48,329,49],[329,51,329,52],[329,53,329,54],[328,1,328,2],[328,3,328,7],[328,8,328,26],[328,28,328,47],[328,48,328,49],[328,51,328,52],[334,53,334,54],[338,8,338,33],[338,34,338,36],[338,37,338,39],[338,40,338,44],[338,45,338,47],[334,1,334,2],[334,3,334,7],[334,8,334,26],[334,28,334,47],[334,48,334,49],[334,51,334,52],[332,53,332,54],[333,1,333,2],[333,3,333,7],[333,8,333,26],[333,28,333,47],[333,48,333,49],[333,51,333,52],[333,53,333,54],[332,1,332,2],[332,3,332,7],[332,8,332,26],[332,28,332,47],[332,48,332,49],[332,51,332,52],[341,45,341,47],[342,8,342,9],[342,10,342,33],[342,34,342,36],[342,37,342,39],[342,40,342,41],[342,43,342,44],[342,45,342,47],[341,8,341,9],[341,10,341,33],[341,34,341,36],[341,37,341,39],[341,40,341,41],[341,43,341,44],[339,45,339,47],[340,8,340,9],[340,10,340,33],[340,34,340,36],[340,37,340,39],[340,40,340,41],[340,43,340,44],[340,45,340,47],[339,8,339,9],[339,10,339,33],[339,34,339,36],[339,37,339,39],[339,40,339,41],[339,43,339,44],[401,0,401,54],[402,0,402,54],[404,7,404,11],[404,20,404,21],[404,23,404,27],[404,37,404,41],[343,45,343,47],[344,8,344,9],[344,10,344,33],[344,34,344,36],[344,37,344,39],[344,40,344,41],[344,43,344,44],[344,45,344,47],[343,8,343,9],[343,10,343,33],[343,34,343,36],[343,37,343,39],[343,40,343,41],[343,43,343,44],[419,1,419,2],[419,3,419,7],[419,8,419,47],[419,48,419,52],[419,53,419,54],[420,1,420,2],[420,3,420,7],[420,8,420,26],[420,28,420,47],[420,48,420,49],[413,14,413,15],[413,16,413,40],[414,14,414,15],[414,16,414,40],[415,14,415,15],[415,16,415,40],[409,14,409,40],[410,14,410,15],[410,16,410,40],[411,14,411,15],[411,16,411,40],[412,14,412,15],[412,16,412,40],[422,53,422,54],[423,1,423,2],[423,3,423,7],[423,8,423,26],[423,28,423,47],[423,48,423,49],[423,51,423,52],[423,53,423,54],[422,1,422,2],[422,3,422,7],[422,8,422,26],[422,28,422,47],[422,48,422,49],[422,51,422,52],[420,51,420,52],[420,53,420,54],[421,1,421,2],[421,3,421,7],[421,8,421,26],[421,28,421,47],[421,48,421,49],[421,51,421,52],[421,53,421,54],[426,53,426,54],[427,1,427,2],[427,3,427,7],[427,8,427,26],[427,28,427,47],[427,48,427,49],[427,51,427,52],[427,53,427,54],[426,1,426,2],[426,3,426,7],[426,8,426,26],[426,28,426,47],[426,48,426,49],[426,51,426,52],[424,53,424,54],[425,1,425,2],[425,3,425,7],[425,8,425,26],[425,28,425,47],[425,48,425,49],[425,51,425,52],[425,53,425,54],[424,1,424,2],[424,3,424,7],[424,8,424,26],[424,28,424,47],[424,48,424,49],[424,51,424,52],[430,53,430,54],[431,1,431,2],[431,3,431,7],[431,8,431,26],[431,28,431,47],[431,48,431,49],[431,51,431,52],[431,53,431,54],[430,1,430,2],[430,3,430,7],[430,8,430,26],[430,28,430,47],[430,48,430,49],[430,51,430,52],[428,53,428,54],[429,1,429,2],[429,3,429,7],[429,8,429,26],[429,28,429,47],[429,48,429,49],[429,51,429,52],[429,53,429,54],[428,1,428,2],[428,3,428,7],[428,8,428,26],[428,28,428,47],[428,48,428,49],[428,51,428,52],[434,53,434,54],[438,8,438,33],[438,34,438,36],[438,37,438,39],[438,40,438,44],[438,45,438,47],[434,1,434,2],[434,3,434,7],[434,8,434,26],[434,28,434,47],[434,48,434,49],[434,51,434,52],[432,53,432,54],[433,1,433,2],[433,3,433,7],[433,8,433,26],[433,28,433,47],[433,48,433,49],[433,51,433,52],[433,53,433,54],[432,1,432,2],[432,3,432,7],[432,8,432,26],[432,28,432,47],[432,48,432,49],[432,51,432,52],[441,45,441,47],[442,8,442,9],[442,10,442,33],[442,34,442,36],[442,37,442,39],[442,40,442,41],[442,43,442,44],[442,45,442,47],[441,8,441,9],[441,10,441,33],[441,34,441,36],[441,37,441,39],[441,40,441,41],[441,43,441,44],[439,45,439,47],[440,8,440,9],[440,10,440,33],[440,34,440,36],[440,37,440,39],[440,40,440,41],[440,43,440,44],[440,45,440,47],[439,8,439,9],[439,10,439,33],[439,34,439,36],[439,37,439,39],[439,40,439,41],[439,43,439,44],[501,0,501,54],[502,0,502,54],[504,7,504,11],[504,20,504,21],[504,23,504,27],[504,37,504,41],[443,45,443,47],[444,8,444,9],[444,10,444,33],[444,34,444,36],[444,37,444,39],[444,40,444,41],[444,43,444,44],[444,45,444,47],[443,8,443,9],[443,10,443,33],[443,34,443,36],[443,37,443,39],[443,40,443,41],[443,43,443,44],[519,1,519,2],[519,3,519,7],[519,8,519,47],[519,48,519,52],[519,53,519,54],[520,1,520,2],[520,3,520,7],[520,8,520,26],[520,28,520,47],[520,48,520,49],[513,14,513,15],[513,16,513,40],[514,14,514,15],[514,16,514,40],[515,14,515,15],[515,16,515,40],[509,14,509,40],[510,14,510,15],[510,16,510,40],[511,14,511,15],[511,16,511,40],[512,14,512,15],[512,16,512,40],[522,53,522,54],[523,1,523,2],[523,3,523,7],[523,8,523,26],[523,28,523,47],[523,48,523,49],[523,51,523,52],[523,53,523,54],[522,1,522,2],[522,3,522,7],[522,8,522,26],[522,28,522,47],[522,48,522,49],[522,51,522,52],[520,51,520,52],[520,53,520,54],[521,1,521,2],[521,3,521,7],[521,8,521,26],[521,28,521,47],[521,48,521,49],[521,51,521,52],[521,53,521,54],[526,53,526,54],[527,1,527,2],[527,3,527,7],[527,8,527,26],[527,28,527,47],[527,48,527,49],[527,51,527,52],[527,53,527,54],[526,1,526,2],[526,3,526,7],[526,8,526,26],[526,28,526,47],[526,48,526,49],[526,51,526,52],[524,53,524,54],[525,1,525,2],[525,3,525,7],[525,8,525,26],[525,28,525,47],[525,48,525,49],[525,51,525,52],[525,53,525,54],[524,1,524,2],[524,3,524,7],[524,8,524,26],[524,28,524,47],[524,48,524,49],[524,51,524,52],[530,53,530,54],[531,1,531,2],[531,3,531,7],[531,8,531,26],[531,28,531,47],[531,48,531,49],[531,51,531,52],[531,53,531,54],[530,1,530,2],[530,3,530,7],[530,8,530,26],[530,28,530,47],[530,48,530,49],[530,51,530,52],[528,53,528,54],[529,1,529,2],[529,3,529,7],[529,8,529,26],[529,28,529,47],[529,48,529,49],[529,51,529,52],[529,53,529,54],[528,1,528,2],[528,3,528,7],[528,8,528,26],[528,28,528,47],[528,48,528,49],[528,51,528,52],[534,1,534,2],[534,3,534,7],[534,8,534,26],[534,28,534,47],[534,48,534,49],[534,51,534,52],[532,53,532,54],[533,1,533,2],[533,3,533,7],[533,8,533,26],[533,28,533,47],[533,48,533,49]],"merged_total":1056,"flags":["merged_cut"]}
[]
["Vorrunde"]
["Gruppe A"]
[]
[null,null,null,null,null,null,"Beginn:",{"$f":"Vorgaben!C4","v":"14:15:00"},null,null,null,null,"Uhr",null,null,null,null,null,null,"Spielzeit:",1,null,"x",{"$f":"Vorgaben!C6","v":"00:09:00"},null,null,null,null,"min",null,null,null,null,null,null,null,"Pause:",{"$f":"Vorgaben!C7","v":"00:01:00"},null,null,null,null,"min"]
[]
[]
[null,"I. Teilnehmende Mannschaften"]
[]
[null,null,null,null,null,null,null,null,null,null,null,null,null,null,"Gruppeneinteilung"]
[null,null,null,null,null,null,null,null,null,null,null,null,null,null,"1.",null,{"$f":"Vorgaben!B19","v":"Gruppe A1"}]
[null,null,null,null,null,null,null,null,null,null,null,null,null,null,"2.",null,{"$f":"Vorgaben!B20","v":"Gruppe A2"}]
[null,null,null,null,null,null,null,null,null,null,null,null,null,null,"3.",null,{"$f":"Vorgaben!B21","v":"Gruppe A3"}]
[null,null,null,null,null,null,null,null,null,null,null,null,null,null,"4.",null,{"$f":"Vorgaben!B22","v":"Gruppe A4"}]
[null,null,null,null,null,null,null,null,null,null,null,null,null,null,"5.",null,{"$f":"Vorgaben!B23","v":"Gruppe A5"}]
[null,null,null,null,null,null,null,null,null,null,null,null,null,null,"6.",null,{"$f":"Vorgaben!B24","v":"Gruppe A6"}]
[]
[null,"II. Spielplan"]
[]
[null,"Nr.",null,"Beginn",null,null,null,null,"Spielpaarung",null,null,null,null,null,null,null,null,null,null,null,null,null,null,null,null,null,null,null,null,null,null,null,null,null,null,null,null,null,null,null,null,null,null,null,null,null,null,null,"Ergebnis",null,null,null,null,null,null,null,null,"Punkte"]
[null,{"$f":"'Gruppe A1'!B28:C28","v":1},null,{"$f":"'Gruppe A1'!D28:I28","v":"14:15:00"},null,null,null,null,{"$f":"$Q$11","v":"Gruppe A1"},null,null,null,null,null,null,null,null,null,null,null,null,null,null,null,null,null,null,"-",{"$f":"$Q$12","v":"Gruppe A2"},null,null,null,null,null,null,null,null,null,null,null,null,null,null,null,null,null,null,null,{"$f":"'Gruppe A1'!AW28","v":1},null,":",{"$f":"'Gruppe A1'!AZ28","v":1},null,null,null,null,null,{"$f":"IF(ISBLANK(AW21),\"0\",IF(AW21>AZ21,3,IF(AW21=AZ21,1,0)))","v":1},":",{"$f":"IF(ISBLANK(AZ21),\"0\",IF(AZ21>AW21,3,IF(AZ21=AW21,1,0)))","v":1},null,null,null,null,null,null,null,null,null,null,null,null,null,null,null,null,null,null,null,null,null,null,null,null,null,null,null,null,null,null,null,null,null,null,null,null,null,null,null,null,null,null,null,null,null,{"$f":"C21","v":0},0.593749999999999,0]
[null,{"$f":"'Gruppe A1'!B29:C29","v":2},null,{"$f":"'Gruppe A1'!D29:I29","v":"14:25:00"},null,null,null,null,{"$f":"$Q$13","v":"Gruppe A3"},null,null,null,null,null,null,null,null,null,null,null,null,null,null,null,null,null,null,"-",{"$f":"$Q$14","v":"Gruppe A4"},null,null,null,null,null,null,null,null,null,null,null,null,null,null,null,null,null,null,null,{"$f":"'Gruppe A1'!AW29","v":1},null,":",{"$f":"'Gruppe A1'!AZ29","v":1},null,null,null,null,null,{"$f":"IF(ISBLANK(AW22),\"0\",IF(AW22>AZ22,3,IF(AW22=AZ22,1,0)))","v":1},":",{"$f":"IF(ISBLANK(AZ22),\"0\",IF(AZ22>AW22,3,IF(AZ22=AW22,1,0)))","v":1}]
[null,{"$f":"'Gruppe A1'!B30:C30","v":3},null,{"$f":"'Gruppe A1'!D30:I30","v":"14:35:00"},null,null,null,null,{"$f":"$Q$15","v":"Gruppe A5"},null,null,null,null,null,null,null,null,null,null,null,null,null,null,null,null,null,null,"-",{"$f":"$Q$16","v":"Gruppe A6"},null,null,null,null,null,null,null,null,null,null,null,null,null,null,null,null,null,null,null,{"$f":"'Gruppe A1'!AW30","v":1},null,":",{"$f":"'Gruppe A1'!AZ30","v":1},null,null,null,null,null,1,":",1,null,null,null,null,{"$f":"IF(BM25=\"Min. 3 Teams identisch.  HANDSORTIERUNG!\",BM25,IF(BM25=\"ACHTUNG! Direkter Vergleich war unentschieden!\",BM25,BM24))","v":"ACHTUNG! Direkter Vergleich war unentschieden!"}]
[null,{"$f":"'Gruppe A1'!B31:C31","v":4},null,{"$f":"'Gruppe A1'!D31:I31","v":"14:45:00"},null,null,null,null,{"$f":"$Q$11","v":"Gruppe A1"},null,null,null,null,null,null,null,null,null,null,null,null,null,null,null,null,null,null,"-",{"$f":"$Q$13","v":"Gruppe A3"},null,null,null,null,null,null,null,null,null,null,null,null,null,null,null,null,null,null,null,{"$f":"'Gruppe A1'!AW31","v":3},null,":",{"$f":"'Gruppe A1'!AZ31","v":1},null,null,null,null,null,3,":",0,null,null,null,null,{"$f":"IF(AND(EXACT(BO27,BO28),EXACT(BP27,BP28),EXACT(BS27,BS28)),\"ACHTUNG: Direkter Vergleich erfolgreich durchlaufen!\",IF(AND(EXACT(BO28,BO29),EXACT(BP28,BP29),EXACT(BS28,BS29)),\"ACHTUNG: Direkter Vergleich erfolgreich durchlaufen!\",IF(AND(EXACT(BO29,BO30),EXACT(BP29,BP30),EXACT(BS29,BS30)),\"ACHTUNG: Direkter Vergleich erfolgreich durchlaufen!\",IF(AND(EXACT(BO30,BO31),EXACT(BP30,BP31),EXACT(BS30,BS31)),\"ACHTUNG: Direkter Vergleich erfolgreich durchlaufen!\",IF(AND(EXACT(BO31,BO32),EXACT(BP31,BP32),EXACT(BS31,BS32)),\"ACHTUNG: Direkter Vergleich erfolgreich durchlaufen!\",\"\")))))","v":"ACHTUNG: Direkter Vergleich erfolgreich durchlaufen!"}]
[null,{"$f":"'Gruppe A1'!B32:C32","v":5},null,{"$f":"'Gruppe A1'!D32:I32","v":"14:55:00"},null,null,null,null,{"$f":"$Q$12","v":"Gruppe A2"},null,null,null,null,null,null,null,null,null,null,null,null,null,null,null,null,null,null,"-",{"$f":"$Q$15","v":"Gruppe A5"},null,null,null,null,null,null,null,null,null,null,null,null,null,null,null,null,null,null,null,{"$f":"'Gruppe A1'!AW32","v":1},null,":",{"$f":"'Gruppe A1'!AZ32","v":1},null,null,null,null,null,1,":",1,null,null,null,null,{"$f":"IF(OR(CC27=3,CC28=3,CC29=3,CC30=3,CC31=3,CC32=3),\"Min. 3 Teams identisch.  HANDSORTIERUNG!\",IF(OR(CB27=\"ACHTUNG! Direkter Vergleich war unentschieden!\",CB28=\"ACHTUNG! Direkter Vergleich war unentschieden!\",CB29=\"ACHTUNG! Direkter Vergleich war unentschieden!\",CB30=\"ACHTUNG! Direkter Vergleich war unentschieden!\",CB31=\"ACHTUNG! Direkter Vergleich war unentschieden!\",CB32=\"ACHTUNG! Direkter Vergleich war unentschieden!\"),\"ACHTUNG! Direkter Vergleich war unentschieden!\",\"\"))","v":"ACHTUNG! Direkter Vergleich war unentschieden!"}]
[null,{"$f":"'Gruppe A1'!B33:C33","v":6},null,{"$f":"'Gruppe A1'!D33:I33","v":"15:05:00"},null,null,null,null,{"$f":"$Q$14","v":"Gruppe A4"},null,null,null,null,null,null,null,null,null,null,null,null,null,null,null,null,null,null,"-",{"$f":"$Q$16","v":"Gruppe A6"},null,null,null,null,null,null,null,null,null,null,null,null,null,null,null,null,null,null,null,{"$f":"'Gruppe A1'!AW33","v":1},null,":",{"$f":"'Gruppe A1'!AZ33","v":1},null,null,null,null,null,1,":",1]
[null,{"$f":"'Gruppe A1'!B34:C34","v":7},null,{"$f":"'Gruppe A1'!D34:I34","v":"15:15:00"},null,null,null,null,{"$f":"$Q$15","v":"Gruppe A5"},null,null,null,null,null,null,null,null,null,null,null,null,null,null,null,null,null,null,"-",{"$f":"$Q$11","v":"Gruppe A1"},null,null,null,null,null,null,null,null,null,null,null,null,null,null,null,null,null,null,null,{"$f":"'Gruppe A1'!AW34","v":1},null,":",{"$f":"'Gruppe A1'!AZ34","v":1},null,null,null,null,null,1,":",1,null,null,null,{"$f":"INDEX(Vorgaben!B$19:D$26,MATCH($BM27,Vorgaben!$B$19:$B$26,0),3)","v":0},{"$f":"'Gruppe A1'!$BM$27","v":"Gruppe A1"},{"$f":"'Gruppe A1'!$BN$27","v":5},{"$f":"'Gruppe A1'!$BO$27","v":7},{"$f":"'Gruppe A1'!$BP$27","v":7},{"$f":"'Gruppe A1'!$BQ$27","v":":"},{"$f":"'Gruppe A1'!$BR$27","v":5},{"$f":"'Gruppe A1'!$BS$27","v":2},{"$f":"BV27","v":0},null,{"$f":"IF(BX27>BY28,10,IF(BX27<BY28,-10,0))","v":0},null,{"$f":"IF(ISNA(INDEX(BF$21:BF$35,MATCH(BM27&BM28,I$21:I$35&AC$21:AC$35,0))),INDEX(BH$21:BH$35,MATCH(BM28&BM27,I$21:I$35&AC$21:AC$35,0)),INDEX(BF$21:BF$35,MATCH(BM27&BM28,I$21:I$35&AC$21:AC$35,0)))","v":1},null,{"$f":"IF(AND(EXACT(BO27,BO28),EXACT(BP27,BP28),EXACT(BS27,BS28),EXACT(BX27,BY28)),\"ACHTUNG! Direkter Vergleich war unentschieden!\",IF(AND(EXACT(BO27,BO28),EXACT(BP27,BP28),EXACT(BS27,BS28)),1,2))","v":2},{"$f":"IF(AND(EXACT(BO26,BO27),EXACT(BP26,BP27),EXACT(BS26,BS27),EXACT(BX27,BY26)),\"ACHTUNG! Direkter Vergleich war unentschieden!\",\"\")","v":""},{"$f":"IF(OR(BZ27=\"ACHTUNG! Direkter Vergleich war unentschieden!\",CA27=\"ACHTUNG! Direkter Vergleich war unentschieden!\"),\"ACHTUNG! Direkter Vergleich war unentschieden!\",\"\")","v":""},{"$f":"IF(OR(AND(EXACT(BO27,BO28),EXACT(BP27,BP28),EXACT(BS27,BS28),EXACT(BO27,BO29),EXACT(BP27,BP29),EXACT(BS27,BS29)),AND(EXACT(BO27,BO28),EXACT(BP27,BP28),EXACT(BS27,BS28),EXACT(BO27,BO26),EXACT(BP27,BP26),EXACT(BS27,BS26))*AND(EXACT(BO27,BO25),EXACT(BP27,BP25),EXACT(BS27,BS25),EXACT(BO27,BO26),EXACT(BP27,BP26),EXACT(BS27,BS26))),3,1)","v":1}]
[null,{"$f":"'Gruppe A1'!B35:C35","v":8},null,{"$f":"'Gruppe A1'!D35:I35","v":"15:25:00"},null,null,null,null,{"$f":"$Q$12","v":"Gruppe A2"},null,null,null,null,null,null,null,null,null,null,null,null,null,null,null,null,null,null,"-",{"$f":"$Q$14","v":"Gruppe A4"},null,null,null,null,null,null,null,null,null,null,null,null,null,null,null,null,null,null,null,{"$f":"'Gruppe A1'!AW35","v":1},null,":",{"$f":"'Gruppe A1'!AZ35","v":1},null,null,null,null,null,1,":",1,null,null,null,{"$f":"INDEX(Vorgaben!B$19:D$26,MATCH($BM28,Vorgaben!$B$19:$B$26,0),3)","v":0},{"$f":"'Gruppe A1'!$BM$30","v":"Gruppe A2"},{"$f":"'Gruppe A1'!$BN$30","v":5},{"$f":"'Gruppe A1'!$BO$30","v":6},{"$f":"'Gruppe A1'!$BP$30","v":7},{"$f":"'Gruppe A1'!$BQ$30","v":":"},{"$f":"'Gruppe A1'!$BR$30","v":6},{"$f":"'Gruppe A1'!$BS$30","v":1},{"$f":"BV28","v":0},{"$f":"BW28","v":-10},{"$f":"IF(BX27<BY28,10,IF(BX27>BY28,-10,0))","v":0},{"$f":"IF(BX28>BY29,10,IF(BX28<BY29,-10,0))","v":-10},{"$f":"IF(ISNA(INDEX(BF$21:BF$35,MATCH(BM28&BM29,I$21:I$35&AC$21:AC$35,0))),INDEX(BH$21:BH$35,MATCH(BM29&BM28,I$21:I$35&AC$21:AC$35,0)),INDEX(BF$21:BF$35,MATCH(BM28&BM29,I$21:I$35&AC$21:AC$35,0)))","v":0},{"$f":"IF(ISNA(INDEX(BF$21:BF$35,MATCH(BM28&BM27,I$21:I$35&AC$21:AC$35,0))),INDEX(BH$21:BH$35,MATCH(BM27&BM28,I$21:I$35&AC$21:AC$35,0)),INDEX(BF$21:BF$35,MATCH(BM28&BM27,I$21:I$35&AC$21:AC$35,0)))","v":1},2,{"$f":"IF(AND(EXACT(BO27,BO28),EXACT(BP27,BP28),EXACT(BS27,BS28),EXACT(BY28,BX27)),\"ACHTUNG! Direkter Vergleich war unentschieden!\",IF(AND(EXACT(BO27,BO28),EXACT(BP27,BP28),EXACT(BS27,BS28)),1,2))","v":2},"",1]
[null,{"$f":"'Gruppe A1'!B36:C36","v":9},null,{"$f":"'Gruppe A1'!D36:I36","v":"15:35:00"},null,null,null,null,{"$f":"$Q$16","v":"Gruppe A6"},null,null,null,null,null,null,null,null,null,null,null,null,null,null,null,null,null,null,"-",{"$f":"$Q$13","v":"Gruppe A3"},null,null,null,null,null,null,null,null,null,null,null,null,null,null,null,null,null,null,null,{"$f":"'Gruppe A1'!AW36","v":1},null,":",{"$f":"'Gruppe A1'!AZ36","v":2},null,null,null,null,null,0,":",3,null,null,null,{"$f":"INDEX(Vorgaben!B$19:D$26,MATCH($BM29,Vorgaben!$B$19:$B$26,0),3)","v":0},{"$f":"'Gruppe A1'!$BM$29","v":"Gruppe A6"},{"$f":"'Gruppe A1'!$BN$29","v":5},{"$f":"'Gruppe A1'!$BO$29","v":6},{"$f":"'Gruppe A1'!$BP$29","v":6},{"$f":"'Gruppe A1'!$BQ$29","v":":"},{"$f":"'Gruppe A1'!$BR$29","v":6},{"$f":"'Gruppe A1'!$BS$29","v":0},{"$f":"BV29","v":10},0,{"$f":"IF(BX28<BY29,10,IF(BX28>BY29,-10,0))","v":10},{"$f":"IF(BX29>BY30,10,IF(BX29<BY30,-10,0))","v":0},{"$f":"IF(ISNA(INDEX(BF$21:BF$35,MATCH(BM29&BM30,I$21:I$35&AC$21:AC$35,0))),INDEX(BH$21:BH$35,MATCH(BM30&BM29,I$21:I$35&AC$21:AC$35,0)),INDEX(BF$21:BF$35,MATCH(BM29&BM30,I$21:I$35&AC$21:AC$35,0)))","v":1},{"$f":"IF(ISNA(INDEX(BF$21:BF$35,MATCH(BM29&BM28,I$21:I$35&AC$21:AC$35,0))),INDEX(BH$21:BH$35,MATCH(BM28&BM29,I$21:I$35&AC$21:AC$35,0)),INDEX(BF$21:BF$35,MATCH(BM29&BM28,I$21:I$35&AC$21:AC$35,0)))","v":3},2,{"$f":"IF(AND(EXACT(BO28,BO29),EXACT(BP28,BP29),EXACT(BS28,BS29),EXACT(BY29,BX28)),\"ACHTUNG! Direkter Vergleich war unentschieden!\",IF(AND(EXACT(BO28,BO29),EXACT(BP28,BP29),EXACT(BS28,BS29)),1,2))","v":2},"",{"$f":"IF(OR(AND(EXACT(BO29,BO30),EXACT(BP29,BP30),EXACT(BS29,BS30),EXACT(BO29,BO31),EXACT(BP29,BP31),EXACT(BS29,BS31)),AND(EXACT(BO29,BO30),EXACT(BP29,BP30),EXACT(BS29,BS30),EXACT(BO29,BO28),EXACT(BP29,BP28),EXACT(BS29,BS28))*AND(EXACT(BO29,BO27),EXACT(BP29,BP27),EXACT(BS29,BS27),EXACT(BO29,BO28),EXACT(BP29,BP28),EXACT(BS29,BS28))),3,1)","v":1}]
[null,{"$f":"'Gruppe A1'!B37:C37","v":10},null,{"$f":"'Gruppe A1'!D37:I37","v":"15:45:00"},null,null,null,null,{"$f":"$Q$11","v":"Gruppe A1"},null,null,null,null,null,null,null,null,null,null,null,null,null,null,null,null,null,null,"-",{"$f":"$Q$14","v":"Gruppe A4"},null,null,null,null,null,null,null,null,null,null,null,null,null,null,null,null,null,null,null,{"$f":"'Gruppe A1'!AW37","v":1},null,":",{"$f":"'Gruppe A1'!AZ37","v":1},null,null,null,null,null,1,":",1,null,null,null,{"$f":"INDEX(Vorgaben!B$19:D$26,MATCH($BM30,Vorgaben!$B$19:$B$26,0),3)","v":0},{"$f":"'Gruppe A1'!$BM$28","v":"Gruppe A4"},{"$f":"'Gruppe A1'!$BN$28","v":5},{"$f":"'Gruppe A1'!$BO$28","v":5},{"$f":"'Gruppe A1'!$BP$28","v":5},{"$f":"'Gruppe A1'!$BQ$28","v":":"},{"$f":"'Gruppe A1'!$BR$28","v":5},{"$f":"'Gruppe A1'!$BS$28","v":0},0,0,{"$f":"IF(BX29<BY30,10,IF(BX29>BY30,-10,0))","v":0},{"$f":"IF(BX29<BY30,10,IF(BX29>BY30,-10,0))","v":0},{"$f":"IF(ISNA(INDEX(BF$21:BF$35,MATCH(BM30&BM31,I$21:I$35&AC$21:AC$35,0))),INDEX(BH$21:BH$35,MATCH(BM31&BM30,I$21:I$35&AC$21:AC$35,0)),INDEX(BF$21:BF$35,MATCH(BM30&BM31,I$21:I$35&AC$21:AC$35,0)))","v":1},{"$f":"IF(ISNA(INDEX(BF$21:BF$35,MATCH(BM30&BM29,I$21:I$35&AC$21:AC$35,0))),INDEX(BH$21:BH$35,MATCH(BM29&BM30,I$21:I$35&AC$21:AC$35,0)),INDEX(BF$21:BF$35,MATCH(BM30&BM29,I$21:I$35&AC$21:AC$35,0)))","v":1},"ACHTUNG! Direkter Vergleich war unentschieden!",{"$f":"IF(AND(EXACT(BO29,BO30),EXACT(BP29,BP30),EXACT(BS29,BS30),EXACT(BY30,BX29)),\"ACHTUNG! Direkter Vergleich war unentschieden!\",IF(AND(EXACT(BO29,BO30),EXACT(BP29,BP30),EXACT(BS29,BS30)),1,2))","v":2},"ACHTUNG! Direkter Vergleich war unentschieden!",{"$f":"IF(OR(AND(EXACT(BO30,BO31),EXACT(BP30,BP31),EXACT(BS30,BS31),EXACT(BO30,BO32),EXACT(BP30,BP32),EXACT(BS30,BS32)),AND(EXACT(BO30,BO31),EXACT(BP30,BP31),EXACT(BS30,BS31),EXACT(BO30,BO29),EXACT(BP30,BP29),EXACT(BS30,BS29))*AND(EXACT(BO30,BO28),EXACT(BP30,BP28),EXACT(BS30,BS28),EXACT(BO30,BO29),EXACT(BP30,BP29),EXACT(BS30,BS29))),3,1)","v":1}]
[null,{"$f":"'Gruppe A1'!B38:C38","v":11},null,{"$f":"'Gruppe A1'!D38:I38","v":"15:55:00"},null,null,null,null,{"$f":"$Q$16","v":"Gruppe A6"},null,null,null,null,null,null,null,null,null,null,null,null,null,null,null,null,null,null,"-",{"$f":"$Q$12","v":"Gruppe A2"},null,null,null,null,null,null,null,null,null,null,null,null,null,null,null,null,null,null,null,{"$f":"'Gruppe A1'!AW38","v":2},null,":",{"$f":"'Gruppe A1'!AZ38","v":1},null,null,null,null,null,3,":",0,null,null,null,{"$f":"INDEX(Vorgaben!B$19:D$26,MATCH($BM31,Vorgaben!$B$19:$B$26,0),3)","v":0},{"$f":"'Gruppe A1'!$BM$32","v":"Gruppe A5"},{"$f":"'Gruppe A1'!$BN$32","v":5},{"$f":"'Gruppe A1'!$BO$32","v":5},{"$f":"'Gruppe A1'!$BP$32","v":5},{"$f":"'Gruppe A1'!$BQ$32","v":":"},{"$f":"'Gruppe A1'!$BR$32","v":5},{"$f":"'Gruppe A1'!$BS$32","v":0},0,0,{"$f":"IF(BX30<BY31,10,IF(BX30>BY31,-10,0))","v":0},{"$f":"IF(BX31>BY32,10,IF(BX31<BY32,-10,0))","v":0},{"$f":"IF(ISNA(INDEX(BF$21:BF$35,MATCH(BM31&BM32,I$21:I$35&AC$21:AC$35,0))),INDEX(BH$21:BH$35,MATCH(BM32&BM31,I$21:I$35&AC$21:AC$35,0)),INDEX(BF$21:BF$35,MATCH(BM31&BM32,I$21:I$35&AC$21:AC$35,0)))","v":1},{"$f":"IF(ISNA(INDEX(BF$21:BF$35,MATCH(BM31&BM30,I$21:I$35&AC$21:AC$35,0))),INDEX(BH$21:BH$35,MATCH(BM30&BM31,I$21:I$35&AC$21:AC$35,0)),INDEX(BF$21:BF$35,MATCH(BM31&BM30,I$21:I$35&AC$21:AC$35,0)))","v":1},{"$f":"IF(AND(EXACT(BO31,BO32),EXACT(BP31,BP32),EXACT(BS31,BS32),EXACT(BX31,BY32)),\"ACHTUNG! Direkter Vergleich war unentschieden!\",IF(AND(EXACT(BO31,BO32),EXACT(BP31,BP32),EXACT(BS31,BS32)),1,2))","v":2},{"$f":"IF(AND(EXACT(BO30,BO31),EXACT(BP30,BP31),EXACT(BS30,BS31),EXACT(BY31,BX30)),\"ACHTUNG! Direkter Vergleich war unentschieden!\",IF(AND(EXACT(BO30,BO31),EXACT(BP30,BP31),EXACT(BS30,BS31)),1,2))","v":"ACHTUNG! Direkter Vergleich war unentschieden!"},"ACHTUNG! Direkter Vergleich war unentschieden!",1]
[null,{"$f":"'Gruppe A1'!B39:C39","v":12},null,{"$f":"'Gruppe A1'!D39:I39","v":"16:05:00"},null,null,null,null,{"$f":"$Q$13","v":"Gruppe A3"},null,null,null,null,null,null,null,null,null,null,null,null,null,null,null,null,null,null,"-",{"$f":"$Q$15","v":"Gruppe A5"},null,null,null,null,null,null,null,null,null,null,null,null,null,null,null,null,null,null,null,{"$f":"'Gruppe A1'!AW39","v":1},null,":",{"$f":"'Gruppe A1'!AZ39","v":1},null,null,null,null,null,1,":",1,null,null,null,{"$f":"INDEX(Vorgaben!B$19:D$26,MATCH($BM32,Vorgaben!$B$19:$B$26,0),3)","v":0},{"$f":"'Gruppe A1'!$BM$31","v":"Gruppe A3"},{"$f":"'Gruppe A1'!$BN$31","v":5},{"$f":"'Gruppe A1'!$BO$31","v":5},{"$f":"'Gruppe A1'!$BP$31","v":6},{"$f":"'Gruppe A1'!$BQ$31","v":":"},{"$f":"'Gruppe A1'!$BR$31","v":9},{"$f":"'Gruppe A1'!$BS$31","v":-3},0,0,{"$f":"IF(BX31<BY32,10,IF(BX31>BY32,-10,0))","v":0},{"$f":"IF(BX31<BY32,10,IF(BX31>BY32,-10,0))","v":0},null,{"$f":"IF(ISNA(INDEX(BF$21:BF$35,MATCH(BM32&BM31,I$21:I$35&AC$21:AC$35,0))),INDEX(BH$21:BH$35,MATCH(BM31&BM32,I$21:I$35&AC$21:AC$35,0)),INDEX(BF$21:BF$35,MATCH(BM32&BM31,I$21:I$35&AC$21:AC$35,0)))","v":1},2,{"$f":"IF(AND(EXACT(BO31,BO32),EXACT(BP31,BP32),EXACT(BS31,BS32),EXACT(BY32,BX31)),\"ACHTUNG! Direkter Vergleich war unentschieden!\",IF(AND(EXACT(BO31,BO32),EXACT(BP31,BP32),EXACT(BS31,BS32)),1,2))","v":2},"",1]
[null,{"$f":"'Gruppe A1'!B40:C40","v":13},null,{"$f":"'Gruppe A1'!D40:I40","v":"16:15:00"},null,null,null,null,{"$f":"$Q$16","v":"Gruppe A6"},null,null,null,null,null,null,null,null,null,null,null,null,null,null,null,null,null,null,"-",{"$f":"$Q$11","v":"Gruppe A1"},null,null,null,null,null,null,null,null,null,null,null,null,null,null,null,null,null,null,null,{"$f":"'Gruppe A1'!AW40","v":1},null,":",{"$f":"'Gruppe A1'!AZ40","v":1},null,null,null,null,null,1,":",1]
[null,{"$f":"'Gruppe A1'!B41:C41","v":14},null,{"$f":"'Gruppe A1'!D41:I41","v":"16:25:00"},null,null,null,null,{"$f":"$Q$12","v":"Gruppe A2"},null,null,null,null,null,null,null,null,null,null,null,null,null,null,null,null,null,null,"-",{"$f":"$Q$13","v":"Gruppe A3"},null,null,null,null,null,null,null,null,null,null,null,null,null,null,null,null,null,null,null,{"$f":"'Gruppe A1'!AW41","v":3},null,":",{"$f":"'Gruppe A1'!AZ41","v":1},null,null,null,null,null,3,":",0]
[null,{"$f":"'Gruppe A1'!B42:C42","v":15},null,{"$f":"'Gruppe A1'!D42:I42","v":"16:35:00"},null,null,null,null,{"$f":"$Q$14","v":"Gruppe A4"},null,null,null,null,null,null,null,null,null,null,null,null,null,null,null,null,null,null,"-",{"$f":"$Q$15","v":"Gruppe A5"},null,null,null,null,null,null,null,null,null,null,null,null,null,null,null,null,null,null,null,{"$f":"'Gruppe A1'!AW42","v":1},null,":",{"$f":"'Gruppe A1'!AZ42","v":1},null,null,null,null,null,1,":",1]
[]
[null,null,"III. Abschlußtabelle"]
[]
[null,null,null,null,null,null,null,null,"Abschlußtabelle",null,null,null,null,null,null,null,null,null,null,null,null,null,null,null,null,null,null,null,null,null,null,null,null,null,"Sp.",null,null,"Pkt.",null,null,"Tore",null,null,null,null,"Diff."]
[null,null,null,null,null,null,null,null,"1.",null,{"$f":"$BM$27","v":"Gruppe A1"},null,null,null,null,null,null,null,null,null,null,null,null,null,null,null,null,null,null,null,null,null,null,null,{"$f":"$BN$27","v":5},null,null,{"$f":"$BO$27","v":7},null,null,{"$f":"$BP$27","v":7},null,":",{"$f":"$BR$27","v":5},null,{"$f":"$BS$27","v":2}]
[null,null,null,null,null,null,null,null,"2.",null,{"$f":"$BM$28","v":"Gruppe A2"},null,null,null,null,null,null,null,null,null,null,null,null,null,null,null,null,null,null,null,null,null,null,null,{"$f":"$BN$28","v":5},null,null,{"$f":"$BO$28","v":6},null,null,{"$f":"$BP$28","v":7},null,":",{"$f":"$BR$28","v":6},null,{"$f":"$BS$28","v":1}]
[null,null,null,null,null,null,null,null,"3.",null,{"$f":"$BM$29","v":"Gruppe A6"},null,null,null,null,null,null,null,null,null,null,null,null,null,null,null,null,null,null,null,null,null,null,null,{"$f":"$BN$29","v":5},null,null,{"$f":"$BO$29","v":6},null,null,{"$f":"$BP$29","v":6},null,":",{"$f":"$BR$29","v":6},null,{"$f":"$BS$29","v":0}]
[null,null,null,null,null,null,null,null,"4.",null,{"$f":"$BM$30","v":"Gruppe A4"},null,null,null,null,null,null,null,null,null,null,null,null,null,null,null,null,null,null,null,null,null,null,null,{"$f":"$BN$30","v":5},null,null,{"$f":"$BO$30","v":5},null,null,{"$f":"$BP$30","v":5},null,":",{"$f":"$BR$30","v":5},null,{"$f":"$BS$30","v":0}]
[null,null,null,null,null,null,null,null,"5.",null,{"$f":"$BM$31","v":"Gruppe A5"},null,null,null,null,null,null,null,null,null,null,null,null,null,null,null,null,null,null,null,null,null,null,null,{"$f":"$BN$31","v":5},null,null,{"$f":"$BO$31","v":5},null,null,{"$f":"$BP$31","v":5},null,":",{"$f":"$BR$31","v":5},null,{"$f":"$BS$31","v":0}]
[null,null,null,null,null,null,null,null,"6.",null,{"$f":"$BM$32","v":"Gruppe A3"},null,null,null,null,null,null,null,null,null,null,null,null,null,null,null,null,null,null,null,null,null,null,null,{"$f":"$BN$32","v":5},null,null,{"$f":"$BO$32","v":5},null,null,{"$f":"$BP$32","v":6},null,":",{"$f":"$BR$32","v":9},null,{"$f":"$BS$32","v":-3}]
[]
[]
[]
[]
[]
[]
[]
[]
[]
[]
[]
[]
[]
[]
[]
[]
[]
[]
[]
[]
[]
[]
[]
[]
[]
[]
[]
[]
[]
[]
[]
[]
[]
[]
[]
[]
[]
[]
[]
[]
[]
[]
[]
[]
[]
[]
[]
[]
[]
[]
[]
[]
[]
[]
[]
[]
["Vorrunde"]
["Gruppe B"]
[]
[null,null,null,null,null,null,"Beginn:",{"$f":"Vorgaben!C4","v":"14:15:00"},null,null,null,null,"Uhr",null,null,null,null,null,null,"Spielzeit:",{"$f":"Vorgaben!C5","v":1},null,"x",{"$f":"Vorgaben!C6","v":"00:09:00"},null,null,null,null,"min",null,null,null,null,null,null,null,"Pause:",{"$f":"Vorgaben!C7","v":"00:01:00"},null,null,null,null,"min"]
[]
[]
[null,"I. Teilnehmende Mannschaften"]
[]
[null,null,null,null,null,null,null,null,null,null,null,null,null,null,"Gruppeneinteilung"]
[null,null,null,null,null,null,null,null,null,null,null,null,null,null,"1.",null,{"$f":"Vorgaben!F19","v":"Gruppe B1"}]
[null,null,null,null,null,null,null,null,null,null,null,null,null,null,"2.",null,{"$f":"Vorgaben!F20","v":"Gruppe B2"}]
[null,null,null,null,null,null,null,null,null,null,null,null,null,null,"3.",null,{"$f":"Vorgaben!F21","v":"Gruppe B3"}]
[null,null,null,null,null,null,null,null,null,null,null,null,null,null,"4.",null,{"$f":"Vorgaben!F22","v":"Gruppe B4"}]
[null,null,null,null,null,null,null,null,null,null,null,null,null,null,"5.",null,{"$f":"Vorgaben!F23","v":"Gruppe B5"}]
[null,null,null,null,null,null,null,null,null,null,null,null,null,null,"6.",null,{"$f":"Vorgaben!F24","v":"Gruppe B6"}]
[]
[null,"II. Spielplan"]
[]
[null,"Nr.",null,"Beginn",null,null,null,null,"Spielpaarung",null,null,null,null,null,null,null,null,null,null,null,null,null,null,null,null,null,null,null,null,null,null,null,null,null,null,null,null,null,null,null,null,null,null,null,null,null,null,null,"Ergebnis",null,null,null,null,null,null,null,null,"Punkte"]
[null,{"$f":"'Gruppe B1'!B28:C28","v":1},null,{"$f":"'Gruppe B1'!D28","v":"14:15:00"},null,null,null,null,{"$f":"$Q$111","v":"Gruppe B1"},null,null,null,null,null,null,null,null,null,null,null,null,null,null,null,null,null,null,"-",{"$f":"$Q$112","v":"Gruppe B2"},null,null,null,null,null,null,null,null,null,null,null,null,null,null,null,null,null,null,null,{"$f":"IF(ISBLANK('Gruppe B1'!AW28),\"\",'Gruppe B1'!AW28)","v":2},null,":",{"$f":"IF(ISBLANK('Gruppe B1'!AZ28),\"\",'Gruppe B1'!AZ28)","v":0},null,null,null,null,null,{"$f":"IF(ISBLANK(AW121),\"0\",IF(AW121>AZ121,3,IF(AW121=AZ121,1,0)))","v":3},":",{"$f":"IF(ISBLANK(AZ121),\"0\",IF(AZ121>AW121,3,IF(AZ121=AW121,1,0)))","v":0}]
[null,{"$f":"'Gruppe B1'!B29:C29","v":2},null,{"$f":"'Gruppe B1'!D29","v":"14:25:00"},null,null,null,null,{"$f":"$Q$113","v":"Gruppe B3"},null,null,null,null,null,null,null,null,null,null,null,null,null,null,null,null,null,null,"-",{"$f":"$Q$114","v":"Gruppe B4"},null,null,null,null,null,null,null,null,null,null,null,null,null,null,null,null,null,null,null,{"$f":"IF(ISBLANK('Gruppe B1'!AW29),\"\",'Gruppe B1'!AW29)","v":3},null,":",{"$f":"IF(ISBLANK('Gruppe B1'!AZ29),\"\",'Gruppe B1'!AZ29)","v":1},null,null,null,null,null,{"$f":"IF(ISBLANK(AW122),\"0\",IF(AW122>AZ122,3,IF(AW122=AZ122,1,0)))","v":3},":",{"$f":"IF(ISBLANK(AZ122),\"0\",IF(AZ122>AW122,3,IF(AZ122=AW122,1,0)))","v":0}]
[null,{"$f":"'Gruppe B1'!B30:C30","v":3},null,{"$f":"'Gruppe B1'!D30","v":"14:35:00"},null,null,null,null,{"$f":"$Q$115","v":"Gruppe B5"},null,null,null,null,null,null,null,null,null,null,null,null,null,null,null,null,null,null,"-",{"$f":"$Q$116","v":"Gruppe B6"},null,null,null,null,null,null,null,null,null,null,null,null,null,null,null,null,null,null,null,{"$f":"IF(ISBLANK('Gruppe B1'!AW30),\"\",'Gruppe B1'!AW30)","v":""},null,":",{"$f":"IF(ISBLANK('Gruppe B1'!AZ30),\"\",'Gruppe B1'!AZ30)","v":""},null,null,null,null,null,1,":",1,null,null,null,null,{"$f":"IF(BM125=\"Min. 3 Teams identisch.  HANDSORTIERUNG!\",BM125,IF(BM125=\"ACHTUNG! Direkter Vergleich war unentschieden!\",BM125,BM124))","v":"ACHTUNG! Direkter Vergleich war unentschieden!"}]
[null,{"$f":"'Gruppe B1'!B31:C31","v":4},null,{"$f":"'Gruppe B1'!D31","v":"14:45:00"},null,null,null,null,{"$f":"$Q$111","v":"Gruppe B1"},null,null,null,null,null,null,null,null,null,null,null,null,null,null,null,null,null,null,"-",{"$f":"$Q$113","v":"Gruppe B3"},null,null,null,null,null,null,null,null,null,null,null,null,null,null,null,null,null,null,null,{"$f":"IF(ISBLANK('Gruppe B1'!AW31),\"\",'Gruppe B1'!AW31)","v":""},null,":",{"$f":"IF(ISBLANK('Gruppe B1'!AZ31),\"\",'Gruppe B1'!AZ31)","v":""},null,null,null,null,null,1,":",1,null,null,null,null,{"$f":"IF(AND(EXACT(BO127,BO128),EXACT(BP127,BP128),EXACT(BS127,BS128)),\"ACHTUNG: Direkter Vergleich erfolgreich durchlaufen!\",IF(AND(EXACT(BO128,BO129),EXACT(BP128,BP129),EXACT(BS128,BS129)),\"ACHTUNG: Direkter Vergleich erfolgreich durchlaufen!\",IF(AND(EXACT(BO129,BO130),EXACT(BP129,BP130),EXACT(BS129,BS130)),\"ACHTUNG: Direkter Vergleich erfolgreich durchlaufen!\",IF(AND(EXACT(BO130,BO131),EXACT(BP130,BP131),EXACT(BS130,BS131)),\"ACHTUNG: Direkter Vergleich erfolgreich durchlaufen!\",IF(AND(EXACT(BO131,BO132),EXACT(BP131,BP132),EXACT(BS131,BS132)),\"ACHTUNG: Direkter Vergleich erfolgreich durchlaufen!\",\"\")))))","v":"ACHTUNG: Direkter Vergleich erfolgreich durchlaufen!"}]
[null,{"$f":"'Gruppe B1'!B32:C32","v":5},null,{"$f":"'Gruppe B1'!D32","v":"14:55:00"},null,null,null,null,{"$f":"$Q$112","v":"Gruppe B2"},null,null,null,null,null,null,null,null,null,null,null,null,null,null,null,null,null,null,"-",{"$f":"$Q$115","v":"Gruppe B5"},null,null,null,null,null,null,null,null,null,null,null,null,null,null,null,null,null,null,null,{"$f":"IF(ISBLANK('Gruppe B1'!AW32),\"\",'Gruppe B1'!AW32)","v":""},null,":",{"$f":"IF(ISBLANK('Gruppe B1'!AZ32),\"\",'Gruppe B1'!AZ32)","v":""},null,null,null,null,null,1,":",1,null,null,null,null,{"$f":"IF(OR(CC127=3,CC128=3,CC129=3,CC130=3,CC131=3,CC132=3),\"Min. 3 Teams identisch.  HANDSORTIERUNG!\",IF(OR(CB127=\"ACHTUNG! Direkter Vergleich war unentschieden!\",CB128=\"ACHTUNG! Direkter Vergleich war unentschieden!\",CB129=\"ACHTUNG! Direkter Vergleich war unentschieden!\",CB130=\"ACHTUNG! Direkter Vergleich war unentschieden!\",CB131=\"ACHTUNG! Direkter Vergleich war unentschieden!\",CB132=\"ACHTUNG! Direkter Vergleich war unentschieden!\"),\"ACHTUNG! Direkter Vergleich war unentschieden!\",\"\"))","v":"ACHTUNG! Direkter Vergleich war unentschieden!"}]
[null,{"$f":"'Gruppe B1'!B33:C33","v":6},null,{"$f":"'Gruppe B1'!D33","v":"15:05:00"},null,null,null,null,{"$f":"$Q$114","v":"Gruppe B4"},null,null,null,null,null,null,null,null,null,null,null,null,null,null,null,null,null,null,"-",{"$f":"$Q$116","v":"Gruppe B6"},null,null,null,null,null,null,null,null,null,null,null,null,null,null,null,null,null,null,null,{"$f":"IF(ISBLANK('Gruppe B1'!AW33),\"\",'Gruppe B1'!AW33)","v":""},null,":",{"$f":"IF(ISBLANK('Gruppe B1'!AZ33),\"\",'Gruppe B1'!AZ33)","v":""},null,null,null,null,null,1,":",1]
[null,{"$f":"'Gruppe B1'!B34:C34","v":7},null,{"$f":"'Gruppe B1'!D34","v":"15:15:00"},null,null,null,null,{"$f":"$Q$115","v":"Gruppe B5"},null,null,null,null,null,null,null,null,null,null,null,null,null,null,null,null,null,null,"-",{"$f":"$Q$111","v":"Gruppe B1"},null,null,null,null,null,null,null,null,null,null,null,null,null,null,null,null,null,null,null,{"$f":"IF(ISBLANK('Gruppe B1'!AW34),\"\",'Gruppe B1'!AW34)","v":1},null,":",{"$f":"IF(ISBLANK('Gruppe B1'!AZ34),\"\",'Gruppe B1'!AZ34)","v":1},null,null,null,null,null,1,":",1,null,null,null,{"$f":"INDEX(Vorgaben!F$19:H$26,MATCH($BM127,Vorgaben!F$19:F$26,0),3)","v":0},{"$f":"'Gruppe B1'!$BM$31","v":"Gruppe B3"},{"$f":"'Gruppe B1'!$BN$31","v":4},{"$f":"'Gruppe B1'!$BO$31","v":6},{"$f":"'Gruppe B1'!$BP$31","v":6},{"$f":"'Gruppe B1'!$BQ$31","v":":"},{"$f":"'Gruppe B1'!$BR$31","v":4},{"$f":"'Gruppe B1'!$BS$31","v":2},{"$f":"BV127","v":0},null,{"$f":"IF(BX127>BY128,10,IF(BX127<BY128,-10,0))","v":0},null,{"$f":"IF(ISNA(INDEX(BF$121:BF$135,MATCH(BM127&BM128,I$121:I$135&AC$121:AC$135,0))),INDEX(BH$121:BH$135,MATCH(BM128&BM127,I$121:I$135&AC$121:AC$135,0)),INDEX(BF$121:BF$135,MATCH(BM127&BM128,I$121:I$135&AC$121:AC$135,0)))","v":1},null,{"$f":"IF(AND(EXACT(BO127,BO128),EXACT(BP127,BP128),EXACT(BS127,BS128),EXACT(BX127,BY128)),\"ACHTUNG! Direkter Vergleich war unentschieden!\",IF(AND(EXACT(BO127,BO128),EXACT(BP127,BP128),EXACT(BS127,BS128)),1,2))","v":2},{"$f":"IF(AND(EXACT(BO126,BO127),EXACT(BP126,BP127),EXACT(BS126,BS127),EXACT(BX127,BY126)),\"ACHTUNG! Direkter Vergleich war unentschieden!\",\"\")","v":""},{"$f":"IF(OR(BZ127=\"ACHTUNG! Direkter Vergleich war unentschieden!\",CA127=\"ACHTUNG! Direkter Vergleich war unentschieden!\"),\"ACHTUNG! Direkter Vergleich war unentschieden!\",\"\")","v":""},{"$f":"IF(OR(AND(EXACT(BO127,BO128),EXACT(BP127,BP128),EXACT(BS127,BS128),EXACT(BO127,BO129),EXACT(BP127,BP129),EXACT(BS127,BS129)),AND(EXACT(BO127,BO128),EXACT(BP127,BP128),EXACT(BS127,BS128),EXACT(BO127,BO126),EXACT(BP127,BP126),EXACT(BS127,BS126))*AND(EXACT(BO127,BO125),EXACT(BP127,BP125),EXACT(BS127,BS125),EXACT(BO127,BO126),EXACT(BP127,BP126),EXACT(BS127,BS126))),3,1)","v":1}]
[null,{"$f":"'Gruppe B1'!B35:C35","v":8},null,{"$f":"'Gruppe B1'!D35","v":"15:25:00"},null,null,null,null,{"$f":"$Q$112","v":"Gruppe B2"},null,null,null,null,null,null,null,null,null,null,null,null,null,null,null,null,null,null,"-",{"$f":"$Q$114","v":"Gruppe B4"},null,null,null,null,null,null,null,null,null,null,null,null,null,null,null,null,null,null,null,{"$f":"IF(ISBLANK('Gruppe B1'!AW35),\"\",'Gruppe B1'!AW35)","v":1},null,":",{"$f":"IF(ISBLANK('Gruppe B1'!AZ35),\"\",'Gruppe B1'!AZ35)","v":1},null,null,null,null,null,1,":",1,null,null,null,{"$f":"INDEX(Vorgaben!F$19:H$26,MATCH($BM128,Vorgaben!F$19:F$26,0),3)","v":0},{"$f":"'Gruppe B1'!$BM$27","v":"Gruppe B1"},{"$f":"'Gruppe B1'!$BN$27","v":4},{"$f":"'Gruppe B1'!$BO$27","v":6},{"$f":"'Gruppe B1'!$BP$27","v":5},{"$f":"'Gruppe B1'!$BQ$27","v":":"},{"$f":"'Gruppe B1'!$BR$27","v":3},{"$f":"'Gruppe B1'!$BS$27","v":2},{"$f":"BV128","v":0},{"$f":"BW128","v":0},{"$f":"IF(BX127<BY128,10,IF(BX127>BY128,-10,0))","v":0},{"$f":"IF(BX128>BY129,10,IF(BX128<BY129,-10,0))","v":0},{"$f":"IF(ISNA(INDEX(BF$121:BF$135,MATCH(BM128&BM129,I$121:I$135&AC$121:AC$135,0))),INDEX(BH$121:BH$135,MATCH(BM129&BM128,I$121:I$135&AC$121:AC$135,0)),INDEX(BF$121:BF$135,MATCH(BM128&BM129,I$121:I$135&AC$121:AC$135,0)))","v":1},{"$f":"IF(ISNA(INDEX(BF$121:BF$135,MATCH(BM128&BM127,I$121:I$135&AC$121:AC$135,0))),INDEX(BH$121:BH$135,MATCH(BM127&BM128,I$121:I$135&AC$121:AC$135,0)),INDEX(BF$121:BF$135,MATCH(BM128&BM127,I$121:I$135&AC$121:AC$135,0)))","v":1},2,{"$f":"IF(AND(EXACT(BO127,BO128),EXACT(BP127,BP128),EXACT(BS127,BS128),EXACT(BY128,BX127)),\"ACHTUNG! Direkter Vergleich war unentschieden!\",IF(AND(EXACT(BO127,BO128),EXACT(BP127,BP128),EXACT(BS127,BS128)),1,2))","v":2},"",1]
[null,{"$f":"'Gruppe B1'!B36:C36","v":9},null,{"$f":"'Gruppe B1'!D36","v":"15:35:00"},null,null,null,null,{"$f":"$Q$116","v":"Gruppe B6"},null,null,null,null,null,null,null,null,null,null,null,null,null,null,null,null,null,null,"-",{"$f":"$Q$113","v":"Gruppe B3"},null,null,null,null,null,null,null,null,null,null,null,null,null,null,null,null,null,null,null,{"$f":"IF(ISBLANK('Gruppe B1'!AW36),\"\",'Gruppe B1'!AW36)","v":1},null,":",{"$f":"IF(ISBLANK('Gruppe B1'!AZ36),\"\",'Gruppe B1'!AZ36)","v":1},null,null,null,null,null,1,":",1,null,null,null,{"$f":"INDEX(Vorgaben!F$19:H$26,MATCH($BM129,Vorgaben!F$19:F$26,0),3)","v":0},{"$f":"'Gruppe B1'!$BM$32","v":"Gruppe B5"},{"$f":"'Gruppe B1'!$BN$32","v":3},{"$f":"'Gruppe B1'!$BO$32","v":3},{"$f":"'Gruppe B1'!$BP$32","v":3},{"$f":"'Gruppe B1'!$BQ$32","v":":"},{"$f":"'Gruppe B1'!$BR$32","v":3},{"$f":"'Gruppe B1'!$BS$32","v":0},{"$f":"BV129","v":0},0,{"$f":"IF(BX128<BY129,10,IF(BX128>BY129,-10,0))","v":0},{"$f":"IF(BX129>BY130,10,IF(BX129<BY130,-10,0))","v":0},{"$f":"IF(ISNA(INDEX(BF$121:BF$135,MATCH(BM129&BM130,I$121:I$135&AC$121:AC$135,0))),INDEX(BH$121:BH$135,MATCH(BM130&BM129,I$121:I$135&AC$121:AC$135,0)),INDEX(BF$121:BF$135,MATCH(BM129&BM130,I$121:I$135&AC$121:AC$135,0)))","v":1},{"$f":"IF(ISNA(INDEX(BF$121:BF$135,MATCH(BM129&BM128,I$121:I$135&AC$121:AC$135,0))),INDEX(BH$121:BH$135,MATCH(BM128&BM129,I$121:I$135&AC$121:AC$135,0)),INDEX(BF$121:BF$135,MATCH(BM129&BM128,I$121:I$135&AC$121:AC$135,0)))","v":1},"ACHTUNG! Direkter Vergleich war unentschieden!",{"$f":"IF(AND(EXACT(BO128,BO129),EXACT(BP128,BP129),EXACT(BS128,BS129),EXACT(BY129,BX128)),\"ACHTUNG! Direkter Vergleich war unentschieden!\",IF(AND(EXACT(BO128,BO129),EXACT(BP128,BP129),EXACT(BS128,BS129)),1,2))","v":2},"ACHTUNG! Direkter Vergleich war unentschieden!",{"$f":"IF(OR(AND(EXACT(BO129,BO130),EXACT(BP129,BP130),EXACT(BS129,BS130),EXACT(BO129,BO131),EXACT(BP129,BP131),EXACT(BS129,BS131)),AND(EXACT(BO129,BO130),EXACT(BP129,BP130),EXACT(BS129,BS130),EXACT(BO129,BO128),EXACT(BP129,BP128),EXACT(BS129,BS128))*AND(EXACT(BO129,BO127),EXACT(BP129,BP127),EXACT(BS129,BS127),EXACT(BO129,BO128),EXACT(BP129,BP128),EXACT(BS129,BS128))),3,1)","v":1}]
[null,{"$f":"'Gruppe B1'!B37:C37","v":10},null,{"$f":"'Gruppe B1'!D37","v":"15:45:00"},null,null,null,null,{"$f":"$Q$111","v":"Gruppe B1"},null,null,null,null,null,null,null,null,null,null,null,null,null,null,null,null,null,null,"-",{"$f":"$Q$114","v":"Gruppe B4"},null,null,null,null,null,null,null,null,null,null,null,null,null,null,null,null,null,null,null,{"$f":"IF(ISBLANK('Gruppe B1'!AW37),\"\",'Gruppe B1'!AW37)","v":1},null,":",{"$f":"IF(ISBLANK('Gruppe B1'!AZ37),\"\",'Gruppe B1'!AZ37)","v":1},null,null,null,null,null,1,":",1,null,null,null,{"$f":"INDEX(Vorgaben!F$19:H$26,MATCH($BM130,Vorgaben!F$19:F$26,0),3)","v":0},{"$f":"'Gruppe B1'!$BM$29","v":"Gruppe B6"},{"$f":"'Gruppe B1'!$BN$29","v":3},{"$f":"'Gruppe B1'!$BO$29","v":3},{"$f":"'Gruppe B1'!$BP$29","v":3},{"$f":"'Gruppe B1'!$BQ$29","v":":"},{"$f":"'Gruppe B1'!$BR$29","v":3},{"$f":"'Gruppe B1'!$BS$29","v":0},0,0,{"$f":"IF(BX129<BY130,10,IF(BX129>BY130,-10,0))","v":0},{"$f":"IF(BX129<BY130,10,IF(BX129>BY130,-10,0))","v":0},{"$f":"IF(ISNA(INDEX(BF$121:BF$135,MATCH(BM130&BM131,I$121:I$135&AC$121:AC$135,0))),INDEX(BH$121:BH$135,MATCH(BM131&BM130,I$121:I$135&AC$121:AC$135,0)),INDEX(BF$121:BF$135,MATCH(BM130&BM131,I$121:I$135&AC$121:AC$135,0)))","v":1},{"$f":"IF(ISNA(INDEX(BF$121:BF$135,MATCH(BM130&BM129,I$121:I$135&AC$121:AC$135,0))),INDEX(BH$121:BH$135,MATCH(BM129&BM130,I$121:I$135&AC$121:AC$135,0)),INDEX(BF$121:BF$135,MATCH(BM130&BM129,I$121:I$135&AC$121:AC$135,0)))","v":1},2,{"$f":"IF(AND(EXACT(BO129,BO130),EXACT(BP129,BP130),EXACT(BS129,BS130),EXACT(BY130,BX129)),\"ACHTUNG! Direkter Vergleich war unentschieden!\",IF(AND(EXACT(BO129,BO130),EXACT(BP129,BP130),EXACT(BS129,BS130)),1,2))","v":"ACHTUNG! Direkter Vergleich war unentschieden!"},"ACHTUNG! Direkter Vergleich war unentschieden!",{"$f":"IF(OR(AND(EXACT(BO130,BO131),EXACT(BP130,BP131),EXACT(BS130,BS131),EXACT(BO130,BO132),EXACT(BP130,BP132),EXACT(BS130,BS132)),AND(EXACT(BO130,BO131),EXACT(BP130,BP131),EXACT(BS130,BS131),EXACT(BO130,BO129),EXACT(BP130,BP129),EXACT(BS130,BS129))*AND(EXACT(BO130,BO128),EXACT(BP130,BP128),EXACT(BS130,BS128),EXACT(BO130,BO129),EXACT(BP130,BP129),EXACT(BS130,BS129))),3,1)","v":1}]
[null,{"$f":"'Gruppe B1'!B38:C38","v":11},null,{"$f":"'Gruppe B1'!D38","v":"15:55:00"},null,null,null,null,{"$f":"$Q$116","v":"Gruppe B6"},null,null,null,null,null,null,null,null,null,null,null,null,null,null,null,null,null,null,"-",{"$f":"$Q$112","v":"Gruppe B2"},null,null,null,null,null,null,null,null,null,null,null,null,null,null,null,null,null,null,null,{"$f":"IF(ISBLANK('Gruppe B1'!AW38),\"\",'Gruppe B1'!AW38)","v":1},null,":",{"$f":"IF(ISBLANK('Gruppe B1'!AZ38),\"\",'Gruppe B1'!AZ38)","v":1},null,null,null,null,null,1,":",1,null,null,null,{"$f":"INDEX(Vorgaben!F$19:H$26,MATCH($BM131,Vorgaben!F$19:F$26,0),3)","v":0},{"$f":"'Gruppe B1'!$BM$28","v":"Gruppe B4"},{"$f":"'Gruppe B1'!$BN$28","v":4},{"$f":"'Gruppe B1'!$BO$28","v":3},{"$f":"'Gruppe B1'!$BP$28","v":4},{"$f":"'Gruppe B1'!$BQ$28","v":":"},{"$f":"'Gruppe B1'!$BR$28","v":6},{"$f":"'Gruppe B1'!$BS$28","v":-2},0,0,{"$f":"IF(BX130<BY131,10,IF(BX130>BY131,-10,0))","v":0},{"$f":"IF(BX131>BY132,10,IF(BX131<BY132,-10,0))","v":0},{"$f":"IF(ISNA(INDEX(BF$121:BF$135,MATCH(BM131&BM132,I$121:I$135&AC$121:AC$135,0))),INDEX(BH$121:BH$135,MATCH(BM132&BM131,I$121:I$135&AC$121:AC$135,0)),INDEX(BF$121:BF$135,MATCH(BM131&BM132,I$121:I$135&AC$121:AC$135,0)))","v":1},{"$f":"IF(ISNA(INDEX(BF$121:BF$135,MATCH(BM131&BM130,I$121:I$135&AC$121:AC$135,0))),INDEX(BH$121:BH$135,MATCH(BM130&BM131,I$121:I$135&AC$121:AC$135,0)),INDEX(BF$121:BF$135,MATCH(BM131&BM130,I$121:I$135&AC$121:AC$135,0)))","v":1},2,{"$f":"IF(AND(EXACT(BO130,BO131),EXACT(BP130,BP131),EXACT(BS130,BS131),EXACT(BY131,BX130)),\"ACHTUNG! Direkter Vergleich war unentschieden!\",IF(AND(EXACT(BO130,BO131),EXACT(BP130,BP131),EXACT(BS130,BS131)),1,2))","v":2},"",1]
[null,{"$f":"'Gruppe B1'!B39:C39","v":12},null,{"$f":"'Gruppe B1'!D39","v":"16:05:00"},null,null,null,null,{"$f":"$Q$113","v":"Gruppe B3"},null,null,null,null,null,null,null,null,null,null,null,null,null,null,null,null,null,null,"-",{"$f":"$Q$115","v":"Gruppe B5"},null,null,null,null,null,null,null,null,null,null,null,null,null,null,null,null,null,null,null,{"$f":"IF(ISBLANK('Gruppe B1'!AW39),\"\",'Gruppe B1'!AW39)","v":1},null,":",{"$f":"IF(ISBLANK('Gruppe B1'!AZ39),\"\",'Gruppe B1'!AZ39)","v":1},null,null,null,null,null,1,":",1,null,null,null,{"$f":"INDEX(Vorgaben!F$19:H$26,MATCH($BM132,Vorgaben!F$19:F$26,0),3)","v":0},{"$f":"'Gruppe B1'!$BM$30","v":"Gruppe B2"},{"$f":"'Gruppe B1'!$BN$30","v":4},{"$f":"'Gruppe B1'!$BO$30","v":3},{"$f":"'Gruppe B1'!$BP$30","v":3},{"$f":"'Gruppe B1'!$BQ$30","v":":"},{"$f":"'Gruppe B1'!$BR$30","v":5},{"$f":"'Gruppe B1'!$BS$30","v":-2},0,0,{"$f":"IF(BX131<BY132,10,IF(BX131>BY132,-10,0))","v":0},{"$f":"IF(BX131<BY132,10,IF(BX131>BY132,-10,0))","v":0},null,{"$f":"IF(ISNA(INDEX(BF$121:BF$135,MATCH(BM132&BM131,I$121:I$135&AC$121:AC$135,0))),INDEX(BH$121:BH$135,MATCH(BM131&BM132,I$121:I$135&AC$121:AC$135,0)),INDEX(BF$121:BF$135,MATCH(BM132&BM131,I$121:I$135&AC$121:AC$135,0)))","v":1},2,{"$f":"IF(AND(EXACT(BO131,BO132),EXACT(BP131,BP132),EXACT(BS131,BS132),EXACT(BY132,BX131)),\"ACHTUNG! Direkter Vergleich war unentschieden!\",IF(AND(EXACT(BO131,BO132),EXACT(BP131,BP132),EXACT(BS131,BS132)),1,2))","v":2},"",1]
[null,{"$f":"'Gruppe B1'!B40:C40","v":13},null,{"$f":"'Gruppe B1'!D40","v":"16:15:00"},null,null,null,null,{"$f":"$Q$116","v":"Gruppe B6"},null,null,null,null,null,null,null,null,null,null,null,null,null,null,null,null,null,null,"-",{"$f":"$Q$111","v":"Gruppe B1"},null,null,null,null,null,null,null,null,null,null,null,null,null,null,null,null,null,null,null,{"$f":"IF(ISBLANK('Gruppe B1'!AW40),\"\",'Gruppe B1'!AW40)","v":1},null,":",{"$f":"IF(ISBLANK('Gruppe B1'!AZ40),\"\",'Gruppe B1'!AZ40)","v":1},null,null,null,null,null,1,":",1]
[null,{"$f":"'Gruppe B1'!B41:C41","v":14},null,{"$f":"'Gruppe B1'!D41","v":"16:25:00"},null,null,null,null,{"$f":"$Q$112","v":"Gruppe B2"},null,null,null,null,null,null,null,null,null,null,null,null,null,null,null,null,null,null,"-",{"$f":"$Q$113","v":"Gruppe B3"},null,null,null,null,null,null,null,null,null,null,null,null,null,null,null,null,null,null,null,{"$f":"IF(ISBLANK('Gruppe B1'!AW41),\"\",'Gruppe B1'!AW41)","v":1},null,":",{"$f":"IF(ISBLANK('Gruppe B1'!AZ41),\"\",'Gruppe B1'!AZ41)","v":1},null,null,null,null,null,1,":",1]
[null,{"$f":"'Gruppe B1'!B42:C42","v":15},null,{"$f":"'Gruppe B1'!D42","v":"16:35:00"},null,null,null,null,{"$f":"$Q$114","v":"Gruppe B4"},null,null,null,null,null,null,null,null,null,null,null,null,null,null,null,null,null,null,"-",{"$f":"$Q$115","v":"Gruppe B5"},null,null,null,null,null,null,null,null,null,null,null,null,null,null,null,null,null,null,null,{"$f":"IF(ISBLANK('Gruppe B1'!AW42),\"\",'Gruppe B1'!AW42)","v":1},null,":",{"$f":"IF(ISBLANK('Gruppe B1'!AZ42),\"\",'Gruppe B1'!AZ42)","v":1},null,null,null,null,null,1,":",1]
[]
[null,null,"III. Abschlußtabelle"]
[]
[null,null,null,null,null,null,null,null,"Abschlußtabelle",null,null,null,null,null,null,null,null,null,null,null,null,null,null,null,null,null,null,null,null,null,null,null,null,null,"Sp.",null,null,"Pkt.",null,null,"Tore",null,null,null,null,"Diff."]
[null,null,null,null,null,null,null,null,"1.",null,{"$f":"$BM$127","v":"Gruppe B3"},null,null,null,null,null,null,null,null,null,null,null,null,null,null,null,null,null,null,null,null,null,null,null,{"$f":"$BN$127","v":4},null,null,{"$f":"$BO$127","v":6},null,null,{"$f":"$BP$127","v":6},null,":",{"$f":"$BR$127","v":4},null,{"$f":"$BS$127","v":2}]
[null,null,null,null,null,null,null,null,"2.",null,{"$f":"$BM$128","v":"Gruppe B1"},null,null,null,null,null,null,null,null,null,null,null,null,null,null,null,null,null,null,null,null,null,null,null,{"$f":"$BN$128","v":4},null,null,{"$f":"$BO$128","v":6},null,null,{"$f":"$BP$128","v":5},null,":",{"$f":"$BR$128","v":3},null,{"$f":"$BS$128","v":2}]
[null,null,null,null,null,null,null,null,"3.",null,{"$f":"$BM$129","v":"Gruppe B5"},null,null,null,null,null,null,null,null,null,null,null,null,null,null,null,null,null,null,null,null,null,null,null,{"$f":"$BN$129","v":3},null,null,{"$f":"$BO$129","v":3},null,null,{"$f":"$BP$129","v":3},null,":",{"$f":"$BR$129","v":3},null,{"$f":"$BS$129","v":0}]
[null,null,null,null,null,null,null,null,"4.",null,{"$f":"$BM$130","v":"Gruppe B6"},null,null,null,null,null,null,null,null,null,null,null,null,null,null,null,null,null,null,null,null,null,null,null,{"$f":"$BN$130","v":3},null,null,{"$f":"$BO$130","v":3},null,null,{"$f":"$BP$130","v":3},null,":",{"$f":"$BR$130","v":3},null,{"$f":"$BS$130","v":0}]
[null,null,null,null,null,null,null,null,"5.",null,{"$f":"$BM$131","v":"Gruppe B4"},null,null,null,null,null,null,null,null,null,null,null,null,null,null,null,null,null,null,null,null,null,null,null,{"$f":"$BN$131","v":4},null,null,{"$f":"$BO$131","v":3},null,null,{"$f":"$BP$131","v":4},null,":",{"$f":"$BR$131","v":6},null,{"$f":"$BS$131","v":-2}]
[null,null,null,null,null,null,null,null,"6.",null,{"$f":"$BM$132","v":"Gruppe B2"},null,null,null,null,null,null,null,null,null,null,null,null,null,null,null,null,null,null,null,null,null,null,null,{"$f":"$BN$132","v":4},null,null,{"$f":"$BO$132","v":3},null,null,{"$f":"$BP$132","v":3},null,":",{"$f":"$BR$132","v":5},null,{"$f":"$BS$132","v":-2}]
[]
[]
[]
[]
[]
[]
[]
[]
[]
[]
[]
[]
[]
[]
[]
[]
[]
[]
[]
[]
[]
[]
[]
[]
[]
[]
[]
[]
[]
[]
[]
[]
[]
[]
[]
[]
[]
[]
[]
[]
[]
[]
[]
[]
[]
[]
[]
[]
[]
[]
[]
[]
[]
[]
[]
[]
["Vorrunde"]
["Gruppe C"]
[]
[null,null,null,null,null,null,"Beginn:",{"$f":"Vorgaben!C4","v":"14:15:00"},null,null,null,null,"Uhr",null,null,null,null,null,null,"Spielzeit:",{"$f":"Vorgaben!C5","v":1},null,"x",{"$f":"Vorgaben!C6","v":"00:09:00"},null,null,null,null,"min",null,null,null,null,null,null,null,"Pause:",{"$f":"Vorgaben!C7","v":"00:01:00"},null,null,null,null,"min"]
[]
[]
[null,"I. Teilnehmende Mannschaften"]
[]
[null,null,null,null,null,null,null,null,null,null,null,null,null,null,"Gruppeneinteilung"]
[null,null,null,null,null,null,null,null,null,null,null,null,null,null,"1.",null,{"$f":"Vorgaben!B29","v":"Gruppe C1"}]
[null,null,null,null,null,null,null,null,null,null,null,null,null,null,"2.",null,{"$f":"Vorgaben!B30","v":"Gruppe C2"}]
[null,null,null,null,null,null,null,null,null,null,null,null,null,null,"3.",null,{"$f":"Vorgaben!B31","v":"Gruppe C3"}]
[null,null,null,null,null,null,null,null,null,null,null,null,null,null,"4.",null,{"$f":"Vorgaben!B32","v":"Gruppe C4"}]
[null,null,null,null,null,null,null,null,null,null,null,null,null,null,"5.",null,{"$f":"Vorgaben!B33","v":"Gruppe C5"}]
[null,null,null,null,null,null,null,null,null,null,null,null,null,null,"6.",null,{"$f":"Vorgaben!B34","v":"Gruppe C6"}]
[]
[null,"II. Spielplan"]
[]
[null,"Nr.",null,"Beginn",null,null,null,null,"Spielpaarung",null,null,null,null,null,null,null,null,null,null,null,null,null,null,null,null,null,null,null,null,null,null,null,null,null,null,null,null,null,null,null,null,null,null,null,null,null,null,null,"Ergebnis",null,null,null,null,null,null,null,null,"Punkte"]
[null,1,null,{"$f":"$H$5","v":"14:15:00"},null,null,null,null,{"$f":"$Q$211","v":"Gruppe C1"},null,null,null,null,null,null,null,null,null,null,null,null,null,null,null,null,null,null,"-",{"$f":"$Q$212","v":"Gruppe C2"},null,null,null,null,null,null,null,null,null,null,null,null,null,null,null,null,null,null,null,{"$f":"IF(ISBLANK('Gruppe C1'!AW28),\"\",'Gruppe C1'!AW28)","v":""},null,":",{"$f":"IF(ISBLANK('Gruppe C1'!AZ28),\"\",'Gruppe C1'!AZ28)","v":""},null,null,null,null,null,{"$f":"IF(ISBLANK(AW221),\"0\",IF(AW221>AZ221,3,IF(AW221=AZ221,1,0)))","v":1},":",{"$f":"IF(ISBLANK(AZ221),\"0\",IF(AZ221>AW221,3,IF(AZ221=AW221,1,0)))","v":1}]
[null,2,null,{"$f":"D221+$U$5*$X$5+$AL$5","v":"14:25:00"},null,null,null,null,{"$f":"$Q$213","v":"Gruppe C3"},null,null,null,null,null,null,null,null,null,null,null,null,null,null,null,null,null,null,"-",{"$f":"$Q$214","v":"Gruppe C4"},null,null,null,null,null,null,null,null,null,null,null,null,null,null,null,null,null,null,null,{"$f":"IF(ISBLANK('Gruppe C1'!AW29),\"\",'Gruppe C1'!AW29)","v":""},null,":",{"$f":"IF(ISBLANK('Gruppe C1'!AZ29),\"\",'Gruppe C1'!AZ29)","v":""},null,null,null,null,null,{"$f":"IF(ISBLANK(AW222),\"0\",IF(AW222>AZ222,3,IF(AW222=AZ222,1,0)))","v":1},":",{"$f":"IF(ISBLANK(AZ222),\"0\",IF(AZ222>AW222,3,IF(AZ222=AW222,1,0)))","v":1}]
[null,3,null,{"$f":"D222+$U$5*$X$5+$AL$5","v":"14:35:00"},null,null,null,null,{"$f":"$Q$215","v":"Gruppe C5"},null,null,null,null,null,null,null,null,null,null,null,null,null,null,null,null,null,null,"-",{"$f":"$Q$216","v":"Gruppe C6"},null,null,null,null,null,null,null,null,null,null,null,null,null,null,null,null,null,null,null,{"$f":"IF(ISBLANK('Gruppe C1'!AW30),\"\",'Gruppe C1'!AW30)","v":5},null,":",{"$f":"IF(ISBLANK('Gruppe C1'!AZ30),\"\",'Gruppe C1'!AZ30)","v":0},null,null,null,null,null,3,":",0,null,null,null,null,{"$f":"IF(BM225=\"Min. 3 Teams identisch.  HANDSORTIERUNG!\",BM225,IF(BM225=\"ACHTUNG! Direkter Vergleich war unentschieden!\",BM225,BM224))","v":""}]
[null,4,null,"14:45:00",null,null,null,null,{"$f":"$Q$211","v":"Gruppe C1"},null,null,null,null,null,null,null,null,null,null,null,null,null,null,null,null,null,null,"-",{"$f":"$Q$213","v":"Gruppe C3"},null,null,null,null,null,null,null,null,null,null,null,null,null,null,null,null,null,null,null,{"$f":"IF(ISBLANK('Gruppe C1'!AW31),\"\",'Gruppe C1'!AW31)","v":2},null,":",{"$f":"IF(ISBLANK('Gruppe C1'!AZ31),\"\",'Gruppe C1'!AZ31)","v":0},null,null,null,null,null,3,":",0,null,null,null,null,{"$f":"IF(AND(EXACT(BO227,BO228),EXACT(BP227,BP228),EXACT(BS227,BS228)),\"ACHTUNG: Direkter Vergleich erfolgreich durchlaufen!\",IF(AND(EXACT(BO228,BO229),EXACT(BP228,BP229),EXACT(BS228,BS229)),\"ACHTUNG: Direkter Vergleich erfolgreich durchlaufen!\",IF(AND(EXACT(BO229,BO230),EXACT(BP229,BP230),EXACT(BS229,BS230)),\"ACHTUNG: Direkter Vergleich erfolgreich durchlaufen!\",IF(AND(EXACT(BO230,BO231),EXACT(BP230,BP231),EXACT(BS230,BS231)),\"ACHTUNG: Direkter Vergleich erfolgreich durchlaufen!\",IF(AND(EXACT(BO231,BO232),EXACT(BP231,BP232),EXACT(BS231,BS232)),\"ACHTUNG: Direkter Vergleich erfolgreich durchlaufen!\",\"\")))))","v":""}]
[null,5,null,"14:55:00",null,null,null,null,{"$f":"$Q$212","v":"Gruppe C2"},null,null,null,null,null,null,null,null,null,null,null,null,null,null,null,null,null,null,"-",{"$f":"$Q$215","v":"Gruppe C5"},null,null,null,null,null,null,null,null,null,null,null,null,null,null,null,null,null,null,null,{"$f":"IF(ISBLANK('Gruppe C1'!AW32),\"\",'Gruppe C1'!AW32)","v":3},null,":",{"$f":"IF(ISBLANK('Gruppe C1'!AZ32),\"\",'Gruppe C1'!AZ32)","v":1},null,null,null,null,null,3,":",0,null,null,null,null,{"$f":"IF(OR(CC227=3,CC228=3,CC229=3,CC230=3,CC231=3,CC232=3),\"Min. 3 Teams identisch.  HANDSORTIERUNG!\",IF(OR(CB227=\"ACHTUNG! Direkter Vergleich war unentschieden!\",CB228=\"ACHTUNG! Direkter Vergleich war unentschieden!\",CB229=\"ACHTUNG! Direkter Vergleich war unentschieden!\",CB230=\"ACHTUNG! Direkter Vergleich war unentschieden!\",CB231=\"ACHTUNG! Direkter Vergleich war unentschieden!\",CB232=\"ACHTUNG! Direkter Vergleich war unentschieden!\"),\"ACHTUNG! Direkter Vergleich war unentschieden!\",\"\"))","v":""}]
[null,6,null,"15:05:00",null,null,null,null,{"$f":"$Q$214","v":"Gruppe C4"},null,null,null,null,null,null,null,null,null,null,null,null,null,null,null,null,null,null,"-",{"$f":"$Q$216","v":"Gruppe C6"},null,null,null,null,null,null,null,null,null,null,null,null,null,null,null,null,null,null,null,{"$f":"IF(ISBLANK('Gruppe C1'!AW33),\"\",'Gruppe C1'!AW33)","v":4},null,":",{"$f":"IF(ISBLANK('Gruppe C1'!AZ33),\"\",'Gruppe C1'!AZ33)","v":5},null,null,null,null,null,0,":",3]
[null,7,null,"15:15:00",null,null,null,null,{"$f":"$Q$215","v":"Gruppe C5"},null,null,null,null,null,null,null,null,null,null,null,null,null,null,null,null,null,null,"-",{"$f":"$Q$211","v":"Gruppe C1"},null,null,null,null,null,null,null,null,null,null,null,null,null,null,null,null,null,null,null,{"$f":"IF(ISBLANK('Gruppe C1'!AW34),\"\",'Gruppe C1'!AW34)","v":""},null,":",{"$f":"IF(ISBLANK('Gruppe C1'!AZ34),\"\",'Gruppe C1'!AZ34)","v":""},null,null,null,null,null,1,":",1,null,null,null,{"$f":"INDEX(Vorgaben!B$29:D$36,MATCH($BM227,Vorgaben!B$29:B$36,0),3)","v":0},{"$f":"'Gruppe C1'!$BM$32","v":"Gruppe C5"},{"$f":"'Gruppe C1'!$BN$32","v":2},{"$f":"'Gruppe C1'!$BO$32","v":3},{"$f":"'Gruppe C1'!$BP$32","v":6},{"$f":"'Gruppe C1'!$BQ$32","v":":"},{"$f":"'Gruppe C1'!$BR$32","v":3},{"$f":"'Gruppe C1'!$BS$32","v":3},{"$f":"BV227","v":-10},null,{"$f":"IF(BX227>BY228,10,IF(BX227<BY228,-10,0))","v":-10},null,{"$f":"IF(ISNA(INDEX(BF$221:BF$235,MATCH(BM227&BM228,I$221:I$235&AC$221:AC$235,0))),INDEX(BH$221:BH$235,MATCH(BM228&BM227,I$221:I$235&AC$221:AC$235,0)),INDEX(BF$221:BF$235,MATCH(BM227&BM228,I$221:I$235&AC$221:AC$235,0)))","v":0},null,{"$f":"IF(AND(EXACT(BO227,BO228),EXACT(BP227,BP228),EXACT(BS227,BS228),EXACT(BX227,BY228)),\"ACHTUNG! Direkter Vergleich war unentschieden!\",IF(AND(EXACT(BO227,BO228),EXACT(BP227,BP228),EXACT(BS227,BS228)),1,2))","v":2},{"$f":"IF(AND(EXACT(BO226,BO227),EXACT(BP226,BP227),EXACT(BS226,BS227),EXACT(BX227,BY226)),\"ACHTUNG! Direkter Vergleich war unentschieden!\",\"\")","v":""},{"$f":"IF(OR(BZ227=\"ACHTUNG! Direkter Vergleich war unentschieden!\",CA227=\"ACHTUNG! Direkter Vergleich war unentschieden!\"),\"ACHTUNG! Direkter Vergleich war unentschieden!\",\"\")","v":""},{"$f":"IF(OR(AND(EXACT(BO227,BO228),EXACT(BP227,BP228),EXACT(BS227,BS228),EXACT(BO227,BO229),EXACT(BP227,BP229),EXACT(BS227,BS229)),AND(EXACT(BO227,BO228),EXACT(BP227,BP228),EXACT(BS227,BS228),EXACT(BO227,BO226),EXACT(BP227,BP226),EXACT(BS227,BS226))*AND(EXACT(BO227,BO225),EXACT(BP227,BP225),EXACT(BS227,BS225),EXACT(BO227,BO226),EXACT(BP227,BP226),EXACT(BS227,BS226))),3,1)","v":1}]
[null,8,null,"15:25:00",null,null,null,null,{"$f":"$Q$212","v":"Gruppe C2"},null,null,null,null,null,null,null,null,null,null,null,null,null,null,null,null,null,null,"-",{"$f":"$Q$214","v":"Gruppe C4"},null,null,null,null,null,null,null,null,null,null,null,null,null,null,null,null,null,null,null,{"$f":"IF(ISBLANK('Gruppe C1'!AW35),\"\",'Gruppe C1'!AW35)","v":""},null,":",{"$f":"IF(ISBLANK('Gruppe C1'!AZ35),\"\",'Gruppe C1'!AZ35)","v":""},null,null,null,null,null,1,":",1,null,null,null,{"$f":"INDEX(Vorgaben!B$29:D$36,MATCH($BM228,Vorgaben!B$29:B$36,0),3)","v":0},{"$f":"'Gruppe C1'!$BM$30","v":"Gruppe C2"},{"$f":"'Gruppe C1'!$BN$30","v":1},{"$f":"'Gruppe C1'!$BO$30","v":3},{"$f":"'Gruppe C1'!$BP$30","v":3},{"$f":"'Gruppe C1'!$BQ$30","v":":"},{"$f":"'Gruppe C1'!$BR$30","v":1},{"$f":"'Gruppe C1'!$BS$30","v":2},{"$f":"BV228","v":10},{"$f":"BW228","v":0},{"$f":"IF(BX227<BY228,10,IF(BX227>BY228,-10,0))","v":10},{"$f":"IF(BX228>BY229,10,IF(BX228<BY229,-10,0))","v":0},{"$f":"IF(ISNA(INDEX(BF$221:BF$235,MATCH(BM228&BM229,I$221:I$235&AC$221:AC$235,0))),INDEX(BH$221:BH$235,MATCH(BM229&BM228,I$221:I$235&AC$221:AC$235,0)),INDEX(BF$221:BF$235,MATCH(BM228&BM229,I$221:I$235&AC$221:AC$235,0)))","v":1},{"$f":"IF(ISNA(INDEX(BF$221:BF$235,MATCH(BM228&BM227,I$221:I$235&AC$221:AC$235,0))),INDEX(BH$221:BH$235,MATCH(BM227&BM228,I$221:I$235&AC$221:AC$235,0)),INDEX(BF$221:BF$235,MATCH(BM228&BM227,I$221:I$235&AC$221:AC$235,0)))","v":3},{"$f":"IF(AND(EXACT(BO228,BO229),EXACT(BP228,BP229),EXACT(BS228,BS229),EXACT(BX228,BY229)),\"ACHTUNG! Direkter Vergleich war unentschieden!\",IF(AND(EXACT(BO228,BO229),EXACT(BP228,BP229),EXACT(BS228,BS229)),1,2))","v":2},{"$f":"IF(AND(EXACT(BO227,BO228),EXACT(BP227,BP228),EXACT(BS227,BS228),EXACT(BY228,BX227)),\"ACHTUNG! Direkter Vergleich war unentschieden!\",IF(AND(EXACT(BO227,BO228),EXACT(BP227,BP228),EXACT(BS227,BS228)),1,2))","v":2},"",1]
[null,9,null,"15:35:00",null,null,null,null,{"$f":"$Q$216","v":"Gruppe C6"},null,null,null,null,null,null,null,null,null,null,null,null,null,null,null,null,null,null,"-",{"$f":"$Q$213","v":"Gruppe C3"},null,null,null,null,null,null,null,null,null,null,null,null,null,null,null,null,null,null,null,{"$f":"IF(ISBLANK('Gruppe C1'!AW36),\"\",'Gruppe C1'!AW36)","v":""},null,":",{"$f":"IF(ISBLANK('Gruppe C1'!AZ36),\"\",'Gruppe C1'!AZ36)","v":""},null,null,null,null,null,1,":",1,null,null,null,{"$f":"INDEX(Vorgaben!B$29:D$36,MATCH($BM229,Vorgaben!B$29:B$36,0),3)","v":0},{"$f":"'Gruppe C1'!$BM$27","v":"Gruppe C1"},{"$f":"'Gruppe C1'!$BN$27","v":1},{"$f":"'Gruppe C1'!$BO$27","v":3},{"$f":"'Gruppe C1'!$BP$27","v":2},{"$f":"'Gruppe C1'!$BQ$27","v":":"},{"$f":"'Gruppe C1'!$BR$27","v":0},{"$f":"'Gruppe C1'!$BS$27","v":2},{"$f":"BV229","v":0},0,{"$f":"IF(BX228<BY229,10,IF(BX228>BY229,-10,0))","v":0},{"$f":"IF(BX229>BY230,10,IF(BX229<BY230,-10,0))","v":0},{"$f":"IF(ISNA(INDEX(BF$221:BF$235,MATCH(BM229&BM230,I$221:I$235&AC$221:AC$235,0))),INDEX(BH$221:BH$235,MATCH(BM230&BM229,I$221:I$235&AC$221:AC$235,0)),INDEX(BF$221:BF$235,MATCH(BM229&BM230,I$221:I$235&AC$221:AC$235,0)))","v":1},{"$f":"IF(ISNA(INDEX(BF$221:BF$235,MATCH(BM229&BM228,I$221:I$235&AC$221:AC$235,0))),INDEX(BH$221:BH$235,MATCH(BM228&BM229,I$221:I$235&AC$221:AC$235,0)),INDEX(BF$221:BF$235,MATCH(BM229&BM228,I$221:I$235&AC$221:AC$235,0)))","v":1},{"$f":"IF(AND(EXACT(BO229,BO230),EXACT(BP229,BP230),EXACT(BS229,BS230),EXACT(BX229,BY230)),\"ACHTUNG! Direkter Vergleich war unentschieden!\",IF(AND(EXACT(BO229,BO230),EXACT(BP229,BP230),EXACT(BS229,BS230)),1,2))","v":2},{"$f":"IF(AND(EXACT(BO228,BO229),EXACT(BP228,BP229),EXACT(BS228,BS229),EXACT(BY229,BX228)),\"ACHTUNG! Direkter Vergleich war unentschieden!\",IF(AND(EXACT(BO228,BO229),EXACT(BP228,BP229),EXACT(BS228,BS229)),1,2))","v":2},"",{"$f":"IF(OR(AND(EXACT(BO229,BO230),EXACT(BP229,BP230),EXACT(BS229,BS230),EXACT(BO229,BO231),EXACT(BP229,BP231),EXACT(BS229,BS231)),AND(EXACT(BO229,BO230),EXACT(BP229,BP230),EXACT(BS229,BS230),EXACT(BO229,BO228),EXACT(BP229,BP228),EXACT(BS229,BS228))*AND(EXACT(BO229,BO227),EXACT(BP229,BP227),EXACT(BS229,BS227),EXACT(BO229,BO228),EXACT(BP229,BP228),EXACT(BS229,BS228))),3,1)","v":1}]
[null,10,null,"15:45:00",null,null,null,null,{"$f":"$Q$211","v":"Gruppe C1"},null,null,null,null,null,null,null,null,null,null,null,null,null,null,null,null,null,null,"-",{"$f":"$Q$214","v":"Gruppe C4"},null,null,null,null,null,null,null,null,null,null,null,null,null,null,null,null,null,null,null,{"$f":"IF(ISBLANK('Gruppe C1'!AW37),\"\",'Gruppe C1'!AW37)","v":""},null,":",{"$f":"IF(ISBLANK('Gruppe C1'!AZ37),\"\",'Gruppe C1'!AZ37)","v":""},null,null,null,null,null,1,":",1,null,null,null,{"$f":"INDEX(Vorgaben!B$29:D$36,MATCH($BM230,Vorgaben!B$29:B$36,0),3)","v":0},{"$f":"'Gruppe C1'!$BM$29","v":"Gruppe C6"},{"$f":"'Gruppe C1'!$BN$29","v":2},{"$f":"'Gruppe C1'!$BO$29","v":3},{"$f":"'Gruppe C1'!$BP$29","v":5},{"$f":"'Gruppe C1'!$BQ$29","v":":"},{"$f":"'Gruppe C1'!$BR$29","v":9},{"$f":"'Gruppe C1'!$BS$29","v":-4},0,0,{"$f":"IF(BX229<BY230,10,IF(BX229>BY230,-10,0))","v":0},{"$f":"IF(BX229<BY230,10,IF(BX229>BY230,-10,0))","v":0},{"$f":"IF(ISNA(INDEX(BF$221:BF$235,MATCH(BM230&BM231,I$221:I$235&AC$221:AC$235,0))),INDEX(BH$221:BH$235,MATCH(BM231&BM230,I$221:I$235&AC$221:AC$235,0)),INDEX(BF$221:BF$235,MATCH(BM230&BM231,I$221:I$235&AC$221:AC$235,0)))","v":3},{"$f":"IF(ISNA(INDEX(BF$221:BF$235,MATCH(BM230&BM229,I$221:I$235&AC$221:AC$235,0))),INDEX(BH$221:BH$235,MATCH(BM229&BM230,I$221:I$235&AC$221:AC$235,0)),INDEX(BF$221:BF$235,MATCH(BM230&BM229,I$221:I$235&AC$221:AC$235,0)))","v":1},{"$f":"IF(AND(EXACT(BO230,BO231),EXACT(BP230,BP231),EXACT(BS230,BS231),EXACT(BX230,BY231)),\"ACHTUNG! Direkter Vergleich war unentschieden!\",IF(AND(EXACT(BO230,BO231),EXACT(BP230,BP231),EXACT(BS230,BS231)),1,2))","v":2},{"$f":"IF(AND(EXACT(BO229,BO230),EXACT(BP229,BP230),EXACT(BS229,BS230),EXACT(BY230,BX229)),\"ACHTUNG! Direkter Vergleich war unentschieden!\",IF(AND(EXACT(BO229,BO230),EXACT(BP229,BP230),EXACT(BS229,BS230)),1,2))","v":2},"",{"$f":"IF(OR(AND(EXACT(BO230,BO231),EXACT(BP230,BP231),EXACT(BS230,BS231),EXACT(BO230,BO232),EXACT(BP230,BP232),EXACT(BS230,BS232)),AND(EXACT(BO230,BO231),EXACT(BP230,BP231),EXACT(BS230,BS231),EXACT(BO230,BO229),EXACT(BP230,BP229),EXACT(BS230,BS229))*AND(EXACT(BO230,BO228),EXACT(BP230,BP228),EXACT(BS230,BS228),EXACT(BO230,BO229),EXACT(BP230,BP229),EXACT(BS230,BS229))),3,1)","v":1}]
[null,11,null,"15:55:00",null,null,null,null,{"$f":"$Q$216","v":"Gruppe C6"},null,null,null,null,null,null,null,null,null,null,null,null,null,null,null,null,null,null,"-",{"$f":"$Q$212","v":"Gruppe C2"},null,null,null,null,null,null,null,null,null,null,null,null,null,null,null,null,null,null,null,{"$f":"IF(ISBLANK('Gruppe C1'!AW38),\"\",'Gruppe C1'!AW38)","v":""},null,":",{"$f":"IF(ISBLANK('Gruppe C1'!AZ38),\"\",'Gruppe C1'!AZ38)","v":""},null,null,null,null,null,1,":",1,null,null,null,{"$f":"INDEX(Vorgaben!B$29:D$36,MATCH($BM231,Vorgaben!B$29:B$36,0),3)","v":0},{"$f":"'Gruppe C1'!$BM$28","v":"Gruppe C4"},{"$f":"'Gruppe C1'!$BN$28","v":1},{"$f":"'Gruppe C1'!$BO$28","v":0},{"$f":"'Gruppe C1'!$BP$28","v":4},{"$f":"'Gruppe C1'!$BQ$28","v":":"},{"$f":"'Gruppe C1'!$BR$28","v":5},{"$f":"'Gruppe C1'!$BS$28","v":-1},-10,0,{"$f":"IF(BX230<BY231,10,IF(BX230>BY231,-10,0))","v":-10},{"$f":"IF(BX231>BY232,10,IF(BX231<BY232,-10,0))","v":0},{"$f":"IF(ISNA(INDEX(BF$221:BF$235,MATCH(BM231&BM232,I$221:I$235&AC$221:AC$235,0))),INDEX(BH$221:BH$235,MATCH(BM232&BM231,I$221:I$235&AC$221:AC$235,0)),INDEX(BF$221:BF$235,MATCH(BM231&BM232,I$221:I$235&AC$221:AC$235,0)))","v":1},{"$f":"IF(ISNA(INDEX(BF$221:BF$235,MATCH(BM231&BM230,I$221:I$235&AC$221:AC$235,0))),INDEX(BH$221:BH$235,MATCH(BM230&BM231,I$221:I$235&AC$221:AC$235,0)),INDEX(BF$221:BF$235,MATCH(BM231&BM230,I$221:I$235&AC$221:AC$235,0)))","v":0},{"$f":"IF(AND(EXACT(BO231,BO232),EXACT(BP231,BP232),EXACT(BS231,BS232),EXACT(BX231,BY232)),\"ACHTUNG! Direkter Vergleich war unentschieden!\",IF(AND(EXACT(BO231,BO232),EXACT(BP231,BP232),EXACT(BS231,BS232)),1,2))","v":2},{"$f":"IF(AND(EXACT(BO230,BO231),EXACT(BP230,BP231),EXACT(BS230,BS231),EXACT(BY231,BX230)),\"ACHTUNG! Direkter Vergleich war unentschieden!\",IF(AND(EXACT(BO230,BO231),EXACT(BP230,BP231),EXACT(BS230,BS231)),1,2))","v":2},"",1]
[null,12,null,"16:05:00",null,null,null,null,{"$f":"$Q$213","v":"Gruppe C3"},null,null,null,null,null,null,null,null,null,null,null,null,null,null,null,null,null,null,"-",{"$f":"$Q$215","v":"Gruppe C5"},null,null,null,null,null,null,null,null,null,null,null,null,null,null,null,null,null,null,null,{"$f":"IF(ISBLANK('Gruppe C1'!AW39),\"\",'Gruppe C1'!AW39)","v":""},null,":",{"$f":"IF(ISBLANK('Gruppe C1'!AZ39),\"\",'Gruppe C1'!AZ39)","v":""},null,null,null,null,null,1,":",1,null,null,null,{"$f":"INDEX(Vorgaben!B$29:D$36,MATCH($BM232,Vorgaben!B$29:B$36,0),3)","v":0},{"$f":"'Gruppe C1'!$BM$31","v":"Gruppe C3"},{"$f":"'Gruppe C1'!$BN$31","v":1},{"$f":"'Gruppe C1'!$BO$31","v":0},{"$f":"'Gruppe C1'!$BP$31","v":0},{"$f":"'Gruppe C1'!$BQ$31","v":":"},{"$f":"'Gruppe C1'!$BR$31","v":2},{"$f":"'Gruppe C1'!$BS$31","v":-2},0,0,{"$f":"IF(BX231<BY232,10,IF(BX231>BY232,-10,0))","v":0},{"$f":"IF(BX231<BY232,10,IF(BX231>BY232,-10,0))","v":0},null,{"$f":"IF(ISNA(INDEX(BF$221:BF$235,MATCH(BM232&BM231,I$221:I$235&AC$221:AC$235,0))),INDEX(BH$221:BH$235,MATCH(BM231&BM232,I$221:I$235&AC$221:AC$235,0)),INDEX(BF$221:BF$235,MATCH(BM232&BM231,I$221:I$235&AC$221:AC$235,0)))","v":1},null,{"$f":"IF(AND(EXACT(BO231,BO232),EXACT(BP231,BP232),EXACT(BS231,BS232),EXACT(BY232,BX231)),\"ACHTUNG! Direkter Vergleich war unentschieden!\",IF(AND(EXACT(BO231,BO232),EXACT(BP231,BP232),EXACT(BS231,BS232)),1,2))","v":2},"",1]
[null,13,null,"16:15:00",null,null,null,null,{"$f":"$Q$216","v":"Gruppe C6"},null,null,null,null,null,null,null,null,null,null,null,null,null,null,null,null,null,null,"-",{"$f":"$Q$211","v":"Gruppe C1"},null,null,null,null,null,null,null,null,null,null,null,null,null,null,null,null,null,null,null,{"$f":"IF(ISBLANK('Gruppe C1'!AW40),\"\",'Gruppe C1'!AW40)","v":""},null,":",{"$f":"IF(ISBLANK('Gruppe C1'!AZ40),\"\",'Gruppe C1'!AZ40)","v":""},null,null,null,null,null,1,":",1]
[null,14,null,"16:25:00",null,null,null,null,{"$f":"$Q$212","v":"Gruppe C2"},null,null,null,null,null,null,null,null,null,null,null,null,null,null,null,null,null,null,"-",{"$f":"$Q$213","v":"Gruppe C3"},null,null,null,null,null,null,null,null,null,null,null,null,null,null,null,null,null,null,null,{"$f":"IF(ISBLANK('Gruppe C1'!AW41),\"\",'Gruppe C1'!AW41)","v":""},null,":",{"$f":"IF(ISBLANK('Gruppe C1'!AZ41),\"\",'Gruppe C1'!AZ41)","v":""},null,null,null,null,null,1,":",1]
[null,15,null,"16:35:00",null,null,null,null,{"$f":"$Q$214","v":"Gruppe C4"},null,null,null,null,null,null,null,null,null,null,null,null,null,null,null,null,null,null,"-",{"$f":"$Q$215","v":"Gruppe C5"},null,null,null,null,null,null,null,null,null,null,null,null,null,null,null,null,null,null,null,{"$f":"IF(ISBLANK('Gruppe C1'!AW42),\"\",'Gruppe C1'!AW42)","v":""},null,":",{"$f":"IF(ISBLANK('Gruppe C1'!AZ42),\"\",'Gruppe C1'!AZ42)","v":""},null,null,null,null,null,1,":",1]
[]
[null,null,"III. Abschlußtabelle"]
[]
[null,null,null,null,null,null,null,null,"Abschlußtabelle",null,null,null,null,null,null,null,null,null,null,null,null,null,null,null,null,null,null,null,null,null,null,null,null,null,"Sp.",null,null,"Pkt.",null,null,"Tore",null,null,null,null,"Diff."]
[null,null,null,null,null,null,null,null,"1.",null,{"$f":"$BM$227","v":"Gruppe C5"},null,null,null,null,null,null,null,null,null,null,null,null,null,null,null,null,null,null,null,null,null,null,null,{"$f":"$BN$227","v":2},null,null,{"$f":"$BO$227","v":3},null,null,{"$f":"$BP$227","v":6},null,":",{"$f":"$BR$227","v":3},null,{"$f":"$BS$227","v":3}]
[null,null,null,null,null,null,null,null,"2.",null,{"$f":"$BM$228","v":"Gruppe C2"},null,null,null,null,null,null,null,null,null,null,null,null,null,null,null,null,null,null,null,null,null,null,null,{"$f":"$BN$228","v":1},null,null,{"$f":"$BO$228","v":3},null,null,{"$f":"$BP$228","v":3},null,":",{"$f":"$BR$228","v":1},null,{"$f":"$BS$228","v":2}]
[null,null,null,null,null,null,null,null,"3.",null,{"$f":"$BM$229","v":"Gruppe C1"},null,null,null,null,null,null,null,null,null,null,null,null,null,null,null,null,null,null,null,null,null,null,null,{"$f":"$BN$229","v":1},null,null,{"$f":"$BO$229","v":3},null,null,{"$f":"$BP$229","v":2},null,":",{"$f":"$BR$229","v":0},null,{"$f":"$BS$229","v":2}]
[null,null,null,null,null,null,null,null,"4.",null,{"$f":"$BM$230","v":"Gruppe C6"},null,null,null,null,null,null,null,null,null,null,null,null,null,null,null,null,null,null,null,null,null,null,null,{"$f":"$BN$230","v":2},null,null,{"$f":"$BO$230","v":3},null,null,{"$f":"$BP$230","v":5},null,":",{"$f":"$BR$230","v":9},null,{"$f":"$BS$230","v":-4}]
[null,null,null,null,null,null,null,null,"5.",null,{"$f":"$BM$231","v":"Gruppe C4"},null,null,null,null,null,null,null,null,null,null,null,null,null,null,null,null,null,null,null,null,null,null,null,{"$f":"$BN$231","v":1},null,null,{"$f":"$BO$231","v":0},null,null,{"$f":"$BP$231","v":4},null,":",{"$f":"$BR$231","v":5},null,{"$f":"$BS$231","v":-1}]
[null,null,null,null,null,null,null,null,"6.",null,{"$f":"$BM$232","v":"Gruppe C3"},null,null,null,null,null,null,null,null,null,null,null,null,null,null,null,null,null,null,null,null,null,null,null,{"$f":"$BN$232","v":1},null,null,{"$f":"$BO$232","v":0},null,null,{"$f":"$BP$232","v":0},null,":",{"$f":"$BR$232","v":2},null,{"$f":"$BS$232","v":-2}]
[]
[]
[]
[]
[]
[]
[]
[]
[]
[]
[]
[]
[]
[]
[]
[]
[]
[]
[]
[]
[]
[]
[]
[]
[]
[]
[]
[]
[]
[]
[]
[]
[]
[]
[]
[]
[]
[]
[]
[]
[]
[]
[]
[]
[]
[]
[]
[]
[]
[]
[]
[]
[]
[]
[]
[]
["Vorrunde"]
["Gruppe D"]
[]
[null,null,null,null,null,null,"Beginn:",{"$f":"Vorgaben!C4","v":"14:15:00"},null,null,null,null,"Uhr",null,null,null,null,null,null,"Spielzeit:",{"$f":"Vorgaben!C5","v":1},null,"x",{"$f":"Vorgaben!C6","v":"00:09:00"},null,null,null,null,"min",null,null,null,null,null,null,null,"Pause:",{"$f":"Vorgaben!C7","v":"00:01:00"},null,null,null,null,"min"]
[]
[]
[null,"I. Teilnehmende Mannschaften"]
[]
[null,null,null,null,null,null,null,null,null,null,null,null,null,null,"Gruppeneinteilung"]
[null,null,null,null,null,null,null,null,null,null,null,null,null,null,"1.",null,{"$f":"Vorgaben!F29","v":"Gruppe D1"}]
[null,null,null,null,null,null,null,null,null,null,null,null,null,null,"2.",null,{"$f":"Vorgaben!F30","v":"Gruppe D2"}]
[null,null,null,null,null,null,null,null,null,null,null,null,null,null,"3.",null,{"$f":"Vorgaben!F31","v":"Gruppe D3"}]
[null,null,null,null,null,null,null,null,null,null,null,null,null,null,"4.",null,{"$f":"Vorgaben!F32","v":"Gruppe D4"}]
[null,null,null,null,null,null,null,null,null,null,null,null,null,null,"5.",null,{"$f":"Vorgaben!F33","v":"Gruppe D5"}]
[null,null,null,null,null,null,null,null,null,null,null,null,null,null,"6.",null,{"$f":"Vorgaben!F34","v":"Gruppe D6"}]
[]
[null,"II. Spielplan"]
[]
[null,"Nr.",null,"Beginn",null,null,null,null,"Spielpaarung",null,null,null,null,null,null,null,null,null,null,null,null,null,null,null,null,null,null,null,null,null,null,null,null,null,null,null,null,null,null,null,null,null,null,null,null,null,null,null,"Ergebnis",null,null,null,null,null,null,null,null,"Punkte"]
[null,1,null,{"$f":"$H$5","v":"14:15:00"},null,null,null,null,{"$f":"$Q$311","v":"Gruppe D1"},null,null,null,null,null,null,null,null,null,null,null,null,null,null,null,null,null,null,"-",{"$f":"$Q$312","v":"Gruppe D2"},null,null,null,null,null,null,null,null,null,null,null,null,null,null,null,null,null,null,null,{"$f":"IF('Gruppe D1'!AW$28=\"\",\"\",'Gruppe D1'!AW$28)","v":""},null,":",{"$f":"IF('Gruppe D1'!AZ28=\"\",\"\",'Gruppe D1'!AZ28)","v":""},null,null,null,null,null,{"$f":"IF(ISBLANK(AW321),\"0\",IF(AW321>AZ321,3,IF(AW321=AZ321,1,0)))","v":1},":",{"$f":"IF(ISBLANK(AZ321),\"0\",IF(AZ321>AW321,3,IF(AZ321=AW321,1,0)))","v":1}]
[null,2,null,{"$f":"D321+$U$5*$X$5+$AL$5","v":"14:25:00"},null,null,null,null,{"$f":"$Q$313","v":"Gruppe D3"},null,null,null,null,null,null,null,null,null,null,null,null,null,null,null,null,null,null,"-",{"$f":"$Q$314","v":"Gruppe D4"},null,null,null,null,null,null,null,null,null,null,null,null,null,null,null,null,null,null,null,{"$f":"IF('Gruppe D1'!AW$29=\"\",\"\",'Gruppe D1'!AW$29:AX29)","v":""},null,":",{"$f":"IF('Gruppe D1'!AZ$29=\"\",\"\",'Gruppe D1'!AZ$29)","v":""},null,null,null,null,null,{"$f":"IF(ISBLANK(AW322),\"0\",IF(AW322>AZ322,3,IF(AW322=AZ322,1,0)))","v":1},":",{"$f":"IF(ISBLANK(AZ322),\"0\",IF(AZ322>AW322,3,IF(AZ322=AW322,1,0)))","v":1}]
[null,3,null,{"$f":"D322+$U$5*$X$5+$AL$5","v":"14:35:00"},null,null,null,null,{"$f":"$Q$315","v":"Gruppe D5"},null,null,null,null,null,null,null,null,null,null,null,null,null,null,null,null,null,null,"-",{"$f":"$Q$316","v":"Gruppe D6"},null,null,null,null,null,null,null,null,null,null,null,null,null,null,null,null,null,null,null,{"$f":"IF('Gruppe D1'!AW$30=\"\",\"\",'Gruppe D1'!AW$30:AX30)","v":""},null,":",{"$f":"IF('Gruppe D1'!AZ$30:BA30=\"\",\"\",'Gruppe D1'!AZ$30:BA30)","v":""},null,null,null,null,null,1,":",1,null,null,null,null,{"$f":"IF(BM325=\"Min. 3 Teams identisch.  HANDSORTIERUNG!\",BM325,IF(BM325=\"ACHTUNG! Direkter Vergleich war unentschieden!\",BM325,BM324))","v":"ACHTUNG! Direkter Vergleich war unentschieden!"}]
[null,4,null,"14:45:00",null,null,null,null,{"$f":"$Q$311","v":"Gruppe D1"},null,null,null,null,null,null,null,null,null,null,null,null,null,null,null,null,null,null,"-",{"$f":"$Q$313","v":"Gruppe D3"},null,null,null,null,null,null,null,null,null,null,null,null,null,null,null,null,null,null,null,{"$f":"IF('Gruppe D1'!AW$31=\"\",\"\",'Gruppe D1'!AW$31:AX31)","v":""},null,":",{"$f":"IF('Gruppe D1'!AZ$31:BA31=\"\",\"\",'Gruppe D1'!AZ$31:BA31)","v":""},null,null,null,null,null,1,":",1,null,null,null,null,{"$f":"IF(AND(EXACT(BO327,BO328),EXACT(BP327,BP328),EXACT(BS327,BS328)),\"ACHTUNG: Direkter Vergleich erfolgreich durchlaufen!\",IF(AND(EXACT(BO328,BO329),EXACT(BP328,BP329),EXACT(BS328,BS329)),\"ACHTUNG: Direkter Vergleich erfolgreich durchlaufen!\",IF(AND(EXACT(BO329,BO330),EXACT(BP329,BP330),EXACT(BS329,BS330)),\"ACHTUNG: Direkter Vergleich erfolgreich durchlaufen!\",IF(AND(EXACT(BO330,BO331),EXACT(BP330,BP331),EXACT(BS330,BS331)),\"ACHTUNG: Direkter Vergleich erfolgreich durchlaufen!\",IF(AND(EXACT(BO331,BO332),EXACT(BP331,BP332),EXACT(BS331,BS332)),\"ACHTUNG: Direkter Vergleich erfolgreich durchlaufen!\",\"\")))))","v":"ACHTUNG: Direkter Vergleich erfolgreich durchlaufen!"}]
[null,5,null,"14:55:00",null,null,null,null,{"$f":"$Q$312","v":"Gruppe D2"},null,null,null,null,null,null,null,null,null,null,null,null,null,null,null,null,null,null,"-",{"$f":"$Q$315","v":"Gruppe D5"},null,null,null,null,null,null,null,null,null,null,null,null,null,null,null,null,null,null,null,{"$f":"IF('Gruppe D1'!AW$32=\"\",\"\",'Gruppe D1'!AW$32:AX32)","v":""},null,":",{"$f":"IF('Gruppe D1'!AZ$32:BA32=\"\",\"\",'Gruppe D1'!AZ$32:BA32)","v":""},null,null,null,null,null,1,":",1,null,null,null,null,{"$f":"IF(OR(CC327=3,CC328=3,CC329=3,CC330=3,CC331=3,CC332=3),\"Min. 3 Teams identisch.  HANDSORTIERUNG!\",IF(OR(CB327=\"ACHTUNG! Direkter Vergleich war unentschieden!\",CB328=\"ACHTUNG! Direkter Vergleich war unentschieden!\",CB329=\"ACHTUNG! Direkter Vergleich war unentschieden!\",CB330=\"ACHTUNG! Direkter Vergleich war unentschieden!\",CB331=\"ACHTUNG! Direkter Vergleich war unentschieden!\",CB332=\"ACHTUNG! Direkter Vergleich war unentschieden!\"),\"ACHTUNG! Direkter Vergleich war unentschieden!\",\"\"))","v":"ACHTUNG! Direkter Vergleich war unentschieden!"}]
[null,6,null,"15:05:00",null,null,null,null,{"$f":"$Q$314","v":"Gruppe D4"},null,null,null,null,null,null,null,null,null,null,null,null,null,null,null,null,null,null,"-",{"$f":"$Q$316","v":"Gruppe D6"},null,null,null,null,null,null,null,null,null,null,null,null,null,null,null,null,null,null,null,{"$f":"IF('Gruppe D1'!AW$33=\"\",\"\",'Gruppe D1'!AW$33:AX33)","v":""},null,":",{"$f":"IF('Gruppe D1'!AZ$33:BA33=\"\",\"\",'Gruppe D1'!AZ$33:BA33)","v":""},null,null,null,null,null,1,":",1]
[null,7,null,"15:15:00",null,null,null,null,{"$f":"$Q$315","v":"Gruppe D5"},null,null,null,null,null,null,null,null,null,null,null,null,null,null,null,null,null,null,"-",{"$f":"$Q$311","v":"Gruppe D1"},null,null,null,null,null,null,null,null,null,null,null,null,null,null,null,null,null,null,null,{"$f":"IF('Gruppe D1'!AW$34=\"\",\"\",'Gruppe D1'!AW$34:AX34)","v":""},null,":",{"$f":"IF('Gruppe D1'!AZ$34:BA34=\"\",\"\",'Gruppe D1'!AZ$34:BA34)","v":""},null,null,null,null,null,1,":",1,null,null,null,{"$f":"INDEX(Vorgaben!F$29:H$36,MATCH($BM327,Vorgaben!F$29:F$36,0),3)","v":0},{"$f":"'Gruppe D1'!BM$32","v":"Gruppe D5"},{"$f":"'Gruppe D1'!BN$32","v":1},{"$f":"'Gruppe D1'!BO$32","v":3},{"$f":"'Gruppe D1'!BP$32","v":3},{"$f":"'Gruppe D1'!BQ$32","v":":"},{"$f":"'Gruppe D1'!BR$32","v":0},{"$f":"'Gruppe D1'!BS$32","v":3},{"$f":"BV327","v":0},null,{"$f":"IF(BX327>BY328,10,IF(BX327<BY328,-10,0))","v":0},null,{"$f":"IF(ISNA(INDEX(BF$321:BF$335,MATCH(BM327&BM328,I$321:I$335&AC$321:AC$335,0))),INDEX(BH$321:BH$335,MATCH(BM328&BM327,I$321:I$335&AC$321:AC$335,0)),INDEX(BF$321:BF$335,MATCH(BM327&BM328,I$321:I$335&AC$321:AC$335,0)))","v":1},null,{"$f":"IF(AND(EXACT(BO327,BO328),EXACT(BP327,BP328),EXACT(BS327,BS328),EXACT(BX327,BY328)),\"ACHTUNG! Direkter Vergleich war unentschieden!\",IF(AND(EXACT(BO327,BO328),EXACT(BP327,BP328),EXACT(BS327,BS328)),1,2))","v":2},{"$f":"IF(AND(EXACT(BO326,BO327),EXACT(BP326,BP327),EXACT(BS326,BS327),EXACT(BX327,BY326)),\"ACHTUNG! Direkter Vergleich war unentschieden!\",\"\")","v":""},{"$f":"IF(OR(BZ327=\"ACHTUNG! Direkter Vergleich war unentschieden!\",CA327=\"ACHTUNG! Direkter Vergleich war unentschieden!\"),\"ACHTUNG! Direkter Vergleich war unentschieden!\",\"\")","v":""},{"$f":"IF(OR(AND(EXACT(BO327,BO328),EXACT(BP327,BP328),EXACT(BS327,BS328),EXACT(BO327,BO329),EXACT(BP327,BP329),EXACT(BS327,BS329)),AND(EXACT(BO327,BO328),EXACT(BP327,BP328),EXACT(BS327,BS328),EXACT(BO327,BO326),EXACT(BP327,BP326),EXACT(BS327,BS326))*AND(EXACT(BO327,BO325),EXACT(BP327,BP325),EXACT(BS327,BS325),EXACT(BO327,BO326),EXACT(BP327,BP326),EXACT(BS327,BS326))),3,1)","v":1}]
[null,8,null,"15:25:00",null,null,null,null,{"$f":"$Q$312","v":"Gruppe D2"},null,null,null,null,null,null,null,null,null,null,null,null,null,null,null,null,null,null,"-",{"$f":"$Q$314","v":"Gruppe D4"},null,null,null,null,null,null,null,null,null,null,null,null,null,null,null,null,null,null,null,{"$f":"IF('Gruppe D1'!AW$35=\"\",\"\",'Gruppe D1'!AW$35:AX35)","v":""},null,":",{"$f":"IF('Gruppe D1'!AZ$35:BA35=\"\",\"\",'Gruppe D1'!AZ$35:BA35)","v":""},null,null,null,null,null,1,":",1,null,null,null,{"$f":"INDEX(Vorgaben!F$29:H$36,MATCH($BM328,Vorgaben!F$29:F$36,0),3)","v":0},{"$f":"'Gruppe D1'!$BM$29","v":"Gruppe D6"},{"$f":"'Gruppe D1'!$BN$29","v":1},{"$f":"'Gruppe D1'!$BO$29","v":1},{"$f":"'Gruppe D1'!$BP$29","v":1},{"$f":"'Gruppe D1'!$BQ$29","v":":"},{"$f":"'Gruppe D1'!$BR$29","v":1},{"$f":"'Gruppe D1'!$BS$29","v":0},{"$f":"BV328","v":0},{"$f":"BW328","v":0},{"$f":"IF(BX327<BY328,10,IF(BX327>BY328,-10,0))","v":0},{"$f":"IF(BX328>BY329,10,IF(BX328<BY329,-10,0))","v":0},{"$f":"IF(ISNA(INDEX(BF$321:BF$335,MATCH(BM328&BM329,I$321:I$335&AC$321:AC$335,0))),INDEX(BH$321:BH$335,MATCH(BM329&BM328,I$321:I$335&AC$321:AC$335,0)),INDEX(BF$321:BF$335,MATCH(BM328&BM329,I$321:I$335&AC$321:AC$335,0)))","v":1},{"$f":"IF(ISNA(INDEX(BF$321:BF$335,MATCH(BM328&BM327,I$321:I$335&AC$321:AC$335,0))),INDEX(BH$321:BH$335,MATCH(BM327&BM328,I$321:I$335&AC$321:AC$335,0)),INDEX(BF$321:BF$335,MATCH(BM328&BM327,I$321:I$335&AC$321:AC$335,0)))","v":1},{"$f":"IF(AND(EXACT(BO328,BO329),EXACT(BP328,BP329),EXACT(BS328,BS329),EXACT(BX328,BY329)),\"ACHTUNG! Direkter Vergleich war unentschieden!\",IF(AND(EXACT(BO328,BO329),EXACT(BP328,BP329),EXACT(BS328,BS329)),1,2))","v":"ACHTUNG! Direkter Vergleich war unentschieden!"},{"$f":"IF(AND(EXACT(BO327,BO328),EXACT(BP327,BP328),EXACT(BS327,BS328),EXACT(BY328,BX327)),\"ACHTUNG! Direkter Vergleich war unentschieden!\",IF(AND(EXACT(BO327,BO328),EXACT(BP327,BP328),EXACT(BS327,BS328)),1,2))","v":2},"ACHTUNG! Direkter Vergleich war unentschieden!",1]
[null,9,null,"15:35:00",null,null,null,null,{"$f":"$Q$316","v":"Gruppe D6"},null,null,null,null,null,null,null,null,null,null,null,null,null,null,null,null,null,null,"-",{"$f":"$Q$313","v":"Gruppe D3"},null,null,null,null,null,null,null,null,null,null,null,null,null,null,null,null,null,null,null,{"$f":"IF('Gruppe D1'!AW$36=\"\",\"\",'Gruppe D1'!AW$36:AX36)","v":""},null,":",{"$f":"IF('Gruppe D1'!AZ$36:BA36=\"\",\"\",'Gruppe D1'!AZ$36:BA36)","v":""},null,null,null,null,null,1,":",1,null,null,null,{"$f":"INDEX(Vorgaben!F$29:H$36,MATCH($BM329,Vorgaben!F$29:F$36,0),3)","v":0},{"$f":"'Gruppe D1'!$BM$30","v":"Gruppe D2"},{"$f":"'Gruppe D1'!$BN$30","v":1},{"$f":"'Gruppe D1'!$BO$30","v":1},{"$f":"'Gruppe D1'!$BP$30","v":1},{"$f":"'Gruppe D1'!$BQ$30","v":":"},{"$f":"'Gruppe D1'!$BR$30","v":1},{"$f":"'Gruppe D1'!$BS$30","v":0},{"$f":"BV329","v":0},0,{"$f":"IF(BX328<BY329,10,IF(BX328>BY329,-10,0))","v":0},{"$f":"IF(BX329>BY330,10,IF(BX329<BY330,-10,0))","v":0},{"$f":"IF(ISNA(INDEX(BF$321:BF$335,MATCH(BM329&BM330,I$321:I$335&AC$321:AC$335,0))),INDEX(BH$321:BH$335,MATCH(BM330&BM329,I$321:I$335&AC$321:AC$335,0)),INDEX(BF$321:BF$335,MATCH(BM329&BM330,I$321:I$335&AC$321:AC$335,0)))","v":1},{"$f":"IF(ISNA(INDEX(BF$321:BF$335,MATCH(BM329&BM328,I$321:I$335&AC$321:AC$335,0))),INDEX(BH$321:BH$335,MATCH(BM328&BM329,I$321:I$335&AC$321:AC$335,0)),INDEX(BF$321:BF$335,MATCH(BM329&BM328,I$321:I$335&AC$321:AC$335,0)))","v":1},{"$f":"IF(AND(EXACT(BO329,BO330),EXACT(BP329,BP330),EXACT(BS329,BS330),EXACT(BX329,BY330)),\"ACHTUNG! Direkter Vergleich war unentschieden!\",IF(AND(EXACT(BO329,BO330),EXACT(BP329,BP330),EXACT(BS329,BS330)),1,2))","v":2},{"$f":"IF(AND(EXACT(BO328,BO329),EXACT(BP328,BP329),EXACT(BS328,BS329),EXACT(BY329,BX328)),\"ACHTUNG! Direkter Vergleich war unentschieden!\",IF(AND(EXACT(BO328,BO329),EXACT(BP328,BP329),EXACT(BS328,BS329)),1,2))","v":"ACHTUNG! Direkter Vergleich war unentschieden!"},"ACHTUNG! Direkter Vergleich war unentschieden!",{"$f":"IF(OR(AND(EXACT(BO329,BO330),EXACT(BP329,BP330),EXACT(BS329,BS330),EXACT(BO329,BO331),EXACT(BP329,BP331),EXACT(BS329,BS331)),AND(EXACT(BO329,BO330),EXACT(BP329,BP330),EXACT(BS329,BS330),EXACT(BO329,BO328),EXACT(BP329,BP328),EXACT(BS329,BS328))*AND(EXACT(BO329,BO327),EXACT(BP329,BP327),EXACT(BS329,BS327),EXACT(BO329,BO328),EXACT(BP329,BP328),EXACT(BS329,BS328))),3,1)","v":1}]
[null,10,null,"15:45:00",null,null,null,null,{"$f":"$Q$311","v":"Gruppe D1"},null,null,null,null,null,null,null,null,null,null,null,null,null,null,null,null,null,null,"-",{"$f":"$Q$314","v":"Gruppe D4"},null,null,null,null,null,null,null,null,null,null,null,null,null,null,null,null,null,null,null,{"$f":"IF('Gruppe D1'!AW$37=\"\",\"\",'Gruppe D1'!AW$37:AX37)","v":""},null,":",{"$f":"IF('Gruppe D1'!AZ$37:BA37=\"\",\"\",'Gruppe D1'!AZ$37:BA37)","v":""},null,null,null,null,null,1,":",1,null,null,null,{"$f":"INDEX(Vorgaben!F$29:H$36,MATCH($BM330,Vorgaben!F$29:F$36,0),3)","v":0},{"$f":"'Gruppe D1'!$BM$27","v":"Gruppe D1"},{"$f":"'Gruppe D1'!$BN$27","v":0},{"$f":"'Gruppe D1'!$BO$27","v":0},{"$f":"'Gruppe D1'!$BP$27","v":0},{"$f":"'Gruppe D1'!$BQ$27","v":":"},{"$f":"'Gruppe D1'!$BR$27","v":0},{"$f":"'Gruppe D1'!$BS$27","v":0},0,0,{"$f":"IF(BX329<BY330,10,IF(BX329>BY330,-10,0))","v":0},{"$f":"IF(BX329<BY330,10,IF(BX329>BY330,-10,0))","v":0},{"$f":"IF(ISNA(INDEX(BF$321:BF$335,MATCH(BM330&BM331,I$321:I$335&AC$321:AC$335,0))),INDEX(BH$321:BH$335,MATCH(BM331&BM330,I$321:I$335&AC$321:AC$335,0)),INDEX(BF$321:BF$335,MATCH(BM330&BM331,I$321:I$335&AC$321:AC$335,0)))","v":1},{"$f":"IF(ISNA(INDEX(BF$321:BF$335,MATCH(BM330&BM329,I$321:I$335&AC$321:AC$335,0))),INDEX(BH$321:BH$335,MATCH(BM329&BM330,I$321:I$335&AC$321:AC$335,0)),INDEX(BF$321:BF$335,MATCH(BM330&BM329,I$321:I$335&AC$321:AC$335,0)))","v":1},{"$f":"IF(AND(EXACT(BO330,BO331),EXACT(BP330,BP331),EXACT(BS330,BS331),EXACT(BX330,BY331)),\"ACHTUNG! Direkter Vergleich war unentschieden!\",IF(AND(EXACT(BO330,BO331),EXACT(BP330,BP331),EXACT(BS330,BS331)),1,2))","v":"ACHTUNG! Direkter Vergleich war unentschieden!"},{"$f":"IF(AND(EXACT(BO329,BO330),EXACT(BP329,BP330),EXACT(BS329,BS330),EXACT(BY330,BX329)),\"ACHTUNG! Direkter Vergleich war unentschieden!\",IF(AND(EXACT(BO329,BO330),EXACT(BP329,BP330),EXACT(BS329,BS330)),1,2))","v":2},"ACHTUNG! Direkter Vergleich war unentschieden!",{"$f":"IF(OR(AND(EXACT(BO330,BO331),EXACT(BP330,BP331),EXACT(BS330,BS331),EXACT(BO330,BO332),EXACT(BP330,BP332),EXACT(BS330,BS332)),AND(EXACT(BO330,BO331),EXACT(BP330,BP331),EXACT(BS330,BS331),EXACT(BO330,BO329),EXACT(BP330,BP329),EXACT(BS330,BS329))*AND(EXACT(BO330,BO328),EXACT(BP330,BP328),EXACT(BS330,BS328),EXACT(BO330,BO329),EXACT(BP330,BP329),EXACT(BS330,BS329))),3,1)","v":1}]
[null,11,null,"15:55:00",null,null,null,null,{"$f":"$Q$316","v":"Gruppe D6"},null,null,null,null,null,null,null,null,null,null,null,null,null,null,null,null,null,null,"-",{"$f":"$Q$312","v":"Gruppe D2"},null,null,null,null,null,null,null,null,null,null,null,null,null,null,null,null,null,null,null,{"$f":"IF('Gruppe D1'!AW$38=\"\",\"\",'Gruppe D1'!AW$38:AX38)","v":1},null,":",{"$f":"IF('Gruppe D1'!AZ$38:BA38=\"\",\"\",'Gruppe D1'!AZ$38:BA38)","v":1},null,null,null,null,null,1,":",1,null,null,null,{"$f":"INDEX(Vorgaben!F$29:H$36,MATCH($BM331,Vorgaben!F$29:F$36,0),3)","v":0},{"$f":"'Gruppe D1'!$BM$28","v":"Gruppe D4"},{"$f":"'Gruppe D1'!$BN$28","v":0},{"$f":"'Gruppe D1'!$BO$28","v":0},{"$f":"'Gruppe D1'!$BP$28","v":0},{"$f":"'Gruppe D1'!$BQ$28","v":":"},{"$f":"'Gruppe D1'!$BR$28","v":0},{"$f":"'Gruppe D1'!$BS$28","v":0},{"$f":"BV331","v":0},{"$f":"BW331","v":0},{"$f":"IF(BX330<BY331,10,IF(BX330>BY331,-10,0))","v":0},{"$f":"IF(BX330<BY331,10,IF(BX330>BY331,-10,0))","v":0},{"$f":"IF(ISNA(INDEX(BF$321:BF$335,MATCH(BM331&BM332,I$321:I$335&AC$321:AC$335,0))),INDEX(BH$321:BH$335,MATCH(BM332&BM331,I$321:I$335&AC$321:AC$335,0)),INDEX(BF$321:BF$335,MATCH(BM331&BM332,I$321:I$335&AC$321:AC$335,0)))","v":1},{"$f":"IF(ISNA(INDEX(BF$321:BF$335,MATCH(BM331&BM330,I$321:I$335&AC$321:AC$335,0))),INDEX(BH$321:BH$335,MATCH(BM330&BM331,I$321:I$335&AC$321:AC$335,0)),INDEX(BF$321:BF$335,MATCH(BM331&BM330,I$321:I$335&AC$321:AC$335,0)))","v":1},{"$f":"IF(AND(EXACT(BO331,BO332),EXACT(BP331,BP332),EXACT(BS331,BS332),EXACT(BX331,BY332)),\"ACHTUNG! Direkter Vergleich war unentschieden!\",IF(AND(EXACT(BO331,BO332),EXACT(BP331,BP332),EXACT(BS331,BS332)),1,2))","v":2},{"$f":"IF(AND(EXACT(BO330,BO331),EXACT(BP330,BP331),EXACT(BS330,BS331),EXACT(BY331,BX330)),\"ACHTUNG! Direkter Vergleich war unentschieden!\",IF(AND(EXACT(BO330,BO331),EXACT(BP330,BP331),EXACT(BS330,BS331)),1,2))","v":"ACHTUNG! Direkter Vergleich war unentschieden!"},"ACHTUNG! Direkter Vergleich war unentschieden!",1]
[null,12,null,"16:05:00",null,null,null,null,{"$f":"$Q$313","v":"Gruppe D3"},null,null,null,null,null,null,null,null,null,null,null,null,null,null,null,null,null,null,"-",{"$f":"$Q$315","v":"Gruppe D5"},null,null,null,null,null,null,null,null,null,null,null,null,null,null,null,null,null,null,null,{"$f":"IF('Gruppe D1'!AW$39=\"\",\"\",'Gruppe D1'!AW$39:AX39)","v":0},null,":",{"$f":"IF('Gruppe D1'!AZ$39:BA39=\"\",\"\",'Gruppe D1'!AZ$39:BA39)","v":3},null,null,null,null,null,0,":",3,null,null,null,{"$f":"INDEX(Vorgaben!F$29:H$36,MATCH($BM332,Vorgaben!F$29:F$36,0),3)","v":0},{"$f":"'Gruppe D1'!$BM$31","v":"Gruppe D3"},{"$f":"'Gruppe D1'!$BN$31","v":1},{"$f":"'Gruppe D1'!BO31","v":0},{"$f":"'Gruppe D1'!$BP$31","v":0},{"$f":"'Gruppe D1'!$BQ$31","v":":"},{"$f":"'Gruppe D1'!$BR$31","v":3},{"$f":"'Gruppe D1'!$BS$31","v":-3},0,0,0,0,null,{"$f":"IF(ISNA(INDEX(BF$321:BF$335,MATCH(BM332&BM331,I$321:I$335&AC$321:AC$335,0))),INDEX(BH$321:BH$335,MATCH(BM331&BM332,I$321:I$335&AC$321:AC$335,0)),INDEX(BF$321:BF$335,MATCH(BM332&BM331,I$321:I$335&AC$321:AC$335,0)))","v":1},null,2,null,1]
[null,13,null,"16:15:00",null,null,null,null,{"$f":"$Q$316","v":"Gruppe D6"},null,null,null,null,null,null,null,null,null,null,null,null,null,null,null,null,null,null,"-",{"$f":"$Q$311","v":"Gruppe D1"},null,null,null,null,null,null,null,null,null,null,null,null,null,null,null,null,null,null,null,{"$f":"IF('Gruppe D1'!AW$40=\"\",\"\",'Gruppe D1'!AW$40:AX40)","v":""},null,":",{"$f":"IF('Gruppe D1'!AZ$40:BA40=\"\",\"\",'Gruppe D1'!AZ$40:BA40)","v":""},null,null,null,null,null,1,":",1]
[null,14,null,"16:25:00",null,null,null,null,{"$f":"$Q$312","v":"Gruppe D2"},null,null,null,null,null,null,null,null,null,null,null,null,null,null,null,null,null,null,"-",{"$f":"$Q$313","v":"Gruppe D3"},null,null,null,null,null,null,null,null,null,null,null,null,null,null,null,null,null,null,null,{"$f":"IF('Gruppe D1'!AW$41=\"\",\"\",'Gruppe D1'!AW$41:AX41)","v":""},null,":",{"$f":"IF('Gruppe D1'!AZ$41:BA41=\"\",\"\",'Gruppe D1'!AZ$41:BA41)","v":""},null,null,null,null,null,1,":",1]
[null,15,null,"16:35:00",null,null,null,null,{"$f":"$Q$314","v":"Gruppe D4"},null,null,null,null,null,null,null,null,null,null,null,null,null,null,null,null,null,null,"-",{"$f":"$Q$315","v":"Gruppe D5"},null,null,null,null,null,null,null,null,null,null,null,null,null,null,null,null,null,null,null,{"$f":"IF('Gruppe D1'!AW$42=\"\",\"\",'Gruppe D1'!AW$42:AX42)","v":""},null,":",{"$f":"IF('Gruppe D1'!AZ$42:BA42=\"\",\"\",'Gruppe D1'!AZ$42:BA42)","v":""},null,null,null,null,null,1,":",1]
[]
[null,null,"III. Abschlußtabelle"]
[]
[null,null,null,null,null,null,null,null,"Abschlußtabelle",null,null,null,null,null,null,null,null,null,null,null,null,null,null,null,null,null,null,null,null,null,null,null,null,null,"Sp.",null,null,"Pkt.",null,null,"Tore",null,null,null,null,"Diff."]
[null,null,null,null,null,null,null,null,"1.",null,{"$f":"$BM$327","v":"Gruppe D5"},null,null,null,null,null,null,null,null,null,null,null,null,null,null,null,null,null,null,null,null,null,null,null,{"$f":"$BN$327","v":1},null,null,{"$f":"$BO$327","v":3},null,null,{"$f":"$BP$327","v":3},null,":",{"$f":"$BR$327","v":0},null,{"$f":"$BS$327","v":3}]
[null,null,null,null,null,null,null,null,"2.",null,{"$f":"$BM$328","v":"Gruppe D6"},null,null,null,null,null,null,null,null,null,null,null,null,null,null,null,null,null,null,null,null,null,null,null,{"$f":"$BN$328","v":1},null,null,{"$f":"$BO$328","v":1},null,null,{"$f":"$BP$328","v":1},null,":",{"$f":"$BR$428","v":5},null,{"$f":"$BS$428","v":0}]
[null,null,null,null,null,null,null,null,"3.",null,{"$f":"$BM$329","v":"Gruppe D2"},null,null,null,null,null,null,null,null,null,null,null,null,null,null,null,null,null,null,null,null,null,null,null,{"$f":"$BN$329","v":1},null,null,{"$f":"$BO$329","v":1},null,null,{"$f":"$BP$329","v":1},null,":",{"$f":"$BR$429","v":5},null,{"$f":"$BS$429","v":0}]
[null,null,null,null,null,null,null,null,"4.",null,{"$f":"$BM$330","v":"Gruppe D1"},null,null,null,null,null,null,null,null,null,null,null,null,null,null,null,null,null,null,null,null,null,null,null,{"$f":"$BN$330","v":0},null,null,{"$f":"$BO$330","v":0},null,null,{"$f":"$BP$330","v":0},null,":",{"$f":"$BR$430","v":5},null,{"$f":"$BS$430","v":0}]
[null,null,null,null,null,null,null,null,"5.",null,{"$f":"$BM$331","v":"Gruppe D4"},null,null,null,null,null,null,null,null,null,null,null,null,null,null,null,null,null,null,null,null,null,null,null,{"$f":"$BN$331","v":0},null,null,{"$f":"$BO$331","v":0},null,null,{"$f":"$BP$331","v":0},null,":",{"$f":"$BR$431","v":6},null,{"$f":"$BS$431","v":-1}]
[null,null,null,null,null,null,null,null,"6.",null,{"$f":"$BM$332","v":"Gruppe D3"},null,null,null,null,null,null,null,null,null,null,null,null,null,null,null,null,null,null,null,null,null,null,null,{"$f":"$BN$332","v":1},null,null,{"$f":"$BO$332","v":0},null,null,{"$f":"$BP$332","v":0},null,":",{"$f":"$BR$432","v":5},null,{"$f":"$BS$432","v":0}]
[]
[]
[]
[]
[]
[]
[]
[]
[]
[]
[]
[]
[]
[]
[]
[]
[]
[]
[]
[]
[]
[]
[]
[]
[]
[]
[]
[]
[]
[]
[]
[]
[]
[]
[]
[]
[]
[]
[]
[]
[]
[]
[]
[]
[]
[]
[]
[]
[]
[]
[]
[]
[]
[]
[]
[]
["Vorrunde"]
["Gruppe E"]
[]
[null,null,null,null,null,null,"Beginn:",{"$f":"Vorgaben!C4","v":"14:15:00"},null,null,null,null,"Uhr",null,null,null,null,null,null,"Spielzeit:",{"$f":"Vorgaben!C5","v":1},null,"x",{"$f":"Vorgaben!C6","v":"00:09:00"},null,null,null,null,"min",null,null,null,null,null,null,null,"Pause:",{"$f":"Vorgaben!C7","v":"00:01:00"},null,null,null,null,"min"]
[]
[]
[null,"I. Teilnehmende Mannschaften"]
[]
[null,null,null,null,null,null,null,null,null,null,null,null,null,null,"Gruppeneinteilung"]
[null,null,null,null,null,null,null,null,null,null,null,null,null,null,"1.",null,{"$f":"Vorgaben!B39","v":"Gruppe E1"}]
[null,null,null,null,null,null,null,null,null,null,null,null,null,null,"2.",null,{"$f":"Vorgaben!B40","v":"Gruppe E2"}]
[null,null,null,null,null,null,null,null,null,null,null,null,null,null,"3.",null,{"$f":"Vorgaben!B41","v":"Gruppe E3"}]
[null,null,null,null,null,null,null,null,null,null,null,null,null,null,"4.",null,{"$f":"Vorgaben!B42","v":"Gruppe E4"}]
[null,null,null,null,null,null,null,null,null,null,null,null,null,null,"5.",null,{"$f":"Vorgaben!B43","v":"Gruppe E5"}]
[null,null,null,null,null,null,null,null,null,null,null,null,null,null,"6.",null,{"$f":"Vorgaben!B44","v":"Gruppe E6"}]
[]
[null,"II. Spielplan"]
[]
[null,"Nr.",null,"Beginn",null,null,null,null,"Spielpaarung",null,null,null,null,null,null,null,null,null,null,null,null,null,null,null,null,null,null,null,null,null,null,null,null,null,null,null,null,null,null,null,null,null,null,null,null,null,null,null,"Ergebnis",null,null,null,null,null,null,null,null,"Punkte"]
[null,1,null,{"$f":"$H$5","v":"14:15:00"},null,null,null,null,{"$f":"$Q$411","v":"Gruppe E1"},null,null,null,null,null,null,null,null,null,null,null,null,null,null,null,null,null,null,"-",{"$f":"$Q$412","v":"Gruppe E2"},null,null,null,null,null,null,null,null,null,null,null,null,null,null,null,null,null,null,null,{"$f":"IF(ISBLANK('Gruppe E1'!AW28),\"\",'Gruppe E1'!AW28)","v":1},null,":",{"$f":"IF(ISBLANK('Gruppe E1'!AZ28),\"\",'Gruppe E1'!AZ28)","v":1},null,null,null,null,null,{"$f":"IF(ISBLANK(AW421),\"0\",IF(AW421>AZ421,3,IF(AW421=AZ421,1,0)))","v":1},":",{"$f":"IF(ISBLANK(AZ421),\"0\",IF(AZ421>AW421,3,IF(AZ421=AW421,1,0)))","v":1}]
[null,2,null,{"$f":"D421+$U$5*$X$5+$AL$5","v":"14:25:00"},null,null,null,null,{"$f":"$Q$413","v":"Gruppe E3"},null,null,null,null,null,null,null,null,null,null,null,null,null,null,null,null,null,null,"-",{"$f":"$Q$414","v":"Gruppe E4"},null,null,null,null,null,null,null,null,null,null,null,null,null,null,null,null,null,null,null,{"$f":"IF(ISBLANK('Gruppe E1'!AW29),\"\",'Gruppe E1'!AW29)","v":1},null,":",{"$f":"IF(ISBLANK('Gruppe E1'!AZ29),\"\",'Gruppe E1'!AZ29)","v":1},null,null,null,null,null,{"$f":"IF(ISBLANK(AW422),\"0\",IF(AW422>AZ422,3,IF(AW422=AZ422,1,0)))","v":1},":",{"$f":"IF(ISBLANK(AZ422),\"0\",IF(AZ422>AW422,3,IF(AZ422=AW422,1,0)))","v":1}]
[null,3,null,{"$f":"D422+$U$5*$X$5+$AL$5","v":"14:35:00"},null,null,null,null,{"$f":"$Q$415","v":"Gruppe E5"},null,null,null,null,null,null,null,null,null,null,null,null,null,null,null,null,null,null,"-",{"$f":"$Q$416","v":"Gruppe E6"},null,null,null,null,null,null,null,null,null,null,null,null,null,null,null,null,null,null,null,{"$f":"IF(ISBLANK('Gruppe E1'!AW30),\"\",'Gruppe E1'!AW30)","v":1},null,":",{"$f":"IF(ISBLANK('Gruppe E1'!AZ30),\"\",'Gruppe E1'!AZ30)","v":1},null,null,null,null,null,1,":",1,null,null,null,null,{"$f":"IF(BM425=\"Min. 3 Teams identisch.  HANDSORTIERUNG!\",BM425,IF(BM425=\"ACHTUNG! Direkter Vergleich war unentschieden!\",BM425,BM424))","v":"Min. 3 Teams identisch.  HANDSORTIERUNG!"}]
[null,4,null,"14:45:00",null,null,null,null,{"$f":"$Q$411","v":"Gruppe E1"},null,null,null,null,null,null,null,null,null,null,null,null,null,null,null,null,null,null,"-",{"$f":"$Q$413","v":"Gruppe E3"},null,null,null,null,null,null,null,null,null,null,null,null,null,null,null,null,null,null,null,{"$f":"IF(ISBLANK('Gruppe E1'!AW31),\"\",'Gruppe E1'!AW31)","v":1},null,":",{"$f":"IF(ISBLANK('Gruppe E1'!AZ31),\"\",'Gruppe E1'!AZ31)","v":1},null,null,null,null,null,1,":",1,null,null,null,null,{"$f":"IF(AND(EXACT(BO427,BO428),EXACT(BP427,BP428),EXACT(BS427,BS428)),\"ACHTUNG: Direkter Vergleich erfolgreich durchlaufen!\",IF(AND(EXACT(BO428,BO429),EXACT(BP428,BP429),EXACT(BS428,BS429)),\"ACHTUNG: Direkter Vergleich erfolgreich durchlaufen!\",IF(AND(EXACT(BO429,BO430),EXACT(BP429,BP430),EXACT(BS429,BS430)),\"ACHTUNG: Direkter Vergleich erfolgreich durchlaufen!\",IF(AND(EXACT(BO430,BO431),EXACT(BP430,BP431),EXACT(BS430,BS431)),\"ACHTUNG: Direkter Vergleich erfolgreich durchlaufen!\",IF(AND(EXACT(BO431,BO432),EXACT(BP431,BP432),EXACT(BS431,BS432)),\"ACHTUNG: Direkter Vergleich erfolgreich durchlaufen!\",\"\")))))","v":"ACHTUNG: Direkter Vergleich erfolgreich durchlaufen!"}]
[null,5,null,"14:55:00",null,null,null,null,{"$f":"$Q$412","v":"Gruppe E2"},null,null,null,null,null,null,null,null,null,null,null,null,null,null,null,null,null,null,"-",{"$f":"$Q$415","v":"Gruppe E5"},null,null,null,null,null,null,null,null,null,null,null,null,null,null,null,null,null,null,null,{"$f":"IF(ISBLANK('Gruppe E1'!AW32),\"\",'Gruppe E1'!AW32)","v":1},null,":",{"$f":"IF(ISBLANK('Gruppe E1'!AZ32),\"\",'Gruppe E1'!AZ32)","v":2},null,null,null,null,null,0,":",3,null,null,null,null,{"$f":"IF(OR(CC427=3,CC428=3,CC429=3,CC430=3,CC431=3,CC432=3),\"Min. 3 Teams identisch.  HANDSORTIERUNG!\",IF(OR(CB427=\"ACHTUNG! Direkter Vergleich war unentschieden!\",CB428=\"ACHTUNG! Direkter Vergleich war unentschieden!\",CB429=\"ACHTUNG! Direkter Vergleich war unentschieden!\",CB430=\"ACHTUNG! Direkter Vergleich war unentschieden!\",CB431=\"ACHTUNG! Direkter Vergleich war unentschieden!\",CB432=\"ACHTUNG! Direkter Vergleich war unentschieden!\"),\"ACHTUNG! Direkter Vergleich war unentschieden!\",\"\"))","v":"Min. 3 Teams identisch.  HANDSORTIERUNG!"}]
[null,6,null,"15:05:00",null,null,null,null,{"$f":"$Q$414","v":"Gruppe E4"},null,null,null,null,null,null,null,null,null,null,null,null,null,null,null,null,null,null,"-",{"$f":"$Q$416","v":"Gruppe E6"},null,null,null,null,null,null,null,null,null,null,null,null,null,null,null,null,null,null,null,{"$f":"IF(ISBLANK('Gruppe E1'!AW33),\"\",'Gruppe E1'!AW33)","v":1},null,":",{"$f":"IF(ISBLANK('Gruppe E1'!AZ33),\"\",'Gruppe E1'!AZ33)","v":1},null,null,null,null,null,1,":",1]
[null,7,null,"15:15:00",null,null,null,null,{"$f":"$Q$415","v":"Gruppe E5"},null,null,null,null,null,null,null,null,null,null,null,null,null,null,null,null,null,null,"-",{"$f":"$Q$411","v":"Gruppe E1"},null,null,null,null,null,null,null,null,null,null,null,null,null,null,null,null,null,null,null,{"$f":"IF(ISBLANK('Gruppe E1'!AW34),\"\",'Gruppe E1'!AW34)","v":1},null,":",{"$f":"IF(ISBLANK('Gruppe E1'!AZ34),\"\",'Gruppe E1'!AZ34)","v":1},null,null,null,null,null,1,":",1,null,null,null,{"$f":"INDEX(Vorgaben!B$39:D$46,MATCH($BM427,Vorgaben!B$39:B$46,0),3)","v":0},{"$f":"'Gruppe E1'!BM$32","v":"Gruppe E5"},{"$f":"'Gruppe E1'!BN$32","v":5},{"$f":"'Gruppe E1'!BO$32","v":7},{"$f":"'Gruppe E1'!BP$32","v":6},{"$f":"'Gruppe E1'!BQ$32","v":":"},{"$f":"'Gruppe E1'!BR$32","v":5},{"$f":"'Gruppe E1'!BS$32","v":1},{"$f":"BV427","v":0},null,{"$f":"IF(BX427>BY428,10,IF(BX427<BY428,-10,0))","v":0},null,{"$f":"IF(ISNA(INDEX(BF$421:BF$435,MATCH(BM427&BM428,I$421:I$435&AC$421:AC$435,0))),INDEX(BH$421:BH$435,MATCH(BM428&BM427,I$421:I$435&AC$421:AC$435,0)),INDEX(BF$421:BF$435,MATCH(BM427&BM428,I$421:I$435&AC$421:AC$435,0)))","v":1},null,{"$f":"IF(AND(EXACT(BO427,BO428),EXACT(BP427,BP428),EXACT(BS427,BS428),EXACT(BX427,BY428)),\"ACHTUNG! Direkter Vergleich war unentschieden!\",IF(AND(EXACT(BO427,BO428),EXACT(BP427,BP428),EXACT(BS427,BS428)),1,2))","v":2},{"$f":"IF(AND(EXACT(BO426,BO427),EXACT(BP426,BP427),EXACT(BS426,BS427),EXACT(BX427,BY426)),\"ACHTUNG! Direkter Vergleich war unentschieden!\",\"\")","v":""},{"$f":"IF(OR(BZ427=\"ACHTUNG! Direkter Vergleich war unentschieden!\",CA427=\"ACHTUNG! Direkter Vergleich war unentschieden!\"),\"ACHTUNG! Direkter Vergleich war unentschieden!\",\"\")","v":""},{"$f":"IF(OR(AND(EXACT(BO427,BO428),EXACT(BP427,BP428),EXACT(BS427,BS428),EXACT(BO427,BO429),EXACT(BP427,BP429),EXACT(BS427,BS429)),AND(EXACT(BO427,BO428),EXACT(BP427,BP428),EXACT(BS427,BS428),EXACT(BO427,BO426),EXACT(BP427,BP426),EXACT(BS427,BS426))*AND(EXACT(BO427,BO425),EXACT(BP427,BP425),EXACT(BS427,BS425),EXACT(BO427,BO426),EXACT(BP427,BP426),EXACT(BS427,BS426))),3,1)","v":1}]
[null,8,null,"15:25:00",null,null,null,null,{"$f":"$Q$412","v":"Gruppe E2"},null,null,null,null,null,null,null,null,null,null,null,null,null,null,null,null,null,null,"-",{"$f":"$Q$414","v":"Gruppe E4"},null,null,null,null,null,null,null,null,null,null,null,null,null,null,null,null,null,null,null,{"$f":"IF(ISBLANK('Gruppe E1'!AW35),\"\",'Gruppe E1'!AW35)","v":1},null,":",{"$f":"IF(ISBLANK('Gruppe E1'!AZ35),\"\",'Gruppe E1'!AZ35)","v":1},null,null,null,null,null,1,":",1,null,null,null,{"$f":"INDEX(Vorgaben!B$39:D$46,MATCH($BM428,Vorgaben!B$39:B$46,0),3)","v":0},{"$f":"'Gruppe E1'!$BM$27","v":"Gruppe E1"},{"$f":"'Gruppe E1'!$BN$27","v":5},{"$f":"'Gruppe E1'!$BO$27","v":5},{"$f":"'Gruppe E1'!$BP$27","v":5},{"$f":"'Gruppe E1'!$BQ$27","v":":"},{"$f":"'Gruppe E1'!$BR$27","v":5},{"$f":"'Gruppe E1'!$BS$27","v":0},{"$f":"BV428","v":0},{"$f":"BW428","v":0},{"$f":"IF(BX427<BY428,10,IF(BX427>BY428,-10,0))","v":0},{"$f":"IF(BX428>BY429,10,IF(BX428<BY429,-10,0))","v":0},{"$f":"IF(ISNA(INDEX(BF$421:BF$435,MATCH(BM428&BM429,I$421:I$435&AC$421:AC$435,0))),INDEX(BH$421:BH$435,MATCH(BM429&BM428,I$421:I$435&AC$421:AC$435,0)),INDEX(BF$421:BF$435,MATCH(BM428&BM429,I$421:I$435&AC$421:AC$435,0)))","v":1},{"$f":"IF(ISNA(INDEX(BF$421:BF$435,MATCH(BM428&BM427,I$421:I$435&AC$421:AC$435,0))),INDEX(BH$421:BH$435,MATCH(BM427&BM428,I$421:I$435&AC$421:AC$435,0)),INDEX(BF$421:BF$435,MATCH(BM428&BM427,I$421:I$435&AC$421:AC$435,0)))","v":1},{"$f":"IF(AND(EXACT(BO428,BO429),EXACT(BP428,BP429),EXACT(BS428,BS429),EXACT(BX428,BY429)),\"ACHTUNG! Direkter Vergleich war unentschieden!\",IF(AND(EXACT(BO428,BO429),EXACT(BP428,BP429),EXACT(BS428,BS429)),1,2))","v":"ACHTUNG! Direkter Vergleich war unentschieden!"},{"$f":"IF(AND(EXACT(BO427,BO428),EXACT(BP427,BP428),EXACT(BS427,BS428),EXACT(BY428,BX427)),\"ACHTUNG! Direkter Vergleich war unentschieden!\",IF(AND(EXACT(BO427,BO428),EXACT(BP427,BP428),EXACT(BS427,BS428)),1,2))","v":2},"ACHTUNG! Direkter Vergleich war unentschieden!",3]
[null,9,null,"15:35:00",null,null,null,null,{"$f":"$Q$416","v":"Gruppe E6"},null,null,null,null,null,null,null,null,null,null,null,null,null,null,null,null,null,null,"-",{"$f":"$Q$413","v":"Gruppe E3"},null,null,null,null,null,null,null,null,null,null,null,null,null,null,null,null,null,null,null,{"$f":"IF(ISBLANK('Gruppe E1'!AW36),\"\",'Gruppe E1'!AW36)","v":1},null,":",{"$f":"IF(ISBLANK('Gruppe E1'!AZ36),\"\",'Gruppe E1'!AZ36)","v":1},null,null,null,null,null,1,":",1,null,null,null,{"$f":"INDEX(Vorgaben!B$39:D$46,MATCH($BM429,Vorgaben!B$39:B$46,0),3)","v":0},{"$f":"'Gruppe E1'!$BM$28","v":"Gruppe E4"},{"$f":"'Gruppe E1'!$BN$28","v":5},{"$f":"'Gruppe E1'!$BO$28","v":5},{"$f":"'Gruppe E1'!$BP$28","v":5},{"$f":"'Gruppe E1'!$BQ$28","v":":"},{"$f":"'Gruppe E1'!$BR$28","v":5},{"$f":"'Gruppe E1'!$BS$28","v":0},{"$f":"BV429","v":0},0,{"$f":"IF(BX428<BY429,10,IF(BX428>BY429,-10,0))","v":0},{"$f":"IF(BX429>BY430,10,IF(BX429<BY430,-10,0))","v":0},{"$f":"IF(ISNA(INDEX(BF$421:BF$435,MATCH(BM429&BM430,I$421:I$435&AC$421:AC$435,0))),INDEX(BH$421:BH$435,MATCH(BM430&BM429,I$421:I$435&AC$421:AC$435,0)),INDEX(BF$421:BF$435,MATCH(BM429&BM430,I$421:I$435&AC$421:AC$435,0)))","v":1},{"$f":"IF(ISNA(INDEX(BF$421:BF$435,MATCH(BM429&BM428,I$421:I$435&AC$421:AC$435,0))),INDEX(BH$421:BH$435,MATCH(BM428&BM429,I$421:I$435&AC$421:AC$435,0)),INDEX(BF$421:BF$435,MATCH(BM429&BM428,I$421:I$435&AC$421:AC$435,0)))","v":1},{"$f":"IF(AND(EXACT(BO429,BO430),EXACT(BP429,BP430),EXACT(BS429,BS430),EXACT(BX429,BY430)),\"ACHTUNG! Direkter Vergleich war unentschieden!\",IF(AND(EXACT(BO429,BO430),EXACT(BP429,BP430),EXACT(BS429,BS430)),1,2))","v":"ACHTUNG! Direkter Vergleich war unentschieden!"},{"$f":"IF(AND(EXACT(BO428,BO429),EXACT(BP428,BP429),EXACT(BS428,BS429),EXACT(BY429,BX428)),\"ACHTUNG! Direkter Vergleich war unentschieden!\",IF(AND(EXACT(BO428,BO429),EXACT(BP428,BP429),EXACT(BS428,BS429)),1,2))","v":"ACHTUNG! Direkter Vergleich war unentschieden!"},"ACHTUNG! Direkter Vergleich war unentschieden!",{"$f":"IF(OR(AND(EXACT(BO429,BO430),EXACT(BP429,BP430),EXACT(BS429,BS430),EXACT(BO429,BO431),EXACT(BP429,BP431),EXACT(BS429,BS431)),AND(EXACT(BO429,BO430),EXACT(BP429,BP430),EXACT(BS429,BS430),EXACT(BO429,BO428),EXACT(BP429,BP428),EXACT(BS429,BS428))*AND(EXACT(BO429,BO427),EXACT(BP429,BP427),EXACT(BS429,BS427),EXACT(BO429,BO428),EXACT(BP429,BP428),EXACT(BS429,BS428))),3,1)","v":1}]
[null,10,null,"15:45:00",null,null,null,null,{"$f":"$Q$411","v":"Gruppe E1"},null,null,null,null,null,null,null,null,null,null,null,null,null,null,null,null,null,null,"-",{"$f":"$Q$414","v":"Gruppe E4"},null,null,null,null,null,null,null,null,null,null,null,null,null,null,null,null,null,null,null,{"$f":"IF(ISBLANK('Gruppe E1'!AW37),\"\",'Gruppe E1'!AW37)","v":1},null,":",{"$f":"IF(ISBLANK('Gruppe E1'!AZ37),\"\",'Gruppe E1'!AZ37)","v":1},null,null,null,null,null,1,":",1,null,null,null,{"$f":"INDEX(Vorgaben!B$39:D$46,MATCH($BM430,Vorgaben!B$39:B$46,0),3)","v":0},{"$f":"'Gruppe E1'!$BM$29","v":"Gruppe E6"},{"$f":"'Gruppe E1'!$BN$29","v":5},{"$f":"'Gruppe E1'!$BO$29","v":5},{"$f":"'Gruppe E1'!$BP$29","v":5},{"$f":"'Gruppe E1'!$BQ$29","v":":"},{"$f":"'Gruppe E1'!$BR$29","v":5},{"$f":"'Gruppe E1'!$BS$29","v":0},0,0,{"$f":"IF(BX429<BY430,10,IF(BX429>BY430,-10,0))","v":0},{"$f":"IF(BX429<BY430,10,IF(BX429>BY430,-10,0))","v":0},{"$f":"IF(ISNA(INDEX(BF$421:BF$435,MATCH(BM430&BM431,I$421:I$435&AC$421:AC$435,0))),INDEX(BH$421:BH$435,MATCH(BM431&BM430,I$421:I$435&AC$421:AC$435,0)),INDEX(BF$421:BF$435,MATCH(BM430&BM431,I$421:I$435&AC$421:AC$435,0)))","v":1},{"$f":"IF(ISNA(INDEX(BF$421:BF$435,MATCH(BM430&BM429,I$421:I$435&AC$421:AC$435,0))),INDEX(BH$421:BH$435,MATCH(BM429&BM430,I$421:I$435&AC$421:AC$435,0)),INDEX(BF$421:BF$435,MATCH(BM430&BM429,I$421:I$435&AC$421:AC$435,0)))","v":1},{"$f":"IF(AND(EXACT(BO430,BO431),EXACT(BP430,BP431),EXACT(BS430,BS431),EXACT(BX430,BY431)),\"ACHTUNG! Direkter Vergleich war unentschieden!\",IF(AND(EXACT(BO430,BO431),EXACT(BP430,BP431),EXACT(BS430,BS431)),1,2))","v":2},{"$f":"IF(AND(EXACT(BO429,BO430),EXACT(BP429,BP430),EXACT(BS429,BS430),EXACT(BY430,BX429)),\"ACHTUNG! Direkter Vergleich war unentschieden!\",IF(AND(EXACT(BO429,BO430),EXACT(BP429,BP430),EXACT(BS429,BS430)),1,2))","v":"ACHTUNG! Direkter Vergleich war unentschieden!"},"ACHTUNG! Direkter Vergleich war unentschieden!",{"$f":"IF(OR(AND(EXACT(BO430,BO431),EXACT(BP430,BP431),EXACT(BS430,BS431),EXACT(BO430,BO432),EXACT(BP430,BP432),EXACT(BS430,BS432)),AND(EXACT(BO430,BO431),EXACT(BP430,BP431),EXACT(BS430,BS431),EXACT(BO430,BO429),EXACT(BP430,BP429),EXACT(BS430,BS429))*AND(EXACT(BO430,BO428),EXACT(BP430,BP428),EXACT(BS430,BS428),EXACT(BO430,BO429),EXACT(BP430,BP429),EXACT(BS430,BS429))),3,1)","v":1}]
[null,11,null,"15:55:00",null,null,null,null,{"$f":"$Q$416","v":"Gruppe E6"},null,null,null,null,null,null,null,null,null,null,null,null,null,null,null,null,null,null,"-",{"$f":"$Q$412","v":"Gruppe E2"},null,null,null,null,null,null,null,null,null,null,null,null,null,null,null,null,null,null,null,{"$f":"IF(ISBLANK('Gruppe E1'!AW38),\"\",'Gruppe E1'!AW38)","v":1},null,":",{"$f":"IF(ISBLANK('Gruppe E1'!AZ38),\"\",'Gruppe E1'!AZ38)","v":1},null,null,null,null,null,1,":",1,null,null,null,{"$f":"INDEX(Vorgaben!B$39:D$46,MATCH($BM431,Vorgaben!B$39:B$46,0),3)","v":0},{"$f":"'Gruppe E1'!$BM$30","v":"Gruppe E2"},{"$f":"'Gruppe E1'!$BN$30","v":5},{"$f":"'Gruppe E1'!$BO$30","v":4},{"$f":"'Gruppe E1'!$BP$30","v":5},{"$f":"'Gruppe E1'!$BQ$30","v":":"},{"$f":"'Gruppe E1'!$BR$30","v":6},{"$f":"'Gruppe E1'!$BS$30","v":-1},0,0,{"$f":"IF(BX430<BY431,10,IF(BX430>BY431,-10,0))","v":0},{"$f":"IF(BX431>BY432,10,IF(BX431<BY432,-10,0))","v":0},{"$f":"IF(ISNA(INDEX(BF$421:BF$435,MATCH(BM431&BM432,I$421:I$435&AC$421:AC$435,0))),INDEX(BH$421:BH$435,MATCH(BM432&BM431,I$421:I$435&AC$421:AC$435,0)),INDEX(BF$421:BF$435,MATCH(BM431&BM432,I$421:I$435&AC$421:AC$435,0)))","v":1},{"$f":"IF(ISNA(INDEX(BF$421:BF$435,MATCH(BM431&BM430,I$421:I$435&AC$421:AC$435,0))),INDEX(BH$421:BH$435,MATCH(BM430&BM431,I$421:I$435&AC$421:AC$435,0)),INDEX(BF$421:BF$435,MATCH(BM431&BM430,I$421:I$435&AC$421:AC$435,0)))","v":1},{"$f":"IF(AND(EXACT(BO431,BO432),EXACT(BP431,BP432),EXACT(BS431,BS432),EXACT(BX431,BY432)),\"ACHTUNG! Direkter Vergleich war unentschieden!\",IF(AND(EXACT(BO431,BO432),EXACT(BP431,BP432),EXACT(BS431,BS432)),1,2))","v":2},{"$f":"IF(AND(EXACT(BO430,BO431),EXACT(BP430,BP431),EXACT(BS430,BS431),EXACT(BY431,BX430)),\"ACHTUNG! Direkter Vergleich war unentschieden!\",IF(AND(EXACT(BO430,BO431),EXACT(BP430,BP431),EXACT(BS430,BS431)),1,2))","v":2},"",1]
[null,12,null,"16:05:00",null,null,null,null,{"$f":"$Q$413","v":"Gruppe E3"},null,null,null,null,null,null,null,null,null,null,null,null,null,null,null,null,null,null,"-",{"$f":"$Q$415","v":"Gruppe E5"},null,null,null,null,null,null,null,null,null,null,null,null,null,null,null,null,null,null,null,{"$f":"IF(ISBLANK('Gruppe E1'!AW39),\"\",'Gruppe E1'!AW39)","v":1},null,":",{"$f":"IF(ISBLANK('Gruppe E1'!AZ39),\"\",'Gruppe E1'!AZ39)","v":1},null,null,null,null,null,1,":",1,null,null,null,{"$f":"INDEX(Vorgaben!B$39:D$46,MATCH($BM432,Vorgaben!B$39:B$46,0),3)","v":0},{"$f":"'Gruppe E1'!$BM$31","v":"Gruppe E3"},{"$f":"'Gruppe E1'!$BN$31","v":5},{"$f":"'Gruppe E1'!BO131","v":0},{"$f":"'Gruppe E1'!$BP$31","v":5},{"$f":"'Gruppe E1'!$BQ$31","v":":"},{"$f":"'Gruppe E1'!$BR$31","v":5},{"$f":"'Gruppe E1'!$BS$31","v":0},0,0,{"$f":"IF(BX431<BY432,10,IF(BX431>BY432,-10,0))","v":0},{"$f":"IF(BX431<BY432,10,IF(BX431>BY432,-10,0))","v":0},null,{"$f":"IF(ISNA(INDEX(BF$421:BF$435,MATCH(BM432&BM431,I$421:I$435&AC$421:AC$435,0))),INDEX(BH$421:BH$435,MATCH(BM431&BM432,I$421:I$435&AC$421:AC$435,0)),INDEX(BF$421:BF$435,MATCH(BM432&BM431,I$421:I$435&AC$421:AC$435,0)))","v":1},null,{"$f":"IF(AND(EXACT(BO431,BO432),EXACT(BP431,BP432),EXACT(BS431,BS432),EXACT(BY432,BX431)),\"ACHTUNG! Direkter Vergleich war unentschieden!\",IF(AND(EXACT(BO431,BO432),EXACT(BP431,BP432),EXACT(BS431,BS432)),1,2))","v":2},"",1]
[null,13,null,"16:15:00",null,null,null,null,{"$f":"$Q$416","v":"Gruppe E6"},null,null,null,null,null,null,null,null,null,null,null,null,null,null,null,null,null,null,"-",{"$f":"$Q$411","v":"Gruppe E1"},null,null,null,null,null,null,null,null,null,null,null,null,null,null,null,null,null,null,null,{"$f":"IF(ISBLANK('Gruppe E1'!AW40),\"\",'Gruppe E1'!AW40)","v":1},null,":",{"$f":"IF(ISBLANK('Gruppe E1'!AZ40),\"\",'Gruppe E1'!AZ40)","v":1},null,null,null,null,null,1,":",1]
[null,14,null,"16:25:00",null,null,null,null,{"$f":"$Q$412","v":"Gruppe E2"},null,null,null,null,null,null,null,null,null,null,null,null,null,null,null,null,null,null,"-",{"$f":"$Q$413","v":"Gruppe E3"},null,null,null,null,null,null,null,null,null,null,null,null,null,null,null,null,null,null,null,{"$f":"IF(ISBLANK('Gruppe E1'!AW41),\"\",'Gruppe E1'!AW41)","v":1},null,":",{"$f":"IF(ISBLANK('Gruppe E1'!AZ41),\"\",'Gruppe E1'!AZ41)","v":1},null,null,null,null,null,1,":",1]
[null,15,null,"16:35:00",null,null,null,null,{"$f":"$Q$414","v":"Gruppe E4"},null,null,null,null,null,null,null,null,null,null,null,null,null,null,null,null,null,null,"-",{"$f":"$Q$415","v":"Gruppe E5"},null,null,null,null,null,null,null,null,null,null,null,null,null,null,null,null,null,null,null,{"$f":"IF(ISBLANK('Gruppe E1'!AW42),\"\",'Gruppe E1'!AW42)","v":1},null,":",{"$f":"IF(ISBLANK('Gruppe E1'!AZ42),\"\",'Gruppe E1'!AZ42)","v":1},null,null,null,null,null,1,":",1]
[]
[null,null,"III. Abschlußtabelle"]
[]
[null,null,null,null,null,null,null,null,"Abschlußtabelle",null,null,null,null,null,null,null,null,null,null,null,null,null,null,null,null,null,null,null,null,null,null,null,null,null,"Sp.",null,null,"Pkt.",null,null,"Tore",null,null,null,null,"Diff."]
[null,null,null,null,null,null,null,null,"1.",null,{"$f":"$BM$427","v":"Gruppe E5"},null,null,null,null,null,null,null,null,null,null,null,null,null,null,null,null,null,null,null,null,null,null,null,{"$f":"$BN$427","v":5},null,null,{"$f":"$BO$427","v":7},null,null,{"$f":"$BP$4427","v":0},null,":",{"$f":"$BR$427","v":5},null,{"$f":"$BS$427","v":1}]
[null,null,null,null,null,null,null,null,"2.",null,{"$f":"$BM$428","v":"Gruppe E1"},null,null,null,null,null,null,null,null,null,null,null,null,null,null,null,null,null,null,null,null,null,null,null,{"$f":"$BN$428","v":5},null,null,{"$f":"$BO$428","v":5},null,null,{"$f":"$BP$4428","v":0},null,":",{"$f":"$BR$428","v":5},null,{"$f":"$BS$428","v":0}]
[null,null,null,null,null,null,null,null,"3.",null,{"$f":"$BM$429","v":"Gruppe E4"},null,null,null,null,null,null,null,null,null,null,null,null,null,null,null,null,null,null,null,null,null,null,null,{"$f":"$BN$429","v":5},null,null,{"$f":"$BO$429","v":5},null,null,{"$f":"$BP$4429","v":0},null,":",{"$f":"$BR$429","v":5},null,{"$f":"$BS$429","v":0}]
[null,null,null,null,null,null,null,null,"4.",null,{"$f":"$BM$430","v":"Gruppe E6"},null,null,null,null,null,null,null,null,null,null,null,null,null,null,null,null,null,null,null,null,null,null,null,{"$f":"$BN$430","v":5},null,null,{"$f":"$BO$430","v":5},null,null,{"$f":"$BP$4430","v":0},null,":",{"$f":"$BR$430","v":5},null,{"$f":"$BS$430","v":0}]
[null,null,null,null,null,null,null,null,"5.",null,{"$f":"$BM$431","v":"Gruppe E2"},null,null,null,null,null,null,null,null,null,null,null,null,null,null,null,null,null,null,null,null,null,null,null,{"$f":"$BN$431","v":5},null,null,{"$f":"$BO$431","v":4},null,null,{"$f":"$BP$4431","v":0},null,":",{"$f":"$BR$431","v":6},null,{"$f":"$BS$431","v":-1}]
[null,null,null,null,null,null,null,null,"6.",null,{"$f":"$BM$432","v":"Gruppe E3"},null,null,null,null,null,null,null,null,null,null,null,null,null,null,null,null,null,null,null,null,null,null,null,{"$f":"$BN$432","v":5},null,null,{"$f":"$BO$432","v":0},null,null,{"$f":"$BP$4432","v":0},null,":",{"$f":"$BR$432","v":5},null,{"$f":"$BS$432","v":0}]
[]
[]
[]
[]
[]
[]
[]
[]
[]
[]
[]
[]
[]
[]
[]
[]
[]
[]
[]
[]
[]
[]
[]
[]
[]
[]
[]
[]
[]
[]
[]
[]
[]
[]
[]
[]
[]
[]
[]
[]
[]
[]
[]
[]
[]
[]
[]
[]
[]
[]
[]
[]
[]
[]
[]
[]
["Vorrunde"]
["Gruppe F"]
[]
[null,null,null,null,null,null,"Beginn:",{"$f":"Vorgaben!C4","v":"14:15:00"},null,null,null,null,"Uhr",null,null,null,null,null,null,"Spielzeit:",{"$f":"Vorgaben!C5","v":1},null,"x",{"$f":"Vorgaben!C6","v":"00:09:00"},null,null,null,null,"min",null,null,null,null,null,null,null,"Pause:",{"$f":"Vorgaben!C7","v":"00:01:00"},null,null,null,null,"min"]
[]
[]
[null,"I. Teilnehmende Mannschaften"]
[]
[null,null,null,null,null,null,null,null,null,null,null,null,null,null,"Gruppeneinteilung"]
[null,null,null,null,null,null,null,null,null,null,null,null,null,null,"1.",null,{"$f":"Vorgaben!F39","v":"Gruppe F1"}]
[null,null,null,null,null,null,null,null,null,null,null,null,null,null,"2.",null,{"$f":"Vorgaben!F40","v":"Gruppe F2"}]
[null,null,null,null,null,null,null,null,null,null,null,null,null,null,"3.",null,{"$f":"Vorgaben!F41","v":"Gruppe F3"}]
[null,null,null,null,null,null,null,null,null,null,null,null,null,null,"4.",null,{"$f":"Vorgaben!F42","v":"Gruppe F4"}]
[null,null,null,null,null,null,null,null,null,null,null,null,null,null,"5.",null,{"$f":"Vorgaben!F43","v":"Gruppe F5"}]
[null,null,null,null,null,null,null,null,null,null,null,null,null,null,"6.",null,{"$f":"Vorgaben!F44","v":"Gruppe F6"}]
[]
[null,"II. Spielplan"]
[]
[null,"Nr.",null,"Beginn",null,null,null,null,"Spielpaarung",null,null,null,null,null,null,null,null,null,null,null,null,null,null,null,null,null,null,null,null,null,null,null,null,null,null,null,null,null,null,null,null,null,null,null,null,null,null,null,"Ergebnis",null,null,null,null,null,null,null,null,"Punkte"]
[null,1,null,{"$f":"$H$5","v":"14:15:00"},null,null,null,null,{"$f":"$Q$511","v":"Gruppe F1"},null,null,null,null,null,null,null,null,null,null,null,null,null,null,null,null,null,null,"-",{"$f":"$Q$512","v":"Gruppe F2"},null,null,null,null,null,null,null,null,null,null,null,null,null,null,null,null,null,null,null,{"$f":"IF(ISBLANK('Gruppe F1'!AW28),\"\",'Gruppe F1'!AW28)","v":1},null,":",{"$f":"IF(ISBLANK('Gruppe F1'!AZ28),\"\",'Gruppe F1'!AZ28)","v":1},null,null,null,null,null,{"$f":"IF(ISBLANK(AW521),\"0\",IF(AW521>AZ521,3,IF(AW521=AZ521,1,0)))","v":1},":",{"$f":"IF(ISBLANK(AZ521),\"0\",IF(AZ521>AW521,3,IF(AZ521=AW521,1,0)))","v":1}]
[null,2,null,{"$f":"D521+$U$5*$X$5+$AL$5","v":"14:25:00"},null,null,null,null,{"$f":"$Q$513","v":"Gruppe F3"},null,null,null,null,null,null,null,null,null,null,null,null,null,null,null,null,null,null,"-",{"$f":"$Q$514","v":"Gruppe F4"},null,null,null,null,null,null,null,null,null,null,null,null,null,null,null,null,null,null,null,{"$f":"IF(ISBLANK('Gruppe F1'!AW29),\"\",'Gruppe F1'!AW29)","v":1},null,":",{"$f":"IF(ISBLANK('Gruppe F1'!AZ29),\"\",'Gruppe F1'!AZ29)","v":1},null,null,null,null,null,{"$f":"IF(ISBLANK(AW522),\"0\",IF(AW522>AZ522,3,IF(AW522=AZ522,1,0)))","v":1},":",{"$f":"IF(ISBLANK(AZ522),\"0\",IF(AZ522>AW522,3,IF(AZ522=AW522,1,0)))","v":1}]
[null,3,null,{"$f":"D522+$U$5*$X$5+$AL$5","v":"14:35:00"},null,null,null,null,{"$f":"$Q$515","v":"Gruppe F5"},null,null,null,null,null,null,null,null,null,null,null,null,null,null,null,null,null,null,"-",{"$f":"$Q$516","v":"Gruppe F6"},null,null,null,null,null,null,null,null,null,null,null,null,null,null,null,null,null,null,null,{"$f":"IF(ISBLANK('Gruppe F1'!AW30),\"\",'Gruppe F1'!AW30)","v":1},null,":",{"$f":"IF(ISBLANK('Gruppe F1'!AZ30),\"\",'Gruppe F1'!AZ30)","v":1},null,null,null,null,null,1,":",1,null,null,null,null,{"$f":"IF(BM525=\"Min. 3 Teams identisch.  HANDSORTIERUNG!\",BM525,IF(BM525=\"ACHTUNG! Direkter Vergleich war unentschieden!\",BM525,BM524))","v":"ACHTUNG! Direkter Vergleich war unentschieden!"}]
[null,4,null,"14:45:00",null,null,null,null,{"$f":"$Q$511","v":"Gruppe F1"},null,null,null,null,null,null,null,null,null,null,null,null,null,null,null,null,null,null,"-",{"$f":"$Q$513","v":"Gruppe F3"},null,null,null,null,null,null,null,null,null,null,null,null,null,null,null,null,null,null,null,{"$f":"IF(ISBLANK('Gruppe F1'!AW31),\"\",'Gruppe F1'!AW31)","v":1},null,":",{"$f":"IF(ISBLANK('Gruppe F1'!AZ31),\"\",'Gruppe F1'!AZ31)","v":11},null,null,null,null,null,0,":",3,null,null,null,null,{"$f":"IF(AND(EXACT(BO527,BO528),EXACT(BP527,BP528),EXACT(BS527,BS528)),\"ACHTUNG: Direkter Vergleich erfolgreich durchlaufen!\",IF(AND(EXACT(BO528,BO529),EXACT(BP528,BP529),EXACT(BS528,BS529)),\"ACHTUNG: Direkter Vergleich erfolgreich durchlaufen!\",IF(AND(EXACT(BO529,BO530),EXACT(BP529,BP530),EXACT(BS529,BS530)),\"ACHTUNG: Direkter Vergleich erfolgreich durchlaufen!\",IF(AND(EXACT(BO530,BO531),EXACT(BP530,BP531),EXACT(BS530,BS531)),\"ACHTUNG: Direkter Vergleich erfolgreich durchlaufen!\",IF(AND(EXACT(BO531,BO532),EXACT(BP531,BP532),EXACT(BS531,BS532)),\"ACHTUNG: Direkter Vergleich erfolgreich durchlaufen!\",\"\")))))","v":"ACHTUNG: Direkter Vergleich erfolgreich durchlaufen!"}]
[null,5,null,"14:55:00",null,null,null,null,{"$f":"$Q$512","v":"Gruppe F2"},null,null,null,null,null,null,null,null,null,null,null,null,null,null,null,null,null,null,"-",{"$f":"$Q$515","v":"Gruppe F5"},null,null,null,null,null,null,null,null,null,null,null,null,null,null,null,null,null,null,null,{"$f":"IF(ISBLANK('Gruppe F1'!AW32),\"\",'Gruppe F1'!AW32)","v":1},null,":",{"$f":"IF(ISBLANK('Gruppe F1'!AZ32),\"\",'Gruppe F1'!AZ32)","v":1},null,null,null,null,null,1,":",1,null,null,null,null,{"$f":"IF(OR(CC527=3,CC528=3,CC529=3,CC530=3,CC531=3,CC532=3),\"Min. 3 Teams identisch.  HANDSORTIERUNG!\",IF(OR(CB527=\"ACHTUNG! Direkter Vergleich war unentschieden!\",CB528=\"ACHTUNG! Direkter Vergleich war unentschieden!\",CB529=\"ACHTUNG! Direkter Vergleich war unentschieden!\",CB530=\"ACHTUNG! Direkter Vergleich war unentschieden!\",CB531=\"ACHTUNG! Direkter Vergleich war unentschieden!\",CB532=\"ACHTUNG! Direkter Vergleich war unentschieden!\"),\"ACHTUNG! Direkter Vergleich war unentschieden!\",\"\"))","v":"ACHTUNG! Direkter Vergleich war unentschieden!"}]
[null,6,null,"15:05:00",null,null,null,null,{"$f":"$Q$514","v":"Gruppe F4"},null,null,null,null,null,null,null,null,null,null,null,null,null,null,null,null,null,null,"-",{"$f":"$Q$516","v":"Gruppe F6"},null,null,null,null,null,null,null,null,null,null,null,null,null,null,null,null,null,null,null,{"$f":"IF(ISBLANK('Gruppe F1'!AW33),\"\",'Gruppe F1'!AW33)","v":1},null,":",{"$f":"IF(ISBLANK('Gruppe F1'!AZ33),\"\",'Gruppe F1'!AZ33)","v":1},null,null,null,null,null,1,":",1]
[null,7,null,"15:15:00",null,null,null,null,{"$f":"$Q$515","v":"Gruppe F5"},null,null,null,null,null,null,null,null,null,null,null,null,null,null,null,null,null,null,"-",{"$f":"$Q$511","v":"Gruppe F1"},null,null,null,null,null,null,null,null,null,null,null,null,null,null,null,null,null,null,null,{"$f":"IF(ISBLANK('Gruppe F1'!AW34),\"\",'Gruppe F1'!AW34)","v":1},null,":",{"$f":"IF(ISBLANK('Gruppe F1'!AZ34),\"\",'Gruppe F1'!AZ34)","v":1},null,null,null,null,null,1,":",1,null,null,null,{"$f":"INDEX(Vorgaben!F$39:H$46,MATCH($BM527,Vorgaben!F$39:F$46,0),3)","v":0},{"$f":"'Gruppe F1'!$BM$28","v":"Gruppe F4"},{"$f":"'Gruppe F1'!$BN$28","v":5},{"$f":"'Gruppe F1'!$BO$28","v":7},{"$f":"'Gruppe F1'!$BP$28","v":15},{"$f":"'Gruppe F1'!$BQ$28","v":":"},{"$f":"'Gruppe F1'!$BR$28","v":5},{"$f":"'Gruppe F1'!$BS$28","v":10},{"$f":"BV527","v":0},null,{"$f":"IF(BX527>BY528,10,IF(BX527<BY528,-10,0))","v":0},null,{"$f":"IF(ISNA(INDEX(BF$521:BF$535,MATCH(BM527&BM528,I$521:I$535&AC$521:AC$535,0))),INDEX(BH$521:BH$535,MATCH(BM528&BM527,I$521:I$535&AC$521:AC$535,0)),INDEX(BF$521:BF$535,MATCH(BM527&BM528,I$521:I$535&AC$521:AC$535,0)))","v":1},null,{"$f":"IF(AND(EXACT(BO527,BO528),EXACT(BP527,BP528),EXACT(BS527,BS528),EXACT(BX527,BY528)),\"ACHTUNG! Direkter Vergleich war unentschieden!\",IF(AND(EXACT(BO527,BO528),EXACT(BP527,BP528),EXACT(BS527,BS528)),1,2))","v":2},{"$f":"IF(AND(EXACT(BO526,BO527),EXACT(BP526,BP527),EXACT(BS526,BS527),EXACT(BX527,BY526)),\"ACHTUNG! Direkter Vergleich war unentschieden!\",\"\")","v":""},{"$f":"IF(OR(BZ527=\"ACHTUNG! Direkter Vergleich war unentschieden!\",CA527=\"ACHTUNG! Direkter Vergleich war unentschieden!\"),\"ACHTUNG! Direkter Vergleich war unentschieden!\",\"\")","v":""},{"$f":"IF(OR(AND(EXACT(BO527,BO528),EXACT(BP527,BP528),EXACT(BS527,BS528),EXACT(BO527,BO529),EXACT(BP527,BP529),EXACT(BS527,BS529)),AND(EXACT(BO527,BO528),EXACT(BP527,BP528),EXACT(BS527,BS528),EXACT(BO527,BO526),EXACT(BP527,BP526),EXACT(BS527,BS526))*AND(EXACT(BO527,BO525),EXACT(BP527,BP525),EXACT(BS527,BS525),EXACT(BO527,BO526),EXACT(BP527,BP526),EXACT(BS527,BS526))),3,1)","v":1}]
[null,8,null,"15:25:00",null,null,null,null,{"$f":"$Q$512","v":"Gruppe F2"},null,null,null,null,null,null,null,null,null,null,null,null,null,null,null,null,null,null,"-",{"$f":"$Q$514","v":"Gruppe F4"},null,null,null,null,null,null,null,null,null,null,null,null,null,null,null,null,null,null,null,{"$f":"IF(ISBLANK('Gruppe F1'!AW35),\"\",'Gruppe F1'!AW35)","v":1},null,":",{"$f":"IF(ISBLANK('Gruppe F1'!AZ35),\"\",'Gruppe F1'!AZ35)","v":1},null,null,null,null,null,1,":",1,null,null,null,{"$f":"INDEX(Vorgaben!F$39:H$46,MATCH($BM528,Vorgaben!F$39:F$46,0),3)","v":0},{"$f":"'Gruppe F1'!$BM$29","v":"Gruppe F6"},{"$f":"'Gruppe F1'!$BN$29","v":5},{"$f":"'Gruppe F1'!$BO$29","v":5},{"$f":"'Gruppe F1'!$BP$29","v":5},{"$f":"'Gruppe F1'!$BQ$29","v":":"},{"$f":"'Gruppe F1'!$BR$29","v":5},{"$f":"'Gruppe F1'!$BS$29","v":0},{"$f":"BV528","v":0},{"$f":"BW528","v":0},{"$f":"IF(BX527<BY528,10,IF(BX527>BY528,-10,0))","v":0},{"$f":"IF(BX528>BY529,10,IF(BX528<BY529,-10,0))","v":0},{"$f":"IF(ISNA(INDEX(BF$521:BF$535,MATCH(BM528&BM529,I$521:I$535&AC$521:AC$535,0))),INDEX(BH$521:BH$535,MATCH(BM529&BM528,I$521:I$535&AC$521:AC$535,0)),INDEX(BF$521:BF$535,MATCH(BM528&BM529,I$521:I$535&AC$521:AC$535,0)))","v":1},{"$f":"IF(ISNA(INDEX(BF$521:BF$535,MATCH(BM528&BM527,I$521:I$535&AC$521:AC$535,0))),INDEX(BH$521:BH$535,MATCH(BM527&BM528,I$521:I$535&AC$521:AC$535,0)),INDEX(BF$521:BF$535,MATCH(BM528&BM527,I$521:I$535&AC$521:AC$535,0)))","v":1},{"$f":"IF(AND(EXACT(BO528,BO529),EXACT(BP528,BP529),EXACT(BS528,BS529),EXACT(BX528,BY529)),\"ACHTUNG! Direkter Vergleich war unentschieden!\",IF(AND(EXACT(BO528,BO529),EXACT(BP528,BP529),EXACT(BS528,BS529)),1,2))","v":"ACHTUNG! Direkter Vergleich war unentschieden!"},{"$f":"IF(AND(EXACT(BO527,BO528),EXACT(BP527,BP528),EXACT(BS527,BS528),EXACT(BY528,BX527)),\"ACHTUNG! Direkter Vergleich war unentschieden!\",IF(AND(EXACT(BO527,BO528),EXACT(BP527,BP528),EXACT(BS527,BS528)),1,2))","v":2},"ACHTUNG! Direkter Vergleich war unentschieden!",1]
[null,9,null,"15:35:00",null,null,null,null,{"$f":"$Q$516","v":"Gruppe F6"},null,null,null,null,null,null,null,null,null,null,null,null,null,null,null,null,null,null,"-",{"$f":"$Q$513","v":"Gruppe F3"},null,null,null,null,null,null,null,null,null,null,null,null,null,null,null,null,null,null,null,{"$f":"IF(ISBLANK('Gruppe F1'!AW36),\"\",'Gruppe F1'!AW36)","v":1},null,":",{"$f":"IF(ISBLANK('Gruppe F1'!AZ36),\"\",'Gruppe F1'!AZ36)","v":1},null,null,null,null,null,1,":",1,null,null,null,{"$f":"INDEX(Vorgaben!F$39:H$46,MATCH($BM529,Vorgaben!F$39:F$46,0),3)","v":0},{"$f":"'Gruppe F1'!$BM$30","v":"Gruppe F2"},{"$f":"'Gruppe F1'!$BN$30","v":5},{"$f":"'Gruppe F1'!$BO$30","v":5},{"$f":"'Gruppe F1'!$BP$30","v":5},{"$f":"'Gruppe F1'!$BQ$30","v":":"},{"$f":"'Gruppe F1'!$BR$30","v":5},{"$f":"'Gruppe F1'!$BS$30","v":0},{"$f":"BV529","v":0},0,{"$f":"IF(BX528<BY529,10,IF(BX528>BY529,-10,0))","v":0},{"$f":"IF(BX529>BY530,10,IF(BX529<BY530,-10,0))","v":0},{"$f":"IF(ISNA(INDEX(BF$521:BF$535,MATCH(BM529&BM530,I$521:I$535&AC$521:AC$535,0))),INDEX(BH$521:BH$535,MATCH(BM530&BM529,I$521:I$535&AC$521:AC$535,0)),INDEX(BF$521:BF$535,MATCH(BM529&BM530,I$521:I$535&AC$521:AC$535,0)))","v":1},{"$f":"IF(ISNA(INDEX(BF$521:BF$535,MATCH(BM529&BM528,I$521:I$535&AC$521:AC$535,0))),INDEX(BH$521:BH$535,MATCH(BM528&BM529,I$521:I$535&AC$521:AC$535,0)),INDEX(BF$521:BF$535,MATCH(BM529&BM528,I$521:I$535&AC$521:AC$535,0)))","v":1},{"$f":"IF(AND(EXACT(BO529,BO530),EXACT(BP529,BP530),EXACT(BS529,BS530),EXACT(BX529,BY530)),\"ACHTUNG! Direkter Vergleich war unentschieden!\",IF(AND(EXACT(BO529,BO530),EXACT(BP529,BP530),EXACT(BS529,BS530)),1,2))","v":2},{"$f":"IF(AND(EXACT(BO528,BO529),EXACT(BP528,BP529),EXACT(BS528,BS529),EXACT(BY529,BX528)),\"ACHTUNG! Direkter Vergleich war unentschieden!\",IF(AND(EXACT(BO528,BO529),EXACT(BP528,BP529),EXACT(BS528,BS529)),1,2))","v":"ACHTUNG! Direkter Vergleich war unentschieden!"},"ACHTUNG! Direkter Vergleich war unentschieden!",{"$f":"IF(OR(AND(EXACT(BO529,BO530),EXACT(BP529,BP530),EXACT(BS529,BS530),EXACT(BO529,BO531),EXACT(BP529,BP531),EXACT(BS529,BS531)),AND(EXACT(BO529,BO530),EXACT(BP529,BP530),EXACT(BS529,BS530),EXACT(BO529,BO528),EXACT(BP529,BP528),EXACT(BS529,BS528))*AND(EXACT(BO529,BO527),EXACT(BP529,BP527),EXACT(BS529,BS527),EXACT(BO529,BO528),EXACT(BP529,BP528),EXACT(BS529,BS528))),3,1)","v":1}]
[null,10,null,"15:45:00",null,null,null,null,{"$f":"$Q$511","v":"Gruppe F1"},null,null,null,null,null,null,null,null,null,null,null,null,null,null,null,null,null,null,"-",{"$f":"$Q$514","v":"Gruppe F4"},null,null,null,null,null,null,null,null,null,null,null,null,null,null,null,null,null,null,null,{"$f":"IF(ISBLANK('Gruppe F1'!AW37),\"\",'Gruppe F1'!AW37)","v":1},null,":",{"$f":"IF(ISBLANK('Gruppe F1'!AZ37),\"\",'Gruppe F1'!AZ37)","v":1},null,null,null,null,null,1,":",1,null,null,null,{"$f":"INDEX(Vorgaben!F$39:H$46,MATCH($BM530,Vorgaben!F$39:F$46,0),3)","v":0},{"$f":"'Gruppe F1'!BM$32","v":"Gruppe F5"},{"$f":"'Gruppe F1'!BN$32","v":5},{"$f":"'Gruppe F1'!BO$32","v":4},{"$f":"'Gruppe F1'!BP$32","v":5},{"$f":"'Gruppe F1'!BQ$32","v":":"},{"$f":"'Gruppe F1'!BR$32","v":15},{"$f":"'Gruppe F1'!BS$32","v":-10},0,0,{"$f":"IF(BX529<BY530,10,IF(BX529>BY530,-10,0))","v":0},{"$f":"IF(BX529<BY530,10,IF(BX529>BY530,-10,0))","v":0},{"$f":"IF(ISNA(INDEX(BF$521:BF$535,MATCH(BM530&BM531,I$521:I$535&AC$521:AC$535,0))),INDEX(BH$521:BH$535,MATCH(BM531&BM530,I$521:I$535&AC$521:AC$535,0)),INDEX(BF$521:BF$535,MATCH(BM530&BM531,I$521:I$535&AC$521:AC$535,0)))","v":1},{"$f":"IF(ISNA(INDEX(BF$521:BF$535,MATCH(BM530&BM529,I$521:I$535&AC$521:AC$535,0))),INDEX(BH$521:BH$535,MATCH(BM529&BM530,I$521:I$535&AC$521:AC$535,0)),INDEX(BF$521:BF$535,MATCH(BM530&BM529,I$521:I$535&AC$521:AC$535,0)))","v":1},{"$f":"IF(AND(EXACT(BO530,BO531),EXACT(BP530,BP531),EXACT(BS530,BS531),EXACT(BX530,BY531)),\"ACHTUNG! Direkter Vergleich war unentschieden!\",IF(AND(EXACT(BO530,BO531),EXACT(BP530,BP531),EXACT(BS530,BS531)),1,2))","v":"ACHTUNG! Direkter Vergleich war unentschieden!"},{"$f":"IF(AND(EXACT(BO529,BO530),EXACT(BP529,BP530),EXACT(BS529,BS530),EXACT(BY530,BX529)),\"ACHTUNG! Direkter Vergleich war unentschieden!\",IF(AND(EXACT(BO529,BO530),EXACT(BP529,BP530),EXACT(BS529,BS530)),1,2))","v":2},"ACHTUNG! Direkter Vergleich war unentschieden!",{"$f":"IF(OR(AND(EXACT(BO530,BO531),EXACT(BP530,BP531),EXACT(BS530,BS531),EXACT(BO530,BO532),EXACT(BP530,BP532),EXACT(BS530,BS532)),AND(EXACT(BO530,BO531),EXACT(BP530,BP531),EXACT(BS530,BS531),EXACT(BO530,BO529),EXACT(BP530,BP529),EXACT(BS530,BS529))*AND(EXACT(BO530,BO528),EXACT(BP530,BP528),EXACT(BS530,BS528),EXACT(BO530,BO529),EXACT(BP530,BP529),EXACT(BS530,BS529))),3,1)","v":1}]
[null,11,null,"15:55:00",null,null,null,null,{"$f":"$Q$516","v":"Gruppe F6"},null,null,null,null,null,null,null,null,null,null,null,null,null,null,null,null,null,null,"-",{"$f":"$Q$512","v":"Gruppe F2"},null,null,null,null,null,null,null,null,null,null,null,null,null,null,null,null,null,null,null,{"$f":"IF(ISBLANK('Gruppe F1'!AW38),\"\",'Gruppe F1'!AW38)","v":1},null,":",{"$f":"IF(ISBLANK('Gruppe F1'!AZ38),\"\",'Gruppe F1'!AZ38)","v":1},null,null,null,null,null,1,":",1,null,null,null,{"$f":"INDEX(Vorgaben!F$39:H$46,MATCH($BM531,Vorgaben!F$39:F$46,0),3)","v":0},{"$f":"'Gruppe F1'!$BM$27","v":"Gruppe F1"},{"$f":"'Gruppe F1'!$BN$27","v":5},{"$f":"'Gruppe F1'!$BO$27","v":4},{"$f":"'Gruppe F1'!$BP$27","v":5},{"$f":"'Gruppe F1'!$BQ$27","v":":"},{"$f":"'Gruppe F1'!$BR$27","v":15},{"$f":"'Gruppe F1'!$BS$27","v":-10},0,-10,{"$f":"IF(BX530<BY531,10,IF(BX530>BY531,-10,0))","v":0},{"$f":"IF(BX531>BY532,10,IF(BX531<BY532,-10,0))","v":-10},{"$f":"IF(ISNA(INDEX(BF$521:BF$535,MATCH(BM531&BM532,I$521:I$535&AC$521:AC$535,0))),INDEX(BH$521:BH$535,MATCH(BM532&BM531,I$521:I$535&AC$521:AC$535,0)),INDEX(BF$521:BF$535,MATCH(BM531&BM532,I$521:I$535&AC$521:AC$535,0)))","v":0},{"$f":"IF(ISNA(INDEX(BF$521:BF$535,MATCH(BM531&BM530,I$521:I$535&AC$521:AC$535,0))),INDEX(BH$521:BH$535,MATCH(BM530&BM531,I$521:I$535&AC$521:AC$535,0)),INDEX(BF$521:BF$535,MATCH(BM531&BM530,I$521:I$535&AC$521:AC$535,0)))","v":1},{"$f":"IF(AND(EXACT(BO531,BO532),EXACT(BP531,BP532),EXACT(BS531,BS532),EXACT(BX531,BY532)),\"ACHTUNG! Direkter Vergleich war unentschieden!\",IF(AND(EXACT(BO531,BO532),EXACT(BP531,BP532),EXACT(BS531,BS532)),1,2))","v":2},{"$f":"IF(AND(EXACT(BO530,BO531),EXACT(BP530,BP531),EXACT(BS530,BS531),EXACT(BY531,BX530)),\"ACHTUNG! Direkter Vergleich war unentschieden!\",IF(AND(EXACT(BO530,BO531),EXACT(BP530,BP531),EXACT(BS530,BS531)),1,2))","v":"ACHTUNG! Direkter Vergleich war unentschieden!"},"ACHTUNG! Direkter Vergleich war unentschieden!",1]
[null,12,null,"16:05:00",null,null,null,null,{"$f":"$Q$513","v":"Gruppe F3"},null,null,null,null,null,null,null,null,null,null,null,null,null,null,null,null,null,null,"-",{"$f":"$Q$515","v":"Gruppe F5"},null,null,null,null,null,null,null,null,null,null,null,null,null,null,null,null,null,null,null,{"$f":"IF(ISBLANK('Gruppe F1'!AW39),\"\",'Gruppe F1'!AW39)","v":1},null,":",{"$f":"IF(ISBLANK('Gruppe F1'!AZ39),\"\",'Gruppe F1'!AZ39)","v":1},null,null,null,null,null,1,":",1,null,null,null,{"$f":"INDEX(Vorgaben!F$39:H$46,MATCH($BM532,Vorgaben!F$39:F$46,0),3)","v":0},{"$f":"'Gruppe F1'!$BM$31","v":"Gruppe F3"},{"$f":"'Gruppe F1'!$BN$31","v":5},{"$f":"'Gruppe F1'!BO231","v":0},{"$f":"'Gruppe F1'!$BP$31","v":15},{"$f":"'Gruppe F1'!$BQ$31","v":":"},{"$f":"'Gruppe F1'!$BR$31","v":5},{"$f":"'Gruppe F1'!$BS$31","v":10},10,10,{"$f":"IF(BX531<BY532,10,IF(BX531>BY532,-10,0))","v":10},{"$f":"IF(BX531<BY532,10,IF(BX531>BY532,-10,0))","v":10},null,{"$f":"IF(ISNA(INDEX(BF$521:BF$535,MATCH(BM532&BM531,I$521:I$535&AC$521:AC$535,0))),INDEX(BH$521:BH$535,MATCH(BM531&BM532,I$521:I$535&AC$521:AC$535,0)),INDEX(BF$521:BF$535,MATCH(BM532&BM531,I$521:I$535&AC$521:AC$535,0)))","v":3},null,{"$f":"IF(AND(EXACT(BO531,BO532),EXACT(BP531,BP532),EXACT(BS531,BS532),EXACT(BY532,BX531)),\"ACHTUNG! Direkter Vergleich war unentschieden!\",IF(AND(EXACT(BO531,BO532),EXACT(BP531,BP532),EXACT(BS531,BS532)),1,2))","v":2},"",1]
[null,13,null,"16:15:00",null,null,null,null,{"$f":"$Q$516","v":"Gruppe F6"},null,null,null,null,null,null,null,null,null,null,null,null,null,null,null,null,null,null,"-",{"$f":"$Q$511","v":"Gruppe F1"},null,null,null,null,null,null,null,null,null,null,null,null,null,null,null,null,null,null,null,{"$f":"IF(ISBLANK('Gruppe F1'!AW40),\"\",'Gruppe F1'!AW40)","v":1},null,":",{"$f":"IF(ISBLANK('Gruppe F1'!AZ40),\"\",'Gruppe F1'!AZ40)","v":1},null,null,null,null,null,1,":",1]
[null,14,null,"16:25:00",null,null,null,null,{"$f":"$Q$512","v":"Gruppe F2"},null,null,null,null,null,null,null,null,null,null,null,null,null,null,null,null,null,null,"-",{"$f":"$Q$513","v":"Gruppe F3"},null,null,null,null,null,null,null,null,null,null,null,null,null,null,null,null,null,null,null,{"$f":"IF(ISBLANK('Gruppe F1'!AW41),\"\",'Gruppe F1'!AW41)","v":1},null,":",{"$f":"IF(ISBLANK('Gruppe F1'!AZ41),\"\",'Gruppe F1'!AZ41)","v":1},null,null,null,null,null,1,":",1]
[null,15,null,"16:35:00",null,null,null,null,{"$f":"$Q$514","v":"Gruppe F4"},null,null,null,null,null,null,null,null,null,null,null,null,null,null,null,null,null,null,"-",{"$f":"$Q$515","v":"Gruppe F5"},null,null,null,null,null,null,null,null,null,null,null,null,null,null,null,null,null,null,null,{"$f":"IF(ISBLANK('Gruppe F1'!AW42),\"\",'Gruppe F1'!AW42)","v":11},null,":",{"$f":"IF(ISBLANK('Gruppe F1'!AZ42),\"\",'Gruppe F1'!AZ42)","v":1},null,null,null,null,null,3,":",0]
[]
[null,null,"III. Abschlußtabelle"]
[]
[null,null,null,null,null,null,null,null,"Abschlußtabelle",null,null,null,null,null,null,null,null,null,null,null,null,null,null,null,null,null,null,null,null,null,null,null,null,null,"Sp.",null,null,"Pkt.",null,null,"Tore",null,null,null,null,"Diff."]
[null,null,null,null,null,null,null,null,"1.",null,{"$f":"BM527","v":"Gruppe F4"},null,null,null,null,null,null,null,null,null,null,null,null,null,null,null,null,null,null,null,null,null,null,null,{"$f":"BN527","v":5},null,null,{"$f":"BO527","v":7},null,null,{"$f":"BP527","v":15},null,":",{"$f":"BR527","v":5},null,{"$f":"BS527","v":10}]
[null,null,null,null,null,null,null,null,"2.",null,{"$f":"BM528","v":"Gruppe F6"},null,null,null,null,null,null,null,null,null,null,null,null,null,null,null,null,null,null,null,null,null,null,null,{"$f":"BN528","v":5},null,null,{"$f":"BO528","v":5},null,null,{"$f":"BP528","v":5},null,":",{"$f":"BR528","v":5},null,{"$f":"BS528","v":0}]
[null,null,null,null,null,null,null,null,"3.",null,"Gruppe F2",null,null,null,null,null,null,null,null,null,null,null,null,null,null,null,null,null,null,null,null,null,null,null,5,null,null,5,null,null,5,null,":",5,null,0]
[null,null,null,null,null,null,null,null,"4.",null,"Gruppe F5",null,null,null,null,null,null,null,null,null,null,null,null,null,null,null,null,null,null,null,null,null,null,null,5,null,null,4,null,null,5,null,":",15,null,-10]
[null,null,null,null,null,null,null,null,"5.",null,"Gruppe F1",null,null,null,null,null,null,null,null,null,null,null,null,null,null,null,null,null,null,null,null,null,null,null,5,null,null,4,null,null,5,null,":",15,null,-10]
[null,null,null,null,null,null,null,null,"6.",null,"Gruppe F3",null,null,null,null,null,null,null,null,null,null,null,null,null,null,null,null,null,null,null,null,null,null,null,5,null,null,0,null,null,15,null,":",5,null,10]

{"sheet":"Gruppe AF7","index":3,"n_rows":559,"n_cols":81,"rows_kept":559,"cut":false,"hidden":true,"merged":[[15,9,15,10],[15,11,15,46],[15,47,15,48],[16,9,16,10],[16,11,16,46],[16,47,16,48],[9,7,9,11],[9,20,9,21],[9,23,9,27],[9,37,9,41],[14,9,14,46],[14,47,14,48],[1,0,1,54],[2,0,2,54],[3,0,3,41],[5,12,5,19],[5,24,5,31],[7,1,7,38],[21,9,21,10],[21,11,21,46],[21,47,21,48],[25,1,25,2],[25,3,25,5],[25,6,25,8],[25,9,25,13],[25,14,25,47],[25,48,25,52],[19,9,19,10],[19,11,19,46],[19,47,19,48],[20,9,20,10],[20,11,20,46],[20,47,20,48],[17,9,17,10],[17,11,17,46],[17,47,17,48],[18,9,18,10],[18,11,18,46],[18,47,18,48],[27,48,27,49],[27,51,27,52],[27,53,27,54],[28,1,28,2],[28,3,28,5],[28,6,28,8],[28,9,28,13],[28,14,28,29],[28,31,28,47],[28,48,28,49],[27,1,27,2],[27,3,27,5],[27,6,27,8],[27,9,27,13],[27,14,27,29],[27,31,27,47],[25,53,25,54],[26,1,26,2],[26,3,26,5],[26,6,26,8],[26,9,26,13],[26,14,26,29],[26,31,26,47],[26,48,26,49],[26,51,26,52],[26,53,26,54],[29,53,29,54],[30,1,30,2],[30,3,30,5],[30,6,30,8],[30,9,30,13],[30,14,30,29],[30,31,30,47],[30,48,30,49],[30,51,30,52],[30,53,30,54],[28,51,28,52],[28,53,28,54],[29,1,29,2],[29,3,29,5],[29,6,29,8],[29,9,29,13],[29,14,29,29],[29,31,29,47],[29,48,29,49],[29,51,29,52],[32,51,32,52],[32,53,32,54],[33,1,33,2],[33,3,33,5],[33,6,33,8],[33,9,33,13],[33,14,33,29],[33,31,33,47],[33,48,33,49],[33,51,33,52],[31,48,31,49],[31,51,31,52],[31,53,31,54],[32,1,32,2],[32,3,32,5],[32,6,32,8],[32,9,32,13],[32,14,32,29],[32,31,32,47],[32,48,32,49],[31,1,31,2],[31,3,31,5],[31,6,31,8],[31,9,31,13],[31,14,31,29],[31,31,31,47],[35,48,35,49],[35,51,35,52],[35,53,35,54],[36,1,36,2],[36,3,36,5],[36,6,36,8],[36,9,36,13],[36,14,36,29],[36,31,36,47],[36,48,36,49],[35,1,35,2],[35,3,35,5],[35,6,35,8],[35,9,35,13],[35,14,35,29],[35,31,35,47],[33,53,33,54],[34,1,34,2],[34,3,34,5],[34,6,34,8],[34,9,34,13],[34,14,34,29],[34,31,34,47],[34,48,34,49],[34,51,34,52],[34,53,34,54],[37,53,37,54],[38,1,38,2],[38,3,38,5],[38,6,38,8],[38,9,38,13],[38,14,38,29],[38,31,38,47],[38,48,38,49],[38,51,38,52],[38,53,38,54],[36,51,36,52],[36,53,36,54],[37,1,37,2],[37,3,37,5],[37,6,37,8],[37,9,37,13],[37,14,37,29],[37,31,37,47],[37,48,37,49],[37,51,37,52],[40,51,40,52],[40,53,40,54],[41,1,41,2],[41,3,41,5],[41,6,41,8],[41,9,41,13],[41,14,41,29],[41,31,41,47],[41,48,41,49],[41,51,41,52],[39,48,39,49],[39,51,39,52],[39,53,39,54],[40,1,40,2],[40,3,40,5],[40,6,40,8],[40,9,40,13],[40,14,40,29],[40,31,40,47],[40,48,40,49],[39,1,39,2],[39,3,39,5],[39,6,39,8],[39,9,39,13],[39,14,39,29],[39,31,39,47],[43,48,43,49],[43,51,43,52],[43,53,43,54],[44,1,44,2],[44,3,44,5],[44,6,44,8],[44,9,44,13],[44,14,44,29],[44,31,44,47],[44,48,44,49],[43,1,43,2],[43,3,43,5],[43,6,43,8],[43,9,43,13],[43,14,43,29],[43,31,43,47],[41,53,41,54],[42,1,42,2],[42,3,42,5],[42,6,42,8],[42,9,42,13],[42,14,42,29],[42,31,42,47],[42,48,42,49],[42,51,42,52],[42,53,42,54],[45,53,45,54],[46,1,46,2],[46,3,46,5],[46,6,46,8],[46,9,46,13],[46,14,46,29],[46,31,46,47],[46,48,46,49],[46,51,46,52],[46,53,46,54],[44,51,44,52],[44,53,44,54],[45,1,45,2],[45,3,45,5],[45,6,45,8],[45,9,45,13],[45,14,45,29],[45,31,45,47],[45,48,45,49],[45,51,45,52],[52,45,52,46],[52,47,52,49],[53,8,53,9],[53,10,53,35],[53,36,53,38],[53,39,53,41],[53,42,53,43],[53,45,53,46],[53,47,53,49],[51,8,51,35],[51,36,51,38],[51,39,51,41],[51,42,51,46],[51,47,51,49],[52,8,52,9],[52,10,52,35],[52,36,52,38],[52,39,52,41],[52,42,52,43],[56,47,56,49],[57,8,57,9],[57,10,57,35],[57,36,57,38],[57,39,57,41],[57,42,57,43],[57,45,57,46],[57,47,57,49],[56,8,56,9],[56,10,56,35],[56,36,56,38],[56,39,56,41],[56,42,56,43],[56,45,56,46],[54,47,54,49],[55,8,55,9],[55,10,55,35],[55,36,55,38],[55,39,55,41],[55,42,55,43],[55,45,55,46],[55,47,55,49],[54,8,54,9],[54,10,54,35],[54,36,54,38],[54,39,54,41],[54,42,54,43],[54,45,54,46],[114,47,114,48],[115,9,115,10],[115,11,115,46],[115,47,115,48],[116,9,116,10],[116,11,116,46],[116,47,116,48],[107,1,107,38],[109,7,109,11],[109,20,109,21],[109,23,109,27],[109,37,109,41],[114,9,114,46],[58,47,58,49],[101,0,101,54],[102,0,102,54],[103,0,103,41],[105,12,105,19],[105,24,105,31],[58,8,58,9],[58,10,58,35],[58,36,58,38],[58,39,58,41],[58,42,58,43],[58,45,58,46],[121,9,121,10],[121,11,121,46],[121,47,121,48],[125,1,125,2],[125,3,125,5],[125,6,125,8],[125,9,125,13],[125,14,125,47],[125,48,125,52],[119,9,119,10],[119,11,119,46],[119,47,119,48],[120,9,120,10],[120,11,120,46],[120,47,120,48],[117,9,117,10],[117,11,117,46],[117,47,117,48],[118,9,118,10],[118,11,118,46],[118,47,118,48],[127,48,127,49],[127,51,127,52],[127,53,127,54],[128,1,128,2],[128,3,128,5],[128,6,128,8],[128,9,128,13],[128,14,128,29],[128,31,128,47],[128,48,128,49],[127,1,127,2],[127,3,127,5],[127,6,127,8],[127,9,127,13],[127,14,127,29],[127,31,127,47],[125,53,125,54],[126,1,126,2],[126,3,126,5],[126,6,126,8],[126,9,126,13],[126,14,126,29],[126,31,126,47],[126,48,126,49],[126,51,126,52],[126,53,126,54],[129,53,129,54],[130,1,130,2],[130,3,130,5],[130,6,130,8],[130,9,130,13],[130,14,130,29],[130,31,130,47],[130,48,130,49],[130,51,130,52],[130,53,130,54],[128,51,128,52],[128,53,128,54],[129,1,129,2],[129,3,129,5],[129,6,129,8],[129,9,129,13],[129,14,129,29],[129,31,129,47],[129,48,129,49],[129,51,129,52],[132,51,132,52],[132,53,132,54],[133,1,133,2],[133,3,133,5],[133,6,133,8],[133,9,133,13],[133,14,133,29],[133,31,133,47],[133,48,133,49],[133,51,133,52],[131,48,131,49],[131,51,131,52],[131,53,131,54],[132,1,132,2],[132,3,132,5],[132,6,132,8],[132,9,132,13],[132,14,132,29],[132,31,132,47],[132,48,132,49],[131,1,131,2],[131,3,131,5],[131,6,131,8],[131,9,131,13],[131,14,131,29],[131,31,131,47],[135,48,135,49],[135,51,135,52],[135,53,135,54],[136,1,136,2],[136,3,136,5],[136,6,136,8],[136,9,136,13],[136,14,136,29],[136,31,136,47],[136,48,136,49],[135,1,135,2],[135,3,135,5],[135,6,135,8],[135,9,135,13],[135,14,135,29],[135,31,135,47],[133,53,133,54],[134,1,134,2],[134,3,134,5],[134,6,134,8],[134,9,134,13],[134,14,134,29],[134,31,134,47],[134,48,134,49],[134,51,134,52],[134,53,134,54],[137,53,137,54],[138,1,138,2],[138,3,138,5],[138,6,138,8],[138,9,138,13],[138,14,138,29],[138,31,138,47],[138,48,138,49],[138,51,138,52],[138,53,138,54],[136,51,136,52],[136,53,136,54],[137,1,137,2],[137,3,137,5],[137,6,137,8],[137,9,137,13],[137,14,137,29],[137,31,137,47],[137,48,137,49],[137,51,137,52],[140,51,140,52],[140,53,140,54],[141,1,141,2],[141,3,141,5],[141,6,141,8],[141,9,141,13],[141,14,141,29],[141,31,141,47],[141,48,141,49],[141,51,141,52],[139,48,139,49],[139,51,139,52],[139,53,139,54],[140,1,140,2],[140,3,140,5],[140,6,140,8],[140,9,140,13],[140,14,140,29],[140,31,140,47],[140,48,140,49],[139,1,139,2],[139,3,139,5],[139,6,139,8],[139,9,139,13],[139,14,139,29],[139,31,139,47],[143,48,143,49],[143,51,143,52],[143,53,143,54],[144,1,144,2],[144,3,144,5],[144,6,144,8],[144,9,144,13],[144,14,144,29],[144,31,144,47],[144,48,144,49],[143,1,143,2],[143,3,143,5],[143,6,143,8],[143,9,143,13],[143,14,143,29],[143,31,143,47],[141,53,141,54],[142,1,142,2],[142,3,142,5],[142,6,142,8],[142,9,142,13],[142,14,142,29],[142,31,142,47],[142,48,142,49],[142,51,142,52],[142,53,142,54],[145,53,145,54],[146,1,146,2],[146,3,146,5],[146,6,146,8],[146,9,146,13],[146,14,146,29],[146,31,146,47],[146,48,146,49],[146,51,146,52],[146,53,146,54],[144,51,144,52],[144,53,144,54],[145,1,145,2],[145,3,145,5],[145,6,145,8],[145,9,145,13],[145,14,145,29],[145,31,145,47],[145,48,145,49],[145,51,145,52],[152,45,152,46],[152,47,152,49],[153,8,153,9],[153,10,153,35],[153,36,153,38],[153,39,153,41],[153,42,153,43],[153,45,153,46],[153,47,153,49],[151,8,151,35],[151,36,151,38],[151,39,151,41],[151,42,151,46],[151,47,151,49],[152,8,152,9],[152,10,152,35],[152,36,152,38],[152,39,152,41],[152,42,152,43],[156,47,156,49],[157,8,157,9],[157,10,157,35],[157,36,157,38],[157,39,157,41],[157,42,157,43],[157,45,157,46],[157,47,157,49],[156,8,156,9],[156,10,156,35],[156,36,156,38],[156,39,156,41],[156,42,156,43],[156,45,156,46],[154,47,154,49],[155,8,155,9],[155,10,155,35],[155,36,155,38],[155,39,155,41],[155,42,155,43],[155,45,155,46],[155,47,155,49],[154,8,154,9],[154,10,154,35],[154,36,154,38],[154,39,154,41],[154,42,154,43],[154,45,154,46],[214,47,214,48],[215,9,215,10],[215,11,215,46],[215,47,215,48],[216,9,216,10],[216,11,216,46],[216,47,216,48],[207,1,207,38],[209,7,209,11],[209,20,209,21],[209,23,209,27],[209,37,209,41],[214,9,214,46],[158,47,158,49],[201,0,201,54],[202,0,202,54],[203,0,203,41],[205,12,205,19],[205,24,205,31],[158,8,158,9],[158,10,158,35],[158,36,158,38],[158,39,158,41],[158,42,158,43],[158,45,158,46],[221,9,221,10],[221,11,221,46],[221,47,221,48],[225,1,225,2],[225,3,225,5],[225,6,225,8],[225,9,225,13],[225,14,225,47],[225,48,225,52],[219,9,219,10],[219,11,219,46],[219,47,219,48],[220,9,220,10],[220,11,220,46],[220,47,220,48],[217,9,217,10],[217,11,217,46],[217,47,217,48],[218,9,218,10],[218,11,218,46],[218,47,218,48],[227,48,227,49],[227,51,227,52],[227,53,227,54],[228,1,228,2],[228,3,228,5],[228,6,228,8],[228,9,228,13],[228,14,228,29],[228,31,228,47],[228,48,228,49],[227,1,227,2],[227,3,227,5],[227,6,227,8],[227,9,227,13],[227,14,227,29],[227,31,227,47],[225,53,225,54],[226,1,226,2],[226,3,226,5],[226,6,226,8],[226,9,226,13],[226,14,226,29],[226,31,226,47],[226,48,226,49],[226,51,226,52],[226,53,226,54],[229,53,229,54],[230,1,230,2],[230,3,230,5],[230,6,230,8],[230,9,230,13],[230,14,230,29],[230,31,230,47],[230,48,230,49],[230,51,230,52],[230,53,230,54],[228,51,228,52],[228,53,228,54],[229,1,229,2],[229,3,229,5],[229,6,229,8],[229,9,229,13],[229,14,229,29],[229,31,229,47],[229,48,229,49],[229,51,229,52],[232,51,232,52],[232,53,232,54],[233,1,233,2],[233,3,233,5],[233,6,233,8],[233,9,233,13],[233,14,233,29],[233,31,233,47],[233,48,233,49],[233,51,233,52],[231,48,231,49],[231,51,231,52],[231,53,231,54],[232,1,232,2],[232,3,232,5],[232,6,232,8],[232,9,232,13],[232,14,232,29],[232,31,232,47],[232,48,232,49],[231,1,231,2],[231,3,231,5],[231,6,231,8],[231,9,231,13],[231,14,231,29],[231,31,231,47],[235,48,235,49],[235,51,235,52],[235,53,235,54],[236,1,236,2],[236,3,236,5],[236,6,236,8],[236,9,236,13],[236,14,236,29],[236,31,236,47],[236,48,236,49],[235,1,235,2],[235,3,235,5],[235,6,235,8],[235,9,235,13],[235,14,235,29],[235,31,235,47],[233,53,233,54],[234,1,234,2],[234,3,234,5],[234,6,234,8],[234,9,234,13],[234,14,234,29],[234,31,234,47],[234,48,234,49],[234,51,234,52],[234,53,234,54],[237,53,237,54],[238,1,238,2],[238,3,238,5],[238,6,238,8],[238,9,238,13],[238,14,238,29],[238,31,238,47],[238,48,238,49],[238,51,238,52],[238,53,238,54],[236,51,236,52],[236,53,236,54],[237,1,237,2],[237,3,237,5],[237,6,237,8],[237,9,237,13],[237,14,237,29],[237,31,237,47],[237,48,237,49],[237,51,237,52],[240,51,240,52],[240,53,240,54],[241,1,241,2],[241,3,241,5],[241,6,241,8],[241,9,241,13],[241,14,241,29],[241,31,241,47],[241,48,241,49],[241,51,241,52],[239,48,239,49],[239,51,239,52],[239,53,239,54],[240,1,240,2],[240,3,240,5],[240,6,240,8],[240,9,240,13],[240,14,240,29],[240,31,240,47],[240,48,240,49],[239,1,239,2],[239,3,239,5],[239,6,239,8],[239,9,239,13],[239,14,239,29],[239,31,239,47],[243,48,243,49],[243,51,243,52],[243,53,243,54],[244,1,244,2],[244,3,244,5],[244,6,244,8],[244,9,244,13],[244,14,244,29],[244,31,244,47],[244,48,244,49],[243,1,243,2],[243,3,243,5],[243,6,243,8],[243,9,243,13],[243,14,243,29],[243,31,243,47],[241,53,241,54],[242,1,242,2],[242,3,242,5],[242,6,242,8],[242,9,242,13],[242,14,242,29],[242,31,242,47],[242,48,242,49],[242,51,242,52],[242,53,242,54],[245,53,245,54],[246,1,246,2],[246,3,246,5],[246,6,246,8],[246,9,246,13],[246,14,246,29],[246,31,246,47],[246,48,246,49],[246,51,246,52],[246,53,246,54],[244,51,244,52],[244,53,244,54],[245,1,245,2],[245,3,245,5],[245,6,245,8],[245,9,245,13],[245,14,245,29],[245,31,245,47],[245,48,245,49],[245,51,245,52],[252,45,252,46],[252,47,252,49],[253,8,253,9],[253,10,253,35],[253,36,253,38],[253,39,253,41],[253,42,253,43],[253,45,253,46],[253,47,253,49],[251,8,251,35],[251,36,251,38],[251,39,251,41],[251,42,251,46],[251,47,251,49],[252,8,252,9],[252,10,252,35],[252,36,252,38],[252,39,252,41],[252,42,252,43],[256,47,256,49],[257,8,257,9],[257,10,257,35],[257,36,257,38],[257,39,257,41],[257,42,257,43],[257,45,257,46],[257,47,257,49],[256,8,256,9],[256,10,256,35],[256,36,256,38],[256,39,256,41],[256,42,256,43],[256,45,256,46],[254,47,254,49],[255,8,255,9],[255,10,255,35],[255,36,255,38],[255,39,255,41],[255,42,255,43],[255,45,255,46],[255,47,255,49],[254,8,254,9],[254,10,254,35],[254,36,254,38],[254,39,254,41],[254,42,254,43],[254,45,254,46],[314,47,314,48],[315,9,315,10],[315,11,315,46],[315,47,315,48],[316,9,316,10],[316,11,316,46],[316,47,316,48],[307,1,307,38],[309,7,309,11],[309,20,309,21],[309,23,309,27],[309,37,309,41],[314,9,314,46],[258,47,258,49],[301,0,301,54],[302,0,302,54],[303,0,303,41],[305,12,305,19],[305,24,305,31],[258,8,258,9],[258,10,258,35],[258,36,258,38],[258,39,258,41],[258,42,258,43],[258,45,258,46],[321,9,321,10],[321,11,321,46],[321,47,321,48],[325,1,325,2],[325,3,325,5],[325,6,325,8],[325,9,325,13],[325,14,325,47],[325,48,325,52],[319,9,319,10],[319,11,319,46],[319,47,319,48],[320,9,320,10],[320,11,320,46],[320,47,320,48],[317,9,317,10],[317,11,317,46],[317,47,317,48],[318,9,318,10],[318,11,318,46],[318,47,318,48],[327,48,327,49],[327,51,327,52],[327,53,327,54],[328,1,328,2],[328,3,328,5],[328,6,328,8],[328,9,328,13],[328,14,328,29],[328,31,328,47],[328,48,328,49],[327,1,327,2],[327,3,327,5],[327,6,327,8],[327,9,327,13],[327,14,327,29],[327,31,327,47],[325,53,325,54],[326,1,326,2],[326,3,326,5],[326,6,326,8],[326,9,326,13],[326,14,326,29],[326,31,326,47],[326,48,326,49],[326,51,326,52],[326,53,326,54],[329,53,329,54],[330,1,330,2],[330,3,330,5],[330,6,330,8],[330,9,330,13],[330,14,330,29],[330,31,330,47],[330,48,330,49],[330,51,330,52],[330,53,330,54],[328,51,328,52],[328,53,328,54],[329,1,329,2],[329,3,329,5],[329,6,329,8],[329,9,329,13],[329,14,329,29],[329,31,329,47],[329,48,329,49],[329,51,329,52],[332,51,332,52],[332,53,332,54],[333,1,333,2],[333,3,333,5],[333,6,333,8],[333,9,333,13],[333,14,333,29],[333,31,333,47],[333,48,333,49],[333,51,333,52],[331,48,331,49],[331,51,331,52],[331,53,331,54],[332,1,332,2],[332,3,332,5],[332,6,332,8],[332,9,332,13],[332,14,332,29],[332,31,332,47],[332,48,332,49],[331,1,331,2],[331,3,331,5],[331,6,331,8],[331,9,331,13],[331,14,331,29],[331,31,331,47],[335,48,335,49],[335,51,335,52],[335,53,335,54],[336,1,336,2],[336,3,336,5],[336,6,336,8],[336,9,336,13],[336,14,336,29],[336,31,336,47],[336,48,336,49],[335,1,335,2],[335,3,335,5],[335,6,335,8],[335,9,335,13],[335,14,335,29],[335,31,335,47],[333,53,333,54],[334,1,334,2],[334,3,334,5],[334,6,334,8],[334,9,334,13],[334,14,334,29],[334,31,334,47],[334,48,334,49],[334,51,334,52],[334,53,334,54],[337,53,337,54],[338,1,338,2],[338,3,338,5],[338,6,338,8],[338,9,338,13],[338,14,338,29],[338,31,338,47],[338,48,338,49],[338,51,338,52],[338,53,338,54],[336,51,336,52],[336,53,336,54],[337,1,337,2],[337,3,337,5]],"merged_total":1698,"flags":["merged_cut"]}
[]
["Vorrunde"]
["Gruppe A"]
[]
[]
[]
[]
[]
[]
[null,null,null,null,null,null,"Beginn:",{"$f":"Vorgaben!C4","v":"14:15:00"},null,null,null,null,"Uhr",null,null,null,null,null,null,"Spielzeit:",{"$f":"Vorgaben!C5","v":1},"1x","x",{"$f":"Vorgaben!C6","v":"00:09:00"},null,null,null,null,"min",null,null,null,null,null,null,null,"Pause:",{"$f":"Vorgaben!C7","v":"00:01:00"},null,null,null,null,"min"]
[]
[]
[null,"I. Teilnehmende Mannschaften"]
[]
[null,null,null,null,null,null,null,null,null,"Mannschaften"]
[null,null,null,null,null,null,null,null,null,"1.",null,{"$f":"Vorgaben!B19","v":"Gruppe A1"}]
[null,null,null,null,null,null,null,null,null,"2.",null,{"$f":"Vorgaben!B20","v":"Gruppe A2"}]
[null,null,null,null,null,null,null,null,null,"3.",null,{"$f":"Vorgaben!B21","v":"Gruppe A3"}]
[null,null,null,null,null,null,null,null,null,"4.",null,{"$f":"Vorgaben!B22","v":"Gruppe A4"}]
[null,null,null,null,null,null,null,null,null,"5.",null,{"$f":"Vorgaben!B23","v":"Gruppe A5"}]
[null,null,null,null,null,null,null,null,null,"6.",null,{"$f":"Vorgaben!B24","v":"Gruppe A6"}]
[null,null,null,null,null,null,null,null,null,"7.",null,{"$f":"Vorgaben!B25","v":"Gruppe A7"}]
[]
[null,"II. Spielplan"]
[]
[null,"Nr.",null,null,null,null,null,null,null,"Beginn",null,null,null,null,"Spielpaarungen",null,null,null,null,null,null,null,null,null,null,null,null,null,null,null,null,null,null,null,null,null,null,null,null,null,null,null,null,null,null,null,null,null,"Ergebnisse",null,null,null,null,null,null,null,null,"Punkte"]
[{"$f":"VLOOKUP(B7,Vorgaben!B8:C14,2,FALSE)","v":{"$error":"#N/A"}},1,null,null,null,null,null,null,null,{"$f":"$H$10","v":"14:15:00"},null,null,null,null,{"$f":"L16","v":"Gruppe A1"},null,null,null,null,null,null,null,null,null,null,null,null,null,null,null,"-",{"$f":"L17","v":"Gruppe A2"},null,null,null,null,null,null,null,null,null,null,null,null,null,null,null,null,{"$f":"IF(ISBLANK('Gruppe A1'!AW28),\"\",'Gruppe A1'!AW28)","v":1},null,":",{"$f":"IF(ISBLANK('Gruppe A1'!AZ28),\"\",'Gruppe A1'!AZ28)","v":1},null,null,null,null,null,{"$f":"IF(ISBLANK(AW27),\"0\",IF(AW27>AZ27,3,IF(AW27=AZ27,1,0)))","v":1},":",{"$f":"IF(ISBLANK(AZ27),\"0\",IF(AZ27>AW27,3,IF(AZ27=AW27,1,0)))","v":1}]
[{"$f":"VLOOKUP(B28,Vorgaben!B$10:C$16,2,FALSE)","v":{"$error":"#N/A"}},2,null,null,null,null,null,null,null,{"$f":"IF(ISNA(A28),J27+($U$10*$X$10+$AL$10),J27+($U$10*$X$10+$AL$10)+A28)","v":"14:25:00"},null,null,null,null,{"$f":"L18","v":"Gruppe A3"},null,null,null,null,null,null,null,null,null,null,null,null,null,null,null,"-",{"$f":"L19","v":"Gruppe A4"},null,null,null,null,null,null,null,null,null,null,null,null,null,null,null,null,{"$f":"IF(ISBLANK('Gruppe A1'!AW29),\"\",'Gruppe A1'!AW29)","v":1},null,":",{"$f":"IF(ISBLANK('Gruppe A1'!AZ29),\"\",'Gruppe A1'!AZ29)","v":1},null,null,null,null,null,{"$f":"IF(ISBLANK(AW28),\"0\",IF(AW28>AZ28,3,IF(AW28=AZ28,1,0)))","v":1},":",{"$f":"IF(ISBLANK(AZ28),\"0\",IF(AZ28>AW28,3,IF(AZ28=AW28,1,0)))","v":1}]
[{"$f":"VLOOKUP(B29,Vorgaben!B$10:C$16,2,FALSE)","v":{"$error":"#N/A"}},3,null,null,null,null,null,null,null,{"$f":"IF(ISNA(A29),J28+($U$10*$X$10+$AL$10),J28+($U$10*$X$10+$AL$10)+A29)","v":"14:35:00"},null,null,null,null,{"$f":"L20","v":"Gruppe A5"},null,null,null,null,null,null,null,null,null,null,null,null,null,null,null,"-",{"$f":"L21","v":"Gruppe A6"},null,null,null,null,null,null,null,null,null,null,null,null,null,null,null,null,{"$f":"IF(ISBLANK('Gruppe A1'!AW30),\"\",'Gruppe A1'!AW30)","v":1},null,":",{"$f":"IF(ISBLANK('Gruppe A1'!AZ30),\"\",'Gruppe A1'!AZ30)","v":1},null,null,null,null,null,1,":",1,null,null,null,null,{"$f":"IF(BM31=\"Min. 3 Teams identisch.  HANDSORTIERUNG!\",BM31,IF(BM31=\"ACHTUNG! Direkter Vergleich war unentschieden!\",BM31,BM30))","v":"ACHTUNG! Direkter Vergleich war unentschieden!"}]
[{"$f":"VLOOKUP(B30,Vorgaben!B$10:C$16,2,FALSE)","v":{"$error":"#N/A"}},4,null,null,null,null,null,null,null,"14:45:00",null,null,null,null,{"$f":"L22","v":"Gruppe A7"},null,null,null,null,null,null,null,null,null,null,null,null,null,null,null,"-",{"$f":"L16","v":"Gruppe A1"},null,null,null,null,null,null,null,null,null,null,null,null,null,null,null,null,{"$f":"IF(ISBLANK('Gruppe A1'!AW31),\"\",'Gruppe A1'!AW31)","v":3},null,":",{"$f":"IF(ISBLANK('Gruppe A1'!AZ31),\"\",'Gruppe A1'!AZ31)","v":1},null,null,null,null,null,3,":",0,null,null,null,null,{"$f":"IF(AND(EXACT(BO33,BO34),EXACT(BP33,BP34),EXACT(BS33,BS34)),\"ACHTUNG: Direkter Vergleich erfolgreich durchlaufen!\",IF(AND(EXACT(BO34,BO35),EXACT(BP34,BP35),EXACT(BS34,BS35)),\"ACHTUNG: Direkter Vergleich erfolgreich durchlaufen!\",IF(AND(EXACT(BO35,BO36),EXACT(BP35,BP36),EXACT(BS35,BS36)),\"ACHTUNG: Direkter Vergleich erfolgreich durchlaufen!\",IF(AND(EXACT(BO36,BO37),EXACT(BP36,BP37),EXACT(BS36,BS37)),\"ACHTUNG: Direkter Vergleich erfolgreich durchlaufen!\",IF(AND(EXACT(BO37,BO38),EXACT(BP37,BP38),EXACT(BS37,BS38)),\"ACHTUNG: Direkter Vergleich erfolgreich durchlaufen!\",IF(AND(EXACT(BO38,BO39),EXACT(BP38,BP39),EXACT(BS38,BS39)),\"ACHTUNG: Direkter Vergleich erfolgreich durchlaufen!\",\"\"))))))","v":"ACHTUNG: Direkter Vergleich erfolgreich durchlaufen!"}]
[{"$f":"VLOOKUP(B31,Vorgaben!B$10:C$16,2,FALSE)","v":{"$error":"#N/A"}},5,null,null,null,null,null,null,null,"14:55:00",null,null,null,null,{"$f":"L17","v":"Gruppe A2"},null,null,null,null,null,null,null,null,null,null,null,null,null,null,null,"-",{"$f":"L19","v":"Gruppe A4"},null,null,null,null,null,null,null,null,null,null,null,null,null,null,null,null,{"$f":"IF(ISBLANK('Gruppe A1'!AW32),\"\",'Gruppe A1'!AW32)","v":1},null,":",{"$f":"IF(ISBLANK('Gruppe A1'!AZ32),\"\",'Gruppe A1'!AZ32)","v":1},null,null,null,null,null,1,":",1,null,null,null,null,{"$f":"IF(OR(CC33=3,CC34=3,CC35=3,CC36=3,CC37=3,CC38=3,CC39=3),\"Min. 3 Teams identisch.  HANDSORTIERUNG!\",IF(OR(CB33=\"ACHTUNG! Direkter Vergleich war unentschieden!\",CB34=\"ACHTUNG! Direkter Vergleich war unentschieden!\",CB35=\"ACHTUNG! Direkter Vergleich war unentschieden!\",CB36=\"ACHTUNG! Direkter Vergleich war unentschieden!\",CB37=\"ACHTUNG! Direkter Vergleich war unentschieden!\",CB38=\"ACHTUNG! Direkter Vergleich war unentschieden!\",CB39=\"ACHTUNG! Direkter Vergleich war unentschieden!\"),\"ACHTUNG! Direkter Vergleich war unentschieden!\",\"\"))","v":"ACHTUNG! Direkter Vergleich war unentschieden!"}]
[{"$f":"VLOOKUP(B32,Vorgaben!B$10:C$16,2,FALSE)","v":{"$error":"#N/A"}},6,null,null,null,null,null,null,null,"15:05:00",null,null,null,null,{"$f":"L18","v":"Gruppe A3"},null,null,null,null,null,null,null,null,null,null,null,null,null,null,null,"-",{"$f":"L20","v":"Gruppe A5"},null,null,null,null,null,null,null,null,null,null,null,null,null,null,null,null,{"$f":"IF(ISBLANK('Gruppe A1'!AW33),\"\",'Gruppe A1'!AW33)","v":1},null,":",{"$f":"IF(ISBLANK('Gruppe A1'!AZ33),\"\",'Gruppe A1'!AZ33)","v":1},null,null,null,null,null,1,":",1,null,null,null,null,null,"Spiele","Punkte","Tore+",null,"Tore-","Diff"]
[{"$f":"VLOOKUP(B33,Vorgaben!B$10:C$16,2,FALSE)","v":{"$error":"#N/A"}},7,null,null,null,null,null,null,null,"15:15:00",null,null,null,null,{"$f":"L16","v":"Gruppe A1"},null,null,null,null,null,null,null,null,null,null,null,null,null,null,null,"-",{"$f":"L21","v":"Gruppe A6"},null,null,null,null,null,null,null,null,null,null,null,null,null,null,null,null,{"$f":"IF(ISBLANK('Gruppe A1'!AW34),\"\",'Gruppe A1'!AW34)","v":1},null,":",{"$f":"IF(ISBLANK('Gruppe A1'!AZ34),\"\",'Gruppe A1'!AZ34)","v":1},null,null,null,null,null,1,":",1,null,null,null,{"$f":"INDEX(Vorgaben!B$19:D$26,MATCH($BM33,Vorgaben!$B$19:$B$26,0),3)","v":0},{"$f":"'Gruppe A1'!$BM$44","v":"Gruppe A3"},{"$f":"'Gruppe A1'!$BN$44","v":6},{"$f":"'Gruppe A1'!$BO$44","v":9},{"$f":"'Gruppe A1'!$BP$44","v":9},{"$f":"'Gruppe A1'!$BQ$44","v":":"},{"$f":"'Gruppe A1'!$BR$44","v":7},{"$f":"'Gruppe A1'!$BS$44","v":2},{"$f":"BV33","v":-10},null,{"$f":"IF(BX33>BY34,10,IF(BX33<BY34,-10,0))","v":-10},null,{"$f":"IF(ISNA(INDEX(BF$27:BF$47,MATCH(BM33&BM34,O$27:O$47&AF$27:AF$47,0))),INDEX(BH$27:BH$47,MATCH(BM34&BM33,O$27:O$47&AF$27:AF$47,0)),INDEX(BF$27:BF$47,MATCH(BM33&BM34,O$27:O$47&AF$27:AF$47,0)))","v":0},null,{"$f":"IF(AND(EXACT(BO33,BO34),EXACT(BP33,BP34),EXACT(BS33,BS34),EXACT(BX33,BY34)),\"ACHTUNG! Direkter Vergleich war unentschieden!\",IF(AND(EXACT(BO33,BO34),EXACT(BP33,BP34),EXACT(BS33,BS34)),1,2))","v":2},{"$f":"IF(AND(EXACT(BO32,BO33),EXACT(BP32,BP33),EXACT(BS32,BS33),EXACT(BX33,BY32)),\"ACHTUNG! Direkter Vergleich war unentschieden!\",\"\")","v":""},{"$f":"IF(OR(BZ33=\"ACHTUNG! Direkter Vergleich war unentschieden!\",CA33=\"ACHTUNG! Direkter Vergleich war unentschieden!\"),\"ACHTUNG! Direkter Vergleich war unentschieden!\",\"\")","v":""},{"$f":"IF(OR(AND(EXACT(BO33,BO34),EXACT(BP33,BP34),EXACT(BS33,BS34),EXACT(BO33,BO35),EXACT(BP33,BP35),EXACT(BS33,BS35)),AND(EXACT(BO33,BO34),EXACT(BP33,BP34),EXACT(BS33,BS34),EXACT(BO33,BO32),EXACT(BP33,BP32),EXACT(BS33,BS32))*AND(EXACT(BO33,BO31),EXACT(BP33,BP31),EXACT(BS33,BS31),EXACT(BO33,BO32),EXACT(BP33,BP32),EXACT(BS33,BS32))),3,1)","v":1}]
[{"$f":"VLOOKUP(B34,Vorgaben!B$10:C$16,2,FALSE)","v":{"$error":"#N/A"}},8,null,null,null,null,null,null,null,"15:25:00",null,null,null,null,{"$f":"L19","v":"Gruppe A4"},null,null,null,null,null,null,null,null,null,null,null,null,null,null,null,"-",{"$f":"L22","v":"Gruppe A7"},null,null,null,null,null,null,null,null,null,null,null,null,null,null,null,null,{"$f":"IF(ISBLANK('Gruppe A1'!AW35),\"\",'Gruppe A1'!AW35)","v":1},null,":",{"$f":"IF(ISBLANK('Gruppe A1'!AZ35),\"\",'Gruppe A1'!AZ35)","v":1},null,null,null,null,null,1,":",1,null,null,null,{"$f":"INDEX(Vorgaben!B$19:D$26,MATCH($BM34,Vorgaben!$B$19:$B$26,0),3)","v":0},{"$f":"'Gruppe A1'!$BM$47","v":"Gruppe A7"},{"$f":"'Gruppe A1'!$BN$47","v":6},{"$f":"'Gruppe A1'!$BO$47","v":9},{"$f":"'Gruppe A1'!$BP$47","v":9},{"$f":"'Gruppe A1'!$BQ$47","v":":"},{"$f":"'Gruppe A1'!$BR$47","v":8},{"$f":"'Gruppe A1'!$BS$47","v":1},{"$f":"BV34","v":10},{"$f":"BW34","v":-10},{"$f":"IF(BX33<BY34,10,IF(BX33>BY34,-10,0))","v":10},{"$f":"IF(BX34>BY35,10,IF(BX34<BY35,-10,0))","v":-10},{"$f":"IF(ISNA(INDEX(BF$27:BF$47,MATCH(BM34&BM35,O$27:O$47&AF$27:AF$47,0))),INDEX(BH$27:BH$47,MATCH(BM35&BM34,O$27:O$47&AF$27:AF$47,0)),INDEX(BF$27:BF$47,MATCH(BM34&BM35,O$27:O$47&AF$27:AF$47,0)))","v":0},{"$f":"IF(ISNA(INDEX(BF27:BF47,MATCH(BM34&BM33,O27:O47&AF27:AF47,0))),INDEX(BH27:BH47,MATCH(BM33&BM34,O27:O47&AF27:AF47,0)),INDEX(BF27:BF47,MATCH(BM34&BM33,O27:O47&AF27:AF47,0)))","v":3},2,{"$f":"IF(AND(EXACT(BO33,BO34),EXACT(BP33,BP34),EXACT(BS33,BS34),EXACT(BY34,BX33)),\"ACHTUNG! Direkter Vergleich war unentschieden!\",IF(AND(EXACT(BO33,BO34),EXACT(BP33,BP34),EXACT(BS33,BS34)),1,2))","v":2},"",1]
[{"$f":"VLOOKUP(B35,Vorgaben!B$10:C$16,2,FALSE)","v":{"$error":"#N/A"}},9,null,null,null,null,null,null,null,"15:35:00",null,null,null,null,{"$f":"L17","v":"Gruppe A2"},null,null,null,null,null,null,null,null,null,null,null,null,null,null,null,"-",{"$f":"L18","v":"Gruppe A3"},null,null,null,null,null,null,null,null,null,null,null,null,null,null,null,null,{"$f":"IF(ISBLANK('Gruppe A1'!AW36),\"\",'Gruppe A1'!AW36)","v":1},null,":",{"$f":"IF(ISBLANK('Gruppe A1'!AZ36),\"\",'Gruppe A1'!AZ36)","v":2},null,null,null,null,null,0,":",3,null,null,null,{"$f":"INDEX(Vorgaben!B$19:D$26,MATCH($BM35,Vorgaben!$B$19:$B$26,0),3)","v":0},{"$f":"'Gruppe A1'!$BM$49","v":"Gruppe A6"},{"$f":"'Gruppe A1'!$BN$49","v":6},{"$f":"'Gruppe A1'!$BO$49","v":7},{"$f":"'Gruppe A1'!$BP$49","v":8},{"$f":"'Gruppe A1'!$BQ$49","v":":"},{"$f":"'Gruppe A1'!$BR$49","v":8},{"$f":"'Gruppe A1'!$BS$49","v":0},{"$f":"BV35","v":10},0,10,{"$f":"IF(BX35>BY36,10,IF(BX35<BY36,-10,0))","v":0},{"$f":"IF(ISNA(INDEX(BF$27:BF$47,MATCH(BM35&BM36,O$27:O$47&AF$27:AF$47,0))),INDEX(BH$27:BH$47,MATCH(BM36&BM35,O$27:O$47&AF$27:AF$47,0)),INDEX(BF$27:BF$47,MATCH(BM35&BM36,O$27:O$47&AF$27:AF$47,0)))","v":1},{"$f":"IF(ISNA(INDEX(BF27:BF47,MATCH(BM35&BM34,O27:O47&AF27:AF47,0))),INDEX(BH27:BH47,MATCH(BM34&BM35,O27:O47&AF27:AF47,0)),INDEX(BF27:BF47,MATCH(BM35&BM34,O27:O47&AF27:AF47,0)))","v":3},2,2,"",{"$f":"IF(OR(AND(EXACT(BO35,BO36),EXACT(BP35,BP36),EXACT(BS35,BS36),EXACT(BO35,BO37),EXACT(BP35,BP37),EXACT(BS35,BS37)),AND(EXACT(BO35,BO36),EXACT(BP35,BP36),EXACT(BS35,BS36),EXACT(BO35,BO34),EXACT(BP35,BP34),EXACT(BS35,BS34))*AND(EXACT(BO35,BO33),EXACT(BP35,BP33),EXACT(BS35,BS33),EXACT(BO35,BO34),EXACT(BP35,BP34),EXACT(BS35,BS34))),3,1)","v":1}]
[{"$f":"VLOOKUP(B36,Vorgaben!B$10:C$16,2,FALSE)","v":{"$error":"#N/A"}},10,null,null,null,null,null,null,null,"15:45:00",null,null,null,null,{"$f":"L20","v":"Gruppe A5"},null,null,null,null,null,null,null,null,null,null,null,null,null,null,null,"-",{"$f":"L16","v":"Gruppe A1"},null,null,null,null,null,null,null,null,null,null,null,null,null,null,null,null,{"$f":"IF(ISBLANK('Gruppe A1'!AW37),\"\",'Gruppe A1'!AW37)","v":1},null,":",{"$f":"IF(ISBLANK('Gruppe A1'!AZ37),\"\",'Gruppe A1'!AZ37)","v":1},null,null,null,null,null,1,":",1,null,null,null,{"$f":"INDEX(Vorgaben!B$19:D$26,MATCH($BM36,Vorgaben!$B$19:$B$26,0),3)","v":0},{"$f":"'Gruppe A1'!$BM$46","v":"Gruppe A4"},{"$f":"'Gruppe A1'!$BN$46","v":6},{"$f":"'Gruppe A1'!$BO$46","v":6},{"$f":"'Gruppe A1'!$BP$46","v":6},{"$f":"'Gruppe A1'!$BQ$46","v":":"},{"$f":"'Gruppe A1'!$BR$46","v":6},{"$f":"'Gruppe A1'!$BS$46","v":0},0,0,0,{"$f":"IF(BX35<BY36,10,IF(BX35>BY36,-10,0))","v":0},{"$f":"IF(ISNA(INDEX(BF$27:BF$47,MATCH(BM36&BM37,O$27:O$47&AF$27:AF$47,0))),INDEX(BH$27:BH$47,MATCH(BM37&BM36,O$27:O$47&AF$27:AF$47,0)),INDEX(BF$27:BF$47,MATCH(BM36&BM37,O$27:O$47&AF$27:AF$47,0)))","v":1},{"$f":"IF(ISNA(INDEX(BF27:BF47,MATCH(BM36&BM35,O27:O47&AF27:AF47,0))),INDEX(BH27:BH47,MATCH(BM35&BM36,O27:O47&AF27:AF47,0)),INDEX(BF27:BF47,MATCH(BM36&BM35,O27:O47&AF27:AF47,0)))","v":1},"ACHTUNG! Direkter Vergleich war unentschieden!",2,"ACHTUNG! Direkter Vergleich war unentschieden!",{"$f":"IF(OR(AND(EXACT(BO36,BO37),EXACT(BP36,BP37),EXACT(BS36,BS37),EXACT(BO36,BO38),EXACT(BP36,BP38),EXACT(BS36,BS38)),AND(EXACT(BO36,BO37),EXACT(BP36,BP37),EXACT(BS36,BS37),EXACT(BO36,BO35),EXACT(BP36,BP35),EXACT(BS36,BS35))*AND(EXACT(BO36,BO34),EXACT(BP36,BP34),EXACT(BS36,BS34),EXACT(BO36,BO35),EXACT(BP36,BP35),EXACT(BS36,BS35))),3,1)","v":1}]
[{"$f":"VLOOKUP(B37,Vorgaben!B$10:C$16,2,FALSE)","v":{"$error":"#N/A"}},11,null,null,null,null,null,null,null,"15:55:00",null,null,null,null,{"$f":"L22","v":"Gruppe A7"},null,null,null,null,null,null,null,null,null,null,null,null,null,null,null,"-",{"$f":"L18","v":"Gruppe A3"},null,null,null,null,null,null,null,null,null,null,null,null,null,null,null,null,{"$f":"IF(ISBLANK('Gruppe A1'!AW38),\"\",'Gruppe A1'!AW38)","v":2},null,":",{"$f":"IF(ISBLANK('Gruppe A1'!AZ38),\"\",'Gruppe A1'!AZ38)","v":1},null,null,null,null,null,3,":",0,null,null,null,{"$f":"INDEX(Vorgaben!B$19:D$26,MATCH($BM37,Vorgaben!$B$19:$B$26,0),3)","v":0},{"$f":"'Gruppe A1'!$BM$48","v":"Gruppe A5"},{"$f":"'Gruppe A1'!$BN$48","v":6},{"$f":"'Gruppe A1'!$BO$48","v":6},{"$f":"'Gruppe A1'!$BP$48","v":6},{"$f":"'Gruppe A1'!$BQ$48","v":":"},{"$f":"'Gruppe A1'!$BR$48","v":6},{"$f":"'Gruppe A1'!$BS$48","v":0},0,0,0,{"$f":"IF(BX37>BY38,10,IF(BX37<BY38,-10,0))","v":0},{"$f":"IF(ISNA(INDEX(BF$27:BF$47,MATCH(BM37&BM38,O$27:O$47&AF$27:AF$47,0))),INDEX(BH$27:BH$47,MATCH(BM38&BM37,O$27:O$47&AF$27:AF$47,0)),INDEX(BF$27:BF$47,MATCH(BM37&BM38,O$27:O$47&AF$27:AF$47,0)))","v":1},{"$f":"IF(ISNA(INDEX(BF27:BF47,MATCH(BM37&BM36,O27:O47&AF27:AF47,0))),INDEX(BH27:BH47,MATCH(BM36&BM37,O27:O47&AF27:AF47,0)),INDEX(BF27:BF47,MATCH(BM37&BM36,O27:O47&AF27:AF47,0)))","v":1},2,"ACHTUNG! Direkter Vergleich war unentschieden!","ACHTUNG! Direkter Vergleich war unentschieden!",1]
[{"$f":"VLOOKUP(B38,Vorgaben!B$10:C$16,2,FALSE)","v":{"$error":"#N/A"}},12,null,null,null,null,null,null,null,"16:05:00",null,null,null,null,{"$f":"L21","v":"Gruppe A6"},null,null,null,null,null,null,null,null,null,null,null,null,null,null,null,"-",{"$f":"L17","v":"Gruppe A2"},null,null,null,null,null,null,null,null,null,null,null,null,null,null,null,null,{"$f":"IF(ISBLANK('Gruppe A1'!AW39),\"\",'Gruppe A1'!AW39)","v":1},null,":",{"$f":"IF(ISBLANK('Gruppe A1'!AZ39),\"\",'Gruppe A1'!AZ39)","v":1},null,null,null,null,null,1,":",1,null,null,null,{"$f":"INDEX(Vorgaben!B$19:D$26,MATCH($BM38,Vorgaben!$B$19:$B$26,0),3)","v":0},{"$f":"'Gruppe A1'!$BM$45","v":"Gruppe A2"},{"$f":"'Gruppe A1'!$BN$45","v":6},{"$f":"'Gruppe A1'!$BO$45","v":5},{"$f":"'Gruppe A1'!$BP$45","v":6},{"$f":"'Gruppe A1'!$BQ$45","v":":"},{"$f":"'Gruppe A1'!$BR$45","v":7},{"$f":"'Gruppe A1'!$BS$45","v":-1},0,0,0,{"$f":"IF(BX37<BY38,10,IF(BX37>BY38,-10,0))","v":0},{"$f":"IF(ISNA(INDEX(BF$27:BF$47,MATCH(BM38&BM39,O$27:O$47&AF$27:AF$47,0))),INDEX(BH$27:BH$47,MATCH(BM39&BM38,O$27:O$47&AF$27:AF$47,0)),INDEX(BF$27:BF$47,MATCH(BM38&BM39,O$27:O$47&AF$27:AF$47,0)))","v":1},{"$f":"IF(ISNA(INDEX(BF27:BF47,MATCH(BM38&BM37,O27:O47&AF27:AF47,0))),INDEX(BH27:BH47,MATCH(BM37&BM38,O27:O47&AF27:AF47,0)),INDEX(BF27:BF47,MATCH(BM38&BM37,O27:O47&AF27:AF47,0)))","v":1},2,2,"",1]
[{"$f":"VLOOKUP(B39,Vorgaben!B$10:C$16,2,FALSE)","v":{"$error":"#N/A"}},13,null,null,null,null,null,null,null,"16:15:00",null,null,null,null,{"$f":"L16","v":"Gruppe A1"},null,null,null,null,null,null,null,null,null,null,null,null,null,null,null,"-",{"$f":"L19","v":"Gruppe A4"},null,null,null,null,null,null,null,null,null,null,null,null,null,null,null,null,{"$f":"IF(ISBLANK('Gruppe A1'!AW40),\"\",'Gruppe A1'!AW40)","v":1},null,":",{"$f":"IF(ISBLANK('Gruppe A1'!AZ40),\"\",'Gruppe A1'!AZ40)","v":1},null,null,null,null,null,1,":",1,null,null,null,{"$f":"INDEX(Vorgaben!B$19:D$26,MATCH($BM39,Vorgaben!$B$19:$B$26,0),3)","v":0},{"$f":"'Gruppe A1'!$BM$43","v":"Gruppe A1"},{"$f":"'Gruppe A1'!$BN$43","v":6},{"$f":"'Gruppe A1'!$BO$43","v":5},{"$f":"'Gruppe A1'!$BP$43","v":6},{"$f":"'Gruppe A1'!$BQ$43","v":":"},{"$f":"'Gruppe A1'!$BR$43","v":8},{"$f":"'Gruppe A1'!$BS$43","v":-2},0,0,0,{"$f":"IF(BX38<BY39,10,IF(BX38>BY39,-10,0))","v":0},null,{"$f":"IF(ISNA(INDEX(BF27:BF47,MATCH(BM39&BM38,O27:O47&AF27:AF47,0))),INDEX(BH27:BH47,MATCH(BM38&BM39,O27:O47&AF27:AF47,0)),INDEX(BF27:BF47,MATCH(BM39&BM38,O27:O47&AF27:AF47,0)))","v":1},null,2,"",1]
[{"$f":"VLOOKUP(B40,Vorgaben!B$10:C$16,2,FALSE)","v":{"$error":"#N/A"}},14,null,null,null,null,null,null,null,"16:25:00",null,null,null,null,{"$f":"L21","v":"Gruppe A6"},null,null,null,null,null,null,null,null,null,null,null,null,null,null,null,"-",{"$f":"L22","v":"Gruppe A7"},null,null,null,null,null,null,null,null,null,null,null,null,null,null,null,null,{"$f":"IF(ISBLANK('Gruppe A1'!AW41),\"\",'Gruppe A1'!AW41)","v":3},null,":",{"$f":"IF(ISBLANK('Gruppe A1'!AZ41),\"\",'Gruppe A1'!AZ41)","v":1},null,null,null,null,null,3,":",0]
[{"$f":"VLOOKUP(B41,Vorgaben!B$10:C$16,2,FALSE)","v":{"$error":"#N/A"}},15,null,null,null,null,null,null,null,"16:35:00",null,null,null,null,{"$f":"L17","v":"Gruppe A2"},null,null,null,null,null,null,null,null,null,null,null,null,null,null,null,"-",{"$f":"L20","v":"Gruppe A5"},null,null,null,null,null,null,null,null,null,null,null,null,null,null,null,null,{"$f":"IF(ISBLANK('Gruppe A1'!AW42),\"\",'Gruppe A1'!AW42)","v":1},null,":",{"$f":"IF(ISBLANK('Gruppe A1'!AZ42),\"\",'Gruppe A1'!AZ42)","v":1},null,null,null,null,null,1,":",1]
[{"$f":"VLOOKUP(B42,Vorgaben!B$10:C$16,2,FALSE)","v":{"$error":"#N/A"}},16,null,null,null,null,null,null,null,"16:45:00",null,null,null,null,"Gruppe A3",null,null,null,null,null,null,null,null,null,null,null,null,null,null,null,"-",{"$f":"L16","v":"Gruppe A1"},null,null,null,null,null,null,null,null,null,null,null,null,null,null,null,null,{"$f":"IF(ISBLANK('Gruppe A1'!AW43),\"\",'Gruppe A1'!AW43)","v":1},null,":",{"$f":"IF(ISBLANK('Gruppe A1'!AZ43),\"\",'Gruppe A1'!AZ43)","v":1},null,null,null,null,null,1,":",1]
[{"$f":"VLOOKUP(B43,Vorgaben!B$10:C$16,2,FALSE)","v":{"$error":"#N/A"}},17,null,null,null,null,null,null,null,"16:55:00",null,null,null,null,"Gruppe A4",null,null,null,null,null,null,null,null,null,null,null,null,null,null,null,"-",{"$f":"L21","v":"Gruppe A6"},null,null,null,null,null,null,null,null,null,null,null,null,null,null,null,null,{"$f":"IF(ISBLANK('Gruppe A1'!AW44),\"\",'Gruppe A1'!AW44)","v":1},null,":",{"$f":"IF(ISBLANK('Gruppe A1'!AZ44),\"\",'Gruppe A1'!AZ44)","v":1},null,null,null,null,null,1,":",1]
[{"$f":"VLOOKUP(B44,Vorgaben!B$10:C$16,2,FALSE)","v":{"$error":"#N/A"}},18,null,null,null,null,null,null,null,"17:05:00",null,null,null,null,"Gruppe A5",null,null,null,null,null,null,null,null,null,null,null,null,null,null,null,"-",{"$f":"L22","v":"Gruppe A7"},null,null,null,null,null,null,null,null,null,null,null,null,null,null,null,null,{"$f":"IF(ISBLANK('Gruppe A1'!AW45),\"\",'Gruppe A1'!AW45)","v":1},null,":",{"$f":"IF(ISBLANK('Gruppe A1'!AZ45),\"\",'Gruppe A1'!AZ45)","v":1},null,null,null,null,null,1,":",1]
[{"$f":"VLOOKUP(B45,Vorgaben!B$10:C$16,2,FALSE)","v":{"$error":"#N/A"}},19,null,null,null,null,null,null,null,"17:15:00",null,null,null,null,"Gruppe A6",null,null,null,null,null,null,null,null,null,null,null,null,null,null,null,"-",{"$f":"L18","v":"Gruppe A3"},null,null,null,null,null,null,null,null,null,null,null,null,null,null,null,null,{"$f":"IF(ISBLANK('Gruppe A1'!AW46),\"\",'Gruppe A1'!AW46)","v":1},null,":",{"$f":"IF(ISBLANK('Gruppe A1'!AZ46),\"\",'Gruppe A1'!AZ46)","v":3},null,null,null,null,null,0,":",3]
[{"$f":"VLOOKUP(B46,Vorgaben!B$10:C$16,2,FALSE)","v":{"$error":"#N/A"}},20,null,null,null,null,null,null,null,"17:25:00",null,null,null,null,"Gruppe A7",null,null,null,null,null,null,null,null,null,null,null,null,null,null,null,"-",{"$f":"L17","v":"Gruppe A2"},null,null,null,null,null,null,null,null,null,null,null,null,null,null,null,null,{"$f":"IF(ISBLANK('Gruppe A1'!AW47),\"\",'Gruppe A1'!AW47)","v":1},null,":",{"$f":"IF(ISBLANK('Gruppe A1'!AZ47),\"\",'Gruppe A1'!AZ47)","v":1},null,null,null,null,null,{"$f":"IF(ISBLANK(AW46),\"0\",IF(AW46>AZ46,3,IF(AW46=AZ46,1,0)))","v":1},":",{"$f":"IF(ISBLANK(AZ46),\"0\",IF(AZ46>AW46,3,IF(AZ46=AW46,1,0)))","v":1}]
[{"$f":"VLOOKUP(B47,Vorgaben!B$10:C$16,2,FALSE)","v":{"$error":"#N/A"}},21,null,null,null,null,null,null,null,"17:35:00",null,null,null,null,{"$f":"L19","v":"Gruppe A4"},null,null,null,null,null,null,null,null,null,null,null,null,null,null,null,"-",{"$f":"L20","v":"Gruppe A5"},null,null,null,null,null,null,null,null,null,null,null,null,null,null,null,null,{"$f":"IF(ISBLANK('Gruppe A1'!AW48),\"\",'Gruppe A1'!AW48)","v":1},null,":",{"$f":"IF(ISBLANK('Gruppe A1'!AZ48),\"\",'Gruppe A1'!AZ48)","v":1},null,null,null,null,null,{"$f":"IF(ISBLANK(AW47),\"0\",IF(AW47>AZ47,3,IF(AW47=AZ47,1,0)))","v":1},":",{"$f":"IF(ISBLANK(AZ47),\"0\",IF(AZ47>AW47,3,IF(AZ47=AW47,1,0)))","v":1}]
[]
[]
[null,"III. Abschlußtabelle"]
[]
[null,null,null,null,null,null,null,null,"Mannschaften",null,null,null,null,null,null,null,null,null,null,null,null,null,null,null,null,null,null,null,null,null,null,null,null,null,null,null,"Sp.",null,null,"Pkt.",null,null,"Tore",null,null,null,null,"Diff."]
[null,null,null,null,null,null,null,null,"1.",null,{"$f":"BM33","v":"Gruppe A3"},null,null,null,null,null,null,null,null,null,null,null,null,null,null,null,null,null,null,null,null,null,null,null,null,null,{"$f":"BN33","v":6},null,null,{"$f":"BO33","v":9},null,null,{"$f":"BP33","v":9},null,":",{"$f":"BR33","v":7},null,{"$f":"BS33","v":2}]
[null,null,null,null,null,null,null,null,"2.",null,"Gruppe A7",null,null,null,null,null,null,null,null,null,null,null,null,null,null,null,null,null,null,null,null,null,null,null,null,null,6,null,null,{"$f":"BO34","v":9},null,null,{"$f":"BP34","v":9},null,":",{"$f":"BR34","v":8},null,{"$f":"BS34","v":1}]
[null,null,null,null,null,null,null,null,"3.",null,"Gruppe A6",null,null,null,null,null,null,null,null,null,null,null,null,null,null,null,null,null,null,null,null,null,null,null,null,null,6,null,null,7,null,null,8,null,":",8,null,0]
[null,null,null,null,null,null,null,null,"4.",null,"Gruppe A4",null,null,null,null,null,null,null,null,null,null,null,null,null,null,null,null,null,null,null,null,null,null,null,null,null,6,null,null,6,null,null,6,null,":",6,null,0]
[null,null,null,null,null,null,null,null,"5.",null,"Gruppe A5",null,null,null,null,null,null,null,null,null,null,null,null,null,null,null,null,null,null,null,null,null,null,null,null,null,6,null,null,6,null,null,6,null,":",6,null,0]
[null,null,null,null,null,null,null,null,"6.",null,"Gruppe A2",null,null,null,null,null,null,null,null,null,null,null,null,null,null,null,null,null,null,null,null,null,null,null,null,null,6,null,null,5,null,null,6,null,":",7,null,-1]
[null,null,null,null,null,null,null,null,"7.",null,"Gruppe A1",null,null,null,null,null,null,null,null,null,null,null,null,null,null,null,null,null,null,null,null,null,null,null,null,null,6,null,null,5,null,null,6,null,":",8,null,-2]
[]
[]
[]
[]
[]
[]
[]
[]
[]
[]
[]
[]
[]
[]
[]
[]
[]
[]
[]
[]
[]
[]
[]
[]
[]
[]
[]
[]
[]
[]
[]
[]
[]
[]
[]
[]
[]
[]
[]
[]
[]
[]
["Vorrunde"]
["Gruppe B"]
[]
[]
[]
[]
[]
[]
[null,null,null,null,null,null,"Beginn:",{"$f":"Vorgaben!C$4","v":"14:15:00"},null,null,null,null,"Uhr",null,null,null,null,null,null,"Spielzeit:",{"$f":"Vorgaben!C$5","v":1},"1x","x",{"$f":"Vorgaben!C$6","v":"00:09:00"},null,null,null,null,"min",null,null,null,null,null,null,null,"Pause:",{"$f":"Vorgaben!C$7","v":"00:01:00"},null,null,null,null,"min"]
[]
[]
[null,"I. Teilnehmende Mannschaften"]
[]
[null,null,null,null,null,null,null,null,null,"Mannschaften"]
[null,null,null,null,null,null,null,null,null,"1.",null,{"$f":"Vorgaben!F19","v":"Gruppe B1"}]
[null,null,null,null,null,null,null,null,null,"2.",null,{"$f":"Vorgaben!F20","v":"Gruppe B2"}]
[null,null,null,null,null,null,null,null,null,"3.",null,{"$f":"Vorgaben!F21","v":"Gruppe B3"}]
[null,null,null,null,null,null,null,null,null,"4.",null,{"$f":"Vorgaben!F22","v":"Gruppe B4"}]
[null,null,null,null,null,null,null,null,null,"5.",null,{"$f":"Vorgaben!F23","v":"Gruppe B5"}]
[null,null,null,null,null,null,null,null,null,"6.",null,{"$f":"Vorgaben!F24","v":"Gruppe B6"}]
[null,null,null,null,null,null,null,null,null,"7.",null,{"$f":"Vorgaben!F25","v":"Gruppe B7"}]
[]
[null,"II. Spielplan"]
[]
[null,"Nr.",null,null,null,null,null,null,null,"Beginn",null,null,null,null,"Spielpaarungen",null,null,null,null,null,null,null,null,null,null,null,null,null,null,null,null,null,null,null,null,null,null,null,null,null,null,null,null,null,null,null,null,null,"Ergebnisse",null,null,null,null,null,null,null,null,"Punkte"]
[{"$f":"VLOOKUP(B107,Vorgaben!B108:C114,2,FALSE)","v":{"$error":"#N/A"}},1,null,null,null,null,null,null,null,{"$f":"$H$10","v":"14:15:00"},null,null,null,null,{"$f":"L116","v":"Gruppe B1"},null,null,null,null,null,null,null,null,null,null,null,null,null,null,null,"-",{"$f":"L117","v":"Gruppe B2"},null,null,null,null,null,null,null,null,null,null,null,null,null,null,null,null,{"$f":"IF(ISBLANK('Gruppe B1'!AW28),\"\",'Gruppe B1'!AW28)","v":2},null,":",{"$f":"IF(ISBLANK('Gruppe B1'!AZ28),\"\",'Gruppe B1'!AZ28)","v":0},null,null,null,null,null,{"$f":"'Gruppe B1'!BF28","v":3},{"$f":"'Gruppe B1'!BG28","v":":"},{"$f":"'Gruppe B1'!BH28","v":0}]
[{"$f":"VLOOKUP(B128,Vorgaben!B$10:C$16,2,FALSE)","v":{"$error":"#N/A"}},2,null,null,null,null,null,null,null,{"$f":"IF(ISNA(A128),J127+($U$10*$X$10+$AL$10),J127+($U$10*$X$10+$AL$10)+A128)","v":"14:25:00"},null,null,null,null,{"$f":"L118","v":"Gruppe B3"},null,null,null,null,null,null,null,null,null,null,null,null,null,null,null,"-",{"$f":"L119","v":"Gruppe B4"},null,null,null,null,null,null,null,null,null,null,null,null,null,null,null,null,{"$f":"IF(ISBLANK('Gruppe B1'!AW29),\"\",'Gruppe B1'!AW29)","v":3},null,":",{"$f":"IF(ISBLANK('Gruppe B1'!AZ29),\"\",'Gruppe B1'!AZ29)","v":1},null,null,null,null,null,{"$f":"'Gruppe B1'!BF29","v":3},{"$f":"'Gruppe B1'!BG29","v":":"},{"$f":"'Gruppe B1'!BH29","v":0}]
[{"$f":"VLOOKUP(B129,Vorgaben!B$10:C$16,2,FALSE)","v":{"$error":"#N/A"}},3,null,null,null,null,null,null,null,{"$f":"IF(ISNA(A129),J128+($U$10*$X$10+$AL$10),J128+($U$10*$X$10+$AL$10)+A129)","v":"14:35:00"},null,null,null,null,{"$f":"L120","v":"Gruppe B5"},null,null,null,null,null,null,null,null,null,null,null,null,null,null,null,"-",{"$f":"L121","v":"Gruppe B6"},null,null,null,null,null,null,null,null,null,null,null,null,null,null,null,null,{"$f":"IF(ISBLANK('Gruppe B1'!AW30),\"\",'Gruppe B1'!AW30)","v":""},null,":",{"$f":"IF(ISBLANK('Gruppe B1'!AZ30),\"\",'Gruppe B1'!AZ30)","v":""},null,null,null,null,null,{"$f":"'Gruppe B1'!BF30","v":"0"},{"$f":"'Gruppe B1'!BG30","v":":"},{"$f":"'Gruppe B1'!BH30","v":"0"},null,null,null,null,{"$f":"IF(BM131=\"Min. 3 Teams identisch.  HANDSORTIERUNG!\",BM131,IF(BM131=\"ACHTUNG! Direkter Vergleich war unentschieden!\",BM131,BM130))","v":"ACHTUNG! Direkter Vergleich war unentschieden!"}]
[{"$f":"VLOOKUP(B130,Vorgaben!B$10:C$16,2,FALSE)","v":{"$error":"#N/A"}},4,null,null,null,null,null,null,null,"14:45:00",null,null,null,null,{"$f":"L122","v":"Gruppe B7"},null,null,null,null,null,null,null,null,null,null,null,null,null,null,null,"-",{"$f":"L116","v":"Gruppe B1"},null,null,null,null,null,null,null,null,null,null,null,null,null,null,null,null,{"$f":"IF(ISBLANK('Gruppe B1'!AW31),\"\",'Gruppe B1'!AW31)","v":""},null,":",{"$f":"IF(ISBLANK('Gruppe B1'!AZ31),\"\",'Gruppe B1'!AZ31)","v":""},null,null,null,null,null,{"$f":"'Gruppe B1'!BF31","v":"0"},{"$f":"'Gruppe B1'!BG31","v":":"},{"$f":"'Gruppe B1'!BH31","v":"0"},null,null,null,null,{"$f":"IF(AND(EXACT(BO133,BO134),EXACT(BP133,BP134),EXACT(BS133,BS134)),\"ACHTUNG: Direkter Vergleich erfolgreich durchlaufen!\",IF(AND(EXACT(BO134,BO135),EXACT(BP134,BP135),EXACT(BS134,BS135)),\"ACHTUNG: Direkter Vergleich erfolgreich durchlaufen!\",IF(AND(EXACT(BO135,BO136),EXACT(BP135,BP136),EXACT(BS135,BS136)),\"ACHTUNG: Direkter Vergleich erfolgreich durchlaufen!\",IF(AND(EXACT(BO136,BO137),EXACT(BP136,BP137),EXACT(BS136,BS137)),\"ACHTUNG: Direkter Vergleich erfolgreich durchlaufen!\",IF(AND(EXACT(BO137,BO138),EXACT(BP137,BP138),EXACT(BS137,BS138)),\"ACHTUNG: Direkter Vergleich erfolgreich durchlaufen!\",IF(AND(EXACT(BO138,BO139),EXACT(BP138,BP139),EXACT(BS138,BS139)),\"ACHTUNG: Direkter Vergleich erfolgreich durchlaufen!\",\"\"))))))","v":"ACHTUNG: Direkter Vergleich erfolgreich durchlaufen!"}]
[{"$f":"VLOOKUP(B131,Vorgaben!B$10:C$16,2,FALSE)","v":{"$error":"#N/A"}},5,null,null,null,null,null,null,null,"14:55:00",null,null,null,null,{"$f":"L117","v":"Gruppe B2"},null,null,null,null,null,null,null,null,null,null,null,null,null,null,null,"-",{"$f":"L119","v":"Gruppe B4"},null,null,null,null,null,null,null,null,null,null,null,null,null,null,null,null,{"$f":"IF(ISBLANK('Gruppe B1'!AW32),\"\",'Gruppe B1'!AW32)","v":""},null,":",{"$f":"IF(ISBLANK('Gruppe B1'!AZ32),\"\",'Gruppe B1'!AZ32)","v":""},null,null,null,null,null,{"$f":"'Gruppe B1'!BF32","v":"0"},{"$f":"'Gruppe B1'!BG32","v":":"},{"$f":"'Gruppe B1'!BH32","v":"0"},null,null,null,null,{"$f":"IF(OR(CC133=3,CC134=3,CC135=3,CC136=3,CC137=3,CC138=3,CC139=3),\"Min. 3 Teams identisch.  HANDSORTIERUNG!\",IF(OR(CB133=\"ACHTUNG! Direkter Vergleich war unentschieden!\",CB134=\"ACHTUNG! Direkter Vergleich war unentschieden!\",CB135=\"ACHTUNG! Direkter Vergleich war unentschieden!\",CB136=\"ACHTUNG! Direkter Vergleich war unentschieden!\",CB137=\"ACHTUNG! Direkter Vergleich war unentschieden!\",CB138=\"ACHTUNG! Direkter Vergleich war unentschieden!\",CB139=\"ACHTUNG! Direkter Vergleich war unentschieden!\"),\"ACHTUNG! Direkter Vergleich war unentschieden!\",\"\"))","v":"ACHTUNG! Direkter Vergleich war unentschieden!"}]
[{"$f":"VLOOKUP(B132,Vorgaben!B$10:C$16,2,FALSE)","v":{"$error":"#N/A"}},6,null,null,null,null,null,null,null,"15:05:00",null,null,null,null,{"$f":"L118","v":"Gruppe B3"},null,null,null,null,null,null,null,null,null,null,null,null,null,null,null,"-",{"$f":"L120","v":"Gruppe B5"},null,null,null,null,null,null,null,null,null,null,null,null,null,null,null,null,{"$f":"IF(ISBLANK('Gruppe B1'!AW33),\"\",'Gruppe B1'!AW33)","v":""},null,":",{"$f":"IF(ISBLANK('Gruppe B1'!AZ33),\"\",'Gruppe B1'!AZ33)","v":""},null,null,null,null,null,{"$f":"'Gruppe B1'!BF33","v":"0"},{"$f":"'Gruppe B1'!BG33","v":":"},{"$f":"'Gruppe B1'!BH33","v":"0"},null,null,null,null,null,"Spiele","Punkte","Tore+",null,"Tore-","Diff"]
[{"$f":"VLOOKUP(B133,Vorgaben!B$10:C$16,2,FALSE)","v":{"$error":"#N/A"}},7,null,null,null,null,null,null,null,"15:15:00",null,null,null,null,{"$f":"L116","v":"Gruppe B1"},null,null,null,null,null,null,null,null,null,null,null,null,null,null,null,"-",{"$f":"L121","v":"Gruppe B6"},null,null,null,null,null,null,null,null,null,null,null,null,null,null,null,null,{"$f":"IF(ISBLANK('Gruppe B1'!AW34),\"\",'Gruppe B1'!AW34)","v":1},null,":",{"$f":"IF(ISBLANK('Gruppe B1'!AZ34),\"\",'Gruppe B1'!AZ34)","v":1},null,null,null,null,null,{"$f":"'Gruppe B1'!BF34","v":1},{"$f":"'Gruppe B1'!BG34","v":":"},{"$f":"'Gruppe B1'!BH34","v":1},null,null,null,{"$f":"INDEX(Vorgaben!F$19:H$26,MATCH($BM133,Vorgaben!F$19:F$26,0),3)","v":0},{"$f":"'Gruppe B1'!$BM$44","v":"Gruppe B3"},{"$f":"'Gruppe B1'!$BN$44","v":5},{"$f":"'Gruppe B1'!$BO$44","v":5},{"$f":"'Gruppe B1'!$BP$44","v":7},{"$f":"'Gruppe B1'!$BQ$44","v":":"},{"$f":"'Gruppe B1'!$BR$44","v":5},{"$f":"'Gruppe B1'!$BS$44","v":2},{"$f":"BV133","v":0},null,{"$f":"IF(BX133>BY134,10,IF(BX133<BY134,-10,0))","v":0},null,{"$f":"IF(ISNA(INDEX(BF$127:BF$147,MATCH(BM133&BM134,O$127:O$147&AF$127:AF$147,0))),INDEX(BH$127:BH$147,MATCH(BM134&BM133,O$127:O$147&AF$127:AF$147,0)),INDEX(BF$127:BF$147,MATCH(BM133&BM134,O$127:O$147&AF$127:AF$147,0)))","v":1},null,{"$f":"IF(AND(EXACT(BO133,BO134),EXACT(BP133,BP134),EXACT(BS133,BS134),EXACT(BX133,BY134)),\"ACHTUNG! Direkter Vergleich war unentschieden!\",IF(AND(EXACT(BO133,BO134),EXACT(BP133,BP134),EXACT(BS133,BS134)),1,2))","v":2},{"$f":"IF(AND(EXACT(BO132,BO133),EXACT(BP132,BP133),EXACT(BS132,BS133),EXACT(BX133,BY132)),\"ACHTUNG! Direkter Vergleich war unentschieden!\",\"\")","v":""},{"$f":"IF(OR(BZ133=\"ACHTUNG! Direkter Vergleich war unentschieden!\",CA133=\"ACHTUNG! Direkter Vergleich war unentschieden!\"),\"ACHTUNG! Direkter Vergleich war unentschieden!\",\"\")","v":""},{"$f":"IF(OR(AND(EXACT(BO133,BO134),EXACT(BP133,BP134),EXACT(BS133,BS134),EXACT(BO133,BO135),EXACT(BP133,BP135),EXACT(BS133,BS135)),AND(EXACT(BO133,BO134),EXACT(BP133,BP134),EXACT(BS133,BS134),EXACT(BO133,BO132),EXACT(BP133,BP132),EXACT(BS133,BS132))*AND(EXACT(BO133,BO131),EXACT(BP133,BP131),EXACT(BS133,BS131),EXACT(BO133,BO132),EXACT(BP133,BP132),EXACT(BS133,BS132))),3,1)","v":1}]
[{"$f":"VLOOKUP(B134,Vorgaben!B$10:C$16,2,FALSE)","v":{"$error":"#N/A"}},8,null,null,null,null,null,null,null,"15:25:00",null,null,null,null,{"$f":"L119","v":"Gruppe B4"},null,null,null,null,null,null,null,null,null,null,null,null,null,null,null,"-",{"$f":"L122","v":"Gruppe B7"},null,null,null,null,null,null,null,null,null,null,null,null,null,null,null,null,{"$f":"IF(ISBLANK('Gruppe B1'!AW35),\"\",'Gruppe B1'!AW35)","v":1},null,":",{"$f":"IF(ISBLANK('Gruppe B1'!AZ35),\"\",'Gruppe B1'!AZ35)","v":1},null,null,null,null,null,{"$f":"'Gruppe B1'!BF35","v":1},{"$f":"'Gruppe B1'!BG35","v":":"},{"$f":"'Gruppe B1'!BH35","v":1},null,null,null,{"$f":"INDEX(Vorgaben!F$19:H$26,MATCH($BM134,Vorgaben!F$19:F$26,0),3)","v":0},{"$f":"'Gruppe B1'!$BM$43","v":"Gruppe B1"},{"$f":"'Gruppe B1'!$BN$43","v":5},{"$f":"'Gruppe B1'!$BO$43","v":5},{"$f":"'Gruppe B1'!$BP$43","v":6},{"$f":"'Gruppe B1'!$BQ$43","v":":"},{"$f":"'Gruppe B1'!$BR$43","v":4},{"$f":"'Gruppe B1'!$BS$43","v":2},{"$f":"BV134","v":0},{"$f":"BW134","v":0},{"$f":"IF(BX133<BY134,10,IF(BX133>BY134,-10,0))","v":0},{"$f":"IF(BX134>BY135,10,IF(BX134<BY135,-10,0))","v":0},{"$f":"IF(ISNA(INDEX(BF$127:BF$147,MATCH(BM134&BM135,O$127:O$147&AF$127:AF$147,0))),INDEX(BH$127:BH$147,MATCH(BM135&BM134,O$127:O$147&AF$127:AF$147,0)),INDEX(BF$127:BF$147,MATCH(BM134&BM135,O$127:O$147&AF$127:AF$147,0)))","v":1},{"$f":"IF(ISNA(INDEX(BF$127:BF$147,MATCH(BM134&BM133,O$127:O147&AF$127:AF147,0))),INDEX(BH$127:BH$147,MATCH(BM133&BM134,O$127:O$147&AF$127:AF$147,0)),INDEX(BF$127:BF$147,MATCH(BM134&BM133,O$127:O$147&AF$127:AF$147,0)))","v":1},{"$f":"IF(AND(EXACT(BO134,BO135),EXACT(BP134,BP135),EXACT(BS134,BS135),EXACT(BX134,BY135)),\"ACHTUNG! Direkter Vergleich war unentschieden!\",IF(AND(EXACT(BO134,BO135),EXACT(BP134,BP135),EXACT(BS134,BS135)),1,2))","v":2},{"$f":"IF(AND(EXACT(BO133,BO134),EXACT(BP133,BP134),EXACT(BS133,BS134),EXACT(BY134,BX133)),\"ACHTUNG! Direkter Vergleich war unentschieden!\",IF(AND(EXACT(BO133,BO134),EXACT(BP133,BP134),EXACT(BS133,BS134)),1,2))","v":2},"",1]
[{"$f":"VLOOKUP(B135,Vorgaben!B$10:C$16,2,FALSE)","v":{"$error":"#N/A"}},9,null,null,null,null,null,null,null,"15:35:00",null,null,null,null,{"$f":"L117","v":"Gruppe B2"},null,null,null,null,null,null,null,null,null,null,null,null,null,null,null,"-",{"$f":"L118","v":"Gruppe B3"},null,null,null,null,null,null,null,null,null,null,null,null,null,null,null,null,{"$f":"IF(ISBLANK('Gruppe B1'!AW36),\"\",'Gruppe B1'!AW36)","v":1},null,":",{"$f":"IF(ISBLANK('Gruppe B1'!AZ36),\"\",'Gruppe B1'!AZ36)","v":1},null,null,null,null,null,{"$f":"'Gruppe B1'!BF36","v":1},{"$f":"'Gruppe B1'!BG36","v":":"},{"$f":"'Gruppe B1'!BH36","v":1},null,null,null,{"$f":"INDEX(Vorgaben!F$19:H$26,MATCH($BM135,Vorgaben!F$19:F$26,0),3)","v":0},{"$f":"'Gruppe B1'!$BM$49","v":"Gruppe B6"},{"$f":"'Gruppe B1'!$BN$49","v":5},{"$f":"'Gruppe B1'!$BO$49","v":5},{"$f":"'Gruppe B1'!$BP$49","v":5},{"$f":"'Gruppe B1'!$BQ$49","v":":"},{"$f":"'Gruppe B1'!$BR$49","v":5},{"$f":"'Gruppe B1'!$BS$49","v":0},{"$f":"BV135","v":0},0,0,{"$f":"IF(BX135>BY136,10,IF(BX135<BY136,-10,0))","v":0},{"$f":"IF(ISNA(INDEX(BF$127:BF$147,MATCH(BM135&BM136,O$127:O$147&AF$127:AF$147,0))),INDEX(BH$127:BH$147,MATCH(BM136&BM135,O$127:O$147&AF$127:AF$147,0)),INDEX(BF$127:BF$147,MATCH(BM135&BM136,O$127:O$147&AF$127:AF$147,0)))","v":1},{"$f":"IF(ISNA(INDEX(BF$127:BF$147,MATCH(BM135&BM134,O$127:O148&AF$127:AF148,0))),INDEX(BH$127:BH$147,MATCH(BM134&BM135,O$127:O$147&AF$127:AF$147,0)),INDEX(BF$127:BF$147,MATCH(BM135&BM134,O$127:O$147&AF$127:AF$147,0)))","v":1},{"$f":"IF(AND(EXACT(BO135,BO136),EXACT(BP135,BP136),EXACT(BS135,BS136),EXACT(BX135,BY136)),\"ACHTUNG! Direkter Vergleich war unentschieden!\",IF(AND(EXACT(BO135,BO136),EXACT(BP135,BP136),EXACT(BS135,BS136)),1,2))","v":"ACHTUNG! Direkter Vergleich war unentschieden!"},2,"ACHTUNG! Direkter Vergleich war unentschieden!",{"$f":"IF(OR(AND(EXACT(BO135,BO136),EXACT(BP135,BP136),EXACT(BS135,BS136),EXACT(BO135,BO137),EXACT(BP135,BP137),EXACT(BS135,BS137)),AND(EXACT(BO135,BO136),EXACT(BP135,BP136),EXACT(BS135,BS136),EXACT(BO135,BO134),EXACT(BP135,BP134),EXACT(BS135,BS134))*AND(EXACT(BO135,BO133),EXACT(BP135,BP133),EXACT(BS135,BS133),EXACT(BO135,BO134),EXACT(BP135,BP134),EXACT(BS135,BS134))),3,1)","v":1}]
[{"$f":"VLOOKUP(B136,Vorgaben!B$10:C$16,2,FALSE)","v":{"$error":"#N/A"}},10,null,null,null,null,null,null,null,"15:45:00",null,null,null,null,{"$f":"L120","v":"Gruppe B5"},null,null,null,null,null,null,null,null,null,null,null,null,null,null,null,"-",{"$f":"L116","v":"Gruppe B1"},null,null,null,null,null,null,null,null,null,null,null,null,null,null,null,null,{"$f":"IF(ISBLANK('Gruppe B1'!AW37),\"\",'Gruppe B1'!AW37)","v":1},null,":",{"$f":"IF(ISBLANK('Gruppe B1'!AZ37),\"\",'Gruppe B1'!AZ37)","v":1},null,null,null,null,null,{"$f":"'Gruppe B1'!BF37","v":1},{"$f":"'Gruppe B1'!BG37","v":":"},{"$f":"'Gruppe B1'!BH37","v":1},null,null,null,{"$f":"INDEX(Vorgaben!F$19:H$26,MATCH($BM136,Vorgaben!F$19:F$26,0),3)","v":0},{"$f":"'Gruppe B1'!$BM$47","v":"Gruppe B7"},{"$f":"'Gruppe B1'!$BN$47","v":5},{"$f":"'Gruppe B1'!$BO$47","v":5},{"$f":"'Gruppe B1'!$BP$47","v":5},{"$f":"'Gruppe B1'!$BQ$47","v":":"},{"$f":"'Gruppe B1'!$BR$47","v":5},{"$f":"'Gruppe B1'!$BS$47","v":0},0,0,0,{"$f":"IF(BX135<BY136,10,IF(BX135>BY136,-10,0))","v":0},{"$f":"IF(ISNA(INDEX(BF$127:BF$147,MATCH(BM136&BM137,O$127:O$147&AF$127:AF$147,0))),INDEX(BH$127:BH$147,MATCH(BM137&BM136,O$127:O$147&AF$127:AF$147,0)),INDEX(BF$127:BF$147,MATCH(BM136&BM137,O$127:O$147&AF$127:AF$147,0)))","v":1},{"$f":"IF(ISNA(INDEX(BF$127:BF$147,MATCH(BM136&BM135,O$127:O149&AF$127:AF149,0))),INDEX(BH$127:BH$147,MATCH(BM135&BM136,O$127:O$147&AF$127:AF$147,0)),INDEX(BF$127:BF$147,MATCH(BM136&BM135,O$127:O$147&AF$127:AF$147,0)))","v":1},{"$f":"IF(AND(EXACT(BO136,BO137),EXACT(BP136,BP137),EXACT(BS136,BS137),EXACT(BX136,BY137)),\"ACHTUNG! Direkter Vergleich war unentschieden!\",IF(AND(EXACT(BO136,BO137),EXACT(BP136,BP137),EXACT(BS136,BS137)),1,2))","v":2},"ACHTUNG! Direkter Vergleich war unentschieden!","ACHTUNG! Direkter Vergleich war unentschieden!",{"$f":"IF(OR(AND(EXACT(BO136,BO137),EXACT(BP136,BP137),EXACT(BS136,BS137),EXACT(BO136,BO138),EXACT(BP136,BP138),EXACT(BS136,BS138)),AND(EXACT(BO136,BO137),EXACT(BP136,BP137),EXACT(BS136,BS137),EXACT(BO136,BO135),EXACT(BP136,BP135),EXACT(BS136,BS135))*AND(EXACT(BO136,BO134),EXACT(BP136,BP134),EXACT(BS136,BS134),EXACT(BO136,BO135),EXACT(BP136,BP135),EXACT(BS136,BS135))),3,1)","v":1}]
[{"$f":"VLOOKUP(B137,Vorgaben!B$10:C$16,2,FALSE)","v":{"$error":"#N/A"}},11,null,null,null,null,null,null,null,"15:55:00",null,null,null,null,{"$f":"L122","v":"Gruppe B7"},null,null,null,null,null,null,null,null,null,null,null,null,null,null,null,"-",{"$f":"L118","v":"Gruppe B3"},null,null,null,null,null,null,null,null,null,null,null,null,null,null,null,null,{"$f":"IF(ISBLANK('Gruppe B1'!AW38),\"\",'Gruppe B1'!AW38)","v":1},null,":",{"$f":"IF(ISBLANK('Gruppe B1'!AZ38),\"\",'Gruppe B1'!AZ38)","v":1},null,null,null,null,null,{"$f":"'Gruppe B1'!BF38","v":1},{"$f":"'Gruppe B1'!BG38","v":":"},{"$f":"'Gruppe B1'!BH38","v":1},null,null,null,{"$f":"INDEX(Vorgaben!F$19:H$26,MATCH($BM137,Vorgaben!F$19:F$26,0),3)","v":0},{"$f":"'Gruppe B1'!$BM$46","v":"Gruppe B4"},{"$f":"'Gruppe B1'!$BN$46","v":5},{"$f":"'Gruppe B1'!$BO$46","v":5},{"$f":"'Gruppe B1'!$BP$46","v":5},{"$f":"'Gruppe B1'!$BQ$46","v":":"},{"$f":"'Gruppe B1'!$BR$46","v":7},{"$f":"'Gruppe B1'!$BS$46","v":-2},0,0,0,{"$f":"IF(BX137>BY138,10,IF(BX137<BY138,-10,0))","v":0},{"$f":"IF(ISNA(INDEX(BF$127:BF$147,MATCH(BM137&BM138,O$127:O$147&AF$127:AF$147,0))),INDEX(BH$127:BH$147,MATCH(BM138&BM137,O$127:O$147&AF$127:AF$147,0)),INDEX(BF$127:BF$147,MATCH(BM137&BM138,O$127:O$147&AF$127:AF$147,0)))","v":"0"},{"$f":"IF(ISNA(INDEX(BF$127:BF$147,MATCH(BM137&BM136,O$127:O150&AF$127:AF150,0))),INDEX(BH$127:BH$147,MATCH(BM136&BM137,O$127:O$147&AF$127:AF$147,0)),INDEX(BF$127:BF$147,MATCH(BM137&BM136,O$127:O$147&AF$127:AF$147,0)))","v":1},{"$f":"IF(AND(EXACT(BO137,BO138),EXACT(BP137,BP138),EXACT(BS137,BS138),EXACT(BX137,BY138)),\"ACHTUNG! Direkter Vergleich war unentschieden!\",IF(AND(EXACT(BO137,BO138),EXACT(BP137,BP138),EXACT(BS137,BS138)),1,2))","v":2},2,"",1]
[{"$f":"VLOOKUP(B138,Vorgaben!B$10:C$16,2,FALSE)","v":{"$error":"#N/A"}},12,null,null,null,null,null,null,null,"16:05:00",null,null,null,null,{"$f":"L121","v":"Gruppe B6"},null,null,null,null,null,null,null,null,null,null,null,null,null,null,null,"-",{"$f":"L117","v":"Gruppe B2"},null,null,null,null,null,null,null,null,null,null,null,null,null,null,null,null,{"$f":"IF(ISBLANK('Gruppe B1'!AW39),\"\",'Gruppe B1'!AW39)","v":1},null,":",{"$f":"IF(ISBLANK('Gruppe B1'!AZ39),\"\",'Gruppe B1'!AZ39)","v":1},null,null,null,null,null,{"$f":"'Gruppe B1'!BF39","v":1},{"$f":"'Gruppe B1'!BG39","v":":"},{"$f":"'Gruppe B1'!BH39","v":1},null,null,null,{"$f":"INDEX(Vorgaben!F$19:H$26,MATCH($BM138,Vorgaben!F$19:F$26,0),3)","v":0},{"$f":"'Gruppe B1'!$BM$45","v":"Gruppe B2"},{"$f":"'Gruppe B1'!$BN$45","v":5},{"$f":"'Gruppe B1'!$BO$45","v":5},{"$f":"'Gruppe B1'!$BP$45","v":4},{"$f":"'Gruppe B1'!$BQ$45","v":":"},{"$f":"'Gruppe B1'!$BR$45","v":6},{"$f":"'Gruppe B1'!$BS$45","v":-2},0,0,0,{"$f":"IF(BX137<BY138,10,IF(BX137>BY138,-10,0))","v":0},{"$f":"IF(ISNA(INDEX(BF$127:BF$147,MATCH(BM138&BM139,O$127:O$147&AF$127:AF$147,0))),INDEX(BH$127:BH$147,MATCH(BM139&BM138,O$127:O$147&AF$127:AF$147,0)),INDEX(BF$127:BF$147,MATCH(BM138&BM139,O$127:O$147&AF$127:AF$147,0)))","v":1},{"$f":"IF(ISNA(INDEX(BF$127:BF$147,MATCH(BM138&BM137,O$127:O151&AF$127:AF151,0))),INDEX(BH$127:BH$147,MATCH(BM137&BM138,O$127:O$147&AF$127:AF$147,0)),INDEX(BF$127:BF$147,MATCH(BM138&BM137,O$127:O$147&AF$127:AF$147,0)))","v":"0"},{"$f":"IF(AND(EXACT(BO138,BO139),EXACT(BP138,BP139),EXACT(BS138,BS139),EXACT(BX138,BY139)),\"ACHTUNG! Direkter Vergleich war unentschieden!\",IF(AND(EXACT(BO138,BO139),EXACT(BP138,BP139),EXACT(BS138,BS139)),1,2))","v":2},2,"",1]
[{"$f":"VLOOKUP(B139,Vorgaben!B$10:C$16,2,FALSE)","v":{"$error":"#N/A"}},13,null,null,null,null,null,null,null,"16:15:00",null,null,null,null,{"$f":"L116","v":"Gruppe B1"},null,null,null,null,null,null,null,null,null,null,null,null,null,null,null,"-",{"$f":"L119","v":"Gruppe B4"},null,null,null,null,null,null,null,null,null,null,null,null,null,null,null,null,{"$f":"IF(ISBLANK('Gruppe B1'!AW40),\"\",'Gruppe B1'!AW40)","v":1},null,":",{"$f":"IF(ISBLANK('Gruppe B1'!AZ40),\"\",'Gruppe B1'!AZ40)","v":1},null,null,null,null,null,{"$f":"'Gruppe B1'!BF40","v":1},{"$f":"'Gruppe B1'!BG40","v":":"},{"$f":"'Gruppe B1'!BH40","v":1},null,null,null,{"$f":"INDEX(Vorgaben!F$19:H$26,MATCH($BM139,Vorgaben!F$19:F$26,0),3)","v":0},{"$f":"'Gruppe B1'!$BM$48","v":"Gruppe B5"},{"$f":"'Gruppe B1'!$BN$48","v":4},{"$f":"'Gruppe B1'!$BO$48","v":4},{"$f":"'Gruppe B1'!$BP$48","v":4},{"$f":"'Gruppe B1'!$BQ$48","v":":"},{"$f":"'Gruppe B1'!$BR$48","v":4},{"$f":"'Gruppe B1'!$BS$48","v":0},0,0,0,{"$f":"IF(BX138<BY139,10,IF(BX138>BY139,-10,0))","v":0},null,{"$f":"IF(ISNA(INDEX(BF$127:BF$147,MATCH(BM139&BM138,O$127:O152&AF$127:AF152,0))),INDEX(BH$127:BH$147,MATCH(BM138&BM139,O$127:O$147&AF$127:AF$147,0)),INDEX(BF$127:BF$147,MATCH(BM139&BM138,O$127:O$147&AF$127:AF$147,0)))","v":1},null,2,"",1]
[{"$f":"VLOOKUP(B140,Vorgaben!B$10:C$16,2,FALSE)","v":{"$error":"#N/A"}},14,null,null,null,null,null,null,null,"16:25:00",null,null,null,null,{"$f":"L121","v":"Gruppe B6"},null,null,null,null,null,null,null,null,null,null,null,null,null,null,null,"-",{"$f":"L122","v":"Gruppe B7"},null,null,null,null,null,null,null,null,null,null,null,null,null,null,null,null,{"$f":"IF(ISBLANK('Gruppe B1'!AW41),\"\",'Gruppe B1'!AW41)","v":1},null,":",{"$f":"IF(ISBLANK('Gruppe B1'!AZ41),\"\",'Gruppe B1'!AZ41)","v":1},null,null,null,null,null,{"$f":"'Gruppe B1'!BF41","v":1},{"$f":"'Gruppe B1'!BG41","v":":"},{"$f":"'Gruppe B1'!BH41","v":1}]
[{"$f":"VLOOKUP(B141,Vorgaben!B$10:C$16,2,FALSE)","v":{"$error":"#N/A"}},15,null,null,null,null,null,null,null,"16:35:00",null,null,null,null,{"$f":"L117","v":"Gruppe B2"},null,null,null,null,null,null,null,null,null,null,null,null,null,null,null,"-",{"$f":"L120","v":"Gruppe B5"},null,null,null,null,null,null,null,null,null,null,null,null,null,null,null,null,{"$f":"IF(ISBLANK('Gruppe B1'!AW42),\"\",'Gruppe B1'!AW42)","v":1},null,":",{"$f":"IF(ISBLANK('Gruppe B1'!AZ42),\"\",'Gruppe B1'!AZ42)","v":1},null,null,null,null,null,{"$f":"'Gruppe B1'!BF42","v":1},{"$f":"'Gruppe B1'!BG42","v":":"},{"$f":"'Gruppe B1'!BH42","v":1}]
[{"$f":"VLOOKUP(B142,Vorgaben!B$10:C$16,2,FALSE)","v":{"$error":"#N/A"}},16,null,null,null,null,null,null,null,"16:45:00",null,null,null,null,"Gruppe B3",null,null,null,null,null,null,null,null,null,null,null,null,null,null,null,"-",{"$f":"L116","v":"Gruppe B1"},null,null,null,null,null,null,null,null,null,null,null,null,null,null,null,null,{"$f":"IF(ISBLANK('Gruppe B1'!AW43),\"\",'Gruppe B1'!AW43)","v":1},null,":",{"$f":"IF(ISBLANK('Gruppe B1'!AZ43),\"\",'Gruppe B1'!AZ43)","v":1},null,null,null,null,null,{"$f":"'Gruppe B1'!BF43","v":1},{"$f":"'Gruppe B1'!BG43","v":":"},{"$f":"'Gruppe B1'!BH43","v":1}]
[{"$f":"VLOOKUP(B143,Vorgaben!B$10:C$16,2,FALSE)","v":{"$error":"#N/A"}},17,null,null,null,null,null,null,null,"16:55:00",null,null,null,null,"Gruppe B4",null,null,null,null,null,null,null,null,null,null,null,null,null,null,null,"-",{"$f":"L121","v":"Gruppe B6"},null,null,null,null,null,null,null,null,null,null,null,null,null,null,null,null,{"$f":"IF(ISBLANK('Gruppe B1'!AW44),\"\",'Gruppe B1'!AW44)","v":1},null,":",{"$f":"IF(ISBLANK('Gruppe B1'!AZ44),\"\",'Gruppe B1'!AZ44)","v":1},null,null,null,null,null,{"$f":"'Gruppe B1'!BF44","v":1},{"$f":"'Gruppe B1'!BG44","v":":"},{"$f":"'Gruppe B1'!BH44","v":1}]
[{"$f":"VLOOKUP(B144,Vorgaben!B$10:C$16,2,FALSE)","v":{"$error":"#N/A"}},18,null,null,null,null,null,null,null,"17:05:00",null,null,null,null,"Gruppe B5",null,null,null,null,null,null,null,null,null,null,null,null,null,null,null,"-",{"$f":"L122","v":"Gruppe B7"},null,null,null,null,null,null,null,null,null,null,null,null,null,null,null,null,{"$f":"IF(ISBLANK('Gruppe B1'!AW45),\"\",'Gruppe B1'!AW45)","v":1},null,":",{"$f":"IF(ISBLANK('Gruppe B1'!AZ45),\"\",'Gruppe B1'!AZ45)","v":1},null,null,null,null,null,{"$f":"'Gruppe B1'!BF45","v":1},{"$f":"'Gruppe B1'!BG45","v":":"},{"$f":"'Gruppe B1'!BH45","v":1}]
[{"$f":"VLOOKUP(B145,Vorgaben!B$10:C$16,2,FALSE)","v":{"$error":"#N/A"}},19,null,null,null,null,null,null,null,"17:15:00",null,null,null,null,"Gruppe B6",null,null,null,null,null,null,null,null,null,null,null,null,null,null,null,"-",{"$f":"L118","v":"Gruppe B3"},null,null,null,null,null,null,null,null,null,null,null,null,null,null,null,null,{"$f":"IF(ISBLANK('Gruppe B1'!AW46),\"\",'Gruppe B1'!AW46)","v":1},null,":",{"$f":"IF(ISBLANK('Gruppe B1'!AZ46),\"\",'Gruppe B1'!AZ46)","v":1},null,null,null,null,null,{"$f":"'Gruppe B1'!BF46","v":1},{"$f":"'Gruppe B1'!BG46","v":":"},{"$f":"'Gruppe B1'!BH46","v":1}]
[{"$f":"VLOOKUP(B146,Vorgaben!B$10:C$16,2,FALSE)","v":{"$error":"#N/A"}},20,null,null,null,null,null,null,null,"17:25:00",null,null,null,null,"Gruppe B7",null,null,null,null,null,null,null,null,null,null,null,null,null,null,null,"-",{"$f":"L117","v":"Gruppe B2"},null,null,null,null,null,null,null,null,null,null,null,null,null,null,null,null,{"$f":"IF(ISBLANK('Gruppe B1'!AW47),\"\",'Gruppe B1'!AW47)","v":1},null,":",{"$f":"IF(ISBLANK('Gruppe B1'!AZ47),\"\",'Gruppe B1'!AZ47)","v":1},null,null,null,null,null,{"$f":"'Gruppe B1'!BF47","v":1},{"$f":"'Gruppe B1'!BG47","v":":"},{"$f":"'Gruppe B1'!BH47","v":1}]
[{"$f":"VLOOKUP(B147,Vorgaben!B$10:C$16,2,FALSE)","v":{"$error":"#N/A"}},21,null,null,null,null,null,null,null,"17:35:00",null,null,null,null,{"$f":"L119","v":"Gruppe B4"},null,null,null,null,null,null,null,null,null,null,null,null,null,null,null,"-",{"$f":"L120","v":"Gruppe B5"},null,null,null,null,null,null,null,null,null,null,null,null,null,null,null,null,{"$f":"IF(ISBLANK('Gruppe B1'!AW48),\"\",'Gruppe B1'!AW48)","v":1},null,":",{"$f":"IF(ISBLANK('Gruppe B1'!AZ48),\"\",'Gruppe B1'!AZ48)","v":1},null,null,null,null,null,{"$f":"'Gruppe B1'!BF48","v":1},{"$f":"'Gruppe B1'!BG48","v":":"},{"$f":"'Gruppe B1'!BH48","v":1}]
[]
[]
[null,"III. Abschlußtabelle"]
[]
[null,null,null,null,null,null,null,null,"Mannschaften",null,null,null,null,null,null,null,null,null,null,null,null,null,null,null,null,null,null,null,null,null,null,null,null,null,null,null,"Sp.",null,null,"Pkt.",null,null,"Tore",null,null,null,null,"Diff."]
[null,null,null,null,null,null,null,null,"1.",null,{"$f":"BM133","v":"Gruppe B3"},null,null,null,null,null,null,null,null,null,null,null,null,null,null,null,null,null,null,null,null,null,null,null,null,null,{"$f":"BN133","v":5},null,null,{"$f":"BO133","v":5},null,null,{"$f":"BP133","v":7},null,":",{"$f":"BR133","v":5},null,{"$f":"BS133","v":2}]
[null,null,null,null,null,null,null,null,"2.",null,"Gruppe B1",null,null,null,null,null,null,null,null,null,null,null,null,null,null,null,null,null,null,null,null,null,null,null,null,null,5,null,null,{"$f":"BO134","v":5},null,null,{"$f":"BP134","v":6},null,":",{"$f":"BR134","v":4},null,{"$f":"BS134","v":2}]
[null,null,null,null,null,null,null,null,"3.",null,"Gruppe B6",null,null,null,null,null,null,null,null,null,null,null,null,null,null,null,null,null,null,null,null,null,null,null,null,null,5,null,null,5,null,null,5,null,":",5,null,0]
[null,null,null,null,null,null,null,null,"4.",null,"Gruppe B7",null,null,null,null,null,null,null,null,null,null,null,null,null,null,null,null,null,null,null,null,null,null,null,null,null,5,null,null,5,null,null,5,null,":",5,null,0]
[null,null,null,null,null,null,null,null,"5.",null,"Gruppe B4",null,null,null,null,null,null,null,null,null,null,null,null,null,null,null,null,null,null,null,null,null,null,null,null,null,5,null,null,5,null,null,5,null,":",7,null,-2]
[null,null,null,null,null,null,null,null,"6.",null,"Gruppe B2",null,null,null,null,null,null,null,null,null,null,null,null,null,null,null,null,null,null,null,null,null,null,null,null,null,5,null,null,5,null,null,4,null,":",6,null,-2]
[null,null,null,null,null,null,null,null,"7.",null,"Gruppe B5",null,null,null,null,null,null,null,null,null,null,null,null,null,null,null,null,null,null,null,null,null,null,null,null,null,4,null,null,4,null,null,4,null,":",4,null,0]
[]
[]
[]
[]
[]
[]
[]
[]
[]
[]
[]
[]
[]
[]
[]
[]
[]
[]
[]
[]
[]
[]
[]
[]
[]
[]
[]
[]
[]
[]
[]
[]
[]
[]
[]
[]
[]
[]
[]
[]
[]
[]
["Vorrunde"]
["Gruppe C"]
[]
[]
[]
[]
[]
[]
[null,null,null,null,null,null,"Beginn:",{"$f":"Vorgaben!C$4","v":"14:15:00"},null,null,null,null,"Uhr",null,null,null,null,null,null,"Spielzeit:",{"$f":"Vorgaben!C$5","v":1},"1x","x",{"$f":"Vorgaben!C$6","v":"00:09:00"},null,null,null,null,"min",null,null,null,null,null,null,null,"Pause:",{"$f":"Vorgaben!C$7","v":"00:01:00"},null,null,null,null,"min"]
[]
[]
[null,"I. Teilnehmende Mannschaften"]
[]
[null,null,null,null,null,null,null,null,null,"Mannschaften"]
[null,null,null,null,null,null,null,null,null,"1.",null,{"$f":"Vorgaben!B29","v":"Gruppe C1"}]
[null,null,null,null,null,null,null,null,null,"2.",null,{"$f":"Vorgaben!B30","v":"Gruppe C2"}]
[null,null,null,null,null,null,null,null,null,"3.",null,{"$f":"Vorgaben!B31","v":"Gruppe C3"}]
[null,null,null,null,null,null,null,null,null,"4.",null,{"$f":"Vorgaben!B32","v":"Gruppe C4"}]
[null,null,null,null,null,null,null,null,null,"5.",null,{"$f":"Vorgaben!B33","v":"Gruppe C5"}]
[null,null,null,null,null,null,null,null,null,"6.",null,{"$f":"Vorgaben!B34","v":"Gruppe C6"}]
[null,null,null,null,null,null,null,null,null,"7.",null,{"$f":"Vorgaben!B35","v":"Gruppe C7"}]
[]
[null,"II. Spielplan"]
[]
[null,"Nr.",null,null,null,null,null,null,null,"Beginn",null,null,null,null,"Spielpaarungen",null,null,null,null,null,null,null,null,null,null,null,null,null,null,null,null,null,null,null,null,null,null,null,null,null,null,null,null,null,null,null,null,null,"Ergebnisse",null,null,null,null,null,null,null,null,"Punkte"]
[{"$f":"VLOOKUP(B207,Vorgaben!B208:C214,2,FALSE)","v":{"$error":"#N/A"}},1,null,null,null,null,null,null,null,{"$f":"$H$10","v":"14:15:00"},null,null,null,null,{"$f":"L216","v":"Gruppe C1"},null,null,null,null,null,null,null,null,null,null,null,null,null,null,null,"-",{"$f":"L217","v":"Gruppe C2"},null,null,null,null,null,null,null,null,null,null,null,null,null,null,null,null,{"$f":"IF(ISBLANK('Gruppe C1'!AW28),\"\",'Gruppe C1'!AW28)","v":""},null,":",{"$f":"IF(ISBLANK('Gruppe C1'!AZ28),\"\",'Gruppe C1'!AZ28)","v":""},null,null,null,null,null,{"$f":"IF(ISBLANK(AW227),\"0\",IF(AW227>AZ227,3,IF(AW227=AZ227,1,0)))","v":1},":",{"$f":"IF(ISBLANK(AZ227),\"0\",IF(AZ227>AW227,3,IF(AZ227=AW227,1,0)))","v":1}]
[{"$f":"VLOOKUP(B228,Vorgaben!B$10:C$16,2,FALSE)","v":{"$error":"#N/A"}},2,null,null,null,null,null,null,null,{"$f":"IF(ISNA(A228),J227+($U$10*$X$10+$AL$10),J227+($U$10*$X$10+$AL$10)+A228)","v":"14:25:00"},null,null,null,null,{"$f":"L218","v":"Gruppe C3"},null,null,null,null,null,null,null,null,null,null,null,null,null,null,null,"-",{"$f":"L219","v":"Gruppe C4"},null,null,null,null,null,null,null,null,null,null,null,null,null,null,null,null,{"$f":"IF(ISBLANK('Gruppe C1'!AW29),\"\",'Gruppe C1'!AW29)","v":""},null,":",{"$f":"IF(ISBLANK('Gruppe C1'!AZ29),\"\",'Gruppe C1'!AZ29)","v":""},null,null,null,null,null,{"$f":"IF(ISBLANK(AW228),\"0\",IF(AW228>AZ228,3,IF(AW228=AZ228,1,0)))","v":1},":",{"$f":"IF(ISBLANK(AZ228),\"0\",IF(AZ228>AW228,3,IF(AZ228=AW228,1,0)))","v":1}]
[{"$f":"VLOOKUP(B229,Vorgaben!B$10:C$16,2,FALSE)","v":{"$error":"#N/A"}},3,null,null,null,null,null,null,null,{"$f":"IF(ISNA(A229),J228+($U$10*$X$10+$AL$10),J228+($U$10*$X$10+$AL$10)+A229)","v":"14:35:00"},null,null,null,null,{"$f":"L220","v":"Gruppe C5"},null,null,null,null,null,null,null,null,null,null,null,null,null,null,null,"-",{"$f":"L221","v":"Gruppe C6"},null,null,null,null,null,null,null,null,null,null,null,null,null,null,null,null,{"$f":"IF(ISBLANK('Gruppe C1'!AW30),\"\",'Gruppe C1'!AW30)","v":5},null,":",{"$f":"IF(ISBLANK('Gruppe C1'!AZ30),\"\",'Gruppe C1'!AZ30)","v":0},null,null,null,null,null,3,":",0,null,null,null,null,{"$f":"IF(BM231=\"Min. 3 Teams identisch.  HANDSORTIERUNG!\",BM231,IF(BM231=\"ACHTUNG! Direkter Vergleich war unentschieden!\",BM231,BM230))","v":""}]
[{"$f":"VLOOKUP(B230,Vorgaben!B$10:C$16,2,FALSE)","v":{"$error":"#N/A"}},4,null,null,null,null,null,null,null,"14:45:00",null,null,null,null,{"$f":"L222","v":"Gruppe C7"},null,null,null,null,null,null,null,null,null,null,null,null,null,null,null,"-",{"$f":"L216","v":"Gruppe C1"},null,null,null,null,null,null,null,null,null,null,null,null,null,null,null,null,{"$f":"IF(ISBLANK('Gruppe C1'!AW31),\"\",'Gruppe C1'!AW31)","v":2},null,":",{"$f":"IF(ISBLANK('Gruppe C1'!AZ31),\"\",'Gruppe C1'!AZ31)","v":0},null,null,null,null,null,3,":",0,null,null,null,null,{"$f":"IF(AND(EXACT(BO233,BO234),EXACT(BP233,BP234),EXACT(BS233,BS234)),\"ACHTUNG: Direkter Vergleich erfolgreich durchlaufen!\",IF(AND(EXACT(BO234,BO235),EXACT(BP234,BP235),EXACT(BS234,BS235)),\"ACHTUNG: Direkter Vergleich erfolgreich durchlaufen!\",IF(AND(EXACT(BO235,BO236),EXACT(BP235,BP236),EXACT(BS235,BS236)),\"ACHTUNG: Direkter Vergleich erfolgreich durchlaufen!\",IF(AND(EXACT(BO236,BO237),EXACT(BP236,BP237),EXACT(BS236,BS237)),\"ACHTUNG: Direkter Vergleich erfolgreich durchlaufen!\",IF(AND(EXACT(BO237,BO238),EXACT(BP237,BP238),EXACT(BS237,BS238)),\"ACHTUNG: Direkter Vergleich erfolgreich durchlaufen!\",IF(AND(EXACT(BO238,BO239),EXACT(BP238,BP239),EXACT(BS238,BS239)),\"ACHTUNG: Direkter Vergleich erfolgreich durchlaufen!\",\"\"))))))","v":""}]
[{"$f":"VLOOKUP(B231,Vorgaben!B$10:C$16,2,FALSE)","v":{"$error":"#N/A"}},5,null,null,null,null,null,null,null,"14:55:00",null,null,null,null,{"$f":"L217","v":"Gruppe C2"},null,null,null,null,null,null,null,null,null,null,null,null,null,null,null,"-",{"$f":"L219","v":"Gruppe C4"},null,null,null,null,null,null,null,null,null,null,null,null,null,null,null,null,{"$f":"IF(ISBLANK('Gruppe C1'!AW32),\"\",'Gruppe C1'!AW32)","v":3},null,":",{"$f":"IF(ISBLANK('Gruppe C1'!AZ32),\"\",'Gruppe C1'!AZ32)","v":1},null,null,null,null,null,3,":",0,null,null,null,null,{"$f":"IF(OR(CC233=3,CC234=3,CC235=3,CC236=3,CC237=3,CC238=3,CC239=3),\"Min. 3 Teams identisch.  HANDSORTIERUNG!\",IF(OR(CB233=\"ACHTUNG! Direkter Vergleich war unentschieden!\",CB234=\"ACHTUNG! Direkter Vergleich war unentschieden!\",CB235=\"ACHTUNG! Direkter Vergleich war unentschieden!\",CB236=\"ACHTUNG! Direkter Vergleich war unentschieden!\",CB237=\"ACHTUNG! Direkter Vergleich war unentschieden!\",CB238=\"ACHTUNG! Direkter Vergleich war unentschieden!\",CB239=\"ACHTUNG! Direkter Vergleich war unentschieden!\"),\"ACHTUNG! Direkter Vergleich war unentschieden!\",\"\"))","v":""}]
[{"$f":"VLOOKUP(B232,Vorgaben!B$10:C$16,2,FALSE)","v":{"$error":"#N/A"}},6,null,null,null,null,null,null,null,"15:05:00",null,null,null,null,{"$f":"L218","v":"Gruppe C3"},null,null,null,null,null,null,null,null,null,null,null,null,null,null,null,"-",{"$f":"L220","v":"Gruppe C5"},null,null,null,null,null,null,null,null,null,null,null,null,null,null,null,null,{"$f":"IF(ISBLANK('Gruppe C1'!AW33),\"\",'Gruppe C1'!AW33)","v":4},null,":",{"$f":"IF(ISBLANK('Gruppe C1'!AZ33),\"\",'Gruppe C1'!AZ33)","v":5},null,null,null,null,null,0,":",3,null,null,null,null,null,"Spiele","Punkte","Tore+",null,"Tore-","Diff"]
[{"$f":"VLOOKUP(B233,Vorgaben!B$10:C$16,2,FALSE)","v":{"$error":"#N/A"}},7,null,null,null,null,null,null,null,"15:15:00",null,null,null,null,{"$f":"L216","v":"Gruppe C1"},null,null,null,null,null,null,null,null,null,null,null,null,null,null,null,"-",{"$f":"L221","v":"Gruppe C6"},null,null,null,null,null,null,null,null,null,null,null,null,null,null,null,null,{"$f":"IF(ISBLANK('Gruppe C1'!AW34),\"\",'Gruppe C1'!AW34)","v":""},null,":",{"$f":"IF(ISBLANK('Gruppe C1'!AZ34),\"\",'Gruppe C1'!AZ34)","v":""},null,null,null,null,null,1,":",1,null,null,null,{"$f":"INDEX(Vorgaben!B$29:D$36,MATCH($BM233,Vorgaben!B$29:B$36,0),3)","v":0},{"$f":"'Gruppe C1'!$BM$48","v":"Gruppe C5"},{"$f":"'Gruppe C1'!$BN$48","v":3},{"$f":"'Gruppe C1'!$BO$48","v":6},{"$f":"'Gruppe C1'!$BP$48","v":10},{"$f":"'Gruppe C1'!$BQ$48","v":":"},{"$f":"'Gruppe C1'!$BR$48","v":5},{"$f":"'Gruppe C1'!$BS$48","v":5},{"$f":"BV233","v":0},null,{"$f":"IF(BX233>BY234,10,IF(BX233<BY234,-10,0))","v":0},null,{"$f":"IF(ISNA(INDEX(BF$227:BF$247,MATCH(BM233&BM234,O$227:O$247&AF$227:AF$247,0))),INDEX(BH$227:BH$247,MATCH(BM234&BM233,O$227:O$247&AF$227:AF$247,0)),INDEX(BF$227:BF$247,MATCH(BM233&BM234,O$227:O$247&AF$227:AF$247,0)))","v":1},null,{"$f":"IF(AND(EXACT(BO233,BO234),EXACT(BP233,BP234),EXACT(BS233,BS234),EXACT(BX233,BY234)),\"ACHTUNG! Direkter Vergleich war unentschieden!\",IF(AND(EXACT(BO233,BO234),EXACT(BP233,BP234),EXACT(BS233,BS234)),1,2))","v":2},{"$f":"IF(AND(EXACT(BO232,BO233),EXACT(BP232,BP233),EXACT(BS232,BS233),EXACT(BX233,BY232)),\"ACHTUNG! Direkter Vergleich war unentschieden!\",\"\")","v":""},{"$f":"IF(OR(BZ233=\"ACHTUNG! Direkter Vergleich war unentschieden!\",CA233=\"ACHTUNG! Direkter Vergleich war unentschieden!\"),\"ACHTUNG! Direkter Vergleich war unentschieden!\",\"\")","v":""},{"$f":"IF(OR(AND(EXACT(BO233,BO234),EXACT(BP233,BP234),EXACT(BS233,BS234),EXACT(BO233,BO235),EXACT(BP233,BP235),EXACT(BS233,BS235)),AND(EXACT(BO233,BO234),EXACT(BP233,BP234),EXACT(BS233,BS234),EXACT(BO233,BO232),EXACT(BP233,BP232),EXACT(BS233,BS232))*AND(EXACT(BO233,BO231),EXACT(BP233,BP231),EXACT(BS233,BS231),EXACT(BO233,BO232),EXACT(BP233,BP232),EXACT(BS233,BS232))),3,1)","v":1}]
[{"$f":"VLOOKUP(B234,Vorgaben!B$10:C$16,2,FALSE)","v":{"$error":"#N/A"}},8,null,null,null,null,null,null,null,"15:25:00",null,null,null,null,{"$f":"L219","v":"Gruppe C4"},null,null,null,null,null,null,null,null,null,null,null,null,null,null,null,"-",{"$f":"L222","v":"Gruppe C7"},null,null,null,null,null,null,null,null,null,null,null,null,null,null,null,null,{"$f":"IF(ISBLANK('Gruppe C1'!AW35),\"\",'Gruppe C1'!AW35)","v":""},null,":",{"$f":"IF(ISBLANK('Gruppe C1'!AZ35),\"\",'Gruppe C1'!AZ35)","v":""},null,null,null,null,null,1,":",1,null,null,null,{"$f":"INDEX(Vorgaben!B$29:D$36,MATCH($BM234,Vorgaben!B$29:B$36,0),3)","v":0},{"$f":"'Gruppe C1'!$BM$45","v":"Gruppe C2"},{"$f":"'Gruppe C1'!$BN$45","v":1},{"$f":"'Gruppe C1'!$BO$45","v":3},{"$f":"'Gruppe C1'!$BP$45","v":3},{"$f":"'Gruppe C1'!$BQ$45","v":":"},{"$f":"'Gruppe C1'!$BR$45","v":1},{"$f":"'Gruppe C1'!$BS$45","v":2},{"$f":"BV234","v":0},{"$f":"BW234","v":0},{"$f":"IF(BX233<BY234,10,IF(BX233>BY234,-10,0))","v":0},{"$f":"IF(BX234>BY235,10,IF(BX234<BY235,-10,0))","v":0},{"$f":"IF(ISNA(INDEX(BF$227:BF$247,MATCH(BM234&BM235,O$227:O$247&AF$227:AF$247,0))),INDEX(BH$227:BH$247,MATCH(BM235&BM234,O$227:O$247&AF$227:AF$247,0)),INDEX(BF$227:BF$247,MATCH(BM234&BM235,O$227:O$247&AF$227:AF$247,0)))","v":1},{"$f":"IF(ISNA(INDEX(BF$227:BF$247,MATCH(BM234&BM233,O$227:O247&AF$227:AF247,0))),INDEX(BH$227:BH$247,MATCH(BM233&BM234,O$227:O$247&AF$227:AF$247,0)),INDEX(BF$227:BF$247,MATCH(BM234&BM233,O$227:O$247&AF$227:AF$247,0)))","v":1},{"$f":"IF(AND(EXACT(BO234,BO235),EXACT(BP234,BP235),EXACT(BS234,BS235),EXACT(BX234,BY235)),\"ACHTUNG! Direkter Vergleich war unentschieden!\",IF(AND(EXACT(BO234,BO235),EXACT(BP234,BP235),EXACT(BS234,BS235)),1,2))","v":2},{"$f":"IF(AND(EXACT(BO233,BO234),EXACT(BP233,BP234),EXACT(BS233,BS234),EXACT(BY234,BX233)),\"ACHTUNG! Direkter Vergleich war unentschieden!\",IF(AND(EXACT(BO233,BO234),EXACT(BP233,BP234),EXACT(BS233,BS234)),1,2))","v":2},"",1]
[{"$f":"VLOOKUP(B235,Vorgaben!B$10:C$16,2,FALSE)","v":{"$error":"#N/A"}},9,null,null,null,null,null,null,null,"15:35:00",null,null,null,null,{"$f":"L217","v":"Gruppe C2"},null,null,null,null,null,null,null,null,null,null,null,null,null,null,null,"-",{"$f":"L218","v":"Gruppe C3"},null,null,null,null,null,null,null,null,null,null,null,null,null,null,null,null,{"$f":"IF(ISBLANK('Gruppe C1'!AW36),\"\",'Gruppe C1'!AW36)","v":""},null,":",{"$f":"IF(ISBLANK('Gruppe C1'!AZ36),\"\",'Gruppe C1'!AZ36)","v":""},null,null,null,null,null,1,":",1,null,null,null,{"$f":"INDEX(Vorgaben!B$29:D$36,MATCH($BM235,Vorgaben!B$29:B$36,0),3)","v":0},{"$f":"'Gruppe C1'!$BM$47","v":"Gruppe C7"},{"$f":"'Gruppe C1'!$BN$47","v":1},{"$f":"'Gruppe C1'!$BO$47","v":3},{"$f":"'Gruppe C1'!$BP$47","v":2},{"$f":"'Gruppe C1'!$BQ$47","v":":"},{"$f":"'Gruppe C1'!$BR$47","v":0},{"$f":"'Gruppe C1'!$BS$47","v":2},{"$f":"BV235","v":0},0,0,{"$f":"IF(BX235>BY236,10,IF(BX235<BY236,-10,0))","v":0},{"$f":"IF(ISNA(INDEX(BF$227:BF$247,MATCH(BM235&BM236,O$227:O$247&AF$227:AF$247,0))),INDEX(BH$227:BH$247,MATCH(BM236&BM235,O$227:O$247&AF$227:AF$247,0)),INDEX(BF$227:BF$247,MATCH(BM235&BM236,O$227:O$247&AF$227:AF$247,0)))","v":1},{"$f":"IF(ISNA(INDEX(BF$227:BF$247,MATCH(BM235&BM234,O$227:O248&AF$227:AF248,0))),INDEX(BH$227:BH$247,MATCH(BM234&BM235,O$227:O$247&AF$227:AF$247,0)),INDEX(BF$227:BF$247,MATCH(BM235&BM234,O$227:O$247&AF$227:AF$247,0)))","v":1},{"$f":"IF(AND(EXACT(BO235,BO236),EXACT(BP235,BP236),EXACT(BS235,BS236),EXACT(BX235,BY236)),\"ACHTUNG! Direkter Vergleich war unentschieden!\",IF(AND(EXACT(BO235,BO236),EXACT(BP235,BP236),EXACT(BS235,BS236)),1,2))","v":2},2,"",{"$f":"IF(OR(AND(EXACT(BO235,BO236),EXACT(BP235,BP236),EXACT(BS235,BS236),EXACT(BO235,BO237),EXACT(BP235,BP237),EXACT(BS235,BS237)),AND(EXACT(BO235,BO236),EXACT(BP235,BP236),EXACT(BS235,BS236),EXACT(BO235,BO234),EXACT(BP235,BP234),EXACT(BS235,BS234))*AND(EXACT(BO235,BO233),EXACT(BP235,BP233),EXACT(BS235,BS233),EXACT(BO235,BO234),EXACT(BP235,BP234),EXACT(BS235,BS234))),3,1)","v":1}]
[{"$f":"VLOOKUP(B236,Vorgaben!B$10:C$16,2,FALSE)","v":{"$error":"#N/A"}},10,null,null,null,null,null,null,null,"15:45:00",null,null,null,null,{"$f":"L220","v":"Gruppe C5"},null,null,null,null,null,null,null,null,null,null,null,null,null,null,null,"-",{"$f":"L216","v":"Gruppe C1"},null,null,null,null,null,null,null,null,null,null,null,null,null,null,null,null,{"$f":"IF(ISBLANK('Gruppe C1'!AW37),\"\",'Gruppe C1'!AW37)","v":""},null,":",{"$f":"IF(ISBLANK('Gruppe C1'!AZ37),\"\",'Gruppe C1'!AZ37)","v":""},null,null,null,null,null,1,":",1,null,null,null,{"$f":"INDEX(Vorgaben!B$29:D$36,MATCH($BM236,Vorgaben!B$29:B$36,0),3)","v":0},{"$f":"'Gruppe C1'!$BM$46","v":"Gruppe C4"},{"$f":"'Gruppe C1'!$BN$46","v":2},{"$f":"'Gruppe C1'!$BO$46","v":3},{"$f":"'Gruppe C1'!$BP$46","v":2},{"$f":"'Gruppe C1'!$BQ$46","v":":"},{"$f":"'Gruppe C1'!$BR$46","v":3},{"$f":"'Gruppe C1'!$BS$46","v":-1},0,0,0,{"$f":"IF(BX235<BY236,10,IF(BX235>BY236,-10,0))","v":0},{"$f":"IF(ISNA(INDEX(BF$227:BF$247,MATCH(BM236&BM237,O$227:O$247&AF$227:AF$247,0))),INDEX(BH$227:BH$247,MATCH(BM237&BM236,O$227:O$247&AF$227:AF$247,0)),INDEX(BF$227:BF$247,MATCH(BM236&BM237,O$227:O$247&AF$227:AF$247,0)))","v":1},{"$f":"IF(ISNA(INDEX(BF$227:BF$247,MATCH(BM236&BM235,O$227:O249&AF$227:AF249,0))),INDEX(BH$227:BH$247,MATCH(BM235&BM236,O$227:O$247&AF$227:AF$247,0)),INDEX(BF$227:BF$247,MATCH(BM236&BM235,O$227:O$247&AF$227:AF$247,0)))","v":1},{"$f":"IF(AND(EXACT(BO236,BO237),EXACT(BP236,BP237),EXACT(BS236,BS237),EXACT(BX236,BY237)),\"ACHTUNG! Direkter Vergleich war unentschieden!\",IF(AND(EXACT(BO236,BO237),EXACT(BP236,BP237),EXACT(BS236,BS237)),1,2))","v":2},2,"",{"$f":"IF(OR(AND(EXACT(BO236,BO237),EXACT(BP236,BP237),EXACT(BS236,BS237),EXACT(BO236,BO238),EXACT(BP236,BP238),EXACT(BS236,BS238)),AND(EXACT(BO236,BO237),EXACT(BP236,BP237),EXACT(BS236,BS237),EXACT(BO236,BO235),EXACT(BP236,BP235),EXACT(BS236,BS235))*AND(EXACT(BO236,BO234),EXACT(BP236,BP234),EXACT(BS236,BS234),EXACT(BO236,BO235),EXACT(BP236,BP235),EXACT(BS236,BS235))),3,1)","v":1}]
[{"$f":"VLOOKUP(B237,Vorgaben!B$10:C$16,2,FALSE)","v":{"$error":"#N/A"}},11,null,null,null,null,null,null,null,"15:55:00",null,null,null,null,{"$f":"L222","v":"Gruppe C7"},null,null,null,null,null,null,null,null,null,null,null,null,null,null,null,"-",{"$f":"L218","v":"Gruppe C3"},null,null,null,null,null,null,null,null,null,null,null,null,null,null,null,null,{"$f":"IF(ISBLANK('Gruppe C1'!AW38),\"\",'Gruppe C1'!AW38)","v":""},null,":",{"$f":"IF(ISBLANK('Gruppe C1'!AZ38),\"\",'Gruppe C1'!AZ38)","v":""},null,null,null,null,null,1,":",1,null,null,null,{"$f":"INDEX(Vorgaben!B$29:D$36,MATCH($BM237,Vorgaben!B$29:B$36,0),3)","v":0},{"$f":"'Gruppe C1'!$BM$44","v":"Gruppe C3"},{"$f":"'Gruppe C1'!$BN$44","v":1},{"$f":"'Gruppe C1'!$BO$44","v":0},{"$f":"'Gruppe C1'!$BP$44","v":4},{"$f":"'Gruppe C1'!$BQ$44","v":":"},{"$f":"'Gruppe C1'!$BR$44","v":5},{"$f":"'Gruppe C1'!$BS$44","v":-1},0,0,0,{"$f":"IF(BX237>BY238,10,IF(BX237<BY238,-10,0))","v":0},{"$f":"IF(ISNA(INDEX(BF$227:BF$247,MATCH(BM237&BM238,O$227:O$247&AF$227:AF$247,0))),INDEX(BH$227:BH$247,MATCH(BM238&BM237,O$227:O$247&AF$227:AF$247,0)),INDEX(BF$227:BF$247,MATCH(BM237&BM238,O$227:O$247&AF$227:AF$247,0)))","v":1},{"$f":"IF(ISNA(INDEX(BF$227:BF$247,MATCH(BM237&BM236,O$227:O250&AF$227:AF250,0))),INDEX(BH$227:BH$247,MATCH(BM236&BM237,O$227:O$247&AF$227:AF$247,0)),INDEX(BF$227:BF$247,MATCH(BM237&BM236,O$227:O$247&AF$227:AF$247,0)))","v":1},{"$f":"IF(AND(EXACT(BO237,BO238),EXACT(BP237,BP238),EXACT(BS237,BS238),EXACT(BX237,BY238)),\"ACHTUNG! Direkter Vergleich war unentschieden!\",IF(AND(EXACT(BO237,BO238),EXACT(BP237,BP238),EXACT(BS237,BS238)),1,2))","v":2},2,"",1]
[{"$f":"VLOOKUP(B238,Vorgaben!B$10:C$16,2,FALSE)","v":{"$error":"#N/A"}},12,null,null,null,null,null,null,null,"16:05:00",null,null,null,null,{"$f":"L221","v":"Gruppe C6"},null,null,null,null,null,null,null,null,null,null,null,null,null,null,null,"-",{"$f":"L217","v":"Gruppe C2"},null,null,null,null,null,null,null,null,null,null,null,null,null,null,null,null,{"$f":"IF(ISBLANK('Gruppe C1'!AW39),\"\",'Gruppe C1'!AW39)","v":""},null,":",{"$f":"IF(ISBLANK('Gruppe C1'!AZ39),\"\",'Gruppe C1'!AZ39)","v":""},null,null,null,null,null,1,":",1,null,null,null,{"$f":"INDEX(Vorgaben!B$29:D$36,MATCH($BM238,Vorgaben!B$29:B$36,0),3)","v":0},{"$f":"'Gruppe C1'!$BM$43","v":"Gruppe C1"},{"$f":"'Gruppe C1'!$BN$43","v":1},{"$f":"'Gruppe C1'!$BO$43","v":0},{"$f":"'Gruppe C1'!$BP$43","v":0},{"$f":"'Gruppe C1'!$BQ$43","v":":"},{"$f":"'Gruppe C1'!$BR$43","v":2},{"$f":"'Gruppe C1'!$BS$43","v":-2},0,0,0,{"$f":"IF(BX237<BY238,10,IF(BX237>BY238,-10,0))","v":0},{"$f":"IF(ISNA(INDEX(BF$227:BF$247,MATCH(BM238&BM239,O$227:O$247&AF$227:AF$247,0))),INDEX(BH$227:BH$247,MATCH(BM239&BM238,O$227:O$247&AF$227:AF$247,0)),INDEX(BF$227:BF$247,MATCH(BM238&BM239,O$227:O$247&AF$227:AF$247,0)))","v":1},{"$f":"IF(ISNA(INDEX(BF$227:BF$247,MATCH(BM238&BM237,O$227:O251&AF$227:AF251,0))),INDEX(BH$227:BH$247,MATCH(BM237&BM238,O$227:O$247&AF$227:AF$247,0)),INDEX(BF$227:BF$247,MATCH(BM238&BM237,O$227:O$247&AF$227:AF$247,0)))","v":1},{"$f":"IF(AND(EXACT(BO238,BO239),EXACT(BP238,BP239),EXACT(BS238,BS239),EXACT(BX238,BY239)),\"ACHTUNG! Direkter Vergleich war unentschieden!\",IF(AND(EXACT(BO238,BO239),EXACT(BP238,BP239),EXACT(BS238,BS239)),1,2))","v":2},2,"",1]
[{"$f":"VLOOKUP(B239,Vorgaben!B$10:C$16,2,FALSE)","v":{"$error":"#N/A"}},13,null,null,null,null,null,null,null,"16:15:00",null,null,null,null,{"$f":"L216","v":"Gruppe C1"},null,null,null,null,null,null,null,null,null,null,null,null,null,null,null,"-",{"$f":"L219","v":"Gruppe C4"},null,null,null,null,null,null,null,null,null,null,null,null,null,null,null,null,{"$f":"IF(ISBLANK('Gruppe C1'!AW40),\"\",'Gruppe C1'!AW40)","v":""},null,":",{"$f":"IF(ISBLANK('Gruppe C1'!AZ40),\"\",'Gruppe C1'!AZ40)","v":""},null,null,null,null,null,1,":",1,null,null,null,{"$f":"INDEX(Vorgaben!B$29:D$36,MATCH($BM239,Vorgaben!B$29:B$36,0),3)","v":0},{"$f":"'Gruppe C1'!$BM$49","v":"Gruppe C6"},{"$f":"'Gruppe C1'!$BN$49","v":1},{"$f":"'Gruppe C1'!$BO$49","v":0},{"$f":"'Gruppe C1'!$BP$49","v":0},{"$f":"'Gruppe C1'!$BQ$49","v":":"},{"$f":"'Gruppe C1'!$BR$49","v":5},{"$f":"'Gruppe C1'!$BS$49","v":-5},0,0,0,{"$f":"IF(BX238<BY239,10,IF(BX238>BY239,-10,0))","v":0},null,{"$f":"IF(ISNA(INDEX(BF$227:BF$247,MATCH(BM239&BM238,O$227:O252&AF$227:AF252,0))),INDEX(BH$227:BH$247,MATCH(BM238&BM239,O$227:O$247&AF$227:AF$247,0)),INDEX(BF$227:BF$247,MATCH(BM239&BM238,O$227:O$247&AF$227:AF$247,0)))","v":1},null,2,"",1]
[{"$f":"VLOOKUP(B240,Vorgaben!B$10:C$16,2,FALSE)","v":{"$error":"#N/A"}},14,null,null,null,null,null,null,null,"16:25:00",null,null,null,null,{"$f":"L221","v":"Gruppe C6"},null,null,null,null,null,null,null,null,null,null,null,null,null,null,null,"-",{"$f":"L222","v":"Gruppe C7"},null,null,null,null,null,null,null,null,null,null,null,null,null,null,null,null,{"$f":"IF(ISBLANK('Gruppe C1'!AW41),\"\",'Gruppe C1'!AW41)","v":""},null,":",{"$f":"IF(ISBLANK('Gruppe C1'!AZ41),\"\",'Gruppe C1'!AZ41)","v":""},null,null,null,null,null,1,":",1]
[{"$f":"VLOOKUP(B241,Vorgaben!B$10:C$16,2,FALSE)","v":{"$error":"#N/A"}},15,null,null,null,null,null,null,null,"16:35:00",null,null,null,null,{"$f":"L217","v":"Gruppe C2"},null,null,null,null,null,null,null,null,null,null,null,null,null,null,null,"-",{"$f":"L220","v":"Gruppe C5"},null,null,null,null,null,null,null,null,null,null,null,null,null,null,null,null,{"$f":"IF(ISBLANK('Gruppe C1'!AW42),\"\",'Gruppe C1'!AW42)","v":""},null,":",{"$f":"IF(ISBLANK('Gruppe C1'!AZ42),\"\",'Gruppe C1'!AZ42)","v":""},null,null,null,null,null,1,":",1]
[{"$f":"VLOOKUP(B242,Vorgaben!B$10:C$16,2,FALSE)","v":{"$error":"#N/A"}},16,null,null,null,null,null,null,null,"16:45:00",null,null,null,null,"Gruppe C3",null,null,null,null,null,null,null,null,null,null,null,null,null,null,null,"-",{"$f":"L216","v":"Gruppe C1"},null,null,null,null,null,null,null,null,null,null,null,null,null,null,null,null,{"$f":"IF(ISBLANK('Gruppe C1'!AW43),\"\",'Gruppe C1'!AW43)","v":""},null,":",{"$f":"IF(ISBLANK('Gruppe C1'!AZ43),\"\",'Gruppe C1'!AZ43)","v":""},null,null,null,null,null,1,":",1]
[{"$f":"VLOOKUP(B243,Vorgaben!B$10:C$16,2,FALSE)","v":{"$error":"#N/A"}},17,null,null,null,null,null,null,null,"16:55:00",null,null,null,null,"Gruppe C4",null,null,null,null,null,null,null,null,null,null,null,null,null,null,null,"-",{"$f":"L221","v":"Gruppe C6"},null,null,null,null,null,null,null,null,null,null,null,null,null,null,null,null,{"$f":"IF(ISBLANK('Gruppe C1'!AW44),\"\",'Gruppe C1'!AW44)","v":""},null,":",{"$f":"IF(ISBLANK('Gruppe C1'!AZ44),\"\",'Gruppe C1'!AZ44)","v":""},null,null,null,null,null,1,":",1]
[{"$f":"VLOOKUP(B244,Vorgaben!B$10:C$16,2,FALSE)","v":{"$error":"#N/A"}},18,null,null,null,null,null,null,null,"17:05:00",null,null,null,null,"Gruppe C5",null,null,null,null,null,null,null,null,null,null,null,null,null,null,null,"-",{"$f":"L222","v":"Gruppe C7"},null,null,null,null,null,null,null,null,null,null,null,null,null,null,null,null,{"$f":"IF(ISBLANK('Gruppe C1'!AW45),\"\",'Gruppe C1'!AW45)","v":""},null,":",{"$f":"IF(ISBLANK('Gruppe C1'!AZ45),\"\",'Gruppe C1'!AZ45)","v":""},null,null,null,null,null,1,":",1]
[{"$f":"VLOOKUP(B245,Vorgaben!B$10:C$16,2,FALSE)","v":{"$error":"#N/A"}},19,null,null,null,null,null,null,null,"17:15:00",null,null,null,null,"Gruppe C6",null,null,null,null,null,null,null,null,null,null,null,null,null,null,null,"-",{"$f":"L218","v":"Gruppe C3"},null,null,null,null,null,null,null,null,null,null,null,null,null,null,null,null,{"$f":"IF(ISBLANK('Gruppe C1'!AW46),\"\",'Gruppe C1'!AW46)","v":""},null,":",{"$f":"IF(ISBLANK('Gruppe C1'!AZ46),\"\",'Gruppe C1'!AZ46)","v":""},null,null,null,null,null,1,":",1]
[{"$f":"VLOOKUP(B246,Vorgaben!B$10:C$16,2,FALSE)","v":{"$error":"#N/A"}},20,null,null,null,null,null,null,null,"17:25:00",null,null,null,null,"Gruppe C7",null,null,null,null,null,null,null,null,null,null,null,null,null,null,null,"-",{"$f":"L217","v":"Gruppe C2"},null,null,null,null,null,null,null,null,null,null,null,null,null,null,null,null,{"$f":"IF(ISBLANK('Gruppe C1'!AW47),\"\",'Gruppe C1'!AW47)","v":""},null,":",{"$f":"IF(ISBLANK('Gruppe C1'!AZ47),\"\",'Gruppe C1'!AZ47)","v":""},null,null,null,null,null,{"$f":"IF(ISBLANK(AW246),\"0\",IF(AW246>AZ246,3,IF(AW246=AZ246,1,0)))","v":1},":",{"$f":"IF(ISBLANK(AZ246),\"0\",IF(AZ246>AW246,3,IF(AZ246=AW246,1,0)))","v":1}]
[{"$f":"VLOOKUP(B247,Vorgaben!B$10:C$16,2,FALSE)","v":{"$error":"#N/A"}},21,null,null,null,null,null,null,null,"17:35:00",null,null,null,null,{"$f":"L219","v":"Gruppe C4"},null,null,null,null,null,null,null,null,null,null,null,null,null,null,null,"-",{"$f":"L220","v":"Gruppe C5"},null,null,null,null,null,null,null,null,null,null,null,null,null,null,null,null,{"$f":"IF(ISBLANK('Gruppe C1'!AW48),\"\",'Gruppe C1'!AW48)","v":1},null,":",{"$f":"IF(ISBLANK('Gruppe C1'!AZ48),\"\",'Gruppe C1'!AZ48)","v":0},null,null,null,null,null,{"$f":"IF(ISBLANK(AW247),\"0\",IF(AW247>AZ247,3,IF(AW247=AZ247,1,0)))","v":3},":",{"$f":"IF(ISBLANK(AZ247),\"0\",IF(AZ247>AW247,3,IF(AZ247=AW247,1,0)))","v":0}]
[]
[]
[null,"III. Abschlußtabelle"]
[]
[null,null,null,null,null,null,null,null,"Mannschaften",null,null,null,null,null,null,null,null,null,null,null,null,null,null,null,null,null,null,null,null,null,null,null,null,null,null,null,"Sp.",null,null,"Pkt.",null,null,"Tore",null,null,null,null,"Diff."]
[null,null,null,null,null,null,null,null,"1.",null,{"$f":"BM233","v":"Gruppe C5"},null,null,null,null,null,null,null,null,null,null,null,null,null,null,null,null,null,null,null,null,null,null,null,null,null,{"$f":"BN233","v":3},null,null,{"$f":"BO233","v":6},null,null,{"$f":"BP233","v":10},null,":",{"$f":"BR233","v":5},null,{"$f":"BS233","v":5}]
[null,null,null,null,null,null,null,null,"2.",null,"Gruppe C2",null,null,null,null,null,null,null,null,null,null,null,null,null,null,null,null,null,null,null,null,null,null,null,null,null,1,null,null,{"$f":"BO234","v":3},null,null,{"$f":"BP234","v":3},null,":",{"$f":"BR234","v":1},null,{"$f":"BS234","v":2}]
[null,null,null,null,null,null,null,null,"3.",null,"Gruppe C7",null,null,null,null,null,null,null,null,null,null,null,null,null,null,null,null,null,null,null,null,null,null,null,null,null,1,null,null,3,null,null,2,null,":",0,null,2]
[null,null,null,null,null,null,null,null,"4.",null,"Gruppe C4",null,null,null,null,null,null,null,null,null,null,null,null,null,null,null,null,null,null,null,null,null,null,null,null,null,2,null,null,3,null,null,2,null,":",3,null,-1]
[null,null,null,null,null,null,null,null,"5.",null,"Gruppe C3",null,null,null,null,null,null,null,null,null,null,null,null,null,null,null,null,null,null,null,null,null,null,null,null,null,1,null,null,0,null,null,4,null,":",5,null,-1]
[null,null,null,null,null,null,null,null,"6.",null,"Gruppe C1",null,null,null,null,null,null,null,null,null,null,null,null,null,null,null,null,null,null,null,null,null,null,null,null,null,1,null,null,0,null,null,0,null,":",2,null,-2]
[null,null,null,null,null,null,null,null,"7.",null,"Gruppe C6",null,null,null,null,null,null,null,null,null,null,null,null,null,null,null,null,null,null,null,null,null,null,null,null,null,1,null,null,0,null,null,0,null,":",5,null,-5]
[]
[]
[]
[]
[]
[]
[]
[]
[]
[]
[]
[]
[]
[]
[]
[]
[]
[]
[]
[]
[]
[]
[]
[]
[]
[]
[]
[]
[]
[]
[]
[]
[]
[]
[]
[]
[]
[]
[]
[]
[]
[]
["Vorrunde"]
["Gruppe D"]
[]
[]
[]
[]
[]
[]
[null,null,null,null,null,null,"Beginn:",{"$f":"Vorgaben!C$4","v":"14:15:00"},null,null,null,null,"Uhr",null,null,null,null,null,null,"Spielzeit:",{"$f":"Vorgaben!C$5","v":1},"1x","x",{"$f":"Vorgaben!C$6","v":"00:09:00"},null,null,null,null,"min",null,null,null,null,null,null,null,"Pause:",{"$f":"Vorgaben!C$7","v":"00:01:00"},null,null,null,null,"min"]
[]
[]
[null,"I. Teilnehmende Mannschaften"]
[]
[null,null,null,null,null,null,null,null,null,"Mannschaften"]
[null,null,null,null,null,null,null,null,null,"1.",null,{"$f":"Vorgaben!F29","v":"Gruppe D1"}]
[null,null,null,null,null,null,null,null,null,"2.",null,{"$f":"Vorgaben!F30","v":"Gruppe D2"}]
[null,null,null,null,null,null,null,null,null,"3.",null,{"$f":"Vorgaben!F31","v":"Gruppe D3"}]
[null,null,null,null,null,null,null,null,null,"4.",null,{"$f":"Vorgaben!F32","v":"Gruppe D4"}]
[null,null,null,null,null,null,null,null,null,"5.",null,{"$f":"Vorgaben!F33","v":"Gruppe D5"}]
[null,null,null,null,null,null,null,null,null,"6.",null,{"$f":"Vorgaben!F34","v":"Gruppe D6"}]
[null,null,null,null,null,null,null,null,null,"7.",null,{"$f":"Vorgaben!F35","v":"Gruppe D7"}]
[]
[null,"II. Spielplan"]
[]
[null,"Nr.",null,null,null,null,null,null,null,"Beginn",null,null,null,null,"Spielpaarungen",null,null,null,null,null,null,null,null,null,null,null,null,null,null,null,null,null,null,null,null,null,null,null,null,null,null,null,null,null,null,null,null,null,"Ergebnisse",null,null,null,null,null,null,null,null,"Punkte"]
[{"$f":"VLOOKUP(B307,Vorgaben!B308:C314,2,FALSE)","v":{"$error":"#N/A"}},1,null,null,null,null,null,null,null,{"$f":"$H$10","v":"14:15:00"},null,null,null,null,{"$f":"L316","v":"Gruppe D1"},null,null,null,null,null,null,null,null,null,null,null,null,null,null,null,"-",{"$f":"L317","v":"Gruppe D2"},null,null,null,null,null,null,null,null,null,null,null,null,null,null,null,null,{"$f":"IF('Gruppe D1'!AW28=\"\",\"\",'Gruppe D1'!AW28)","v":""},null,":",{"$f":"IF('Gruppe D1'!AZ28=\"\",\"\",'Gruppe D1'!AZ28)","v":""},null,null,null,null,null,{"$f":"IF(ISBLANK(AW327),\"0\",IF(AW327>AZ327,3,IF(AW327=AZ327,1,0)))","v":1},":",{"$f":"IF(ISBLANK(AZ327),\"0\",IF(AZ327>AW327,3,IF(AZ327=AW327,1,0)))","v":1}]
[{"$f":"VLOOKUP(B328,Vorgaben!B$10:C$16,2,FALSE)","v":{"$error":"#N/A"}},2,null,null,null,null,null,null,null,{"$f":"IF(ISNA(A328),J327+($U$10*$X$10+$AL$10),J327+($U$10*$X$10+$AL$10)+A328)","v":"14:25:00"},null,null,null,null,{"$f":"L318","v":"Gruppe D3"},null,null,null,null,null,null,null,null,null,null,null,null,null,null,null,"-",{"$f":"L319","v":"Gruppe D4"},null,null,null,null,null,null,null,null,null,null,null,null,null,null,null,null,{"$f":"IF('Gruppe D1'!AW29=\"\",\"\",'Gruppe D1'!AW29)","v":""},null,":",{"$f":"IF('Gruppe D1'!AZ29=\"\",\"\",'Gruppe D1'!AZ29)","v":""},null,null,null,null,null,{"$f":"IF(ISBLANK(AW328),\"0\",IF(AW328>AZ328,3,IF(AW328=AZ328,1,0)))","v":1},":",{"$f":"IF(ISBLANK(AZ328),\"0\",IF(AZ328>AW328,3,IF(AZ328=AW328,1,0)))","v":1}]
[{"$f":"VLOOKUP(B329,Vorgaben!B$10:C$16,2,FALSE)","v":{"$error":"#N/A"}},3,null,null,null,null,null,null,null,{"$f":"IF(ISNA(A329),J328+($U$10*$X$10+$AL$10),J328+($U$10*$X$10+$AL$10)+A329)","v":"14:35:00"},null,null,null,null,{"$f":"L320","v":"Gruppe D5"},null,null,null,null,null,null,null,null,null,null,null,null,null,null,null,"-",{"$f":"L321","v":"Gruppe D6"},null,null,null,null,null,null,null,null,null,null,null,null,null,null,null,null,{"$f":"IF('Gruppe D1'!AW30=\"\",\"\",'Gruppe D1'!AW30)","v":""},null,":",{"$f":"IF('Gruppe D1'!AZ30=\"\",\"\",'Gruppe D1'!AZ30)","v":""},null,null,null,null,null,1,":",1,null,null,null,null,{"$f":"IF(BM331=\"Min. 3 Teams identisch.  HANDSORTIERUNG!\",BM331,IF(BM331=\"ACHTUNG! Direkter Vergleich war unentschieden!\",BM331,BM330))","v":"Min. 3 Teams identisch.  HANDSORTIERUNG!"}]
[{"$f":"VLOOKUP(B330,Vorgaben!B$10:C$16,2,FALSE)","v":{"$error":"#N/A"}},4,null,null,null,null,null,null,null,"14:45:00",null,null,null,null,{"$f":"L322","v":"Gruppe D7"},null,null,null,null,null,null,null,null,null,null,null,null,null,null,null,"-",{"$f":"L316","v":"Gruppe D1"},null,null,null,null,null,null,null,null,null,null,null,null,null,null,null,null,{"$f":"IF('Gruppe D1'!AW31=\"\",\"\",'Gruppe D1'!AW31)","v":""},null,":",{"$f":"IF('Gruppe D1'!AZ31=\"\",\"\",'Gruppe D1'!AZ31)","v":""},null,null,null,null,null,1,":",1,null,null,null,null,{"$f":"IF(AND(EXACT(BO333,BO334),EXACT(BP333,BP334),EXACT(BS333,BS334)),\"ACHTUNG: Direkter Vergleich erfolgreich durchlaufen!\",IF(AND(EXACT(BO334,BO335),EXACT(BP334,BP335),EXACT(BS334,BS335)),\"ACHTUNG: Direkter Vergleich erfolgreich durchlaufen!\",IF(AND(EXACT(BO335,BO336),EXACT(BP335,BP336),EXACT(BS335,BS336)),\"ACHTUNG: Direkter Vergleich erfolgreich durchlaufen!\",IF(AND(EXACT(BO336,BO337),EXACT(BP336,BP337),EXACT(BS336,BS337)),\"ACHTUNG: Direkter Vergleich erfolgreich durchlaufen!\",IF(AND(EXACT(BO337,BO338),EXACT(BP337,BP338),EXACT(BS337,BS338)),\"ACHTUNG: Direkter Vergleich erfolgreich durchlaufen!\",IF(AND(EXACT(BO338,BO339),EXACT(BP338,BP339),EXACT(BS338,BS339)),\"ACHTUNG: Direkter Vergleich erfolgreich durchlaufen!\",\"\"))))))","v":"ACHTUNG: Direkter Vergleich erfolgreich durchlaufen!"}]
[{"$f":"VLOOKUP(B331,Vorgaben!B$10:C$16,2,FALSE)","v":{"$error":"#N/A"}},5,null,null,null,null,null,null,null,"14:55:00",null,null,null,null,{"$f":"L317","v":"Gruppe D2"},null,null,null,null,null,null,null,null,null,null,null,null,null,null,null,"-",{"$f":"L319","v":"Gruppe D4"},null,null,null,null,null,null,null,null,null,null,null,null,null,null,null,null,{"$f":"IF('Gruppe D1'!AW32=\"\",\"\",'Gruppe D1'!AW32)","v":""},null,":",{"$f":"IF('Gruppe D1'!AZ32=\"\",\"\",'Gruppe D1'!AZ32)","v":""},null,null,null,null,null,1,":",1,null,null,null,null,{"$f":"IF(OR(CC333=3,CC334=3,CC335=3,CC336=3,CC337=3,CC338=3,CC339=3),\"Min. 3 Teams identisch.  HANDSORTIERUNG!\",IF(OR(CB333=\"ACHTUNG! Direkter Vergleich war unentschieden!\",CB334=\"ACHTUNG! Direkter Vergleich war unentschieden!\",CB335=\"ACHTUNG! Direkter Vergleich war unentschieden!\",CB336=\"ACHTUNG! Direkter Vergleich war unentschieden!\",CB337=\"ACHTUNG! Direkter Vergleich war unentschieden!\",CB338=\"ACHTUNG! Direkter Vergleich war unentschieden!\",CB339=\"ACHTUNG! Direkter Vergleich war unentschieden!\"),\"ACHTUNG! Direkter Vergleich war unentschieden!\",\"\"))","v":"Min. 3 Teams identisch.  HANDSORTIERUNG!"}]
[{"$f":"VLOOKUP(B332,Vorgaben!B$10:C$16,2,FALSE)","v":{"$error":"#N/A"}},6,null,null,null,null,null,null,null,"15:05:00",null,null,null,null,{"$f":"L318","v":"Gruppe D3"},null,null,null,null,null,null,null,null,null,null,null,null,null,null,null,"-",{"$f":"L320","v":"Gruppe D5"},null,null,null,null,null,null,null,null,null,null,null,null,null,null,null,null,{"$f":"IF('Gruppe D1'!AW33=\"\",\"\",'Gruppe D1'!AW33)","v":""},null,":",{"$f":"IF('Gruppe D1'!AZ33=\"\",\"\",'Gruppe D1'!AZ33)","v":""},null,null,null,null,null,1,":",1,null,null,null,null,null,"Spiele","Punkte","Tore+",null,"Tore-","Diff"]
[{"$f":"VLOOKUP(B333,Vorgaben!B$10:C$16,2,FALSE)","v":{"$error":"#N/A"}},7,null,null,null,null,null,null,null,"15:15:00",null,null,null,null,{"$f":"L316","v":"Gruppe D1"},null,null,null,null,null,null,null,null,null,null,null,null,null,null,null,"-",{"$f":"L321","v":"Gruppe D6"},null,null,null,null,null,null,null,null,null,null,null,null,null,null,null,null,{"$f":"IF('Gruppe D1'!AW34=\"\",\"\",'Gruppe D1'!AW34)","v":""},null,":",{"$f":"IF('Gruppe D1'!AZ34=\"\",\"\",'Gruppe D1'!AZ34)","v":""},null,null,null,null,null,1,":",1,null,null,null,{"$f":"INDEX(Vorgaben!F$29:H$36,MATCH($BM333,Vorgaben!F$29:F$36,0),3)","v":0},{"$f":"'Gruppe D1'!$BM$45","v":"Gruppe D2"},{"$f":"'Gruppe D1'!$BN$45","v":1},{"$f":"'Gruppe D1'!$BO$45","v":3},{"$f":"'Gruppe D1'!$BP$45","v":3},{"$f":"'Gruppe D1'!$BQ$45","v":":"},{"$f":"'Gruppe D1'!$BR$45","v":0},{"$f":"'Gruppe D1'!$BS$45","v":3},{"$f":"BV333","v":0},null,{"$f":"IF(BX333>BY334,10,IF(BX333<BY334,-10,0))","v":0},null,{"$f":"IF(ISNA(INDEX(BF$327:BF$347,MATCH(BM333&BM334,O$327:O$347&AF$327:AF$347,0))),INDEX(BH$327:BH$347,MATCH(BM334&BM333,O$327:O$347&AF$327:AF$347,0)),INDEX(BF$327:BF$347,MATCH(BM333&BM334,O$327:O$347&AF$327:AF$347,0)))","v":1},null,{"$f":"IF(AND(EXACT(BO333,BO334),EXACT(BP333,BP334),EXACT(BS333,BS334),EXACT(BX333,BY334)),\"ACHTUNG! Direkter Vergleich war unentschieden!\",IF(AND(EXACT(BO333,BO334),EXACT(BP333,BP334),EXACT(BS333,BS334)),1,2))","v":2},{"$f":"IF(AND(EXACT(BO332,BO333),EXACT(BP332,BP333),EXACT(BS332,BS333),EXACT(BX333,BY332)),\"ACHTUNG! Direkter Vergleich war unentschieden!\",\"\")","v":""},{"$f":"IF(OR(BZ333=\"ACHTUNG! Direkter Vergleich war unentschieden!\",CA333=\"ACHTUNG! Direkter Vergleich war unentschieden!\"),\"ACHTUNG! Direkter Vergleich war unentschieden!\",\"\")","v":""},{"$f":"IF(OR(AND(EXACT(BO333,BO334),EXACT(BP333,BP334),EXACT(BS333,BS334),EXACT(BO333,BO335),EXACT(BP333,BP335),EXACT(BS333,BS335)),AND(EXACT(BO333,BO334),EXACT(BP333,BP334),EXACT(BS333,BS334),EXACT(BO333,BO332),EXACT(BP333,BP332),EXACT(BS333,BS332))*AND(EXACT(BO333,BO331),EXACT(BP333,BP331),EXACT(BS333,BS331),EXACT(BO333,BO332),EXACT(BP333,BP332),EXACT(BS333,BS332))),3,1)","v":1}]
[{"$f":"VLOOKUP(B334,Vorgaben!B$10:C$16,2,FALSE)","v":{"$error":"#N/A"}},8,null,null,null,null,null,null,null,"15:25:00",null,null,null,null,{"$f":"L319","v":"Gruppe D4"},null,null,null,null,null,null,null,null,null,null,null,null,null,null,null,"-",{"$f":"L322","v":"Gruppe D7"},null,null,null,null,null,null,null,null,null,null,null,null,null,null,null,null,{"$f":"IF('Gruppe D1'!AW35=\"\",\"\",'Gruppe D1'!AW35)","v":""},null,":",{"$f":"IF('Gruppe D1'!AZ35=\"\",\"\",'Gruppe D1'!AZ35)","v":""},null,null,null,null,null,1,":",1,null,null,null,{"$f":"INDEX(Vorgaben!F$29:H$36,MATCH($BM334,Vorgaben!F$29:F$36,0),3)","v":0},{"$f":"'Gruppe D1'!$BM$44","v":"Gruppe D3"},{"$f":"'Gruppe D1'!$BN$44","v":1},{"$f":"'Gruppe D1'!$BO$44","v":1},{"$f":"'Gruppe D1'!$BP$44","v":1},{"$f":"'Gruppe D1'!$BQ$44","v":":"},{"$f":"'Gruppe D1'!$BR$44","v":1},{"$f":"'Gruppe D1'!$BS$44","v":0},{"$f":"BV334","v":0},{"$f":"BW334","v":0},{"$f":"IF(BX333<BY334,10,IF(BX333>BY334,-10,0))","v":0},{"$f":"IF(BX334>BY335,10,IF(BX334<BY335,-10,0))","v":0},{"$f":"IF(ISNA(INDEX(BF$327:BF$347,MATCH(BM334&BM335,O$327:O$347&AF$327:AF$347,0))),INDEX(BH$327:BH$347,MATCH(BM335&BM334,O$327:O$347&AF$327:AF$347,0)),INDEX(BF$327:BF$347,MATCH(BM334&BM335,O$327:O$347&AF$327:AF$347,0)))","v":1},{"$f":"IF(ISNA(INDEX(BF$327:BF$347,MATCH(BM334&BM333,O$327:O347&AF$327:AF347,0))),INDEX(BH$327:BH$347,MATCH(BM333&BM334,O$327:O$347&AF$327:AF$347,0)),INDEX(BF$327:BF$347,MATCH(BM334&BM333,O$327:O$347&AF$327:AF$347,0)))","v":1},{"$f":"IF(AND(EXACT(BO334,BO335),EXACT(BP334,BP335),EXACT(BS334,BS335),EXACT(BX334,BY335)),\"ACHTUNG! Direkter Vergleich war unentschieden!\",IF(AND(EXACT(BO334,BO335),EXACT(BP334,BP335),EXACT(BS334,BS335)),1,2))","v":"ACHTUNG! Direkter Vergleich war unentschieden!"},{"$f":"IF(AND(EXACT(BO333,BO334),EXACT(BP333,BP334),EXACT(BS333,BS334),EXACT(BY334,BX333)),\"ACHTUNG! Direkter Vergleich war unentschieden!\",IF(AND(EXACT(BO333,BO334),EXACT(BP333,BP334),EXACT(BS333,BS334)),1,2))","v":2},"ACHTUNG! Direkter Vergleich war unentschieden!",1]
[{"$f":"VLOOKUP(B335,Vorgaben!B$10:C$16,2,FALSE)","v":{"$error":"#N/A"}},9,null,null,null,null,null,null,null,"15:35:00",null,null,null,null,{"$f":"L317","v":"Gruppe D2"},null,null,null,null,null,null,null,null,null,null,null,null,null,null,null,"-",{"$f":"L318","v":"Gruppe D3"},null,null,null,null,null,null,null,null,null,null,null,null,null,null,null,null,{"$f":"IF('Gruppe D1'!AW36=\"\",\"\",'Gruppe D1'!AW36)","v":""},null,":",{"$f":"IF('Gruppe D1'!AZ36=\"\",\"\",'Gruppe D1'!AZ36)","v":""},null,null,null,null,null,1,":",1,null,null,null,{"$f":"INDEX(Vorgaben!F$29:H$36,MATCH($BM335,Vorgaben!F$29:F$36,0),3)","v":0},{"$f":"'Gruppe D1'!$BM$47","v":"Gruppe D7"},{"$f":"'Gruppe D1'!$BN$47","v":1},{"$f":"'Gruppe D1'!$BO$47","v":1},{"$f":"'Gruppe D1'!$BP$47","v":1},{"$f":"'Gruppe D1'!$BQ$47","v":":"},{"$f":"'Gruppe D1'!$BR$47","v":1},{"$f":"'Gruppe D1'!$BS$47","v":0},{"$f":"BV335","v":0},0,0,{"$f":"IF(BX335>BY336,10,IF(BX335<BY336,-10,0))","v":0},{"$f":"IF(ISNA(INDEX(BF$327:BF$347,MATCH(BM335&BM336,O$327:O$347&AF$327:AF$347,0))),INDEX(BH$327:BH$347,MATCH(BM336&BM335,O$327:O$347&AF$327:AF$347,0)),INDEX(BF$327:BF$347,MATCH(BM335&BM336,O$327:O$347&AF$327:AF$347,0)))","v":1},{"$f":"IF(ISNA(INDEX(BF$327:BF$347,MATCH(BM335&BM334,O$327:O348&AF$327:AF348,0))),INDEX(BH$327:BH$347,MATCH(BM334&BM335,O$327:O$347&AF$327:AF$347,0)),INDEX(BF$327:BF$347,MATCH(BM335&BM334,O$327:O$347&AF$327:AF$347,0)))","v":1},{"$f":"IF(AND(EXACT(BO335,BO336),EXACT(BP335,BP336),EXACT(BS335,BS336),EXACT(BX335,BY336)),\"ACHTUNG! Direkter Vergleich war unentschieden!\",IF(AND(EXACT(BO335,BO336),EXACT(BP335,BP336),EXACT(BS335,BS336)),1,2))","v":2},"ACHTUNG! Direkter Vergleich war unentschieden!","ACHTUNG! Direkter Vergleich war unentschieden!",{"$f":"IF(OR(AND(EXACT(BO335,BO336),EXACT(BP335,BP336),EXACT(BS335,BS336),EXACT(BO335,BO337),EXACT(BP335,BP337),EXACT(BS335,BS337)),AND(EXACT(BO335,BO336),EXACT(BP335,BP336),EXACT(BS335,BS336),EXACT(BO335,BO334),EXACT(BP335,BP334),EXACT(BS335,BS334))*AND(EXACT(BO335,BO333),EXACT(BP335,BP333),EXACT(BS335,BS333),EXACT(BO335,BO334),EXACT(BP335,BP334),EXACT(BS335,BS334))),3,1)","v":1}]
[{"$f":"VLOOKUP(B336,Vorgaben!B$10:C$16,2,FALSE)","v":{"$error":"#N/A"}},10,null,null,null,null,null,null,null,"15:45:00",null,null,null,null,{"$f":"L320","v":"Gruppe D5"},null,null,null,null,null,null,null,null,null,null,null,null,null,null,null,"-",{"$f":"L316","v":"Gruppe D1"},null,null,null,null,null,null,null,null,null,null,null,null,null,null,null,null,{"$f":"IF('Gruppe D1'!AW37=\"\",\"\",'Gruppe D1'!AW37)","v":""},null,":",{"$f":"IF('Gruppe D1'!AZ37=\"\",\"\",'Gruppe D1'!AZ37)","v":""},null,null,null,null,null,1,":",1,null,null,null,{"$f":"INDEX(Vorgaben!F$29:H$36,MATCH($BM336,Vorgaben!F$29:F$36,0),3)","v":0},{"$f":"'Gruppe D1'!$BM$49","v":"Gruppe D6"},{"$f":"'Gruppe D1'!$BN$49","v":1},{"$f":"'Gruppe D1'!$BO$49","v":1},{"$f":"'Gruppe D1'!$BP$49","v":1},{"$f":"'Gruppe D1'!$BQ$49","v":":"},{"$f":"'Gruppe D1'!$BR$49","v":3},{"$f":"'Gruppe D1'!$BS$49","v":-2},0,0,0,{"$f":"IF(BX335<BY336,10,IF(BX335>BY336,-10,0))","v":0},{"$f":"IF(ISNA(INDEX(BF$327:BF$347,MATCH(BM336&BM337,O$327:O$347&AF$327:AF$347,0))),INDEX(BH$327:BH$347,MATCH(BM337&BM336,O$327:O$347&AF$327:AF$347,0)),INDEX(BF$327:BF$347,MATCH(BM336&BM337,O$327:O$347&AF$327:AF$347,0)))","v":1},{"$f":"IF(ISNA(INDEX(BF$327:BF$347,MATCH(BM336&BM335,O$327:O349&AF$327:AF349,0))),INDEX(BH$327:BH$347,MATCH(BM335&BM336,O$327:O$347&AF$327:AF$347,0)),INDEX(BF$327:BF$347,MATCH(BM336&BM335,O$327:O$347&AF$327:AF$347,0)))","v":1},{"$f":"IF(AND(EXACT(BO336,BO337),EXACT(BP336,BP337),EXACT(BS336,BS337),EXACT(BX336,BY337)),\"ACHTUNG! Direkter Vergleich war unentschieden!\",IF(AND(EXACT(BO336,BO337),EXACT(BP336,BP337),EXACT(BS336,BS337)),1,2))","v":2},2,"",{"$f":"IF(OR(AND(EXACT(BO336,BO337),EXACT(BP336,BP337),EXACT(BS336,BS337),EXACT(BO336,BO338),EXACT(BP336,BP338),EXACT(BS336,BS338)),AND(EXACT(BO336,BO337),EXACT(BP336,BP337),EXACT(BS336,BS337),EXACT(BO336,BO335),EXACT(BP336,BP335),EXACT(BS336,BS335))*AND(EXACT(BO336,BO334),EXACT(BP336,BP334),EXACT(BS336,BS334),EXACT(BO336,BO335),EXACT(BP336,BP335),EXACT(BS336,BS335))),3,1)","v":1}]
[{"$f":"VLOOKUP(B337,Vorgaben!B$10:C$16,2,FALSE)","v":{"$error":"#N/A"}},11,null,null,null,null,null,null,null,"15:55:00",null,null,null,null,{"$f":"L322","v":"Gruppe D7"},null,null,null,null,null,null,null,null,null,null,null,null,null,null,null,"-",{"$f":"L318","v":"Gruppe D3"},null,null,null,null,null,null,null,null,null,null,null,null,null,null,null,null,{"$f":"IF('Gruppe D1'!AW38=\"\",\"\",'Gruppe D1'!AW38)","v":1},null,":",{"$f":"IF('Gruppe D1'!AZ38=\"\",\"\",'Gruppe D1'!AZ38)","v":1},null,null,null,null,null,1,":",1,null,null,null,{"$f":"INDEX(Vorgaben!F$29:H$36,MATCH($BM337,Vorgaben!F$29:F$36,0),3)","v":0},{"$f":"'Gruppe D1'!$BM$43","v":"Gruppe D1"},{"$f":"'Gruppe D1'!$BN$43","v":0},{"$f":"'Gruppe D1'!$BO$43","v":0},{"$f":"'Gruppe D1'!$BP$43","v":0},{"$f":"'Gruppe D1'!$BQ$43","v":":"},{"$f":"'Gruppe D1'!$BR$43","v":0},{"$f":"'Gruppe D1'!$BS$43","v":0},0,0,0,{"$f":"IF(BX337>BY338,10,IF(BX337<BY338,-10,0))","v":0},{"$f":"IF(ISNA(INDEX(BF$327:BF$347,MATCH(BM337&BM338,O$327:O$347&AF$327:AF$347,0))),INDEX(BH$327:BH$347,MATCH(BM338&BM337,O$327:O$347&AF$327:AF$347,0)),INDEX(BF$327:BF$347,MATCH(BM337&BM338,O$327:O$347&AF$327:AF$347,0)))","v":1},{"$f":"IF(ISNA(INDEX(BF$327:BF$347,MATCH(BM337&BM336,O$327:O350&AF$327:AF350,0))),INDEX(BH$327:BH$347,MATCH(BM336&BM337,O$327:O$347&AF$327:AF$347,0)),INDEX(BF$327:BF$347,MATCH(BM337&BM336,O$327:O$347&AF$327:AF$347,0)))","v":1},{"$f":"IF(AND(EXACT(BO337,BO338),EXACT(BP337,BP338),EXACT(BS337,BS338),EXACT(BX337,BY338)),\"ACHTUNG! Direkter Vergleich war unentschieden!\",IF(AND(EXACT(BO337,BO338),EXACT(BP337,BP338),EXACT(BS337,BS338)),1,2))","v":"ACHTUNG! Direkter Vergleich war unentschieden!"},2,"ACHTUNG! Direkter Vergleich war unentschieden!",3]
[{"$f":"VLOOKUP(B338,Vorgaben!B$10:C$16,2,FALSE)","v":{"$error":"#N/A"}},12,null,null,null,null,null,null,null,"16:05:00",null,null,null,null,{"$f":"L321","v":"Gruppe D6"},null,null,null,null,null,null,null,null,null,null,null,null,null,null,null,"-",{"$f":"L317","v":"Gruppe D2"},null,null,null,null,null,null,null,null,null,null,null,null,null,null,null,null,{"$f":"IF('Gruppe D1'!AW39=\"\",\"\",'Gruppe D1'!AW39)","v":0},null,":",{"$f":"IF('Gruppe D1'!AZ39=\"\",\"\",'Gruppe D1'!AZ39)","v":3},null,null,null,null,null,0,":",3,null,null,null,{"$f":"INDEX(Vorgaben!F$29:H$36,MATCH($BM338,Vorgaben!F$29:F$36,0),3)","v":0},{"$f":"'Gruppe D1'!$BM$46","v":"Gruppe D4"},{"$f":"'Gruppe D1'!$BN$46","v":0},{"$f":"'Gruppe D1'!$BO$46","v":0},{"$f":"'Gruppe D1'!$BP$46","v":0},{"$f":"'Gruppe D1'!$BQ$46","v":":"},{"$f":"'Gruppe D1'!$BR$46","v":0},{"$f":"'Gruppe D1'!$BS$46","v":0},0,0,0,{"$f":"IF(BX337<BY338,10,IF(BX337>BY338,-10,0))","v":0},{"$f":"IF(ISNA(INDEX(BF$327:BF$347,MATCH(BM338&BM339,O$327:O$347&AF$327:AF$347,0))),INDEX(BH$327:BH$347,MATCH(BM339&BM338,O$327:O$347&AF$327:AF$347,0)),INDEX(BF$327:BF$347,MATCH(BM338&BM339,O$327:O$347&AF$327:AF$347,0)))","v":1},{"$f":"IF(ISNA(INDEX(BF$327:BF$347,MATCH(BM338&BM337,O$327:O351&AF$327:AF351,0))),INDEX(BH$327:BH$347,MATCH(BM337&BM338,O$327:O$347&AF$327:AF$347,0)),INDEX(BF$327:BF$347,MATCH(BM338&BM337,O$327:O$347&AF$327:AF$347,0)))","v":1},{"$f":"IF(AND(EXACT(BO338,BO339),EXACT(BP338,BP339),EXACT(BS338,BS339),EXACT(BX338,BY339)),\"ACHTUNG! Direkter Vergleich war unentschieden!\",IF(AND(EXACT(BO338,BO339),EXACT(BP338,BP339),EXACT(BS338,BS339)),1,2))","v":"ACHTUNG! Direkter Vergleich war unentschieden!"},"ACHTUNG! Direkter Vergleich war unentschieden!","ACHTUNG! Direkter Vergleich war unentschieden!",1]
[{"$f":"VLOOKUP(B339,Vorgaben!B$10:C$16,2,FALSE)","v":{"$error":"#N/A"}},13,null,null,null,null,null,null,null,"16:15:00",null,null,null,null,{"$f":"L316","v":"Gruppe D1"},null,null,null,null,null,null,null,null,null,null,null,null,null,null,null,"-",{"$f":"L319","v":"Gruppe D4"},null,null,null,null,null,null,null,null,null,null,null,null,null,null,null,null,{"$f":"IF('Gruppe D1'!AW40=\"\",\"\",'Gruppe D1'!AW40)","v":""},null,":",{"$f":"IF('Gruppe D1'!AZ40=\"\",\"\",'Gruppe D1'!AZ40)","v":""},null,null,null,null,null,1,":",1,null,null,null,{"$f":"INDEX(Vorgaben!F$29:H$36,MATCH($BM339,Vorgaben!F$29:F$36,0),3)","v":0},{"$f":"'Gruppe D1'!$BM$48","v":"Gruppe D5"},{"$f":"'Gruppe D1'!$BN$48","v":0},{"$f":"'Gruppe D1'!$BO$48","v":0},{"$f":"'Gruppe D1'!$BP$48","v":0},{"$f":"'Gruppe D1'!$BQ$48","v":":"},{"$f":"'Gruppe D1'!$BR$48","v":0},{"$f":"'Gruppe D1'!$BS$48","v":0},0,0,0,{"$f":"IF(BX338<BY339,10,IF(BX338>BY339,-10,0))","v":0},null,{"$f":"IF(ISNA(INDEX(BF$327:BF$347,MATCH(BM339&BM338,O$327:O352&AF$327:AF352,0))),INDEX(BH$327:BH$347,MATCH(BM338&BM339,O$327:O$347&AF$327:AF$347,0)),INDEX(BF$327:BF$347,MATCH(BM339&BM338,O$327:O$347&AF$327:AF$347,0)))","v":1},null,"ACHTUNG! Direkter Vergleich war unentschieden!","ACHTUNG! Direkter Vergleich war unentschieden!",1]
[{"$f":"VLOOKUP(B340,Vorgaben!B$10:C$16,2,FALSE)","v":{"$error":"#N/A"}},14,null,null,null,null,null,null,null,"16:25:00",null,null,null,null,{"$f":"L321","v":"Gruppe D6"},null,null,null,null,null,null,null,null,null,null,null,null,null,null,null,"-",{"$f":"L322","v":"Gruppe D7"},null,null,null,null,null,null,null,null,null,null,null,null,null,null,null,null,{"$f":"IF('Gruppe D1'!AW41=\"\",\"\",'Gruppe D1'!AW41)","v":""},null,":",{"$f":"IF('Gruppe D1'!AZ41=\"\",\"\",'Gruppe D1'!AZ41)","v":""},null,null,null,null,null,1,":",1]
[{"$f":"VLOOKUP(B341,Vorgaben!B$10:C$16,2,FALSE)","v":{"$error":"#N/A"}},15,null,null,null,null,null,null,null,"16:35:00",null,null,null,null,{"$f":"L317","v":"Gruppe D2"},null,null,null,null,null,null,null,null,null,null,null,null,null,null,null,"-",{"$f":"L320","v":"Gruppe D5"},null,null,null,null,null,null,null,null,null,null,null,null,null,null,null,null,{"$f":"IF('Gruppe D1'!AW42=\"\",\"\",'Gruppe D1'!AW42)","v":""},null,":",{"$f":"IF('Gruppe D1'!AZ42=\"\",\"\",'Gruppe D1'!AZ42)","v":""},null,null,null,null,null,1,":",1]
[{"$f":"VLOOKUP(B342,Vorgaben!B$10:C$16,2,FALSE)","v":{"$error":"#N/A"}},16,null,null,null,null,null,null,null,"16:45:00",null,null,null,null,"Gruppe D3",null,null,null,null,null,null,null,null,null,null,null,null,null,null,null,"-",{"$f":"L316","v":"Gruppe D1"},null,null,null,null,null,null,null,null,null,null,null,null,null,null,null,null,{"$f":"IF('Gruppe D1'!AW43=\"\",\"\",'Gruppe D1'!AW43)","v":""},null,":",{"$f":"IF('Gruppe D1'!AZ43=\"\",\"\",'Gruppe D1'!AZ43)","v":""},null,null,null,null,null,1,":",1]
[{"$f":"VLOOKUP(B343,Vorgaben!B$10:C$16,2,FALSE)","v":{"$error":"#N/A"}},17,null,null,null,null,null,null,null,"16:55:00",null,null,null,null,"Gruppe D4",null,null,null,null,null,null,null,null,null,null,null,null,null,null,null,"-",{"$f":"L321","v":"Gruppe D6"},null,null,null,null,null,null,null,null,null,null,null,null,null,null,null,null,{"$f":"IF('Gruppe D1'!AW44=\"\",\"\",'Gruppe D1'!AW44)","v":""},null,":",{"$f":"IF('Gruppe D1'!AZ44=\"\",\"\",'Gruppe D1'!AZ44)","v":""},null,null,null,null,null,1,":",1]
[{"$f":"VLOOKUP(B344,Vorgaben!B$10:C$16,2,FALSE)","v":{"$error":"#N/A"}},18,null,null,null,null,null,null,null,"17:05:00",null,null,null,null,"Gruppe D5",null,null,null,null,null,null,null,null,null,null,null,null,null,null,null,"-",{"$f":"L322","v":"Gruppe D7"},null,null,null,null,null,null,null,null,null,null,null,null,null,null,null,null,{"$f":"IF('Gruppe D1'!AW45=\"\",\"\",'Gruppe D1'!AW45)","v":""},null,":",{"$f":"IF('Gruppe D1'!AZ45=\"\",\"\",'Gruppe D1'!AZ45)","v":""},null,null,null,null,null,1,":",1]
[{"$f":"VLOOKUP(B345,Vorgaben!B$10:C$16,2,FALSE)","v":{"$error":"#N/A"}},19,null,null,null,null,null,null,null,"17:15:00",null,null,null,null,"Gruppe D6",null,null,null,null,null,null,null,null,null,null,null,null,null,null,null,"-",{"$f":"L318","v":"Gruppe D3"},null,null,null,null,null,null,null,null,null,null,null,null,null,null,null,null,{"$f":"IF('Gruppe D1'!AW46=\"\",\"\",'Gruppe D1'!AW46)","v":""},null,":",{"$f":"IF('Gruppe D1'!AZ46=\"\",\"\",'Gruppe D1'!AZ46)","v":""},null,null,null,null,null,1,":",1]
[{"$f":"VLOOKUP(B346,Vorgaben!B$10:C$16,2,FALSE)","v":{"$error":"#N/A"}},20,null,null,null,null,null,null,null,"17:25:00",null,null,null,null,"Gruppe D7",null,null,null,null,null,null,null,null,null,null,null,null,null,null,null,"-",{"$f":"L317","v":"Gruppe D2"},null,null,null,null,null,null,null,null,null,null,null,null,null,null,null,null,{"$f":"IF('Gruppe D1'!AW47=\"\",\"\",'Gruppe D1'!AW47)","v":""},null,":",{"$f":"IF('Gruppe D1'!AZ47=\"\",\"\",'Gruppe D1'!AZ47)","v":""},null,null,null,null,null,{"$f":"IF(ISBLANK(AW346),\"0\",IF(AW346>AZ346,3,IF(AW346=AZ346,1,0)))","v":1},":",{"$f":"IF(ISBLANK(AZ346),\"0\",IF(AZ346>AW346,3,IF(AZ346=AW346,1,0)))","v":1}]
[{"$f":"VLOOKUP(B347,Vorgaben!B$10:C$16,2,FALSE)","v":{"$error":"#N/A"}},21,null,null,null,null,null,null,null,"17:35:00",null,null,null,null,{"$f":"L319","v":"Gruppe D4"},null,null,null,null,null,null,null,null,null,null,null,null,null,null,null,"-",{"$f":"L320","v":"Gruppe D5"},null,null,null,null,null,null,null,null,null,null,null,null,null,null,null,null,{"$f":"IF('Gruppe D1'!AW48=\"\",\"\",'Gruppe D1'!AW48)","v":""},null,":",{"$f":"IF('Gruppe D1'!AZ48=\"\",\"\",'Gruppe D1'!AZ48)","v":""},null,null,null,null,null,{"$f":"IF(ISBLANK(AW347),\"0\",IF(AW347>AZ347,3,IF(AW347=AZ347,1,0)))","v":1},":",{"$f":"IF(ISBLANK(AZ347),\"0\",IF(AZ347>AW347,3,IF(AZ347=AW347,1,0)))","v":1}]
[]
[]
[null,"III. Abschlußtabelle"]
[]
[null,null,null,null,null,null,null,null,"Mannschaften",null,null,null,null,null,null,null,null,null,null,null,null,null,null,null,null,null,null,null,null,null,null,null,null,null,null,null,"Sp.",null,null,"Pkt.",null,null,"Tore",null,null,null,null,"Diff."]
[null,null,null,null,null,null,null,null,"1.",null,{"$f":"BM333","v":"Gruppe D2"},null,null,null,null,null,null,null,null,null,null,null,null,null,null,null,null,null,null,null,null,null,null,null,null,null,{"$f":"BN333","v":1},null,null,{"$f":"BO333","v":3},null,null,{"$f":"BP333","v":3},null,":",{"$f":"BR333","v":0},null,{"$f":"BS333","v":3}]
[null,null,null,null,null,null,null,null,"2.",null,"Gruppe D3",null,null,null,null,null,null,null,null,null,null,null,null,null,null,null,null,null,null,null,null,null,null,null,null,null,1,null,null,{"$f":"BO334","v":1},null,null,{"$f":"BP334","v":1},null,":",{"$f":"BR334","v":1},null,{"$f":"BS334","v":0}]
[null,null,null,null,null,null,null,null,"3.",null,"Gruppe D7",null,null,null,null,null,null,null,null,null,null,null,null,null,null,null,null,null,null,null,null,null,null,null,null,null,1,null,null,1,null,null,1,null,":",1,null,0]
[null,null,null,null,null,null,null,null,"4.",null,"Gruppe D6",null,null,null,null,null,null,null,null,null,null,null,null,null,null,null,null,null,null,null,null,null,null,null,null,null,1,null,null,1,null,null,1,null,":",3,null,-2]
[null,null,null,null,null,null,null,null,"5.",null,"Gruppe D1",null,null,null,null,null,null,null,null,null,null,null,null,null,null,null,null,null,null,null,null,null,null,null,null,null,0,null,null,0,null,null,0,null,":",0,null,0]
[null,null,null,null,null,null,null,null,"6.",null,"Gruppe D4",null,null,null,null,null,null,null,null,null,null,null,null,null,null,null,null,null,null,null,null,null,null,null,null,null,0,null,null,0,null,null,0,null,":",0,null,0]
[null,null,null,null,null,null,null,null,"7.",null,"Gruppe D5",null,null,null,null,null,null,null,null,null,null,null,null,null,null,null,null,null,null,null,null,null,null,null,null,null,0,null,null,0,null,null,0,null,":",0,null,0]
[]
[]
[]
[]
[]
[]
[]
[]
[]
[]
[]
[]
[]
[]
[]
[]
[]
[]
[]
[]
[]
[]
[]
[]
[]
[]
[]
[]
[]
[]
[]
[]
[]
[]
[]
[]
[]
[]
[]
[]
[]
[]
["Vorrunde"]
["Gruppe E"]
[]
[]
[]
[]
[]
[]
[null,null,null,null,null,null,"Beginn:",{"$f":"Vorgaben!C$4","v":"14:15:00"},null,null,null,null,"Uhr",null,null,null,null,null,null,"Spielzeit:",{"$f":"Vorgaben!C$5","v":1},"1x","x",{"$f":"Vorgaben!C$6","v":"00:09:00"},null,null,null,null,"min",null,null,null,null,null,null,null,"Pause:",{"$f":"Vorgaben!C$7","v":"00:01:00"},null,null,null,null,"min"]
[]
[]
[null,"I. Teilnehmende Mannschaften"]
[]
[null,null,null,null,null,null,null,null,null,"Mannschaften"]
[null,null,null,null,null,null,null,null,null,"1.",null,{"$f":"Vorgaben!B39","v":"Gruppe E1"}]
[null,null,null,null,null,null,null,null,null,"2.",null,{"$f":"Vorgaben!B40","v":"Gruppe E2"}]
[null,null,null,null,null,null,null,null,null,"3.",null,{"$f":"Vorgaben!B41","v":"Gruppe E3"}]
[null,null,null,null,null,null,null,null,null,"4.",null,{"$f":"Vorgaben!B42","v":"Gruppe E4"}]
[null,null,null,null,null,null,null,null,null,"5.",null,{"$f":"Vorgaben!B43","v":"Gruppe E5"}]
[null,null,null,null,null,null,null,null,null,"6.",null,{"$f":"Vorgaben!B44","v":"Gruppe E6"}]
[null,null,null,null,null,null,null,null,null,"7.",null,{"$f":"Vorgaben!B45","v":"Gruppe E7"}]
[]
[null,"II. Spielplan"]
[]
[null,"Nr.",null,null,null,null,null,null,null,"Beginn",null,null,null,null,"Spielpaarungen",null,null,null,null,null,null,null,null,null,null,null,null,null,null,null,null,null,null,null,null,null,null,null,null,null,null,null,null,null,null,null,null,null,"Ergebnisse",null,null,null,null,null,null,null,null,"Punkte"]
[{"$f":"VLOOKUP(B407,Vorgaben!B408:C414,2,FALSE)","v":{"$error":"#N/A"}},1,null,null,null,null,null,null,null,{"$f":"$H$10","v":"14:15:00"},null,null,null,null,{"$f":"L416","v":"Gruppe E1"},null,null,null,null,null,null,null,null,null,null,null,null,null,null,null,"-",{"$f":"L417","v":"Gruppe E2"},null,null,null,null,null,null,null,null,null,null,null,null,null,null,null,null,{"$f":"IF('Gruppe E1'!AW28=\"\",\"\",'Gruppe E1'!AW28)","v":1},null,":",{"$f":"IF('Gruppe E1'!AZ28=\"\",\"\",'Gruppe E1'!AZ28)","v":1},null,null,null,null,null,{"$f":"IF(ISBLANK(AW427),\"0\",IF(AW427>AZ427,3,IF(AW427=AZ427,1,0)))","v":1},":",{"$f":"IF(ISBLANK(AZ427),\"0\",IF(AZ427>AW427,3,IF(AZ427=AW427,1,0)))","v":1}]
[{"$f":"VLOOKUP(B428,Vorgaben!B$10:C$16,2,FALSE)","v":{"$error":"#N/A"}},2,null,null,null,null,null,null,null,{"$f":"IF(ISNA(A428),J427+($U$10*$X$10+$AL$10),J427+($U$10*$X$10+$AL$10)+A428)","v":"14:25:00"},null,null,null,null,{"$f":"L418","v":"Gruppe E3"},null,null,null,null,null,null,null,null,null,null,null,null,null,null,null,"-",{"$f":"L419","v":"Gruppe E4"},null,null,null,null,null,null,null,null,null,null,null,null,null,null,null,null,{"$f":"IF('Gruppe E1'!AW29=\"\",\"\",'Gruppe E1'!AW29)","v":1},null,":",{"$f":"IF('Gruppe E1'!AZ29=\"\",\"\",'Gruppe E1'!AZ29)","v":1},null,null,null,null,null,{"$f":"IF(ISBLANK(AW428),\"0\",IF(AW428>AZ428,3,IF(AW428=AZ428,1,0)))","v":1},":",{"$f":"IF(ISBLANK(AZ428),\"0\",IF(AZ428>AW428,3,IF(AZ428=AW428,1,0)))","v":1}]
[{"$f":"VLOOKUP(B429,Vorgaben!B$10:C$16,2,FALSE)","v":{"$error":"#N/A"}},3,null,null,null,null,null,null,null,{"$f":"IF(ISNA(A429),J428+($U$10*$X$10+$AL$10),J428+($U$10*$X$10+$AL$10)+A429)","v":"14:35:00"},null,null,null,null,{"$f":"L420","v":"Gruppe E5"},null,null,null,null,null,null,null,null,null,null,null,null,null,null,null,"-",{"$f":"L421","v":"Gruppe E6"},null,null,null,null,null,null,null,null,null,null,null,null,null,null,null,null,{"$f":"IF('Gruppe E1'!AW30=\"\",\"\",'Gruppe E1'!AW30)","v":1},null,":",{"$f":"IF('Gruppe E1'!AZ30=\"\",\"\",'Gruppe E1'!AZ30)","v":1},null,null,null,null,null,1,":",1,null,null,null,null,{"$f":"IF(BM431=\"Min. 3 Teams identisch.  HANDSORTIERUNG!\",BM431,IF(BM431=\"ACHTUNG! Direkter Vergleich war unentschieden!\",BM431,BM430))","v":"Min. 3 Teams identisch.  HANDSORTIERUNG!"}]
[{"$f":"VLOOKUP(B430,Vorgaben!B$10:C$16,2,FALSE)","v":{"$error":"#N/A"}},4,null,null,null,null,null,null,null,"14:45:00",null,null,null,null,{"$f":"L422","v":"Gruppe E7"},null,null,null,null,null,null,null,null,null,null,null,null,null,null,null,"-",{"$f":"L416","v":"Gruppe E1"},null,null,null,null,null,null,null,null,null,null,null,null,null,null,null,null,{"$f":"IF('Gruppe E1'!AW31=\"\",\"\",'Gruppe E1'!AW31)","v":1},null,":",{"$f":"IF('Gruppe E1'!AZ31=\"\",\"\",'Gruppe E1'!AZ31)","v":1},null,null,null,null,null,1,":",1,null,null,null,null,{"$f":"IF(AND(EXACT(BO433,BO434),EXACT(BP433,BP434),EXACT(BS433,BS434)),\"ACHTUNG: Direkter Vergleich erfolgreich durchlaufen!\",IF(AND(EXACT(BO434,BO435),EXACT(BP434,BP435),EXACT(BS434,BS435)),\"ACHTUNG: Direkter Vergleich erfolgreich durchlaufen!\",IF(AND(EXACT(BO435,BO436),EXACT(BP435,BP436),EXACT(BS435,BS436)),\"ACHTUNG: Direkter Vergleich erfolgreich durchlaufen!\",IF(AND(EXACT(BO436,BO437),EXACT(BP436,BP437),EXACT(BS436,BS437)),\"ACHTUNG: Direkter Vergleich erfolgreich durchlaufen!\",IF(AND(EXACT(BO437,BO438),EXACT(BP437,BP438),EXACT(BS437,BS438)),\"ACHTUNG: Direkter Vergleich erfolgreich durchlaufen!\",IF(AND(EXACT(BO438,BO439),EXACT(BP438,BP439),EXACT(BS438,BS439)),\"ACHTUNG: Direkter Vergleich erfolgreich durchlaufen!\",\"\"))))))","v":"ACHTUNG: Direkter Vergleich erfolgreich durchlaufen!"}]
[{"$f":"VLOOKUP(B431,Vorgaben!B$10:C$16,2,FALSE)","v":{"$error":"#N/A"}},5,null,null,null,null,null,null,null,"14:55:00",null,null,null,null,{"$f":"L417","v":"Gruppe E2"},null,null,null,null,null,null,null,null,null,null,null,null,null,null,null,"-",{"$f":"L419","v":"Gruppe E4"},null,null,null,null,null,null,null,null,null,null,null,null,null,null,null,null,{"$f":"IF('Gruppe E1'!AW32=\"\",\"\",'Gruppe E1'!AW32)","v":1},null,":",{"$f":"IF('Gruppe E1'!AZ32=\"\",\"\",'Gruppe E1'!AZ32)","v":2},null,null,null,null,null,0,":",3,null,null,null,null,{"$f":"IF(OR(CC433=3,CC434=3,CC435=3,CC436=3,CC437=3,CC438=3,CC439=3),\"Min. 3 Teams identisch.  HANDSORTIERUNG!\",IF(OR(CB433=\"ACHTUNG! Direkter Vergleich war unentschieden!\",CB434=\"ACHTUNG! Direkter Vergleich war unentschieden!\",CB435=\"ACHTUNG! Direkter Vergleich war unentschieden!\",CB436=\"ACHTUNG! Direkter Vergleich war unentschieden!\",CB437=\"ACHTUNG! Direkter Vergleich war unentschieden!\",CB438=\"ACHTUNG! Direkter Vergleich war unentschieden!\",CB439=\"ACHTUNG! Direkter Vergleich war unentschieden!\"),\"ACHTUNG! Direkter Vergleich war unentschieden!\",\"\"))","v":"Min. 3 Teams identisch.  HANDSORTIERUNG!"}]
[{"$f":"VLOOKUP(B432,Vorgaben!B$10:C$16,2,FALSE)","v":{"$error":"#N/A"}},6,null,null,null,null,null,null,null,"15:05:00",null,null,null,null,{"$f":"L418","v":"Gruppe E3"},null,null,null,null,null,null,null,null,null,null,null,null,null,null,null,"-",{"$f":"L420","v":"Gruppe E5"},null,null,null,null,null,null,null,null,null,null,null,null,null,null,null,null,{"$f":"IF('Gruppe E1'!AW33=\"\",\"\",'Gruppe E1'!AW33)","v":1},null,":",{"$f":"IF('Gruppe E1'!AZ33=\"\",\"\",'Gruppe E1'!AZ33)","v":1},null,null,null,null,null,1,":",1,null,null,null,null,null,"Spiele","Punkte","Tore+",null,"Tore-","Diff"]
[{"$f":"VLOOKUP(B433,Vorgaben!B$10:C$16,2,FALSE)","v":{"$error":"#N/A"}},7,null,null,null,null,null,null,null,"15:15:00",null,null,null,null,{"$f":"L416","v":"Gruppe E1"},null,null,null,null,null,null,null,null,null,null,null,null,null,null,null,"-",{"$f":"L421","v":"Gruppe E6"},null,null,null,null,null,null,null,null,null,null,null,null,null,null,null,null,{"$f":"IF('Gruppe E1'!AW34=\"\",\"\",'Gruppe E1'!AW34)","v":1},null,":",{"$f":"IF('Gruppe E1'!AZ34=\"\",\"\",'Gruppe E1'!AZ34)","v":1},null,null,null,null,null,1,":",1,null,null,null,{"$f":"INDEX(Vorgaben!B$39:D$46,MATCH($BM433,Vorgaben!B$39:B$46,0),3)","v":0},{"$f":"'Gruppe E1'!$BM$46","v":"Gruppe E4"},{"$f":"'Gruppe E1'!$BN$46","v":6},{"$f":"'Gruppe E1'!$BO$46","v":10},{"$f":"'Gruppe E1'!$BP$46","v":8},{"$f":"'Gruppe E1'!$BQ$46","v":":"},{"$f":"'Gruppe E1'!$BR$46","v":6},{"$f":"'Gruppe E1'!$BS$46","v":2},{"$f":"BV433","v":0},null,{"$f":"IF(BX433>BY434,10,IF(BX433<BY434,-10,0))","v":0},null,{"$f":"IF(ISNA(INDEX(BF$427:BF$447,MATCH(BM433&BM434,O$427:O$447&AF$427:AF$447,0))),INDEX(BH$427:BH$447,MATCH(BM434&BM433,O$427:O$447&AF$427:AF$447,0)),INDEX(BF$427:BF$447,MATCH(BM433&BM434,O$427:O$447&AF$427:AF$447,0)))","v":1},null,{"$f":"IF(AND(EXACT(BO433,BO434),EXACT(BP433,BP434),EXACT(BS433,BS434),EXACT(BX433,BY434)),\"ACHTUNG! Direkter Vergleich war unentschieden!\",IF(AND(EXACT(BO433,BO434),EXACT(BP433,BP434),EXACT(BS433,BS434)),1,2))","v":2},{"$f":"IF(AND(EXACT(BO432,BO433),EXACT(BP432,BP433),EXACT(BS432,BS433),EXACT(BX433,BY432)),\"ACHTUNG! Direkter Vergleich war unentschieden!\",\"\")","v":""},{"$f":"IF(OR(BZ433=\"ACHTUNG! Direkter Vergleich war unentschieden!\",CA433=\"ACHTUNG! Direkter Vergleich war unentschieden!\"),\"ACHTUNG! Direkter Vergleich war unentschieden!\",\"\")","v":""},{"$f":"IF(OR(AND(EXACT(BO433,BO434),EXACT(BP433,BP434),EXACT(BS433,BS434),EXACT(BO433,BO435),EXACT(BP433,BP435),EXACT(BS433,BS435)),AND(EXACT(BO433,BO434),EXACT(BP433,BP434),EXACT(BS433,BS434),EXACT(BO433,BO432),EXACT(BP433,BP432),EXACT(BS433,BS432))*AND(EXACT(BO433,BO431),EXACT(BP433,BP431),EXACT(BS433,BS431),EXACT(BO433,BO432),EXACT(BP433,BP432),EXACT(BS433,BS432))),3,1)","v":1}]
[{"$f":"VLOOKUP(B434,Vorgaben!B$10:C$16,2,FALSE)","v":{"$error":"#N/A"}},8,null,null,null,null,null,null,null,"15:25:00",null,null,null,null,{"$f":"L419","v":"Gruppe E4"},null,null,null,null,null,null,null,null,null,null,null,null,null,null,null,"-",{"$f":"L422","v":"Gruppe E7"},null,null,null,null,null,null,null,null,null,null,null,null,null,null,null,null,{"$f":"IF('Gruppe E1'!AW35=\"\",\"\",'Gruppe E1'!AW35)","v":1},null,":",{"$f":"IF('Gruppe E1'!AZ35=\"\",\"\",'Gruppe E1'!AZ35)","v":1},null,null,null,null,null,1,":",1,null,null,null,{"$f":"INDEX(Vorgaben!B$39:D$46,MATCH($BM434,Vorgaben!B$39:B$46,0),3)","v":0},{"$f":"'Gruppe E1'!$BM$43","v":"Gruppe E1"},{"$f":"'Gruppe E1'!$BN$43","v":6},{"$f":"'Gruppe E1'!$BO$43","v":6},{"$f":"'Gruppe E1'!$BP$43","v":6},{"$f":"'Gruppe E1'!$BQ$43","v":":"},{"$f":"'Gruppe E1'!$BR$43","v":6},{"$f":"'Gruppe E1'!$BS$43","v":0},{"$f":"BV434","v":0},{"$f":"BW434","v":0},{"$f":"IF(BX433<BY434,10,IF(BX433>BY434,-10,0))","v":0},{"$f":"IF(BX434>BY435,10,IF(BX434<BY435,-10,0))","v":0},{"$f":"IF(ISNA(INDEX(BF$427:BF$447,MATCH(BM434&BM435,O$427:O$447&AF$427:AF$447,0))),INDEX(BH$427:BH$447,MATCH(BM435&BM434,O$427:O$447&AF$427:AF$447,0)),INDEX(BF$427:BF$447,MATCH(BM434&BM435,O$427:O$447&AF$427:AF$447,0)))","v":1},{"$f":"IF(ISNA(INDEX(BF$427:BF$447,MATCH(BM434&BM433,O$427:O447&AF$427:AF447,0))),INDEX(BH$427:BH$447,MATCH(BM433&BM434,O$427:O$447&AF$427:AF$447,0)),INDEX(BF$427:BF$447,MATCH(BM434&BM433,O$427:O$447&AF$427:AF$447,0)))","v":1},{"$f":"IF(AND(EXACT(BO434,BO435),EXACT(BP434,BP435),EXACT(BS434,BS435),EXACT(BX434,BY435)),\"ACHTUNG! Direkter Vergleich war unentschieden!\",IF(AND(EXACT(BO434,BO435),EXACT(BP434,BP435),EXACT(BS434,BS435)),1,2))","v":"ACHTUNG! Direkter Vergleich war unentschieden!"},{"$f":"IF(AND(EXACT(BO433,BO434),EXACT(BP433,BP434),EXACT(BS433,BS434),EXACT(BY434,BX433)),\"ACHTUNG! Direkter Vergleich war unentschieden!\",IF(AND(EXACT(BO433,BO434),EXACT(BP433,BP434),EXACT(BS433,BS434)),1,2))","v":2},"ACHTUNG! Direkter Vergleich war unentschieden!",3]
[{"$f":"VLOOKUP(B435,Vorgaben!B$10:C$16,2,FALSE)","v":{"$error":"#N/A"}},9,null,null,null,null,null,null,null,"15:35:00",null,null,null,null,{"$f":"L417","v":"Gruppe E2"},null,null,null,null,null,null,null,null,null,null,null,null,null,null,null,"-",{"$f":"L418","v":"Gruppe E3"},null,null,null,null,null,null,null,null,null,null,null,null,null,null,null,null,{"$f":"IF('Gruppe E1'!AW36=\"\",\"\",'Gruppe E1'!AW36)","v":1},null,":",{"$f":"IF('Gruppe E1'!AZ36=\"\",\"\",'Gruppe E1'!AZ36)","v":1},null,null,null,null,null,1,":",1,null,null,null,{"$f":"INDEX(Vorgaben!B$39:D$46,MATCH($BM435,Vorgaben!B$39:B$46,0),3)","v":0},{"$f":"'Gruppe E1'!$BM$44","v":"Gruppe E3"},{"$f":"'Gruppe E1'!$BN$44","v":6},{"$f":"'Gruppe E1'!$BO$44","v":6},{"$f":"'Gruppe E1'!$BP$44","v":6},{"$f":"'Gruppe E1'!$BQ$44","v":":"},{"$f":"'Gruppe E1'!$BR$44","v":6},{"$f":"'Gruppe E1'!$BS$44","v":0},{"$f":"BV435","v":0},0,0,{"$f":"IF(BX435>BY436,10,IF(BX435<BY436,-10,0))","v":0},{"$f":"IF(ISNA(INDEX(BF$427:BF$447,MATCH(BM435&BM436,O$427:O$447&AF$427:AF$447,0))),INDEX(BH$427:BH$447,MATCH(BM436&BM435,O$427:O$447&AF$427:AF$447,0)),INDEX(BF$427:BF$447,MATCH(BM435&BM436,O$427:O$447&AF$427:AF$447,0)))","v":1},{"$f":"IF(ISNA(INDEX(BF$427:BF$447,MATCH(BM435&BM434,O$427:O448&AF$427:AF448,0))),INDEX(BH$427:BH$447,MATCH(BM434&BM435,O$427:O$447&AF$427:AF$447,0)),INDEX(BF$427:BF$447,MATCH(BM435&BM434,O$427:O$447&AF$427:AF$447,0)))","v":1},{"$f":"IF(AND(EXACT(BO435,BO436),EXACT(BP435,BP436),EXACT(BS435,BS436),EXACT(BX435,BY436)),\"ACHTUNG! Direkter Vergleich war unentschieden!\",IF(AND(EXACT(BO435,BO436),EXACT(BP435,BP436),EXACT(BS435,BS436)),1,2))","v":"ACHTUNG! Direkter Vergleich war unentschieden!"},"ACHTUNG! Direkter Vergleich war unentschieden!","ACHTUNG! Direkter Vergleich war unentschieden!",{"$f":"IF(OR(AND(EXACT(BO435,BO436),EXACT(BP435,BP436),EXACT(BS435,BS436),EXACT(BO435,BO437),EXACT(BP435,BP437),EXACT(BS435,BS437)),AND(EXACT(BO435,BO436),EXACT(BP435,BP436),EXACT(BS435,BS436),EXACT(BO435,BO434),EXACT(BP435,BP434),EXACT(BS435,BS434))*AND(EXACT(BO435,BO433),EXACT(BP435,BP433),EXACT(BS435,BS433),EXACT(BO435,BO434),EXACT(BP435,BP434),EXACT(BS435,BS434))),3,1)","v":3}]
[{"$f":"VLOOKUP(B436,Vorgaben!B$10:C$16,2,FALSE)","v":{"$error":"#N/A"}},10,null,null,null,null,null,null,null,"15:45:00",null,null,null,null,{"$f":"L420","v":"Gruppe E5"},null,null,null,null,null,null,null,null,null,null,null,null,null,null,null,"-",{"$f":"L416","v":"Gruppe E1"},null,null,null,null,null,null,null,null,null,null,null,null,null,null,null,null,{"$f":"IF('Gruppe E1'!AW37=\"\",\"\",'Gruppe E1'!AW37)","v":1},null,":",{"$f":"IF('Gruppe E1'!AZ37=\"\",\"\",'Gruppe E1'!AZ37)","v":1},null,null,null,null,null,1,":",1,null,null,null,{"$f":"INDEX(Vorgaben!B$39:D$46,MATCH($BM436,Vorgaben!B$39:B$46,0),3)","v":0},{"$f":"'Gruppe E1'!$BM$48","v":"Gruppe E5"},{"$f":"'Gruppe E1'!$BN$48","v":6},{"$f":"'Gruppe E1'!$BO$48","v":6},{"$f":"'Gruppe E1'!$BP$48","v":6},{"$f":"'Gruppe E1'!$BQ$48","v":":"},{"$f":"'Gruppe E1'!$BR$48","v":6},{"$f":"'Gruppe E1'!$BS$48","v":0},0,0,0,{"$f":"IF(BX435<BY436,10,IF(BX435>BY436,-10,0))","v":0},{"$f":"IF(ISNA(INDEX(BF$427:BF$447,MATCH(BM436&BM437,O$427:O$447&AF$427:AF$447,0))),INDEX(BH$427:BH$447,MATCH(BM437&BM436,O$427:O$447&AF$427:AF$447,0)),INDEX(BF$427:BF$447,MATCH(BM436&BM437,O$427:O$447&AF$427:AF$447,0)))","v":1},{"$f":"IF(ISNA(INDEX(BF$427:BF$447,MATCH(BM436&BM435,O$427:O449&AF$427:AF449,0))),INDEX(BH$427:BH$447,MATCH(BM435&BM436,O$427:O$447&AF$427:AF$447,0)),INDEX(BF$427:BF$447,MATCH(BM436&BM435,O$427:O$447&AF$427:AF$447,0)))","v":1},{"$f":"IF(AND(EXACT(BO436,BO437),EXACT(BP436,BP437),EXACT(BS436,BS437),EXACT(BX436,BY437)),\"ACHTUNG! Direkter Vergleich war unentschieden!\",IF(AND(EXACT(BO436,BO437),EXACT(BP436,BP437),EXACT(BS436,BS437)),1,2))","v":"ACHTUNG! Direkter Vergleich war unentschieden!"},"ACHTUNG! Direkter Vergleich war unentschieden!","ACHTUNG! Direkter Vergleich war unentschieden!",{"$f":"IF(OR(AND(EXACT(BO436,BO437),EXACT(BP436,BP437),EXACT(BS436,BS437),EXACT(BO436,BO438),EXACT(BP436,BP438),EXACT(BS436,BS438)),AND(EXACT(BO436,BO437),EXACT(BP436,BP437),EXACT(BS436,BS437),EXACT(BO436,BO435),EXACT(BP436,BP435),EXACT(BS436,BS435))*AND(EXACT(BO436,BO434),EXACT(BP436,BP434),EXACT(BS436,BS434),EXACT(BO436,BO435),EXACT(BP436,BP435),EXACT(BS436,BS435))),3,1)","v":3}]
[{"$f":"VLOOKUP(B437,Vorgaben!B$10:C$16,2,FALSE)","v":{"$error":"#N/A"}},11,null,null,null,null,null,null,null,"15:55:00",null,null,null,null,{"$f":"L422","v":"Gruppe E7"},null,null,null,null,null,null,null,null,null,null,null,null,null,null,null,"-",{"$f":"L418","v":"Gruppe E3"},null,null,null,null,null,null,null,null,null,null,null,null,null,null,null,null,{"$f":"IF('Gruppe E1'!AW38=\"\",\"\",'Gruppe E1'!AW38)","v":1},null,":",{"$f":"IF('Gruppe E1'!AZ38=\"\",\"\",'Gruppe E1'!AZ38)","v":1},null,null,null,null,null,1,":",1,null,null,null,{"$f":"INDEX(Vorgaben!B$39:D$46,MATCH($BM437,Vorgaben!B$39:B$46,0),3)","v":0},{"$f":"'Gruppe E1'!$BM$47","v":"Gruppe E7"},{"$f":"'Gruppe E1'!$BN$47","v":6},{"$f":"'Gruppe E1'!$BO$47","v":6},{"$f":"'Gruppe E1'!$BP$47","v":6},{"$f":"'Gruppe E1'!$BQ$47","v":":"},{"$f":"'Gruppe E1'!$BR$47","v":6},{"$f":"'Gruppe E1'!$BS$47","v":0},0,0,0,{"$f":"IF(BX437>BY438,10,IF(BX437<BY438,-10,0))","v":0},{"$f":"IF(ISNA(INDEX(BF$427:BF$447,MATCH(BM437&BM438,O$427:O$447&AF$427:AF$447,0))),INDEX(BH$427:BH$447,MATCH(BM438&BM437,O$427:O$447&AF$427:AF$447,0)),INDEX(BF$427:BF$447,MATCH(BM437&BM438,O$427:O$447&AF$427:AF$447,0)))","v":1},{"$f":"IF(ISNA(INDEX(BF$427:BF$447,MATCH(BM437&BM436,O$427:O450&AF$427:AF450,0))),INDEX(BH$427:BH$447,MATCH(BM436&BM437,O$427:O$447&AF$427:AF$447,0)),INDEX(BF$427:BF$447,MATCH(BM437&BM436,O$427:O$447&AF$427:AF$447,0)))","v":1},{"$f":"IF(AND(EXACT(BO437,BO438),EXACT(BP437,BP438),EXACT(BS437,BS438),EXACT(BX437,BY438)),\"ACHTUNG! Direkter Vergleich war unentschieden!\",IF(AND(EXACT(BO437,BO438),EXACT(BP437,BP438),EXACT(BS437,BS438)),1,2))","v":2},"ACHTUNG! Direkter Vergleich war unentschieden!","ACHTUNG! Direkter Vergleich war unentschieden!",1]
[{"$f":"VLOOKUP(B438,Vorgaben!B$10:C$16,2,FALSE)","v":{"$error":"#N/A"}},12,null,null,null,null,null,null,null,"16:05:00",null,null,null,null,{"$f":"L421","v":"Gruppe E6"},null,null,null,null,null,null,null,null,null,null,null,null,null,null,null,"-",{"$f":"L417","v":"Gruppe E2"},null,null,null,null,null,null,null,null,null,null,null,null,null,null,null,null,{"$f":"IF('Gruppe E1'!AW39=\"\",\"\",'Gruppe E1'!AW39)","v":1},null,":",{"$f":"IF('Gruppe E1'!AZ39=\"\",\"\",'Gruppe E1'!AZ39)","v":1},null,null,null,null,null,1,":",1,null,null,null,{"$f":"INDEX(Vorgaben!B$39:D$46,MATCH($BM438,Vorgaben!B$39:B$46,0),3)","v":0},{"$f":"'Gruppe E1'!$BM$45","v":"Gruppe E2"},{"$f":"'Gruppe E1'!$BN$45","v":6},{"$f":"'Gruppe E1'!$BO$45","v":5},{"$f":"'Gruppe E1'!$BP$45","v":6},{"$f":"'Gruppe E1'!$BQ$45","v":":"},{"$f":"'Gruppe E1'!$BR$45","v":7},{"$f":"'Gruppe E1'!$BS$45","v":-1},0,0,0,{"$f":"IF(BX437<BY438,10,IF(BX437>BY438,-10,0))","v":0},{"$f":"IF(ISNA(INDEX(BF$427:BF$447,MATCH(BM438&BM439,O$427:O$447&AF$427:AF$447,0))),INDEX(BH$427:BH$447,MATCH(BM439&BM438,O$427:O$447&AF$427:AF$447,0)),INDEX(BF$427:BF$447,MATCH(BM438&BM439,O$427:O$447&AF$427:AF$447,0)))","v":1},{"$f":"IF(ISNA(INDEX(BF$427:BF$447,MATCH(BM438&BM437,O$427:O451&AF$427:AF451,0))),INDEX(BH$427:BH$447,MATCH(BM437&BM438,O$427:O$447&AF$427:AF$447,0)),INDEX(BF$427:BF$447,MATCH(BM438&BM437,O$427:O$447&AF$427:AF$447,0)))","v":1},{"$f":"IF(AND(EXACT(BO438,BO439),EXACT(BP438,BP439),EXACT(BS438,BS439),EXACT(BX438,BY439)),\"ACHTUNG! Direkter Vergleich war unentschieden!\",IF(AND(EXACT(BO438,BO439),EXACT(BP438,BP439),EXACT(BS438,BS439)),1,2))","v":"ACHTUNG! Direkter Vergleich war unentschieden!"},2,"ACHTUNG! Direkter Vergleich war unentschieden!",1]
[{"$f":"VLOOKUP(B439,Vorgaben!B$10:C$16,2,FALSE)","v":{"$error":"#N/A"}},13,null,null,null,null,null,null,null,"16:15:00",null,null,null,null,{"$f":"L416","v":"Gruppe E1"},null,null,null,null,null,null,null,null,null,null,null,null,null,null,null,"-",{"$f":"L419","v":"Gruppe E4"},null,null,null,null,null,null,null,null,null,null,null,null,null,null,null,null,{"$f":"IF('Gruppe E1'!AW40=\"\",\"\",'Gruppe E1'!AW40)","v":1},null,":",{"$f":"IF('Gruppe E1'!AZ40=\"\",\"\",'Gruppe E1'!AZ40)","v":1},null,null,null,null,null,1,":",1,null,null,null,{"$f":"INDEX(Vorgaben!B$39:D$46,MATCH($BM439,Vorgaben!B$39:B$46,0),3)","v":0},{"$f":"'Gruppe E1'!$BM$49","v":"Gruppe E6"},{"$f":"'Gruppe E1'!$BN$49","v":6},{"$f":"'Gruppe E1'!$BO$49","v":5},{"$f":"'Gruppe E1'!$BP$49","v":6},{"$f":"'Gruppe E1'!$BQ$49","v":":"},{"$f":"'Gruppe E1'!$BR$49","v":7},{"$f":"'Gruppe E1'!$BS$49","v":-1},0,0,0,{"$f":"IF(BX438<BY439,10,IF(BX438>BY439,-10,0))","v":0},null,{"$f":"IF(ISNA(INDEX(BF$427:BF$447,MATCH(BM439&BM438,O$427:O452&AF$427:AF452,0))),INDEX(BH$427:BH$447,MATCH(BM438&BM439,O$427:O$447&AF$427:AF$447,0)),INDEX(BF$427:BF$447,MATCH(BM439&BM438,O$427:O$447&AF$427:AF$447,0)))","v":1},null,"ACHTUNG! Direkter Vergleich war unentschieden!","ACHTUNG! Direkter Vergleich war unentschieden!",1]
[{"$f":"VLOOKUP(B440,Vorgaben!B$10:C$16,2,FALSE)","v":{"$error":"#N/A"}},14,null,null,null,null,null,null,null,"16:25:00",null,null,null,null,{"$f":"L421","v":"Gruppe E6"},null,null,null,null,null,null,null,null,null,null,null,null,null,null,null,"-",{"$f":"L422","v":"Gruppe E7"},null,null,null,null,null,null,null,null,null,null,null,null,null,null,null,null,{"$f":"IF('Gruppe E1'!AW41=\"\",\"\",'Gruppe E1'!AW41)","v":1},null,":",{"$f":"IF('Gruppe E1'!AZ41=\"\",\"\",'Gruppe E1'!AZ41)","v":1},null,null,null,null,null,1,":",1]
[{"$f":"VLOOKUP(B441,Vorgaben!B$10:C$16,2,FALSE)","v":{"$error":"#N/A"}},15,null,null,null,null,null,null,null,"16:35:00",null,null,null,null,{"$f":"L417","v":"Gruppe E2"},null,null,null,null,null,null,null,null,null,null,null,null,null,null,null,"-",{"$f":"L420","v":"Gruppe E5"},null,null,null,null,null,null,null,null,null,null,null,null,null,null,null,null,{"$f":"IF('Gruppe E1'!AW42=\"\",\"\",'Gruppe E1'!AW42)","v":1},null,":",{"$f":"IF('Gruppe E1'!AZ42=\"\",\"\",'Gruppe E1'!AZ42)","v":1},null,null,null,null,null,1,":",1]
[{"$f":"VLOOKUP(B442,Vorgaben!B$10:C$16,2,FALSE)","v":{"$error":"#N/A"}},16,null,null,null,null,null,null,null,"16:45:00",null,null,null,null,"Gruppe E3",null,null,null,null,null,null,null,null,null,null,null,null,null,null,null,"-",{"$f":"L416","v":"Gruppe E1"},null,null,null,null,null,null,null,null,null,null,null,null,null,null,null,null,{"$f":"IF('Gruppe E1'!AW43=\"\",\"\",'Gruppe E1'!AW43)","v":1},null,":",{"$f":"IF('Gruppe E1'!AZ43=\"\",\"\",'Gruppe E1'!AZ43)","v":1},null,null,null,null,null,1,":",1]
[{"$f":"VLOOKUP(B443,Vorgaben!B$10:C$16,2,FALSE)","v":{"$error":"#N/A"}},17,null,null,null,null,null,null,null,"16:55:00",null,null,null,null,"Gruppe E4",null,null,null,null,null,null,null,null,null,null,null,null,null,null,null,"-",{"$f":"L421","v":"Gruppe E6"},null,null,null,null,null,null,null,null,null,null,null,null,null,null,null,null,{"$f":"IF('Gruppe E1'!AW44=\"\",\"\",'Gruppe E1'!AW44)","v":2},null,":",{"$f":"IF('Gruppe E1'!AZ44=\"\",\"\",'Gruppe E1'!AZ44)","v":1},null,null,null,null,null,3,":",0]
[{"$f":"VLOOKUP(B444,Vorgaben!B$10:C$16,2,FALSE)","v":{"$error":"#N/A"}},18,null,null,null,null,null,null,null,"17:05:00",null,null,null,null,"Gruppe E5",null,null,null,null,null,null,null,null,null,null,null,null,null,null,null,"-",{"$f":"L422","v":"Gruppe E7"},null,null,null,null,null,null,null,null,null,null,null,null,null,null,null,null,{"$f":"IF('Gruppe E1'!AW45=\"\",\"\",'Gruppe E1'!AW45)","v":1},null,":",{"$f":"IF('Gruppe E1'!AZ45=\"\",\"\",'Gruppe E1'!AZ45)","v":1},null,null,null,null,null,1,":",1]
[{"$f":"VLOOKUP(B445,Vorgaben!B$10:C$16,2,FALSE)","v":{"$error":"#N/A"}},19,null,null,null,null,null,null,null,"17:15:00",null,null,null,null,"Gruppe E6",null,null,null,null,null,null,null,null,null,null,null,null,null,null,null,"-",{"$f":"L418","v":"Gruppe E3"},null,null,null,null,null,null,null,null,null,null,null,null,null,null,null,null,{"$f":"IF('Gruppe E1'!AW46=\"\",\"\",'Gruppe E1'!AW46)","v":1},null,":",{"$f":"IF('Gruppe E1'!AZ46=\"\",\"\",'Gruppe E1'!AZ46)","v":1},null,null,null,null,null,1,":",1]
[{"$f":"VLOOKUP(B446,Vorgaben!B$10:C$16,2,FALSE)","v":{"$error":"#N/A"}},20,null,null,null,null,null,null,null,"17:25:00",null,null,null,null,"Gruppe E7",null,null,null,null,null,null,null,null,null,null,null,null,null,null,null,"-",{"$f":"L417","v":"Gruppe E2"},null,null,null,null,null,null,null,null,null,null,null,null,null,null,null,null,{"$f":"IF('Gruppe E1'!AW47=\"\",\"\",'Gruppe E1'!AW47)","v":1},null,":",{"$f":"IF('Gruppe E1'!AZ47=\"\",\"\",'Gruppe E1'!AZ47)","v":1},null,null,null,null,null,{"$f":"IF(ISBLANK(AW446),\"0\",IF(AW446>AZ446,3,IF(AW446=AZ446,1,0)))","v":1},":",{"$f":"IF(ISBLANK(AZ446),\"0\",IF(AZ446>AW446,3,IF(AZ446=AW446,1,0)))","v":1}]
[{"$f":"VLOOKUP(B447,Vorgaben!B$10:C$16,2,FALSE)","v":{"$error":"#N/A"}},21,null,null,null,null,null,null,null,"17:35:00",null,null,null,null,{"$f":"L419","v":"Gruppe E4"},null,null,null,null,null,null,null,null,null,null,null,null,null,null,null,"-",{"$f":"L420","v":"Gruppe E5"},null,null,null,null,null,null,null,null,null,null,null,null,null,null,null,null,{"$f":"IF('Gruppe E1'!AW48=\"\",\"\",'Gruppe E1'!AW48)","v":1},null,":",{"$f":"IF('Gruppe E1'!AZ48=\"\",\"\",'Gruppe E1'!AZ48)","v":1},null,null,null,null,null,{"$f":"IF(ISBLANK(AW447),\"0\",IF(AW447>AZ447,3,IF(AW447=AZ447,1,0)))","v":1},":",{"$f":"IF(ISBLANK(AZ447),\"0\",IF(AZ447>AW447,3,IF(AZ447=AW447,1,0)))","v":1}]
[]
[]
[null,"III. Abschlußtabelle"]
[]
[null,null,null,null,null,null,null,null,"Mannschaften",null,null,null,null,null,null,null,null,null,null,null,null,null,null,null,null,null,null,null,null,null,null,null,null,null,null,null,"Sp.",null,null,"Pkt.",null,null,"Tore",null,null,null,null,"Diff."]
[null,null,null,null,null,null,null,null,"1.",null,{"$f":"BM433","v":"Gruppe E4"},null,null,null,null,null,null,null,null,null,null,null,null,null,null,null,null,null,null,null,null,null,null,null,null,null,{"$f":"BN433","v":6},null,null,{"$f":"BO433","v":10},null,null,{"$f":"BP433","v":8},null,":",{"$f":"BR433","v":6},null,{"$f":"BS433","v":2}]
[null,null,null,null,null,null,null,null,"2.",null,"Gruppe E1",null,null,null,null,null,null,null,null,null,null,null,null,null,null,null,null,null,null,null,null,null,null,null,null,null,6,null,null,{"$f":"BO434","v":6},null,null,{"$f":"BP434","v":6},null,":",{"$f":"BR434","v":6},null,{"$f":"BS434","v":0}]
[null,null,null,null,null,null,null,null,"3.",null,"Gruppe E3",null,null,null,null,null,null,null,null,null,null,null,null,null,null,null,null,null,null,null,null,null,null,null,null,null,6,null,null,6,null,null,6,null,":",6,null,0]
[null,null,null,null,null,null,null,null,"4.",null,"Gruppe E5",null,null,null,null,null,null,null,null,null,null,null,null,null,null,null,null,null,null,null,null,null,null,null,null,null,6,null,null,6,null,null,6,null,":",6,null,0]
[null,null,null,null,null,null,null,null,"5.",null,"Gruppe E7",null,null,null,null,null,null,null,null,null,null,null,null,null,null,null,null,null,null,null,null,null,null,null,null,null,6,null,null,6,null,null,6,null,":",6,null,0]
[null,null,null,null,null,null,null,null,"6.",null,"Gruppe E2",null,null,null,null,null,null,null,null,null,null,null,null,null,null,null,null,null,null,null,null,null,null,null,null,null,6,null,null,5,null,null,6,null,":",7,null,-1]
[null,null,null,null,null,null,null,null,"7.",null,"Gruppe E6",null,null,null,null,null,null,null,null,null,null,null,null,null,null,null,null,null,null,null,null,null,null,null,null,null,6,null,null,5,null,null,6,null,":",7,null,-1]
[]
[]
[]
[]
[]
[]
[]
[]
[]
[]
[]
[]
[]
[]
[]
[]
[]
[]
[]
[]
[]
[]
[]
[]
[]
[]
[]
[]
[]
[]
[]
[]
[]
[]
[]
[]
[]
[]
[]
[]
[]
[]
[null,"Vorrunde"]
[null,"Gruppe F"]
[]
[]
[]
[]
[]
[]
[null,null,null,null,null,null,null,"Beginn:",{"$f":"Vorgaben!C$4","v":"14:15:00"},null,null,null,null,"Uhr",null,null,null,null,null,null,"Spielzeit:",{"$f":"Vorgaben!C$5","v":1},"1x","x",{"$f":"Vorgaben!D$6","v":"00:00:00"},null,null,null,null,"min",null,null,null,null,null,null,null,"Pause:",{"$f":"Vorgaben!D$7","v":"00:00:00"},null,null,null,null,"min"]
[]
[]
[null,null,"I. Teilnehmende Mannschaften"]
[]
[null,null,null,null,null,null,null,null,null,null,"Mannschaften"]
[null,null,null,null,null,null,null,null,null,null,"1.",null,{"$f":"Vorgaben!F39","v":"Gruppe F1"}]
[null,null,null,null,null,null,null,null,null,null,"2.",null,{"$f":"Vorgaben!F40","v":"Gruppe F2"}]
[null,null,null,null,null,null,null,null,null,null,"3.",null,{"$f":"Vorgaben!F41","v":"Gruppe F3"}]
[null,null,null,null,null,null,null,null,null,null,"4.",null,{"$f":"Vorgaben!F42","v":"Gruppe F4"}]
[null,null,null,null,null,null,null,null,null,null,"5.",null,{"$f":"Vorgaben!F43","v":"Gruppe F5"}]
[null,null,null,null,null,null,null,null,null,null,"6.",null,{"$f":"Vorgaben!F44","v":"Gruppe F6"}]
[null,null,null,null,null,null,null,null,null,null,"7.",null,{"$f":"Vorgaben!F45","v":"Gruppe F7"}]
[]
[null,null,"II. Spielplan"]
[]
[null,null,"Nr.",null,null,null,null,null,null,null,"Beginn",null,null,null,null,"Spielpaarungen",null,null,null,null,null,null,null,null,null,null,null,null,null,null,null,null,null,null,null,null,null,null,null,null,null,null,null,null,null,null,null,null,null,"Ergebnisse",null,null,null,null,null,null,null,null,"Punkte"]
[null,{"$f":"VLOOKUP(C507,Vorgaben!C508:D514,2,FALSE)","v":{"$error":"#N/A"}},1,null,null,null,null,null,null,null,{"$f":"$H$10","v":"14:15:00"},null,null,null,null,{"$f":"M516","v":"Gruppe F1"},null,null,null,null,null,null,null,null,null,null,null,null,null,null,null,"-",{"$f":"M517","v":"Gruppe F2"},null,null,null,null,null,null,null,null,null,null,null,null,null,null,null,null,{"$f":"IF(ISBLANK('Gruppe F1'!AW28),\"\",'Gruppe F1'!AW28)","v":1},null,":",{"$f":"IF(ISBLANK('Gruppe F1'!AZ28),\"\",'Gruppe F1'!AZ28)","v":1},null,null,null,null,null,{"$f":"IF(ISBLANK(AX527),\"0\",IF(AX527>BA527,3,IF(AX527=BA527,1,0)))","v":1},":",{"$f":"IF(ISBLANK(BA527),\"0\",IF(BA527>AX527,3,IF(BA527=AX527,1,0)))","v":1}]
[null,{"$f":"VLOOKUP(C528,Vorgaben!C$10:D$16,2,FALSE)","v":{"$error":"#N/A"}},2,null,null,null,null,null,null,null,{"$f":"IF(ISNA(B528),K527+($U$10*$X$10+$AL$10),K527+($U$10*$X$10+$AL$10)+B528)","v":"14:25:00"},null,null,null,null,{"$f":"M518","v":"Gruppe F3"},null,null,null,null,null,null,null,null,null,null,null,null,null,null,null,"-",{"$f":"M519","v":"Gruppe F4"},null,null,null,null,null,null,null,null,null,null,null,null,null,null,null,null,{"$f":"IF(ISBLANK('Gruppe F1'!AW29),\"\",'Gruppe F1'!AW29)","v":1},null,":",{"$f":"IF(ISBLANK('Gruppe F1'!AZ29),\"\",'Gruppe F1'!AZ29)","v":1},null,null,null,null,null,{"$f":"IF(ISBLANK(AX528),\"0\",IF(AX528>BA528,3,IF(AX528=BA528,1,0)))","v":1},":",{"$f":"IF(ISBLANK(BA528),\"0\",IF(BA528>AX528,3,IF(BA528=AX528,1,0)))","v":1}]
[null,{"$f":"VLOOKUP(C529,Vorgaben!C$10:D$16,2,FALSE)","v":{"$error":"#N/A"}},3,null,null,null,null,null,null,null,{"$f":"IF(ISNA(B529),K528+($U$10*$X$10+$AL$10),K528+($U$10*$X$10+$AL$10)+B529)","v":"14:35:00"},null,null,null,null,{"$f":"M520","v":"Gruppe F5"},null,null,null,null,null,null,null,null,null,null,null,null,null,null,null,"-",{"$f":"M521","v":"Gruppe F6"},null,null,null,null,null,null,null,null,null,null,null,null,null,null,null,null,{"$f":"IF(ISBLANK('Gruppe F1'!AW30),\"\",'Gruppe F1'!AW30)","v":1},null,":",{"$f":"IF(ISBLANK('Gruppe F1'!AZ30),\"\",'Gruppe F1'!AZ30)","v":1},null,null,null,null,null,1,":",1,null,null,null,{"$f":"IF(BM531=\"Min. 3 Teams identisch.  HANDSORTIERUNG!\",BM531,IF(BM531=\"ACHTUNG! Direkter Vergleich war unentschieden!\",BM531,BM530))","v":"ACHTUNG! Direkter Vergleich war unentschieden!"},{"$f":"IF(BN531=\"ACHTUNG! Direkter Vergleich war unentschieden!\",BN531,BN530)","v":""}]
[null,{"$f":"VLOOKUP(C530,Vorgaben!C$10:D$16,2,FALSE)","v":{"$error":"#N/A"}},4,null,null,null,null,null,null,null,"14:45:00",null,null,null,null,{"$f":"M522","v":"Gruppe F7"},null,null,null,null,null,null,null,null,null,null,null,null,null,null,null,"-",{"$f":"M516","v":"Gruppe F1"},null,null,null,null,null,null,null,null,null,null,null,null,null,null,null,null,{"$f":"IF(ISBLANK('Gruppe F1'!AW31),\"\",'Gruppe F1'!AW31)","v":1},null,":",{"$f":"IF(ISBLANK('Gruppe F1'!AZ31),\"\",'Gruppe F1'!AZ31)","v":11},null,null,null,null,null,0,":",3,null,null,null,{"$f":"IF(AND(EXACT(BO533,BO534),EXACT(BP533,BP534),EXACT(BS533,BS534)),\"ACHTUNG: Direkter Vergleich erfolgreich durchlaufen!\",IF(AND(EXACT(BO534,BO535),EXACT(BP534,BP535),EXACT(BS534,BS535)),\"ACHTUNG: Direkter Vergleich erfolgreich durchlaufen!\",IF(AND(EXACT(BO535,BO536),EXACT(BP535,BP536),EXACT(BS535,BS536)),\"ACHTUNG: Direkter Vergleich erfolgreich durchlaufen!\",IF(AND(EXACT(BO536,BO537),EXACT(BP536,BP537),EXACT(BS536,BS537)),\"ACHTUNG: Direkter Vergleich erfolgreich durchlaufen!\",IF(AND(EXACT(BO537,BO538),EXACT(BP537,BP538),EXACT(BS537,BS538)),\"ACHTUNG: Direkter Vergleich erfolgreich durchlaufen!\",IF(AND(EXACT(BO538,BO539),EXACT(BP538,BP539),EXACT(BS538,BS539)),\"ACHTUNG: Direkter Vergleich erfolgreich durchlaufen!\",\"\"))))))","v":"ACHTUNG: Direkter Vergleich erfolgreich durchlaufen!"},{"$f":"IF(AND(EXACT(BP533,BP534),EXACT(BQ533,BQ534),EXACT(BT533,BT534),EXACT(BY533,BZ534)),\"ACHTUNG: Direkter Vergleich erfolgreich durchlaufen!\",IF(AND(EXACT(BP534,BP535),EXACT(BQ534,BQ535),EXACT(BT534,BT535),EXACT(BY534,BZ535)),\"ACHTUNG: Direkter Vergleich erfolgreich durchlaufen!\",IF(AND(EXACT(BP535,BP536),EXACT(BQ535,BQ536),EXACT(BT535,BT536),EXACT(BY535,BZ536)),\"ACHTUNG: Direkter Vergleich erfolgreich durchlaufen!\",IF(AND(EXACT(BP536,BP537),EXACT(BQ536,BQ537),EXACT(BT536,BT537),EXACT(BY536,BZ537)),\"ACHTUNG: Direkter Vergleich erfolgreich durchlaufen!\",IF(AND(EXACT(BP537,BP538),EXACT(BQ537,BQ538),EXACT(BT537,BT538),EXACT(BY537,BZ538)),\"ACHTUNG: Direkter Vergleich erfolgreich durchlaufen!\",IF(AND(EXACT(BP538,BP539),EXACT(BQ538,BQ539),EXACT(BT538,BT539),EXACT(BY538,BZ539)),\"ACHTUNG: Direkter Vergleich erfolgreich durchlaufen!\",\"\"))))))","v":""}]
[null,{"$f":"VLOOKUP(C531,Vorgaben!C$10:D$16,2,FALSE)","v":{"$error":"#N/A"}},5,null,null,null,null,null,null,null,"14:55:00",null,null,null,null,{"$f":"M517","v":"Gruppe F2"},null,null,null,null,null,null,null,null,null,null,null,null,null,null,null,"-",{"$f":"M519","v":"Gruppe F4"},null,null,null,null,null,null,null,null,null,null,null,null,null,null,null,null,{"$f":"IF(ISBLANK('Gruppe F1'!AW32),\"\",'Gruppe F1'!AW32)","v":1},null,":",{"$f":"IF(ISBLANK('Gruppe F1'!AZ32),\"\",'Gruppe F1'!AZ32)","v":1},null,null,null,null,null,1,":",1,null,null,null,{"$f":"IF(OR(CC533=3,CC534=3,CC535=3,CC536=3,CC537=3,CC538=3,CC539=3),\"Min. 3 Teams identisch.  HANDSORTIERUNG!\",IF(OR(CB533=\"ACHTUNG! Direkter Vergleich war unentschieden!\",CB534=\"ACHTUNG! Direkter Vergleich war unentschieden!\",CB535=\"ACHTUNG! Direkter Vergleich war unentschieden!\",CB536=\"ACHTUNG! Direkter Vergleich war unentschieden!\",CB537=\"ACHTUNG! Direkter Vergleich war unentschieden!\",CB538=\"ACHTUNG! Direkter Vergleich war unentschieden!\",CB539=\"ACHTUNG! Direkter Vergleich war unentschieden!\"),\"ACHTUNG! Direkter Vergleich war unentschieden!\",\"\"))","v":"ACHTUNG! Direkter Vergleich war unentschieden!"},{"$f":"IF(OR(CC533=\"ACHTUNG! Direkter Vergleich war unentschieden!\",CC534=\"ACHTUNG! Direkter Vergleich war unentschieden!\",CC535=\"ACHTUNG! Direkter Vergleich war unentschieden!\",CC536=\"ACHTUNG! Direkter Vergleich war unentschieden!\",CC537=\"ACHTUNG! Direkter Vergleich war unentschieden!\",CC538=\"ACHTUNG! Direkter Vergleich war unentschieden!\",CC539=\"ACHTUNG! Direkter Vergleich war unentschieden!\"),\"ACHTUNG! Direkter Vergleich war unentschieden!\",\"\")","v":""}]
[null,{"$f":"VLOOKUP(C532,Vorgaben!C$10:D$16,2,FALSE)","v":{"$error":"#N/A"}},6,null,null,null,null,null,null,null,"15:05:00",null,null,null,null,{"$f":"M518","v":"Gruppe F3"},null,null,null,null,null,null,null,null,null,null,null,null,null,null,null,"-",{"$f":"M520","v":"Gruppe F5"},null,null,null,null,null,null,null,null,null,null,null,null,null,null,null,null,{"$f":"IF(ISBLANK('Gruppe F1'!AW33),\"\",'Gruppe F1'!AW33)","v":1},null,":",{"$f":"IF(ISBLANK('Gruppe F1'!AZ33),\"\",'Gruppe F1'!AZ33)","v":1},null,null,null,null,null,1,":",1,null,null,null,null,"Spiele","Punkte","Tore+",null,"Tore-","Diff"]
[null,{"$f":"VLOOKUP(C533,Vorgaben!C$10:D$16,2,FALSE)","v":{"$error":"#N/A"}},7,null,null,null,null,null,null,null,"15:15:00",null,null,null,null,{"$f":"M516","v":"Gruppe F1"},null,null,null,null,null,null,null,null,null,null,null,null,null,null,null,"-",{"$f":"M521","v":"Gruppe F6"},null,null,null,null,null,null,null,null,null,null,null,null,null,null,null,null,{"$f":"IF(ISBLANK('Gruppe F1'!AW34),\"\",'Gruppe F1'!AW34)","v":1},null,":",{"$f":"IF(ISBLANK('Gruppe F1'!AZ34),\"\",'Gruppe F1'!AZ34)","v":1},null,null,null,null,null,1,":",1,null,null,{"$f":"INDEX(Vorgaben!F$39:H$46,MATCH($BM533,Vorgaben!F$39:F$46,0),3)","v":0},{"$f":"'Gruppe F1'!$BM$47","v":"Gruppe F7"},{"$f":"'Gruppe F1'!$BN$45","v":6},{"$f":"'Gruppe F1'!$BO$45","v":8},{"$f":"'Gruppe F1'!$BP$45","v":16},{"$f":"'Gruppe F1'!$BQ$45","v":":"},{"$f":"'Gruppe F1'!$BR$45","v":6},{"$f":"'Gruppe F1'!$BS$45","v":10},{"$f":"BV533","v":0},null,{"$f":"IF(BX533>BY534,10,IF(BX533<BY534,-10,0))","v":0},null,{"$f":"IF(ISNA(INDEX(BG$527:BG$547,MATCH(BM533&BM534,P$527:P$547&AG$527:AG$547,0))),INDEX(BI$527:BI$547,MATCH(BM534&BM533,P$527:P$547&AG$527:AG$547,0)),INDEX(BG$527:BG$547,MATCH(BM533&BM534,P$527:P$547&AG$527:AG$547,0)))","v":1},null,{"$f":"IF(AND(EXACT(BO533,BO534),EXACT(BP533,BP534),EXACT(BS533,BS534),EXACT(BX533,BY534)),\"ACHTUNG! Direkter Vergleich war unentschieden!\",IF(AND(EXACT(BO533,BO534),EXACT(BP533,BP534),EXACT(BS533,BS534)),1,2))","v":"ACHTUNG! Direkter Vergleich war unentschieden!"},{"$f":"IF(AND(EXACT(BO532,BO533),EXACT(BP532,BP533),EXACT(BS532,BS533),EXACT(BX533,BY532)),\"ACHTUNG! Direkter Vergleich war unentschieden!\",\"\")","v":""},{"$f":"IF(OR(BZ533=\"ACHTUNG! Direkter Vergleich war unentschieden!\",CA533=\"ACHTUNG! Direkter Vergleich war unentschieden!\"),\"ACHTUNG! Direkter Vergleich war unentschieden!\",\"\")","v":"ACHTUNG! Direkter Vergleich war unentschieden!"},{"$f":"IF(OR(AND(EXACT(BO533,BO534),EXACT(BP533,BP534),EXACT(BS533,BS534),EXACT(BO533,BO535),EXACT(BP533,BP535),EXACT(BS533,BS535)),AND(EXACT(BO533,BO534),EXACT(BP533,BP534),EXACT(BS533,BS534),EXACT(BO533,BO532),EXACT(BP533,BP532),EXACT(BS533,BS532))*AND(EXACT(BO533,BO531),EXACT(BP533,BP531),EXACT(BS533,BS531),EXACT(BO533,BO532),EXACT(BP533,BP532),EXACT(BS533,BS532))),3,1)","v":1}]
[null,{"$f":"VLOOKUP(C534,Vorgaben!C$10:D$16,2,FALSE)","v":{"$error":"#N/A"}},8,null,null,null,null,null,null,null,"15:25:00",null,null,null,null,{"$f":"M519","v":"Gruppe F4"},null,null,null,null,null,null,null,null,null,null,null,null,null,null,null,"-",{"$f":"M522","v":"Gruppe F7"},null,null,null,null,null,null,null,null,null,null,null,null,null,null,null,null,{"$f":"IF(ISBLANK('Gruppe F1'!AW35),\"\",'Gruppe F1'!AW35)","v":1},null,":",{"$f":"IF(ISBLANK('Gruppe F1'!AZ35),\"\",'Gruppe F1'!AZ35)","v":1},null,null,null,null,null,1,":",1,null,null,{"$f":"INDEX(Vorgaben!F$39:H$46,MATCH($BM534,Vorgaben!F$39:F$46,0),3)","v":0},{"$f":"'Gruppe F1'!$BM$45","v":"Gruppe F2"},{"$f":"'Gruppe F1'!$BN$43","v":6},{"$f":"'Gruppe F1'!$BO$43","v":8},{"$f":"'Gruppe F1'!$BP$43","v":16},{"$f":"'Gruppe F1'!$BQ$43","v":":"},{"$f":"'Gruppe F1'!$BR$43","v":6},{"$f":"'Gruppe F1'!$BS$43","v":10},0,{"$f":"BW534","v":0},{"$f":"IF(BX533<BY534,10,IF(BX533>BY534,-10,0))","v":0},{"$f":"IF(BX534>BY535,10,IF(BX534<BY535,-10,0))","v":0},{"$f":"IF(ISNA(INDEX(BG$527:BG$547,MATCH(BM534&BM535,P$527:P$547&AG$527:AG$547,0))),INDEX(BI$527:BI$547,MATCH(BM535&BM534,P$527:P$547&AG$527:AG$547,0)),INDEX(BG$527:BG$547,MATCH(BM534&BM535,P$527:P$547&AG$527:AG$547,0)))","v":1},{"$f":"IF(ISNA(INDEX(BG$527:BG$547,MATCH(BM534&BM533,P$527:P$547&AG$527:AG$547,0))),INDEX(BI$527:BI$547,MATCH(BM533&BM534,P$527:P$547&AG$527:AG$547,0)),INDEX(BG$527:BG$547,MATCH(BM534&BM533,P$527:P$547&AG$527:AG$547,0)))","v":1},{"$f":"IF(AND(EXACT(BO534,BO535),EXACT(BP534,BP535),EXACT(BS534,BS535),EXACT(BX534,BY535)),\"ACHTUNG! Direkter Vergleich war unentschieden!\",IF(AND(EXACT(BO534,BO535),EXACT(BP534,BP535),EXACT(BS534,BS535)),1,2))","v":2},{"$f":"IF(AND(EXACT(BO533,BO534),EXACT(BP533,BP534),EXACT(BS533,BS534),EXACT(BY534,BX533)),\"ACHTUNG! Direkter Vergleich war unentschieden!\",IF(AND(EXACT(BO533,BO534),EXACT(BP533,BP534),EXACT(BS533,BS534)),1,2))","v":"ACHTUNG! Direkter Vergleich war unentschieden!"},"ACHTUNG! Direkter Vergleich war unentschieden!",1]
[null,{"$f":"VLOOKUP(C535,Vorgaben!C$10:D$16,2,FALSE)","v":{"$error":"#N/A"}},9,null,null,null,null,null,null,null,"15:35:00",null,null,null,null,{"$f":"M517","v":"Gruppe F2"},null,null,null,null,null,null,null,null,null,null,null,null,null,null,null,"-",{"$f":"M518","v":"Gruppe F3"},null,null,null,null,null,null,null,null,null,null,null,null,null,null,null,null,{"$f":"IF(ISBLANK('Gruppe F1'!AW36),\"\",'Gruppe F1'!AW36)","v":1},null,":",{"$f":"IF(ISBLANK('Gruppe F1'!AZ36),\"\",'Gruppe F1'!AZ36)","v":1},null,null,null,null,null,1,":",1,null,null,{"$f":"INDEX(Vorgaben!F$39:H$46,MATCH($BM535,Vorgaben!F$39:F$46,0),3)","v":0},{"$f":"'Gruppe F1'!$BM$49","v":"Gruppe F6"},{"$f":"'Gruppe F1'!$BN$49","v":6},{"$f":"'Gruppe F1'!$BO$49","v":6},{"$f":"'Gruppe F1'!$BP$49","v":6},{"$f":"'Gruppe F1'!$BQ$49","v":":"},{"$f":"'Gruppe F1'!$BR$49","v":6},{"$f":"'Gruppe F1'!$BS$49","v":0},0,0,0,{"$f":"IF(BX535>BY536,10,IF(BX535<BY536,-10,0))","v":0},{"$f":"IF(ISNA(INDEX(BG$527:BG$547,MATCH(BM535&BM536,P$527:P$547&AG$527:AG$547,0))),INDEX(BI$527:BI$547,MATCH(BM536&BM535,P$527:P$547&AG$527:AG$547,0)),INDEX(BG$527:BG$547,MATCH(BM535&BM536,P$527:P$547&AG$527:AG$547,0)))","v":1},{"$f":"IF(ISNA(INDEX(BG$527:BG$547,MATCH(BM535&BM534,P$527:P$547&AG$527:AG$547,0))),INDEX(BI$527:BI$547,MATCH(BM534&BM535,P$527:P$547&AG$527:AG$547,0)),INDEX(BG$527:BG$547,MATCH(BM535&BM534,P$527:P$547&AG$527:AG$547,0)))","v":1},{"$f":"IF(AND(EXACT(BO535,BO536),EXACT(BP535,BP536),EXACT(BS535,BS536),EXACT(BX535,BY536)),\"ACHTUNG! Direkter Vergleich war unentschieden!\",IF(AND(EXACT(BO535,BO536),EXACT(BP535,BP536),EXACT(BS535,BS536)),1,2))","v":"ACHTUNG! Direkter Vergleich war unentschieden!"},2,"ACHTUNG! Direkter Vergleich war unentschieden!",{"$f":"IF(OR(AND(EXACT(BO535,BO536),EXACT(BP535,BP536),EXACT(BS535,BS536),EXACT(BO535,BO537),EXACT(BP535,BP537),EXACT(BS535,BS537)),AND(EXACT(BO535,BO536),EXACT(BP535,BP536),EXACT(BS535,BS536),EXACT(BO535,BO534),EXACT(BP535,BP534),EXACT(BS535,BS534))*AND(EXACT(BO535,BO533),EXACT(BP535,BP533),EXACT(BS535,BS533),EXACT(BO535,BO534),EXACT(BP535,BP534),EXACT(BS535,BS534))),3,1)","v":1}]
[null,{"$f":"VLOOKUP(C536,Vorgaben!C$10:D$16,2,FALSE)","v":{"$error":"#N/A"}},10,null,null,null,null,null,null,null,"15:45:00",null,null,null,null,{"$f":"M520","v":"Gruppe F5"},null,null,null,null,null,null,null,null,null,null,null,null,null,null,null,"-",{"$f":"M516","v":"Gruppe F1"},null,null,null,null,null,null,null,null,null,null,null,null,null,null,null,null,{"$f":"IF(ISBLANK('Gruppe F1'!AW37),\"\",'Gruppe F1'!AW37)","v":1},null,":",{"$f":"IF(ISBLANK('Gruppe F1'!AZ37),\"\",'Gruppe F1'!AZ37)","v":1},null,null,null,null,null,1,":",1,null,null,{"$f":"INDEX(Vorgaben!F$39:H$46,MATCH($BM536,Vorgaben!F$39:F$46,0),3)","v":0},{"$f":"'Gruppe F1'!$BM$44","v":"Gruppe F3"},{"$f":"'Gruppe F1'!$BN$44","v":6},{"$f":"'Gruppe F1'!$BO$44","v":6},{"$f":"'Gruppe F1'!$BP$44","v":6},{"$f":"'Gruppe F1'!$BQ$44","v":":"},{"$f":"'Gruppe F1'!$BR$44","v":6},{"$f":"'Gruppe F1'!$BS$44","v":0},0,0,0,{"$f":"IF(BX535<BY536,10,IF(BX535>BY536,-10,0))","v":0},{"$f":"IF(ISNA(INDEX(BG$527:BG$547,MATCH(BM536&BM537,P$527:P$547&AG$527:AG$547,0))),INDEX(BI$527:BI$547,MATCH(BM537&BM536,P$527:P$547&AG$527:AG$547,0)),INDEX(BG$527:BG$547,MATCH(BM536&BM537,P$527:P$547&AG$527:AG$547,0)))","v":1},{"$f":"IF(ISNA(INDEX(BG$527:BG$547,MATCH(BM536&BM535,P$527:P$547&AG$527:AG$547,0))),INDEX(BI$527:BI$547,MATCH(BM535&BM536,P$527:P$547&AG$527:AG$547,0)),INDEX(BG$527:BG$547,MATCH(BM536&BM535,P$527:P$547&AG$527:AG$547,0)))","v":1},{"$f":"IF(AND(EXACT(BO536,BO537),EXACT(BP536,BP537),EXACT(BS536,BS537),EXACT(BX536,BY537)),\"ACHTUNG! Direkter Vergleich war unentschieden!\",IF(AND(EXACT(BO536,BO537),EXACT(BP536,BP537),EXACT(BS536,BS537)),1,2))","v":2},"ACHTUNG! Direkter Vergleich war unentschieden!","ACHTUNG! Direkter Vergleich war unentschieden!",{"$f":"IF(OR(AND(EXACT(BO536,BO537),EXACT(BP536,BP537),EXACT(BS536,BS537),EXACT(BO536,BO538),EXACT(BP536,BP538),EXACT(BS536,BS538)),AND(EXACT(BO536,BO537),EXACT(BP536,BP537),EXACT(BS536,BS537),EXACT(BO536,BO535),EXACT(BP536,BP535),EXACT(BS536,BS535))*AND(EXACT(BO536,BO534),EXACT(BP536,BP534),EXACT(BS536,BS534),EXACT(BO536,BO535),EXACT(BP536,BP535),EXACT(BS536,BS535))),3,1)","v":1}]
[null,{"$f":"VLOOKUP(C537,Vorgaben!C$10:D$16,2,FALSE)","v":{"$error":"#N/A"}},11,null,null,null,null,null,null,null,"15:55:00",null,null,null,null,{"$f":"M522","v":"Gruppe F7"},null,null,null,null,null,null,null,null,null,null,null,null,null,null,null,"-",{"$f":"M518","v":"Gruppe F3"},null,null,null,null,null,null,null,null,null,null,null,null,null,null,null,null,{"$f":"IF(ISBLANK('Gruppe F1'!AW38),\"\",'Gruppe F1'!AW38)","v":1},null,":",{"$f":"IF(ISBLANK('Gruppe F1'!AZ38),\"\",'Gruppe F1'!AZ38)","v":1},null,null,null,null,null,1,":",1,null,null,{"$f":"INDEX(Vorgaben!F$39:H$46,MATCH($BM537,Vorgaben!F$39:F$46,0),3)","v":0},{"$f":"'Gruppe F1'!$BM$46","v":"Gruppe F4"},{"$f":"'Gruppe F1'!$BN$46","v":5},{"$f":"'Gruppe F1'!$BO$46","v":5},{"$f":"'Gruppe F1'!$BP$46","v":5},{"$f":"'Gruppe F1'!$BQ$46","v":":"},{"$f":"'Gruppe F1'!$BR$46","v":5},{"$f":"'Gruppe F1'!$BS$46","v":0},0,0,0,{"$f":"IF(BX537>BY538,10,IF(BX537<BY538,-10,0))","v":0},{"$f":"IF(ISNA(INDEX(BG$527:BG$547,MATCH(BM537&BM538,P$527:P$547&AG$527:AG$547,0))),INDEX(BI$527:BI$547,MATCH(BM538&BM537,P$527:P$547&AG$527:AG$547,0)),INDEX(BG$527:BG$547,MATCH(BM537&BM538,P$527:P$547&AG$527:AG$547,0)))","v":1},{"$f":"IF(ISNA(INDEX(BG$527:BG$547,MATCH(BM537&BM536,P$527:P$547&AG$527:AG$547,0))),INDEX(BI$527:BI$547,MATCH(BM536&BM537,P$527:P$547&AG$527:AG$547,0)),INDEX(BG$527:BG$547,MATCH(BM537&BM536,P$527:P$547&AG$527:AG$547,0)))","v":1},{"$f":"IF(AND(EXACT(BO537,BO538),EXACT(BP537,BP538),EXACT(BS537,BS538),EXACT(BX537,BY538)),\"ACHTUNG! Direkter Vergleich war unentschieden!\",IF(AND(EXACT(BO537,BO538),EXACT(BP537,BP538),EXACT(BS537,BS538)),1,2))","v":2},2,"",1]
[null,{"$f":"VLOOKUP(C538,Vorgaben!C$10:D$16,2,FALSE)","v":{"$error":"#N/A"}},12,null,null,null,null,null,null,null,"16:05:00",null,null,null,null,{"$f":"M521","v":"Gruppe F6"},null,null,null,null,null,null,null,null,null,null,null,null,null,null,null,"-",{"$f":"M517","v":"Gruppe F2"},null,null,null,null,null,null,null,null,null,null,null,null,null,null,null,null,{"$f":"IF(ISBLANK('Gruppe F1'!AW39),\"\",'Gruppe F1'!AW39)","v":1},null,":",{"$f":"IF(ISBLANK('Gruppe F1'!AZ39),\"\",'Gruppe F1'!AZ39)","v":1},null,null,null,null,null,1,":",1,null,null,{"$f":"INDEX(Vorgaben!F$39:H$46,MATCH($BM538,Vorgaben!F$39:F$46,0),3)","v":0},{"$f":"'Gruppe F1'!$BM$48","v":"Gruppe F5"},{"$f":"'Gruppe F1'!$BN$47","v":6},{"$f":"'Gruppe F1'!$BO$47","v":5},{"$f":"'Gruppe F1'!$BP$47","v":6},{"$f":"'Gruppe F1'!$BQ$47","v":":"},{"$f":"'Gruppe F1'!$BR$47","v":16},{"$f":"'Gruppe F1'!$BS$47","v":-10},0,0,0,{"$f":"IF(BX537<BY538,10,IF(BX537>BY538,-10,0))","v":0},{"$f":"IF(ISNA(INDEX(BG$527:BG$547,MATCH(BM538&BM539,P$527:P$547&AG$527:AG$547,0))),INDEX(BI$527:BI$547,MATCH(BM539&BM538,P$527:P$547&AG$527:AG$547,0)),INDEX(BG$527:BG$547,MATCH(BM538&BM539,P$527:P$547&AG$527:AG$547,0)))","v":1},{"$f":"IF(ISNA(INDEX(BG$527:BG$547,MATCH(BM538&BM537,P$527:P$547&AG$527:AG$547,0))),INDEX(BI$527:BI$547,MATCH(BM537&BM538,P$527:P$547&AG$527:AG$547,0)),INDEX(BG$527:BG$547,MATCH(BM538&BM537,P$527:P$547&AG$527:AG$547,0)))","v":1},{"$f":"IF(AND(EXACT(BO538,BO539),EXACT(BP538,BP539),EXACT(BS538,BS539),EXACT(BX538,BY539)),\"ACHTUNG! Direkter Vergleich war unentschieden!\",IF(AND(EXACT(BO538,BO539),EXACT(BP538,BP539),EXACT(BS538,BS539)),1,2))","v":2},2,"",1]
[null,{"$f":"VLOOKUP(C539,Vorgaben!C$10:D$16,2,FALSE)","v":{"$error":"#N/A"}},13,null,null,null,null,null,null,null,"16:15:00",null,null,null,null,{"$f":"M516","v":"Gruppe F1"},null,null,null,null,null,null,null,null,null,null,null,null,null,null,null,"-",{"$f":"M519","v":"Gruppe F4"},null,null,null,null,null,null,null,null,null,null,null,null,null,null,null,null,{"$f":"IF(ISBLANK('Gruppe F1'!AW40),\"\",'Gruppe F1'!AW40)","v":1},null,":",{"$f":"IF(ISBLANK('Gruppe F1'!AZ40),\"\",'Gruppe F1'!AZ40)","v":1},null,null,null,null,null,1,":",1,null,null,{"$f":"INDEX(Vorgaben!F$39:H$46,MATCH($BM539,Vorgaben!F$39:F$46,0),3)","v":0},{"$f":"'Gruppe F1'!$BM$43","v":"Gruppe F1"},{"$f":"'Gruppe F1'!$BN$48","v":5},{"$f":"'Gruppe F1'!$BO$48","v":4},{"$f":"'Gruppe F1'!$BP$48","v":5},{"$f":"'Gruppe F1'!$BQ$48","v":":"},{"$f":"'Gruppe F1'!$BR$48","v":15},{"$f":"'Gruppe F1'!$BS$48","v":-10},0,0,0,{"$f":"IF(BX538<BY539,10,IF(BX538>BY539,-10,0))","v":0},null,{"$f":"IF(ISNA(INDEX(BG$527:BG$547,MATCH(BM539&BM538,P$527:P$547&AG$527:AG$547,0))),INDEX(BI$527:BI$547,MATCH(BM538&BM539,P$527:P$547&AG$527:AG$547,0)),INDEX(BG$527:BG$547,MATCH(BM539&BM538,P$527:P$547&AG$527:AG$547,0)))","v":1},null,2,"",1]
[null,{"$f":"VLOOKUP(C540,Vorgaben!C$10:D$16,2,FALSE)","v":{"$error":"#N/A"}},14,null,null,null,null,null,null,null,"16:25:00",null,null,null,null,{"$f":"M521","v":"Gruppe F6"},null,null,null,null,null,null,null,null,null,null,null,null,null,null,null,"-",{"$f":"M522","v":"Gruppe F7"},null,null,null,null,null,null,null,null,null,null,null,null,null,null,null,null,{"$f":"IF(ISBLANK('Gruppe F1'!AW41),\"\",'Gruppe F1'!AW41)","v":1},null,":",{"$f":"IF(ISBLANK('Gruppe F1'!AZ41),\"\",'Gruppe F1'!AZ41)","v":1},null,null,null,null,null,1,":",1]
[null,{"$f":"VLOOKUP(C541,Vorgaben!C$10:D$16,2,FALSE)","v":{"$error":"#N/A"}},15,null,null,null,null,null,null,null,"16:35:00",null,null,null,null,{"$f":"M517","v":"Gruppe F2"},null,null,null,null,null,null,null,null,null,null,null,null,null,null,null,"-",{"$f":"M520","v":"Gruppe F5"},null,null,null,null,null,null,null,null,null,null,null,null,null,null,null,null,{"$f":"IF(ISBLANK('Gruppe F1'!AW42),\"\",'Gruppe F1'!AW42)","v":11},null,":",{"$f":"IF(ISBLANK('Gruppe F1'!AZ42),\"\",'Gruppe F1'!AZ42)","v":1},null,null,null,null,null,3,":",0]
[null,{"$f":"VLOOKUP(C542,Vorgaben!C$10:D$16,2,FALSE)","v":{"$error":"#N/A"}},16,null,null,null,null,null,null,null,"16:45:00",null,null,null,null,"Gruppe F3",null,null,null,null,null,null,null,null,null,null,null,null,null,null,null,"-",{"$f":"M516","v":"Gruppe F1"},null,null,null,null,null,null,null,null,null,null,null,null,null,null,null,null,{"$f":"IF(ISBLANK('Gruppe F1'!AW43),\"\",'Gruppe F1'!AW43)","v":1},null,":",{"$f":"IF(ISBLANK('Gruppe F1'!AZ43),\"\",'Gruppe F1'!AZ43)","v":1},null,null,null,null,null,1,":",1]
[null,{"$f":"VLOOKUP(C543,Vorgaben!C$10:D$16,2,FALSE)","v":{"$error":"#N/A"}},17,null,null,null,null,null,null,null,"16:55:00",null,null,null,null,"Gruppe F4",null,null,null,null,null,null,null,null,null,null,null,null,null,null,null,"-",{"$f":"M521","v":"Gruppe F6"},null,null,null,null,null,null,null,null,null,null,null,null,null,null,null,null,{"$f":"IF(ISBLANK('Gruppe F1'!AW44),\"\",'Gruppe F1'!AW44)","v":1},null,":",{"$f":"IF(ISBLANK('Gruppe F1'!AZ44),\"\",'Gruppe F1'!AZ44)","v":1},null,null,null,null,null,1,":",1]
[null,{"$f":"VLOOKUP(C544,Vorgaben!C$10:D$16,2,FALSE)","v":{"$error":"#N/A"}},18,null,null,null,null,null,null,null,"17:05:00",null,null,null,null,"Gruppe F5",null,null,null,null,null,null,null,null,null,null,null,null,null,null,null,"-",{"$f":"M522","v":"Gruppe F7"},null,null,null,null,null,null,null,null,null,null,null,null,null,null,null,null,{"$f":"IF(ISBLANK('Gruppe F1'!AW45),\"\",'Gruppe F1'!AW45)","v":1},null,":",{"$f":"IF(ISBLANK('Gruppe F1'!AZ45),\"\",'Gruppe F1'!AZ45)","v":1},null,null,null,null,null,1,":",1]
[null,{"$f":"VLOOKUP(C545,Vorgaben!C$10:D$16,2,FALSE)","v":{"$error":"#N/A"}},19,null,null,null,null,null,null,null,"17:15:00",null,null,null,null,"Gruppe F6",null,null,null,null,null,null,null,null,null,null,null,null,null,null,null,"-",{"$f":"M518","v":"Gruppe F3"},null,null,null,null,null,null,null,null,null,null,null,null,null,null,null,null,{"$f":"IF(ISBLANK('Gruppe F1'!AW46),\"\",'Gruppe F1'!AW46)","v":1},null,":",{"$f":"IF(ISBLANK('Gruppe F1'!AZ46),\"\",'Gruppe F1'!AZ46)","v":1},null,null,null,null,null,1,":",1]
[null,{"$f":"VLOOKUP(C546,Vorgaben!C$10:D$16,2,FALSE)","v":{"$error":"#N/A"}},20,null,null,null,null,null,null,null,"17:25:00",null,null,null,null,"Gruppe F7",null,null,null,null,null,null,null,null,null,null,null,null,null,null,null,"-",{"$f":"M517","v":"Gruppe F2"},null,null,null,null,null,null,null,null,null,null,null,null,null,null,null,null,{"$f":"IF(ISBLANK('Gruppe F1'!AW47),\"\",'Gruppe F1'!AW47)","v":1},null,":",{"$f":"IF(ISBLANK('Gruppe F1'!AZ47),\"\",'Gruppe F1'!AZ47)","v":1},null,null,null,null,null,{"$f":"IF(ISBLANK(AX546),\"0\",IF(AX546>BA546,3,IF(AX546=BA546,1,0)))","v":1},":",{"$f":"IF(ISBLANK(BA546),\"0\",IF(BA546>AX546,3,IF(BA546=AX546,1,0)))","v":1}]
[null,{"$f":"VLOOKUP(C547,Vorgaben!C$10:D$16,2,FALSE)","v":{"$error":"#N/A"}},21,null,null,null,null,null,null,null,"17:35:00",null,null,null,null,{"$f":"M519","v":"Gruppe F4"},null,null,null,null,null,null,null,null,null,null,null,null,null,null,null,"-",{"$f":"M520","v":"Gruppe F5"},null,null,null,null,null,null,null,null,null,null,null,null,null,null,null,null,{"$f":"IF(ISBLANK('Gruppe F1'!AW48),\"\",'Gruppe F1'!AW48)","v":""},null,":",{"$f":"IF(ISBLANK('Gruppe F1'!AZ48),\"\",'Gruppe F1'!AZ48)","v":""},null,null,null,null,null,{"$f":"IF(ISBLANK(AX547),\"0\",IF(AX547>BA547,3,IF(AX547=BA547,1,0)))","v":1},":",{"$f":"IF(ISBLANK(BA547),\"0\",IF(BA547>AX547,3,IF(BA547=AX547,1,0)))","v":1}]
[]
[]
[null,null,"III. Abschlußtabelle"]
[]
[null,null,null,null,null,null,null,null,null,"Mannschaften",null,null,null,null,null,null,null,null,null,null,null,null,null,null,null,null,null,null,null,null,null,null,null,null,null,null,null,"Sp.",null,null,"Pkt.",null,null,"Tore",null,null,null,null,"Diff."]
[null,null,null,null,null,null,null,null,null,"1.",null,{"$f":"BM533","v":"Gruppe F7"},null,null,null,null,null,null,null,null,null,null,null,null,null,null,null,null,null,null,null,null,null,null,null,null,null,{"$f":"BN533","v":6},null,null,{"$f":"BO533","v":8},null,null,{"$f":"BP533","v":16},null,":",{"$f":"BR533","v":6},null,{"$f":"BS533","v":10}]
[null,null,null,null,null,null,null,null,null,"2.",null,"Gruppe F2",null,null,null,null,null,null,null,null,null,null,null,null,null,null,null,null,null,null,null,null,null,null,null,null,null,6,null,null,8,null,null,16,null,":",6,null,10]
[null,null,null,null,null,null,null,null,null,"3.",null,"Gruppe F6",null,null,null,null,null,null,null,null,null,null,null,null,null,null,null,null,null,null,null,null,null,null,null,null,null,6,null,null,6,null,null,6,null,":",6,null,0]
[null,null,null,null,null,null,null,null,null,"4.",null,"Gruppe F3",null,null,null,null,null,null,null,null,null,null,null,null,null,null,null,null,null,null,null,null,null,null,null,null,null,6,null,null,6,null,null,6,null,":",6,null,0]
[null,null,null,null,null,null,null,null,null,"5.",null,"Gruppe F4",null,null,null,null,null,null,null,null,null,null,null,null,null,null,null,null,null,null,null,null,null,null,null,null,null,5,null,null,5,null,null,5,null,":",5,null,0]
[null,null,null,null,null,null,null,null,null,"6.",null,"Gruppe F5",null,null,null,null,null,null,null,null,null,null,null,null,null,null,null,null,null,null,null,null,null,null,null,null,null,6,null,null,5,null,null,6,null,":",16,null,-10]
[null,null,null,null,null,null,null,null,null,"7.",null,"Gruppe F1",null,null,null,null,null,null,null,null,null,null,null,null,null,null,null,null,null,null,null,null,null,null,null,null,null,5,null,null,4,null,null,5,null,":",15,null,-10]

{"sheet":"Elfmeter","index":4,"n_rows":50,"n_cols":16,"rows_kept":50,"cut":false,"hidden":true,"merged":[[0,2,1,2],[0,1,1,1],[0,3,0,11]]}
[null,"Verein","Schütze","Schuss",null,null,null,null,null,null,null,null,null,null,null,"X"]
[null,null,null,1,2,3,4,5,6,7,8,9,null,null,null,"O"]
["A",{"$f":"Vorgaben!B19","v":"Gruppe A1"},null,"O","O","O"]
["A",{"$f":"Vorgaben!B20","v":"Gruppe A2"},null,"X"]
["A",{"$f":"Vorgaben!B21","v":"Gruppe A3"},null,null,"O","O"]
["A",{"$f":"Vorgaben!B22","v":"Gruppe A4"}]
["A",{"$f":"Vorgaben!B23","v":"Gruppe A5"}]
["A",{"$f":"Vorgaben!B24","v":"Gruppe A6"}]
["A",{"$f":"Vorgaben!B25","v":"Gruppe A7"}]
["A",{"$f":"Vorgaben!B26","v":"Gruppe A8"}]
["B",{"$f":"Vorgaben!F19","v":"Gruppe B1"}]
["B",{"$f":"Vorgaben!F20","v":"Gruppe B2"}]
["B",{"$f":"Vorgaben!F21","v":"Gruppe B3"}]
["B",{"$f":"Vorgaben!F22","v":"Gruppe B4"}]
["B",{"$f":"Vorgaben!F23","v":"Gruppe B5"}]
["B",{"$f":"Vorgaben!F24","v":"Gruppe B6"}]
["B",{"$f":"Vorgaben!F25","v":"Gruppe B7"}]
["B",{"$f":"Vorgaben!F26","v":"Gruppe B8"}]
["C",{"$f":"Vorgaben!B29","v":"Gruppe C1"}]
["C",{"$f":"Vorgaben!B30","v":"Gruppe C2"}]
["C",{"$f":"Vorgaben!B31","v":"Gruppe C3"}]
["C",{"$f":"Vorgaben!B32","v":"Gruppe C4"}]
["C",{"$f":"Vorgaben!B33","v":"Gruppe C5"}]
["C",{"$f":"Vorgaben!B34","v":"Gruppe C6"}]
["C",{"$f":"Vorgaben!B35","v":"Gruppe C7"}]
["C",{"$f":"Vorgaben!B36","v":"Gruppe C8"}]
["D",{"$f":"Vorgaben!F29","v":"Gruppe D1"}]
["D",{"$f":"Vorgaben!F30","v":"Gruppe D2"}]
["D",{"$f":"Vorgaben!F31","v":"Gruppe D3"}]
["D",{"$f":"Vorgaben!F32","v":"Gruppe D4"}]
["D",{"$f":"Vorgaben!F33","v":"Gruppe D5"}]
["D",{"$f":"Vorgaben!F34","v":"Gruppe D6"}]
["D",{"$f":"Vorgaben!F35","v":"Gruppe D7"}]
["D",{"$f":"Vorgaben!F36","v":"Gruppe D8"}]
["E",{"$f":"Vorgaben!B39","v":"Gruppe E1"}]
["E",{"$f":"Vorgaben!B40","v":"Gruppe E2"}]
["E",{"$f":"Vorgaben!B41","v":"Gruppe E3"}]
["E",{"$f":"Vorgaben!B42","v":"Gruppe E4"}]
["E",{"$f":"Vorgaben!B43","v":"Gruppe E5"}]
["E",{"$f":"Vorgaben!B44","v":"Gruppe E6"}]
["E",{"$f":"Vorgaben!B45","v":"Gruppe E7"}]
["E",{"$f":"Vorgaben!B46","v":"Gruppe E8"}]
["F",{"$f":"Vorgaben!F39","v":"Gruppe F1"}]
["F",{"$f":"Vorgaben!F40","v":"Gruppe F2"}]
["F",{"$f":"Vorgaben!F41","v":"Gruppe F3"}]
["F",{"$f":"Vorgaben!F42","v":"Gruppe F4"}]
["F",{"$f":"Vorgaben!F43","v":"Gruppe F5"}]
["F",{"$f":"Vorgaben!F44","v":"Gruppe F6"}]
["F",{"$f":"Vorgaben!F45","v":"Gruppe F7"}]
["F",{"$f":"Vorgaben!F46","v":"Gruppe F8"}]

{"sheet":"Gruppe AF8","index":5,"n_rows":568,"n_cols":160,"rows_kept":568,"cut":false,"hidden":true,"merged":[[564,47,564,49],[565,8,565,9],[565,10,565,35],[565,36,565,38],[565,39,565,41],[565,42,565,43],[565,45,565,46],[565,47,565,49],[564,8,564,9],[564,10,564,35],[564,36,564,38],[564,39,564,41],[564,42,564,43],[564,45,564,46],[562,47,562,49],[563,8,563,9],[563,10,563,35],[563,36,563,38],[563,39,563,41],[563,42,563,43],[563,45,563,46],[563,47,563,49],[562,8,562,9],[562,10,562,35],[562,36,562,38],[562,39,562,41],[562,42,562,43],[562,45,562,46],[561,8,561,9],[561,10,561,35],[561,36,561,38],[561,39,561,41],[561,42,561,43],[561,45,561,46],[561,47,561,49],[559,8,559,35],[559,36,559,38],[559,39,559,41],[559,42,559,46],[559,47,559,49],[560,8,560,9],[560,10,560,35],[560,36,560,38],[560,39,560,41],[560,42,560,43],[560,45,560,46],[560,47,560,49],[553,53,553,54],[554,1,554,2],[554,3,554,8],[554,9,554,27],[554,29,554,47],[554,48,554,49],[554,51,554,52],[554,53,554,54],[553,1,553,2],[553,3,553,8],[553,9,553,27],[553,29,553,47],[553,48,553,49],[553,51,553,52],[551,53,551,54],[552,1,552,2],[552,3,552,8],[552,9,552,27],[552,29,552,47],[552,48,552,49],[552,51,552,52],[552,53,552,54],[551,1,551,2],[551,3,551,8],[551,9,551,27],[551,29,551,47],[551,48,551,49],[551,51,551,52],[549,53,549,54],[550,1,550,2],[550,3,550,8],[550,9,550,27],[550,29,550,47],[550,48,550,49],[550,51,550,52],[550,53,550,54],[549,1,549,2],[549,3,549,8],[549,9,549,27],[549,29,549,47],[549,48,549,49],[549,51,549,52],[547,53,547,54],[548,1,548,2],[548,3,548,8],[548,9,548,27],[548,29,548,47],[548,48,548,49],[548,51,548,52],[548,53,548,54],[547,1,547,2],[547,3,547,8],[547,9,547,27],[547,29,547,47],[547,48,547,49],[547,51,547,52],[545,53,545,54],[546,1,546,2],[546,3,546,8],[546,9,546,27],[546,29,546,47],[546,48,546,49],[546,51,546,52],[546,53,546,54],[545,1,545,2],[545,3,545,8],[545,9,545,27],[545,29,545,47],[545,48,545,49],[545,51,545,52],[543,53,543,54],[544,1,544,2],[544,3,544,8],[544,9,544,27],[544,29,544,47],[544,48,544,49],[544,51,544,52],[544,53,544,54],[543,1,543,2],[543,3,543,8],[543,9,543,27],[543,29,543,47],[543,48,543,49],[543,51,543,52],[541,53,541,54],[542,1,542,2],[542,3,542,8],[542,9,542,27],[542,29,542,47],[542,48,542,49],[542,51,542,52],[542,53,542,54],[541,1,541,2],[541,3,541,8],[541,9,541,27],[541,29,541,47],[541,48,541,49],[541,51,541,52],[539,53,539,54],[540,1,540,2],[540,3,540,8],[540,9,540,27],[540,29,540,47],[540,48,540,49],[540,51,540,52],[540,53,540,54],[539,1,539,2],[539,3,539,8],[539,9,539,27],[539,29,539,47],[539,48,539,49],[539,51,539,52],[537,53,537,54],[538,1,538,2],[538,3,538,8],[538,9,538,27],[538,29,538,47],[538,48,538,49],[538,51,538,52],[538,53,538,54],[537,1,537,2],[537,3,537,8],[537,9,537,27],[537,29,537,47],[537,48,537,49],[537,51,537,52],[535,53,535,54],[536,1,536,2],[536,3,536,8],[536,9,536,27],[536,29,536,47],[536,48,536,49],[536,51,536,52],[536,53,536,54],[535,1,535,2],[535,3,535,8],[535,9,535,27],[535,29,535,47],[535,48,535,49],[535,51,535,52],[533,53,533,54],[534,1,534,2],[534,3,534,8],[534,9,534,27],[534,29,534,47],[534,48,534,49],[534,51,534,52],[534,53,534,54],[533,1,533,2],[533,3,533,8],[533,9,533,27],[533,29,533,47],[533,48,533,49],[533,51,533,52],[531,53,531,54],[532,1,532,2],[532,3,532,8],[532,9,532,27],[532,29,532,47],[532,48,532,49],[532,51,532,52],[532,53,532,54],[531,1,531,2],[531,3,531,8],[531,9,531,27],[531,29,531,47],[531,48,531,49],[531,51,531,52],[529,53,529,54],[530,1,530,2],[530,3,530,8],[530,9,530,27],[530,29,530,47],[530,48,530,49],[530,51,530,52],[530,53,530,54],[529,1,529,2],[529,3,529,8],[529,9,529,27],[529,29,529,47],[529,48,529,49],[529,51,529,52],[527,51,527,52],[527,53,527,54],[528,1,528,2],[528,3,528,8],[528,9,528,27],[528,29,528,47],[528,48,528,49],[528,51,528,52],[528,53,528,54],[526,1,526,2],[526,3,526,8],[526,10,526,47],[526,48,526,52],[526,53,526,54],[527,1,527,2],[527,3,527,8],[527,9,527,27],[527,29,527,47],[527,48,527,49],[521,9,521,10],[521,11,521,46],[521,47,521,48],[522,9,522,10],[522,11,522,46],[522,47,522,48],[519,9,519,10],[519,11,519,46],[519,47,519,48],[520,9,520,10],[520,11,520,46],[520,47,520,48],[517,9,517,10],[517,11,517,46],[517,47,517,48],[518,9,518,10],[518,11,518,46],[518,47,518,48],[515,9,515,10],[515,11,515,46],[515,47,515,48],[516,9,516,10],[516,11,516,46],[516,47,516,48],[509,7,509,11],[509,20,509,21],[509,23,509,27],[509,37,509,41],[514,9,514,46],[514,47,514,48],[501,0,501,54],[502,0,502,54],[503,0,503,41],[505,12,505,19],[505,24,505,31],[507,1,507,38],[464,47,464,49],[465,8,465,9],[465,10,465,35],[465,36,465,38],[465,39,465,41],[465,42,465,43],[465,45,465,46],[465,47,465,49],[464,8,464,9],[464,10,464,35],[464,36,464,38],[464,39,464,41],[464,42,464,43],[464,45,464,46],[467,8,467,9],[467,10,467,35],[467,36,467,38],[467,39,467,41],[467,42,467,43],[467,45,467,46],[467,47,467,49],[466,36,466,38],[466,39,466,41],[466,42,466,43],[466,45,466,46],[466,47,466,49],[462,47,462,49],[463,8,463,9],[463,10,463,35],[463,36,463,38],[463,39,463,41],[463,42,463,43],[463,45,463,46],[463,47,463,49],[462,8,462,9],[462,10,462,35],[462,36,462,38],[462,39,462,41],[462,42,462,43],[462,45,462,46],[460,45,460,46],[460,47,460,49],[461,8,461,9],[461,10,461,35],[461,36,461,38],[461,39,461,41],[461,42,461,43],[461,45,461,46],[461,47,461,49],[459,8,459,35],[459,36,459,38],[459,39,459,41],[459,42,459,46],[459,47,459,49],[460,8,460,9],[460,10,460,35],[460,36,460,38],[460,39,460,41],[460,42,460,43],[453,53,453,54],[454,1,454,2],[454,3,454,8],[454,9,454,27],[454,29,454,47],[454,48,454,49],[454,51,454,52],[454,53,454,54],[453,1,453,2],[453,3,453,8],[453,9,453,27],[453,29,453,47],[453,48,453,49],[453,51,453,52],[451,53,451,54],[452,1,452,2],[452,3,452,8],[452,9,452,27],[452,29,452,47],[452,48,452,49],[452,51,452,52],[452,53,452,54],[451,1,451,2],[451,3,451,8],[451,9,451,27],[451,29,451,47],[451,48,451,49],[451,51,451,52],[449,53,449,54],[450,1,450,2],[450,3,450,8],[450,9,450,27],[450,29,450,47],[450,48,450,49],[450,51,450,52],[450,53,450,54],[449,1,449,2],[449,3,449,8],[449,9,449,27],[449,29,449,47],[449,48,449,49],[449,51,449,52],[447,53,447,54],[448,1,448,2],[448,3,448,8],[448,9,448,27],[448,29,448,47],[448,48,448,49],[448,51,448,52],[448,53,448,54],[447,1,447,2],[447,3,447,8],[447,9,447,27],[447,29,447,47],[447,48,447,49],[447,51,447,52],[445,53,445,54],[446,1,446,2],[446,3,446,8],[446,9,446,27],[446,29,446,47],[446,48,446,49],[446,51,446,52],[446,53,446,54],[445,1,445,2],[445,3,445,8],[445,9,445,27],[445,29,445,47],[445,48,445,49],[445,51,445,52],[443,53,443,54],[444,1,444,2],[444,3,444,8],[444,9,444,27],[444,29,444,47],[444,48,444,49],[444,51,444,52],[444,53,444,54],[443,1,443,2],[443,3,443,8],[443,9,443,27],[443,29,443,47],[443,48,443,49],[443,51,443,52],[441,53,441,54],[442,1,442,2],[442,3,442,8],[442,9,442,27],[442,29,442,47],[442,48,442,49],[442,51,442,52],[442,53,442,54],[441,1,441,2],[441,3,441,8],[441,9,441,27],[441,29,441,47],[441,48,441,49],[441,51,441,52],[439,53,439,54],[440,1,440,2],[440,3,440,8],[440,9,440,27],[440,29,440,47],[440,48,440,49],[440,51,440,52],[440,53,440,54],[439,1,439,2],[439,3,439,8],[439,9,439,27],[439,29,439,47],[439,48,439,49],[439,51,439,52],[437,53,437,54],[438,1,438,2],[438,3,438,8],[438,9,438,27],[438,29,438,47],[438,48,438,49],[438,51,438,52],[438,53,438,54],[437,1,437,2],[437,3,437,8],[437,9,437,27],[437,29,437,47],[437,48,437,49],[437,51,437,52],[435,53,435,54],[436,1,436,2],[436,3,436,8],[436,9,436,27],[436,29,436,47],[436,48,436,49],[436,51,436,52],[436,53,436,54],[435,1,435,2],[435,3,435,8],[435,9,435,27],[435,29,435,47],[435,48,435,49],[435,51,435,52],[433,53,433,54],[434,1,434,2],[434,3,434,8],[434,9,434,27],[434,29,434,47],[434,48,434,49],[434,51,434,52],[434,53,434,54],[433,1,433,2],[433,3,433,8],[433,9,433,27],[433,29,433,47],[433,48,433,49],[433,51,433,52],[431,53,431,54],[432,1,432,2],[432,3,432,8],[432,9,432,27],[432,29,432,47],[432,48,432,49],[432,51,432,52],[432,53,432,54],[431,1,431,2],[431,3,431,8],[431,9,431,27],[431,29,431,47],[431,48,431,49],[431,51,431,52],[429,53,429,54],[430,1,430,2],[430,3,430,8],[430,9,430,27],[430,29,430,47],[430,48,430,49],[430,51,430,52],[430,53,430,54],[429,1,429,2],[429,3,429,8],[429,9,429,27],[429,29,429,47],[429,48,429,49],[429,51,429,52],[427,51,427,52],[427,53,427,54],[428,1,428,2],[428,3,428,8],[428,9,428,27],[428,29,428,47],[428,48,428,49],[428,51,428,52],[428,53,428,54],[426,1,426,2],[426,3,426,8],[426,10,426,47],[426,48,426,52],[426,53,426,54],[427,1,427,2],[427,3,427,8],[427,9,427,27],[427,29,427,47],[427,48,427,49],[421,9,421,10],[421,11,421,46],[421,47,421,48],[422,9,422,10],[422,11,422,46],[422,47,422,48],[419,9,419,10],[419,11,419,46],[419,47,419,48],[420,9,420,10],[420,11,420,46],[420,47,420,48],[417,9,417,10],[417,11,417,46],[417,47,417,48],[418,9,418,10],[418,11,418,46],[418,47,418,48],[415,9,415,10],[415,11,415,46],[415,47,415,48],[416,9,416,10],[416,11,416,46],[416,47,416,48],[409,7,409,11],[409,20,409,21],[409,23,409,27],[409,37,409,41],[414,9,414,46],[414,47,414,48],[401,0,401,54],[402,0,402,54],[403,0,403,41],[405,12,405,19],[405,24,405,31],[407,1,407,38],[364,47,364,49],[365,8,365,9],[365,10,365,35],[365,36,365,38],[365,39,365,41],[365,42,365,43],[365,45,365,46],[365,47,365,49],[364,8,364,9],[364,10,364,35],[364,36,364,38],[364,39,364,41],[364,42,364,43],[364,45,364,46],[362,47,362,49],[363,8,363,9],[363,10,363,35],[363,36,363,38],[363,39,363,41],[363,42,363,43],[363,45,363,46],[363,47,363,49],[362,8,362,9],[362,10,362,35],[362,36,362,38],[362,39,362,41],[362,42,362,43],[362,45,362,46],[360,45,360,46],[360,47,360,49],[361,8,361,9],[361,10,361,35],[361,36,361,38],[361,39,361,41],[361,42,361,43],[361,45,361,46],[361,47,361,49],[359,8,359,35],[359,36,359,38],[359,39,359,41],[359,42,359,46],[359,47,359,49],[360,8,360,9],[360,10,360,35],[360,36,360,38],[360,39,360,41],[360,42,360,43],[353,53,353,54],[354,1,354,2],[354,3,354,8],[354,9,354,27],[354,29,354,47],[354,48,354,49],[354,51,354,52],[354,53,354,54],[353,1,353,2],[353,3,353,8],[353,9,353,27],[353,29,353,47],[353,48,353,49],[353,51,353,52],[351,53,351,54],[352,1,352,2],[352,3,352,8],[352,9,352,27],[352,29,352,47],[352,48,352,49],[352,51,352,52],[352,53,352,54],[351,1,351,2],[351,3,351,8],[351,9,351,27],[351,29,351,47],[351,48,351,49],[351,51,351,52],[349,53,349,54],[350,1,350,2],[350,3,350,8],[350,9,350,27],[350,29,350,47],[350,48,350,49],[350,51,350,52],[350,53,350,54],[349,1,349,2],[349,3,349,8],[349,9,349,27],[349,29,349,47],[349,48,349,49],[349,51,349,52],[347,53,347,54],[348,1,348,2],[348,3,348,8],[348,9,348,27],[348,29,348,47],[348,48,348,49],[348,51,348,52],[348,53,348,54],[347,1,347,2],[347,3,347,8],[347,9,347,27],[347,29,347,47],[347,48,347,49],[347,51,347,52],[345,53,345,54],[346,1,346,2],[346,3,346,8],[346,9,346,27],[346,29,346,47],[346,48,346,49],[346,51,346,52],[346,53,346,54],[345,1,345,2],[345,3,345,8],[345,9,345,27],[345,29,345,47],[345,48,345,49],[345,51,345,52],[343,53,343,54],[344,1,344,2],[344,3,344,8],[344,9,344,27],[344,29,344,47],[344,48,344,49],[344,51,344,52],[344,53,344,54],[343,1,343,2],[343,3,343,8],[343,9,343,27],[343,29,343,47],[343,48,343,49],[343,51,343,52],[341,53,341,54],[342,1,342,2],[342,3,342,8],[342,9,342,27],[342,29,342,47],[342,48,342,49],[342,51,342,52],[342,53,342,54],[341,1,341,2],[341,3,341,8],[341,9,341,27],[341,29,341,47],[341,48,341,49],[341,51,341,52],[339,53,339,54],[340,1,340,2],[340,3,340,8],[340,9,340,27],[340,29,340,47],[340,48,340,49],[340,51,340,52],[340,53,340,54],[339,1,339,2],[339,3,339,8],[339,9,339,27],[339,29,339,47],[339,48,339,49],[339,51,339,52],[337,53,337,54],[338,1,338,2],[338,3,338,8],[338,9,338,27],[338,29,338,47],[338,48,338,49],[338,51,338,52],[338,53,338,54],[337,1,337,2],[337,3,337,8],[337,9,337,27],[337,29,337,47],[337,48,337,49],[337,51,337,52],[335,53,335,54],[336,1,336,2],[336,3,336,8],[336,9,336,27],[336,29,336,47],[336,48,336,49],[336,51,336,52],[336,53,336,54],[335,1,335,2],[335,3,335,8],[335,9,335,27],[335,29,335,47],[335,48,335,49],[335,51,335,52],[333,53,333,54],[334,1,334,2],[334,3,334,8],[334,9,334,27],[334,29,334,47],[334,48,334,49],[334,51,334,52],[334,53,334,54],[333,1,333,2],[333,3,333,8],[333,9,333,27],[333,29,333,47],[333,48,333,49],[333,51,333,52],[331,53,331,54],[332,1,332,2],[332,3,332,8],[332,9,332,27],[332,29,332,47],[332,48,332,49],[332,51,332,52],[332,53,332,54],[331,1,331,2],[331,3,331,8],[331,9,331,27],[331,29,331,47],[331,48,331,49],[331,51,331,52],[329,53,329,54],[330,1,330,2],[330,3,330,8],[330,9,330,27],[330,29,330,47],[330,48,330,49],[330,51,330,52],[330,53,330,54],[329,1,329,2],[329,3,329,8],[329,9,329,27],[329,29,329,47],[329,48,329,49],[329,51,329,52],[327,51,327,52],[327,53,327,54],[328,1,328,2],[328,3,328,8],[328,9,328,27],[328,29,328,47],[328,48,328,49],[328,51,328,52],[328,53,328,54],[326,1,326,2],[326,3,326,8],[326,10,326,47],[326,48,326,52],[326,53,326,54],[327,1,327,2],[327,3,327,8],[327,9,327,27],[327,29,327,47],[327,48,327,49],[321,9,321,10],[321,11,321,46],[321,47,321,48],[322,9,322,10],[322,11,322,46],[322,47,322,48],[319,9,319,10],[319,11,319,46],[319,47,319,48],[320,9,320,10],[320,11,320,46],[320,47,320,48],[317,9,317,10],[317,11,317,46],[317,47,317,48],[318,9,318,10],[318,11,318,46],[318,47,318,48],[315,9,315,10],[315,11,315,46],[315,47,315,48],[316,9,316,10],[316,11,316,46],[316,47,316,48],[309,7,309,11],[309,20,309,21],[309,23,309,27],[309,37,309,41],[314,9,314,46],[314,47,314,48],[301,0,301,54],[302,0,302,54],[303,0,303,41],[305,12,305,19],[305,24,305,31],[307,1,307,38],[264,47,264,49],[265,8,265,9],[265,10,265,35],[265,36,265,38],[265,39,265,41],[265,42,265,43],[265,45,265,46],[265,47,265,49],[264,8,264,9],[264,10,264,35],[264,36,264,38],[264,39,264,41],[264,42,264,43],[264,45,264,46],[266,8,266,9],[266,10,266,35],[266,36,266,38],[266,39,266,41],[266,42,266,43],[266,45,266,46],[266,47,266,49],[267,8,267,9],[267,10,267,35],[267,36,267,38],[267,39,267,41],[267,42,267,43],[262,47,262,49],[263,8,263,9],[263,10,263,35],[263,36,263,38],[263,39,263,41],[263,42,263,43],[263,45,263,46],[263,47,263,49],[262,8,262,9],[262,10,262,35],[262,36,262,38],[262,39,262,41],[262,42,262,43],[262,45,262,46],[260,45,260,46],[260,47,260,49],[261,8,261,9],[261,10,261,35],[261,36,261,38],[261,39,261,41],[261,42,261,43],[261,45,261,46],[261,47,261,49],[259,8,259,35],[259,36,259,38],[259,39,259,41],[259,42,259,46],[259,47,259,49],[260,8,260,9],[260,10,260,35],[260,36,260,38],[260,39,260,41],[260,42,260,43],[253,53,253,54],[254,1,254,2],[254,3,254,8],[254,9,254,27],[254,29,254,47],[254,48,254,49],[254,51,254,52],[254,53,254,54],[253,1,253,2],[253,3,253,8],[253,9,253,27],[253,29,253,47],[253,48,253,49],[253,51,253,52],[251,53,251,54],[252,1,252,2],[252,3,252,8],[252,9,252,27],[252,29,252,47],[252,48,252,49],[252,51,252,52],[252,53,252,54],[251,1,251,2],[251,3,251,8],[251,9,251,27],[251,29,251,47],[251,48,251,49],[251,51,251,52],[249,53,249,54],[250,1,250,2],[250,3,250,8],[250,9,250,27],[250,29,250,47],[250,48,250,49],[250,51,250,52],[250,53,250,54],[249,1,249,2],[249,3,249,8],[249,9,249,27],[249,29,249,47],[249,48,249,49],[249,51,249,52],[247,53,247,54],[248,1,248,2],[248,3,248,8],[248,9,248,27],[248,29,248,47],[248,48,248,49],[248,51,248,52],[248,53,248,54],[247,1,247,2],[247,3,247,8],[247,9,247,27],[247,29,247,47],[247,48,247,49],[247,51,247,52],[245,53,245,54],[246,1,246,2],[246,3,246,8],[246,9,246,27],[246,29,246,47],[246,48,246,49],[246,51,246,52],[246,53,246,54],[245,1,245,2],[245,3,245,8],[245,9,245,27],[245,29,245,47],[245,48,245,49],[245,51,245,52],[243,53,243,54],[244,1,244,2],[244,3,244,8],[244,9,244,27],[244,29,244,47],[244,48,244,49],[244,51,244,52]],"merged_total":1788,"flags":["merged_cut"]}
[]
["Vorrunde"]
["Gruppe A"]
[]
[]
[]
[]
[]
[]
[null,null,null,null,null,null,"Beginn:",{"$f":"Vorgaben!C4","v":"14:15:00"},null,null,null,null,"Uhr",null,null,null,null,null,null,"Spielzeit:",{"$f":"Vorgaben!C5","v":1},"1x","x",{"$f":"Vorgaben!C6","v":"00:09:00"},null,null,null,null,"min",null,null,null,null,null,null,null,"Pause:",{"$f":"Vorgaben!C7","v":"00:01:00"},null,null,null,null,"min"]
[]
[]
[null,"I. Teilnehmende Mannschaften"]
[]
[null,null,null,null,null,null,null,null,null,"Mannschaften"]
[null,null,null,null,null,null,null,null,null,"1.",null,{"$f":"'VR Gruppeneinteilung'!B3","v":"Gruppe A1"}]
[null,null,null,null,null,null,null,null,null,"2.",null,{"$f":"'VR Gruppeneinteilung'!B4","v":"Gruppe A2"}]
[null,null,null,null,null,null,null,null,null,"3.",null,{"$f":"'VR Gruppeneinteilung'!B5","v":"Gruppe A3"}]
[null,null,null,null,null,null,null,null,null,"4.",null,{"$f":"'VR Gruppeneinteilung'!B6","v":"Gruppe A4"}]
[null,null,null,null,null,null,null,null,null,"5.",null,{"$f":"'VR Gruppeneinteilung'!B7","v":"Gruppe A5"}]
[null,null,null,null,null,null,null,null,null,"6.",null,{"$f":"'VR Gruppeneinteilung'!B8","v":"Gruppe A6"}]
[null,null,null,null,null,null,null,null,null,"7.",null,{"$f":"'VR Gruppeneinteilung'!B9","v":"Gruppe A7"}]
[null,null,null,null,null,null,null,null,null,"8.",null,{"$f":"'VR Gruppeneinteilung'!B10","v":"Gruppe A8"}]
[]
[null,"II. Spielplan"]
[]
[null,"Nr.",null,"Beginn",null,null,null,null,null,null,"Spielpaarung",null,null,null,null,null,null,null,null,null,null,null,null,null,null,null,null,null,null,null,null,null,null,null,null,null,null,null,null,null,null,null,null,null,null,null,null,null,"Ergebnis",null,null,null,null,null,null,null,null,"Punkte"]
[{"$f":"VLOOKUP(B28,Vorgaben!B$10:C$16,2,FALSE)","v":{"$error":"#N/A"}},1,null,{"$f":"$H$10","v":"14:15:00"},null,null,null,null,null,{"$f":"L16","v":"Gruppe A1"},null,null,null,null,null,null,null,null,null,null,null,null,null,null,null,null,null,null,"-",{"$f":"L17","v":"Gruppe A2"},null,null,null,null,null,null,null,null,null,null,null,null,null,null,null,null,null,null,{"$f":"IF(ISBLANK('Gruppe A1'!AW28),\"\",'Gruppe A1'!AW28)","v":1},null,":",{"$f":"IF(ISBLANK('Gruppe A1'!AZ28),\"\",'Gruppe A1'!AZ28)","v":1},null,null,null,null,null,{"$f":"IF(AW28=\"\",0,IF(ISBLANK(AW28),\"0\",IF(AW28>AZ28,3,IF(AW28=AZ28,1,0))))","v":1},":",{"$f":"IF(AZ28=\"\",0,IF(ISBLANK(AZ28),\"0\",IF(AZ28>AW28,3,IF(AZ28=AW28,1,0))))","v":1}]
[{"$f":"VLOOKUP(B29,Vorgaben!B$10:C$16,2,FALSE)","v":{"$error":"#N/A"}},2,null,{"$f":"IF(ISNA(A29),D28+($U$10*$X$10+$AL$10),D28+($U$10*$X$10+$AL$10)+A29)","v":"14:25:00"},null,null,null,null,null,{"$f":"L18","v":"Gruppe A3"},null,null,null,null,null,null,null,null,null,null,null,null,null,null,null,null,null,null,"-",{"$f":"L19","v":"Gruppe A4"},null,null,null,null,null,null,null,null,null,null,null,null,null,null,null,null,null,null,{"$f":"IF(ISBLANK('Gruppe A1'!AW29),\"\",'Gruppe A1'!AW29)","v":1},null,":",{"$f":"IF(ISBLANK('Gruppe A1'!AZ29),\"\",'Gruppe A1'!AZ29)","v":1},null,null,null,null,null,1,":",{"$f":"IF(AZ29=\"\",0,IF(ISBLANK(AZ29),\"0\",IF(AZ29>AW29,3,IF(AZ29=AW29,1,0))))","v":1}]
[{"$f":"VLOOKUP(B29,Vorgaben!B$10:C$16,2,FALSE)","v":{"$error":"#N/A"}},3,null,{"$f":"IF(ISNA(A30),D29+($U$10*$X$10+$AL$10),D29+($U$10*$X$10+$AL$10)+A30)","v":"14:35:00"},null,null,null,null,null,{"$f":"L20","v":"Gruppe A5"},null,null,null,null,null,null,null,null,null,null,null,null,null,null,null,null,null,null,"-",{"$f":"L21","v":"Gruppe A6"},null,null,null,null,null,null,null,null,null,null,null,null,null,null,null,null,null,null,{"$f":"IF(ISBLANK('Gruppe A1'!AW30),\"\",'Gruppe A1'!AW30)","v":1},null,":",{"$f":"IF(ISBLANK('Gruppe A1'!AZ30),\"\",'Gruppe A1'!AZ30)","v":1},null,null,null,null,null,1,":",1,null,null,null,null,{"$f":"IF(BM32=\"Min. 3 Teams identisch.  HANDSORTIERUNG!\",BM32,IF(BM32=\"ACHTUNG! Direkter Vergleich war unentschieden!\",BM32,BM31))","v":""}]
[{"$f":"VLOOKUP(B30,Vorgaben!B$10:C$16,2,FALSE)","v":{"$error":"#N/A"}},4,null,{"$f":"IF(ISNA(A31),D30+($U$10*$X$10+$AL$10),D30+($U$10*$X$10+$AL$10)+A31)","v":"14:45:00"},null,null,null,null,null,{"$f":"L22","v":"Gruppe A7"},null,null,null,null,null,null,null,null,null,null,null,null,null,null,null,null,null,null,"-",{"$f":"L23","v":"Gruppe A8"},null,null,null,null,null,null,null,null,null,null,null,null,null,null,null,null,null,null,{"$f":"IF(ISBLANK('Gruppe A1'!AW31),\"\",'Gruppe A1'!AW31)","v":3},null,":",{"$f":"IF(ISBLANK('Gruppe A1'!AZ31),\"\",'Gruppe A1'!AZ31)","v":1},null,null,null,null,null,3,":",0,null,null,null,null,{"$f":"IF(AND(EXACT(BO34,BO35),EXACT(BP34,BP35),EXACT(BS34,BS35)),\"ACHTUNG: Direkter Vergleich erfolgreich durchlaufen!\",IF(AND(EXACT(BO35,BO36),EXACT(BP35,BP36),EXACT(BS35,BS36)),\"ACHTUNG: Direkter Vergleich erfolgreich durchlaufen!\",IF(AND(EXACT(BO36,BO37),EXACT(BP36,BP37),EXACT(BS36,BS37)),\"ACHTUNG: Direkter Vergleich erfolgreich durchlaufen!\",IF(AND(EXACT(BO37,BO38),EXACT(BP37,BP38),EXACT(BS37,BS38)),\"ACHTUNG: Direkter Vergleich erfolgreich durchlaufen!\",IF(AND(EXACT(BO38,BO39),EXACT(BP38,BP39),EXACT(BS38,BS39)),\"ACHTUNG: Direkter Vergleich erfolgreich durchlaufen!\",IF(AND(EXACT(BO39,BO40),EXACT(BP39,BP40),EXACT(BS39,BS40)),\"ACHTUNG: Direkter Vergleich erfolgreich durchlaufen!\",IF(AND(EXACT(BO40,BO41),EXACT(BP40,BP41),EXACT(BS40,BS41)),\"ACHTUNG: Direkter Vergleich erfolgreich durchlaufen!\",\"\")))))))","v":""}]
[{"$f":"VLOOKUP(B31,Vorgaben!B$10:C$16,2,FALSE)","v":{"$error":"#N/A"}},5,null,{"$f":"IF(ISNA(A32),D31+($U$10*$X$10+$AL$10),D31+($U$10*$X$10+$AL$10)+A32)","v":"14:55:00"},null,null,null,null,null,{"$f":"L19","v":"Gruppe A4"},null,null,null,null,null,null,null,null,null,null,null,null,null,null,null,null,null,null,"-",{"$f":"L16","v":"Gruppe A1"},null,null,null,null,null,null,null,null,null,null,null,null,null,null,null,null,null,null,{"$f":"IF(ISBLANK('Gruppe A1'!AW32),\"\",'Gruppe A1'!AW32)","v":1},null,":",{"$f":"IF(ISBLANK('Gruppe A1'!AZ32),\"\",'Gruppe A1'!AZ32)","v":1},null,null,null,null,null,1,":",1,null,null,null,null,{"$f":"IF(OR(CC34=3,CC35=3,CC36=3,CC37=3,CC38=3,CC39=3,CC40=3,CC41=3),\"Min. 3 Teams identisch.  HANDSORTIERUNG!\",IF(OR(CB34=\"ACHTUNG! Direkter Vergleich war unentschieden!\",CB35=\"ACHTUNG! Direkter Vergleich war unentschieden!\",CB36=\"ACHTUNG! Direkter Vergleich war unentschieden!\",CB37=\"ACHTUNG! Direkter Vergleich war unentschieden!\",CB38=\"ACHTUNG! Direkter Vergleich war unentschieden!\",CB39=\"ACHTUNG! Direkter Vergleich war unentschieden!\",CB40=\"ACHTUNG! Direkter Vergleich war unentschieden!\",CB41=\"ACHTUNG! Direkter Vergleich war unentschieden!\"),\"ACHTUNG! Direkter Vergleich war unentschieden!\",\"\"))","v":""}]
[{"$f":"VLOOKUP(B32,Vorgaben!B$10:C$16,2,FALSE)","v":{"$error":"#N/A"}},6,null,"15:05:00",null,null,null,null,null,{"$f":"L17","v":"Gruppe A2"},null,null,null,null,null,null,null,null,null,null,null,null,null,null,null,null,null,null,"-",{"$f":"L18","v":"Gruppe A3"},null,null,null,null,null,null,null,null,null,null,null,null,null,null,null,null,null,null,{"$f":"IF(ISBLANK('Gruppe A1'!AW33),\"\",'Gruppe A1'!AW33)","v":1},null,":",{"$f":"IF(ISBLANK('Gruppe A1'!AZ33),\"\",'Gruppe A1'!AZ33)","v":1},null,null,null,null,null,1,":",1]
[{"$f":"VLOOKUP(B33,Vorgaben!B$10:C$16,2,FALSE)","v":{"$error":"#N/A"}},7,null,"15:15:00",null,null,null,null,null,{"$f":"L23","v":"Gruppe A8"},null,null,null,null,null,null,null,null,null,null,null,null,null,null,null,null,null,null,"-",{"$f":"L20","v":"Gruppe A5"},null,null,null,null,null,null,null,null,null,null,null,null,null,null,null,null,null,null,{"$f":"IF(ISBLANK('Gruppe A1'!AW34),\"\",'Gruppe A1'!AW34)","v":1},null,":",{"$f":"IF(ISBLANK('Gruppe A1'!AZ34),\"\",'Gruppe A1'!AZ34)","v":1},null,null,null,null,null,1,":",1,null,null,null,{"$f":"INDEX(Vorgaben!B$19:D$26,MATCH($BM34,Vorgaben!$B$19:$B$26,0),3)","v":0},{"$f":"'Gruppe A1'!$BM$35","v":"Gruppe A7"},{"$f":"'Gruppe A1'!$BN$35","v":7},{"$f":"'Gruppe A1'!$BO$35","v":12},{"$f":"'Gruppe A1'!$BP$35","v":32},{"$f":"'Gruppe A1'!$BQ$35","v":":"},{"$f":"'Gruppe A1'!$BR$35","v":12},{"$f":"'Gruppe A1'!$BS$35","v":20},{"$f":"BV34","v":0},null,{"$f":"IF(BX34>BY35,10,IF(BX34<BY35,-10,0))","v":0},null,{"$f":"IF(ISNA(INDEX(BF$28:BF$55,MATCH(BM34&BM35,J$28:J$55&AD$28:AD$55,0))),INDEX(BH$28:BH$55,MATCH(BM35&BM34,J$28:J$55&AD$28:AD$55,0)),INDEX(BF$28:BF$55,MATCH(BM34&BM35,J$28:J$55&AD$28:AD$55,0)))","v":1},null,{"$f":"IF(AND(EXACT(BO34,BO35),EXACT(BP34,BP35),EXACT(BS34,BS35),EXACT(BX34,BY35)),\"ACHTUNG! Direkter Vergleich war unentschieden!\",IF(AND(EXACT(BO34,BO35),EXACT(BP34,BP35),EXACT(BS34,BS35)),1,2))","v":2},{"$f":"IF(AND(EXACT(BO33,BO34),EXACT(BP33,BP34),EXACT(BS33,BS34),EXACT(BX34,BY33)),\"ACHTUNG! Direkter Vergleich war unentschieden!\",\"\")","v":""},{"$f":"IF(OR(BZ34=\"ACHTUNG! Direkter Vergleich war unentschieden!\",CA34=\"ACHTUNG! Direkter Vergleich war unentschieden!\"),\"ACHTUNG! Direkter Vergleich war unentschieden!\",\"\")","v":""},{"$f":"IF(OR(AND(EXACT(BO34,BO35),EXACT(BP34,BP35),EXACT(BS34,BS35),EXACT(BO34,BO36),EXACT(BP34,BP36),EXACT(BS34,BS36)),AND(EXACT(BO34,BO35),EXACT(BP34,BP35),EXACT(BS34,BS35),EXACT(BO34,BO33),EXACT(BP34,BP33),EXACT(BS34,BS33))*AND(EXACT(BO34,BO32),EXACT(BP34,BP32),EXACT(BS34,BS32),EXACT(BO34,BO33),EXACT(BP34,BP33),EXACT(BS34,BS33))),3,1)","v":1},null,null,null,null,null,null,null,null,null,null,null,null,null,null,null,null,null,null,null,null,null,null,null,null,null,null,null,null,null,null,null,null,null,null,null,null,null,null,null,null,null,null,null,null,null,null,null,null,null,null,null,null,null,null,null,null,null,null,null,null,null,null,null,null,null,null,null,null,null,null,null,null,null,null,null,null,null,null,{"$f":"IF(AND(EXACT(BO34,BO35),EXACT(BP34,BP35),EXACT(BS34,BS35),EXACT(BY34,BZ35)),\"ACHTUNG! Direkter Vergleich war unentschieden!\",\"\")","v":""}]
[{"$f":"VLOOKUP(B34,Vorgaben!B$10:C$16,2,FALSE)","v":{"$error":"#N/A"}},8,null,"15:25:00",null,null,null,null,null,{"$f":"L21","v":"Gruppe A6"},null,null,null,null,null,null,null,null,null,null,null,null,null,null,null,null,null,null,"-",{"$f":"L22","v":"Gruppe A7"},null,null,null,null,null,null,null,null,null,null,null,null,null,null,null,null,null,null,{"$f":"IF(ISBLANK('Gruppe A1'!AW35),\"\",'Gruppe A1'!AW35)","v":1},null,":",{"$f":"IF(ISBLANK('Gruppe A1'!AZ35),\"\",'Gruppe A1'!AZ35)","v":1},null,null,null,null,null,1,":",1,null,null,null,{"$f":"INDEX(Vorgaben!B$19:D$26,MATCH($BM35,Vorgaben!$B$19:$B$26,0),3)","v":0},{"$f":"'Gruppe A1'!$BM$39","v":"Gruppe A4"},{"$f":"'Gruppe A1'!$BN$39","v":7},{"$f":"'Gruppe A1'!$BO$39","v":11},{"$f":"'Gruppe A1'!$BP$39","v":9},{"$f":"'Gruppe A1'!$BQ$39","v":":"},{"$f":"'Gruppe A1'!$BR$39","v":6},{"$f":"'Gruppe A1'!$BS$39","v":3},{"$f":"BV35","v":0},{"$f":"BW35","v":0},{"$f":"IF(BX34<BY35,10,IF(BX34>BY35,-10,0))","v":0},{"$f":"IF(BX35>BY36,10,IF(BX35<BY36,-10,0))","v":0},{"$f":"IF(ISNA(INDEX(BF$28:BF$55,MATCH(BM35&BM36,J$28:J$55&AD$28:AD$55,0))),INDEX(BH$28:BH$55,MATCH(BM36&BM35,J$28:J$55&AD$28:AD$55,0)),INDEX(BF$28:BF$55,MATCH(BM35&BM36,J$28:J$55&AD$28:AD$55,0)))","v":1},{"$f":"IF(ISNA(INDEX(BF$28:BF$55,MATCH(BM35&BM34,J$28:J$55&AD$28:AD$55,0))),INDEX(BH$28:BH$55,MATCH(BM34&BM35,J$28:J$55&AD$28:AD$55,0)),INDEX(BF$28:BF$55,MATCH(BM35&BM34,J$28:J$55&AD$28:AD$55,0)))","v":1},2,{"$f":"IF(AND(EXACT(BO34,BO35),EXACT(BP34,BP35),EXACT(BS34,BS35),EXACT(BY35,BX34)),\"ACHTUNG! Direkter Vergleich war unentschieden!\",IF(AND(EXACT(BO34,BO35),EXACT(BP34,BP35),EXACT(BS34,BS35)),1,2))","v":2},"",1]
[{"$f":"VLOOKUP(B35,Vorgaben!B$10:C$16,2,FALSE)","v":{"$error":"#N/A"}},9,null,"15:35:00",null,null,null,null,null,{"$f":"L20","v":"Gruppe A5"},null,null,null,null,null,null,null,null,null,null,null,null,null,null,null,null,null,null,"-",{"$f":"L19","v":"Gruppe A4"},null,null,null,null,null,null,null,null,null,null,null,null,null,null,null,null,null,null,{"$f":"IF(ISBLANK('Gruppe A1'!AW36),\"\",'Gruppe A1'!AW36)","v":1},null,":",{"$f":"IF(ISBLANK('Gruppe A1'!AZ36),\"\",'Gruppe A1'!AZ36)","v":2},null,null,null,null,null,0,":",3,null,null,null,{"$f":"INDEX(Vorgaben!B$19:D$26,MATCH($BM36,Vorgaben!$B$19:$B$26,0),3)","v":0},{"$f":"'Gruppe A1'!$BM$37","v":"Gruppe A2"},{"$f":"'Gruppe A1'!$BN$37","v":7},{"$f":"'Gruppe A1'!$BO$37","v":9},{"$f":"'Gruppe A1'!$BP$37","v":7},{"$f":"'Gruppe A1'!$BQ$37","v":":"},{"$f":"'Gruppe A1'!$BR$37","v":6},{"$f":"'Gruppe A1'!$BS$37","v":1},{"$f":"BV36","v":0},{"$f":"BW36","v":0},{"$f":"IF(BX36>BY37,10,IF(BX36<BY37,-10,0))","v":0},{"$f":"IF(BX35<BY36,10,IF(BX35>BY36,-10,0))","v":0},{"$f":"IF(ISNA(INDEX(BF$28:BF$55,MATCH(BM36&BM37,J$28:J$55&AD$28:AD$55,0))),INDEX(BH$28:BH$55,MATCH(BM37&BM36,J$28:J$55&AD$28:AD$55,0)),INDEX(BF$28:BF$55,MATCH(BM36&BM37,J$28:J$55&AD$28:AD$55,0)))","v":1},{"$f":"IF(ISNA(INDEX(BF$28:BF$55,MATCH(BM36&BM35,J$28:J$55&AD$28:AD$55,0))),INDEX(BH$28:BH$55,MATCH(BM35&BM36,J$28:J$55&AD$28:AD$55,0)),INDEX(BF$28:BF$55,MATCH(BM36&BM35,J$28:J$55&AD$28:AD$55,0)))","v":1},2,2,"",{"$f":"IF(OR(AND(EXACT(BO36,BO37),EXACT(BP36,BP37),EXACT(BS36,BS37),EXACT(BO36,BO38),EXACT(BP36,BP38),EXACT(BS36,BS38)),AND(EXACT(BO36,BO37),EXACT(BP36,BP37),EXACT(BS36,BS37),EXACT(BO36,BO35),EXACT(BP36,BP35),EXACT(BS36,BS35))*AND(EXACT(BO36,BO34),EXACT(BP36,BP34),EXACT(BS36,BS34),EXACT(BO36,BO35),EXACT(BP36,BP35),EXACT(BS36,BS35))),3,1)","v":1}]
[{"$f":"VLOOKUP(B36,Vorgaben!B$10:C$16,2,FALSE)","v":{"$error":"#N/A"}},10,null,"15:45:00",null,null,null,null,null,{"$f":"L16","v":"Gruppe A1"},null,null,null,null,null,null,null,null,null,null,null,null,null,null,null,null,null,null,"-",{"$f":"L18","v":"Gruppe A3"},null,null,null,null,null,null,null,null,null,null,null,null,null,null,null,null,null,null,{"$f":"IF(ISBLANK('Gruppe A1'!AW37),\"\",'Gruppe A1'!AW37)","v":1},null,":",{"$f":"IF(ISBLANK('Gruppe A1'!AZ37),\"\",'Gruppe A1'!AZ37)","v":1},null,null,null,null,null,1,":",1,null,null,null,{"$f":"INDEX(Vorgaben!B$19:D$26,MATCH($BM37,Vorgaben!$B$19:$B$26,0),3)","v":0},{"$f":"'Gruppe A1'!$BM$41","v":"Gruppe A6"},{"$f":"'Gruppe A1'!$BN$41","v":7},{"$f":"'Gruppe A1'!$BO$41","v":8},{"$f":"'Gruppe A1'!$BP$41","v":7},{"$f":"'Gruppe A1'!$BQ$41","v":":"},{"$f":"'Gruppe A1'!$BR$41","v":7},{"$f":"'Gruppe A1'!$BS$41","v":0},{"$f":"BV37","v":0},{"$f":"BW37","v":0},{"$f":"IF(BX36<BY37,10,IF(BX36>BY37,-10,0))","v":0},{"$f":"IF(BX36<BY37,10,IF(BX36>BY37,-10,0))","v":0},{"$f":"IF(ISNA(INDEX(BF$28:BF$55,MATCH(BM37&BM38,J$28:J$55&AD$28:AD$55,0))),INDEX(BH$28:BH$55,MATCH(BM38&BM37,J$28:J$55&AD$28:AD$55,0)),INDEX(BF$28:BF$55,MATCH(BM37&BM38,J$28:J$55&AD$28:AD$55,0)))","v":1},{"$f":"IF(ISNA(INDEX(BF$28:BF$55,MATCH(BM37&BM36,J$28:J$55&AD$28:AD$55,0))),INDEX(BH$28:BH$55,MATCH(BM36&BM37,J$28:J$55&AD$28:AD$55,0)),INDEX(BF$28:BF$55,MATCH(BM37&BM36,J$28:J$55&AD$28:AD$55,0)))","v":1},2,2,"",{"$f":"IF(OR(AND(EXACT(BO37,BO38),EXACT(BP37,BP38),EXACT(BS37,BS38),EXACT(BO37,BO39),EXACT(BP37,BP39),EXACT(BS37,BS39)),AND(EXACT(BO37,BO38),EXACT(BP37,BP38),EXACT(BS37,BS38),EXACT(BO37,BO36),EXACT(BP37,BP36),EXACT(BS37,BS36))*AND(EXACT(BO37,BO35),EXACT(BP37,BP35),EXACT(BS37,BS35),EXACT(BO37,BO36),EXACT(BP37,BP36),EXACT(BS37,BS36))),3,1)","v":1}]
[{"$f":"VLOOKUP(B37,Vorgaben!B$10:C$16,2,FALSE)","v":{"$error":"#N/A"}},11,null,"15:55:00",null,null,null,null,null,{"$f":"L17","v":"Gruppe A2"},null,null,null,null,null,null,null,null,null,null,null,null,null,null,null,null,null,null,"-",{"$f":"L22","v":"Gruppe A7"},null,null,null,null,null,null,null,null,null,null,null,null,null,null,null,null,null,null,{"$f":"IF(ISBLANK('Gruppe A1'!AW38),\"\",'Gruppe A1'!AW38)","v":2},null,":",{"$f":"IF(ISBLANK('Gruppe A1'!AZ38),\"\",'Gruppe A1'!AZ38)","v":1},null,null,null,null,null,3,":",0,null,null,null,{"$f":"INDEX(Vorgaben!B$19:D$26,MATCH($BM38,Vorgaben!$B$19:$B$26,0),3)","v":0},{"$f":"'Gruppe A1'!$BM$36","v":"Gruppe A3"},{"$f":"'Gruppe A1'!$BN$36","v":7},{"$f":"'Gruppe A1'!$BO$36","v":7},{"$f":"'Gruppe A1'!$BP$36","v":7},{"$f":"'Gruppe A1'!$BQ$36","v":":"},{"$f":"'Gruppe A1'!$BR$36","v":7},{"$f":"'Gruppe A1'!$BS$36","v":0},{"$f":"BV38","v":0},0,{"$f":"IF(BX37<BY38,10,IF(BX37>BY38,-10,0))","v":0},{"$f":"IF(BX38>BY39,10,IF(BX38<BY39,-10,0))","v":0},{"$f":"IF(ISNA(INDEX(BF$28:BF$55,MATCH(BM38&BM39,J$28:J$55&AD$28:AD$55,0))),INDEX(BH$28:BH$55,MATCH(BM39&BM38,J$28:J$55&AD$28:AD$55,0)),INDEX(BF$28:BF$55,MATCH(BM38&BM39,J$28:J$55&AD$28:AD$55,0)))","v":1},{"$f":"IF(ISNA(INDEX(BF$28:BF$55,MATCH(BM38&BM37,J$28:J$55&AD$28:AD$55,0))),INDEX(BH$28:BH$55,MATCH(BM37&BM38,J$28:J$55&AD$28:AD$55,0)),INDEX(BF$28:BF$55,MATCH(BM38&BM37,J$28:J$55&AD$28:AD$55,0)))","v":1},2,2,"",1]
[{"$f":"VLOOKUP(B38,Vorgaben!B$10:C$16,2,FALSE)","v":{"$error":"#N/A"}},12,null,"16:05:00",null,null,null,null,null,{"$f":"L21","v":"Gruppe A6"},null,null,null,null,null,null,null,null,null,null,null,null,null,null,null,null,null,null,"-",{"$f":"L23","v":"Gruppe A8"},null,null,null,null,null,null,null,null,null,null,null,null,null,null,null,null,null,null,{"$f":"IF(ISBLANK('Gruppe A1'!AW39),\"\",'Gruppe A1'!AW39)","v":1},null,":",{"$f":"IF(ISBLANK('Gruppe A1'!AZ39),\"\",'Gruppe A1'!AZ39)","v":1},null,null,null,null,null,1,":",1,null,null,null,{"$f":"INDEX(Vorgaben!B$19:D$26,MATCH($BM39,Vorgaben!$B$19:$B$26,0),3)","v":0},{"$f":"'Gruppe A1'!$BM$40","v":"Gruppe A8"},{"$f":"'Gruppe A1'!$BN$40","v":7},{"$f":"'Gruppe A1'!$BO$40","v":6},{"$f":"'Gruppe A1'!$BP$40","v":7},{"$f":"'Gruppe A1'!$BQ$40","v":":"},{"$f":"'Gruppe A1'!$BR$40","v":9},{"$f":"'Gruppe A1'!$BS$40","v":-2},0,0,{"$f":"IF(BX38<BY39,10,IF(BX38>BY39,-10,0))","v":0},{"$f":"IF(BX38<BY39,10,IF(BX38>BY39,-10,0))","v":0},{"$f":"IF(ISNA(INDEX(BF$28:BF$55,MATCH(BM39&BM40,J$28:J$55&AD$28:AD$55,0))),INDEX(BH$28:BH$55,MATCH(BM40&BM39,J$28:J$55&AD$28:AD$55,0)),INDEX(BF$28:BF$55,MATCH(BM39&BM40,J$28:J$55&AD$28:AD$55,0)))","v":1},{"$f":"IF(ISNA(INDEX(BF$28:BF$55,MATCH(BM39&BM38,J$28:J$55&AD$28:AD$55,0))),INDEX(BH$28:BH$55,MATCH(BM38&BM39,J$28:J$55&AD$28:AD$55,0)),INDEX(BF$28:BF$55,MATCH(BM39&BM38,J$28:J$55&AD$28:AD$55,0)))","v":1},2,2,"",1]
[{"$f":"VLOOKUP(B39,Vorgaben!B$10:C$16,2,FALSE)","v":{"$error":"#N/A"}},13,null,"16:15:00",null,null,null,null,null,{"$f":"L19","v":"Gruppe A4"},null,null,null,null,null,null,null,null,null,null,null,null,null,null,null,null,null,null,"-",{"$f":"L17","v":"Gruppe A2"},null,null,null,null,null,null,null,null,null,null,null,null,null,null,null,null,null,null,{"$f":"IF(ISBLANK('Gruppe A1'!AW40),\"\",'Gruppe A1'!AW40)","v":1},null,":",{"$f":"IF(ISBLANK('Gruppe A1'!AZ40),\"\",'Gruppe A1'!AZ40)","v":1},null,null,null,null,null,1,":",1,null,null,null,{"$f":"INDEX(Vorgaben!B$19:D$26,MATCH($BM40,Vorgaben!$B$19:$B$26,0),3)","v":0},{"$f":"'Gruppe A1'!$BM$34","v":"Gruppe A5"},{"$f":"'Gruppe A1'!$BN$34","v":7},{"$f":"'Gruppe A1'!$BO$34","v":5},{"$f":"'Gruppe A1'!$BP$34","v":7},{"$f":"'Gruppe A1'!$BQ$34","v":":"},{"$f":"'Gruppe A1'!$BR$34","v":10},{"$f":"'Gruppe A1'!$BS$34","v":-3},0,0,{"$f":"IF(BX39<BY40,10,IF(BX39>BY40,-10,0))","v":0},{"$f":"IF(BX39<BY40,10,IF(BX39>BY40,-10,0))","v":0},{"$f":"IF(ISNA(INDEX(BF$28:BF$55,MATCH(BM40&BM41,J$28:J$55&AD$28:AD$55,0))),INDEX(BH$28:BH$55,MATCH(BM41&BM40,J$28:J$55&AD$28:AD$55,0)),INDEX(BF$28:BF$55,MATCH(BM40&BM41,J$28:J$55&AD$28:AD$55,0)))","v":1},{"$f":"IF(ISNA(INDEX(BF$28:BF$55,MATCH(BM40&BM39,J$28:J$55&AD$28:AD$55,0))),INDEX(BH$28:BH$55,MATCH(BM39&BM40,J$28:J$55&AD$28:AD$55,0)),INDEX(BF$28:BF$55,MATCH(BM40&BM39,J$28:J$55&AD$28:AD$55,0)))","v":1},2,2,"",1]
[{"$f":"VLOOKUP(B40,Vorgaben!B$10:C$16,2,FALSE)","v":{"$error":"#N/A"}},14,null,"16:25:00",null,null,null,null,null,{"$f":"L22","v":"Gruppe A7"},null,null,null,null,null,null,null,null,null,null,null,null,null,null,null,null,null,null,"-",{"$f":"L20","v":"Gruppe A5"},null,null,null,null,null,null,null,null,null,null,null,null,null,null,null,null,null,null,{"$f":"IF(ISBLANK('Gruppe A1'!AW41),\"\",'Gruppe A1'!AW41)","v":3},null,":",{"$f":"IF(ISBLANK('Gruppe A1'!AZ41),\"\",'Gruppe A1'!AZ41)","v":1},null,null,null,null,null,3,":",0,null,null,null,{"$f":"INDEX(Vorgaben!B$19:D$26,MATCH($BM41,Vorgaben!$B$19:$B$26,0),3)","v":0},{"$f":"'Gruppe A1'!$BM$38","v":"Gruppe A1"},{"$f":"'Gruppe A1'!$BN$38","v":7},{"$f":"'Gruppe A1'!$BO$38","v":5},{"$f":"'Gruppe A1'!$BP$38","v":11},{"$f":"'Gruppe A1'!$BQ$38","v":":"},{"$f":"'Gruppe A1'!$BR$38","v":30},{"$f":"'Gruppe A1'!$BS$38","v":-19},0,0,{"$f":"IF(BX40<BY41,10,IF(BX40>BY41,-10,0))","v":0},null,null,{"$f":"IF(ISNA(INDEX(BF$28:BF$55,MATCH(BM41&BM40,J$28:J$55&AD$28:AD$55,0))),INDEX(BH$28:BH$55,MATCH(BM40&BM41,J$28:J$55&AD$28:AD$55,0)),INDEX(BF$28:BF$55,MATCH(BM41&BM40,J$28:J$55&AD$28:AD$55,0)))","v":1},{"$f":"IF(AND(EXACT(BO41,BO42),EXACT(BP41,BP42),EXACT(BS41,BS42),EXACT(BX41,BY42)),\"ACHTUNG! Direkter Vergleich war unentschieden!\",\"\")","v":""},2,"",1]
[{"$f":"VLOOKUP(B41,Vorgaben!B$10:C$16,2,FALSE)","v":{"$error":"#N/A"}},15,null,"16:35:00",null,null,null,null,null,{"$f":"L23","v":"Gruppe A8"},null,null,null,null,null,null,null,null,null,null,null,null,null,null,null,null,null,null,"-",{"$f":"L16","v":"Gruppe A1"},null,null,null,null,null,null,null,null,null,null,null,null,null,null,null,null,null,null,{"$f":"IF(ISBLANK('Gruppe A1'!AW42),\"\",'Gruppe A1'!AW42)","v":1},null,":",{"$f":"IF(ISBLANK('Gruppe A1'!AZ42),\"\",'Gruppe A1'!AZ42)","v":1},null,null,null,null,null,1,":",1]
[{"$f":"VLOOKUP(B42,Vorgaben!B$10:C$16,2,FALSE)","v":{"$error":"#N/A"}},16,null,"16:45:00",null,null,null,null,null,{"$f":"L18","v":"Gruppe A3"},null,null,null,null,null,null,null,null,null,null,null,null,null,null,null,null,null,null,"-",{"$f":"L21","v":"Gruppe A6"},null,null,null,null,null,null,null,null,null,null,null,null,null,null,null,null,null,null,{"$f":"IF(ISBLANK('Gruppe A1'!AW43),\"\",'Gruppe A1'!AW43)","v":1},null,":",{"$f":"IF(ISBLANK('Gruppe A1'!AZ43),\"\",'Gruppe A1'!AZ43)","v":1},null,null,null,null,null,1,":",1]
[{"$f":"VLOOKUP(B43,Vorgaben!B$10:C$16,2,FALSE)","v":{"$error":"#N/A"}},17,null,"16:55:00",null,null,null,null,null,{"$f":"L19","v":"Gruppe A4"},null,null,null,null,null,null,null,null,null,null,null,null,null,null,null,null,null,null,"-",{"$f":"L22","v":"Gruppe A7"},null,null,null,null,null,null,null,null,null,null,null,null,null,null,null,null,null,null,{"$f":"IF(ISBLANK('Gruppe A1'!AW44),\"\",'Gruppe A1'!AW44)","v":1},null,":",{"$f":"IF(ISBLANK('Gruppe A1'!AZ44),\"\",'Gruppe A1'!AZ44)","v":1},null,null,null,null,null,1,":",1]
[{"$f":"VLOOKUP(B44,Vorgaben!B$10:C$16,2,FALSE)","v":{"$error":"#N/A"}},18,null,"17:05:00",null,null,null,null,null,{"$f":"L17","v":"Gruppe A2"},null,null,null,null,null,null,null,null,null,null,null,null,null,null,null,null,null,null,"-",{"$f":"L23","v":"Gruppe A8"},null,null,null,null,null,null,null,null,null,null,null,null,null,null,null,null,null,null,{"$f":"IF(ISBLANK('Gruppe A1'!AW45),\"\",'Gruppe A1'!AW45)","v":1},null,":",{"$f":"IF(ISBLANK('Gruppe A1'!AZ45),\"\",'Gruppe A1'!AZ45)","v":1},null,null,null,null,null,1,":",1]
[{"$f":"VLOOKUP(B45,Vorgaben!B$10:C$16,2,FALSE)","v":{"$error":"#N/A"}},19,null,"17:15:00",null,null,null,null,null,{"$f":"L16","v":"Gruppe A1"},null,null,null,null,null,null,null,null,null,null,null,null,null,null,null,null,null,null,"-",{"$f":"L21","v":"Gruppe A6"},null,null,null,null,null,null,null,null,null,null,null,null,null,null,null,null,null,null,{"$f":"IF(ISBLANK('Gruppe A1'!AW46),\"\",'Gruppe A1'!AW46)","v":1},null,":",{"$f":"IF(ISBLANK('Gruppe A1'!AZ46),\"\",'Gruppe A1'!AZ46)","v":3},null,null,null,null,null,0,":",3]
[{"$f":"VLOOKUP(B46,Vorgaben!B$10:C$16,2,FALSE)","v":{"$error":"#N/A"}},20,null,"17:25:00",null,null,null,null,null,{"$f":"L20","v":"Gruppe A5"},null,null,null,null,null,null,null,null,null,null,null,null,null,null,null,null,null,null,"-",{"$f":"L18","v":"Gruppe A3"},null,null,null,null,null,null,null,null,null,null,null,null,null,null,null,null,null,null,{"$f":"IF(ISBLANK('Gruppe A1'!AW47),\"\",'Gruppe A1'!AW47)","v":1},null,":",{"$f":"IF(ISBLANK('Gruppe A1'!AZ47),\"\",'Gruppe A1'!AZ47)","v":1},null,null,null,null,null,1,":",1]
[{"$f":"VLOOKUP(B47,Vorgaben!B$10:C$16,2,FALSE)","v":{"$error":"#N/A"}},21,null,"17:35:00",null,null,null,null,null,{"$f":"L23","v":"Gruppe A8"},null,null,null,null,null,null,null,null,null,null,null,null,null,null,null,null,null,null,"-",{"$f":"L19","v":"Gruppe A4"},null,null,null,null,null,null,null,null,null,null,null,null,null,null,null,null,null,null,{"$f":"IF(ISBLANK('Gruppe A1'!AW48),\"\",'Gruppe A1'!AW48)","v":1},null,":",{"$f":"IF(ISBLANK('Gruppe A1'!AZ48),\"\",'Gruppe A1'!AZ48)","v":1},null,null,null,null,null,1,":",1]
[{"$f":"VLOOKUP(B48,Vorgaben!B$10:C$16,2,FALSE)","v":{"$error":"#N/A"}},22,null,"17:45:00",null,null,null,null,null,{"$f":"L21","v":"Gruppe A6"},null,null,null,null,null,null,null,null,null,null,null,null,null,null,null,null,null,null,"-",{"$f":"L17","v":"Gruppe A2"},null,null,null,null,null,null,null,null,null,null,null,null,null,null,null,null,null,null,{"$f":"IF(ISBLANK('Gruppe A1'!AW49),\"\",'Gruppe A1'!AW49)","v":0},null,":",{"$f":"IF(ISBLANK('Gruppe A1'!AZ49),\"\",'Gruppe A1'!AZ49)","v":0},null,null,null,null,null,1,":",1]
[{"$f":"VLOOKUP(B49,Vorgaben!B$10:C$16,2,FALSE)","v":{"$error":"#N/A"}},23,null,"17:55:00",null,null,null,null,null,{"$f":"L22","v":"Gruppe A7"},null,null,null,null,null,null,null,null,null,null,null,null,null,null,null,null,null,null,"-",{"$f":"L18","v":"Gruppe A3"},null,null,null,null,null,null,null,null,null,null,null,null,null,null,null,null,null,null,{"$f":"IF(ISBLANK('Gruppe A1'!AW50),\"\",'Gruppe A1'!AW50)","v":1},null,":",{"$f":"IF(ISBLANK('Gruppe A1'!AZ50),\"\",'Gruppe A1'!AZ50)","v":1},null,null,null,null,null,1,":",1]
[{"$f":"VLOOKUP(B50,Vorgaben!B$10:C$16,2,FALSE)","v":{"$error":"#N/A"}},24,null,"18:05:00",null,null,null,null,null,{"$f":"L20","v":"Gruppe A5"},null,null,null,null,null,null,null,null,null,null,null,null,null,null,null,null,null,null,"-",{"$f":"L16","v":"Gruppe A1"},null,null,null,null,null,null,null,null,null,null,null,null,null,null,null,null,null,null,{"$f":"IF(ISBLANK('Gruppe A1'!AW51),\"\",'Gruppe A1'!AW51)","v":1},null,":",{"$f":"IF(ISBLANK('Gruppe A1'!AZ51),\"\",'Gruppe A1'!AZ51)","v":1},null,null,null,null,null,1,":",1]
[{"$f":"VLOOKUP(B51,Vorgaben!B$10:C$16,2,FALSE)","v":{"$error":"#N/A"}},25,null,"18:15:00",null,null,null,null,null,{"$f":"L19","v":"Gruppe A4"},null,null,null,null,null,null,null,null,null,null,null,null,null,null,null,null,null,null,"-",{"$f":"L21","v":"Gruppe A6"},null,null,null,null,null,null,null,null,null,null,null,null,null,null,null,null,null,null,{"$f":"IF(ISBLANK('Gruppe A1'!AW52),\"\",'Gruppe A1'!AW52)","v":2},null,":",{"$f":"IF(ISBLANK('Gruppe A1'!AZ52),\"\",'Gruppe A1'!AZ52)","v":0},null,null,null,null,null,3,":",0]
[{"$f":"VLOOKUP(B52,Vorgaben!B$10:C$16,2,FALSE)","v":{"$error":"#N/A"}},26,null,"18:25:00",null,null,null,null,null,{"$f":"L18","v":"Gruppe A3"},null,null,null,null,null,null,null,null,null,null,null,null,null,null,null,null,null,null,"-",{"$f":"L23","v":"Gruppe A8"},null,null,null,null,null,null,null,null,null,null,null,null,null,null,null,null,null,null,{"$f":"IF(ISBLANK('Gruppe A1'!AW53),\"\",'Gruppe A1'!AW53)","v":1},null,":",{"$f":"IF(ISBLANK('Gruppe A1'!AZ53),\"\",'Gruppe A1'!AZ53)","v":1},null,null,null,null,null,1,":",1]
[{"$f":"VLOOKUP(B53,Vorgaben!B$10:C$16,2,FALSE)","v":{"$error":"#N/A"}},27,null,"18:35:00",null,null,null,null,null,{"$f":"L17","v":"Gruppe A2"},null,null,null,null,null,null,null,null,null,null,null,null,null,null,null,null,null,null,"-",{"$f":"L20","v":"Gruppe A5"},null,null,null,null,null,null,null,null,null,null,null,null,null,null,null,null,null,null,{"$f":"IF(ISBLANK('Gruppe A1'!AW54),\"\",'Gruppe A1'!AW54)","v":1},null,":",{"$f":"IF(ISBLANK('Gruppe A1'!AZ54),\"\",'Gruppe A1'!AZ54)","v":1},null,null,null,null,null,1,":",1]
[{"$f":"VLOOKUP(B54,Vorgaben!B$10:C$16,2,FALSE)","v":{"$error":"#N/A"}},28,null,"18:45:00",null,null,null,null,null,{"$f":"L16","v":"Gruppe A1"},null,null,null,null,null,null,null,null,null,null,null,null,null,null,null,null,null,null,"-",{"$f":"L22","v":"Gruppe A7"},null,null,null,null,null,null,null,null,null,null,null,null,null,null,null,null,null,null,{"$f":"IF(ISBLANK('Gruppe A1'!AW55),\"\",'Gruppe A1'!AW55)","v":5},null,":",{"$f":"IF(ISBLANK('Gruppe A1'!AZ55),\"\",'Gruppe A1'!AZ55)","v":22},null,null,null,null,null,{"$f":"IF(AW55=\"\",0,IF(ISBLANK(AW55),\"0\",IF(AW55>AZ55,3,IF(AW55=AZ55,1,0))))","v":0},":",3]
[]
[]
[null,"III. Abschlußtabelle"]
[]
[null,null,null,null,null,null,null,null,"Mannschaften",null,null,null,null,null,null,null,null,null,null,null,null,null,null,null,null,null,null,null,null,null,null,null,null,null,null,null,"Sp.",null,null,"Pkt.",null,null,"Tore",null,null,null,null,"Diff."]
[null,null,null,null,null,null,null,null,"1.",null,{"$f":"BM34","v":"Gruppe A7"},null,null,null,null,null,null,null,null,null,null,null,null,null,null,null,null,null,null,null,null,null,null,null,null,null,{"$f":"BN34","v":7},null,null,{"$f":"BO34","v":12},null,null,{"$f":"BP34","v":32},null,":",{"$f":"BR34","v":12},null,{"$f":"BS34","v":20}]
[null,null,null,null,null,null,null,null,"2.",null,{"$f":"BM35","v":"Gruppe A4"},null,null,null,null,null,null,null,null,null,null,null,null,null,null,null,null,null,null,null,null,null,null,null,null,null,{"$f":"BN35","v":7},null,null,{"$f":"BO35","v":11},null,null,{"$f":"BP35","v":9},null,":",{"$f":"BR35","v":6},null,{"$f":"BS35","v":3}]
[null,null,null,null,null,null,null,null,"3.",null,"Gruppe A2",null,null,null,null,null,null,null,null,null,null,null,null,null,null,null,null,null,null,null,null,null,null,null,null,null,7,null,null,9,null,null,7,null,":",6,null,1]
[null,null,null,null,null,null,null,null,"4.",null,"Gruppe A6",null,null,null,null,null,null,null,null,null,null,null,null,null,null,null,null,null,null,null,null,null,null,null,null,null,7,null,null,8,null,null,7,null,":",7,null,0]
[null,null,null,null,null,null,null,null,"5.",null,"Gruppe A3",null,null,null,null,null,null,null,null,null,null,null,null,null,null,null,null,null,null,null,null,null,null,null,null,null,7,null,null,7,null,null,7,null,":",7,null,0]
[null,null,null,null,null,null,null,null,"6.",null,"Gruppe A8",null,null,null,null,null,null,null,null,null,null,null,null,null,null,null,null,null,null,null,null,null,null,null,null,null,7,null,null,{"$f":"BO39","v":6},null,null,7,null,":",9,null,-2]
[null,null,null,null,null,null,null,null,"7.",null,"Gruppe A5",null,null,null,null,null,null,null,null,null,null,null,null,null,null,null,null,null,null,null,null,null,null,null,null,null,7,null,null,5,null,null,7,null,":",10,null,-3]
[null,null,null,null,null,null,null,null,"8.",null,"Gruppe A1",null,null,null,null,null,null,null,null,null,null,null,null,null,null,null,null,null,null,null,null,null,null,null,null,null,7,null,null,5,null,null,11,null,":",30,null,-19]
[]
[]
[]
[]
[]
[]
[]
[]
[]
[]
[]
[]
[]
[]
[]
[]
[]
[]
[]
[]
[]
[]
[]
[]
[]
[]
[]
[]
[]
[]
[]
[]
[]
["Vorrunde"]
["Gruppe B"]
[]
[]
[]
[]
[]
[]
[null,null,null,null,null,null,"Beginn:",{"$f":"Vorgaben!C104","v":"00:00:00"},null,null,null,null,"Uhr",null,null,null,null,null,null,"Spielzeit:",{"$f":"Vorgaben!C105","v":0},"1x","x",{"$f":"Vorgaben!C106","v":"00:00:00"},null,null,null,null,"min",null,null,null,null,null,null,null,"Pause:",{"$f":"Vorgaben!C107","v":"00:00:00"},null,null,null,null,"min"]
[]
[]
[null,"I. Teilnehmende Mannschaften"]
[]
[null,null,null,null,null,null,null,null,null,"Mannschaften"]
[null,null,null,null,null,null,null,null,null,"1.",null,{"$f":"'VR Gruppeneinteilung'!F3","v":"Gruppe B1"}]
[null,null,null,null,null,null,null,null,null,"2.",null,{"$f":"'VR Gruppeneinteilung'!F4","v":"Gruppe B2"}]
[null,null,null,null,null,null,null,null,null,"3.",null,{"$f":"'VR Gruppeneinteilung'!F5","v":"Gruppe B3"}]
[null,null,null,null,null,null,null,null,null,"4.",null,{"$f":"'VR Gruppeneinteilung'!F6","v":"Gruppe B4"}]
[null,null,null,null,null,null,null,null,null,"5.",null,{"$f":"'VR Gruppeneinteilung'!F7","v":"Gruppe B5"}]
[null,null,null,null,null,null,null,null,null,"6.",null,{"$f":"'VR Gruppeneinteilung'!F8","v":"Gruppe B6"}]
[null,null,null,null,null,null,null,null,null,"7.",null,{"$f":"'VR Gruppeneinteilung'!F9","v":"Gruppe B7"}]
[null,null,null,null,null,null,null,null,null,"8.",null,{"$f":"'VR Gruppeneinteilung'!F10","v":"Gruppe B8"}]
[]
[null,"II. Spielplan"]
[]
[null,"Nr.",null,"Beginn",null,null,null,null,null,null,"Spielpaarung",null,null,null,null,null,null,null,null,null,null,null,null,null,null,null,null,null,null,null,null,null,null,null,null,null,null,null,null,null,null,null,null,null,null,null,null,null,"Ergebnis",null,null,null,null,null,null,null,null,"Punkte"]
[{"$f":"VLOOKUP(B128,Vorgaben!B108:C114,2,FALSE)","v":{"$error":"#N/A"}},1,null,{"$f":"$H$10","v":"14:15:00"},null,null,null,null,null,{"$f":"L116","v":"Gruppe B1"},null,null,null,null,null,null,null,null,null,null,null,null,null,null,null,null,null,null,"-",{"$f":"L117","v":"Gruppe B2"},null,null,null,null,null,null,null,null,null,null,null,null,null,null,null,null,null,null,{"$f":"IF(ISBLANK('Gruppe B1'!AW28),\"\",'Gruppe B1'!AW28)","v":2},null,":",{"$f":"IF(ISBLANK('Gruppe B1'!AZ28),\"\",'Gruppe B1'!AZ28)","v":0},null,null,null,null,null,{"$f":"IF(AW128=\"\",0,IF(ISBLANK(AW128),\"0\",IF(AW128>AZ128,3,IF(AW128=AZ128,1,0))))","v":3},":",{"$f":"IF(AZ128=\"\",0,IF(ISBLANK(AZ128),\"0\",IF(AZ128>AW128,3,IF(AZ128=AW128,1,0))))","v":0}]
[{"$f":"VLOOKUP(B129,Vorgaben!B$10:C$16,2,FALSE)","v":{"$error":"#N/A"}},2,null,{"$f":"IF(ISNA(A129),D128+($U$10*$X$10+$AL$10),D128+($U$10*$X$10+$AL$10)+A129)","v":"14:25:00"},null,null,null,null,null,{"$f":"L118","v":"Gruppe B3"},null,null,null,null,null,null,null,null,null,null,null,null,null,null,null,null,null,null,"-",{"$f":"L119","v":"Gruppe B4"},null,null,null,null,null,null,null,null,null,null,null,null,null,null,null,null,null,null,{"$f":"IF(ISBLANK('Gruppe B1'!AW29),\"\",'Gruppe B1'!AW29)","v":3},null,":",{"$f":"IF(ISBLANK('Gruppe B1'!AZ29),\"\",'Gruppe B1'!AZ29)","v":1},null,null,null,null,null,3,":",{"$f":"IF(AZ129=\"\",0,IF(ISBLANK(AZ129),\"0\",IF(AZ129>AW129,3,IF(AZ129=AW129,1,0))))","v":0}]
[{"$f":"VLOOKUP(B130,Vorgaben!B$10:C$16,2,FALSE)","v":{"$error":"#N/A"}},3,null,{"$f":"IF(ISNA(A130),D129+($U$10*$X$10+$AL$10),D129+($U$10*$X$10+$AL$10)+A130)","v":"14:35:00"},null,null,null,null,null,{"$f":"L120","v":"Gruppe B5"},null,null,null,null,null,null,null,null,null,null,null,null,null,null,null,null,null,null,"-",{"$f":"L121","v":"Gruppe B6"},null,null,null,null,null,null,null,null,null,null,null,null,null,null,null,null,null,null,{"$f":"IF(ISBLANK('Gruppe B1'!AW30),\"\",'Gruppe B1'!AW30)","v":""},null,":",{"$f":"IF(ISBLANK('Gruppe B1'!AZ30),\"\",'Gruppe B1'!AZ30)","v":""},null,null,null,null,null,0,":",0,null,null,null,null,{"$f":"IF(BM132=\"Min. 3 Teams identisch.  HANDSORTIERUNG!\",BM132,IF(BM132=\"ACHTUNG! Direkter Vergleich war unentschieden!\",BM132,BM131))","v":"Min. 3 Teams identisch.  HANDSORTIERUNG!"}]
[{"$f":"VLOOKUP(B131,Vorgaben!B$10:C$16,2,FALSE)","v":{"$error":"#N/A"}},4,null,{"$f":"IF(ISNA(A131),D130+($U$10*$X$10+$AL$10),D130+($U$10*$X$10+$AL$10)+A131)","v":"14:45:00"},null,null,null,null,null,{"$f":"L122","v":"Gruppe B7"},null,null,null,null,null,null,null,null,null,null,null,null,null,null,null,null,null,null,"-",{"$f":"L123","v":"Gruppe B8"},null,null,null,null,null,null,null,null,null,null,null,null,null,null,null,null,null,null,{"$f":"IF(ISBLANK('Gruppe B1'!AW31),\"\",'Gruppe B1'!AW31)","v":""},null,":",{"$f":"IF(ISBLANK('Gruppe B1'!AZ31),\"\",'Gruppe B1'!AZ31)","v":""},null,null,null,null,null,0,":",0,null,null,null,null,{"$f":"IF(AND(EXACT(BO134,BO135),EXACT(BP134,BP135),EXACT(BS134,BS135)),\"ACHTUNG: Direkter Vergleich erfolgreich durchlaufen!\",IF(AND(EXACT(BO135,BO136),EXACT(BP135,BP136),EXACT(BS135,BS136)),\"ACHTUNG: Direkter Vergleich erfolgreich durchlaufen!\",IF(AND(EXACT(BO136,BO137),EXACT(BP136,BP137),EXACT(BS136,BS137)),\"ACHTUNG: Direkter Vergleich erfolgreich durchlaufen!\",IF(AND(EXACT(BO137,BO138),EXACT(BP137,BP138),EXACT(BS137,BS138)),\"ACHTUNG: Direkter Vergleich erfolgreich durchlaufen!\",IF(AND(EXACT(BO138,BO139),EXACT(BP138,BP139),EXACT(BS138,BS139)),\"ACHTUNG: Direkter Vergleich erfolgreich durchlaufen!\",IF(AND(EXACT(BO139,BO140),EXACT(BP139,BP140),EXACT(BS139,BS140)),\"ACHTUNG: Direkter Vergleich erfolgreich durchlaufen!\",IF(AND(EXACT(BO140,BO141),EXACT(BP140,BP141),EXACT(BS140,BS141)),\"ACHTUNG: Direkter Vergleich erfolgreich durchlaufen!\",\"\")))))))","v":"ACHTUNG: Direkter Vergleich erfolgreich durchlaufen!"}]
[{"$f":"IF(VLOOKUP(B132,Vorgaben!B$10:C$16,2,FALSE)=\"\",\"\",VLOOKUP(B132,Vorgaben!B$10:C$16,2,FALSE))","v":{"$error":"#N/A"}},5,null,{"$f":"IF(ISNA(A132),D131+($U$10*$X$10+$AL$10),D131+($U$10*$X$10+$AL$10)+A132)","v":"14:55:00"},null,null,null,null,null,{"$f":"L119","v":"Gruppe B4"},null,null,null,null,null,null,null,null,null,null,null,null,null,null,null,null,null,null,"-",{"$f":"L116","v":"Gruppe B1"},null,null,null,null,null,null,null,null,null,null,null,null,null,null,null,null,null,null,{"$f":"IF(ISBLANK('Gruppe B1'!AW32),\"\",'Gruppe B1'!AW32)","v":""},null,":",{"$f":"IF(ISBLANK('Gruppe B1'!AZ32),\"\",'Gruppe B1'!AZ32)","v":""},null,null,null,null,null,0,":",0,null,null,null,null,{"$f":"IF(OR(CC134=3,CC135=3,CC136=3,CC137=3,CC138=3,CC139=3,CC140=3,CC141=3),\"Min. 3 Teams identisch.  HANDSORTIERUNG!\",IF(OR(CB134=\"ACHTUNG! Direkter Vergleich war unentschieden!\",CB135=\"ACHTUNG! Direkter Vergleich war unentschieden!\",CB136=\"ACHTUNG! Direkter Vergleich war unentschieden!\",CB137=\"ACHTUNG! Direkter Vergleich war unentschieden!\",CB138=\"ACHTUNG! Direkter Vergleich war unentschieden!\",CB139=\"ACHTUNG! Direkter Vergleich war unentschieden!\",CB140=\"ACHTUNG! Direkter Vergleich war unentschieden!\",CB141=\"ACHTUNG! Direkter Vergleich war unentschieden!\"),\"ACHTUNG! Direkter Vergleich war unentschieden!\",\"\"))","v":"Min. 3 Teams identisch.  HANDSORTIERUNG!"}]
[{"$f":"VLOOKUP(B133,Vorgaben!B$10:C$16,2,FALSE)","v":{"$error":"#N/A"}},6,null,"15:05:00",null,null,null,null,null,{"$f":"L117","v":"Gruppe B2"},null,null,null,null,null,null,null,null,null,null,null,null,null,null,null,null,null,null,"-",{"$f":"L118","v":"Gruppe B3"},null,null,null,null,null,null,null,null,null,null,null,null,null,null,null,null,null,null,{"$f":"IF(ISBLANK('Gruppe B1'!AW33),\"\",'Gruppe B1'!AW33)","v":""},null,":",{"$f":"IF(ISBLANK('Gruppe B1'!AZ33),\"\",'Gruppe B1'!AZ33)","v":""},null,null,null,null,null,0,":",0]
[{"$f":"VLOOKUP(B134,Vorgaben!B$10:C$16,2,FALSE)","v":{"$error":"#N/A"}},7,null,"15:15:00",null,null,null,null,null,{"$f":"L123","v":"Gruppe B8"},null,null,null,null,null,null,null,null,null,null,null,null,null,null,null,null,null,null,"-",{"$f":"L120","v":"Gruppe B5"},null,null,null,null,null,null,null,null,null,null,null,null,null,null,null,null,null,null,{"$f":"IF(ISBLANK('Gruppe B1'!AW34),\"\",'Gruppe B1'!AW34)","v":1},null,":",{"$f":"IF(ISBLANK('Gruppe B1'!AZ34),\"\",'Gruppe B1'!AZ34)","v":1},null,null,null,null,null,1,":",1,null,null,null,{"$f":"INDEX(Vorgaben!F$19:H$26,MATCH($BM134,Vorgaben!F$19:F$26,0),3)","v":0},{"$f":"'Gruppe B1'!$BM$36","v":"Gruppe B3"},{"$f":"'Gruppe B1'!$BN$36","v":6},{"$f":"'Gruppe B1'!$BO$36","v":8},{"$f":"'Gruppe B1'!$BP$36","v":8},{"$f":"'Gruppe B1'!BQ36","v":":"},{"$f":"'Gruppe B1'!$BR$36","v":6},{"$f":"'Gruppe B1'!$BS$36","v":2},{"$f":"BV134","v":0},null,{"$f":"IF(BX134>BY135,10,IF(BX134<BY135,-10,0))","v":0},null,{"$f":"IF(ISNA(INDEX(BF$128:BF$155,MATCH(BM134&BM135,J$128:J$155&AD$128:AD$155,0))),INDEX(BH$128:BH$155,MATCH(BM135&BM134,J$128:J$155&AD$128:AD$155,0)),INDEX(BF$128:BF$155,MATCH(BM134&BM135,J$128:J$155&AD$128:AD$155,0)))","v":1},null,{"$f":"IF(AND(EXACT(BO134,BO135),EXACT(BP134,BP135),EXACT(BS134,BS135),EXACT(BX134,BY135)),\"ACHTUNG! Direkter Vergleich war unentschieden!\",IF(AND(EXACT(BO134,BO135),EXACT(BP134,BP135),EXACT(BS134,BS135)),1,2))","v":2},{"$f":"IF(AND(EXACT(BO133,BO134),EXACT(BP133,BP134),EXACT(BS133,BS134),EXACT(BX134,BY133)),\"ACHTUNG! Direkter Vergleich war unentschieden!\",\"\")","v":""},{"$f":"IF(OR(BZ134=\"ACHTUNG! Direkter Vergleich war unentschieden!\",CA134=\"ACHTUNG! Direkter Vergleich war unentschieden!\"),\"ACHTUNG! Direkter Vergleich war unentschieden!\",\"\")","v":""},{"$f":"IF(OR(AND(EXACT(BO134,BO135),EXACT(BP134,BP135),EXACT(BS134,BS135),EXACT(BO134,BO136),EXACT(BP134,BP136),EXACT(BS134,BS136)),AND(EXACT(BO134,BO135),EXACT(BP134,BP135),EXACT(BS134,BS135),EXACT(BO134,BO133),EXACT(BP134,BP133),EXACT(BS134,BS133))*AND(EXACT(BO134,BO132),EXACT(BP134,BP132),EXACT(BS134,BS132),EXACT(BO134,BO133),EXACT(BP134,BP133),EXACT(BS134,BS133))),3,1)","v":1}]
[{"$f":"VLOOKUP(B135,Vorgaben!B$10:C$16,2,FALSE)","v":{"$error":"#N/A"}},8,null,"15:25:00",null,null,null,null,null,{"$f":"L121","v":"Gruppe B6"},null,null,null,null,null,null,null,null,null,null,null,null,null,null,null,null,null,null,"-",{"$f":"L122","v":"Gruppe B7"},null,null,null,null,null,null,null,null,null,null,null,null,null,null,null,null,null,null,{"$f":"IF(ISBLANK('Gruppe B1'!AW35),\"\",'Gruppe B1'!AW35)","v":1},null,":",{"$f":"IF(ISBLANK('Gruppe B1'!AZ35),\"\",'Gruppe B1'!AZ35)","v":1},null,null,null,null,null,1,":",1,null,null,null,{"$f":"INDEX(Vorgaben!F$19:H$26,MATCH($BM135,Vorgaben!F$19:F$26,0),3)","v":0},{"$f":"'Gruppe B1'!$BM$38","v":"Gruppe B1"},{"$f":"'Gruppe B1'!$BN$38","v":6},{"$f":"'Gruppe B1'!$BO$38","v":8},{"$f":"'Gruppe B1'!$BP$38","v":7},{"$f":"'Gruppe B1'!BQ38","v":":"},{"$f":"'Gruppe B1'!$BR$38","v":5},{"$f":"'Gruppe B1'!$BS$38","v":2},{"$f":"BV135","v":0},{"$f":"BW135","v":0},{"$f":"IF(BX134<BY135,10,IF(BX134>BY135,-10,0))","v":0},{"$f":"IF(BX135>BY136,10,IF(BX135<BY136,-10,0))","v":0},{"$f":"IF(ISNA(INDEX(BF$128:BF$155,MATCH(BM135&BM136,J$128:J$155&AD$128:AD$155,0))),INDEX(BH$128:BH$155,MATCH(BM136&BM135,J$128:J$155&AD$128:AD$155,0)),INDEX(BF$128:BF$155,MATCH(BM135&BM136,J$128:J$155&AD$128:AD$155,0)))","v":1},{"$f":"IF(ISNA(INDEX(BF$128:BF$155,MATCH(BM135&BM134,J$128:J$155&AD$128:AD$155,0))),INDEX(BH$128:BH$155,MATCH(BM134&BM135,J$128:J$155&AD$128:AD$155,0)),INDEX(BF$128:BF$155,MATCH(BM135&BM134,J$128:J$155&AD$128:AD$155,0)))","v":1},2,{"$f":"IF(AND(EXACT(BO134,BO135),EXACT(BP134,BP135),EXACT(BS134,BS135),EXACT(BY135,BX134)),\"ACHTUNG! Direkter Vergleich war unentschieden!\",IF(AND(EXACT(BO134,BO135),EXACT(BP134,BP135),EXACT(BS134,BS135)),1,2))","v":2},"",1]
[{"$f":"VLOOKUP(B136,Vorgaben!B$10:C$16,2,FALSE)","v":{"$error":"#N/A"}},9,null,"15:35:00",null,null,null,null,null,{"$f":"L120","v":"Gruppe B5"},null,null,null,null,null,null,null,null,null,null,null,null,null,null,null,null,null,null,"-",{"$f":"L119","v":"Gruppe B4"},null,null,null,null,null,null,null,null,null,null,null,null,null,null,null,null,null,null,{"$f":"IF(ISBLANK('Gruppe B1'!AW36),\"\",'Gruppe B1'!AW36)","v":1},null,":",{"$f":"IF(ISBLANK('Gruppe B1'!AZ36),\"\",'Gruppe B1'!AZ36)","v":1},null,null,null,null,null,1,":",1,null,null,null,{"$f":"INDEX(Vorgaben!F$19:H$26,MATCH($BM136,Vorgaben!F$19:F$26,0),3)","v":0},{"$f":"'Gruppe B1'!$BM$41","v":"Gruppe B6"},{"$f":"'Gruppe B1'!$BN$41","v":6},{"$f":"'Gruppe B1'!$BO$41","v":8},{"$f":"'Gruppe B1'!$BP$41","v":7},{"$f":"'Gruppe B1'!BQ41","v":":"},{"$f":"'Gruppe B1'!$BR$41","v":6},{"$f":"'Gruppe B1'!$BS$41","v":1},{"$f":"BV136","v":0},0,0,{"$f":"IF(BX136>BY137,10,IF(BX136<BY137,-10,0))","v":0},{"$f":"IF(ISNA(INDEX(BF$128:BF$155,MATCH(BM136&BM137,J$128:J$155&AD$128:AD$155,0))),INDEX(BH$128:BH$155,MATCH(BM137&BM136,J$128:J$155&AD$128:AD$155,0)),INDEX(BF$128:BF$155,MATCH(BM136&BM137,J$128:J$155&AD$128:AD$155,0)))","v":0},{"$f":"IF(ISNA(INDEX(BF$128:BF$155,MATCH(BM136&BM135,J$128:J$155&AD$128:AD$155,0))),INDEX(BH$128:BH$155,MATCH(BM135&BM136,J$128:J$155&AD$128:AD$155,0)),INDEX(BF$128:BF$155,MATCH(BM136&BM135,J$128:J$155&AD$128:AD$155,0)))","v":1},2,2,"",{"$f":"IF(OR(AND(EXACT(BO136,BO137),EXACT(BP136,BP137),EXACT(BS136,BS137),EXACT(BO136,BO138),EXACT(BP136,BP138),EXACT(BS136,BS138)),AND(EXACT(BO136,BO137),EXACT(BP136,BP137),EXACT(BS136,BS137),EXACT(BO136,BO135),EXACT(BP136,BP135),EXACT(BS136,BS135))*AND(EXACT(BO136,BO134),EXACT(BP136,BP134),EXACT(BS136,BS134),EXACT(BO136,BO135),EXACT(BP136,BP135),EXACT(BS136,BS135))),3,1)","v":1}]
[{"$f":"VLOOKUP(B137,Vorgaben!B$10:C$16,2,FALSE)","v":{"$error":"#N/A"}},10,null,"15:45:00",null,null,null,null,null,{"$f":"L116","v":"Gruppe B1"},null,null,null,null,null,null,null,null,null,null,null,null,null,null,null,null,null,null,"-",{"$f":"L118","v":"Gruppe B3"},null,null,null,null,null,null,null,null,null,null,null,null,null,null,null,null,null,null,{"$f":"IF(ISBLANK('Gruppe B1'!AW37),\"\",'Gruppe B1'!AW37)","v":1},null,":",{"$f":"IF(ISBLANK('Gruppe B1'!AZ37),\"\",'Gruppe B1'!AZ37)","v":1},null,null,null,null,null,1,":",1,null,null,null,{"$f":"INDEX(Vorgaben!F$19:H$26,MATCH($BM137,Vorgaben!F$19:F$26,0),3)","v":0},{"$f":"'Gruppe B1'!$BM$34","v":"Gruppe B5"},{"$f":"'Gruppe B1'!$BN$34","v":6},{"$f":"'Gruppe B1'!$BO$34","v":6},{"$f":"'Gruppe B1'!$BP$34","v":6},{"$f":"'Gruppe B1'!BQ34","v":":"},{"$f":"'Gruppe B1'!$BR$34","v":6},{"$f":"'Gruppe B1'!$BS$34","v":0},0,0,0,{"$f":"IF(BX136<BY137,10,IF(BX136>BY137,-10,0))","v":0},{"$f":"IF(ISNA(INDEX(BF$128:BF$155,MATCH(BM137&BM138,J$128:J$155&AD$128:AD$155,0))),INDEX(BH$128:BH$155,MATCH(BM138&BM137,J$128:J$155&AD$128:AD$155,0)),INDEX(BF$128:BF$155,MATCH(BM137&BM138,J$128:J$155&AD$128:AD$155,0)))","v":1},{"$f":"IF(ISNA(INDEX(BF$128:BF$155,MATCH(BM137&BM136,J$128:J$155&AD$128:AD$155,0))),INDEX(BH$128:BH$155,MATCH(BM136&BM137,J$128:J$155&AD$128:AD$155,0)),INDEX(BF$128:BF$155,MATCH(BM137&BM136,J$128:J$155&AD$128:AD$155,0)))","v":0},"ACHTUNG! Direkter Vergleich war unentschieden!",2,"ACHTUNG! Direkter Vergleich war unentschieden!",{"$f":"IF(OR(AND(EXACT(BO137,BO138),EXACT(BP137,BP138),EXACT(BS137,BS138),EXACT(BO137,BO139),EXACT(BP137,BP139),EXACT(BS137,BS139)),AND(EXACT(BO137,BO138),EXACT(BP137,BP138),EXACT(BS137,BS138),EXACT(BO137,BO136),EXACT(BP137,BP136),EXACT(BS137,BS136))*AND(EXACT(BO137,BO135),EXACT(BP137,BP135),EXACT(BS137,BS135),EXACT(BO137,BO136),EXACT(BP137,BP136),EXACT(BS137,BS136))),3,1)","v":3}]
[{"$f":"VLOOKUP(B138,Vorgaben!B$10:C$16,2,FALSE)","v":{"$error":"#N/A"}},11,null,"15:55:00",null,null,null,null,null,{"$f":"L117","v":"Gruppe B2"},null,null,null,null,null,null,null,null,null,null,null,null,null,null,null,null,null,null,"-",{"$f":"L122","v":"Gruppe B7"},null,null,null,null,null,null,null,null,null,null,null,null,null,null,null,null,null,null,{"$f":"IF(ISBLANK('Gruppe B1'!AW38),\"\",'Gruppe B1'!AW38)","v":1},null,":",{"$f":"IF(ISBLANK('Gruppe B1'!AZ38),\"\",'Gruppe B1'!AZ38)","v":1},null,null,null,null,null,1,":",1,null,null,null,{"$f":"INDEX(Vorgaben!F$19:H$26,MATCH($BM138,Vorgaben!F$19:F$26,0),3)","v":0},{"$f":"'Gruppe B1'!$BM$35","v":"Gruppe B7"},{"$f":"'Gruppe B1'!$BN$35","v":6},{"$f":"'Gruppe B1'!$BO$35","v":6},{"$f":"'Gruppe B1'!$BP$35","v":6},{"$f":"'Gruppe B1'!BQ35","v":":"},{"$f":"'Gruppe B1'!$BR$35","v":6},{"$f":"'Gruppe B1'!$BS$35","v":0},0,0,0,{"$f":"IF(BX138>BY139,10,IF(BX138<BY139,-10,0))","v":0},{"$f":"IF(ISNA(INDEX(BF$128:BF$155,MATCH(BM138&BM139,J$128:J$155&AD$128:AD$155,0))),INDEX(BH$128:BH$155,MATCH(BM139&BM138,J$128:J$155&AD$128:AD$155,0)),INDEX(BF$128:BF$155,MATCH(BM138&BM139,J$128:J$155&AD$128:AD$155,0)))","v":0},{"$f":"IF(ISNA(INDEX(BF$128:BF$155,MATCH(BM138&BM137,J$128:J$155&AD$128:AD$155,0))),INDEX(BH$128:BH$155,MATCH(BM137&BM138,J$128:J$155&AD$128:AD$155,0)),INDEX(BF$128:BF$155,MATCH(BM138&BM137,J$128:J$155&AD$128:AD$155,0)))","v":1},"ACHTUNG! Direkter Vergleich war unentschieden!","ACHTUNG! Direkter Vergleich war unentschieden!","ACHTUNG! Direkter Vergleich war unentschieden!",1]
[{"$f":"VLOOKUP(B139,Vorgaben!B$10:C$16,2,FALSE)","v":{"$error":"#N/A"}},12,null,"16:05:00",null,null,null,null,null,{"$f":"L121","v":"Gruppe B6"},null,null,null,null,null,null,null,null,null,null,null,null,null,null,null,null,null,null,"-",{"$f":"L123","v":"Gruppe B8"},null,null,null,null,null,null,null,null,null,null,null,null,null,null,null,null,null,null,{"$f":"IF(ISBLANK('Gruppe B1'!AW39),\"\",'Gruppe B1'!AW39)","v":1},null,":",{"$f":"IF(ISBLANK('Gruppe B1'!AZ39),\"\",'Gruppe B1'!AZ39)","v":1},null,null,null,null,null,1,":",1,null,null,null,{"$f":"INDEX(Vorgaben!F$19:H$26,MATCH($BM139,Vorgaben!F$19:F$26,0),3)","v":0},{"$f":"'Gruppe B1'!$BM$40","v":"Gruppe B8"},{"$f":"'Gruppe B1'!$BN$40","v":6},{"$f":"'Gruppe B1'!$BO$40","v":6},{"$f":"'Gruppe B1'!$BP$40","v":6},{"$f":"'Gruppe B1'!BQ40","v":":"},{"$f":"'Gruppe B1'!$BR$40","v":6},{"$f":"'Gruppe B1'!$BS$40","v":0},0,0,0,{"$f":"IF(BX138<BY139,10,IF(BX138>BY139,-10,0))","v":0},{"$f":"IF(ISNA(INDEX(BF$128:BF$155,MATCH(BM139&BM140,J$128:J$155&AD$128:AD$155,0))),INDEX(BH$128:BH$155,MATCH(BM140&BM139,J$128:J$155&AD$128:AD$155,0)),INDEX(BF$128:BF$155,MATCH(BM139&BM140,J$128:J$155&AD$128:AD$155,0)))","v":1},{"$f":"IF(ISNA(INDEX(BF$128:BF$155,MATCH(BM139&BM138,J$128:J$155&AD$128:AD$155,0))),INDEX(BH$128:BH$155,MATCH(BM138&BM139,J$128:J$155&AD$128:AD$155,0)),INDEX(BF$128:BF$155,MATCH(BM139&BM138,J$128:J$155&AD$128:AD$155,0)))","v":0},2,"ACHTUNG! Direkter Vergleich war unentschieden!","ACHTUNG! Direkter Vergleich war unentschieden!",1]
[{"$f":"VLOOKUP(B140,Vorgaben!B$10:C$16,2,FALSE)","v":{"$error":"#N/A"}},13,null,"16:15:00",null,null,null,null,null,{"$f":"L119","v":"Gruppe B4"},null,null,null,null,null,null,null,null,null,null,null,null,null,null,null,null,null,null,"-",{"$f":"L117","v":"Gruppe B2"},null,null,null,null,null,null,null,null,null,null,null,null,null,null,null,null,null,null,{"$f":"IF(ISBLANK('Gruppe B1'!AW40),\"\",'Gruppe B1'!AW40)","v":1},null,":",{"$f":"IF(ISBLANK('Gruppe B1'!AZ40),\"\",'Gruppe B1'!AZ40)","v":1},null,null,null,null,null,1,":",1,null,null,null,{"$f":"INDEX(Vorgaben!F$19:H$26,MATCH($BM140,Vorgaben!F$19:F$26,0),3)","v":0},{"$f":"'Gruppe B1'!$BM$39","v":"Gruppe B4"},{"$f":"'Gruppe B1'!$BN$39","v":6},{"$f":"'Gruppe B1'!$BO$39","v":5},{"$f":"'Gruppe B1'!$BP$39","v":6},{"$f":"'Gruppe B1'!BQ39","v":":"},{"$f":"'Gruppe B1'!$BR$39","v":8},{"$f":"'Gruppe B1'!$BS$39","v":-2},0,0,0,{"$f":"IF(BX139<BY140,10,IF(BX139>BY140,-10,0))","v":0},{"$f":"IF(ISNA(INDEX(BF$128:BF$155,MATCH(BM140&BM141,J$128:J$155&AD$128:AD$155,0))),INDEX(BH$128:BH$155,MATCH(BM141&BM140,J$128:J$155&AD$128:AD$155,0)),INDEX(BF$128:BF$155,MATCH(BM140&BM141,J$128:J$155&AD$128:AD$155,0)))","v":1},{"$f":"IF(ISNA(INDEX(BF$128:BF$155,MATCH(BM140&BM139,J$128:J$155&AD$128:AD$155,0))),INDEX(BH$128:BH$155,MATCH(BM139&BM140,J$128:J$155&AD$128:AD$155,0)),INDEX(BF$128:BF$155,MATCH(BM140&BM139,J$128:J$155&AD$128:AD$155,0)))","v":1},2,2,"",1]
[{"$f":"VLOOKUP(B141,Vorgaben!B$10:C$16,2,FALSE)","v":{"$error":"#N/A"}},14,null,"16:25:00",null,null,null,null,null,{"$f":"L122","v":"Gruppe B7"},null,null,null,null,null,null,null,null,null,null,null,null,null,null,null,null,null,null,"-",{"$f":"L120","v":"Gruppe B5"},null,null,null,null,null,null,null,null,null,null,null,null,null,null,null,null,null,null,{"$f":"IF(ISBLANK('Gruppe B1'!AW41),\"\",'Gruppe B1'!AW41)","v":1},null,":",{"$f":"IF(ISBLANK('Gruppe B1'!AZ41),\"\",'Gruppe B1'!AZ41)","v":1},null,null,null,null,null,1,":",1,null,null,null,{"$f":"INDEX(Vorgaben!F$19:H$26,MATCH($BM141,Vorgaben!F$19:F$26,0),3)","v":0},{"$f":"'Gruppe B1'!$BM$37","v":"Gruppe B2"},{"$f":"'Gruppe B1'!$BN$37","v":6},{"$f":"'Gruppe B1'!$BO$37","v":4},{"$f":"'Gruppe B1'!$BP$37","v":5},{"$f":"'Gruppe B1'!BQ37","v":":"},{"$f":"'Gruppe B1'!$BR$37","v":8},{"$f":"'Gruppe B1'!$BS$37","v":-3},0,0,0,null,null,{"$f":"IF(ISNA(INDEX(BF$128:BF$155,MATCH(BM141&BM140,J$128:J$155&AD$128:AD$155,0))),INDEX(BH$128:BH$155,MATCH(BM140&BM141,J$128:J$155&AD$128:AD$155,0)),INDEX(BF$128:BF$155,MATCH(BM141&BM140,J$128:J$155&AD$128:AD$155,0)))","v":1},{"$f":"IF(AND(EXACT(BO141,BO142),EXACT(BP141,BP142),EXACT(BS141,BS142),EXACT(BX141,BY142)),\"ACHTUNG! Direkter Vergleich war unentschieden!\",\"\")","v":""},2,"",1]
[{"$f":"VLOOKUP(B142,Vorgaben!B$10:C$16,2,FALSE)","v":{"$error":"#N/A"}},15,null,"16:35:00",null,null,null,null,null,{"$f":"L123","v":"Gruppe B8"},null,null,null,null,null,null,null,null,null,null,null,null,null,null,null,null,null,null,"-",{"$f":"L116","v":"Gruppe B1"},null,null,null,null,null,null,null,null,null,null,null,null,null,null,null,null,null,null,{"$f":"IF(ISBLANK('Gruppe B1'!AW42),\"\",'Gruppe B1'!AW42)","v":1},null,":",{"$f":"IF(ISBLANK('Gruppe B1'!AZ42),\"\",'Gruppe B1'!AZ42)","v":1},null,null,null,null,null,1,":",1]
[{"$f":"VLOOKUP(B143,Vorgaben!B$10:C$16,2,FALSE)","v":{"$error":"#N/A"}},16,null,"16:45:00",null,null,null,null,null,{"$f":"L118","v":"Gruppe B3"},null,null,null,null,null,null,null,null,null,null,null,null,null,null,null,null,null,null,"-",{"$f":"L121","v":"Gruppe B6"},null,null,null,null,null,null,null,null,null,null,null,null,null,null,null,null,null,null,{"$f":"IF(ISBLANK('Gruppe B1'!AW43),\"\",'Gruppe B1'!AW43)","v":1},null,":",{"$f":"IF(ISBLANK('Gruppe B1'!AZ43),\"\",'Gruppe B1'!AZ43)","v":1},null,null,null,null,null,1,":",1]
[{"$f":"VLOOKUP(B144,Vorgaben!B$10:C$16,2,FALSE)","v":{"$error":"#N/A"}},17,null,"16:55:00",null,null,null,null,null,{"$f":"L119","v":"Gruppe B4"},null,null,null,null,null,null,null,null,null,null,null,null,null,null,null,null,null,null,"-",{"$f":"L122","v":"Gruppe B7"},null,null,null,null,null,null,null,null,null,null,null,null,null,null,null,null,null,null,{"$f":"IF(ISBLANK('Gruppe B1'!AW44),\"\",'Gruppe B1'!AW44)","v":1},null,":",{"$f":"IF(ISBLANK('Gruppe B1'!AZ44),\"\",'Gruppe B1'!AZ44)","v":1},null,null,null,null,null,1,":",1]
[{"$f":"VLOOKUP(B145,Vorgaben!B$10:C$16,2,FALSE)","v":{"$error":"#N/A"}},18,null,"17:05:00",null,null,null,null,null,{"$f":"L117","v":"Gruppe B2"},null,null,null,null,null,null,null,null,null,null,null,null,null,null,null,null,null,null,"-",{"$f":"L123","v":"Gruppe B8"},null,null,null,null,null,null,null,null,null,null,null,null,null,null,null,null,null,null,{"$f":"IF(ISBLANK('Gruppe B1'!AW45),\"\",'Gruppe B1'!AW45)","v":1},null,":",{"$f":"IF(ISBLANK('Gruppe B1'!AZ45),\"\",'Gruppe B1'!AZ45)","v":1},null,null,null,null,null,1,":",1]
[{"$f":"VLOOKUP(B146,Vorgaben!B$10:C$16,2,FALSE)","v":{"$error":"#N/A"}},19,null,"17:15:00",null,null,null,null,null,{"$f":"L116","v":"Gruppe B1"},null,null,null,null,null,null,null,null,null,null,null,null,null,null,null,null,null,null,"-",{"$f":"L121","v":"Gruppe B6"},null,null,null,null,null,null,null,null,null,null,null,null,null,null,null,null,null,null,{"$f":"IF(ISBLANK('Gruppe B1'!AW46),\"\",'Gruppe B1'!AW46)","v":1},null,":",{"$f":"IF(ISBLANK('Gruppe B1'!AZ46),\"\",'Gruppe B1'!AZ46)","v":1},null,null,null,null,null,1,":",1]
[{"$f":"VLOOKUP(B147,Vorgaben!B$10:C$16,2,FALSE)","v":{"$error":"#N/A"}},20,null,"17:25:00",null,null,null,null,null,{"$f":"L120","v":"Gruppe B5"},null,null,null,null,null,null,null,null,null,null,null,null,null,null,null,null,null,null,"-",{"$f":"L118","v":"Gruppe B3"},null,null,null,null,null,null,null,null,null,null,null,null,null,null,null,null,null,null,{"$f":"IF(ISBLANK('Gruppe B1'!AW47),\"\",'Gruppe B1'!AW47)","v":1},null,":",{"$f":"IF(ISBLANK('Gruppe B1'!AZ47),\"\",'Gruppe B1'!AZ47)","v":1},null,null,null,null,null,1,":",1]
[{"$f":"VLOOKUP(B148,Vorgaben!B$10:C$16,2,FALSE)","v":{"$error":"#N/A"}},21,null,"17:35:00",null,null,null,null,null,{"$f":"L123","v":"Gruppe B8"},null,null,null,null,null,null,null,null,null,null,null,null,null,null,null,null,null,null,"-",{"$f":"L119","v":"Gruppe B4"},null,null,null,null,null,null,null,null,null,null,null,null,null,null,null,null,null,null,{"$f":"IF(ISBLANK('Gruppe B1'!AW48),\"\",'Gruppe B1'!AW48)","v":1},null,":",{"$f":"IF(ISBLANK('Gruppe B1'!AZ48),\"\",'Gruppe B1'!AZ48)","v":1},null,null,null,null,null,1,":",1]
[{"$f":"VLOOKUP(B149,Vorgaben!B$10:C$16,2,FALSE)","v":{"$error":"#N/A"}},22,null,"17:45:00",null,null,null,null,null,{"$f":"L121","v":"Gruppe B6"},null,null,null,null,null,null,null,null,null,null,null,null,null,null,null,null,null,null,"-",{"$f":"L117","v":"Gruppe B2"},null,null,null,null,null,null,null,null,null,null,null,null,null,null,null,null,null,null,{"$f":"IF(ISBLANK('Gruppe B1'!AW49),\"\",'Gruppe B1'!AW49)","v":2},null,":",{"$f":"IF(ISBLANK('Gruppe B1'!AZ49),\"\",'Gruppe B1'!AZ49)","v":1},null,null,null,null,null,3,":",0]
[{"$f":"VLOOKUP(B150,Vorgaben!B$10:C$16,2,FALSE)","v":{"$error":"#N/A"}},23,null,"17:55:00",null,null,null,null,null,{"$f":"L122","v":"Gruppe B7"},null,null,null,null,null,null,null,null,null,null,null,null,null,null,null,null,null,null,"-",{"$f":"L118","v":"Gruppe B3"},null,null,null,null,null,null,null,null,null,null,null,null,null,null,null,null,null,null,{"$f":"IF(ISBLANK('Gruppe B1'!AW50),\"\",'Gruppe B1'!AW50)","v":1},null,":",{"$f":"IF(ISBLANK('Gruppe B1'!AZ50),\"\",'Gruppe B1'!AZ50)","v":1},null,null,null,null,null,1,":",1]
[{"$f":"VLOOKUP(B151,Vorgaben!B$10:C$16,2,FALSE)","v":{"$error":"#N/A"}},24,null,"18:05:00",null,null,null,null,null,{"$f":"L120","v":"Gruppe B5"},null,null,null,null,null,null,null,null,null,null,null,null,null,null,null,null,null,null,"-",{"$f":"L116","v":"Gruppe B1"},null,null,null,null,null,null,null,null,null,null,null,null,null,null,null,null,null,null,{"$f":"IF(ISBLANK('Gruppe B1'!AW51),\"\",'Gruppe B1'!AW51)","v":1},null,":",{"$f":"IF(ISBLANK('Gruppe B1'!AZ51),\"\",'Gruppe B1'!AZ51)","v":1},null,null,null,null,null,1,":",1]
[{"$f":"VLOOKUP(B152,Vorgaben!B$10:C$16,2,FALSE)","v":{"$error":"#N/A"}},25,null,"18:15:00",null,null,null,null,null,{"$f":"L119","v":"Gruppe B4"},null,null,null,null,null,null,null,null,null,null,null,null,null,null,null,null,null,null,"-",{"$f":"L121","v":"Gruppe B6"},null,null,null,null,null,null,null,null,null,null,null,null,null,null,null,null,null,null,{"$f":"IF(ISBLANK('Gruppe B1'!AW52),\"\",'Gruppe B1'!AW52)","v":1},null,":",{"$f":"IF(ISBLANK('Gruppe B1'!AZ52),\"\",'Gruppe B1'!AZ52)","v":1},null,null,null,null,null,1,":",1]
[{"$f":"VLOOKUP(B153,Vorgaben!B$10:C$16,2,FALSE)","v":{"$error":"#N/A"}},26,null,"18:25:00",null,null,null,null,null,{"$f":"L118","v":"Gruppe B3"},null,null,null,null,null,null,null,null,null,null,null,null,null,null,null,null,null,null,"-",{"$f":"L123","v":"Gruppe B8"},null,null,null,null,null,null,null,null,null,null,null,null,null,null,null,null,null,null,{"$f":"IF(ISBLANK('Gruppe B1'!AW53),\"\",'Gruppe B1'!AW53)","v":1},null,":",{"$f":"IF(ISBLANK('Gruppe B1'!AZ53),\"\",'Gruppe B1'!AZ53)","v":1},null,null,null,null,null,1,":",1]
[{"$f":"VLOOKUP(B154,Vorgaben!B$10:C$16,2,FALSE)","v":{"$error":"#N/A"}},27,null,"18:35:00",null,null,null,null,null,{"$f":"L117","v":"Gruppe B2"},null,null,null,null,null,null,null,null,null,null,null,null,null,null,null,null,null,null,"-",{"$f":"L120","v":"Gruppe B5"},null,null,null,null,null,null,null,null,null,null,null,null,null,null,null,null,null,null,{"$f":"IF(ISBLANK('Gruppe B1'!AW54),\"\",'Gruppe B1'!AW54)","v":1},null,":",{"$f":"IF(ISBLANK('Gruppe B1'!AZ54),\"\",'Gruppe B1'!AZ54)","v":1},null,null,null,null,null,1,":",1]
[{"$f":"VLOOKUP(B155,Vorgaben!B$10:C$16,2,FALSE)","v":{"$error":"#N/A"}},28,null,"18:45:00",null,null,null,null,null,{"$f":"L116","v":"Gruppe B1"},null,null,null,null,null,null,null,null,null,null,null,null,null,null,null,null,null,null,"-",{"$f":"L122","v":"Gruppe B7"},null,null,null,null,null,null,null,null,null,null,null,null,null,null,null,null,null,null,{"$f":"IF(ISBLANK('Gruppe B1'!AW55),\"\",'Gruppe B1'!AW55)","v":1},null,":",{"$f":"IF(ISBLANK('Gruppe B1'!AZ55),\"\",'Gruppe B1'!AZ55)","v":1},null,null,null,null,null,{"$f":"IF(AW155=\"\",0,IF(ISBLANK(AW155),\"0\",IF(AW155>AZ155,3,IF(AW155=AZ155,1,0))))","v":1},":",1]
[]
[]
[null,"III. Abschlußtabelle"]
[]
[null,null,null,null,null,null,null,null,"Mannschaften",null,null,null,null,null,null,null,null,null,null,null,null,null,null,null,null,null,null,null,null,null,null,null,null,null,null,null,"Sp.",null,null,"Pkt.",null,null,"Tore",null,null,null,null,"Diff."]
[null,null,null,null,null,null,null,null,"1.",null,{"$f":"BM134","v":"Gruppe B3"},null,null,null,null,null,null,null,null,null,null,null,null,null,null,null,null,null,null,null,null,null,null,null,null,null,{"$f":"BN134","v":6},null,null,{"$f":"BO134","v":8},null,null,{"$f":"BP134","v":8},null,":",{"$f":"BR134","v":6},null,{"$f":"BS134","v":2}]
[null,null,null,null,null,null,null,null,"2.",null,{"$f":"BM135","v":"Gruppe B1"},null,null,null,null,null,null,null,null,null,null,null,null,null,null,null,null,null,null,null,null,null,null,null,null,null,{"$f":"BN135","v":6},null,null,{"$f":"BO135","v":8},null,null,{"$f":"BP135","v":7},null,":",{"$f":"BR135","v":5},null,{"$f":"BS135","v":2}]
[null,null,null,null,null,null,null,null,"3.",null,"Gruppe B6",null,null,null,null,null,null,null,null,null,null,null,null,null,null,null,null,null,null,null,null,null,null,null,null,null,6,null,null,8,null,null,7,null,":",6,null,1]
[null,null,null,null,null,null,null,null,"4.",null,"Gruppe B5",null,null,null,null,null,null,null,null,null,null,null,null,null,null,null,null,null,null,null,null,null,null,null,null,null,6,null,null,6,null,null,6,null,":",6,null,0]
[null,null,null,null,null,null,null,null,"5.",null,"Gruppe B7",null,null,null,null,null,null,null,null,null,null,null,null,null,null,null,null,null,null,null,null,null,null,null,null,null,6,null,null,6,null,null,6,null,":",6,null,0]
[null,null,null,null,null,null,null,null,"6.",null,"Gruppe B8",null,null,null,null,null,null,null,null,null,null,null,null,null,null,null,null,null,null,null,null,null,null,null,null,null,6,null,null,{"$f":"BO139","v":6},null,null,6,null,":",6,null,0]
[null,null,null,null,null,null,null,null,"7.",null,"Gruppe B4",null,null,null,null,null,null,null,null,null,null,null,null,null,null,null,null,null,null,null,null,null,null,null,null,null,6,null,null,{"$f":"BO140","v":5},null,null,6,null,":",8,null,-2]
[null,null,null,null,null,null,null,null,"8.",null,"Gruppe B2",null,null,null,null,null,null,null,null,null,null,null,null,null,null,null,null,null,null,null,null,null,null,null,null,null,6,null,null,4,null,null,5,null,":",8,null,-3]
[]
[]
[]
[]
[]
[]
[]
[]
[]
[]
[]
[]
[]
[]
[]
[]
[]
[]
[]
[]
[]
[]
[]
[]
[]
[]
[]
[]
[]
[]
[]
[]
[]
["Vorrunde"]
["Gruppe C"]
[]
[]
[]
[]
[]
[]
[null,null,null,null,null,null,"Beginn:",{"$f":"Vorgaben!C204","v":"00:00:00"},null,null,null,null,"Uhr",null,null,null,null,null,null,"Spielzeit:",{"$f":"Vorgaben!C205","v":0},"1x","x",{"$f":"Vorgaben!C206","v":"00:00:00"},null,null,null,null,"min",null,null,null,null,null,null,null,"Pause:",{"$f":"Vorgaben!C207","v":"00:00:00"},null,null,null,null,"min"]
[]
[]
[null,"I. Teilnehmende Mannschaften"]
[]
[null,null,null,null,null,null,null,null,null,"Mannschaften"]
[null,null,null,null,null,null,null,null,null,"1.",null,{"$f":"'VR Gruppeneinteilung'!B13","v":"Gruppe C1"}]
[null,null,null,null,null,null,null,null,null,"2.",null,{"$f":"'VR Gruppeneinteilung'!B14","v":"Gruppe C2"}]
[null,null,null,null,null,null,null,null,null,"3.",null,{"$f":"'VR Gruppeneinteilung'!B15","v":"Gruppe C3"}]
[null,null,null,null,null,null,null,null,null,"4.",null,{"$f":"'VR Gruppeneinteilung'!B16","v":"Gruppe C4"}]
[null,null,null,null,null,null,null,null,null,"5.",null,{"$f":"'VR Gruppeneinteilung'!B17","v":"Gruppe C5"}]
[null,null,null,null,null,null,null,null,null,"6.",null,{"$f":"'VR Gruppeneinteilung'!B18","v":"Gruppe C6"}]
[null,null,null,null,null,null,null,null,null,"7.",null,{"$f":"'VR Gruppeneinteilung'!B19","v":"Gruppe C7"}]
[null,null,null,null,null,null,null,null,null,"8.",null,{"$f":"'VR Gruppeneinteilung'!B20","v":"Gruppe C8"}]
[]
[null,"II. Spielplan"]
[]
[null,"Nr.",null,"Beginn",null,null,null,null,null,null,"Spielpaarung",null,null,null,null,null,null,null,null,null,null,null,null,null,null,null,null,null,null,null,null,null,null,null,null,null,null,null,null,null,null,null,null,null,null,null,null,null,"Ergebnis",null,null,null,null,null,null,null,null,"Punkte"]
[{"$f":"VLOOKUP(B228,Vorgaben!B208:C214,2,FALSE)","v":{"$error":"#N/A"}},1,null,{"$f":"$H$10","v":"14:15:00"},null,null,null,null,null,{"$f":"L216","v":"Gruppe C1"},null,null,null,null,null,null,null,null,null,null,null,null,null,null,null,null,null,null,"-",{"$f":"L217","v":"Gruppe C2"},null,null,null,null,null,null,null,null,null,null,null,null,null,null,null,null,null,null,{"$f":"IF(ISBLANK('Gruppe C1'!AW28),\"\",'Gruppe C1'!AW28)","v":""},null,":",{"$f":"IF(ISBLANK('Gruppe C1'!AZ28),\"\",'Gruppe C1'!AZ28)","v":""},null,null,null,null,null,{"$f":"IF(AW228=\"\",0,IF(ISBLANK(AW228),\"0\",IF(AW228>AZ228,3,IF(AW228=AZ228,1,0))))","v":0},":",{"$f":"IF(AZ228=\"\",0,IF(ISBLANK(AZ228),\"0\",IF(AZ228>AW228,3,IF(AZ228=AW228,1,0))))","v":0}]
[{"$f":"VLOOKUP(B229,Vorgaben!B$10:C$16,2,FALSE)","v":{"$error":"#N/A"}},2,null,{"$f":"IF(ISNA(A229),D228+($U$10*$X$10+$AL$10),D228+($U$10*$X$10+$AL$10)+A229)","v":"14:25:00"},null,null,null,null,null,{"$f":"L218","v":"Gruppe C3"},null,null,null,null,null,null,null,null,null,null,null,null,null,null,null,null,null,null,"-",{"$f":"L219","v":"Gruppe C4"},null,null,null,null,null,null,null,null,null,null,null,null,null,null,null,null,null,null,{"$f":"IF(ISBLANK('Gruppe C1'!AW29),\"\",'Gruppe C1'!AW29)","v":""},null,":",{"$f":"IF(ISBLANK('Gruppe C1'!AZ29),\"\",'Gruppe C1'!AZ29)","v":""},null,null,null,null,null,0,":",{"$f":"IF(AZ229=\"\",0,IF(ISBLANK(AZ229),\"0\",IF(AZ229>AW229,3,IF(AZ229=AW229,1,0))))","v":0}]
[{"$f":"VLOOKUP(B230,Vorgaben!B$10:C$16,2,FALSE)","v":{"$error":"#N/A"}},3,null,{"$f":"IF(ISNA(A230),D229+($U$10*$X$10+$AL$10),D229+($U$10*$X$10+$AL$10)+A230)","v":"14:35:00"},null,null,null,null,null,{"$f":"L220","v":"Gruppe C5"},null,null,null,null,null,null,null,null,null,null,null,null,null,null,null,null,null,null,"-",{"$f":"L221","v":"Gruppe C6"},null,null,null,null,null,null,null,null,null,null,null,null,null,null,null,null,null,null,{"$f":"IF(ISBLANK('Gruppe C1'!AW30),\"\",'Gruppe C1'!AW30)","v":5},null,":",{"$f":"IF(ISBLANK('Gruppe C1'!AZ30),\"\",'Gruppe C1'!AZ30)","v":0},null,null,null,null,null,3,":",0,null,null,null,null,{"$f":"IF(BM232=\"Min. 3 Teams identisch.  HANDSORTIERUNG!\",BM232,IF(BM232=\"ACHTUNG! Direkter Vergleich war unentschieden!\",BM232,BM231))","v":"ACHTUNG: Direkter Vergleich erfolgreich durchlaufen!"}]
[{"$f":"VLOOKUP(B231,Vorgaben!B$10:C$16,2,FALSE)","v":{"$error":"#N/A"}},4,null,{"$f":"IF(ISNA(A231),D230+($U$10*$X$10+$AL$10),D230+($U$10*$X$10+$AL$10)+A231)","v":"14:45:00"},null,null,null,null,null,{"$f":"L222","v":"Gruppe C7"},null,null,null,null,null,null,null,null,null,null,null,null,null,null,null,null,null,null,"-",{"$f":"L223","v":"Gruppe C8"},null,null,null,null,null,null,null,null,null,null,null,null,null,null,null,null,null,null,{"$f":"IF(ISBLANK('Gruppe C1'!AW31),\"\",'Gruppe C1'!AW31)","v":2},null,":",{"$f":"IF(ISBLANK('Gruppe C1'!AZ31),\"\",'Gruppe C1'!AZ31)","v":0},null,null,null,null,null,3,":",0,null,null,null,null,{"$f":"IF(AND(EXACT(BO234,BO235),EXACT(BP234,BP235),EXACT(BS234,BS235)),\"ACHTUNG: Direkter Vergleich erfolgreich durchlaufen!\",IF(AND(EXACT(BO235,BO236),EXACT(BP235,BP236),EXACT(BS235,BS236)),\"ACHTUNG: Direkter Vergleich erfolgreich durchlaufen!\",IF(AND(EXACT(BO236,BO237),EXACT(BP236,BP237),EXACT(BS236,BS237)),\"ACHTUNG: Direkter Vergleich erfolgreich durchlaufen!\",IF(AND(EXACT(BO237,BO238),EXACT(BP237,BP238),EXACT(BS237,BS238)),\"ACHTUNG: Direkter Vergleich erfolgreich durchlaufen!\",IF(AND(EXACT(BO238,BO239),EXACT(BP238,BP239),EXACT(BS238,BS239)),\"ACHTUNG: Direkter Vergleich erfolgreich durchlaufen!\",IF(AND(EXACT(BO239,BO240),EXACT(BP239,BP240),EXACT(BS239,BS240)),\"ACHTUNG: Direkter Vergleich erfolgreich durchlaufen!\",IF(AND(EXACT(BO240,BO241),EXACT(BP240,BP241),EXACT(BS240,BS241)),\"ACHTUNG: Direkter Vergleich erfolgreich durchlaufen!\",\"\")))))))","v":"ACHTUNG: Direkter Vergleich erfolgreich durchlaufen!"}]
[{"$f":"IF(VLOOKUP(B232,Vorgaben!B$10:C$16,2,FALSE)=\"\",\"\",VLOOKUP(B232,Vorgaben!B$10:C$16,2,FALSE))","v":{"$error":"#N/A"}},5,null,{"$f":"IF(ISNA(A232),D231+($U$10*$X$10+$AL$10),D231+($U$10*$X$10+$AL$10)+A232)","v":"14:55:00"},null,null,null,null,null,{"$f":"L219","v":"Gruppe C4"},null,null,null,null,null,null,null,null,null,null,null,null,null,null,null,null,null,null,"-",{"$f":"L216","v":"Gruppe C1"},null,null,null,null,null,null,null,null,null,null,null,null,null,null,null,null,null,null,{"$f":"IF(ISBLANK('Gruppe C1'!AW32),\"\",'Gruppe C1'!AW32)","v":3},null,":",{"$f":"IF(ISBLANK('Gruppe C1'!AZ32),\"\",'Gruppe C1'!AZ32)","v":1},null,null,null,null,null,3,":",0,null,null,null,null,{"$f":"IF(OR(CC234=3,CC235=3,CC236=3,CC237=3,CC238=3,CC239=3,CC240=3,CC241=3),\"Min. 3 Teams identisch.  HANDSORTIERUNG!\",IF(OR(CB234=\"ACHTUNG! Direkter Vergleich war unentschieden!\",CB235=\"ACHTUNG! Direkter Vergleich war unentschieden!\",CB236=\"ACHTUNG! Direkter Vergleich war unentschieden!\",CB237=\"ACHTUNG! Direkter Vergleich war unentschieden!\",CB238=\"ACHTUNG! Direkter Vergleich war unentschieden!\",CB239=\"ACHTUNG! Direkter Vergleich war unentschieden!\",CB240=\"ACHTUNG! Direkter Vergleich war unentschieden!\",CB241=\"ACHTUNG! Direkter Vergleich war unentschieden!\"),\"ACHTUNG! Direkter Vergleich war unentschieden!\",\"\"))","v":""}]
[{"$f":"VLOOKUP(B233,Vorgaben!B$10:C$16,2,FALSE)","v":{"$error":"#N/A"}},6,null,"15:05:00",null,null,null,null,null,{"$f":"L217","v":"Gruppe C2"},null,null,null,null,null,null,null,null,null,null,null,null,null,null,null,null,null,null,"-",{"$f":"L218","v":"Gruppe C3"},null,null,null,null,null,null,null,null,null,null,null,null,null,null,null,null,null,null,{"$f":"IF(ISBLANK('Gruppe C1'!AW33),\"\",'Gruppe C1'!AW33)","v":4},null,":",{"$f":"IF(ISBLANK('Gruppe C1'!AZ33),\"\",'Gruppe C1'!AZ33)","v":5},null,null,null,null,null,0,":",3]
[{"$f":"VLOOKUP(B234,Vorgaben!B$10:C$16,2,FALSE)","v":{"$error":"#N/A"}},7,null,"15:15:00",null,null,null,null,null,{"$f":"L223","v":"Gruppe C8"},null,null,null,null,null,null,null,null,null,null,null,null,null,null,null,null,null,null,"-",{"$f":"L220","v":"Gruppe C5"},null,null,null,null,null,null,null,null,null,null,null,null,null,null,null,null,null,null,{"$f":"IF(ISBLANK('Gruppe C1'!AW34),\"\",'Gruppe C1'!AW34)","v":""},null,":",{"$f":"IF(ISBLANK('Gruppe C1'!AZ34),\"\",'Gruppe C1'!AZ34)","v":""},null,null,null,null,null,0,":",0,null,null,null,{"$f":"INDEX(Vorgaben!B$29:D$36,MATCH($BM234,Vorgaben!B$29:B$36,0),3)","v":0},{"$f":"'Gruppe C1'!$BM$34","v":"Gruppe C5"},{"$f":"'Gruppe C1'!$BN$34","v":3},{"$f":"'Gruppe C1'!$BO$34","v":9},{"$f":"'Gruppe C1'!$BP$34","v":12},{"$f":"'Gruppe C1'!BQ134","v":0},{"$f":"'Gruppe C1'!$BR$34","v":1},{"$f":"'Gruppe C1'!$BS$34","v":11},{"$f":"BV234","v":0},null,{"$f":"IF(BX234>BY235,10,IF(BX234<BY235,-10,0))","v":0},null,{"$f":"IF(ISNA(INDEX(BF$228:BF$255,MATCH(BM234&BM235,J$228:J$255&AD$228:AD$255,0))),INDEX(BH$228:BH$255,MATCH(BM235&BM234,J$228:J$255&AD$228:AD$255,0)),INDEX(BF$228:BF$255,MATCH(BM234&BM235,J$228:J$255&AD$228:AD$255,0)))","v":0},null,{"$f":"IF(AND(EXACT(BO234,BO235),EXACT(BP234,BP235),EXACT(BS234,BS235),EXACT(BX234,BY235)),\"ACHTUNG! Direkter Vergleich war unentschieden!\",IF(AND(EXACT(BO234,BO235),EXACT(BP234,BP235),EXACT(BS234,BS235)),1,2))","v":2},{"$f":"IF(AND(EXACT(BO233,BO234),EXACT(BP233,BP234),EXACT(BS233,BS234),EXACT(BX234,BY233)),\"ACHTUNG! Direkter Vergleich war unentschieden!\",\"\")","v":""},{"$f":"IF(OR(BZ234=\"ACHTUNG! Direkter Vergleich war unentschieden!\",CA234=\"ACHTUNG! Direkter Vergleich war unentschieden!\"),\"ACHTUNG! Direkter Vergleich war unentschieden!\",\"\")","v":""},{"$f":"IF(OR(AND(EXACT(BO234,BO235),EXACT(BP234,BP235),EXACT(BS234,BS235),EXACT(BO234,BO236),EXACT(BP234,BP236),EXACT(BS234,BS236)),AND(EXACT(BO234,BO235),EXACT(BP234,BP235),EXACT(BS234,BS235),EXACT(BO234,BO233),EXACT(BP234,BP233),EXACT(BS234,BS233))*AND(EXACT(BO234,BO232),EXACT(BP234,BP232),EXACT(BS234,BS232),EXACT(BO234,BO233),EXACT(BP234,BP233),EXACT(BS234,BS233))),3,1)","v":1}]
[{"$f":"VLOOKUP(B235,Vorgaben!B$10:C$16,2,FALSE)","v":{"$error":"#N/A"}},8,null,"15:25:00",null,null,null,null,null,{"$f":"L221","v":"Gruppe C6"},null,null,null,null,null,null,null,null,null,null,null,null,null,null,null,null,null,null,"-",{"$f":"L222","v":"Gruppe C7"},null,null,null,null,null,null,null,null,null,null,null,null,null,null,null,null,null,null,{"$f":"IF(ISBLANK('Gruppe C1'!AW35),\"\",'Gruppe C1'!AW35)","v":""},null,":",{"$f":"IF(ISBLANK('Gruppe C1'!AZ35),\"\",'Gruppe C1'!AZ35)","v":""},null,null,null,null,null,0,":",0,null,null,null,{"$f":"INDEX(Vorgaben!B$29:D$36,MATCH($BM235,Vorgaben!B$29:B$36,0),3)","v":0},{"$f":"'Gruppe C1'!$BM$40","v":"Gruppe C8"},{"$f":"'Gruppe C1'!$BN$40","v":3},{"$f":"'Gruppe C1'!$BO$40","v":6},{"$f":"'Gruppe C1'!$BP$40","v":9},{"$f":"'Gruppe C1'!BQ140","v":0},{"$f":"'Gruppe C1'!$BR$40","v":3},{"$f":"'Gruppe C1'!$BS$40","v":6},{"$f":"BV235","v":0},{"$f":"BW235","v":10},{"$f":"IF(BX234<BY235,10,IF(BX234>BY235,-10,0))","v":0},{"$f":"IF(BX235>BY236,10,IF(BX235<BY236,-10,0))","v":10},{"$f":"IF(ISNA(INDEX(BF$228:BF$255,MATCH(BM235&BM236,J$228:J$255&AD$228:AD$255,0))),INDEX(BH$228:BH$255,MATCH(BM236&BM235,J$228:J$255&AD$228:AD$255,0)),INDEX(BF$228:BF$255,MATCH(BM235&BM236,J$228:J$255&AD$228:AD$255,0)))","v":3},{"$f":"IF(ISNA(INDEX(BF$228:BF$255,MATCH(BM235&BM234,J$228:J$255&AD$228:AD$255,0))),INDEX(BH$228:BH$255,MATCH(BM234&BM235,J$228:J$255&AD$228:AD$255,0)),INDEX(BF$228:BF$255,MATCH(BM235&BM234,J$228:J$255&AD$228:AD$255,0)))","v":0},1,{"$f":"IF(AND(EXACT(BO234,BO235),EXACT(BP234,BP235),EXACT(BS234,BS235),EXACT(BY235,BX234)),\"ACHTUNG! Direkter Vergleich war unentschieden!\",IF(AND(EXACT(BO234,BO235),EXACT(BP234,BP235),EXACT(BS234,BS235)),1,2))","v":2},"",1]
[{"$f":"VLOOKUP(B236,Vorgaben!B$10:C$16,2,FALSE)","v":{"$error":"#N/A"}},9,null,"15:35:00",null,null,null,null,null,{"$f":"L220","v":"Gruppe C5"},null,null,null,null,null,null,null,null,null,null,null,null,null,null,null,null,null,null,"-",{"$f":"L219","v":"Gruppe C4"},null,null,null,null,null,null,null,null,null,null,null,null,null,null,null,null,null,null,{"$f":"IF(ISBLANK('Gruppe C1'!AW36),\"\",'Gruppe C1'!AW36)","v":""},null,":",{"$f":"IF(ISBLANK('Gruppe C1'!AZ36),\"\",'Gruppe C1'!AZ36)","v":""},null,null,null,null,null,0,":",0,null,null,null,{"$f":"INDEX(Vorgaben!B$29:D$36,MATCH($BM236,Vorgaben!B$29:B$36,0),3)","v":0},{"$f":"'Gruppe C1'!$BM$39","v":"Gruppe C4"},{"$f":"'Gruppe C1'!$BN$39","v":3},{"$f":"'Gruppe C1'!$BO$39","v":6},{"$f":"'Gruppe C1'!$BP$39","v":9},{"$f":"'Gruppe C1'!BQ139","v":0},{"$f":"'Gruppe C1'!$BR$39","v":3},{"$f":"'Gruppe C1'!$BS$39","v":6},{"$f":"BV236","v":-10},0,-10,{"$f":"IF(BX236>BY237,10,IF(BX236<BY237,-10,0))","v":0},{"$f":"IF(ISNA(INDEX(BF$228:BF$255,MATCH(BM236&BM237,J$228:J$255&AD$228:AD$255,0))),INDEX(BH$228:BH$255,MATCH(BM237&BM236,J$228:J$255&AD$228:AD$255,0)),INDEX(BF$228:BF$255,MATCH(BM236&BM237,J$228:J$255&AD$228:AD$255,0)))","v":0},{"$f":"IF(ISNA(INDEX(BF$228:BF$255,MATCH(BM236&BM235,J$228:J$255&AD$228:AD$255,0))),INDEX(BH$228:BH$255,MATCH(BM235&BM236,J$228:J$255&AD$228:AD$255,0)),INDEX(BF$228:BF$255,MATCH(BM236&BM235,J$228:J$255&AD$228:AD$255,0)))","v":0},2,1,"",{"$f":"IF(OR(AND(EXACT(BO236,BO237),EXACT(BP236,BP237),EXACT(BS236,BS237),EXACT(BO236,BO238),EXACT(BP236,BP238),EXACT(BS236,BS238)),AND(EXACT(BO236,BO237),EXACT(BP236,BP237),EXACT(BS236,BS237),EXACT(BO236,BO235),EXACT(BP236,BP235),EXACT(BS236,BS235))*AND(EXACT(BO236,BO234),EXACT(BP236,BP234),EXACT(BS236,BS234),EXACT(BO236,BO235),EXACT(BP236,BP235),EXACT(BS236,BS235))),3,1)","v":1}]
[{"$f":"VLOOKUP(B237,Vorgaben!B$10:C$16,2,FALSE)","v":{"$error":"#N/A"}},10,null,"15:45:00",null,null,null,null,null,{"$f":"L216","v":"Gruppe C1"},null,null,null,null,null,null,null,null,null,null,null,null,null,null,null,null,null,null,"-",{"$f":"L218","v":"Gruppe C3"},null,null,null,null,null,null,null,null,null,null,null,null,null,null,null,null,null,null,{"$f":"IF(ISBLANK('Gruppe C1'!AW37),\"\",'Gruppe C1'!AW37)","v":""},null,":",{"$f":"IF(ISBLANK('Gruppe C1'!AZ37),\"\",'Gruppe C1'!AZ37)","v":""},null,null,null,null,null,0,":",0,null,null,null,{"$f":"INDEX(Vorgaben!B$29:D$36,MATCH($BM237,Vorgaben!B$29:B$36,0),3)","v":0},{"$f":"'Gruppe C1'!$BM$36","v":"Gruppe C3"},{"$f":"'Gruppe C1'!$BN$36","v":3},{"$f":"'Gruppe C1'!$BO$36","v":6},{"$f":"'Gruppe C1'!$BP$36","v":10},{"$f":"'Gruppe C1'!BQ136","v":0},{"$f":"'Gruppe C1'!$BR$36","v":14},{"$f":"'Gruppe C1'!$BS$36","v":-4},{"$f":"BV237","v":0},0,0,{"$f":"IF(BX236<BY237,10,IF(BX236>BY237,-10,0))","v":0},{"$f":"IF(ISNA(INDEX(BF$228:BF$255,MATCH(BM237&BM238,J$228:J$255&AD$228:AD$255,0))),INDEX(BH$228:BH$255,MATCH(BM238&BM237,J$228:J$255&AD$228:AD$255,0)),INDEX(BF$228:BF$255,MATCH(BM237&BM238,J$228:J$255&AD$228:AD$255,0)))","v":3},{"$f":"IF(ISNA(INDEX(BF$228:BF$255,MATCH(BM237&BM236,J$228:J$255&AD$228:AD$255,0))),INDEX(BH$228:BH$255,MATCH(BM236&BM237,J$228:J$255&AD$228:AD$255,0)),INDEX(BF$228:BF$255,MATCH(BM237&BM236,J$228:J$255&AD$228:AD$255,0)))","v":0},2,2,"",{"$f":"IF(OR(AND(EXACT(BO237,BO238),EXACT(BP237,BP238),EXACT(BS237,BS238),EXACT(BO237,BO239),EXACT(BP237,BP239),EXACT(BS237,BS239)),AND(EXACT(BO237,BO238),EXACT(BP237,BP238),EXACT(BS237,BS238),EXACT(BO237,BO236),EXACT(BP237,BP236),EXACT(BS237,BS236))*AND(EXACT(BO237,BO235),EXACT(BP237,BP235),EXACT(BS237,BS235),EXACT(BO237,BO236),EXACT(BP237,BP236),EXACT(BS237,BS236))),3,1)","v":1}]
[{"$f":"VLOOKUP(B238,Vorgaben!B$10:C$16,2,FALSE)","v":{"$error":"#N/A"}},11,null,"15:55:00",null,null,null,null,null,{"$f":"L217","v":"Gruppe C2"},null,null,null,null,null,null,null,null,null,null,null,null,null,null,null,null,null,null,"-",{"$f":"L222","v":"Gruppe C7"},null,null,null,null,null,null,null,null,null,null,null,null,null,null,null,null,null,null,{"$f":"IF(ISBLANK('Gruppe C1'!AW38),\"\",'Gruppe C1'!AW38)","v":""},null,":",{"$f":"IF(ISBLANK('Gruppe C1'!AZ38),\"\",'Gruppe C1'!AZ38)","v":""},null,null,null,null,null,0,":",0,null,null,null,{"$f":"INDEX(Vorgaben!B$29:D$36,MATCH($BM238,Vorgaben!B$29:B$36,0),3)","v":0},{"$f":"'Gruppe C1'!$BM$35","v":"Gruppe C7"},{"$f":"'Gruppe C1'!$BN$35","v":2},{"$f":"'Gruppe C1'!$BO$35","v":3},{"$f":"'Gruppe C1'!$BP$35","v":4},{"$f":"'Gruppe C1'!BQ135","v":0},{"$f":"'Gruppe C1'!$BR$35","v":4},{"$f":"'Gruppe C1'!$BS$35","v":0},-10,0,-10,{"$f":"IF(BX238>BY239,10,IF(BX238<BY239,-10,0))","v":0},{"$f":"IF(ISNA(INDEX(BF$228:BF$255,MATCH(BM238&BM239,J$228:J$255&AD$228:AD$255,0))),INDEX(BH$228:BH$255,MATCH(BM239&BM238,J$228:J$255&AD$228:AD$255,0)),INDEX(BF$228:BF$255,MATCH(BM238&BM239,J$228:J$255&AD$228:AD$255,0)))","v":0},{"$f":"IF(ISNA(INDEX(BF$228:BF$255,MATCH(BM238&BM237,J$228:J$255&AD$228:AD$255,0))),INDEX(BH$228:BH$255,MATCH(BM237&BM238,J$228:J$255&AD$228:AD$255,0)),INDEX(BF$228:BF$255,MATCH(BM238&BM237,J$228:J$255&AD$228:AD$255,0)))","v":0},2,2,"",1]
[{"$f":"VLOOKUP(B239,Vorgaben!B$10:C$16,2,FALSE)","v":{"$error":"#N/A"}},12,null,"16:05:00",null,null,null,null,null,{"$f":"L221","v":"Gruppe C6"},null,null,null,null,null,null,null,null,null,null,null,null,null,null,null,null,null,null,"-",{"$f":"L223","v":"Gruppe C8"},null,null,null,null,null,null,null,null,null,null,null,null,null,null,null,null,null,null,{"$f":"IF(ISBLANK('Gruppe C1'!AW39),\"\",'Gruppe C1'!AW39)","v":""},null,":",{"$f":"IF(ISBLANK('Gruppe C1'!AZ39),\"\",'Gruppe C1'!AZ39)","v":""},null,null,null,null,null,0,":",0,null,null,null,{"$f":"INDEX(Vorgaben!B$29:D$36,MATCH($BM239,Vorgaben!B$29:B$36,0),3)","v":0},{"$f":"'Gruppe C1'!$BM$37","v":"Gruppe C2"},{"$f":"'Gruppe C1'!$BN$37","v":2},{"$f":"'Gruppe C1'!$BO$37","v":0},{"$f":"'Gruppe C1'!$BP$37","v":5},{"$f":"'Gruppe C1'!BQ137","v":0},{"$f":"'Gruppe C1'!$BR$37","v":9},{"$f":"'Gruppe C1'!$BS$37","v":-4},0,0,0,{"$f":"IF(BX238<BY239,10,IF(BX238>BY239,-10,0))","v":0},{"$f":"IF(ISNA(INDEX(BF$228:BF$255,MATCH(BM239&BM240,J$228:J$255&AD$228:AD$255,0))),INDEX(BH$228:BH$255,MATCH(BM240&BM239,J$228:J$255&AD$228:AD$255,0)),INDEX(BF$228:BF$255,MATCH(BM239&BM240,J$228:J$255&AD$228:AD$255,0)))","v":0},{"$f":"IF(ISNA(INDEX(BF$228:BF$255,MATCH(BM239&BM238,J$228:J$255&AD$228:AD$255,0))),INDEX(BH$228:BH$255,MATCH(BM238&BM239,J$228:J$255&AD$228:AD$255,0)),INDEX(BF$228:BF$255,MATCH(BM239&BM238,J$228:J$255&AD$228:AD$255,0)))","v":0},2,2,"",1]
[{"$f":"VLOOKUP(B240,Vorgaben!B$10:C$16,2,FALSE)","v":{"$error":"#N/A"}},13,null,"16:15:00",null,null,null,null,null,{"$f":"L219","v":"Gruppe C4"},null,null,null,null,null,null,null,null,null,null,null,null,null,null,null,null,null,null,"-",{"$f":"L217","v":"Gruppe C2"},null,null,null,null,null,null,null,null,null,null,null,null,null,null,null,null,null,null,{"$f":"IF(ISBLANK('Gruppe C1'!AW40),\"\",'Gruppe C1'!AW40)","v":""},null,":",{"$f":"IF(ISBLANK('Gruppe C1'!AZ40),\"\",'Gruppe C1'!AZ40)","v":""},null,null,null,null,null,0,":",0,null,null,null,{"$f":"INDEX(Vorgaben!B$29:D$36,MATCH($BM240,Vorgaben!B$29:B$36,0),3)","v":0},{"$f":"'Gruppe C1'!$BM$38","v":"Gruppe C1"},{"$f":"'Gruppe C1'!$BN$38","v":2},{"$f":"'Gruppe C1'!$BO$38","v":0},{"$f":"'Gruppe C1'!$BP$38","v":1},{"$f":"'Gruppe C1'!BQ138","v":0},{"$f":"'Gruppe C1'!$BR$38","v":6},{"$f":"'Gruppe C1'!$BS$38","v":-5},0,0,0,{"$f":"IF(BX239<BY240,10,IF(BX239>BY240,-10,0))","v":0},{"$f":"IF(ISNA(INDEX(BF$228:BF$255,MATCH(BM240&BM241,J$228:J$255&AD$228:AD$255,0))),INDEX(BH$228:BH$255,MATCH(BM241&BM240,J$228:J$255&AD$228:AD$255,0)),INDEX(BF$228:BF$255,MATCH(BM240&BM241,J$228:J$255&AD$228:AD$255,0)))","v":0},{"$f":"IF(ISNA(INDEX(BF$228:BF$255,MATCH(BM240&BM239,J$228:J$255&AD$228:AD$255,0))),INDEX(BH$228:BH$255,MATCH(BM239&BM240,J$228:J$255&AD$228:AD$255,0)),INDEX(BF$228:BF$255,MATCH(BM240&BM239,J$228:J$255&AD$228:AD$255,0)))","v":0},2,2,"",1]
[{"$f":"VLOOKUP(B241,Vorgaben!B$10:C$16,2,FALSE)","v":{"$error":"#N/A"}},14,null,"16:25:00",null,null,null,null,null,{"$f":"L222","v":"Gruppe C7"},null,null,null,null,null,null,null,null,null,null,null,null,null,null,null,null,null,null,"-",{"$f":"L220","v":"Gruppe C5"},null,null,null,null,null,null,null,null,null,null,null,null,null,null,null,null,null,null,{"$f":"IF(ISBLANK('Gruppe C1'!AW41),\"\",'Gruppe C1'!AW41)","v":""},null,":",{"$f":"IF(ISBLANK('Gruppe C1'!AZ41),\"\",'Gruppe C1'!AZ41)","v":""},null,null,null,null,null,0,":",0,null,null,null,{"$f":"INDEX(Vorgaben!B$29:D$36,MATCH($BM241,Vorgaben!B$29:B$36,0),3)","v":0},{"$f":"'Gruppe C1'!$BM$41","v":"Gruppe C6"},{"$f":"'Gruppe C1'!$BN$41","v":2},{"$f":"'Gruppe C1'!$BO$41","v":0},{"$f":"'Gruppe C1'!$BP$41","v":1},{"$f":"'Gruppe C1'!BQ141","v":0},{"$f":"'Gruppe C1'!$BR$41","v":11},{"$f":"'Gruppe C1'!$BS$41","v":-10},0,0,0,null,null,{"$f":"IF(ISNA(INDEX(BF$228:BF$255,MATCH(BM241&BM240,J$228:J$255&AD$228:AD$255,0))),INDEX(BH$228:BH$255,MATCH(BM240&BM241,J$228:J$255&AD$228:AD$255,0)),INDEX(BF$228:BF$255,MATCH(BM241&BM240,J$228:J$255&AD$228:AD$255,0)))","v":0},{"$f":"IF(AND(EXACT(BO241,BO242),EXACT(BP241,BP242),EXACT(BS241,BS242),EXACT(BX241,BY242)),\"ACHTUNG! Direkter Vergleich war unentschieden!\",\"\")","v":""},2,"",1]
[{"$f":"VLOOKUP(B242,Vorgaben!B$10:C$16,2,FALSE)","v":{"$error":"#N/A"}},15,null,"16:35:00",null,null,null,null,null,{"$f":"L223","v":"Gruppe C8"},null,null,null,null,null,null,null,null,null,null,null,null,null,null,null,null,null,null,"-",{"$f":"L216","v":"Gruppe C1"},null,null,null,null,null,null,null,null,null,null,null,null,null,null,null,null,null,null,{"$f":"IF(ISBLANK('Gruppe C1'!AW42),\"\",'Gruppe C1'!AW42)","v":""},null,":",{"$f":"IF(ISBLANK('Gruppe C1'!AZ42),\"\",'Gruppe C1'!AZ42)","v":""},null,null,null,null,null,0,":",0]
[{"$f":"VLOOKUP(B243,Vorgaben!B$10:C$16,2,FALSE)","v":{"$error":"#N/A"}},16,null,"16:45:00",null,null,null,null,null,{"$f":"L218","v":"Gruppe C3"},null,null,null,null,null,null,null,null,null,null,null,null,null,null,null,null,null,null,"-",{"$f":"L221","v":"Gruppe C6"},null,null,null,null,null,null,null,null,null,null,null,null,null,null,null,null,null,null,{"$f":"IF(ISBLANK('Gruppe C1'!AW43),\"\",'Gruppe C1'!AW43)","v":""},null,":",{"$f":"IF(ISBLANK('Gruppe C1'!AZ43),\"\",'Gruppe C1'!AZ43)","v":""},null,null,null,null,null,0,":",0]
[{"$f":"VLOOKUP(B244,Vorgaben!B$10:C$16,2,FALSE)","v":{"$error":"#N/A"}},17,null,"16:55:00",null,null,null,null,null,{"$f":"L219","v":"Gruppe C4"},null,null,null,null,null,null,null,null,null,null,null,null,null,null,null,null,null,null,"-",{"$f":"L222","v":"Gruppe C7"},null,null,null,null,null,null,null,null,null,null,null,null,null,null,null,null,null,null,{"$f":"IF(ISBLANK('Gruppe C1'!AW44),\"\",'Gruppe C1'!AW44)","v":""},null,":",{"$f":"IF(ISBLANK('Gruppe C1'!AZ44),\"\",'Gruppe C1'!AZ44)","v":""},null,null,null,null,null,0,":",0]
[{"$f":"VLOOKUP(B245,Vorgaben!B$10:C$16,2,FALSE)","v":{"$error":"#N/A"}},18,null,"17:05:00",null,null,null,null,null,{"$f":"L217","v":"Gruppe C2"},null,null,null,null,null,null,null,null,null,null,null,null,null,null,null,null,null,null,"-",{"$f":"L223","v":"Gruppe C8"},null,null,null,null,null,null,null,null,null,null,null,null,null,null,null,null,null,null,{"$f":"IF(ISBLANK('Gruppe C1'!AW45),\"\",'Gruppe C1'!AW45)","v":""},null,":",{"$f":"IF(ISBLANK('Gruppe C1'!AZ45),\"\",'Gruppe C1'!AZ45)","v":""},null,null,null,null,null,0,":",0]
[{"$f":"VLOOKUP(B246,Vorgaben!B$10:C$16,2,FALSE)","v":{"$error":"#N/A"}},19,null,"17:15:00",null,null,null,null,null,{"$f":"L216","v":"Gruppe C1"},null,null,null,null,null,null,null,null,null,null,null,null,null,null,null,null,null,null,"-",{"$f":"L221","v":"Gruppe C6"},null,null,null,null,null,null,null,null,null,null,null,null,null,null,null,null,null,null,{"$f":"IF(ISBLANK('Gruppe C1'!AW46),\"\",'Gruppe C1'!AW46)","v":""},null,":",{"$f":"IF(ISBLANK('Gruppe C1'!AZ46),\"\",'Gruppe C1'!AZ46)","v":""},null,null,null,null,null,0,":",0]
[{"$f":"VLOOKUP(B247,Vorgaben!B$10:C$16,2,FALSE)","v":{"$error":"#N/A"}},20,null,"17:25:00",null,null,null,null,null,{"$f":"L220","v":"Gruppe C5"},null,null,null,null,null,null,null,null,null,null,null,null,null,null,null,null,null,null,"-",{"$f":"L218","v":"Gruppe C3"},null,null,null,null,null,null,null,null,null,null,null,null,null,null,null,null,null,null,{"$f":"IF(ISBLANK('Gruppe C1'!AW47),\"\",'Gruppe C1'!AW47)","v":""},null,":",{"$f":"IF(ISBLANK('Gruppe C1'!AZ47),\"\",'Gruppe C1'!AZ47)","v":""},null,null,null,null,null,0,":",0]
[{"$f":"VLOOKUP(B248,Vorgaben!B$10:C$16,2,FALSE)","v":{"$error":"#N/A"}},21,null,"17:35:00",null,null,null,null,null,{"$f":"L223","v":"Gruppe C8"},null,null,null,null,null,null,null,null,null,null,null,null,null,null,null,null,null,null,"-",{"$f":"L219","v":"Gruppe C4"},null,null,null,null,null,null,null,null,null,null,null,null,null,null,null,null,null,null,{"$f":"IF(ISBLANK('Gruppe C1'!AW48),\"\",'Gruppe C1'!AW48)","v":1},null,":",{"$f":"IF(ISBLANK('Gruppe C1'!AZ48),\"\",'Gruppe C1'!AZ48)","v":0},null,null,null,null,null,3,":",0]
[{"$f":"VLOOKUP(B249,Vorgaben!B$10:C$16,2,FALSE)","v":{"$error":"#N/A"}},22,null,"17:45:00",null,null,null,null,null,{"$f":"L221","v":"Gruppe C6"},null,null,null,null,null,null,null,null,null,null,null,null,null,null,null,null,null,null,"-",{"$f":"L217","v":"Gruppe C2"},null,null,null,null,null,null,null,null,null,null,null,null,null,null,null,null,null,null,{"$f":"IF(ISBLANK('Gruppe C1'!AW49),\"\",'Gruppe C1'!AW49)","v":""},null,":",{"$f":"IF(ISBLANK('Gruppe C1'!AZ49),\"\",'Gruppe C1'!AZ49)","v":""},null,null,null,null,null,0,":",0]
[{"$f":"VLOOKUP(B250,Vorgaben!B$10:C$16,2,FALSE)","v":{"$error":"#N/A"}},23,null,"17:55:00",null,null,null,null,null,{"$f":"L222","v":"Gruppe C7"},null,null,null,null,null,null,null,null,null,null,null,null,null,null,null,null,null,null,"-",{"$f":"L218","v":"Gruppe C3"},null,null,null,null,null,null,null,null,null,null,null,null,null,null,null,null,null,null,{"$f":"IF(ISBLANK('Gruppe C1'!AW50),\"\",'Gruppe C1'!AW50)","v":2},null,":",{"$f":"IF(ISBLANK('Gruppe C1'!AZ50),\"\",'Gruppe C1'!AZ50)","v":4},null,null,null,null,null,0,":",3]
[{"$f":"VLOOKUP(B251,Vorgaben!B$10:C$16,2,FALSE)","v":{"$error":"#N/A"}},24,null,"18:05:00",null,null,null,null,null,{"$f":"L220","v":"Gruppe C5"},null,null,null,null,null,null,null,null,null,null,null,null,null,null,null,null,null,null,"-",{"$f":"L216","v":"Gruppe C1"},null,null,null,null,null,null,null,null,null,null,null,null,null,null,null,null,null,null,{"$f":"IF(ISBLANK('Gruppe C1'!AW51),\"\",'Gruppe C1'!AW51)","v":3},null,":",{"$f":"IF(ISBLANK('Gruppe C1'!AZ51),\"\",'Gruppe C1'!AZ51)","v":0},null,null,null,null,null,3,":",0]
[{"$f":"VLOOKUP(B252,Vorgaben!B$10:C$16,2,FALSE)","v":{"$error":"#N/A"}},25,null,"18:15:00",null,null,null,null,null,{"$f":"L219","v":"Gruppe C4"},null,null,null,null,null,null,null,null,null,null,null,null,null,null,null,null,null,null,"-",{"$f":"L221","v":"Gruppe C6"},null,null,null,null,null,null,null,null,null,null,null,null,null,null,null,null,null,null,{"$f":"IF(ISBLANK('Gruppe C1'!AW52),\"\",'Gruppe C1'!AW52)","v":6},null,":",{"$f":"IF(ISBLANK('Gruppe C1'!AZ52),\"\",'Gruppe C1'!AZ52)","v":1},null,null,null,null,null,3,":",0]
[{"$f":"VLOOKUP(B253,Vorgaben!B$10:C$16,2,FALSE)","v":{"$error":"#N/A"}},26,null,"18:25:00",null,null,null,null,null,{"$f":"L218","v":"Gruppe C3"},null,null,null,null,null,null,null,null,null,null,null,null,null,null,null,null,null,null,"-",{"$f":"L223","v":"Gruppe C8"},null,null,null,null,null,null,null,null,null,null,null,null,null,null,null,null,null,null,{"$f":"IF(ISBLANK('Gruppe C1'!AW53),\"\",'Gruppe C1'!AW53)","v":1},null,":",{"$f":"IF(ISBLANK('Gruppe C1'!AZ53),\"\",'Gruppe C1'!AZ53)","v":8},null,null,null,null,null,0,":",3]
[{"$f":"VLOOKUP(B254,Vorgaben!B$10:C$16,2,FALSE)","v":{"$error":"#N/A"}},27,null,"18:35:00",null,null,null,null,null,{"$f":"L217","v":"Gruppe C2"},null,null,null,null,null,null,null,null,null,null,null,null,null,null,null,null,null,null,"-",{"$f":"L220","v":"Gruppe C5"},null,null,null,null,null,null,null,null,null,null,null,null,null,null,null,null,null,null,{"$f":"IF(ISBLANK('Gruppe C1'!AW54),\"\",'Gruppe C1'!AW54)","v":1},null,":",{"$f":"IF(ISBLANK('Gruppe C1'!AZ54),\"\",'Gruppe C1'!AZ54)","v":4},null,null,null,null,null,0,":",3]
[{"$f":"VLOOKUP(B255,Vorgaben!B$10:C$16,2,FALSE)","v":{"$error":"#N/A"}},28,null,"18:45:00",null,null,null,null,null,{"$f":"L216","v":"Gruppe C1"},null,null,null,null,null,null,null,null,null,null,null,null,null,null,null,null,null,null,"-",{"$f":"L222","v":"Gruppe C7"},null,null,null,null,null,null,null,null,null,null,null,null,null,null,null,null,null,null,{"$f":"IF(ISBLANK('Gruppe C1'!AW55),\"\",'Gruppe C1'!AW55)","v":""},null,":",{"$f":"IF(ISBLANK('Gruppe C1'!AZ55),\"\",'Gruppe C1'!AZ55)","v":""},null,null,null,null,null,{"$f":"IF(AW255=\"\",0,IF(ISBLANK(AW255),\"0\",IF(AW255>AZ255,3,IF(AW255=AZ255,1,0))))","v":0},":",0]
[]
[]
[null,"III. Abschlußtabelle"]
[]
[null,null,null,null,null,null,null,null,"Mannschaften",null,null,null,null,null,null,null,null,null,null,null,null,null,null,null,null,null,null,null,null,null,null,null,null,null,null,null,"Sp.",null,null,"Pkt.",null,null,"Tore",null,null,null,null,"Diff."]
[null,null,null,null,null,null,null,null,"1.",null,{"$f":"BM234","v":"Gruppe C5"},null,null,null,null,null,null,null,null,null,null,null,null,null,null,null,null,null,null,null,null,null,null,null,null,null,{"$f":"BN234","v":3},null,null,{"$f":"BO234","v":9},null,null,{"$f":"BP234","v":12},null,":",{"$f":"BR234","v":1},null,{"$f":"BS234","v":11}]
[null,null,null,null,null,null,null,null,"2.",null,{"$f":"BM235","v":"Gruppe C8"},null,null,null,null,null,null,null,null,null,null,null,null,null,null,null,null,null,null,null,null,null,null,null,null,null,{"$f":"BN235","v":3},null,null,{"$f":"BO235","v":6},null,null,{"$f":"BP235","v":9},null,":",{"$f":"BR235","v":3},null,{"$f":"BS235","v":6}]
[null,null,null,null,null,null,null,null,"3.",null,"Gruppe C4",null,null,null,null,null,null,null,null,null,null,null,null,null,null,null,null,null,null,null,null,null,null,null,null,null,3,null,null,6,null,null,9,null,":",3,null,6]
[null,null,null,null,null,null,null,null,"4.",null,"Gruppe C3",null,null,null,null,null,null,null,null,null,null,null,null,null,null,null,null,null,null,null,null,null,null,null,null,null,3,null,null,6,null,null,10,null,":",14,null,-4]
[null,null,null,null,null,null,null,null,"5.",null,"Gruppe C7",null,null,null,null,null,null,null,null,null,null,null,null,null,null,null,null,null,null,null,null,null,null,null,null,null,2,null,null,3,null,null,4,null,":",4,null,0]
[null,null,null,null,null,null,null,null,"6.",null,"Gruppe C2",null,null,null,null,null,null,null,null,null,null,null,null,null,null,null,null,null,null,null,null,null,null,null,null,null,2,null,null,{"$f":"BO239","v":0},null,null,5,null,":",9,null,-4]
[null,null,null,null,null,null,null,null,"7.",null,"Gruppe C1",null,null,null,null,null,null,null,null,null,null,null,null,null,null,null,null,null,null,null,null,null,null,null,null,null,2,null,null,{"$f":"BO240","v":0},null,null,1,null,":",6,null,-5]
[null,null,null,null,null,null,null,null,"8.",null,"Gruppe C6",null,null,null,null,null,null,null,null,null,null,null,null,null,null,null,null,null,null,null,null,null,null,null,null,null,2,null,null,0,null,null,1,null,":",11,null,-10]
[]
[]
[]
[]
[]
[]
[]
[]
[]
[]
[]
[]
[]
[]
[]
[]
[]
[]
[]
[]
[]
[]
[]
[]
[]
[]
[]
[]
[]
[]
[]
[]
[]
["Vorrunde"]
["Gruppe D"]
[]
[]
[]
[]
[]
[]
[null,null,null,null,null,null,"Beginn:",{"$f":"Vorgaben!C4","v":"14:15:00"},null,null,null,null,"Uhr",null,null,null,null,null,null,"Spielzeit:",{"$f":"Vorgaben!C5","v":1},"1x","x",{"$f":"Vorgaben!C6","v":"00:09:00"},null,null,null,null,"min",null,null,null,null,null,null,null,"Pause:",{"$f":"Vorgaben!C7","v":"00:01:00"},null,null,null,null,"min"]
[]
[]
[null,"I. Teilnehmende Mannschaften"]
[]
[null,null,null,null,null,null,null,null,null,"Mannschaften"]
[null,null,null,null,null,null,null,null,null,"1.",null,{"$f":"'VR Gruppeneinteilung'!F13","v":"Gruppe D1"}]
[null,null,null,null,null,null,null,null,null,"2.",null,{"$f":"'VR Gruppeneinteilung'!F14","v":"Gruppe D2"}]
[null,null,null,null,null,null,null,null,null,"3.",null,{"$f":"'VR Gruppeneinteilung'!F15","v":"Gruppe D3"}]
[null,null,null,null,null,null,null,null,null,"4.",null,{"$f":"'VR Gruppeneinteilung'!F16","v":"Gruppe D4"}]
[null,null,null,null,null,null,null,null,null,"5.",null,{"$f":"'VR Gruppeneinteilung'!F17","v":"Gruppe D5"}]
[null,null,null,null,null,null,null,null,null,"6.",null,{"$f":"'VR Gruppeneinteilung'!F18","v":"Gruppe D6"}]
[null,null,null,null,null,null,null,null,null,"7.",null,{"$f":"'VR Gruppeneinteilung'!F19","v":"Gruppe D7"}]
[null,null,null,null,null,null,null,null,null,"8.",null,{"$f":"'VR Gruppeneinteilung'!F20","v":"Gruppe D8"}]
[]
[null,"II. Spielplan"]
[]
[null,"Nr.",null,"Beginn",null,null,null,null,null,null,"Spielpaarung",null,null,null,null,null,null,null,null,null,null,null,null,null,null,null,null,null,null,null,null,null,null,null,null,null,null,null,null,null,null,null,null,null,null,null,null,null,"Ergebnis",null,null,null,null,null,null,null,null,"Punkte"]
[{"$f":"VLOOKUP(B328,Vorgaben!B308:C314,2,FALSE)","v":{"$error":"#N/A"}},1,null,{"$f":"$H$10","v":"14:15:00"},null,null,null,null,null,{"$f":"L316","v":"Gruppe D1"},null,null,null,null,null,null,null,null,null,null,null,null,null,null,null,null,null,null,"-",{"$f":"L317","v":"Gruppe D2"},null,null,null,null,null,null,null,null,null,null,null,null,null,null,null,null,null,null,{"$f":"IF(ISBLANK('Gruppe D1'!AW28),\"\",'Gruppe D1'!AW28)","v":""},null,":",{"$f":"IF(ISBLANK('Gruppe D1'!AZ28),\"\",'Gruppe D1'!AZ28)","v":""},null,null,null,null,null,{"$f":"IF(AW328=\"\",0,IF(ISBLANK(AW328),\"0\",IF(AW328>AZ328,3,IF(AW328=AZ328,1,0))))","v":0},":",{"$f":"IF(AZ328=\"\",0,IF(ISBLANK(AZ328),\"0\",IF(AZ328>AW328,3,IF(AZ328=AW328,1,0))))","v":0}]
[{"$f":"VLOOKUP(B329,Vorgaben!B$10:C$16,2,FALSE)","v":{"$error":"#N/A"}},2,null,{"$f":"IF(ISNA(A329),D328+($U$10*$X$10+$AL$10),D328+($U$10*$X$10+$AL$10)+A329)","v":"14:25:00"},null,null,null,null,null,{"$f":"L318","v":"Gruppe D3"},null,null,null,null,null,null,null,null,null,null,null,null,null,null,null,null,null,null,"-",{"$f":"L319","v":"Gruppe D4"},null,null,null,null,null,null,null,null,null,null,null,null,null,null,null,null,null,null,{"$f":"IF(ISBLANK('Gruppe D1'!AW29),\"\",'Gruppe D1'!AW29)","v":""},null,":",{"$f":"IF(ISBLANK('Gruppe D1'!AZ29),\"\",'Gruppe D1'!AZ29)","v":""},null,null,null,null,null,0,":",{"$f":"IF(AZ329=\"\",0,IF(ISBLANK(AZ329),\"0\",IF(AZ329>AW329,3,IF(AZ329=AW329,1,0))))","v":0}]
[{"$f":"VLOOKUP(B330,Vorgaben!B$10:C$16,2,FALSE)","v":{"$error":"#N/A"}},3,null,{"$f":"IF(ISNA(A330),D329+($U$10*$X$10+$AL$10),D329+($U$10*$X$10+$AL$10)+A330)","v":"14:35:00"},null,null,null,null,null,{"$f":"L320","v":"Gruppe D5"},null,null,null,null,null,null,null,null,null,null,null,null,null,null,null,null,null,null,"-",{"$f":"L321","v":"Gruppe D6"},null,null,null,null,null,null,null,null,null,null,null,null,null,null,null,null,null,null,{"$f":"IF(ISBLANK('Gruppe D1'!AW30),\"\",'Gruppe D1'!AW30)","v":""},null,":",{"$f":"IF(ISBLANK('Gruppe D1'!AZ30),\"\",'Gruppe D1'!AZ30)","v":""},null,null,null,null,null,0,":",0,null,null,null,null,{"$f":"IF(BM332=\"Min. 3 Teams identisch.  HANDSORTIERUNG!\",BM332,IF(BM332=\"ACHTUNG! Direkter Vergleich war unentschieden!\",BM332,BM331))","v":"Min. 3 Teams identisch.  HANDSORTIERUNG!"}]
[{"$f":"VLOOKUP(B331,Vorgaben!B$10:C$16,2,FALSE)","v":{"$error":"#N/A"}},4,null,{"$f":"IF(ISNA(A331),D330+($U$10*$X$10+$AL$10),D330+($U$10*$X$10+$AL$10)+A331)","v":"14:45:00"},null,null,null,null,null,{"$f":"L322","v":"Gruppe D7"},null,null,null,null,null,null,null,null,null,null,null,null,null,null,null,null,null,null,"-",{"$f":"L323","v":"Gruppe D8"},null,null,null,null,null,null,null,null,null,null,null,null,null,null,null,null,null,null,{"$f":"IF(ISBLANK('Gruppe D1'!AW31),\"\",'Gruppe D1'!AW31)","v":""},null,":",{"$f":"IF(ISBLANK('Gruppe D1'!AZ31),\"\",'Gruppe D1'!AZ31)","v":""},null,null,null,null,null,0,":",0,null,null,null,null,{"$f":"IF(AND(EXACT(BO334,BO335),EXACT(BP334,BP335),EXACT(BS334,BS335)),\"ACHTUNG: Direkter Vergleich erfolgreich durchlaufen!\",IF(AND(EXACT(BO335,BO336),EXACT(BP335,BP336),EXACT(BS335,BS336)),\"ACHTUNG: Direkter Vergleich erfolgreich durchlaufen!\",IF(AND(EXACT(BO336,BO337),EXACT(BP336,BP337),EXACT(BS336,BS337)),\"ACHTUNG: Direkter Vergleich erfolgreich durchlaufen!\",IF(AND(EXACT(BO337,BO338),EXACT(BP337,BP338),EXACT(BS337,BS338)),\"ACHTUNG: Direkter Vergleich erfolgreich durchlaufen!\",IF(AND(EXACT(BO338,BO339),EXACT(BP338,BP339),EXACT(BS338,BS339)),\"ACHTUNG: Direkter Vergleich erfolgreich durchlaufen!\",IF(AND(EXACT(BO339,BO340),EXACT(BP339,BP340),EXACT(BS339,BS340)),\"ACHTUNG: Direkter Vergleich erfolgreich durchlaufen!\",IF(AND(EXACT(BO340,BO341),EXACT(BP340,BP341),EXACT(BS340,BS341)),\"ACHTUNG: Direkter Vergleich erfolgreich durchlaufen!\",\"\")))))))","v":"ACHTUNG: Direkter Vergleich erfolgreich durchlaufen!"}]
[{"$f":"IF(VLOOKUP(B332,Vorgaben!B$10:C$16,2,FALSE)=\"\",\"\",VLOOKUP(B332,Vorgaben!B$10:C$16,2,FALSE))","v":{"$error":"#N/A"}},5,null,{"$f":"IF(ISNA(A332),D331+($U$10*$X$10+$AL$10),D331+($U$10*$X$10+$AL$10)+A332)","v":"14:55:00"},null,null,null,null,null,{"$f":"L319","v":"Gruppe D4"},null,null,null,null,null,null,null,null,null,null,null,null,null,null,null,null,null,null,"-",{"$f":"L316","v":"Gruppe D1"},null,null,null,null,null,null,null,null,null,null,null,null,null,null,null,null,null,null,{"$f":"IF(ISBLANK('Gruppe D1'!AW32),\"\",'Gruppe D1'!AW32)","v":""},null,":",{"$f":"IF(ISBLANK('Gruppe D1'!AZ32),\"\",'Gruppe D1'!AZ32)","v":""},null,null,null,null,null,0,":",0,null,null,null,null,{"$f":"IF(OR(CC334=3,CC335=3,CC336=3,CC337=3,CC338=3,CC339=3,CC340=3,CC341=3),\"Min. 3 Teams identisch.  HANDSORTIERUNG!\",IF(OR(CB334=\"ACHTUNG! Direkter Vergleich war unentschieden!\",CB335=\"ACHTUNG! Direkter Vergleich war unentschieden!\",CB336=\"ACHTUNG! Direkter Vergleich war unentschieden!\",CB337=\"ACHTUNG! Direkter Vergleich war unentschieden!\",CB338=\"ACHTUNG! Direkter Vergleich war unentschieden!\",CB339=\"ACHTUNG! Direkter Vergleich war unentschieden!\",CB340=\"ACHTUNG! Direkter Vergleich war unentschieden!\",CB341=\"ACHTUNG! Direkter Vergleich war unentschieden!\"),\"ACHTUNG! Direkter Vergleich war unentschieden!\",\"\"))","v":"Min. 3 Teams identisch.  HANDSORTIERUNG!"}]
[{"$f":"VLOOKUP(B333,Vorgaben!B$10:C$16,2,FALSE)","v":{"$error":"#N/A"}},6,null,"15:05:00",null,null,null,null,null,{"$f":"L317","v":"Gruppe D2"},null,null,null,null,null,null,null,null,null,null,null,null,null,null,null,null,null,null,"-",{"$f":"L318","v":"Gruppe D3"},null,null,null,null,null,null,null,null,null,null,null,null,null,null,null,null,null,null,{"$f":"IF(ISBLANK('Gruppe D1'!AW33),\"\",'Gruppe D1'!AW33)","v":""},null,":",{"$f":"IF(ISBLANK('Gruppe D1'!AZ33),\"\",'Gruppe D1'!AZ33)","v":""},null,null,null,null,null,0,":",0]
[{"$f":"VLOOKUP(B334,Vorgaben!B$10:C$16,2,FALSE)","v":{"$error":"#N/A"}},7,null,"15:15:00",null,null,null,null,null,{"$f":"L323","v":"Gruppe D8"},null,null,null,null,null,null,null,null,null,null,null,null,null,null,null,null,null,null,"-",{"$f":"L320","v":"Gruppe D5"},null,null,null,null,null,null,null,null,null,null,null,null,null,null,null,null,null,null,{"$f":"IF(ISBLANK('Gruppe D1'!AW34),\"\",'Gruppe D1'!AW34)","v":""},null,":",{"$f":"IF(ISBLANK('Gruppe D1'!AZ34),\"\",'Gruppe D1'!AZ34)","v":""},null,null,null,null,null,0,":",0,null,null,null,{"$f":"INDEX(Vorgaben!F$29:H$36,MATCH($BM334,Vorgaben!F$29:F$36,0),3)","v":0},{"$f":"'Gruppe D1'!$BM$40","v":"Gruppe D8"},{"$f":"'Gruppe D1'!$BN$40","v":1},{"$f":"'Gruppe D1'!$BO$40","v":3},{"$f":"'Gruppe D1'!$BP$40","v":3},{"$f":"'Gruppe D1'!BQ240","v":0},{"$f":"'Gruppe D1'!$BR$40","v":0},{"$f":"'Gruppe D1'!$BS$40","v":3},{"$f":"BV334","v":0},null,{"$f":"IF(BX334>BY335,10,IF(BX334<BY335,-10,0))","v":0},null,{"$f":"IF(ISNA(INDEX(BF$328:BF$355,MATCH(BM334&BM335,J$328:J$355&AD$328:AD$355,0))),INDEX(BH$328:BH$355,MATCH(BM335&BM334,J$328:J$355&AD$328:AD$355,0)),INDEX(BF$328:BF$355,MATCH(BM334&BM335,J$328:J$355&AD$328:AD$355,0)))","v":0},null,{"$f":"IF(AND(EXACT(BO334,BO335),EXACT(BP334,BP335),EXACT(BS334,BS335),EXACT(BX334,BY335)),\"ACHTUNG! Direkter Vergleich war unentschieden!\",IF(AND(EXACT(BO334,BO335),EXACT(BP334,BP335),EXACT(BS334,BS335)),1,2))","v":2},{"$f":"IF(AND(EXACT(BO333,BO334),EXACT(BP333,BP334),EXACT(BS333,BS334),EXACT(BX334,BY333)),\"ACHTUNG! Direkter Vergleich war unentschieden!\",\"\")","v":""},{"$f":"IF(OR(BZ334=\"ACHTUNG! Direkter Vergleich war unentschieden!\",CA334=\"ACHTUNG! Direkter Vergleich war unentschieden!\"),\"ACHTUNG! Direkter Vergleich war unentschieden!\",\"\")","v":""},{"$f":"IF(OR(AND(EXACT(BO334,BO335),EXACT(BP334,BP335),EXACT(BS334,BS335),EXACT(BO334,BO336),EXACT(BP334,BP336),EXACT(BS334,BS336)),AND(EXACT(BO334,BO335),EXACT(BP334,BP335),EXACT(BS334,BS335),EXACT(BO334,BO333),EXACT(BP334,BP333),EXACT(BS334,BS333))*AND(EXACT(BO334,BO332),EXACT(BP334,BP332),EXACT(BS334,BS332),EXACT(BO334,BO333),EXACT(BP334,BP333),EXACT(BS334,BS333))),3,1)","v":1}]
[{"$f":"VLOOKUP(B335,Vorgaben!B$10:C$16,2,FALSE)","v":{"$error":"#N/A"}},8,null,"15:25:00",null,null,null,null,null,{"$f":"L321","v":"Gruppe D6"},null,null,null,null,null,null,null,null,null,null,null,null,null,null,null,null,null,null,"-",{"$f":"L322","v":"Gruppe D7"},null,null,null,null,null,null,null,null,null,null,null,null,null,null,null,null,null,null,{"$f":"IF(ISBLANK('Gruppe D1'!AW35),\"\",'Gruppe D1'!AW35)","v":""},null,":",{"$f":"IF(ISBLANK('Gruppe D1'!AZ35),\"\",'Gruppe D1'!AZ35)","v":""},null,null,null,null,null,0,":",0,null,null,null,{"$f":"INDEX(Vorgaben!F$29:H$36,MATCH($BM335,Vorgaben!F$29:F$36,0),3)","v":0},{"$f":"'Gruppe D1'!$BM$35","v":"Gruppe D7"},{"$f":"'Gruppe D1'!$BN$35","v":1},{"$f":"'Gruppe D1'!$BO$35","v":1},{"$f":"'Gruppe D1'!$BP$35","v":1},{"$f":"'Gruppe D1'!BQ235","v":0},{"$f":"'Gruppe D1'!$BR$35","v":1},{"$f":"'Gruppe D1'!$BS$35","v":0},{"$f":"BV335","v":0},{"$f":"BW335","v":0},{"$f":"IF(BX334<BY335,10,IF(BX334>BY335,-10,0))","v":0},{"$f":"IF(BX335>BY336,10,IF(BX335<BY336,-10,0))","v":0},{"$f":"IF(ISNA(INDEX(BF$328:BF$355,MATCH(BM335&BM336,J$328:J$355&AD$328:AD$355,0))),INDEX(BH$328:BH$355,MATCH(BM336&BM335,J$328:J$355&AD$328:AD$355,0)),INDEX(BF$328:BF$355,MATCH(BM335&BM336,J$328:J$355&AD$328:AD$355,0)))","v":1},{"$f":"IF(ISNA(INDEX(BF$328:BF$355,MATCH(BM335&BM334,J$328:J$355&AD$328:AD$355,0))),INDEX(BH$328:BH$355,MATCH(BM334&BM335,J$328:J$355&AD$328:AD$355,0)),INDEX(BF$328:BF$355,MATCH(BM335&BM334,J$328:J$355&AD$328:AD$355,0)))","v":0},"ACHTUNG! Direkter Vergleich war unentschieden!",{"$f":"IF(AND(EXACT(BO334,BO335),EXACT(BP334,BP335),EXACT(BS334,BS335),EXACT(BY335,BX334)),\"ACHTUNG! Direkter Vergleich war unentschieden!\",IF(AND(EXACT(BO334,BO335),EXACT(BP334,BP335),EXACT(BS334,BS335)),1,2))","v":2},"ACHTUNG! Direkter Vergleich war unentschieden!",1]
[{"$f":"VLOOKUP(B336,Vorgaben!B$10:C$16,2,FALSE)","v":{"$error":"#N/A"}},9,null,"15:35:00",null,null,null,null,null,{"$f":"L320","v":"Gruppe D5"},null,null,null,null,null,null,null,null,null,null,null,null,null,null,null,null,null,null,"-",{"$f":"L319","v":"Gruppe D4"},null,null,null,null,null,null,null,null,null,null,null,null,null,null,null,null,null,null,{"$f":"IF(ISBLANK('Gruppe D1'!AW36),\"\",'Gruppe D1'!AW36)","v":""},null,":",{"$f":"IF(ISBLANK('Gruppe D1'!AZ36),\"\",'Gruppe D1'!AZ36)","v":""},null,null,null,null,null,0,":",0,null,null,null,{"$f":"INDEX(Vorgaben!F$29:H$36,MATCH($BM336,Vorgaben!F$29:F$36,0),3)","v":0},{"$f":"'Gruppe D1'!$BM$37","v":"Gruppe D2"},{"$f":"'Gruppe D1'!$BN$37","v":1},{"$f":"'Gruppe D1'!$BO$37","v":1},{"$f":"'Gruppe D1'!$BP$37","v":1},{"$f":"'Gruppe D1'!BQ237","v":0},{"$f":"'Gruppe D1'!$BR$37","v":1},{"$f":"'Gruppe D1'!$BS$37","v":0},{"$f":"BV336","v":0},0,0,{"$f":"IF(BX336>BY337,10,IF(BX336<BY337,-10,0))","v":0},{"$f":"IF(ISNA(INDEX(BF$328:BF$355,MATCH(BM336&BM337,J$328:J$355&AD$328:AD$355,0))),INDEX(BH$328:BH$355,MATCH(BM337&BM336,J$328:J$355&AD$328:AD$355,0)),INDEX(BF$328:BF$355,MATCH(BM336&BM337,J$328:J$355&AD$328:AD$355,0)))","v":0},{"$f":"IF(ISNA(INDEX(BF$328:BF$355,MATCH(BM336&BM335,J$328:J$355&AD$328:AD$355,0))),INDEX(BH$328:BH$355,MATCH(BM335&BM336,J$328:J$355&AD$328:AD$355,0)),INDEX(BF$328:BF$355,MATCH(BM336&BM335,J$328:J$355&AD$328:AD$355,0)))","v":1},2,"ACHTUNG! Direkter Vergleich war unentschieden!","ACHTUNG! Direkter Vergleich war unentschieden!",{"$f":"IF(OR(AND(EXACT(BO336,BO337),EXACT(BP336,BP337),EXACT(BS336,BS337),EXACT(BO336,BO338),EXACT(BP336,BP338),EXACT(BS336,BS338)),AND(EXACT(BO336,BO337),EXACT(BP336,BP337),EXACT(BS336,BS337),EXACT(BO336,BO335),EXACT(BP336,BP335),EXACT(BS336,BS335))*AND(EXACT(BO336,BO334),EXACT(BP336,BP334),EXACT(BS336,BS334),EXACT(BO336,BO335),EXACT(BP336,BP335),EXACT(BS336,BS335))),3,1)","v":1}]
[{"$f":"VLOOKUP(B337,Vorgaben!B$10:C$16,2,FALSE)","v":{"$error":"#N/A"}},10,null,"15:45:00",null,null,null,null,null,{"$f":"L316","v":"Gruppe D1"},null,null,null,null,null,null,null,null,null,null,null,null,null,null,null,null,null,null,"-",{"$f":"L318","v":"Gruppe D3"},null,null,null,null,null,null,null,null,null,null,null,null,null,null,null,null,null,null,{"$f":"IF(ISBLANK('Gruppe D1'!AW37),\"\",'Gruppe D1'!AW37)","v":""},null,":",{"$f":"IF(ISBLANK('Gruppe D1'!AZ37),\"\",'Gruppe D1'!AZ37)","v":""},null,null,null,null,null,0,":",0,null,null,null,{"$f":"INDEX(Vorgaben!F$29:H$36,MATCH($BM337,Vorgaben!F$29:F$36,0),3)","v":0},{"$f":"'Gruppe D1'!$BM$36","v":"Gruppe D3"},{"$f":"'Gruppe D1'!$BN$36","v":0},{"$f":"'Gruppe D1'!$BO$36","v":0},{"$f":"'Gruppe D1'!$BP$36","v":0},{"$f":"'Gruppe D1'!BQ236","v":0},{"$f":"'Gruppe D1'!$BR$36","v":0},{"$f":"'Gruppe D1'!$BS$36","v":0},0,0,0,{"$f":"IF(BX336<BY337,10,IF(BX336>BY337,-10,0))","v":0},{"$f":"IF(ISNA(INDEX(BF$328:BF$355,MATCH(BM337&BM338,J$328:J$355&AD$328:AD$355,0))),INDEX(BH$328:BH$355,MATCH(BM338&BM337,J$328:J$355&AD$328:AD$355,0)),INDEX(BF$328:BF$355,MATCH(BM337&BM338,J$328:J$355&AD$328:AD$355,0)))","v":0},{"$f":"IF(ISNA(INDEX(BF$328:BF$355,MATCH(BM337&BM336,J$328:J$355&AD$328:AD$355,0))),INDEX(BH$328:BH$355,MATCH(BM336&BM337,J$328:J$355&AD$328:AD$355,0)),INDEX(BF$328:BF$355,MATCH(BM337&BM336,J$328:J$355&AD$328:AD$355,0)))","v":0},"ACHTUNG! Direkter Vergleich war unentschieden!",2,"ACHTUNG! Direkter Vergleich war unentschieden!",{"$f":"IF(OR(AND(EXACT(BO337,BO338),EXACT(BP337,BP338),EXACT(BS337,BS338),EXACT(BO337,BO339),EXACT(BP337,BP339),EXACT(BS337,BS339)),AND(EXACT(BO337,BO338),EXACT(BP337,BP338),EXACT(BS337,BS338),EXACT(BO337,BO336),EXACT(BP337,BP336),EXACT(BS337,BS336))*AND(EXACT(BO337,BO335),EXACT(BP337,BP335),EXACT(BS337,BS335),EXACT(BO337,BO336),EXACT(BP337,BP336),EXACT(BS337,BS336))),3,1)","v":3}]
[{"$f":"VLOOKUP(B338,Vorgaben!B$10:C$16,2,FALSE)","v":{"$error":"#N/A"}},11,null,"15:55:00",null,null,null,null,null,{"$f":"L317","v":"Gruppe D2"},null,null,null,null,null,null,null,null,null,null,null,null,null,null,null,null,null,null,"-",{"$f":"L322","v":"Gruppe D7"},null,null,null,null,null,null,null,null,null,null,null,null,null,null,null,null,null,null,{"$f":"IF(ISBLANK('Gruppe D1'!AW38),\"\",'Gruppe D1'!AW38)","v":1},null,":",{"$f":"IF(ISBLANK('Gruppe D1'!AZ38),\"\",'Gruppe D1'!AZ38)","v":1},null,null,null,null,null,1,":",1,null,null,null,{"$f":"INDEX(Vorgaben!F$29:H$36,MATCH($BM338,Vorgaben!F$29:F$36,0),3)","v":0},{"$f":"'Gruppe D1'!$BM$39","v":"Gruppe D4"},{"$f":"'Gruppe D1'!$BN$39","v":0},{"$f":"'Gruppe D1'!$BO$39","v":0},{"$f":"'Gruppe D1'!$BP$39","v":0},{"$f":"'Gruppe D1'!BQ239","v":0},{"$f":"'Gruppe D1'!$BR$39","v":0},{"$f":"'Gruppe D1'!$BS$39","v":0},0,0,0,{"$f":"IF(BX338>BY339,10,IF(BX338<BY339,-10,0))","v":0},{"$f":"IF(ISNA(INDEX(BF$328:BF$355,MATCH(BM338&BM339,J$328:J$355&AD$328:AD$355,0))),INDEX(BH$328:BH$355,MATCH(BM339&BM338,J$328:J$355&AD$328:AD$355,0)),INDEX(BF$328:BF$355,MATCH(BM338&BM339,J$328:J$355&AD$328:AD$355,0)))","v":0},{"$f":"IF(ISNA(INDEX(BF$328:BF$355,MATCH(BM338&BM337,J$328:J$355&AD$328:AD$355,0))),INDEX(BH$328:BH$355,MATCH(BM337&BM338,J$328:J$355&AD$328:AD$355,0)),INDEX(BF$328:BF$355,MATCH(BM338&BM337,J$328:J$355&AD$328:AD$355,0)))","v":0},"ACHTUNG! Direkter Vergleich war unentschieden!","ACHTUNG! Direkter Vergleich war unentschieden!","ACHTUNG! Direkter Vergleich war unentschieden!",3]
[{"$f":"VLOOKUP(B339,Vorgaben!B$10:C$16,2,FALSE)","v":{"$error":"#N/A"}},12,null,"16:05:00",null,null,null,null,null,{"$f":"L321","v":"Gruppe D6"},null,null,null,null,null,null,null,null,null,null,null,null,null,null,null,null,null,null,"-",{"$f":"L323","v":"Gruppe D8"},null,null,null,null,null,null,null,null,null,null,null,null,null,null,null,null,null,null,{"$f":"IF(ISBLANK('Gruppe D1'!AW39),\"\",'Gruppe D1'!AW39)","v":0},null,":",{"$f":"IF(ISBLANK('Gruppe D1'!AZ39),\"\",'Gruppe D1'!AZ39)","v":3},null,null,null,null,null,0,":",3,null,null,null,{"$f":"INDEX(Vorgaben!F$29:H$36,MATCH($BM339,Vorgaben!F$29:F$36,0),3)","v":0},{"$f":"'Gruppe D1'!$BM$38","v":"Gruppe D1"},{"$f":"'Gruppe D1'!$BN$38","v":0},{"$f":"'Gruppe D1'!$BO$38","v":0},{"$f":"'Gruppe D1'!$BP$38","v":0},{"$f":"'Gruppe D1'!BQ238","v":0},{"$f":"'Gruppe D1'!$BR$38","v":0},{"$f":"'Gruppe D1'!$BS$38","v":0},0,0,0,{"$f":"IF(BX338<BY339,10,IF(BX338>BY339,-10,0))","v":0},{"$f":"IF(ISNA(INDEX(BF$328:BF$355,MATCH(BM339&BM340,J$328:J$355&AD$328:AD$355,0))),INDEX(BH$328:BH$355,MATCH(BM340&BM339,J$328:J$355&AD$328:AD$355,0)),INDEX(BF$328:BF$355,MATCH(BM339&BM340,J$328:J$355&AD$328:AD$355,0)))","v":0},{"$f":"IF(ISNA(INDEX(BF$328:BF$355,MATCH(BM339&BM338,J$328:J$355&AD$328:AD$355,0))),INDEX(BH$328:BH$355,MATCH(BM338&BM339,J$328:J$355&AD$328:AD$355,0)),INDEX(BF$328:BF$355,MATCH(BM339&BM338,J$328:J$355&AD$328:AD$355,0)))","v":0},"ACHTUNG! Direkter Vergleich war unentschieden!","ACHTUNG! Direkter Vergleich war unentschieden!","ACHTUNG! Direkter Vergleich war unentschieden!",3]
[{"$f":"VLOOKUP(B340,Vorgaben!B$10:C$16,2,FALSE)","v":{"$error":"#N/A"}},13,null,"16:15:00",null,null,null,null,null,{"$f":"L319","v":"Gruppe D4"},null,null,null,null,null,null,null,null,null,null,null,null,null,null,null,null,null,null,"-",{"$f":"L317","v":"Gruppe D2"},null,null,null,null,null,null,null,null,null,null,null,null,null,null,null,null,null,null,{"$f":"IF(ISBLANK('Gruppe D1'!AW40),\"\",'Gruppe D1'!AW40)","v":""},null,":",{"$f":"IF(ISBLANK('Gruppe D1'!AZ40),\"\",'Gruppe D1'!AZ40)","v":""},null,null,null,null,null,0,":",0,null,null,null,{"$f":"INDEX(Vorgaben!F$29:H$36,MATCH($BM340,Vorgaben!F$29:F$36,0),3)","v":0},{"$f":"'Gruppe D1'!$BM$34","v":"Gruppe D5"},{"$f":"'Gruppe D1'!$BN$34","v":0},{"$f":"'Gruppe D1'!$BO$34","v":0},{"$f":"'Gruppe D1'!$BP$34","v":0},{"$f":"'Gruppe D1'!BQ234","v":0},{"$f":"'Gruppe D1'!$BR$34","v":0},{"$f":"'Gruppe D1'!$BS$34","v":0},0,0,0,{"$f":"IF(BX339<BY340,10,IF(BX339>BY340,-10,0))","v":0},{"$f":"IF(ISNA(INDEX(BF$328:BF$355,MATCH(BM340&BM341,J$328:J$355&AD$328:AD$355,0))),INDEX(BH$328:BH$355,MATCH(BM341&BM340,J$328:J$355&AD$328:AD$355,0)),INDEX(BF$328:BF$355,MATCH(BM340&BM341,J$328:J$355&AD$328:AD$355,0)))","v":0},{"$f":"IF(ISNA(INDEX(BF$328:BF$355,MATCH(BM340&BM339,J$328:J$355&AD$328:AD$355,0))),INDEX(BH$328:BH$355,MATCH(BM339&BM340,J$328:J$355&AD$328:AD$355,0)),INDEX(BF$328:BF$355,MATCH(BM340&BM339,J$328:J$355&AD$328:AD$355,0)))","v":0},2,"ACHTUNG! Direkter Vergleich war unentschieden!","ACHTUNG! Direkter Vergleich war unentschieden!",1]
[{"$f":"VLOOKUP(B341,Vorgaben!B$10:C$16,2,FALSE)","v":{"$error":"#N/A"}},14,null,"16:25:00",null,null,null,null,null,{"$f":"L322","v":"Gruppe D7"},null,null,null,null,null,null,null,null,null,null,null,null,null,null,null,null,null,null,"-",{"$f":"L320","v":"Gruppe D5"},null,null,null,null,null,null,null,null,null,null,null,null,null,null,null,null,null,null,{"$f":"IF(ISBLANK('Gruppe D1'!AW41),\"\",'Gruppe D1'!AW41)","v":""},null,":",{"$f":"IF(ISBLANK('Gruppe D1'!AZ41),\"\",'Gruppe D1'!AZ41)","v":""},null,null,null,null,null,0,":",0,null,null,null,{"$f":"INDEX(Vorgaben!F$29:H$36,MATCH($BM341,Vorgaben!F$29:F$36,0),3)","v":0},{"$f":"'Gruppe D1'!$BM$41","v":"Gruppe D6"},{"$f":"'Gruppe D1'!$BN$41","v":1},{"$f":"'Gruppe D1'!$BO$41","v":0},{"$f":"'Gruppe D1'!$BP$41","v":0},{"$f":"'Gruppe D1'!BQ241","v":0},{"$f":"'Gruppe D1'!$BR$41","v":3},{"$f":"'Gruppe D1'!$BS$41","v":-3},0,0,0,null,null,{"$f":"IF(ISNA(INDEX(BF$328:BF$355,MATCH(BM341&BM340,J$328:J$355&AD$328:AD$355,0))),INDEX(BH$328:BH$355,MATCH(BM340&BM341,J$328:J$355&AD$328:AD$355,0)),INDEX(BF$328:BF$355,MATCH(BM341&BM340,J$328:J$355&AD$328:AD$355,0)))","v":0},{"$f":"IF(AND(EXACT(BO341,BO342),EXACT(BP341,BP342),EXACT(BS341,BS342),EXACT(BX341,BY342)),\"ACHTUNG! Direkter Vergleich war unentschieden!\",\"\")","v":""},2,"",1]
[{"$f":"VLOOKUP(B342,Vorgaben!B$10:C$16,2,FALSE)","v":{"$error":"#N/A"}},15,null,"16:35:00",null,null,null,null,null,{"$f":"L323","v":"Gruppe D8"},null,null,null,null,null,null,null,null,null,null,null,null,null,null,null,null,null,null,"-",{"$f":"L316","v":"Gruppe D1"},null,null,null,null,null,null,null,null,null,null,null,null,null,null,null,null,null,null,{"$f":"IF(ISBLANK('Gruppe D1'!AW42),\"\",'Gruppe D1'!AW42)","v":""},null,":",{"$f":"IF(ISBLANK('Gruppe D1'!AZ42),\"\",'Gruppe D1'!AZ42)","v":""},null,null,null,null,null,0,":",0]
[{"$f":"VLOOKUP(B343,Vorgaben!B$10:C$16,2,FALSE)","v":{"$error":"#N/A"}},16,null,"16:45:00",null,null,null,null,null,{"$f":"L318","v":"Gruppe D3"},null,null,null,null,null,null,null,null,null,null,null,null,null,null,null,null,null,null,"-",{"$f":"L321","v":"Gruppe D6"},null,null,null,null,null,null,null,null,null,null,null,null,null,null,null,null,null,null,{"$f":"IF(ISBLANK('Gruppe D1'!AW43),\"\",'Gruppe D1'!AW43)","v":""},null,":",{"$f":"IF(ISBLANK('Gruppe D1'!AZ43),\"\",'Gruppe D1'!AZ43)","v":""},null,null,null,null,null,0,":",0]
[{"$f":"VLOOKUP(B344,Vorgaben!B$10:C$16,2,FALSE)","v":{"$error":"#N/A"}},17,null,"16:55:00",null,null,null,null,null,{"$f":"L319","v":"Gruppe D4"},null,null,null,null,null,null,null,null,null,null,null,null,null,null,null,null,null,null,"-",{"$f":"L322","v":"Gruppe D7"},null,null,null,null,null,null,null,null,null,null,null,null,null,null,null,null,null,null,{"$f":"IF(ISBLANK('Gruppe D1'!AW44),\"\",'Gruppe D1'!AW44)","v":""},null,":",{"$f":"IF(ISBLANK('Gruppe D1'!AZ44),\"\",'Gruppe D1'!AZ44)","v":""},null,null,null,null,null,0,":",0]
[{"$f":"VLOOKUP(B345,Vorgaben!B$10:C$16,2,FALSE)","v":{"$error":"#N/A"}},18,null,"17:05:00",null,null,null,null,null,{"$f":"L317","v":"Gruppe D2"},null,null,null,null,null,null,null,null,null,null,null,null,null,null,null,null,null,null,"-",{"$f":"L323","v":"Gruppe D8"},null,null,null,null,null,null,null,null,null,null,null,null,null,null,null,null,null,null,{"$f":"IF(ISBLANK('Gruppe D1'!AW45),\"\",'Gruppe D1'!AW45)","v":""},null,":",{"$f":"IF(ISBLANK('Gruppe D1'!AZ45),\"\",'Gruppe D1'!AZ45)","v":""},null,null,null,null,null,0,":",0]
[{"$f":"VLOOKUP(B346,Vorgaben!B$10:C$16,2,FALSE)","v":{"$error":"#N/A"}},19,null,"17:15:00",null,null,null,null,null,{"$f":"L316","v":"Gruppe D1"},null,null,null,null,null,null,null,null,null,null,null,null,null,null,null,null,null,null,"-",{"$f":"L321","v":"Gruppe D6"},null,null,null,null,null,null,null,null,null,null,null,null,null,null,null,null,null,null,{"$f":"IF(ISBLANK('Gruppe D1'!AW46),\"\",'Gruppe D1'!AW46)","v":""},null,":",{"$f":"IF(ISBLANK('Gruppe D1'!AZ46),\"\",'Gruppe D1'!AZ46)","v":""},null,null,null,null,null,0,":",0]
[{"$f":"VLOOKUP(B347,Vorgaben!B$10:C$16,2,FALSE)","v":{"$error":"#N/A"}},20,null,"17:25:00",null,null,null,null,null,{"$f":"L320","v":"Gruppe D5"},null,null,null,null,null,null,null,null,null,null,null,null,null,null,null,null,null,null,"-",{"$f":"L318","v":"Gruppe D3"},null,null,null,null,null,null,null,null,null,null,null,null,null,null,null,null,null,null,{"$f":"IF(ISBLANK('Gruppe D1'!AW47),\"\",'Gruppe D1'!AW47)","v":""},null,":",{"$f":"IF(ISBLANK('Gruppe D1'!AZ47),\"\",'Gruppe D1'!AZ47)","v":""},null,null,null,null,null,0,":",0]
[{"$f":"VLOOKUP(B348,Vorgaben!B$10:C$16,2,FALSE)","v":{"$error":"#N/A"}},21,null,"17:35:00",null,null,null,null,null,{"$f":"L323","v":"Gruppe D8"},null,null,null,null,null,null,null,null,null,null,null,null,null,null,null,null,null,null,"-",{"$f":"L319","v":"Gruppe D4"},null,null,null,null,null,null,null,null,null,null,null,null,null,null,null,null,null,null,{"$f":"IF(ISBLANK('Gruppe D1'!AW48),\"\",'Gruppe D1'!AW48)","v":""},null,":",{"$f":"IF(ISBLANK('Gruppe D1'!AZ48),\"\",'Gruppe D1'!AZ48)","v":""},null,null,null,null,null,0,":",0]
[{"$f":"VLOOKUP(B349,Vorgaben!B$10:C$16,2,FALSE)","v":{"$error":"#N/A"}},22,null,"17:45:00",null,null,null,null,null,{"$f":"L321","v":"Gruppe D6"},null,null,null,null,null,null,null,null,null,null,null,null,null,null,null,null,null,null,"-",{"$f":"L317","v":"Gruppe D2"},null,null,null,null,null,null,null,null,null,null,null,null,null,null,null,null,null,null,{"$f":"IF(ISBLANK('Gruppe D1'!AW49),\"\",'Gruppe D1'!AW49)","v":""},null,":",{"$f":"IF(ISBLANK('Gruppe D1'!AZ49),\"\",'Gruppe D1'!AZ49)","v":""},null,null,null,null,null,0,":",0]
[{"$f":"VLOOKUP(B350,Vorgaben!B$10:C$16,2,FALSE)","v":{"$error":"#N/A"}},23,null,"17:55:00",null,null,null,null,null,{"$f":"L322","v":"Gruppe D7"},null,null,null,null,null,null,null,null,null,null,null,null,null,null,null,null,null,null,"-",{"$f":"L318","v":"Gruppe D3"},null,null,null,null,null,null,null,null,null,null,null,null,null,null,null,null,null,null,{"$f":"IF(ISBLANK('Gruppe D1'!AW50),\"\",'Gruppe D1'!AW50)","v":""},null,":",{"$f":"IF(ISBLANK('Gruppe D1'!AZ50),\"\",'Gruppe D1'!AZ50)","v":""},null,null,null,null,null,0,":",0]
[{"$f":"VLOOKUP(B351,Vorgaben!B$10:C$16,2,FALSE)","v":{"$error":"#N/A"}},24,null,"18:05:00",null,null,null,null,null,{"$f":"L320","v":"Gruppe D5"},null,null,null,null,null,null,null,null,null,null,null,null,null,null,null,null,null,null,"-",{"$f":"L316","v":"Gruppe D1"},null,null,null,null,null,null,null,null,null,null,null,null,null,null,null,null,null,null,{"$f":"IF(ISBLANK('Gruppe D1'!AW51),\"\",'Gruppe D1'!AW51)","v":""},null,":",{"$f":"IF(ISBLANK('Gruppe D1'!AZ51),\"\",'Gruppe D1'!AZ51)","v":""},null,null,null,null,null,0,":",0]
[{"$f":"VLOOKUP(B352,Vorgaben!B$10:C$16,2,FALSE)","v":{"$error":"#N/A"}},25,null,"18:15:00",null,null,null,null,null,{"$f":"L319","v":"Gruppe D4"},null,null,null,null,null,null,null,null,null,null,null,null,null,null,null,null,null,null,"-",{"$f":"L321","v":"Gruppe D6"},null,null,null,null,null,null,null,null,null,null,null,null,null,null,null,null,null,null,{"$f":"IF(ISBLANK('Gruppe D1'!AW52),\"\",'Gruppe D1'!AW52)","v":""},null,":",{"$f":"IF(ISBLANK('Gruppe D1'!AZ52),\"\",'Gruppe D1'!AZ52)","v":""},null,null,null,null,null,0,":",0]
[{"$f":"VLOOKUP(B353,Vorgaben!B$10:C$16,2,FALSE)","v":{"$error":"#N/A"}},26,null,"18:25:00",null,null,null,null,null,{"$f":"L318","v":"Gruppe D3"},null,null,null,null,null,null,null,null,null,null,null,null,null,null,null,null,null,null,"-",{"$f":"L323","v":"Gruppe D8"},null,null,null,null,null,null,null,null,null,null,null,null,null,null,null,null,null,null,{"$f":"IF(ISBLANK('Gruppe D1'!AW53),\"\",'Gruppe D1'!AW53)","v":""},null,":",{"$f":"IF(ISBLANK('Gruppe D1'!AZ53),\"\",'Gruppe D1'!AZ53)","v":""},null,null,null,null,null,0,":",0]
[{"$f":"VLOOKUP(B354,Vorgaben!B$10:C$16,2,FALSE)","v":{"$error":"#N/A"}},27,null,"18:35:00",null,null,null,null,null,{"$f":"L317","v":"Gruppe D2"},null,null,null,null,null,null,null,null,null,null,null,null,null,null,null,null,null,null,"-",{"$f":"L320","v":"Gruppe D5"},null,null,null,null,null,null,null,null,null,null,null,null,null,null,null,null,null,null,{"$f":"IF(ISBLANK('Gruppe D1'!AW54),\"\",'Gruppe D1'!AW54)","v":""},null,":",{"$f":"IF(ISBLANK('Gruppe D1'!AZ54),\"\",'Gruppe D1'!AZ54)","v":""},null,null,null,null,null,0,":",0]
[{"$f":"VLOOKUP(B355,Vorgaben!B$10:C$16,2,FALSE)","v":{"$error":"#N/A"}},28,null,"18:45:00",null,null,null,null,null,{"$f":"L316","v":"Gruppe D1"},null,null,null,null,null,null,null,null,null,null,null,null,null,null,null,null,null,null,"-",{"$f":"L322","v":"Gruppe D7"},null,null,null,null,null,null,null,null,null,null,null,null,null,null,null,null,null,null,{"$f":"IF(ISBLANK('Gruppe D1'!AW55),\"\",'Gruppe D1'!AW55)","v":""},null,":",{"$f":"IF(ISBLANK('Gruppe D1'!AZ55),\"\",'Gruppe D1'!AZ55)","v":""},null,null,null,null,null,{"$f":"IF(AW355=\"\",0,IF(ISBLANK(AW355),\"0\",IF(AW355>AZ355,3,IF(AW355=AZ355,1,0))))","v":0},":",0]
[]
[]
[null,"III. Abschlußtabelle"]
[]
[null,null,null,null,null,null,null,null,"Mannschaften",null,null,null,null,null,null,null,null,null,null,null,null,null,null,null,null,null,null,null,null,null,null,null,null,null,null,null,"Sp.",null,null,"Pkt.",null,null,"Tore",null,null,null,null,"Diff."]
[null,null,null,null,null,null,null,null,"1.",null,{"$f":"BM334","v":"Gruppe D8"},null,null,null,null,null,null,null,null,null,null,null,null,null,null,null,null,null,null,null,null,null,null,null,null,null,{"$f":"BN334","v":1},null,null,{"$f":"BO334","v":3},null,null,{"$f":"BP334","v":3},null,":",{"$f":"BR334","v":0},null,{"$f":"BS334","v":3}]
[null,null,null,null,null,null,null,null,"2.",null,{"$f":"BM335","v":"Gruppe D7"},null,null,null,null,null,null,null,null,null,null,null,null,null,null,null,null,null,null,null,null,null,null,null,null,null,{"$f":"BN335","v":1},null,null,{"$f":"BO335","v":1},null,null,{"$f":"BP335","v":1},null,":",{"$f":"BR335","v":1},null,{"$f":"BS335","v":0}]
[null,null,null,null,null,null,null,null,"3.",null,"Gruppe D2",null,null,null,null,null,null,null,null,null,null,null,null,null,null,null,null,null,null,null,null,null,null,null,null,null,1,null,null,1,null,null,1,null,":",1,null,0]
[null,null,null,null,null,null,null,null,"4.",null,"Gruppe D3",null,null,null,null,null,null,null,null,null,null,null,null,null,null,null,null,null,null,null,null,null,null,null,null,null,0,null,null,0,null,null,0,null,":",0,null,0]
[null,null,null,null,null,null,null,null,"5.",null,"Gruppe D4",null,null,null,null,null,null,null,null,null,null,null,null,null,null,null,null,null,null,null,null,null,null,null,null,null,0,null,null,0,null,null,0,null,":",0,null,0]
[null,null,null,null,null,null,null,null,"6.",null,"Gruppe D1",null,null,null,null,null,null,null,null,null,null,null,null,null,null,null,null,null,null,null,null,null,null,null,null,null,0,null,null,{"$f":"BO339","v":0},null,null,0,null,":",0,null,0]
[null,null,null,null,null,null,null,null,"7.",null,"Gruppe D5",null,null,null,null,null,null,null,null,null,null,null,null,null,null,null,null,null,null,null,null,null,null,null,null,null,0,null,null,{"$f":"BO340","v":0},null,null,0,null,":",0,null,0]
[null,null,null,null,null,null,null,null,"8.",null,"Gruppe D6",null,null,null,null,null,null,null,null,null,null,null,null,null,null,null,null,null,null,null,null,null,null,null,null,null,1,null,null,0,null,null,0,null,":",3,null,-3]
[]
[]
[]
[]
[]
[]
[]
[]
[]
[]
[]
[]
[]
[]
[]
[]
[]
[]
[]
[]
[]
[]
[]
[]
[]
[]
[]
[]
[]
[]
[]
[]
[]
["Vorrunde"]
["Gruppe E"]
[]
[]
[]
[]
[]
[]
[null,null,null,null,null,null,"Beginn:",{"$f":"Vorgaben!C4","v":"14:15:00"},null,null,null,null,"Uhr",null,null,null,null,null,null,"Spielzeit:",{"$f":"Vorgaben!C5","v":1},"1x","x",{"$f":"Vorgaben!C6","v":"00:09:00"},null,null,null,null,"min",null,null,null,null,null,null,null,"Pause:",{"$f":"Vorgaben!C7","v":"00:01:00"},null,null,null,null,"min"]
[]
[]
[null,"I. Teilnehmende Mannschaften"]
[]
[null,null,null,null,null,null,null,null,null,"Mannschaften"]
[null,null,null,null,null,null,null,null,null,"1.",null,{"$f":"'VR Gruppeneinteilung'!B23","v":"Gruppe E1"}]
[null,null,null,null,null,null,null,null,null,"2.",null,{"$f":"'VR Gruppeneinteilung'!B24","v":"Gruppe E2"}]
[null,null,null,null,null,null,null,null,null,"3.",null,{"$f":"'VR Gruppeneinteilung'!B25","v":"Gruppe E3"}]
[null,null,null,null,null,null,null,null,null,"4.",null,{"$f":"'VR Gruppeneinteilung'!B26","v":"Gruppe E4"}]
[null,null,null,null,null,null,null,null,null,"5.",null,{"$f":"'VR Gruppeneinteilung'!B27","v":"Gruppe E5"}]
[null,null,null,null,null,null,null,null,null,"6.",null,{"$f":"'VR Gruppeneinteilung'!B28","v":"Gruppe E6"}]
[null,null,null,null,null,null,null,null,null,"7.",null,{"$f":"'VR Gruppeneinteilung'!B29","v":"Gruppe E7"}]
[null,null,null,null,null,null,null,null,null,"8.",null,{"$f":"'VR Gruppeneinteilung'!B30","v":"Gruppe E8"}]
[]
[null,"II. Spielplan"]
[]
[null,"Nr.",null,"Beginn",null,null,null,null,null,null,"Spielpaarung",null,null,null,null,null,null,null,null,null,null,null,null,null,null,null,null,null,null,null,null,null,null,null,null,null,null,null,null,null,null,null,null,null,null,null,null,null,"Ergebnis",null,null,null,null,null,null,null,null,"Punkte"]
[{"$f":"VLOOKUP(B428,Vorgaben!B408:C414,2,FALSE)","v":{"$error":"#N/A"}},1,null,{"$f":"$H$10","v":"14:15:00"},null,null,null,null,null,{"$f":"L416","v":"Gruppe E1"},null,null,null,null,null,null,null,null,null,null,null,null,null,null,null,null,null,null,"-",{"$f":"L417","v":"Gruppe E2"},null,null,null,null,null,null,null,null,null,null,null,null,null,null,null,null,null,null,{"$f":"IF(ISBLANK('Gruppe E1'!AW28),\"\",'Gruppe E1'!AW28)","v":1},null,":",{"$f":"IF(ISBLANK('Gruppe E1'!AZ28),\"\",'Gruppe E1'!AZ28)","v":1},null,null,null,null,null,{"$f":"IF(AW428=\"\",0,IF(ISBLANK(AW428),\"0\",IF(AW428>AZ428,3,IF(AW428=AZ428,1,0))))","v":1},":",{"$f":"IF(AZ428=\"\",0,IF(ISBLANK(AZ428),\"0\",IF(AZ428>AW428,3,IF(AZ428=AW428,1,0))))","v":1}]
[{"$f":"VLOOKUP(B429,Vorgaben!B$10:C$16,2,FALSE)","v":{"$error":"#N/A"}},2,null,{"$f":"IF(ISNA(A429),D428+($U$10*$X$10+$AL$10),D428+($U$10*$X$10+$AL$10)+A429)","v":"14:25:00"},null,null,null,null,null,{"$f":"L418","v":"Gruppe E3"},null,null,null,null,null,null,null,null,null,null,null,null,null,null,null,null,null,null,"-",{"$f":"L419","v":"Gruppe E4"},null,null,null,null,null,null,null,null,null,null,null,null,null,null,null,null,null,null,{"$f":"IF(ISBLANK('Gruppe E1'!AW29),\"\",'Gruppe E1'!AW29)","v":1},null,":",{"$f":"IF(ISBLANK('Gruppe E1'!AZ29),\"\",'Gruppe E1'!AZ29)","v":1},null,null,null,null,null,1,":",{"$f":"IF(AZ429=\"\",0,IF(ISBLANK(AZ429),\"0\",IF(AZ429>AW429,3,IF(AZ429=AW429,1,0))))","v":1}]
[{"$f":"VLOOKUP(B430,Vorgaben!B$10:C$16,2,FALSE)","v":{"$error":"#N/A"}},3,null,{"$f":"IF(ISNA(A430),D429+($U$10*$X$10+$AL$10),D429+($U$10*$X$10+$AL$10)+A430)","v":"14:35:00"},null,null,null,null,null,{"$f":"L420","v":"Gruppe E5"},null,null,null,null,null,null,null,null,null,null,null,null,null,null,null,null,null,null,"-",{"$f":"L421","v":"Gruppe E6"},null,null,null,null,null,null,null,null,null,null,null,null,null,null,null,null,null,null,{"$f":"IF(ISBLANK('Gruppe E1'!AW30),\"\",'Gruppe E1'!AW30)","v":1},null,":",{"$f":"IF(ISBLANK('Gruppe E1'!AZ30),\"\",'Gruppe E1'!AZ30)","v":1},null,null,null,null,null,1,":",1,null,null,null,null,{"$f":"IF(BM432=\"Min. 3 Teams identisch.  HANDSORTIERUNG!\",BM432,IF(BM432=\"ACHTUNG! Direkter Vergleich war unentschieden!\",BM432,BM431))","v":"ACHTUNG! Direkter Vergleich war unentschieden!"}]
[{"$f":"VLOOKUP(B431,Vorgaben!B$10:C$16,2,FALSE)","v":{"$error":"#N/A"}},4,null,{"$f":"IF(ISNA(A431),D430+($U$10*$X$10+$AL$10),D430+($U$10*$X$10+$AL$10)+A431)","v":"14:45:00"},null,null,null,null,null,{"$f":"L422","v":"Gruppe E7"},null,null,null,null,null,null,null,null,null,null,null,null,null,null,null,null,null,null,"-",{"$f":"L423","v":"Gruppe E8"},null,null,null,null,null,null,null,null,null,null,null,null,null,null,null,null,null,null,{"$f":"IF(ISBLANK('Gruppe E1'!AW31),\"\",'Gruppe E1'!AW31)","v":1},null,":",{"$f":"IF(ISBLANK('Gruppe E1'!AZ31),\"\",'Gruppe E1'!AZ31)","v":1},null,null,null,null,null,1,":",1,null,null,null,null,{"$f":"IF(AND(EXACT(BO434,BO435),EXACT(BP434,BP435),EXACT(BS434,BS435)),\"ACHTUNG: Direkter Vergleich erfolgreich durchlaufen!\",IF(AND(EXACT(BO435,BO436),EXACT(BP435,BP436),EXACT(BS435,BS436)),\"ACHTUNG: Direkter Vergleich erfolgreich durchlaufen!\",IF(AND(EXACT(BO436,BO437),EXACT(BP436,BP437),EXACT(BS436,BS437)),\"ACHTUNG: Direkter Vergleich erfolgreich durchlaufen!\",IF(AND(EXACT(BO437,BO438),EXACT(BP437,BP438),EXACT(BS437,BS438)),\"ACHTUNG: Direkter Vergleich erfolgreich durchlaufen!\",IF(AND(EXACT(BO438,BO439),EXACT(BP438,BP439),EXACT(BS438,BS439)),\"ACHTUNG: Direkter Vergleich erfolgreich durchlaufen!\",IF(AND(EXACT(BO439,BO440),EXACT(BP439,BP440),EXACT(BS439,BS440)),\"ACHTUNG: Direkter Vergleich erfolgreich durchlaufen!\",IF(AND(EXACT(BO440,BO441),EXACT(BP440,BP441),EXACT(BS440,BS441)),\"ACHTUNG: Direkter Vergleich erfolgreich durchlaufen!\",\"\")))))))","v":"ACHTUNG: Direkter Vergleich erfolgreich durchlaufen!"}]
[{"$f":"IF(VLOOKUP(B432,Vorgaben!B$10:C$16,2,FALSE)=\"\",\"\",VLOOKUP(B432,Vorgaben!B$10:C$16,2,FALSE))","v":{"$error":"#N/A"}},5,null,{"$f":"IF(ISNA(A432),D431+($U$10*$X$10+$AL$10),D431+($U$10*$X$10+$AL$10)+A432)","v":"14:55:00"},null,null,null,null,null,{"$f":"L419","v":"Gruppe E4"},null,null,null,null,null,null,null,null,null,null,null,null,null,null,null,null,null,null,"-",{"$f":"L416","v":"Gruppe E1"},null,null,null,null,null,null,null,null,null,null,null,null,null,null,null,null,null,null,{"$f":"IF(ISBLANK('Gruppe E1'!AW32),\"\",'Gruppe E1'!AW32)","v":1},null,":",{"$f":"IF(ISBLANK('Gruppe E1'!AZ32),\"\",'Gruppe E1'!AZ32)","v":2},null,null,null,null,null,0,":",3,null,null,null,null,{"$f":"IF(OR(CC434=3,CC435=3,CC436=3,CC437=3,CC438=3,CC439=3,CC440=3,CC441=3),\"Min. 3 Teams identisch.  HANDSORTIERUNG!\",IF(OR(CB434=\"ACHTUNG! Direkter Vergleich war unentschieden!\",CB435=\"ACHTUNG! Direkter Vergleich war unentschieden!\",CB436=\"ACHTUNG! Direkter Vergleich war unentschieden!\",CB437=\"ACHTUNG! Direkter Vergleich war unentschieden!\",CB438=\"ACHTUNG! Direkter Vergleich war unentschieden!\",CB439=\"ACHTUNG! Direkter Vergleich war unentschieden!\",CB440=\"ACHTUNG! Direkter Vergleich war unentschieden!\",CB441=\"ACHTUNG! Direkter Vergleich war unentschieden!\"),\"ACHTUNG! Direkter Vergleich war unentschieden!\",\"\"))","v":"ACHTUNG! Direkter Vergleich war unentschieden!"}]
[{"$f":"VLOOKUP(B433,Vorgaben!B$10:C$16,2,FALSE)","v":{"$error":"#N/A"}},6,null,"15:05:00",null,null,null,null,null,{"$f":"L417","v":"Gruppe E2"},null,null,null,null,null,null,null,null,null,null,null,null,null,null,null,null,null,null,"-",{"$f":"L418","v":"Gruppe E3"},null,null,null,null,null,null,null,null,null,null,null,null,null,null,null,null,null,null,{"$f":"IF(ISBLANK('Gruppe E1'!AW33),\"\",'Gruppe E1'!AW33)","v":1},null,":",{"$f":"IF(ISBLANK('Gruppe E1'!AZ33),\"\",'Gruppe E1'!AZ33)","v":1},null,null,null,null,null,1,":",1]
[{"$f":"VLOOKUP(B434,Vorgaben!B$10:C$16,2,FALSE)","v":{"$error":"#N/A"}},7,null,"15:15:00",null,null,null,null,null,{"$f":"L423","v":"Gruppe E8"},null,null,null,null,null,null,null,null,null,null,null,null,null,null,null,null,null,null,"-",{"$f":"L420","v":"Gruppe E5"},null,null,null,null,null,null,null,null,null,null,null,null,null,null,null,null,null,null,{"$f":"IF(ISBLANK('Gruppe E1'!AW34),\"\",'Gruppe E1'!AW34)","v":1},null,":",{"$f":"IF(ISBLANK('Gruppe E1'!AZ34),\"\",'Gruppe E1'!AZ34)","v":1},null,null,null,null,null,1,":",1,null,null,null,{"$f":"INDEX(Vorgaben!B$39:D$46,MATCH($BM434,Vorgaben!B$39:B$46,0),3)","v":0},{"$f":"'Gruppe E1'!$BM$37","v":"Gruppe E2"},{"$f":"'Gruppe E1'!$BN$37","v":7},{"$f":"'Gruppe E1'!$BO$37","v":9},{"$f":"'Gruppe E1'!$BP$37","v":9},{"$f":"'Gruppe E1'!BQ337","v":0},{"$f":"'Gruppe E1'!$BR$37","v":8},{"$f":"'Gruppe E1'!$BS$37","v":1},{"$f":"BV434","v":0},null,{"$f":"IF(BX434>BY435,10,IF(BX434<BY435,-10,0))","v":0},null,{"$f":"IF(ISNA(INDEX(BF$428:BF$455,MATCH(BM434&BM435,J$428:J$455&AD$428:AD$455,0))),INDEX(BH$428:BH$455,MATCH(BM435&BM434,J$428:J$455&AD$428:AD$455,0)),INDEX(BF$428:BF$455,MATCH(BM434&BM435,J$428:J$455&AD$428:AD$455,0)))","v":1},null,{"$f":"IF(AND(EXACT(BO434,BO435),EXACT(BP434,BP435),EXACT(BS434,BS435),EXACT(BX434,BY435)),\"ACHTUNG! Direkter Vergleich war unentschieden!\",IF(AND(EXACT(BO434,BO435),EXACT(BP434,BP435),EXACT(BS434,BS435)),1,2))","v":"ACHTUNG! Direkter Vergleich war unentschieden!"},{"$f":"IF(AND(EXACT(BO433,BO434),EXACT(BP433,BP434),EXACT(BS433,BS434),EXACT(BX434,BY433)),\"ACHTUNG! Direkter Vergleich war unentschieden!\",\"\")","v":""},{"$f":"IF(OR(BZ434=\"ACHTUNG! Direkter Vergleich war unentschieden!\",CA434=\"ACHTUNG! Direkter Vergleich war unentschieden!\"),\"ACHTUNG! Direkter Vergleich war unentschieden!\",\"\")","v":"ACHTUNG! Direkter Vergleich war unentschieden!"},{"$f":"IF(OR(AND(EXACT(BO434,BO435),EXACT(BP434,BP435),EXACT(BS434,BS435),EXACT(BO434,BO436),EXACT(BP434,BP436),EXACT(BS434,BS436)),AND(EXACT(BO434,BO435),EXACT(BP434,BP435),EXACT(BS434,BS435),EXACT(BO434,BO433),EXACT(BP434,BP433),EXACT(BS434,BS433))*AND(EXACT(BO434,BO432),EXACT(BP434,BP432),EXACT(BS434,BS432),EXACT(BO434,BO433),EXACT(BP434,BP433),EXACT(BS434,BS433))),3,1)","v":1}]
[{"$f":"VLOOKUP(B435,Vorgaben!B$10:C$16,2,FALSE)","v":{"$error":"#N/A"}},8,null,"15:25:00",null,null,null,null,null,{"$f":"L421","v":"Gruppe E6"},null,null,null,null,null,null,null,null,null,null,null,null,null,null,null,null,null,null,"-",{"$f":"L422","v":"Gruppe E7"},null,null,null,null,null,null,null,null,null,null,null,null,null,null,null,null,null,null,{"$f":"IF(ISBLANK('Gruppe E1'!AW35),\"\",'Gruppe E1'!AW35)","v":1},null,":",{"$f":"IF(ISBLANK('Gruppe E1'!AZ35),\"\",'Gruppe E1'!AZ35)","v":1},null,null,null,null,null,1,":",1,null,null,null,{"$f":"INDEX(Vorgaben!B$39:D$46,MATCH($BM435,Vorgaben!B$39:B$46,0),3)","v":0},{"$f":"'Gruppe E1'!$BM$36","v":"Gruppe E3"},{"$f":"'Gruppe E1'!$BN$36","v":7},{"$f":"'Gruppe E1'!$BO$36","v":9},{"$f":"'Gruppe E1'!$BP$36","v":9},{"$f":"'Gruppe E1'!BQ336","v":0},{"$f":"'Gruppe E1'!$BR$36","v":8},{"$f":"'Gruppe E1'!$BS$36","v":1},0,{"$f":"BW435","v":0},{"$f":"IF(BX434<BY435,10,IF(BX434>BY435,-10,0))","v":0},{"$f":"IF(BX435>BY436,10,IF(BX435<BY436,-10,0))","v":0},{"$f":"IF(ISNA(INDEX(BF$428:BF$455,MATCH(BM435&BM436,J$428:J$455&AD$428:AD$455,0))),INDEX(BH$428:BH$455,MATCH(BM436&BM435,J$428:J$455&AD$428:AD$455,0)),INDEX(BF$428:BF$455,MATCH(BM435&BM436,J$428:J$455&AD$428:AD$455,0)))","v":1},{"$f":"IF(ISNA(INDEX(BF$428:BF$455,MATCH(BM435&BM434,J$428:J$455&AD$428:AD$455,0))),INDEX(BH$428:BH$455,MATCH(BM434&BM435,J$428:J$455&AD$428:AD$455,0)),INDEX(BF$428:BF$455,MATCH(BM435&BM434,J$428:J$455&AD$428:AD$455,0)))","v":1},2,{"$f":"IF(AND(EXACT(BO434,BO435),EXACT(BP434,BP435),EXACT(BS434,BS435),EXACT(BY435,BX434)),\"ACHTUNG! Direkter Vergleich war unentschieden!\",IF(AND(EXACT(BO434,BO435),EXACT(BP434,BP435),EXACT(BS434,BS435)),1,2))","v":"ACHTUNG! Direkter Vergleich war unentschieden!"},"ACHTUNG! Direkter Vergleich war unentschieden!",1]
[{"$f":"VLOOKUP(B436,Vorgaben!B$10:C$16,2,FALSE)","v":{"$error":"#N/A"}},9,null,"15:35:00",null,null,null,null,null,{"$f":"L420","v":"Gruppe E5"},null,null,null,null,null,null,null,null,null,null,null,null,null,null,null,null,null,null,"-",{"$f":"L419","v":"Gruppe E4"},null,null,null,null,null,null,null,null,null,null,null,null,null,null,null,null,null,null,{"$f":"IF(ISBLANK('Gruppe E1'!AW36),\"\",'Gruppe E1'!AW36)","v":1},null,":",{"$f":"IF(ISBLANK('Gruppe E1'!AZ36),\"\",'Gruppe E1'!AZ36)","v":1},null,null,null,null,null,1,":",1,null,null,null,{"$f":"INDEX(Vorgaben!B$39:D$46,MATCH($BM436,Vorgaben!B$39:B$46,0),3)","v":0},{"$f":"'Gruppe E1'!$BM$35","v":"Gruppe E7"},{"$f":"'Gruppe E1'!$BN$35","v":7},{"$f":"'Gruppe E1'!$BO$35","v":8},{"$f":"'Gruppe E1'!$BP$35","v":9},{"$f":"'Gruppe E1'!BQ335","v":0},{"$f":"'Gruppe E1'!$BR$35","v":8},{"$f":"'Gruppe E1'!$BS$35","v":1},0,-10,0,{"$f":"IF(BX436>BY437,10,IF(BX436<BY437,-10,0))","v":-10},{"$f":"IF(ISNA(INDEX(BF$428:BF$455,MATCH(BM436&BM437,J$428:J$455&AD$428:AD$455,0))),INDEX(BH$428:BH$455,MATCH(BM437&BM436,J$428:J$455&AD$428:AD$455,0)),INDEX(BF$428:BF$455,MATCH(BM436&BM437,J$428:J$455&AD$428:AD$455,0)))","v":0},{"$f":"IF(ISNA(INDEX(BF$428:BF$455,MATCH(BM436&BM435,J$428:J$455&AD$428:AD$455,0))),INDEX(BH$428:BH$455,MATCH(BM435&BM436,J$428:J$455&AD$428:AD$455,0)),INDEX(BF$428:BF$455,MATCH(BM436&BM435,J$428:J$455&AD$428:AD$455,0)))","v":1},2,2,"",{"$f":"IF(OR(AND(EXACT(BO436,BO437),EXACT(BP436,BP437),EXACT(BS436,BS437),EXACT(BO436,BO438),EXACT(BP436,BP438),EXACT(BS436,BS438)),AND(EXACT(BO436,BO437),EXACT(BP436,BP437),EXACT(BS436,BS437),EXACT(BO436,BO435),EXACT(BP436,BP435),EXACT(BS436,BS435))*AND(EXACT(BO436,BO434),EXACT(BP436,BP434),EXACT(BS436,BS434),EXACT(BO436,BO435),EXACT(BP436,BP435),EXACT(BS436,BS435))),3,1)","v":1}]
[{"$f":"VLOOKUP(B437,Vorgaben!B$10:C$16,2,FALSE)","v":{"$error":"#N/A"}},10,null,"15:45:00",null,null,null,null,null,{"$f":"L416","v":"Gruppe E1"},null,null,null,null,null,null,null,null,null,null,null,null,null,null,null,null,null,null,"-",{"$f":"L418","v":"Gruppe E3"},null,null,null,null,null,null,null,null,null,null,null,null,null,null,null,null,null,null,{"$f":"IF(ISBLANK('Gruppe E1'!AW37),\"\",'Gruppe E1'!AW37)","v":1},null,":",{"$f":"IF(ISBLANK('Gruppe E1'!AZ37),\"\",'Gruppe E1'!AZ37)","v":1},null,null,null,null,null,1,":",1,null,null,null,{"$f":"INDEX(Vorgaben!B$39:D$46,MATCH($BM437,Vorgaben!B$39:B$46,0),3)","v":0},{"$f":"'Gruppe E1'!$BM$39","v":"Gruppe E4"},{"$f":"'Gruppe E1'!$BN$39","v":7},{"$f":"'Gruppe E1'!$BO$39","v":8},{"$f":"'Gruppe E1'!$BP$39","v":8},{"$f":"'Gruppe E1'!BQ339","v":0},{"$f":"'Gruppe E1'!$BR$39","v":8},{"$f":"'Gruppe E1'!$BS$39","v":0},{"$f":"BV437","v":10},10,10,{"$f":"IF(BX436<BY437,10,IF(BX436>BY437,-10,0))","v":10},{"$f":"IF(ISNA(INDEX(BF$428:BF$455,MATCH(BM437&BM438,J$428:J$455&AD$428:AD$455,0))),INDEX(BH$428:BH$455,MATCH(BM438&BM437,J$428:J$455&AD$428:AD$455,0)),INDEX(BF$428:BF$455,MATCH(BM437&BM438,J$428:J$455&AD$428:AD$455,0)))","v":0},{"$f":"IF(ISNA(INDEX(BF$428:BF$455,MATCH(BM437&BM436,J$428:J$455&AD$428:AD$455,0))),INDEX(BH$428:BH$455,MATCH(BM436&BM437,J$428:J$455&AD$428:AD$455,0)),INDEX(BF$428:BF$455,MATCH(BM437&BM436,J$428:J$455&AD$428:AD$455,0)))","v":3},2,2,"",{"$f":"IF(OR(AND(EXACT(BO437,BO438),EXACT(BP437,BP438),EXACT(BS437,BS438),EXACT(BO437,BO439),EXACT(BP437,BP439),EXACT(BS437,BS439)),AND(EXACT(BO437,BO438),EXACT(BP437,BP438),EXACT(BS437,BS438),EXACT(BO437,BO436),EXACT(BP437,BP436),EXACT(BS437,BS436))*AND(EXACT(BO437,BO435),EXACT(BP437,BP435),EXACT(BS437,BS435),EXACT(BO437,BO436),EXACT(BP437,BP436),EXACT(BS437,BS436))),3,1)","v":1}]
[{"$f":"VLOOKUP(B438,Vorgaben!B$10:C$16,2,FALSE)","v":{"$error":"#N/A"}},11,null,"15:55:00",null,null,null,null,null,{"$f":"L417","v":"Gruppe E2"},null,null,null,null,null,null,null,null,null,null,null,null,null,null,null,null,null,null,"-",{"$f":"L422","v":"Gruppe E7"},null,null,null,null,null,null,null,null,null,null,null,null,null,null,null,null,null,null,{"$f":"IF(ISBLANK('Gruppe E1'!AW38),\"\",'Gruppe E1'!AW38)","v":1},null,":",{"$f":"IF(ISBLANK('Gruppe E1'!AZ38),\"\",'Gruppe E1'!AZ38)","v":1},null,null,null,null,null,1,":",1,null,null,null,{"$f":"INDEX(Vorgaben!B$39:D$46,MATCH($BM438,Vorgaben!B$39:B$46,0),3)","v":0},{"$f":"'Gruppe E1'!$BM$38","v":"Gruppe E1"},{"$f":"'Gruppe E1'!$BN$38","v":7},{"$f":"'Gruppe E1'!$BO$38","v":8},{"$f":"'Gruppe E1'!$BP$38","v":8},{"$f":"'Gruppe E1'!BQ338","v":0},{"$f":"'Gruppe E1'!$BR$38","v":9},{"$f":"'Gruppe E1'!$BS$38","v":-1},{"$f":"BV438","v":10},0,10,{"$f":"IF(BX438>BY439,10,IF(BX438<BY439,-10,0))","v":0},{"$f":"IF(ISNA(INDEX(BF$428:BF$455,MATCH(BM438&BM439,J$428:J$455&AD$428:AD$455,0))),INDEX(BH$428:BH$455,MATCH(BM439&BM438,J$428:J$455&AD$428:AD$455,0)),INDEX(BF$428:BF$455,MATCH(BM438&BM439,J$428:J$455&AD$428:AD$455,0)))","v":1},{"$f":"IF(ISNA(INDEX(BF$428:BF$455,MATCH(BM438&BM437,J$428:J$455&AD$428:AD$455,0))),INDEX(BH$428:BH$455,MATCH(BM437&BM438,J$428:J$455&AD$428:AD$455,0)),INDEX(BF$428:BF$455,MATCH(BM438&BM437,J$428:J$455&AD$428:AD$455,0)))","v":3},2,2,"",1]
[{"$f":"VLOOKUP(B439,Vorgaben!B$10:C$16,2,FALSE)","v":{"$error":"#N/A"}},12,null,"16:05:00",null,null,null,null,null,{"$f":"L421","v":"Gruppe E6"},null,null,null,null,null,null,null,null,null,null,null,null,null,null,null,null,null,null,"-",{"$f":"L423","v":"Gruppe E8"},null,null,null,null,null,null,null,null,null,null,null,null,null,null,null,null,null,null,{"$f":"IF(ISBLANK('Gruppe E1'!AW39),\"\",'Gruppe E1'!AW39)","v":1},null,":",{"$f":"IF(ISBLANK('Gruppe E1'!AZ39),\"\",'Gruppe E1'!AZ39)","v":1},null,null,null,null,null,1,":",1,null,null,null,{"$f":"INDEX(Vorgaben!B$39:D$46,MATCH($BM439,Vorgaben!B$39:B$46,0),3)","v":0},{"$f":"'Gruppe E1'!$BM$41","v":"Gruppe E6"},{"$f":"'Gruppe E1'!$BN$41","v":7},{"$f":"'Gruppe E1'!$BO$41","v":7},{"$f":"'Gruppe E1'!$BP$41","v":7},{"$f":"'Gruppe E1'!BQ341","v":0},{"$f":"'Gruppe E1'!$BR$41","v":7},{"$f":"'Gruppe E1'!$BS$41","v":0},{"$f":"BV439","v":0},0,0,{"$f":"IF(BX438<BY439,10,IF(BX438>BY439,-10,0))","v":0},{"$f":"IF(ISNA(INDEX(BF$428:BF$455,MATCH(BM439&BM440,J$428:J$455&AD$428:AD$455,0))),INDEX(BH$428:BH$455,MATCH(BM440&BM439,J$428:J$455&AD$428:AD$455,0)),INDEX(BF$428:BF$455,MATCH(BM439&BM440,J$428:J$455&AD$428:AD$455,0)))","v":1},{"$f":"IF(ISNA(INDEX(BF$428:BF$455,MATCH(BM439&BM438,J$428:J$455&AD$428:AD$455,0))),INDEX(BH$428:BH$455,MATCH(BM438&BM439,J$428:J$455&AD$428:AD$455,0)),INDEX(BF$428:BF$455,MATCH(BM439&BM438,J$428:J$455&AD$428:AD$455,0)))","v":1},2,2,"",1]
[{"$f":"VLOOKUP(B440,Vorgaben!B$10:C$16,2,FALSE)","v":{"$error":"#N/A"}},13,null,"16:15:00",null,null,null,null,null,{"$f":"L419","v":"Gruppe E4"},null,null,null,null,null,null,null,null,null,null,null,null,null,null,null,null,null,null,"-",{"$f":"L417","v":"Gruppe E2"},null,null,null,null,null,null,null,null,null,null,null,null,null,null,null,null,null,null,{"$f":"IF(ISBLANK('Gruppe E1'!AW40),\"\",'Gruppe E1'!AW40)","v":1},null,":",{"$f":"IF(ISBLANK('Gruppe E1'!AZ40),\"\",'Gruppe E1'!AZ40)","v":1},null,null,null,null,null,1,":",1,null,null,null,{"$f":"INDEX(Vorgaben!B$39:D$46,MATCH($BM440,Vorgaben!B$39:B$46,0),3)","v":0},{"$f":"'Gruppe E1'!$BM$34","v":"Gruppe E5"},{"$f":"'Gruppe E1'!$BN$34","v":7},{"$f":"'Gruppe E1'!$BO$34","v":6},{"$f":"'Gruppe E1'!$BP$34","v":8},{"$f":"'Gruppe E1'!BQ334","v":0},{"$f":"'Gruppe E1'!$BR$34","v":9},{"$f":"'Gruppe E1'!$BS$34","v":-1},{"$f":"BV440","v":0},0,0,{"$f":"IF(BX439<BY440,10,IF(BX439>BY440,-10,0))","v":0},{"$f":"IF(ISNA(INDEX(BF$428:BF$455,MATCH(BM440&BM441,J$428:J$455&AD$428:AD$455,0))),INDEX(BH$428:BH$455,MATCH(BM441&BM440,J$428:J$455&AD$428:AD$455,0)),INDEX(BF$428:BF$455,MATCH(BM440&BM441,J$428:J$455&AD$428:AD$455,0)))","v":1},{"$f":"IF(ISNA(INDEX(BF$428:BF$455,MATCH(BM440&BM439,J$428:J$455&AD$428:AD$455,0))),INDEX(BH$428:BH$455,MATCH(BM439&BM440,J$428:J$455&AD$428:AD$455,0)),INDEX(BF$428:BF$455,MATCH(BM440&BM439,J$428:J$455&AD$428:AD$455,0)))","v":1},"ACHTUNG! Direkter Vergleich war unentschieden!",2,"ACHTUNG! Direkter Vergleich war unentschieden!",1]
[{"$f":"VLOOKUP(B441,Vorgaben!B$10:C$16,2,FALSE)","v":{"$error":"#N/A"}},14,null,"16:25:00",null,null,null,null,null,{"$f":"L422","v":"Gruppe E7"},null,null,null,null,null,null,null,null,null,null,null,null,null,null,null,null,null,null,"-",{"$f":"L420","v":"Gruppe E5"},null,null,null,null,null,null,null,null,null,null,null,null,null,null,null,null,null,null,{"$f":"IF(ISBLANK('Gruppe E1'!AW41),\"\",'Gruppe E1'!AW41)","v":1},null,":",{"$f":"IF(ISBLANK('Gruppe E1'!AZ41),\"\",'Gruppe E1'!AZ41)","v":1},null,null,null,null,null,1,":",1,null,null,null,{"$f":"INDEX(Vorgaben!B$39:D$46,MATCH($BM441,Vorgaben!B$39:B$46,0),3)","v":0},{"$f":"'Gruppe E1'!$BM$40","v":"Gruppe E8"},{"$f":"'Gruppe E1'!$BN$40","v":7},{"$f":"'Gruppe E1'!$BO$40","v":6},{"$f":"'Gruppe E1'!$BP$40","v":8},{"$f":"'Gruppe E1'!BQ340","v":0},{"$f":"'Gruppe E1'!$BR$40","v":9},{"$f":"'Gruppe E1'!$BS$40","v":-1},{"$f":"BV441","v":0},0,0,null,null,{"$f":"IF(ISNA(INDEX(BF$428:BF$455,MATCH(BM441&BM440,J$428:J$455&AD$428:AD$455,0))),INDEX(BH$428:BH$455,MATCH(BM440&BM441,J$428:J$455&AD$428:AD$455,0)),INDEX(BF$428:BF$455,MATCH(BM441&BM440,J$428:J$455&AD$428:AD$455,0)))","v":1},{"$f":"IF(AND(EXACT(BO441,BO442),EXACT(BP441,BP442),EXACT(BS441,BS442),EXACT(BX441,BY442)),\"ACHTUNG! Direkter Vergleich war unentschieden!\",\"\")","v":""},"ACHTUNG! Direkter Vergleich war unentschieden!","ACHTUNG! Direkter Vergleich war unentschieden!",1]
[{"$f":"VLOOKUP(B442,Vorgaben!B$10:C$16,2,FALSE)","v":{"$error":"#N/A"}},15,null,"16:35:00",null,null,null,null,null,{"$f":"L423","v":"Gruppe E8"},null,null,null,null,null,null,null,null,null,null,null,null,null,null,null,null,null,null,"-",{"$f":"L416","v":"Gruppe E1"},null,null,null,null,null,null,null,null,null,null,null,null,null,null,null,null,null,null,{"$f":"IF(ISBLANK('Gruppe E1'!AW42),\"\",'Gruppe E1'!AW42)","v":1},null,":",{"$f":"IF(ISBLANK('Gruppe E1'!AZ42),\"\",'Gruppe E1'!AZ42)","v":1},null,null,null,null,null,1,":",1]
[{"$f":"VLOOKUP(B443,Vorgaben!B$10:C$16,2,FALSE)","v":{"$error":"#N/A"}},16,null,"16:45:00",null,null,null,null,null,{"$f":"L418","v":"Gruppe E3"},null,null,null,null,null,null,null,null,null,null,null,null,null,null,null,null,null,null,"-",{"$f":"L421","v":"Gruppe E6"},null,null,null,null,null,null,null,null,null,null,null,null,null,null,null,null,null,null,{"$f":"IF(ISBLANK('Gruppe E1'!AW43),\"\",'Gruppe E1'!AW43)","v":1},null,":",{"$f":"IF(ISBLANK('Gruppe E1'!AZ43),\"\",'Gruppe E1'!AZ43)","v":1},null,null,null,null,null,1,":",1]
[{"$f":"VLOOKUP(B444,Vorgaben!B$10:C$16,2,FALSE)","v":{"$error":"#N/A"}},17,null,"16:55:00",null,null,null,null,null,{"$f":"L419","v":"Gruppe E4"},null,null,null,null,null,null,null,null,null,null,null,null,null,null,null,null,null,null,"-",{"$f":"L422","v":"Gruppe E7"},null,null,null,null,null,null,null,null,null,null,null,null,null,null,null,null,null,null,{"$f":"IF(ISBLANK('Gruppe E1'!AW44),\"\",'Gruppe E1'!AW44)","v":2},null,":",{"$f":"IF(ISBLANK('Gruppe E1'!AZ44),\"\",'Gruppe E1'!AZ44)","v":1},null,null,null,null,null,3,":",0]
[{"$f":"VLOOKUP(B445,Vorgaben!B$10:C$16,2,FALSE)","v":{"$error":"#N/A"}},18,null,"17:05:00",null,null,null,null,null,{"$f":"L417","v":"Gruppe E2"},null,null,null,null,null,null,null,null,null,null,null,null,null,null,null,null,null,null,"-",{"$f":"L423","v":"Gruppe E8"},null,null,null,null,null,null,null,null,null,null,null,null,null,null,null,null,null,null,{"$f":"IF(ISBLANK('Gruppe E1'!AW45),\"\",'Gruppe E1'!AW45)","v":1},null,":",{"$f":"IF(ISBLANK('Gruppe E1'!AZ45),\"\",'Gruppe E1'!AZ45)","v":1},null,null,null,null,null,1,":",1]
[{"$f":"VLOOKUP(B446,Vorgaben!B$10:C$16,2,FALSE)","v":{"$error":"#N/A"}},19,null,"17:15:00",null,null,null,null,null,{"$f":"L416","v":"Gruppe E1"},null,null,null,null,null,null,null,null,null,null,null,null,null,null,null,null,null,null,"-",{"$f":"L421","v":"Gruppe E6"},null,null,null,null,null,null,null,null,null,null,null,null,null,null,null,null,null,null,{"$f":"IF(ISBLANK('Gruppe E1'!AW46),\"\",'Gruppe E1'!AW46)","v":1},null,":",{"$f":"IF(ISBLANK('Gruppe E1'!AZ46),\"\",'Gruppe E1'!AZ46)","v":1},null,null,null,null,null,1,":",1]
[{"$f":"VLOOKUP(B447,Vorgaben!B$10:C$16,2,FALSE)","v":{"$error":"#N/A"}},20,null,"17:25:00",null,null,null,null,null,{"$f":"L420","v":"Gruppe E5"},null,null,null,null,null,null,null,null,null,null,null,null,null,null,null,null,null,null,"-",{"$f":"L418","v":"Gruppe E3"},null,null,null,null,null,null,null,null,null,null,null,null,null,null,null,null,null,null,{"$f":"IF(ISBLANK('Gruppe E1'!AW47),\"\",'Gruppe E1'!AW47)","v":1},null,":",{"$f":"IF(ISBLANK('Gruppe E1'!AZ47),\"\",'Gruppe E1'!AZ47)","v":1},null,null,null,null,null,1,":",1]
[{"$f":"VLOOKUP(B448,Vorgaben!B$10:C$16,2,FALSE)","v":{"$error":"#N/A"}},21,null,"17:35:00",null,null,null,null,null,{"$f":"L423","v":"Gruppe E8"},null,null,null,null,null,null,null,null,null,null,null,null,null,null,null,null,null,null,"-",{"$f":"L419","v":"Gruppe E4"},null,null,null,null,null,null,null,null,null,null,null,null,null,null,null,null,null,null,{"$f":"IF(ISBLANK('Gruppe E1'!AW48),\"\",'Gruppe E1'!AW48)","v":1},null,":",{"$f":"IF(ISBLANK('Gruppe E1'!AZ48),\"\",'Gruppe E1'!AZ48)","v":1},null,null,null,null,null,1,":",1]
[{"$f":"VLOOKUP(B449,Vorgaben!B$10:C$16,2,FALSE)","v":{"$error":"#N/A"}},22,null,"17:45:00",null,null,null,null,null,{"$f":"L421","v":"Gruppe E6"},null,null,null,null,null,null,null,null,null,null,null,null,null,null,null,null,null,null,"-",{"$f":"L417","v":"Gruppe E2"},null,null,null,null,null,null,null,null,null,null,null,null,null,null,null,null,null,null,{"$f":"IF(ISBLANK('Gruppe E1'!AW49),\"\",'Gruppe E1'!AW49)","v":1},null,":",{"$f":"IF(ISBLANK('Gruppe E1'!AZ49),\"\",'Gruppe E1'!AZ49)","v":1},null,null,null,null,null,1,":",1]
[{"$f":"VLOOKUP(B450,Vorgaben!B$10:C$16,2,FALSE)","v":{"$error":"#N/A"}},23,null,"17:55:00",null,null,null,null,null,{"$f":"L422","v":"Gruppe E7"},null,null,null,null,null,null,null,null,null,null,null,null,null,null,null,null,null,null,"-",{"$f":"L418","v":"Gruppe E3"},null,null,null,null,null,null,null,null,null,null,null,null,null,null,null,null,null,null,{"$f":"IF(ISBLANK('Gruppe E1'!AW50),\"\",'Gruppe E1'!AW50)","v":1},null,":",{"$f":"IF(ISBLANK('Gruppe E1'!AZ50),\"\",'Gruppe E1'!AZ50)","v":1},null,null,null,null,null,1,":",1]
[{"$f":"VLOOKUP(B451,Vorgaben!B$10:C$16,2,FALSE)","v":{"$error":"#N/A"}},24,null,"18:05:00",null,null,null,null,null,{"$f":"L420","v":"Gruppe E5"},null,null,null,null,null,null,null,null,null,null,null,null,null,null,null,null,null,null,"-",{"$f":"L416","v":"Gruppe E1"},null,null,null,null,null,null,null,null,null,null,null,null,null,null,null,null,null,null,{"$f":"IF(ISBLANK('Gruppe E1'!AW51),\"\",'Gruppe E1'!AW51)","v":1},null,":",{"$f":"IF(ISBLANK('Gruppe E1'!AZ51),\"\",'Gruppe E1'!AZ51)","v":1},null,null,null,null,null,1,":",1]
[{"$f":"VLOOKUP(B452,Vorgaben!B$10:C$16,2,FALSE)","v":{"$error":"#N/A"}},25,null,"18:15:00",null,null,null,null,null,{"$f":"L419","v":"Gruppe E4"},null,null,null,null,null,null,null,null,null,null,null,null,null,null,null,null,null,null,"-",{"$f":"L421","v":"Gruppe E6"},null,null,null,null,null,null,null,null,null,null,null,null,null,null,null,null,null,null,{"$f":"IF(ISBLANK('Gruppe E1'!AW52),\"\",'Gruppe E1'!AW52)","v":1},null,":",{"$f":"IF(ISBLANK('Gruppe E1'!AZ52),\"\",'Gruppe E1'!AZ52)","v":1},null,null,null,null,null,1,":",1]
[{"$f":"VLOOKUP(B453,Vorgaben!B$10:C$16,2,FALSE)","v":{"$error":"#N/A"}},26,null,"18:25:00",null,null,null,null,null,{"$f":"L418","v":"Gruppe E3"},null,null,null,null,null,null,null,null,null,null,null,null,null,null,null,null,null,null,"-",{"$f":"L423","v":"Gruppe E8"},null,null,null,null,null,null,null,null,null,null,null,null,null,null,null,null,null,null,{"$f":"IF(ISBLANK('Gruppe E1'!AW53),\"\",'Gruppe E1'!AW53)","v":3},null,":",{"$f":"IF(ISBLANK('Gruppe E1'!AZ53),\"\",'Gruppe E1'!AZ53)","v":2},null,null,null,null,null,3,":",0]
[{"$f":"VLOOKUP(B454,Vorgaben!B$10:C$16,2,FALSE)","v":{"$error":"#N/A"}},27,null,"18:35:00",null,null,null,null,null,{"$f":"L417","v":"Gruppe E2"},null,null,null,null,null,null,null,null,null,null,null,null,null,null,null,null,null,null,"-",{"$f":"L420","v":"Gruppe E5"},null,null,null,null,null,null,null,null,null,null,null,null,null,null,null,null,null,null,{"$f":"IF(ISBLANK('Gruppe E1'!AW54),\"\",'Gruppe E1'!AW54)","v":3},null,":",{"$f":"IF(ISBLANK('Gruppe E1'!AZ54),\"\",'Gruppe E1'!AZ54)","v":2},null,null,null,null,null,3,":",0]
[{"$f":"VLOOKUP(B455,Vorgaben!B$10:C$16,2,FALSE)","v":{"$error":"#N/A"}},28,null,"18:45:00",null,null,null,null,null,{"$f":"L416","v":"Gruppe E1"},null,null,null,null,null,null,null,null,null,null,null,null,null,null,null,null,null,null,"-",{"$f":"L422","v":"Gruppe E7"},null,null,null,null,null,null,null,null,null,null,null,null,null,null,null,null,null,null,{"$f":"IF(ISBLANK('Gruppe E1'!AW55),\"\",'Gruppe E1'!AW55)","v":1},null,":",{"$f":"IF(ISBLANK('Gruppe E1'!AZ55),\"\",'Gruppe E1'!AZ55)","v":3},null,null,null,null,null,{"$f":"IF(AW455=\"\",0,IF(ISBLANK(AW455),\"0\",IF(AW455>AZ455,3,IF(AW455=AZ455,1,0))))","v":0},":",3]
[]
[]
[null,"III. Abschlußtabelle"]
[]
[null,null,null,null,null,null,null,null,"Mannschaften",null,null,null,null,null,null,null,null,null,null,null,null,null,null,null,null,null,null,null,null,null,null,null,null,null,null,null,"Sp.",null,null,"Pkt.",null,null,"Tore",null,null,null,null,"Diff."]
[null,null,null,null,null,null,null,null,"1.",null,{"$f":"BM434","v":"Gruppe E2"},null,null,null,null,null,null,null,null,null,null,null,null,null,null,null,null,null,null,null,null,null,null,null,null,null,{"$f":"BN434","v":7},null,null,{"$f":"BO434","v":9},null,null,{"$f":"BP434","v":9},null,":",{"$f":"BR434","v":8},null,{"$f":"BS434","v":1}]
[null,null,null,null,null,null,null,null,"2.",null,{"$f":"BM435","v":"Gruppe E3"},null,null,null,null,null,null,null,null,null,null,null,null,null,null,null,null,null,null,null,null,null,null,null,null,null,{"$f":"BN435","v":7},null,null,{"$f":"BO435","v":9},null,null,{"$f":"BP435","v":9},null,":",{"$f":"BR435","v":8},null,{"$f":"BS435","v":1}]
[null,null,null,null,null,null,null,null,"3.",null,"Gruppe E7",null,null,null,null,null,null,null,null,null,null,null,null,null,null,null,null,null,null,null,null,null,null,null,null,null,7,null,null,8,null,null,9,null,":",8,null,1]
[null,null,null,null,null,null,null,null,"4.",null,"Gruppe E4",null,null,null,null,null,null,null,null,null,null,null,null,null,null,null,null,null,null,null,null,null,null,null,null,null,7,null,null,8,null,null,8,null,":",8,null,0]
[null,null,null,null,null,null,null,null,"5.",null,"Gruppe E1",null,null,null,null,null,null,null,null,null,null,null,null,null,null,null,null,null,null,null,null,null,null,null,null,null,7,null,null,8,null,null,8,null,":",9,null,-1]
[null,null,null,null,null,null,null,null,"6.",null,"Gruppe E6",null,null,null,null,null,null,null,null,null,null,null,null,null,null,null,null,null,null,null,null,null,null,null,null,null,7,null,null,{"$f":"BO439","v":7},null,null,7,null,":",7,null,0]
[null,null,null,null,null,null,null,null,"7.",null,"Gruppe E5",null,null,null,null,null,null,null,null,null,null,null,null,null,null,null,null,null,null,null,null,null,null,null,null,null,7,null,null,{"$f":"BO440","v":6},null,null,8,null,":",9,null,-1]
[null,null,null,null,null,null,null,null,"8.",null,"Gruppe E8",null,null,null,null,null,null,null,null,null,null,null,null,null,null,null,null,null,null,null,null,null,null,null,null,null,7,null,null,6,null,null,8,null,":",9,null,-1]
[]
[]
[]
[]
[]
[]
[]
[]
[]
[]
[]
[]
[]
[]
[]
[]
[]
[]
[]
[]
[]
[]
[]
[]
[]
[]
[]
[]
[]
[]
[]
[]
[]
["Vorrunde"]
["Gruppe F"]
[","]
[]
[]
[]
[]
[]
[null,null,null,null,null,null,"Beginn:",{"$f":"Vorgaben!C504","v":"00:00:00"},null,null,null,null,"Uhr",null,null,null,null,null,null,"Spielzeit:",{"$f":"Vorgaben!C505","v":0},"1x","x",{"$f":"Vorgaben!C506","v":"00:00:00"},null,null,null,null,"min",null,null,null,null,null,null,null,"Pause:",{"$f":"Vorgaben!C507","v":"00:00:00"},null,null,null,null,"min"]
[]
[]
[null,"I. Teilnehmende Mannschaften"]
[]
[null,null,null,null,null,null,null,null,null,"Mannschaften"]
[null,null,null,null,null,null,null,null,null,"1.",null,{"$f":"Vorgaben!F39","v":"Gruppe F1"}]
[null,null,null,null,null,null,null,null,null,"2.",null,{"$f":"Vorgaben!F40","v":"Gruppe F2"}]
[null,null,null,null,null,null,null,null,null,"3.",null,{"$f":"Vorgaben!F41","v":"Gruppe F3"}]
[null,null,null,null,null,null,null,null,null,"4.",null,{"$f":"Vorgaben!F42","v":"Gruppe F4"}]
[null,null,null,null,null,null,null,null,null,"5.",null,{"$f":"Vorgaben!F43","v":"Gruppe F5"}]
[null,null,null,null,null,null,null,null,null,"6.",null,{"$f":"Vorgaben!F44","v":"Gruppe F6"}]
[null,null,null,null,null,null,null,null,null,"7.",null,{"$f":"Vorgaben!F45","v":"Gruppe F7"}]
[null,null,null,null,null,null,null,null,null,"8.",null,{"$f":"Vorgaben!F46","v":"Gruppe F8"}]
[]
[null,"II. Spielplan"]
[]
[null,"Nr.",null,"Beginn",null,null,null,null,null,null,"Spielpaarung",null,null,null,null,null,null,null,null,null,null,null,null,null,null,null,null,null,null,null,null,null,null,null,null,null,null,null,null,null,null,null,null,null,null,null,null,null,"Ergebnis",null,null,null,null,null,null,null,null,"Punkte"]
[{"$f":"VLOOKUP(B528,Vorgaben!B508:C514,2,FALSE)","v":{"$error":"#N/A"}},1,null,{"$f":"$H$10","v":"14:15:00"},null,null,null,null,null,{"$f":"L516","v":"Gruppe F1"},null,null,null,null,null,null,null,null,null,null,null,null,null,null,null,null,null,null,"-",{"$f":"L517","v":"Gruppe F2"},null,null,null,null,null,null,null,null,null,null,null,null,null,null,null,null,null,null,{"$f":"IF(ISBLANK('Gruppe F1'!AW28),\"\",'Gruppe F1'!AW28)","v":1},null,":",{"$f":"IF(ISBLANK('Gruppe F1'!AZ28),\"\",'Gruppe F1'!AZ28)","v":1},null,null,null,null,null,{"$f":"IF(AW528=\"\",0,IF(ISBLANK(AW528),\"0\",IF(AW528>AZ528,3,IF(AW528=AZ528,1,0))))","v":1},":",{"$f":"IF(AZ528=\"\",0,IF(ISBLANK(AZ528),\"0\",IF(AZ528>AW528,3,IF(AZ528=AW528,1,0))))","v":1}]
[{"$f":"VLOOKUP(B529,Vorgaben!B$10:C$16,2,FALSE)","v":{"$error":"#N/A"}},2,null,{"$f":"IF(ISNA(A529),D528+($U$10*$X$10+$AL$10),D528+($U$10*$X$10+$AL$10)+A529)","v":"14:25:00"},null,null,null,null,null,{"$f":"L518","v":"Gruppe F3"},null,null,null,null,null,null,null,null,null,null,null,null,null,null,null,null,null,null,"-",{"$f":"L519","v":"Gruppe F4"},null,null,null,null,null,null,null,null,null,null,null,null,null,null,null,null,null,null,{"$f":"IF(ISBLANK('Gruppe F1'!AW29),\"\",'Gruppe F1'!AW29)","v":1},null,":",{"$f":"IF(ISBLANK('Gruppe F1'!AZ29),\"\",'Gruppe F1'!AZ29)","v":1},null,null,null,null,null,1,":",{"$f":"IF(AZ529=\"\",0,IF(ISBLANK(AZ529),\"0\",IF(AZ529>AW529,3,IF(AZ529=AW529,1,0))))","v":1}]
[{"$f":"VLOOKUP(B530,Vorgaben!B$10:C$16,2,FALSE)","v":{"$error":"#N/A"}},3,null,{"$f":"IF(ISNA(A530),D529+($U$10*$X$10+$AL$10),D529+($U$10*$X$10+$AL$10)+A530)","v":"14:35:00"},null,null,null,null,null,{"$f":"L520","v":"Gruppe F5"},null,null,null,null,null,null,null,null,null,null,null,null,null,null,null,null,null,null,"-",{"$f":"L521","v":"Gruppe F6"},null,null,null,null,null,null,null,null,null,null,null,null,null,null,null,null,null,null,{"$f":"IF(ISBLANK('Gruppe F1'!AW30),\"\",'Gruppe F1'!AW30)","v":1},null,":",{"$f":"IF(ISBLANK('Gruppe F1'!AZ30),\"\",'Gruppe F1'!AZ30)","v":1},null,null,null,null,null,1,":",1,null,null,null,null,{"$f":"IF(BM532=\"Min. 3 Teams identisch.  HANDSORTIERUNG!\",BM532,IF(BM532=\"ACHTUNG! Direkter Vergleich war unentschieden!\",BM532,BM531))","v":"Min. 3 Teams identisch.  HANDSORTIERUNG!"}]
[{"$f":"VLOOKUP(B531,Vorgaben!B$10:C$16,2,FALSE)","v":{"$error":"#N/A"}},4,null,{"$f":"IF(ISNA(A531),D530+($U$10*$X$10+$AL$10),D530+($U$10*$X$10+$AL$10)+A531)","v":"14:45:00"},null,null,null,null,null,{"$f":"L522","v":"Gruppe F7"},null,null,null,null,null,null,null,null,null,null,null,null,null,null,null,null,null,null,"-",{"$f":"L523","v":"Gruppe F8"},null,null,null,null,null,null,null,null,null,null,null,null,null,null,null,null,null,null,{"$f":"IF(ISBLANK('Gruppe F1'!AW31),\"\",'Gruppe F1'!AW31)","v":1},null,":",{"$f":"IF(ISBLANK('Gruppe F1'!AZ31),\"\",'Gruppe F1'!AZ31)","v":11},null,null,null,null,null,0,":",3,null,null,null,null,{"$f":"IF(AND(EXACT(BO534,BO535),EXACT(BP534,BP535),EXACT(BS534,BS535)),\"ACHTUNG: Direkter Vergleich erfolgreich durchlaufen!\",IF(AND(EXACT(BO535,BO536),EXACT(BP535,BP536),EXACT(BS535,BS536)),\"ACHTUNG: Direkter Vergleich erfolgreich durchlaufen!\",IF(AND(EXACT(BO536,BO537),EXACT(BP536,BP537),EXACT(BS536,BS537)),\"ACHTUNG: Direkter Vergleich erfolgreich durchlaufen!\",IF(AND(EXACT(BO537,BO538),EXACT(BP537,BP538),EXACT(BS537,BS538)),\"ACHTUNG: Direkter Vergleich erfolgreich durchlaufen!\",IF(AND(EXACT(BO538,BO539),EXACT(BP538,BP539),EXACT(BS538,BS539)),\"ACHTUNG: Direkter Vergleich erfolgreich durchlaufen!\",IF(AND(EXACT(BO539,BO540),EXACT(BP539,BP540),EXACT(BS539,BS540)),\"ACHTUNG: Direkter Vergleich erfolgreich durchlaufen!\",IF(AND(EXACT(BO540,BO541),EXACT(BP540,BP541),EXACT(BS540,BS541)),\"ACHTUNG: Direkter Vergleich erfolgreich durchlaufen!\",\"\")))))))","v":"ACHTUNG: Direkter Vergleich erfolgreich durchlaufen!"}]
[{"$f":"IF(VLOOKUP(B532,Vorgaben!B$10:C$16,2,FALSE)=\"\",\"\",VLOOKUP(B532,Vorgaben!B$10:C$16,2,FALSE))","v":{"$error":"#N/A"}},5,null,{"$f":"IF(ISNA(A532),D531+($U$10*$X$10+$AL$10),D531+($U$10*$X$10+$AL$10)+A532)","v":"14:55:00"},null,null,null,null,null,{"$f":"L519","v":"Gruppe F4"},null,null,null,null,null,null,null,null,null,null,null,null,null,null,null,null,null,null,"-",{"$f":"L516","v":"Gruppe F1"},null,null,null,null,null,null,null,null,null,null,null,null,null,null,null,null,null,null,{"$f":"IF(ISBLANK('Gruppe F1'!AW32),\"\",'Gruppe F1'!AW32)","v":1},null,":",{"$f":"IF(ISBLANK('Gruppe F1'!AZ32),\"\",'Gruppe F1'!AZ32)","v":1},null,null,null,null,null,1,":",1,null,null,null,null,{"$f":"IF(OR(CC534=3,CC535=3,CC536=3,CC537=3,CC538=3,CC539=3,CC540=3,CC541=3),\"Min. 3 Teams identisch.  HANDSORTIERUNG!\",IF(OR(CB534=\"ACHTUNG! Direkter Vergleich war unentschieden!\",CB535=\"ACHTUNG! Direkter Vergleich war unentschieden!\",CB536=\"ACHTUNG! Direkter Vergleich war unentschieden!\",CB537=\"ACHTUNG! Direkter Vergleich war unentschieden!\",CB538=\"ACHTUNG! Direkter Vergleich war unentschieden!\",CB539=\"ACHTUNG! Direkter Vergleich war unentschieden!\",CB540=\"ACHTUNG! Direkter Vergleich war unentschieden!\",CB541=\"ACHTUNG! Direkter Vergleich war unentschieden!\"),\"ACHTUNG! Direkter Vergleich war unentschieden!\",\"\"))","v":"Min. 3 Teams identisch.  HANDSORTIERUNG!"}]
[{"$f":"VLOOKUP(B533,Vorgaben!B$10:C$16,2,FALSE)","v":{"$error":"#N/A"}},6,null,"15:05:00",null,null,null,null,null,{"$f":"L517","v":"Gruppe F2"},null,null,null,null,null,null,null,null,null,null,null,null,null,null,null,null,null,null,"-",{"$f":"L518","v":"Gruppe F3"},null,null,null,null,null,null,null,null,null,null,null,null,null,null,null,null,null,null,{"$f":"IF(ISBLANK('Gruppe F1'!AW33),\"\",'Gruppe F1'!AW33)","v":1},null,":",{"$f":"IF(ISBLANK('Gruppe F1'!AZ33),\"\",'Gruppe F1'!AZ33)","v":1},null,null,null,null,null,1,":",1]
[{"$f":"VLOOKUP(B534,Vorgaben!B$10:C$16,2,FALSE)","v":{"$error":"#N/A"}},7,null,"15:15:00",null,null,null,null,null,{"$f":"L523","v":"Gruppe F8"},null,null,null,null,null,null,null,null,null,null,null,null,null,null,null,null,null,null,"-",{"$f":"L520","v":"Gruppe F5"},null,null,null,null,null,null,null,null,null,null,null,null,null,null,null,null,null,null,{"$f":"IF(ISBLANK('Gruppe F1'!AW34),\"\",'Gruppe F1'!AW34)","v":1},null,":",{"$f":"IF(ISBLANK('Gruppe F1'!AZ34),\"\",'Gruppe F1'!AZ34)","v":1},null,null,null,null,null,1,":",1,null,null,null,{"$f":"INDEX(Vorgaben!F$39:H$46,MATCH($BM534,Vorgaben!F$39:F$46,0),3)","v":0},{"$f":"'Gruppe F1'!$BM$40","v":"Gruppe F8"},{"$f":"'Gruppe F1'!$BN$40","v":6},{"$f":"'Gruppe F1'!$BO$40","v":10},{"$f":"'Gruppe F1'!$BP$40","v":26},{"$f":"'Gruppe F1'!BQ440","v":0},{"$f":"'Gruppe F1'!$BR$40","v":6},{"$f":"'Gruppe F1'!$BS$40","v":20},{"$f":"BV534","v":0},null,{"$f":"IF(BX534>BY535,10,IF(BX534<BY535,-10,0))","v":0},null,{"$f":"IF(ISNA(INDEX(BF$528:BF$555,MATCH(BM534&BM535,J$528:J$555&AD$528:AD$555,0))),INDEX(BH$528:BH$555,MATCH(BM535&BM534,J$528:J$555&AD$528:AD$555,0)),INDEX(BF$528:BF$555,MATCH(BM534&BM535,J$528:J$555&AD$528:AD$555,0)))","v":1},null,{"$f":"IF(AND(EXACT(BO534,BO535),EXACT(BP534,BP535),EXACT(BS534,BS535),EXACT(BX534,BY535)),\"ACHTUNG! Direkter Vergleich war unentschieden!\",IF(AND(EXACT(BO534,BO535),EXACT(BP534,BP535),EXACT(BS534,BS535)),1,2))","v":2},{"$f":"IF(AND(EXACT(BO533,BO534),EXACT(BP533,BP534),EXACT(BS533,BS534),EXACT(BX534,BY533)),\"ACHTUNG! Direkter Vergleich war unentschieden!\",\"\")","v":""},{"$f":"IF(OR(BZ534=\"ACHTUNG! Direkter Vergleich war unentschieden!\",CA534=\"ACHTUNG! Direkter Vergleich war unentschieden!\"),\"ACHTUNG! Direkter Vergleich war unentschieden!\",\"\")","v":""},{"$f":"IF(OR(AND(EXACT(BO534,BO535),EXACT(BP534,BP535),EXACT(BS534,BS535),EXACT(BO534,BO536),EXACT(BP534,BP536),EXACT(BS534,BS536)),AND(EXACT(BO534,BO535),EXACT(BP534,BP535),EXACT(BS534,BS535),EXACT(BO534,BO533),EXACT(BP534,BP533),EXACT(BS534,BS533))*AND(EXACT(BO534,BO532),EXACT(BP534,BP532),EXACT(BS534,BS532),EXACT(BO534,BO533),EXACT(BP534,BP533),EXACT(BS534,BS533))),3,1)","v":1}]
[{"$f":"VLOOKUP(B535,Vorgaben!B$10:C$16,2,FALSE)","v":{"$error":"#N/A"}},8,null,"15:25:00",null,null,null,null,null,{"$f":"L521","v":"Gruppe F6"},null,null,null,null,null,null,null,null,null,null,null,null,null,null,null,null,null,null,"-",{"$f":"L522","v":"Gruppe F7"},null,null,null,null,null,null,null,null,null,null,null,null,null,null,null,null,null,null,{"$f":"IF(ISBLANK('Gruppe F1'!AW35),\"\",'Gruppe F1'!AW35)","v":1},null,":",{"$f":"IF(ISBLANK('Gruppe F1'!AZ35),\"\",'Gruppe F1'!AZ35)","v":1},null,null,null,null,null,1,":",1,null,null,null,{"$f":"INDEX(Vorgaben!F$39:H$46,MATCH($BM535,Vorgaben!F$39:F$46,0),3)","v":0},{"$f":"'Gruppe F1'!$BM$34","v":"Gruppe F5"},{"$f":"'Gruppe F1'!$BN$34","v":7},{"$f":"'Gruppe F1'!$BO$34","v":7},{"$f":"'Gruppe F1'!$BP$34","v":7},{"$f":"'Gruppe F1'!BQ434","v":0},{"$f":"'Gruppe F1'!$BR$34","v":7},{"$f":"'Gruppe F1'!$BS$34","v":0},{"$f":"BV535","v":0},{"$f":"BW535","v":0},{"$f":"IF(BX534<BY535,10,IF(BX534>BY535,-10,0))","v":0},{"$f":"IF(BX535>BY536,10,IF(BX535<BY536,-10,0))","v":0},{"$f":"IF(ISNA(INDEX(BF$528:BF$555,MATCH(BM535&BM536,J$528:J$555&AD$528:AD$555,0))),INDEX(BH$528:BH$555,MATCH(BM536&BM535,J$528:J$555&AD$528:AD$555,0)),INDEX(BF$528:BF$555,MATCH(BM535&BM536,J$528:J$555&AD$528:AD$555,0)))","v":1},{"$f":"IF(ISNA(INDEX(BF$528:BF$555,MATCH(BM535&BM534,J$528:J$555&AD$528:AD$555,0))),INDEX(BH$528:BH$555,MATCH(BM534&BM535,J$528:J$555&AD$528:AD$555,0)),INDEX(BF$528:BF$555,MATCH(BM535&BM534,J$528:J$555&AD$528:AD$555,0)))","v":1},2,{"$f":"IF(AND(EXACT(BO534,BO535),EXACT(BP534,BP535),EXACT(BS534,BS535),EXACT(BY535,BX534)),\"ACHTUNG! Direkter Vergleich war unentschieden!\",IF(AND(EXACT(BO534,BO535),EXACT(BP534,BP535),EXACT(BS534,BS535)),1,2))","v":2},"",1]
[{"$f":"VLOOKUP(B536,Vorgaben!B$10:C$16,2,FALSE)","v":{"$error":"#N/A"}},9,null,"15:35:00",null,null,null,null,null,{"$f":"L520","v":"Gruppe F5"},null,null,null,null,null,null,null,null,null,null,null,null,null,null,null,null,null,null,"-",{"$f":"L519","v":"Gruppe F4"},null,null,null,null,null,null,null,null,null,null,null,null,null,null,null,null,null,null,{"$f":"IF(ISBLANK('Gruppe F1'!AW36),\"\",'Gruppe F1'!AW36)","v":1},null,":",{"$f":"IF(ISBLANK('Gruppe F1'!AZ36),\"\",'Gruppe F1'!AZ36)","v":1},null,null,null,null,null,1,":",1,null,null,null,{"$f":"INDEX(Vorgaben!F$39:H$46,MATCH($BM536,Vorgaben!F$39:F$46,0),3)","v":0},{"$f":"'Gruppe F1'!$BM$41","v":"Gruppe F6"},{"$f":"'Gruppe F1'!$BN$41","v":6},{"$f":"'Gruppe F1'!$BO$41","v":6},{"$f":"'Gruppe F1'!$BP$41","v":6},{"$f":"'Gruppe F1'!BQ441","v":0},{"$f":"'Gruppe F1'!$BR$41","v":6},{"$f":"'Gruppe F1'!$BS$41","v":0},{"$f":"BV536","v":0},0,0,{"$f":"IF(BX536>BY537,10,IF(BX536<BY537,-10,0))","v":0},{"$f":"IF(ISNA(INDEX(BF$528:BF$555,MATCH(BM536&BM537,J$528:J$555&AD$528:AD$555,0))),INDEX(BH$528:BH$555,MATCH(BM537&BM536,J$528:J$555&AD$528:AD$555,0)),INDEX(BF$528:BF$555,MATCH(BM536&BM537,J$528:J$555&AD$528:AD$555,0)))","v":1},{"$f":"IF(ISNA(INDEX(BF$528:BF$555,MATCH(BM536&BM535,J$528:J$555&AD$528:AD$555,0))),INDEX(BH$528:BH$555,MATCH(BM535&BM536,J$528:J$555&AD$528:AD$555,0)),INDEX(BF$528:BF$555,MATCH(BM536&BM535,J$528:J$555&AD$528:AD$555,0)))","v":1},"ACHTUNG! Direkter Vergleich war unentschieden!",2,"ACHTUNG! Direkter Vergleich war unentschieden!",{"$f":"IF(OR(AND(EXACT(BO536,BO537),EXACT(BP536,BP537),EXACT(BS536,BS537),EXACT(BO536,BO538),EXACT(BP536,BP538),EXACT(BS536,BS538)),AND(EXACT(BO536,BO537),EXACT(BP536,BP537),EXACT(BS536,BS537),EXACT(BO536,BO535),EXACT(BP536,BP535),EXACT(BS536,BS535))*AND(EXACT(BO536,BO534),EXACT(BP536,BP534),EXACT(BS536,BS534),EXACT(BO536,BO535),EXACT(BP536,BP535),EXACT(BS536,BS535))),3,1)","v":3}]
[{"$f":"VLOOKUP(B537,Vorgaben!B$10:C$16,2,FALSE)","v":{"$error":"#N/A"}},10,null,"15:45:00",null,null,null,null,null,{"$f":"L516","v":"Gruppe F1"},null,null,null,null,null,null,null,null,null,null,null,null,null,null,null,null,null,null,"-",{"$f":"L518","v":"Gruppe F3"},null,null,null,null,null,null,null,null,null,null,null,null,null,null,null,null,null,null,{"$f":"IF(ISBLANK('Gruppe F1'!AW37),\"\",'Gruppe F1'!AW37)","v":1},null,":",{"$f":"IF(ISBLANK('Gruppe F1'!AZ37),\"\",'Gruppe F1'!AZ37)","v":1},null,null,null,null,null,1,":",1,null,null,null,{"$f":"INDEX(Vorgaben!F$39:H$46,MATCH($BM537,Vorgaben!F$39:F$46,0),3)","v":0},{"$f":"'Gruppe F1'!$BM$39","v":"Gruppe F4"},{"$f":"'Gruppe F1'!$BN$39","v":6},{"$f":"'Gruppe F1'!$BO$39","v":6},{"$f":"'Gruppe F1'!$BP$39","v":6},{"$f":"'Gruppe F1'!BQ439","v":0},{"$f":"'Gruppe F1'!$BR$39","v":6},{"$f":"'Gruppe F1'!$BS$39","v":0},0,0,0,{"$f":"IF(BX536<BY537,10,IF(BX536>BY537,-10,0))","v":0},{"$f":"IF(ISNA(INDEX(BF$528:BF$555,MATCH(BM537&BM538,J$528:J$555&AD$528:AD$555,0))),INDEX(BH$528:BH$555,MATCH(BM538&BM537,J$528:J$555&AD$528:AD$555,0)),INDEX(BF$528:BF$555,MATCH(BM537&BM538,J$528:J$555&AD$528:AD$555,0)))","v":1},{"$f":"IF(ISNA(INDEX(BF$528:BF$555,MATCH(BM537&BM536,J$528:J$555&AD$528:AD$555,0))),INDEX(BH$528:BH$555,MATCH(BM536&BM537,J$528:J$555&AD$528:AD$555,0)),INDEX(BF$528:BF$555,MATCH(BM537&BM536,J$528:J$555&AD$528:AD$555,0)))","v":1},"ACHTUNG! Direkter Vergleich war unentschieden!","ACHTUNG! Direkter Vergleich war unentschieden!","ACHTUNG! Direkter Vergleich war unentschieden!",{"$f":"IF(OR(AND(EXACT(BO537,BO538),EXACT(BP537,BP538),EXACT(BS537,BS538),EXACT(BO537,BO539),EXACT(BP537,BP539),EXACT(BS537,BS539)),AND(EXACT(BO537,BO538),EXACT(BP537,BP538),EXACT(BS537,BS538),EXACT(BO537,BO536),EXACT(BP537,BP536),EXACT(BS537,BS536))*AND(EXACT(BO537,BO535),EXACT(BP537,BP535),EXACT(BS537,BS535),EXACT(BO537,BO536),EXACT(BP537,BP536),EXACT(BS537,BS536))),3,1)","v":3}]
[{"$f":"VLOOKUP(B538,Vorgaben!B$10:C$16,2,FALSE)","v":{"$error":"#N/A"}},11,null,"15:55:00",null,null,null,null,null,{"$f":"L517","v":"Gruppe F2"},null,null,null,null,null,null,null,null,null,null,null,null,null,null,null,null,null,null,"-",{"$f":"L522","v":"Gruppe F7"},null,null,null,null,null,null,null,null,null,null,null,null,null,null,null,null,null,null,{"$f":"IF(ISBLANK('Gruppe F1'!AW38),\"\",'Gruppe F1'!AW38)","v":1},null,":",{"$f":"IF(ISBLANK('Gruppe F1'!AZ38),\"\",'Gruppe F1'!AZ38)","v":1},null,null,null,null,null,1,":",1,null,null,null,{"$f":"INDEX(Vorgaben!F$39:H$46,MATCH($BM538,Vorgaben!F$39:F$46,0),3)","v":0},{"$f":"'Gruppe F1'!$BM$36","v":"Gruppe F3"},{"$f":"'Gruppe F1'!$BN$36","v":6},{"$f":"'Gruppe F1'!$BO$36","v":6},{"$f":"'Gruppe F1'!$BP$36","v":6},{"$f":"'Gruppe F1'!BQ436","v":0},{"$f":"'Gruppe F1'!$BR$36","v":6},{"$f":"'Gruppe F1'!$BS$36","v":0},0,0,0,{"$f":"IF(BX538>BY539,10,IF(BX538<BY539,-10,0))","v":0},{"$f":"IF(ISNA(INDEX(BF$528:BF$555,MATCH(BM538&BM539,J$528:J$555&AD$528:AD$555,0))),INDEX(BH$528:BH$555,MATCH(BM539&BM538,J$528:J$555&AD$528:AD$555,0)),INDEX(BF$528:BF$555,MATCH(BM538&BM539,J$528:J$555&AD$528:AD$555,0)))","v":1},{"$f":"IF(ISNA(INDEX(BF$528:BF$555,MATCH(BM538&BM537,J$528:J$555&AD$528:AD$555,0))),INDEX(BH$528:BH$555,MATCH(BM537&BM538,J$528:J$555&AD$528:AD$555,0)),INDEX(BF$528:BF$555,MATCH(BM538&BM537,J$528:J$555&AD$528:AD$555,0)))","v":1},"ACHTUNG! Direkter Vergleich war unentschieden!","ACHTUNG! Direkter Vergleich war unentschieden!","ACHTUNG! Direkter Vergleich war unentschieden!",3]
[{"$f":"VLOOKUP(B539,Vorgaben!B$10:C$16,2,FALSE)","v":{"$error":"#N/A"}},12,null,"16:05:00",null,null,null,null,null,{"$f":"L521","v":"Gruppe F6"},null,null,null,null,null,null,null,null,null,null,null,null,null,null,null,null,null,null,"-",{"$f":"L523","v":"Gruppe F8"},null,null,null,null,null,null,null,null,null,null,null,null,null,null,null,null,null,null,{"$f":"IF(ISBLANK('Gruppe F1'!AW39),\"\",'Gruppe F1'!AW39)","v":1},null,":",{"$f":"IF(ISBLANK('Gruppe F1'!AZ39),\"\",'Gruppe F1'!AZ39)","v":1},null,null,null,null,null,1,":",1,null,null,null,{"$f":"INDEX(Vorgaben!F$39:H$46,MATCH($BM539,Vorgaben!F$39:F$46,0),3)","v":0},{"$f":"'Gruppe F1'!$BM$37","v":"Gruppe F2"},{"$f":"'Gruppe F1'!$BN$37","v":6},{"$f":"'Gruppe F1'!$BO$37","v":6},{"$f":"'Gruppe F1'!$BP$37","v":6},{"$f":"'Gruppe F1'!BQ437","v":0},{"$f":"'Gruppe F1'!$BR$37","v":6},{"$f":"'Gruppe F1'!$BS$37","v":0},0,0,0,{"$f":"IF(BX538<BY539,10,IF(BX538>BY539,-10,0))","v":0},{"$f":"IF(ISNA(INDEX(BF$528:BF$555,MATCH(BM539&BM540,J$528:J$555&AD$528:AD$555,0))),INDEX(BH$528:BH$555,MATCH(BM540&BM539,J$528:J$555&AD$528:AD$555,0)),INDEX(BF$528:BF$555,MATCH(BM539&BM540,J$528:J$555&AD$528:AD$555,0)))","v":1},{"$f":"IF(ISNA(INDEX(BF$528:BF$555,MATCH(BM539&BM538,J$528:J$555&AD$528:AD$555,0))),INDEX(BH$528:BH$555,MATCH(BM538&BM539,J$528:J$555&AD$528:AD$555,0)),INDEX(BF$528:BF$555,MATCH(BM539&BM538,J$528:J$555&AD$528:AD$555,0)))","v":1},2,"ACHTUNG! Direkter Vergleich war unentschieden!","ACHTUNG! Direkter Vergleich war unentschieden!",1]
[{"$f":"VLOOKUP(B540,Vorgaben!B$10:C$16,2,FALSE)","v":{"$error":"#N/A"}},13,null,"16:15:00",null,null,null,null,null,{"$f":"L519","v":"Gruppe F4"},null,null,null,null,null,null,null,null,null,null,null,null,null,null,null,null,null,null,"-",{"$f":"L517","v":"Gruppe F2"},null,null,null,null,null,null,null,null,null,null,null,null,null,null,null,null,null,null,{"$f":"IF(ISBLANK('Gruppe F1'!AW40),\"\",'Gruppe F1'!AW40)","v":1},null,":",{"$f":"IF(ISBLANK('Gruppe F1'!AZ40),\"\",'Gruppe F1'!AZ40)","v":1},null,null,null,null,null,1,":",1,null,null,null,{"$f":"INDEX(Vorgaben!F$39:H$46,MATCH($BM540,Vorgaben!F$39:F$46,0),3)","v":0},{"$f":"'Gruppe F1'!$BM$38","v":"Gruppe F1"},{"$f":"'Gruppe F1'!$BN$38","v":7},{"$f":"'Gruppe F1'!$BO$38","v":6},{"$f":"'Gruppe F1'!$BP$38","v":7},{"$f":"'Gruppe F1'!BQ438","v":0},{"$f":"'Gruppe F1'!$BR$38","v":17},{"$f":"'Gruppe F1'!$BS$38","v":-10},0,0,0,{"$f":"IF(BX539<BY540,10,IF(BX539>BY540,-10,0))","v":0},{"$f":"IF(ISNA(INDEX(BF$528:BF$555,MATCH(BM540&BM541,J$528:J$555&AD$528:AD$555,0))),INDEX(BH$528:BH$555,MATCH(BM541&BM540,J$528:J$555&AD$528:AD$555,0)),INDEX(BF$528:BF$555,MATCH(BM540&BM541,J$528:J$555&AD$528:AD$555,0)))","v":1},{"$f":"IF(ISNA(INDEX(BF$528:BF$555,MATCH(BM540&BM539,J$528:J$555&AD$528:AD$555,0))),INDEX(BH$528:BH$555,MATCH(BM539&BM540,J$528:J$555&AD$528:AD$555,0)),INDEX(BF$528:BF$555,MATCH(BM540&BM539,J$528:J$555&AD$528:AD$555,0)))","v":1},2,2,"",1]
[{"$f":"VLOOKUP(B541,Vorgaben!B$10:C$16,2,FALSE)","v":{"$error":"#N/A"}},14,null,"16:25:00",null,null,null,null,null,{"$f":"L522","v":"Gruppe F7"},null,null,null,null,null,null,null,null,null,null,null,null,null,null,null,null,null,null,"-",{"$f":"L520","v":"Gruppe F5"},null,null,null,null,null,null,null,null,null,null,null,null,null,null,null,null,null,null,{"$f":"IF(ISBLANK('Gruppe F1'!AW41),\"\",'Gruppe F1'!AW41)","v":1},null,":",{"$f":"IF(ISBLANK('Gruppe F1'!AZ41),\"\",'Gruppe F1'!AZ41)","v":1},null,null,null,null,null,1,":",1,null,null,null,{"$f":"INDEX(Vorgaben!F$39:H$46,MATCH($BM541,Vorgaben!F$39:F$46,0),3)","v":0},{"$f":"'Gruppe F1'!$BM$35","v":"Gruppe F7"},{"$f":"'Gruppe F1'!$BN$35","v":6},{"$f":"'Gruppe F1'!$BO$35","v":5},{"$f":"'Gruppe F1'!$BP$35","v":6},{"$f":"'Gruppe F1'!BQ435","v":0},{"$f":"'Gruppe F1'!$BR$35","v":16},{"$f":"'Gruppe F1'!$BS$35","v":-10},0,0,0,null,null,{"$f":"IF(ISNA(INDEX(BF$528:BF$555,MATCH(BM541&BM540,J$528:J$555&AD$528:AD$555,0))),INDEX(BH$528:BH$555,MATCH(BM540&BM541,J$528:J$555&AD$528:AD$555,0)),INDEX(BF$528:BF$555,MATCH(BM541&BM540,J$528:J$555&AD$528:AD$555,0)))","v":1},{"$f":"IF(AND(EXACT(BO541,BO542),EXACT(BP541,BP542),EXACT(BS541,BS542),EXACT(BX541,BY542)),\"ACHTUNG! Direkter Vergleich war unentschieden!\",\"\")","v":""},2,"",1]
[{"$f":"VLOOKUP(B542,Vorgaben!B$10:C$16,2,FALSE)","v":{"$error":"#N/A"}},15,null,"16:35:00",null,null,null,null,null,{"$f":"L523","v":"Gruppe F8"},null,null,null,null,null,null,null,null,null,null,null,null,null,null,null,null,null,null,"-",{"$f":"L516","v":"Gruppe F1"},null,null,null,null,null,null,null,null,null,null,null,null,null,null,null,null,null,null,{"$f":"IF(ISBLANK('Gruppe F1'!AW42),\"\",'Gruppe F1'!AW42)","v":11},null,":",{"$f":"IF(ISBLANK('Gruppe F1'!AZ42),\"\",'Gruppe F1'!AZ42)","v":1},null,null,null,null,null,3,":",0]
[{"$f":"VLOOKUP(B543,Vorgaben!B$10:C$16,2,FALSE)","v":{"$error":"#N/A"}},16,null,"16:45:00",null,null,null,null,null,{"$f":"L518","v":"Gruppe F3"},null,null,null,null,null,null,null,null,null,null,null,null,null,null,null,null,null,null,"-",{"$f":"L521","v":"Gruppe F6"},null,null,null,null,null,null,null,null,null,null,null,null,null,null,null,null,null,null,{"$f":"IF(ISBLANK('Gruppe F1'!AW43),\"\",'Gruppe F1'!AW43)","v":1},null,":",{"$f":"IF(ISBLANK('Gruppe F1'!AZ43),\"\",'Gruppe F1'!AZ43)","v":1},null,null,null,null,null,1,":",1]
[{"$f":"VLOOKUP(B544,Vorgaben!B$10:C$16,2,FALSE)","v":{"$error":"#N/A"}},17,null,"16:55:00",null,null,null,null,null,{"$f":"L519","v":"Gruppe F4"},null,null,null,null,null,null,null,null,null,null,null,null,null,null,null,null,null,null,"-",{"$f":"L522","v":"Gruppe F7"},null,null,null,null,null,null,null,null,null,null,null,null,null,null,null,null,null,null,{"$f":"IF(ISBLANK('Gruppe F1'!AW44),\"\",'Gruppe F1'!AW44)","v":1},null,":",{"$f":"IF(ISBLANK('Gruppe F1'!AZ44),\"\",'Gruppe F1'!AZ44)","v":1},null,null,null,null,null,1,":",1]
[{"$f":"VLOOKUP(B545,Vorgaben!B$10:C$16,2,FALSE)","v":{"$error":"#N/A"}},18,null,"17:05:00",null,null,null,null,null,{"$f":"L517","v":"Gruppe F2"},null,null,null,null,null,null,null,null,null,null,null,null,null,null,null,null,null,null,"-",{"$f":"L523","v":"Gruppe F8"},null,null,null,null,null,null,null,null,null,null,null,null,null,null,null,null,null,null,{"$f":"IF(ISBLANK('Gruppe F1'!AW45),\"\",'Gruppe F1'!AW45)","v":1},null,":",{"$f":"IF(ISBLANK('Gruppe F1'!AZ45),\"\",'Gruppe F1'!AZ45)","v":1},null,null,null,null,null,1,":",1]
[{"$f":"VLOOKUP(B546,Vorgaben!B$10:C$16,2,FALSE)","v":{"$error":"#N/A"}},19,null,"17:15:00",null,null,null,null,null,{"$f":"L516","v":"Gruppe F1"},null,null,null,null,null,null,null,null,null,null,null,null,null,null,null,null,null,null,"-",{"$f":"L521","v":"Gruppe F6"},null,null,null,null,null,null,null,null,null,null,null,null,null,null,null,null,null,null,{"$f":"IF(ISBLANK('Gruppe F1'!AW46),\"\",'Gruppe F1'!AW46)","v":1},null,":",{"$f":"IF(ISBLANK('Gruppe F1'!AZ46),\"\",'Gruppe F1'!AZ46)","v":1},null,null,null,null,null,1,":",1]
[{"$f":"VLOOKUP(B547,Vorgaben!B$10:C$16,2,FALSE)","v":{"$error":"#N/A"}},20,null,"17:25:00",null,null,null,null,null,{"$f":"L520","v":"Gruppe F5"},null,null,null,null,null,null,null,null,null,null,null,null,null,null,null,null,null,null,"-",{"$f":"L518","v":"Gruppe F3"},null,null,null,null,null,null,null,null,null,null,null,null,null,null,null,null,null,null,{"$f":"IF(ISBLANK('Gruppe F1'!AW47),\"\",'Gruppe F1'!AW47)","v":1},null,":",{"$f":"IF(ISBLANK('Gruppe F1'!AZ47),\"\",'Gruppe F1'!AZ47)","v":1},null,null,null,null,null,1,":",1]
[{"$f":"VLOOKUP(B548,Vorgaben!B$10:C$16,2,FALSE)","v":{"$error":"#N/A"}},21,null,"17:35:00",null,null,null,null,null,{"$f":"L523","v":"Gruppe F8"},null,null,null,null,null,null,null,null,null,null,null,null,null,null,null,null,null,null,"-",{"$f":"L519","v":"Gruppe F4"},null,null,null,null,null,null,null,null,null,null,null,null,null,null,null,null,null,null,{"$f":"IF(ISBLANK('Gruppe F1'!AW48),\"\",'Gruppe F1'!AW48)","v":""},null,":",{"$f":"IF(ISBLANK('Gruppe F1'!AZ48),\"\",'Gruppe F1'!AZ48)","v":""},null,null,null,null,null,0,":",0]
[{"$f":"VLOOKUP(B549,Vorgaben!B$10:C$16,2,FALSE)","v":{"$error":"#N/A"}},22,null,"17:45:00",null,null,null,null,null,{"$f":"L521","v":"Gruppe F6"},null,null,null,null,null,null,null,null,null,null,null,null,null,null,null,null,null,null,"-",{"$f":"L517","v":"Gruppe F2"},null,null,null,null,null,null,null,null,null,null,null,null,null,null,null,null,null,null,{"$f":"IF(ISBLANK('Gruppe F1'!AW49),\"\",'Gruppe F1'!AW49)","v":""},null,":",{"$f":"IF(ISBLANK('Gruppe F1'!AZ49),\"\",'Gruppe F1'!AZ49)","v":""},null,null,null,null,null,0,":",0]
[{"$f":"VLOOKUP(B550,Vorgaben!B$10:C$16,2,FALSE)","v":{"$error":"#N/A"}},23,null,"17:55:00",null,null,null,null,null,{"$f":"L522","v":"Gruppe F7"},null,null,null,null,null,null,null,null,null,null,null,null,null,null,null,null,null,null,"-",{"$f":"L518","v":"Gruppe F3"},null,null,null,null,null,null,null,null,null,null,null,null,null,null,null,null,null,null,{"$f":"IF(ISBLANK('Gruppe F1'!AW50),\"\",'Gruppe F1'!AW50)","v":""},null,":",{"$f":"IF(ISBLANK('Gruppe F1'!AZ50),\"\",'Gruppe F1'!AZ50)","v":""},null,null,null,null,null,0,":",0]
[{"$f":"VLOOKUP(B551,Vorgaben!B$10:C$16,2,FALSE)","v":{"$error":"#N/A"}},24,null,"18:05:00",null,null,null,null,null,{"$f":"L520","v":"Gruppe F5"},null,null,null,null,null,null,null,null,null,null,null,null,null,null,null,null,null,null,"-",{"$f":"L516","v":"Gruppe F1"},null,null,null,null,null,null,null,null,null,null,null,null,null,null,null,null,null,null,{"$f":"IF(ISBLANK('Gruppe F1'!AW51),\"\",'Gruppe F1'!AW51)","v":1},null,":",{"$f":"IF(ISBLANK('Gruppe F1'!AZ51),\"\",'Gruppe F1'!AZ51)","v":1},null,null,null,null,null,1,":",1]
[{"$f":"VLOOKUP(B552,Vorgaben!B$10:C$16,2,FALSE)","v":{"$error":"#N/A"}},25,null,"18:15:00",null,null,null,null,null,{"$f":"L519","v":"Gruppe F4"},null,null,null,null,null,null,null,null,null,null,null,null,null,null,null,null,null,null,"-",{"$f":"L521","v":"Gruppe F6"},null,null,null,null,null,null,null,null,null,null,null,null,null,null,null,null,null,null,{"$f":"IF(ISBLANK('Gruppe F1'!AW52),\"\",'Gruppe F1'!AW52)","v":1},null,":",{"$f":"IF(ISBLANK('Gruppe F1'!AZ52),\"\",'Gruppe F1'!AZ52)","v":1},null,null,null,null,null,1,":",1]
[{"$f":"VLOOKUP(B553,Vorgaben!B$10:C$16,2,FALSE)","v":{"$error":"#N/A"}},26,null,"18:25:00",null,null,null,null,null,{"$f":"L518","v":"Gruppe F3"},null,null,null,null,null,null,null,null,null,null,null,null,null,null,null,null,null,null,"-",{"$f":"L523","v":"Gruppe F8"},null,null,null,null,null,null,null,null,null,null,null,null,null,null,null,null,null,null,{"$f":"IF(ISBLANK('Gruppe F1'!AW53),\"\",'Gruppe F1'!AW53)","v":1},null,":",{"$f":"IF(ISBLANK('Gruppe F1'!AZ53),\"\",'Gruppe F1'!AZ53)","v":1},null,null,null,null,null,1,":",1]
[{"$f":"VLOOKUP(B554,Vorgaben!B$10:C$16,2,FALSE)","v":{"$error":"#N/A"}},27,null,"18:35:00",null,null,null,null,null,{"$f":"L517","v":"Gruppe F2"},null,null,null,null,null,null,null,null,null,null,null,null,null,null,null,null,null,null,"-",{"$f":"L520","v":"Gruppe F5"},null,null,null,null,null,null,null,null,null,null,null,null,null,null,null,null,null,null,{"$f":"IF(ISBLANK('Gruppe F1'!AW54),\"\",'Gruppe F1'!AW54)","v":1},null,":",{"$f":"IF(ISBLANK('Gruppe F1'!AZ54),\"\",'Gruppe F1'!AZ54)","v":1},null,null,null,null,null,1,":",1]
[{"$f":"VLOOKUP(B555,Vorgaben!B$10:C$16,2,FALSE)","v":{"$error":"#N/A"}},28,null,"18:45:00",null,null,null,null,null,{"$f":"L516","v":"Gruppe F1"},null,null,null,null,null,null,null,null,null,null,null,null,null,null,null,null,null,null,"-",{"$f":"L522","v":"Gruppe F7"},null,null,null,null,null,null,null,null,null,null,null,null,null,null,null,null,null,null,{"$f":"IF(ISBLANK('Gruppe F1'!AW55),\"\",'Gruppe F1'!AW55)","v":1},null,":",{"$f":"IF(ISBLANK('Gruppe F1'!AZ55),\"\",'Gruppe F1'!AZ55)","v":1},null,null,null,null,null,{"$f":"IF(AW555=\"\",0,IF(ISBLANK(AW555),\"0\",IF(AW555>AZ555,3,IF(AW555=AZ555,1,0))))","v":1},":",1]
[]
[]
[null,"III. Abschlußtabelle"]
[]
[null,null,null,null,null,null,null,null,"Mannschaften",null,null,null,null,null,null,null,null,null,null,null,null,null,null,null,null,null,null,null,null,null,null,null,null,null,null,null,"Sp.",null,null,"Pkt.",null,null,"Tore",null,null,null,null,"Diff."]
[null,null,null,null,null,null,null,null,"1.",null,{"$f":"BM534","v":"Gruppe F8"},null,null,null,null,null,null,null,null,null,null,null,null,null,null,null,null,null,null,null,null,null,null,null,null,null,{"$f":"BN534","v":6},null,null,{"$f":"BO534","v":10},null,null,{"$f":"BP534","v":26},null,":",{"$f":"BR534","v":6},null,{"$f":"BS534","v":20}]
[null,null,null,null,null,null,null,null,"2.",null,{"$f":"BM535","v":"Gruppe F5"},null,null,null,null,null,null,null,null,null,null,null,null,null,null,null,null,null,null,null,null,null,null,null,null,null,{"$f":"BN535","v":7},null,null,{"$f":"BO535","v":7},null,null,{"$f":"BP535","v":7},null,":",{"$f":"BR535","v":7},null,{"$f":"BS535","v":0}]
[null,null,null,null,null,null,null,null,"3.",null,"Gruppe F6",null,null,null,null,null,null,null,null,null,null,null,null,null,null,null,null,null,null,null,null,null,null,null,null,null,6,null,null,6,null,null,6,null,":",6,null,0]
[null,null,null,null,null,null,null,null,"4.",null,"Gruppe F4",null,null,null,null,null,null,null,null,null,null,null,null,null,null,null,null,null,null,null,null,null,null,null,null,null,6,null,null,6,null,null,6,null,":",6,null,0]
[null,null,null,null,null,null,null,null,"5.",null,"Gruppe F3",null,null,null,null,null,null,null,null,null,null,null,null,null,null,null,null,null,null,null,null,null,null,null,null,null,6,null,null,6,null,null,6,null,":",6,null,0]
[null,null,null,null,null,null,null,null,"6.",null,"Gruppe F2",null,null,null,null,null,null,null,null,null,null,null,null,null,null,null,null,null,null,null,null,null,null,null,null,null,6,null,null,{"$f":"BO539","v":6},null,null,6,null,":",6,null,0]
[null,null,null,null,null,null,null,null,"7.",null,"Gruppe F1",null,null,null,null,null,null,null,null,null,null,null,null,null,null,null,null,null,null,null,null,null,null,null,null,null,7,null,null,{"$f":"BO540","v":6},null,null,7,null,":",17,null,-10]
[null,null,null,null,null,null,null,null,"8.",null,"Gruppe F7",null,null,null,null,null,null,null,null,null,null,null,null,null,null,null,null,null,null,null,null,null,null,null,null,null,6,null,null,5,null,null,6,null,":",16,null,-10]

{"sheet":"VR Gruppeneinteilung","index":6,"n_rows":50,"n_cols":15,"rows_kept":50,"cut":false,"hidden":false,"merged":[[0,0,0,6],[21,0,21,1],[21,4,21,5],[1,11,5,12],[1,0,1,1],[1,4,1,5],[11,0,11,1],[11,4,11,5]]}
[{"$f":"Vorgaben!B2","v":"17. E- Jugend- Turnier"},null,null,null,null,null,null,"Team",null,"Name"]
["Gruppe A",null,"Platz",null,"Gruppe B",null,"Platz",{"$f":"B3","v":"Gruppe A1"},{"$f":"IF(J2=\"\",$I$50,$L$2 & \"\" & J2 & \"\" & $L$7)","v":"C:\\Users\\Frank Ammermann\\Documents\\Veenhusen\\E_Turnier_und_Sportwoche\\E-Jugend-Turnier 2012\\Mannschaftsbilder_Urkunde\\_18.jpg"},"_18","Speicherort:","C:\\Users\\Frank Ammermann\\Documents\\Veenhusen\\E_Turnier_und_Sportwoche\\E-Jugend-Turnier 2012\\Mannschaftsbilder_Urkunde\\"]
["1.",{"$f":"Vorgaben!B19","v":"Gruppe A1"},1,null,"1.",{"$f":"Vorgaben!F19","v":"Gruppe B1"},2,{"$f":"B4","v":"Gruppe A2"},"C:\\Users\\Frank Ammermann\\Documents\\Veenhusen\\E_Turnier_und_Sportwoche\\E-Jugend-Turnier 2012\\Mannschaftsbilder_Urkunde\\_11.jpg","_11"]
["2.",{"$f":"Vorgaben!B20","v":"Gruppe A2"},1,null,"2.",{"$f":"Vorgaben!F20","v":"Gruppe B2"},2,"Gruppe A3","C:\\Users\\Frank Ammermann\\Documents\\Veenhusen\\E_Turnier_und_Sportwoche\\E-Jugend-Turnier 2012\\Mannschaftsbilder_Urkunde\\_20.jpg","_20"]
["3.",{"$f":"Vorgaben!B21","v":"Gruppe A3"},1,null,"3.",{"$f":"Vorgaben!F21","v":"Gruppe B3"},2,"Gruppe A4","C:\\Users\\Frank Ammermann\\Documents\\Veenhusen\\E_Turnier_und_Sportwoche\\E-Jugend-Turnier 2012\\Mannschaftsbilder_Urkunde\\_9.jpg","_9"]
["4.",{"$f":"Vorgaben!B22","v":"Gruppe A4"},1,null,"4.",{"$f":"Vorgaben!F22","v":"Gruppe B4"},2,"Gruppe A5","C:\\Users\\Frank Ammermann\\Documents\\Veenhusen\\E_Turnier_und_Sportwoche\\E-Jugend-Turnier 2012\\Mannschaftsbilder_Urkunde\\_15.jpg","_15"]
["5.",{"$f":"Vorgaben!B23","v":"Gruppe A5"},1,null,"5.",{"$f":"Vorgaben!F23","v":"Gruppe B5"},2,"Gruppe A6","C:\\Users\\Frank Ammermann\\Documents\\Veenhusen\\E_Turnier_und_Sportwoche\\E-Jugend-Turnier 2012\\Mannschaftsbilder_Urkunde\\_12.jpg","_12","Endung:",".jpg",null,{"$f":"B3","v":"Gruppe A1"},{"$f":"A$2","v":"Gruppe A"}]
["6.",{"$f":"Vorgaben!B24","v":"Gruppe A6"},1,null,"6.",{"$f":"Vorgaben!F24","v":"Gruppe B6"},2,"Gruppe A7","C:\\Users\\Frank Ammermann\\Documents\\Veenhusen\\E_Turnier_und_Sportwoche\\E-Jugend-Turnier 2012\\Mannschaftsbilder_Urkunde\\kein_bild.jpg"]
["7.",{"$f":"Vorgaben!B25","v":"Gruppe A7"},1,null,"7.",{"$f":"Vorgaben!F25","v":"Gruppe B7"},2,{"$f":"F3","v":"Gruppe B1"},"C:\\Users\\Frank Ammermann\\Documents\\Veenhusen\\E_Turnier_und_Sportwoche\\E-Jugend-Turnier 2012\\Mannschaftsbilder_Urkunde\\_6.jpg","_6","Kein Bild:","kein_bild",null,{"$f":"B4","v":"Gruppe A2"},{"$f":"A$2","v":"Gruppe A"}]
["8.",{"$f":"Vorgaben!B26","v":"Gruppe A8"},1,null,"8.",{"$f":"Vorgaben!F26","v":"Gruppe B8"},2,{"$f":"F4","v":"Gruppe B2"},"C:\\Users\\Frank Ammermann\\Documents\\Veenhusen\\E_Turnier_und_Sportwoche\\E-Jugend-Turnier 2012\\Mannschaftsbilder_Urkunde\\_5.jpg","_5",null,null,null,{"$f":"B5","v":"Gruppe A3"},"Gruppe A"]
[null,null,null,null,null,null,null,"Gruppe B3","C:\\Users\\Frank Ammermann\\Documents\\Veenhusen\\E_Turnier_und_Sportwoche\\E-Jugend-Turnier 2012\\Mannschaftsbilder_Urkunde\\_19.jpg","_19",null,null,null,{"$f":"B6","v":"Gruppe A4"},"Gruppe A"]
["Gruppe C",null,"Platz",null,"Gruppe D",null,"Platz","Gruppe B4","C:\\Users\\Frank Ammermann\\Documents\\Veenhusen\\E_Turnier_und_Sportwoche\\E-Jugend-Turnier 2012\\Mannschaftsbilder_Urkunde\\_25.jpg","_25",null,null,null,{"$f":"B7","v":"Gruppe A5"},"Gruppe A"]
["1.",{"$f":"Vorgaben!B29","v":"Gruppe C1"},{"$f":"Vorgaben!C29","v":3},null,"1.",{"$f":"Vorgaben!F29","v":"Gruppe D1"},{"$f":"Vorgaben!G29","v":4},"Gruppe B5","C:\\Users\\Frank Ammermann\\Documents\\Veenhusen\\E_Turnier_und_Sportwoche\\E-Jugend-Turnier 2012\\Mannschaftsbilder_Urkunde\\_2.jpg","_2",null,null,null,{"$f":"B9","v":"Gruppe A7"},"Gruppe A"]
["2.",{"$f":"Vorgaben!B30","v":"Gruppe C2"},{"$f":"Vorgaben!C30","v":3},null,"2.",{"$f":"Vorgaben!F30","v":"Gruppe D2"},{"$f":"Vorgaben!G30","v":4},"Gruppe B6","C:\\Users\\Frank Ammermann\\Documents\\Veenhusen\\E_Turnier_und_Sportwoche\\E-Jugend-Turnier 2012\\Mannschaftsbilder_Urkunde\\_1.jpg","_1",null,null,null,{"$f":"F3","v":"Gruppe B1"},{"$f":"E$2","v":"Gruppe B"}]
["3.",{"$f":"Vorgaben!B31","v":"Gruppe C3"},{"$f":"Vorgaben!C31","v":3},null,"3.",{"$f":"Vorgaben!F31","v":"Gruppe D3"},{"$f":"Vorgaben!G31","v":4},"Gruppe B7","C:\\Users\\Frank Ammermann\\Documents\\Veenhusen\\E_Turnier_und_Sportwoche\\E-Jugend-Turnier 2012\\Mannschaftsbilder_Urkunde\\_7.jpg","_7",null,null,null,{"$f":"F4","v":"Gruppe B2"},{"$f":"E$2","v":"Gruppe B"}]
["4.",{"$f":"Vorgaben!B32","v":"Gruppe C4"},{"$f":"Vorgaben!C32","v":3},null,"4.",{"$f":"Vorgaben!F32","v":"Gruppe D4"},{"$f":"Vorgaben!G32","v":4},{"$f":"B13","v":"Gruppe C1"},"C:\\Users\\Frank Ammermann\\Documents\\Veenhusen\\E_Turnier_und_Sportwoche\\E-Jugend-Turnier 2012\\Mannschaftsbilder_Urkunde\\_24.jpg","_24",null,null,null,{"$f":"F5","v":"Gruppe B3"},"Gruppe B"]
["5.",{"$f":"Vorgaben!B33","v":"Gruppe C5"},{"$f":"Vorgaben!C33","v":3},null,"5.",{"$f":"Vorgaben!F33","v":"Gruppe D5"},{"$f":"Vorgaben!G33","v":4},{"$f":"B14","v":"Gruppe C2"},"C:\\Users\\Frank Ammermann\\Documents\\Veenhusen\\E_Turnier_und_Sportwoche\\E-Jugend-Turnier 2012\\Mannschaftsbilder_Urkunde\\_23.jpg","_23",null,null,null,{"$f":"F6","v":"Gruppe B4"},"Gruppe B"]
["6.",{"$f":"Vorgaben!B34","v":"Gruppe C6"},{"$f":"Vorgaben!C34","v":3},null,"6.",{"$f":"Vorgaben!F34","v":"Gruppe D6"},{"$f":"Vorgaben!G34","v":4},"Gruppe C3","C:\\Users\\Frank Ammermann\\Documents\\Veenhusen\\E_Turnier_und_Sportwoche\\E-Jugend-Turnier 2012\\Mannschaftsbilder_Urkunde\\_17.jpg","_17",null,null,null,{"$f":"F7","v":"Gruppe B5"},"Gruppe B"]
["7.",{"$f":"Vorgaben!B35","v":"Gruppe C7"},{"$f":"Vorgaben!C35","v":3},null,"7.",{"$f":"Vorgaben!F35","v":"Gruppe D7"},{"$f":"Vorgaben!G35","v":4},"Gruppe C4","C:\\Users\\Frank Ammermann\\Documents\\Veenhusen\\E_Turnier_und_Sportwoche\\E-Jugend-Turnier 2012\\Mannschaftsbilder_Urkunde\\kein_bild.jpg"]
["8.",{"$f":"Vorgaben!B36","v":"Gruppe C8"},{"$f":"Vorgaben!C36","v":3},null,"8.",{"$f":"Vorgaben!F36","v":"Gruppe D8"},{"$f":"Vorgaben!G36","v":4}]
[null,null,null,null,null,null,null,{"$f":"B17","v":"Gruppe C5"},{"$f":"IF(J21=\"\",$I$50,$L$2 & \"\" & J21 & \"\" & $L$7)","v":"C:\\Users\\Frank Ammermann\\Documents\\Veenhusen\\E_Turnier_und_Sportwoche\\E-Jugend-Turnier 2012\\Mannschaftsbilder_Urkunde\\_28.jpg"},"_28",null,null,null,{"$f":"F9","v":"Gruppe B7"},"Gruppe B"]
["Gruppe E",null,"Platz",null,"Gruppe F",null,"Platz",{"$f":"B18","v":"Gruppe C6"},"C:\\Users\\Frank Ammermann\\Documents\\Veenhusen\\E_Turnier_und_Sportwoche\\E-Jugend-Turnier 2012\\Mannschaftsbilder_Urkunde\\_14.jpg","_14",null,null,null,{"$f":"B13","v":"Gruppe C1"},"Gruppe B"]
["1.",{"$f":"Vorgaben!B39","v":"Gruppe E1"},{"$f":"Vorgaben!C39","v":5},null,"1.",{"$f":"Vorgaben!F39","v":"Gruppe F1"},{"$f":"Vorgaben!G39","v":6},{"$f":"B19","v":"Gruppe C7"},"C:\\Users\\Frank Ammermann\\Documents\\Veenhusen\\E_Turnier_und_Sportwoche\\E-Jugend-Turnier 2012\\Mannschaftsbilder_Urkunde\\_4.jpg","_4",null,null,null,"Gruppe C2",{"$f":"A$12","v":"Gruppe C"}]
["2.",{"$f":"Vorgaben!B40","v":"Gruppe E2"},{"$f":"Vorgaben!C40","v":5},null,"2.",{"$f":"Vorgaben!F40","v":"Gruppe F2"},{"$f":"Vorgaben!G40","v":6},{"$f":"F13","v":"Gruppe D1"},"C:\\Users\\Frank Ammermann\\Documents\\Veenhusen\\E_Turnier_und_Sportwoche\\E-Jugend-Turnier 2012\\Mannschaftsbilder_Urkunde\\_26.jpg","_26",null,null,null,"Gruppe C3",{"$f":"A$12","v":"Gruppe C"}]
["3.",{"$f":"Vorgaben!B41","v":"Gruppe E3"},{"$f":"Vorgaben!C41","v":5},null,"3.",{"$f":"Vorgaben!F41","v":"Gruppe F3"},{"$f":"Vorgaben!G41","v":6},"Gruppe D2","C:\\Users\\Frank Ammermann\\Documents\\Veenhusen\\E_Turnier_und_Sportwoche\\E-Jugend-Turnier 2012\\Mannschaftsbilder_Urkunde\\_8.jpg","_8",null,null,null,"Gruppe C4","Gruppe C"]
["4.",{"$f":"Vorgaben!B42","v":"Gruppe E4"},{"$f":"Vorgaben!C42","v":5},null,"4.",{"$f":"Vorgaben!F42","v":"Gruppe F4"},{"$f":"Vorgaben!G42","v":6},"Gruppe D3","C:\\Users\\Frank Ammermann\\Documents\\Veenhusen\\E_Turnier_und_Sportwoche\\E-Jugend-Turnier 2012\\Mannschaftsbilder_Urkunde\\_27.jpg","_27",null,null,null,"Gruppe C5","Gruppe C"]
["5.",{"$f":"Vorgaben!B43","v":"Gruppe E5"},{"$f":"Vorgaben!C43","v":5},null,"5.",{"$f":"Vorgaben!F43","v":"Gruppe F5"},{"$f":"Vorgaben!G43","v":6},"Gruppe D4","C:\\Users\\Frank Ammermann\\Documents\\Veenhusen\\E_Turnier_und_Sportwoche\\E-Jugend-Turnier 2012\\Mannschaftsbilder_Urkunde\\_3.jpg","_3",null,null,null,"Gruppe C6","Gruppe C"]
["6.",{"$f":"Vorgaben!B44","v":"Gruppe E6"},{"$f":"Vorgaben!C44","v":5},null,"6.",{"$f":"Vorgaben!F44","v":"Gruppe F6"},{"$f":"Vorgaben!G44","v":6},"Gruppe D5","C:\\Users\\Frank Ammermann\\Documents\\Veenhusen\\E_Turnier_und_Sportwoche\\E-Jugend-Turnier 2012\\Mannschaftsbilder_Urkunde\\_16.jpg","_16",null,null,null,{"$f":"F13","v":"Gruppe D1"},{"$f":"E$12","v":"Gruppe D"}]
["7.",{"$f":"Vorgaben!B45","v":"Gruppe E7"},{"$f":"Vorgaben!C45","v":5},null,"7.",{"$f":"Vorgaben!F45","v":"Gruppe F7"},{"$f":"Vorgaben!G45","v":6},"Gruppe D6","C:\\Users\\Frank Ammermann\\Documents\\Veenhusen\\E_Turnier_und_Sportwoche\\E-Jugend-Turnier 2012\\Mannschaftsbilder_Urkunde\\_29.jpg","_29",null,null,null,"Gruppe D2",{"$f":"E$12","v":"Gruppe D"}]
["8.",{"$f":"Vorgaben!B46","v":"Gruppe E8"},{"$f":"Vorgaben!C46","v":5},null,"8.",{"$f":"Vorgaben!F46","v":"Gruppe F8"},{"$f":"Vorgaben!G46","v":6},"Gruppe D7","C:\\Users\\Frank Ammermann\\Documents\\Veenhusen\\E_Turnier_und_Sportwoche\\E-Jugend-Turnier 2012\\Mannschaftsbilder_Urkunde\\_10.jpg","_10",null,null,null,"Gruppe D3","Gruppe D"]
[null,null,null,null,null,null,null,{"$f":"B23","v":"Gruppe E1"},"C:\\Users\\Frank Ammermann\\Documents\\Veenhusen\\E_Turnier_und_Sportwoche\\E-Jugend-Turnier 2012\\Mannschaftsbilder_Urkunde\\_21.jpg","_21",null,null,null,"Gruppe D4","Gruppe D"]
[null,null,null,null,null,null,null,{"$f":"B24","v":"Gruppe E2"},"C:\\Users\\Frank Ammermann\\Documents\\Veenhusen\\E_Turnier_und_Sportwoche\\E-Jugend-Turnier 2012\\Mannschaftsbilder_Urkunde\\_22.jpg","_22",null,null,null,"Gruppe D5","Gruppe D"]
[null,null,null,null,null,null,null,"Gruppe E3","C:\\Users\\Frank Ammermann\\Documents\\Veenhusen\\E_Turnier_und_Sportwoche\\E-Jugend-Turnier 2012\\Mannschaftsbilder_Urkunde\\_30.jpg","_30",null,null,null,"Gruppe D6","Gruppe D"]
[null,null,null,null,null,null,null,"Gruppe E4","C:\\Users\\Frank Ammermann\\Documents\\Veenhusen\\E_Turnier_und_Sportwoche\\E-Jugend-Turnier 2012\\Mannschaftsbilder_Urkunde\\_13.jpg","_13"]
[null,null,null,null,null,null,null,"Gruppe E5","C:\\Users\\Frank Ammermann\\Documents\\Veenhusen\\E_Turnier_und_Sportwoche\\E-Jugend-Turnier 2012\\Mannschaftsbilder_Urkunde\\kein_bild.jpg"]
[null,null,null,null,null,null,null,"Gruppe E6","C:\\Users\\Frank Ammermann\\Documents\\Veenhusen\\E_Turnier_und_Sportwoche\\E-Jugend-Turnier 2012\\Mannschaftsbilder_Urkunde\\kein_bild.jpg"]
[null,null,null,null,null,null,null,"Gruppe E7","C:\\Users\\Frank Ammermann\\Documents\\Veenhusen\\E_Turnier_und_Sportwoche\\E-Jugend-Turnier 2012\\Mannschaftsbilder_Urkunde\\kein_bild.jpg"]
[null,null,null,null,null,null,null,{"$f":"F23","v":"Gruppe F1"},"C:\\Users\\Frank Ammermann\\Documents\\Veenhusen\\E_Turnier_und_Sportwoche\\E-Jugend-Turnier 2012\\Mannschaftsbilder_Urkunde\\kein_bild.jpg"]
[null,null,null,null,null,null,null,{"$f":"F24","v":"Gruppe F2"},"C:\\Users\\Frank Ammermann\\Documents\\Veenhusen\\E_Turnier_und_Sportwoche\\E-Jugend-Turnier 2012\\Mannschaftsbilder_Urkunde\\kein_bild.jpg"]
[null,null,null,null,null,null,null,"Gruppe F3","C:\\Users\\Frank Ammermann\\Documents\\Veenhusen\\E_Turnier_und_Sportwoche\\E-Jugend-Turnier 2012\\Mannschaftsbilder_Urkunde\\kein_bild.jpg"]
[null,null,null,null,null,null,null,"Gruppe F4",{"$f":"IF(J41=\"\",$I$50,$L$2 & \"\" & J41 & \"\" & $L$7)","v":"C:\\Users\\Frank Ammermann\\Documents\\Veenhusen\\E_Turnier_und_Sportwoche\\E-Jugend-Turnier 2012\\Mannschaftsbilder_Urkunde\\kein_bild.jpg"}]
[null,null,null,null,null,null,null,"Gruppe F5","C:\\Users\\Frank Ammermann\\Documents\\Veenhusen\\E_Turnier_und_Sportwoche\\E-Jugend-Turnier 2012\\Mannschaftsbilder_Urkunde\\kein_bild.jpg"]
[null,null,null,null,null,null,null,"Gruppe F6","C:\\Users\\Frank Ammermann\\Documents\\Veenhusen\\E_Turnier_und_Sportwoche\\E-Jugend-Turnier 2012\\Mannschaftsbilder_Urkunde\\kein_bild.jpg"]
[null,null,null,null,null,null,null,"Gruppe F7","C:\\Users\\Frank Ammermann\\Documents\\Veenhusen\\E_Turnier_und_Sportwoche\\E-Jugend-Turnier 2012\\Mannschaftsbilder_Urkunde\\_24.jpg","_24"]
[]
[]
[]
[]
[null,null,null,null,null,null,null,null,"No Image"]
[null,null,null,null,null,null,null,null,{"$f":"$L$2&\"\"&L9&\"\"&$L$7","v":"C:\\Users\\Frank Ammermann\\Documents\\Veenhusen\\E_Turnier_und_Sportwoche\\E-Jugend-Turnier 2012\\Mannschaftsbilder_Urkunde\\kein_bild.jpg"}]

{"sheet":"Gruppe A1","index":7,"n_rows":68,"n_cols":71,"rows_kept":68,"cut":false,"hidden":false,"merged":[[64,47,64,49],[65,8,65,9],[65,10,65,35],[65,36,65,38],[65,39,65,41],[65,42,65,43],[66,47,66,49],[67,8,67,9],[67,10,67,35],[67,36,67,38],[67,39,67,41],[67,42,67,43],[67,45,67,46],[67,47,67,49],[66,8,66,9],[66,10,66,35],[66,36,66,38],[66,39,66,41],[66,42,66,43],[66,45,66,46],[65,45,65,46],[65,47,65,49],[64,8,64,9],[64,10,64,35],[64,36,64,38],[64,39,64,41],[64,42,64,43],[64,45,64,46],[61,8,61,9],[61,10,61,35],[61,36,61,38],[61,39,61,41],[61,42,61,43],[61,45,61,46],[61,47,61,49],[62,47,62,49],[63,8,63,9],[63,10,63,35],[63,36,63,38],[63,39,63,41],[63,42,63,43],[63,45,63,46],[63,47,63,49],[62,8,62,9],[62,10,62,35],[62,36,62,38],[62,39,62,41],[62,42,62,43],[62,45,62,46],[59,8,59,35],[59,36,59,38],[59,39,59,41],[59,42,59,46],[59,47,59,49],[60,8,60,9],[60,10,60,35],[60,36,60,38],[60,39,60,41],[60,42,60,43],[60,45,60,46],[60,47,60,49],[53,53,53,54],[54,1,54,2],[54,3,54,8],[54,9,54,27],[54,29,54,47],[54,53,54,54],[53,1,53,2],[53,3,53,8],[53,9,53,27],[53,29,53,47],[54,51,54,52],[53,51,53,52],[54,48,54,49],[53,48,53,49],[51,53,51,54],[52,1,52,2],[52,3,52,8],[52,9,52,27],[52,29,52,47],[52,53,52,54],[51,1,51,2],[51,3,51,8],[51,9,51,27],[51,29,51,47],[52,51,52,52],[51,51,51,52],[52,48,52,49],[51,48,51,49],[49,53,49,54],[50,1,50,2],[50,3,50,8],[50,9,50,27],[50,29,50,47],[50,53,50,54],[49,1,49,2],[49,3,49,8],[49,9,49,27],[49,29,49,47],[50,48,50,49],[49,48,49,49],[50,51,50,52],[49,51,49,52],[47,53,47,54],[48,1,48,2],[48,3,48,8],[48,9,48,27],[48,29,48,47],[48,53,48,54],[47,1,47,2],[47,3,47,8],[47,9,47,27],[47,29,47,47],[48,48,48,49],[47,48,47,49],[48,51,48,52],[47,51,47,52],[45,53,45,54],[46,1,46,2],[46,3,46,8],[46,9,46,27],[46,29,46,47],[46,53,46,54],[45,1,45,2],[45,3,45,8],[45,9,45,27],[45,29,45,47],[46,48,46,49],[45,48,45,49],[46,51,46,52],[45,51,45,52],[43,53,43,54],[44,1,44,2],[44,3,44,8],[44,9,44,27],[44,29,44,47],[44,53,44,54],[43,1,43,2],[43,3,43,8],[43,9,43,27],[43,29,43,47],[44,48,44,49],[43,48,43,49],[44,51,44,52],[43,51,43,52],[41,53,41,54],[42,1,42,2],[42,3,42,8],[42,9,42,27],[42,29,42,47],[42,53,42,54],[41,1,41,2],[41,3,41,8],[41,9,41,27],[41,29,41,47],[42,48,42,49],[41,48,41,49],[42,51,42,52],[41,51,41,52],[39,53,39,54],[40,1,40,2],[40,3,40,8],[40,9,40,27],[40,29,40,47],[40,53,40,54],[39,1,39,2],[39,3,39,8],[39,9,39,27],[39,29,39,47],[40,48,40,49],[39,48,39,49],[40,51,40,52],[39,51,39,52],[37,53,37,54],[38,1,38,2],[38,3,38,8],[38,9,38,27],[38,29,38,47],[38,53,38,54],[37,1,37,2],[37,3,37,8],[37,9,37,27],[37,29,37,47],[38,48,38,49],[37,48,37,49],[38,51,38,52],[37,51,37,52],[35,53,35,54],[36,1,36,2],[36,3,36,8],[36,9,36,27],[36,29,36,47],[36,53,36,54],[35,1,35,2],[35,3,35,8],[35,9,35,27],[35,29,35,47],[36,48,36,49],[35,48,35,49],[36,51,36,52],[35,51,35,52],[33,53,33,54],[34,1,34,2],[34,3,34,8],[34,9,34,27],[34,29,34,47],[34,53,34,54],[33,1,33,2],[33,3,33,8],[33,9,33,27],[33,29,33,47],[34,48,34,49],[33,48,33,49],[34,51,34,52],[33,51,33,52],[31,53,31,54],[32,1,32,2],[32,3,32,8],[32,9,32,27],[32,29,32,47],[32,53,32,54],[31,1,31,2],[31,3,31,8],[31,9,31,27],[31,29,31,47],[32,48,32,49],[31,48,31,49],[32,51,32,52],[31,51,31,52],[28,1,28,2],[28,3,28,8],[28,9,28,27],[28,29,28,47],[28,53,28,54],[29,53,29,54],[30,1,30,2],[30,3,30,8],[30,9,30,27],[30,29,30,47],[30,53,30,54],[29,1,29,2],[29,3,29,8],[29,9,29,27],[29,29,29,47],[28,48,28,49],[30,48,30,49],[29,48,29,49],[28,51,28,52],[30,51,30,52],[29,51,29,52],[26,1,26,2],[26,3,26,8],[26,10,26,47],[26,48,26,52],[26,53,26,54],[27,1,27,2],[27,3,27,8],[27,9,27,27],[27,29,27,47],[27,53,27,54],[27,48,27,49],[27,51,27,52],[21,9,21,10],[21,11,21,46],[21,47,21,48],[22,9,22,10],[22,11,22,46],[22,47,22,48],[19,9,19,10],[19,11,19,46],[19,47,19,48],[20,9,20,10],[20,11,20,46],[20,47,20,48],[17,9,17,10],[17,11,17,46],[17,47,17,48],[18,9,18,10],[18,11,18,46],[18,47,18,48],[15,9,15,10],[15,11,15,46],[15,47,15,48],[16,9,16,10],[16,11,16,46],[16,47,16,48],[9,7,9,11],[9,20,9,21],[9,23,9,27],[9,37,9,41],[14,9,14,46],[14,47,14,48],[1,0,1,54],[2,0,2,54],[3,0,3,41],[5,12,5,19],[5,24,5,31],[7,1,7,38],[9,48,9,52]]}
[]
["Vorrunde"]
["Gruppe A"]
[]
[]
[]
[]
[]
[]
[null,null,null,null,null,null,"Beginn:",{"$f":"Vorgaben!C4","v":"14:15:00"},null,null,null,null,"Uhr",null,null,null,null,null,null,"Spielzeit:",{"$f":"Vorgaben!C5","v":1},"1x","x",{"$f":"Vorgaben!C6","v":"00:09:00"},null,null,null,null,"min",null,null,null,null,null,null,null,"Pause:",{"$f":"Vorgaben!C7","v":"00:01:00"},null,null,null,null,"min",null,null,null,null,"HZ:",{"$f":"IF(Vorgaben!C5>1,Vorgaben!C8,0)","v":"00:00:00"},null,null,null,null,"min"]
[]
[]
[null,"I. Teilnehmende Mannschaften"]
[]
[null,null,null,null,null,null,null,null,null,"Mannschaften"]
[null,null,null,null,null,null,null,null,null,"1.",null,{"$f":"'VR Gruppeneinteilung'!B3","v":"Gruppe A1"}]
[null,null,null,null,null,null,null,null,null,"2.",null,{"$f":"'VR Gruppeneinteilung'!B4","v":"Gruppe A2"}]
[null,null,null,null,null,null,null,null,null,"3.",null,{"$f":"'VR Gruppeneinteilung'!B5","v":"Gruppe A3"}]
[null,null,null,null,null,null,null,null,null,"4.",null,{"$f":"'VR Gruppeneinteilung'!B6","v":"Gruppe A4"}]
[null,null,null,null,null,null,null,null,null,"5.",null,{"$f":"'VR Gruppeneinteilung'!B7","v":"Gruppe A5"}]
[null,null,null,null,null,null,null,null,null,"6.",null,{"$f":"'VR Gruppeneinteilung'!B8","v":"Gruppe A6"}]
[null,null,null,null,null,null,null,null,null,"7.",null,{"$f":"'VR Gruppeneinteilung'!B9","v":"Gruppe A7"}]
[null,null,null,null,null,null,null,null,null,"8.",null,{"$f":"'VR Gruppeneinteilung'!B10","v":"Gruppe A8"},null,null,null,null,null,null,null,null,null,null,null,null,null,null,null,null,null,null,null,null,null,null,null,null,null,null,null,null,null,null,null,null,null,null,null,null,null,null,null,null,null,null,null,null,null,null,null,null,null,null,null,null,{"$f":"IF(AND(EXACT(BO27,BO28),EXACT(BP27,BP28),EXACT(BS27,BS28)),\"ACHTUNG GLEICHHEIT in Tabellen\",IF(AND(EXACT(BO28,BO29),EXACT(BP28,BP29),EXACT(BS28,BS29)),\"ACHTUNG GLEICHHEIT in Tabellen\",IF(AND(EXACT(BO29,BO30),EXACT(BP29,BP30),EXACT(BS29,BS30)),\"ACHTUNG GLEICHHEIT in Tabellen\",IF(AND(EXACT(BO30,BO31),EXACT(BP30,BP31),EXACT(BS30,BS31)),\"ACHTUNG GLEICHHEIT in Tabellen\",IF(AND(EXACT(BO31,BO32),EXACT(BP31,BP32),EXACT(BS31,BS32)),\"ACHTUNG GLEICHHEIT in Tabellen\",IF(AND(EXACT(BO34,BO35),EXACT(BP34,BP35),EXACT(BS34,BS35)),\"ACHTUNG GLEICHHEIT in Tabellen\",\"\"))))))","v":""}]
[]
[null,"II. Spielplan"]
[null,null,null,null,null,null,null,null,null,null,null,null,null,null,null,null,null,null,null,null,null,null,null,null,null,null,null,null,null,null,null,null,null,null,null,null,null,null,null,null,null,null,null,null,null,null,null,null,null,null,null,null,null,null,null,null,null,null,null,null,null,null,null,null,"6er"]
[null,"Nr.",null,"Beginn",null,null,null,null,null,null,"Spielpaarung",null,null,null,null,null,null,null,null,null,null,null,null,null,null,null,null,null,null,null,null,null,null,null,null,null,null,null,null,null,null,null,null,null,null,null,null,null,"Ergebnis",null,null,null,null,"Pl",null,null,null,"Punkte",null,null,null,null,null,null,{"$f":"$L$16","v":"Gruppe A1"},{"$f":"COUNT($AW$28,$AW$31,$AZ$34,$AW$37,$AZ$40)","v":5},{"$f":"SUM($BF$28+$BF$31+$BH$34+$BF$37+$BH$40)","v":7},{"$f":"SUM($AW$28+$AW$31+$AZ$34+$AW$37+$AZ$40)","v":7},":",{"$f":"SUM(AZ28+AZ31+$AW$34+AZ37+$AW$40)","v":5},{"$f":"SUM(BP27-BR27)","v":2}]
[{"$f":"VLOOKUP(B28,Vorgaben!B8:C14,2,FALSE)","v":{"$error":"#N/A"}},1,null,{"$f":"$H$10","v":"14:15:00"},null,null,null,null,null,{"$f":"IF(Vorgaben!C$1=48,'Gruppe AF8'!J28,IF(Vorgaben!C$1=42,'Gruppe AF7'!O27,IF(Vorgaben!C$1=36,'Gruppe AF6'!I21,IF(Vorgaben!C$1=30,'Gruppe AF6'!I21,IF(Vorgaben!C$1=24,'Gruppe AF6'!I21,\"F\")))))","v":"Gruppe A1"},null,null,null,null,null,null,null,null,null,null,null,null,null,null,null,null,null,null,"-",{"$f":"IF(Vorgaben!C$1=48,'Gruppe AF8'!AD28,IF(Vorgaben!C$1=42,'Gruppe AF7'!AF27,IF(Vorgaben!C$1=36,'Gruppe AF6'!AC21,IF(Vorgaben!C$1=30,'Gruppe AF6'!AC21,IF(Vorgaben!C$1=24,'Gruppe AF6'!AC21,\"\")))))","v":"Gruppe A2"},null,null,null,null,null,null,null,null,null,null,null,null,null,null,null,null,null,null,1,null,":",1,null,{"$f":"Vorgaben!$C$19","v":1},null,null,null,{"$f":"IF(ISBLANK(AW28),\"0\",IF(AW28>AZ28,3,IF(AW28=AZ28,1,0)))","v":1},":",{"$f":"IF(ISBLANK(AZ28),\"0\",IF(AZ28>AW28,3,IF(AZ28=AW28,1,0)))","v":1},null,null,null,null,{"$f":"$L$19","v":"Gruppe A4"},{"$f":"COUNT($AZ$29,$AW$33,$AZ$35,$AZ$37,$AW$42)","v":5},{"$f":"SUM($BH$29+$BF$33+$BH$35+$BH$37+$BF$42)","v":5},{"$f":"SUM($AZ$29+$AW$33+$AZ$35+$AZ$37+$AW$42)","v":5},":",{"$f":"SUM($AW$29+AZ33+$AW$35+$AW$37+AZ42)","v":5},{"$f":"SUM(BP28-BR28)","v":0}]
[{"$f":"VLOOKUP(B29,Vorgaben!B$10:C$16,2,FALSE)","v":{"$error":"#N/A"}},2,null,{"$f":"IF(ISNA(A29),D28+($U$10*$X$10+$AL$10+$AW$10),D28+($U$10*$X$10+$AL$10+$AW$10)+A29)","v":"14:25:00"},null,null,null,null,null,{"$f":"IF(Vorgaben!C$1=48,'Gruppe AF8'!J29,IF(Vorgaben!C$1=42,'Gruppe AF7'!O28,IF(Vorgaben!C$1=36,'Gruppe AF6'!I22,IF(Vorgaben!C$1=30,'Gruppe AF6'!I22,IF(Vorgaben!C$1=24,'Gruppe AF6'!I22,\"F\")))))","v":"Gruppe A3"},null,null,null,null,null,null,null,null,null,null,null,null,null,null,null,null,null,null,"-",{"$f":"IF(Vorgaben!C$1=48,'Gruppe AF8'!AD29,IF(Vorgaben!C$1=42,'Gruppe AF7'!AF28,IF(Vorgaben!C$1=36,'Gruppe AF6'!AC22,IF(Vorgaben!C$1=30,'Gruppe AF6'!AC22,IF(Vorgaben!C$1=24,'Gruppe AF6'!AC22,\"\")))))","v":"Gruppe A4"},null,null,null,null,null,null,null,null,null,null,null,null,null,null,null,null,null,null,1,null,":",1,null,{"$f":"Vorgaben!$C$19","v":1},null,null,null,1,":",1,null,null,null,null,{"$f":"$L$21","v":"Gruppe A6"},{"$f":"COUNT($AZ$30,$AZ$33,$AW$36,$AW$38,$AW$40)","v":5},{"$f":"SUM($BH$30+$BH$33+$BF$36+$BF$38+$BF$40)","v":6},{"$f":"SUM($AZ$30+$AZ$33+$AW$36+$AW$38+$AW$40)","v":6},":",{"$f":"SUM($AW$30+$AW$33+AZ36+AZ38+AZ40)","v":6},0]
[{"$f":"VLOOKUP(B30,Vorgaben!B$10:C$16,2,FALSE)","v":{"$error":"#N/A"}},3,null,{"$f":"IF(ISNA(A30),D29+($U$10*$X$10+$AL$10+$AW$10),D29+($U$10*$X$10+$AL$10+$AW$10)+A30)","v":"14:35:00"},null,null,null,null,null,{"$f":"IF(Vorgaben!C$1=48,'Gruppe AF8'!J30,IF(Vorgaben!C$1=42,'Gruppe AF7'!O29,IF(Vorgaben!C$1=36,'Gruppe AF6'!I23,IF(Vorgaben!C$1=30,'Gruppe AF6'!I23,IF(Vorgaben!C$1=24,'Gruppe AF6'!I23,\"F\")))))","v":"Gruppe A5"},null,null,null,null,null,null,null,null,null,null,null,null,null,null,null,null,null,null,"-",{"$f":"IF(Vorgaben!C$1=48,'Gruppe AF8'!AD30,IF(Vorgaben!C$1=42,'Gruppe AF7'!AF29,IF(Vorgaben!C$1=36,'Gruppe AF6'!AC23,IF(Vorgaben!C$1=30,'Gruppe AF6'!AC23,IF(Vorgaben!C$1=24,'Gruppe AF6'!AC23,\"\")))))","v":"Gruppe A6"},null,null,null,null,null,null,null,null,null,null,null,null,null,null,null,null,null,null,1,null,":",1,null,{"$f":"Vorgaben!$C$19","v":1},null,null,null,1,":",1,null,null,null,null,{"$f":"$L$17","v":"Gruppe A2"},{"$f":"COUNT($AZ$28,$AW$32,$AZ$38,$AW$35,$AW$41)","v":5},{"$f":"SUM($BH$28+$BF$32+$BF$35+$BH$38+$BF$41)","v":6},{"$f":"SUM($AZ$28+$AW$32+$AW$35+$AZ$38+$AW$41)","v":7},":",{"$f":"SUM($AW$28+AZ32+AZ34+$AW$38+AZ41)","v":6},1]
[{"$f":"VLOOKUP(B31,Vorgaben!B$10:C$16,2,FALSE)","v":{"$error":"#N/A"}},4,null,"14:45:00",null,null,null,null,null,{"$f":"IF(Vorgaben!C$1=48,'Gruppe AF8'!J31,IF(Vorgaben!C$1=42,'Gruppe AF7'!O30,IF(Vorgaben!C$1=36,'Gruppe AF6'!I24,IF(Vorgaben!C$1=30,'Gruppe AF6'!I24,IF(Vorgaben!C$1=24,'Gruppe AF6'!I24,\"F\")))))","v":"Gruppe A7"},null,null,null,null,null,null,null,null,null,null,null,null,null,null,null,null,null,null,"-",{"$f":"IF(Vorgaben!C$1=48,'Gruppe AF8'!AD31,IF(Vorgaben!C$1=42,'Gruppe AF7'!AF30,IF(Vorgaben!C$1=36,'Gruppe AF6'!AC24,IF(Vorgaben!C$1=30,'Gruppe AF6'!AC24,IF(Vorgaben!C$1=24,'Gruppe AF6'!AC24,\"\")))))","v":"Gruppe A8"},null,null,null,null,null,null,null,null,null,null,null,null,null,null,null,null,null,null,3,null,":",1,null,{"$f":"Vorgaben!$C$19","v":1},null,null,null,3,":",0,null,null,null,null,{"$f":"$L$18","v":"Gruppe A3"},{"$f":"COUNT($AW$29,$AZ$31,$AZ$36,$AW$39,$AZ$41)","v":5},{"$f":"SUM($BF$29+$BH$31+$BH$36+$BF$39+$BH$41)","v":5},{"$f":"SUM($AW$29+$AZ$31+$AZ$36+$AW$39+$AZ$41)","v":6},":",{"$f":"SUM($AW$31+AZ29+$AW$36+AZ39+$AW$41)","v":9},-3]
[{"$f":"IF(VLOOKUP(B32,Vorgaben!B$10:C$16,2,FALSE)=\"\",\"\",VLOOKUP(B32,Vorgaben!B$10:C$16,2,FALSE))","v":{"$error":"#N/A"}},5,null,"14:55:00",null,null,null,null,null,{"$f":"IF(Vorgaben!C$1=48,'Gruppe AF8'!J32,IF(Vorgaben!C$1=42,'Gruppe AF7'!O31,IF(Vorgaben!C$1=36,'Gruppe AF6'!I25,IF(Vorgaben!C$1=30,'Gruppe AF6'!I25,IF(Vorgaben!C$1=24,'Gruppe AF6'!I25,\"F\")))))","v":"Gruppe A4"},null,null,null,null,null,null,null,null,null,null,null,null,null,null,null,null,null,null,"-",{"$f":"IF(Vorgaben!C$1=48,'Gruppe AF8'!AD32,IF(Vorgaben!C$1=42,'Gruppe AF7'!AF31,IF(Vorgaben!C$1=36,'Gruppe AF6'!AC25,IF(Vorgaben!C$1=30,'Gruppe AF6'!AC25,IF(Vorgaben!C$1=24,'Gruppe AF6'!AC25,\"\")))))","v":"Gruppe A1"},null,null,null,null,null,null,null,null,null,null,null,null,null,null,null,null,null,null,1,null,":",1,null,{"$f":"Vorgaben!$C$19","v":1},null,null,null,1,":",1,null,null,null,null,{"$f":"$L$20","v":"Gruppe A5"},{"$f":"COUNT($AW$30,$AZ$32,$AW$34,$AZ$39,$AZ$42)","v":5},{"$f":"SUM($BF$30+$BH$32+$BF$34+$BH$39+$BH$42)","v":5},{"$f":"SUM($AW$30+$AZ$32+$AW$34+$AZ$39+$AZ$42)","v":5},":",{"$f":"SUM(AZ30+AZ34+$AW$32+$AW$39+$AW$425+$AW$42)","v":5},0]
[{"$f":"VLOOKUP(B33,Vorgaben!B$10:C$16,2,FALSE)","v":{"$error":"#N/A"}},6,null,"15:05:00",null,null,null,null,null,{"$f":"IF(Vorgaben!C$1=48,'Gruppe AF8'!J33,IF(Vorgaben!C$1=42,'Gruppe AF7'!O32,IF(Vorgaben!C$1=36,'Gruppe AF6'!I26,IF(Vorgaben!C$1=30,'Gruppe AF6'!I26,IF(Vorgaben!C$1=24,'Gruppe AF6'!I26,\"F\")))))","v":"Gruppe A2"},null,null,null,null,null,null,null,null,null,null,null,null,null,null,null,null,null,null,"-",{"$f":"IF(Vorgaben!C$1=48,'Gruppe AF8'!AD33,IF(Vorgaben!C$1=42,'Gruppe AF7'!AF32,IF(Vorgaben!C$1=36,'Gruppe AF6'!AC26,IF(Vorgaben!C$1=30,'Gruppe AF6'!AC26,IF(Vorgaben!C$1=24,'Gruppe AF6'!AC26,\"\")))))","v":"Gruppe A3"},null,null,null,null,null,null,null,null,null,null,null,null,null,null,null,null,null,null,1,null,":",1,null,{"$f":"Vorgaben!$C$19","v":1},null,null,null,1,":",1,null,null,null,null,"8er"]
[{"$f":"VLOOKUP(B34,Vorgaben!B$10:C$16,2,FALSE)","v":{"$error":"#N/A"}},7,null,"15:15:00",null,null,null,null,null,{"$f":"IF(Vorgaben!C$1=48,'Gruppe AF8'!J34,IF(Vorgaben!C$1=42,'Gruppe AF7'!O33,IF(Vorgaben!C$1=36,'Gruppe AF6'!I27,IF(Vorgaben!C$1=30,'Gruppe AF6'!I27,IF(Vorgaben!C$1=24,'Gruppe AF6'!I27,\"F\")))))","v":"Gruppe A8"},null,null,null,null,null,null,null,null,null,null,null,null,null,null,null,null,null,null,"-",{"$f":"IF(Vorgaben!C$1=48,'Gruppe AF8'!AD34,IF(Vorgaben!C$1=42,'Gruppe AF7'!AF33,IF(Vorgaben!C$1=36,'Gruppe AF6'!AC27,IF(Vorgaben!C$1=30,'Gruppe AF6'!AC27,IF(Vorgaben!C$1=24,'Gruppe AF6'!AC27,\"\")))))","v":"Gruppe A5"},null,null,null,null,null,null,null,null,null,null,null,null,null,null,null,null,null,null,1,null,":",1,null,{"$f":"Vorgaben!$C$19","v":1},null,null,null,1,":",1,null,null,null,null,{"$f":"$L$20","v":"Gruppe A5"},{"$f":"COUNT($AW$30,$AZ$34,$AW$36,$AZ$41,$AW$47,$AW$51,$AZ$54)","v":7},{"$f":"SUM($BF$30+$BH$34+$BF$36+$BH$41+$BF$47+$BF$51+$BH$54)","v":5},{"$f":"SUM($AW$30+$AZ$34+$AW$36+$AZ$41+$AW$47+$AW$51+$AZ$54)","v":7},":",{"$f":"SUM($AZ$30+$AW$34+$AZ$36+$AW$41+$AZ$47+$AZ$51+$AW$54)","v":10},-3]
[{"$f":"VLOOKUP(B35,Vorgaben!B$10:C$16,2,FALSE)","v":{"$error":"#N/A"}},8,null,"15:25:00",null,null,null,null,null,{"$f":"IF(Vorgaben!C$1=48,'Gruppe AF8'!J35,IF(Vorgaben!C$1=42,'Gruppe AF7'!O34,IF(Vorgaben!C$1=36,'Gruppe AF6'!I28,IF(Vorgaben!C$1=30,'Gruppe AF6'!I28,IF(Vorgaben!C$1=24,'Gruppe AF6'!I28,\"F\")))))","v":"Gruppe A6"},null,null,null,null,null,null,null,null,null,null,null,null,null,null,null,null,null,null,"-",{"$f":"IF(Vorgaben!C$1=48,'Gruppe AF8'!AD35,IF(Vorgaben!C$1=42,'Gruppe AF7'!AF34,IF(Vorgaben!C$1=36,'Gruppe AF6'!AC28,IF(Vorgaben!C$1=30,'Gruppe AF6'!AC28,IF(Vorgaben!C$1=24,'Gruppe AF6'!AC28,\"\")))))","v":"Gruppe A7"},null,null,null,null,null,null,null,null,null,null,null,null,null,null,null,null,null,null,1,null,":",1,null,{"$f":"Vorgaben!$C$19","v":1},null,null,null,1,":",1,null,null,null,null,{"$f":"$L$22","v":"Gruppe A7"},{"$f":"COUNT($AW$31,$AZ$35,$AZ$38,$AW$41,$AZ$44,$AW$50,$AZ$55)","v":7},{"$f":"SUM($BF$31+$BH$35+$BH$38+$BF$41+$BH$44+$BF$50+$BH$55)","v":12},{"$f":"SUM($AW$31+$AZ$35+$AZ$38+$AW$41+$AZ$44+$AW$50+$AZ$55)","v":32},":",{"$f":"SUM($AZ$31+$AW$35+$AW$38+$AZ$41+$AW$44+$AZ$50+$AW$55)","v":12},20]
[{"$f":"VLOOKUP(B36,Vorgaben!B$10:C$16,2,FALSE)","v":{"$error":"#N/A"}},9,null,"15:35:00",null,null,null,null,null,{"$f":"IF(Vorgaben!C$1=48,'Gruppe AF8'!J36,IF(Vorgaben!C$1=42,'Gruppe AF7'!O35,IF(Vorgaben!C$1=36,'Gruppe AF6'!I29,IF(Vorgaben!C$1=30,'Gruppe AF6'!I29,IF(Vorgaben!C$1=24,'Gruppe AF6'!I29,\"F\")))))","v":"Gruppe A5"},null,null,null,null,null,null,null,null,null,null,null,null,null,null,null,null,null,null,"-",{"$f":"IF(Vorgaben!C$1=48,'Gruppe AF8'!AD36,IF(Vorgaben!C$1=42,'Gruppe AF7'!AF35,IF(Vorgaben!C$1=36,'Gruppe AF6'!AC29,IF(Vorgaben!C$1=30,'Gruppe AF6'!AC29,IF(Vorgaben!C$1=24,'Gruppe AF6'!AC29,\"\")))))","v":"Gruppe A4"},null,null,null,null,null,null,null,null,null,null,null,null,null,null,null,null,null,null,1,null,":",2,null,{"$f":"Vorgaben!$C$19","v":1},null,null,null,0,":",3,null,null,null,null,{"$f":"$L$18","v":"Gruppe A3"},{"$f":"COUNT($AW$29,$AZ$33,$AZ$37,$AW$43,$AZ$47,$AZ$50,$AW$53)","v":7},{"$f":"SUM($BF$29+$BH$33+$BH$37+$BF$43+$BH$47+$BH$50+$BF$53)","v":7},{"$f":"SUM($AW$29+$AZ$33+$AZ$37+$AW$43+$AZ$47+$AZ$50+$AW$53)","v":7},":",{"$f":"SUM($AZ$29+$AW$33+$AW$37+$AZ$43+$AW$47+$AW$50+$AZ$53)","v":7},0]
[{"$f":"VLOOKUP(B37,Vorgaben!B$10:C$16,2,FALSE)","v":{"$error":"#N/A"}},10,null,"15:45:00",null,null,null,null,null,{"$f":"IF(Vorgaben!C$1=48,'Gruppe AF8'!J37,IF(Vorgaben!C$1=42,'Gruppe AF7'!O36,IF(Vorgaben!C$1=36,'Gruppe AF6'!I30,IF(Vorgaben!C$1=30,'Gruppe AF6'!I30,IF(Vorgaben!C$1=24,'Gruppe AF6'!I30,\"F\")))))","v":"Gruppe A1"},null,null,null,null,null,null,null,null,null,null,null,null,null,null,null,null,null,null,"-",{"$f":"IF(Vorgaben!C$1=48,'Gruppe AF8'!AD37,IF(Vorgaben!C$1=42,'Gruppe AF7'!AF36,IF(Vorgaben!C$1=36,'Gruppe AF6'!AC30,IF(Vorgaben!C$1=30,'Gruppe AF6'!AC30,IF(Vorgaben!C$1=24,'Gruppe AF6'!AC30,\"\")))))","v":"Gruppe A3"},null,null,null,null,null,null,null,null,null,null,null,null,null,null,null,null,null,null,1,null,":",1,null,{"$f":"Vorgaben!$C$19","v":1},null,null,null,1,":",1,null,null,null,null,{"$f":"$L$17","v":"Gruppe A2"},{"$f":"COUNT($AZ$28,$AW$33,$AW$38,$AZ$40,$AW$45,$AZ$49,$AW$54)","v":7},{"$f":"SUM($BH$28+$BF$33+$BF$38+$BH$40+$BF$45+$BH$49+$BF$54)","v":9},{"$f":"SUM($AZ$28+$AW$33+$AW$38+$AZ$40+$AW$45+$AZ$49+$AW$54)","v":7},":",{"$f":"SUM($AW$28+$AZ$33+$AZ$38+$AW$40+$AZ$45+$AW$49+$AZ$54)","v":6},1]
[{"$f":"VLOOKUP(B38,Vorgaben!B$10:C$16,2,FALSE)","v":{"$error":"#N/A"}},11,null,"15:55:00",null,null,null,null,null,{"$f":"IF(Vorgaben!C$1=48,'Gruppe AF8'!J38,IF(Vorgaben!C$1=42,'Gruppe AF7'!O37,IF(Vorgaben!C$1=36,'Gruppe AF6'!I31,IF(Vorgaben!C$1=30,'Gruppe AF6'!I31,IF(Vorgaben!C$1=24,'Gruppe AF6'!I31,\"F\")))))","v":"Gruppe A2"},null,null,null,null,null,null,null,null,null,null,null,null,null,null,null,null,null,null,"-",{"$f":"IF(Vorgaben!C$1=48,'Gruppe AF8'!AD38,IF(Vorgaben!C$1=42,'Gruppe AF7'!AF37,IF(Vorgaben!C$1=36,'Gruppe AF6'!AC31,IF(Vorgaben!C$1=30,'Gruppe AF6'!AC31,IF(Vorgaben!C$1=24,'Gruppe AF6'!AC31,\"\")))))","v":"Gruppe A7"},null,null,null,null,null,null,null,null,null,null,null,null,null,null,null,null,null,null,2,null,":",1,null,{"$f":"Vorgaben!$C$19","v":1},null,null,null,3,":",0,null,null,null,null,{"$f":"$L$16","v":"Gruppe A1"},{"$f":"COUNT($AW$28,$AZ$32,$AW$37,$AZ$42,$AW$46,$AZ$51,$AW$55)","v":7},{"$f":"SUM($BF$28+$BH$32+$BF$37+$BH$42+$BF$46+$BH$51+$BF$55)","v":5},{"$f":"SUM($AW$28+$AZ$32+$AW$37+$AZ$42+$AW$46+$AZ$51+$AW$55)","v":11},":",{"$f":"SUM($AZ$28+$AW$32+$AZ$37+$AW$42+$AZ$46+$AW$51+$AZ$55)","v":30},-19]
[{"$f":"VLOOKUP(B39,Vorgaben!B$10:C$16,2,FALSE)","v":{"$error":"#N/A"}},12,null,"16:05:00",null,null,null,null,null,{"$f":"IF(Vorgaben!C$1=48,'Gruppe AF8'!J39,IF(Vorgaben!C$1=42,'Gruppe AF7'!O38,IF(Vorgaben!C$1=36,'Gruppe AF6'!I32,IF(Vorgaben!C$1=30,'Gruppe AF6'!I32,IF(Vorgaben!C$1=24,'Gruppe AF6'!I32,\"F\")))))","v":"Gruppe A6"},null,null,null,null,null,null,null,null,null,null,null,null,null,null,null,null,null,null,"-",{"$f":"IF(Vorgaben!C$1=48,'Gruppe AF8'!AD39,IF(Vorgaben!C$1=42,'Gruppe AF7'!AF38,IF(Vorgaben!C$1=36,'Gruppe AF6'!AC32,IF(Vorgaben!C$1=30,'Gruppe AF6'!AC32,IF(Vorgaben!C$1=24,'Gruppe AF6'!AC32,\"\")))))","v":"Gruppe A8"},null,null,null,null,null,null,null,null,null,null,null,null,null,null,null,null,null,null,1,null,":",1,null,{"$f":"Vorgaben!$C$19","v":1},null,null,null,1,":",1,null,null,null,null,{"$f":"$L$19","v":"Gruppe A4"},{"$f":"COUNT($AZ$29,$AW$32,$AZ$36,$AW$40,$AW$44,$AZ$48,$AW$52)","v":7},{"$f":"SUM($BH$29+$BF$32+$BH$36+$BF$40+$BF$44+$BH$48+$BF$52)","v":11},{"$f":"SUM($AZ$29+$AW$32+$AZ$36+$AW$40+$AW$44+$AZ$48+$AW$52)","v":9},":",{"$f":"SUM($AW$29+$AZ$32+$AW$36+$AZ$40+$AZ$44+$AW$48+$AZ$52)","v":6},3]
[{"$f":"VLOOKUP(B40,Vorgaben!B$10:C$16,2,FALSE)","v":{"$error":"#N/A"}},13,null,"16:15:00",null,null,null,null,null,{"$f":"IF(Vorgaben!C$1=48,'Gruppe AF8'!J40,IF(Vorgaben!C$1=42,'Gruppe AF7'!O39,IF(Vorgaben!C$1=36,'Gruppe AF6'!I33,IF(Vorgaben!C$1=30,'Gruppe AF6'!I33,IF(Vorgaben!C$1=24,'Gruppe AF6'!I33,\"F\")))))","v":"Gruppe A4"},null,null,null,null,null,null,null,null,null,null,null,null,null,null,null,null,null,null,"-",{"$f":"IF(Vorgaben!C$1=48,'Gruppe AF8'!AD40,IF(Vorgaben!C$1=42,'Gruppe AF7'!AF39,IF(Vorgaben!C$1=36,'Gruppe AF6'!AC33,IF(Vorgaben!C$1=30,'Gruppe AF6'!AC33,IF(Vorgaben!C$1=24,'Gruppe AF6'!AC33,\"\")))))","v":"Gruppe A2"},null,null,null,null,null,null,null,null,null,null,null,null,null,null,null,null,null,null,1,null,":",1,null,{"$f":"Vorgaben!$C$19","v":1},null,null,null,1,":",1,null,null,null,null,{"$f":"$L$23","v":"Gruppe A8"},{"$f":"COUNT($AZ$31,$AW$34,$AZ$39,$AW$42,$AZ$45,$AW$48,$AZ$53)","v":7},{"$f":"SUM($BH$31+$BF$34+$BH$39+$BF$42+$BH$45+$BF$48+$BH$53)","v":6},{"$f":"SUM($AZ$31+$AW$34+$AZ$39+$AW$42+$AZ$45+$AW$48+$AZ$53)","v":7},":",{"$f":"SUM($AW$31+$AZ$34+$AW$39+$AZ$42+$AW$45+$AZ$48+$AW$53)","v":9},-2]
[{"$f":"VLOOKUP(B41,Vorgaben!B$10:C$16,2,FALSE)","v":{"$error":"#N/A"}},14,null,"16:25:00",null,null,null,null,null,{"$f":"IF(Vorgaben!C$1=48,'Gruppe AF8'!J41,IF(Vorgaben!C$1=42,'Gruppe AF7'!O40,IF(Vorgaben!C$1=36,'Gruppe AF6'!I34,IF(Vorgaben!C$1=30,'Gruppe AF6'!I34,IF(Vorgaben!C$1=24,'Gruppe AF6'!I34,\"F\")))))","v":"Gruppe A7"},null,null,null,null,null,null,null,null,null,null,null,null,null,null,null,null,null,null,"-",{"$f":"IF(Vorgaben!C$1=48,'Gruppe AF8'!AD41,IF(Vorgaben!C$1=42,'Gruppe AF7'!AF40,IF(Vorgaben!C$1=36,'Gruppe AF6'!AC34,IF(Vorgaben!C$1=30,'Gruppe AF6'!AC34,IF(Vorgaben!C$1=24,'Gruppe AF6'!AC34,\"\")))))","v":"Gruppe A5"},null,null,null,null,null,null,null,null,null,null,null,null,null,null,null,null,null,null,3,null,":",1,null,{"$f":"Vorgaben!$C$19","v":1},null,null,null,3,":",0,null,null,null,null,{"$f":"$L$21","v":"Gruppe A6"},{"$f":"COUNT($AZ$30,$AW$35,$AW$39,$AZ$43,$AZ$46,$AW$49,$AZ$52)","v":7},{"$f":"SUM($BH$30+$BF$35+$BF$39+$BH$43+$BH$46+$BF$49+$BH$52)","v":8},{"$f":"SUM($AZ$30+$AW$35+$AW$39+$AZ$43+$AZ$46+$AW$49+$AZ$52)","v":7},":",{"$f":"SUM($AW$30+$AZ$35+$AZ$39+$AW$43+$AW$46+$AZ$49+$AW$52)","v":7},0]
[{"$f":"VLOOKUP(B42,Vorgaben!B$10:C$16,2,FALSE)","v":{"$error":"#N/A"}},15,null,"16:35:00",null,null,null,null,null,{"$f":"IF(Vorgaben!C$1=48,'Gruppe AF8'!J42,IF(Vorgaben!C$1=42,'Gruppe AF7'!O41,IF(Vorgaben!C$1=36,'Gruppe AF6'!I35,IF(Vorgaben!C$1=30,'Gruppe AF6'!I35,IF(Vorgaben!C$1=24,'Gruppe AF6'!I35,\"F\")))))","v":"Gruppe A8"},null,null,null,null,null,null,null,null,null,null,null,null,null,null,null,null,null,null,"-",{"$f":"IF(Vorgaben!C$1=48,'Gruppe AF8'!AD42,IF(Vorgaben!C$1=42,'Gruppe AF7'!AF41,IF(Vorgaben!C$1=36,'Gruppe AF6'!AC35,IF(Vorgaben!C$1=30,'Gruppe AF6'!AC35,IF(Vorgaben!C$1=24,'Gruppe AF6'!AC35,\"\")))))","v":"Gruppe A1"},null,null,null,null,null,null,null,null,null,null,null,null,null,null,null,null,null,null,1,null,":",1,null,{"$f":"Vorgaben!$C$19","v":1},null,null,null,1,":",1,null,null,null,null,"7er"]
[{"$f":"VLOOKUP(B43,Vorgaben!B$10:C$16,2,FALSE)","v":{"$error":"#N/A"}},16,null,"16:45:00",null,null,null,null,null,{"$f":"IF(Vorgaben!C$1=48,'Gruppe AF8'!J43,IF(Vorgaben!C$1=42,'Gruppe AF7'!O42,\"\"))","v":"Gruppe A3"},null,null,null,null,null,null,null,null,null,null,null,null,null,null,null,null,null,null,"-",{"$f":"IF(Vorgaben!C$1=48,'Gruppe AF8'!AD43,IF(Vorgaben!C$1=42,'Gruppe AF7'!AF42,\"\"))","v":"Gruppe A6"},null,null,null,null,null,null,null,null,null,null,null,null,null,null,null,null,null,null,1,null,":",1,null,{"$f":"Vorgaben!$C$19","v":1},null,null,null,1,":",1,null,null,null,null,{"$f":"$L$16","v":"Gruppe A1"},{"$f":"COUNT(AW28,AZ31,AW34,AZ37,AW40,AZ43)","v":6},{"$f":"SUM(BF28,BH31,BF34,BH37,BF40,BH43)","v":5},{"$f":"SUM(AW28,AZ31,AW34,AZ37,AW40,AZ43)","v":6},":",{"$f":"SUM(AZ28+AW31+AW37+AW43+AZ40+AZ34)","v":8},-2]
[{"$f":"VLOOKUP(B44,Vorgaben!B$10:C$16,2,FALSE)","v":{"$error":"#N/A"}},17,null,"16:55:00",null,null,null,null,null,{"$f":"IF(Vorgaben!C$1=48,'Gruppe AF8'!J44,IF(Vorgaben!C$1=42,'Gruppe AF7'!O43,\"\"))","v":"Gruppe A4"},null,null,null,null,null,null,null,null,null,null,null,null,null,null,null,null,null,null,"-",{"$f":"IF(Vorgaben!C$1=48,'Gruppe AF8'!AD44,IF(Vorgaben!C$1=42,'Gruppe AF7'!AF43,\"\"))","v":"Gruppe A7"},null,null,null,null,null,null,null,null,null,null,null,null,null,null,null,null,null,null,1,null,":",1,null,{"$f":"Vorgaben!$C$19","v":1},null,null,null,1,":",1,null,null,null,null,{"$f":"$L$18","v":"Gruppe A3"},{"$f":"COUNT(AW29,AW33,AZ36,AZ38,AW43,AZ46)","v":6},{"$f":"SUM(BF29,BF33,BH36,BH38,BF43,BH46)","v":9},{"$f":"SUM(AW29,AW33,AZ36,AZ38,AW43,AZ46)","v":9},":",{"$f":"SUM(AZ29+AZ33+AW36+AW38+AZ43+AW46)","v":7},2]
[{"$f":"VLOOKUP(B45,Vorgaben!B$10:C$16,2,FALSE)","v":{"$error":"#N/A"}},18,null,"17:05:00",null,null,null,null,null,{"$f":"IF(Vorgaben!C$1=48,'Gruppe AF8'!J45,IF(Vorgaben!C$1=42,'Gruppe AF7'!O44,\"\"))","v":"Gruppe A2"},null,null,null,null,null,null,null,null,null,null,null,null,null,null,null,null,null,null,"-",{"$f":"IF(Vorgaben!C$1=48,'Gruppe AF8'!AD45,IF(Vorgaben!C$1=42,'Gruppe AF7'!AF44,\"\"))","v":"Gruppe A8"},null,null,null,null,null,null,null,null,null,null,null,null,null,null,null,null,null,null,1,null,":",1,null,{"$f":"Vorgaben!$C$19","v":1},null,null,null,1,":",1,null,null,null,null,{"$f":"$L$17","v":"Gruppe A2"},{"$f":"COUNT(AZ28,AW32,AW36,AZ39,AW42,AZ47)","v":6},{"$f":"SUM(BH28,BF32,BF36,BH39,BF42,BH47)","v":5},{"$f":"SUM(AZ28,AW32,AW36,AZ39,AW42,AZ47)","v":6},":",{"$f":"SUM(AW28+AZ32+AZ36+AW39+AZ42+AW47)","v":7},-1]
[{"$f":"VLOOKUP(B46,Vorgaben!B$10:C$16,2,FALSE)","v":{"$error":"#N/A"}},19,null,"17:15:00",null,null,null,null,null,{"$f":"IF(Vorgaben!C$1=48,'Gruppe AF8'!J46,IF(Vorgaben!C$1=42,'Gruppe AF7'!O45,\"\"))","v":"Gruppe A1"},null,null,null,null,null,null,null,null,null,null,null,null,null,null,null,null,null,null,"-",{"$f":"IF(Vorgaben!C$1=48,'Gruppe AF8'!AD46,IF(Vorgaben!C$1=42,'Gruppe AF7'!AF45,\"\"))","v":"Gruppe A6"},null,null,null,null,null,null,null,null,null,null,null,null,null,null,null,null,null,null,1,null,":",3,null,{"$f":"Vorgaben!$C$19","v":1},null,null,null,0,":",3,null,null,null,null,{"$f":"$L$19","v":"Gruppe A4"},{"$f":"COUNT(AZ29,AZ32,AW35,AZ40,AW44,AW48)","v":6},{"$f":"SUM(BH29,BH32,BF35,BH40,BF44,BF48)","v":6},{"$f":"SUM(AZ29,AZ32,AW35,AZ40,AW44,AW48)","v":6},":",{"$f":"SUM(AW29+AW32+AZ35+AW40+AZ44+AZ48)","v":6},0]
[{"$f":"VLOOKUP(B47,Vorgaben!B$10:C$16,2,FALSE)","v":{"$error":"#N/A"}},20,null,"17:25:00",null,null,null,null,null,{"$f":"IF(Vorgaben!C$1=48,'Gruppe AF8'!J47,IF(Vorgaben!C$1=42,'Gruppe AF7'!O46,\"\"))","v":"Gruppe A5"},null,null,null,null,null,null,null,null,null,null,null,null,null,null,null,null,null,null,"-",{"$f":"IF(Vorgaben!C$1=48,'Gruppe AF8'!AD47,IF(Vorgaben!C$1=42,'Gruppe AF7'!AF46,\"\"))","v":"Gruppe A3"},null,null,null,null,null,null,null,null,null,null,null,null,null,null,null,null,null,null,1,null,":",1,null,{"$f":"Vorgaben!$C$19","v":1},null,null,null,1,":",1,null,null,null,null,{"$f":"$L$22","v":"Gruppe A7"},{"$f":"COUNT(AW31,AZ35,AW38,AZ41,AZ45,AW47)","v":6},{"$f":"SUM(BF31,BH35,BF38,BH41,BH45,BF47)","v":9},{"$f":"SUM(AW31,AZ35,AW38,AZ41,AZ45,AW47)","v":9},":",{"$f":"SUM(AZ31+AW35+AZ38+AW41+AW45+AZ47)","v":8},1]
[{"$f":"VLOOKUP(B48,Vorgaben!B$10:C$16,2,FALSE)","v":{"$error":"#N/A"}},21,null,"17:35:00",null,null,null,null,null,{"$f":"IF(Vorgaben!C$1=48,'Gruppe AF8'!J48,IF(Vorgaben!C$1=42,'Gruppe AF7'!O47,\"\"))","v":"Gruppe A8"},null,null,null,null,null,null,null,null,null,null,null,null,null,null,null,null,null,null,"-",{"$f":"IF(Vorgaben!C$1=48,'Gruppe AF8'!AD48,IF(Vorgaben!C$1=42,'Gruppe AF7'!AF47,\"\"))","v":"Gruppe A4"},null,null,null,null,null,null,null,null,null,null,null,null,null,null,null,null,null,null,1,null,":",1,null,{"$f":"Vorgaben!$C$19","v":1},null,null,null,1,":",1,null,null,null,null,{"$f":"$L$20","v":"Gruppe A5"},{"$f":"COUNT(AW30,AZ33,AW37,AZ42,AW45,AZ48)","v":6},{"$f":"SUM(BF30,BH33,BF37,BH42,BF45,BH48)","v":6},{"$f":"SUM(AW30,AZ33,AW37,AZ42,AW45,AZ48)","v":6},":",{"$f":"SUM(AZ30+AW33+AZ37+AW42+AZ45+AW48)","v":6},0]
[{"$f":"VLOOKUP(B49,Vorgaben!B$10:C$16,2,FALSE)","v":{"$error":"#N/A"}},22,null,"17:45:00",null,null,null,null,null,{"$f":"IF(Vorgaben!C$1=48,'Gruppe AF8'!J49,\"\")","v":"Gruppe A6"},null,null,null,null,null,null,null,null,null,null,null,null,null,null,null,null,null,null,"-",{"$f":"IF(Vorgaben!C$1=48,'Gruppe AF8'!AD49,\"\")","v":"Gruppe A2"},null,null,null,null,null,null,null,null,null,null,null,null,null,null,null,null,null,null,0,null,":",0,null,{"$f":"Vorgaben!$C$19","v":1},null,null,null,1,":",1,null,null,null,null,{"$f":"$L$21","v":"Gruppe A6"},{"$f":"COUNT(AZ30,AZ34,AW39,AW41,AZ44,AW46)","v":6},{"$f":"SUM(BH30,BH34,BF39,BF41,BH44,BF46)","v":7},{"$f":"SUM(AZ30,AZ34,AW39,AW41,AZ44,AW46)","v":8},":",{"$f":"SUM(AW30+AW34+AZ39+AZ41+AW44+AZ46)","v":8},0]
[{"$f":"VLOOKUP(B50,Vorgaben!B$10:C$16,2,FALSE)","v":{"$error":"#N/A"}},23,null,"17:55:00",null,null,null,null,null,{"$f":"IF(Vorgaben!C$1=48,'Gruppe AF8'!J50,\"\")","v":"Gruppe A7"},null,null,null,null,null,null,null,null,null,null,null,null,null,null,null,null,null,null,"-",{"$f":"IF(Vorgaben!C$1=48,'Gruppe AF8'!AD50,\"\")","v":"Gruppe A3"},null,null,null,null,null,null,null,null,null,null,null,null,null,null,null,null,null,null,1,null,":",1,null,{"$f":"Vorgaben!$C$19","v":1},null,null,null,1,":",1]
[{"$f":"VLOOKUP(B51,Vorgaben!B$10:C$16,2,FALSE)","v":{"$error":"#N/A"}},24,null,"18:05:00",null,null,null,null,null,{"$f":"IF(Vorgaben!C$1=48,'Gruppe AF8'!J51,\"\")","v":"Gruppe A5"},null,null,null,null,null,null,null,null,null,null,null,null,null,null,null,null,null,null,"-",{"$f":"IF(Vorgaben!C$1=48,'Gruppe AF8'!AD51,\"\")","v":"Gruppe A1"},null,null,null,null,null,null,null,null,null,null,null,null,null,null,null,null,null,null,1,null,":",1,null,{"$f":"Vorgaben!$C$19","v":1},null,null,null,1,":",1]
[{"$f":"VLOOKUP(B52,Vorgaben!B$10:C$16,2,FALSE)","v":{"$error":"#N/A"}},25,null,"18:15:00",null,null,null,null,null,{"$f":"IF(Vorgaben!C$1=48,'Gruppe AF8'!J52,\"\")","v":"Gruppe A4"},null,null,null,null,null,null,null,null,null,null,null,null,null,null,null,null,null,null,"-",{"$f":"IF(Vorgaben!C$1=48,'Gruppe AF8'!AD52,\"\")","v":"Gruppe A6"},null,null,null,null,null,null,null,null,null,null,null,null,null,null,null,null,null,null,2,null,":",0,null,{"$f":"Vorgaben!$C$19","v":1},null,null,null,3,":",0]
[{"$f":"VLOOKUP(B53,Vorgaben!B$10:C$16,2,FALSE)","v":{"$error":"#N/A"}},26,null,"18:25:00",null,null,null,null,null,{"$f":"IF(Vorgaben!C$1=48,'Gruppe AF8'!J53,\"\")","v":"Gruppe A3"},null,null,null,null,null,null,null,null,null,null,null,null,null,null,null,null,null,null,"-",{"$f":"IF(Vorgaben!C$1=48,'Gruppe AF8'!AD53,\"\")","v":"Gruppe A8"},null,null,null,null,null,null,null,null,null,null,null,null,null,null,null,null,null,null,1,null,":",1,null,{"$f":"Vorgaben!$C$19","v":1},null,null,null,1,":",1]
[{"$f":"VLOOKUP(B54,Vorgaben!B$10:C$16,2,FALSE)","v":{"$error":"#N/A"}},27,null,"18:35:00",null,null,null,null,null,{"$f":"IF(Vorgaben!C$1=48,'Gruppe AF8'!J54,\"\")","v":"Gruppe A2"},null,null,null,null,null,null,null,null,null,null,null,null,null,null,null,null,null,null,"-",{"$f":"IF(Vorgaben!C$1=48,'Gruppe AF8'!AD54,\"\")","v":"Gruppe A5"},null,null,null,null,null,null,null,null,null,null,null,null,null,null,null,null,null,null,1,null,":",1,null,{"$f":"Vorgaben!$C$19","v":1},null,null,null,1,":",1]
[{"$f":"VLOOKUP(B55,Vorgaben!B$10:C$16,2,FALSE)","v":{"$error":"#N/A"}},28,null,"18:45:00",null,null,null,null,null,{"$f":"IF(Vorgaben!C$1=48,'Gruppe AF8'!J55,\"\")","v":"Gruppe A1"},null,null,null,null,null,null,null,null,null,null,null,null,null,null,null,null,null,null,"-",{"$f":"IF(Vorgaben!C$1=48,'Gruppe AF8'!AD55,\"\")","v":"Gruppe A7"},null,null,null,null,null,null,null,null,null,null,null,null,null,null,null,null,null,null,5,null,":",22,null,{"$f":"Vorgaben!$C$19","v":1},null,null,null,0,":",3]
[]
[]
[null,"III. Abschlußtabelle"]
[]
[null,null,null,null,null,null,null,null,"Mannschaften",null,null,null,null,null,null,null,null,null,null,null,null,null,null,null,null,null,null,null,null,null,null,null,null,null,null,null,"Sp.",null,null,"Pkt.",null,null,"Tore",null,null,null,null,"Diff."]
[null,null,null,null,null,null,null,null,"1.",null,{"$f":"IF(Vorgaben!C$1=48,'Gruppe AF8'!K61,IF(Vorgaben!C$1=42,'Gruppe AF7'!K53,IF(Vorgaben!C$1=36,'Gruppe AF6'!K40,'Gruppe AF6'!K40:AH40)))","v":"Gruppe A7"},null,null,null,null,null,null,null,null,null,null,null,null,null,null,null,null,null,null,null,null,null,null,null,null,null,{"$f":"IF(Vorgaben!C$1=48,'Gruppe AF8'!AK61,IF(Vorgaben!C$1=42,'Gruppe AF7'!AK53:AM53,IF(Vorgaben!C$1=36,'Gruppe AF6'!AI40,IF(Vorgaben!C$1=30,'Gruppe AF6'!AI40,'Gruppe AF6'!AI40))))","v":7},null,null,{"$f":"IF(Vorgaben!C$1=48,'Gruppe AF8'!AN61,IF(Vorgaben!C$1=42,'Gruppe AF7'!AN53:AP53,IF(Vorgaben!C$1=36,'Gruppe AF6'!AL40,IF(Vorgaben!C$1=30,'Gruppe AF6'!AL40,'Gruppe AF6'!BO27))))","v":12},null,null,{"$f":"IF(Vorgaben!C$1=48,'Gruppe AF8'!AQ61,IF(Vorgaben!C$1=42,'Gruppe AF7'!AQ53:AR53,IF(Vorgaben!C$1=36,'Gruppe AF6'!AO40,IF(Vorgaben!C$1=30,'Gruppe AF6'!AL40,'Gruppe AF6'!BP27))))","v":32},null,":",{"$f":"IF(Vorgaben!C$1=48,'Gruppe AF8'!AT61,IF(Vorgaben!C$1=42,'Gruppe AF7'!AT53:AU53,IF(Vorgaben!C$1=36,'Gruppe AF6'!AR40,IF(Vorgaben!C$1=30,'Gruppe AF6'!AR40,'Gruppe AF6'!BR27))))","v":12},null,{"$f":"IF(Vorgaben!C$1=48,'Gruppe AF8'!AV61,IF(Vorgaben!C$1=42,'Gruppe AF7'!AV53,IF(Vorgaben!C$1=36,'Gruppe AF6'!AT40,IF(Vorgaben!C$1=30,'Gruppe AF6'!AT40,'Gruppe AF6'!BS27))))","v":20}]
[null,null,null,null,null,null,null,null,"2.",null,{"$f":"IF(Vorgaben!C$1=48,'Gruppe AF8'!K62,IF(Vorgaben!C$1=42,'Gruppe AF7'!K54,IF(Vorgaben!C$1=36,'Gruppe AF6'!K41,'Gruppe AF6'!K41:AH41)))","v":"Gruppe A4"},null,null,null,null,null,null,null,null,null,null,null,null,null,null,null,null,null,null,null,null,null,null,null,null,null,{"$f":"IF(Vorgaben!C$1=48,'Gruppe AF8'!AK62,IF(Vorgaben!C$1=42,'Gruppe AF7'!AK54:AM54,IF(Vorgaben!C$1=36,'Gruppe AF6'!AI41,IF(Vorgaben!C$1=30,'Gruppe AF6'!AI41,'Gruppe AF6'!AI41))))","v":7},null,null,{"$f":"IF(Vorgaben!C$1=48,'Gruppe AF8'!AN62,IF(Vorgaben!C$1=42,'Gruppe AF7'!AN54:AP54,IF(Vorgaben!C$1=36,'Gruppe AF6'!AL41,IF(Vorgaben!C$1=30,'Gruppe AF6'!AL41,'Gruppe AF6'!BO28))))","v":11},null,null,{"$f":"IF(Vorgaben!C$1=48,'Gruppe AF8'!AQ62,IF(Vorgaben!C$1=42,'Gruppe AF7'!AQ54:AR54,IF(Vorgaben!C$1=36,'Gruppe AF6'!AO41,IF(Vorgaben!C$1=30,'Gruppe AF6'!AL41,'Gruppe AF6'!BP28))))","v":9},null,":",{"$f":"IF(Vorgaben!C$1=48,'Gruppe AF8'!AT62,IF(Vorgaben!C$1=42,'Gruppe AF7'!AT54:AU54,IF(Vorgaben!C$1=36,'Gruppe AF6'!AR41,IF(Vorgaben!C$1=30,'Gruppe AF6'!AR41,'Gruppe AF6'!BR28))))","v":6},null,{"$f":"IF(Vorgaben!C$1=48,'Gruppe AF8'!AV62,IF(Vorgaben!C$1=42,'Gruppe AF7'!AV54,IF(Vorgaben!C$1=36,'Gruppe AF6'!AT41,IF(Vorgaben!C$1=30,'Gruppe AF6'!AT41,'Gruppe AF6'!BS28))))","v":3}]
[null,null,null,null,null,null,null,null,"3.",null,{"$f":"IF(Vorgaben!C$1=48,'Gruppe AF8'!K63,IF(Vorgaben!C$1=42,'Gruppe AF7'!K55,IF(Vorgaben!C$1=36,'Gruppe AF6'!K42,'Gruppe AF6'!K42:AH42)))","v":"Gruppe A2"},null,null,null,null,null,null,null,null,null,null,null,null,null,null,null,null,null,null,null,null,null,null,null,null,null,{"$f":"IF(Vorgaben!C$1=48,'Gruppe AF8'!AK63,IF(Vorgaben!C$1=42,'Gruppe AF7'!AK55:AM55,IF(Vorgaben!C$1=36,'Gruppe AF6'!AI42,IF(Vorgaben!C$1=30,'Gruppe AF6'!AI42,'Gruppe AF6'!AI42))))","v":7},null,null,{"$f":"IF(Vorgaben!C$1=48,'Gruppe AF8'!AN63,IF(Vorgaben!C$1=42,'Gruppe AF7'!AN55:AP55,IF(Vorgaben!C$1=36,'Gruppe AF6'!AL42,IF(Vorgaben!C$1=30,'Gruppe AF6'!AL42,'Gruppe AF6'!BO29))))","v":9},null,null,{"$f":"IF(Vorgaben!C$1=48,'Gruppe AF8'!AQ63,IF(Vorgaben!C$1=42,'Gruppe AF7'!AQ55:AR55,IF(Vorgaben!C$1=36,'Gruppe AF6'!AO42,IF(Vorgaben!C$1=30,'Gruppe AF6'!AL42,'Gruppe AF6'!BP29))))","v":7},null,":",{"$f":"IF(Vorgaben!C$1=48,'Gruppe AF8'!AT63,IF(Vorgaben!C$1=42,'Gruppe AF7'!AT55:AU55,IF(Vorgaben!C$1=36,'Gruppe AF6'!AR42,IF(Vorgaben!C$1=30,'Gruppe AF6'!AR42,'Gruppe AF6'!BR29))))","v":6},null,{"$f":"IF(Vorgaben!C$1=48,'Gruppe AF8'!AV63,IF(Vorgaben!C$1=42,'Gruppe AF7'!AV55,IF(Vorgaben!C$1=36,'Gruppe AF6'!AT42,IF(Vorgaben!C$1=30,'Gruppe AF6'!AT42,'Gruppe AF6'!BS29))))","v":1}]
[null,null,null,null,null,null,null,null,"4.",null,{"$f":"IF(Vorgaben!C$1=48,'Gruppe AF8'!K64,IF(Vorgaben!C$1=42,'Gruppe AF7'!K56,IF(Vorgaben!C$1=36,'Gruppe AF6'!K43,'Gruppe AF6'!K43:AH43)))","v":"Gruppe A6"},null,null,null,null,null,null,null,null,null,null,null,null,null,null,null,null,null,null,null,null,null,null,null,null,null,{"$f":"IF(Vorgaben!C$1=48,'Gruppe AF8'!AK64,IF(Vorgaben!C$1=42,'Gruppe AF7'!AK56:AM56,IF(Vorgaben!C$1=36,'Gruppe AF6'!AI43,IF(Vorgaben!C$1=30,'Gruppe AF6'!AI43,'Gruppe AF6'!AI43))))","v":7},null,null,{"$f":"IF(Vorgaben!C$1=48,'Gruppe AF8'!AN64,IF(Vorgaben!C$1=42,'Gruppe AF7'!AN56:AP56,IF(Vorgaben!C$1=36,'Gruppe AF6'!AL43,IF(Vorgaben!C$1=30,'Gruppe AF6'!AL43,'Gruppe AF6'!BO30))))","v":8},null,null,{"$f":"IF(Vorgaben!C$1=48,'Gruppe AF8'!AQ64,IF(Vorgaben!C$1=42,'Gruppe AF7'!AQ56:AR56,IF(Vorgaben!C$1=36,'Gruppe AF6'!AO43,IF(Vorgaben!C$1=30,'Gruppe AF6'!AL43,'Gruppe AF6'!BP30))))","v":7},null,":",{"$f":"IF(Vorgaben!C$1=48,'Gruppe AF8'!AT64,IF(Vorgaben!C$1=42,'Gruppe AF7'!AT56:AU56,IF(Vorgaben!C$1=36,'Gruppe AF6'!AR43,IF(Vorgaben!C$1=30,'Gruppe AF6'!AR43,'Gruppe AF6'!BR30))))","v":7},null,{"$f":"IF(Vorgaben!C$1=48,'Gruppe AF8'!AV64,IF(Vorgaben!C$1=42,'Gruppe AF7'!AV56,IF(Vorgaben!C$1=36,'Gruppe AF6'!AT43,IF(Vorgaben!C$1=30,'Gruppe AF6'!AT43,'Gruppe AF6'!BS30))))","v":0}]
[null,null,null,null,null,null,null,null,"5.",null,{"$f":"IF(Vorgaben!C$1=48,'Gruppe AF8'!K65,IF(Vorgaben!C$1=42,'Gruppe AF7'!K57,IF(Vorgaben!C$1=36,'Gruppe AF6'!K44,'Gruppe AF6'!K44:AH44)))","v":"Gruppe A3"},null,null,null,null,null,null,null,null,null,null,null,null,null,null,null,null,null,null,null,null,null,null,null,null,null,{"$f":"IF(Vorgaben!C$1=48,'Gruppe AF8'!AK65,IF(Vorgaben!C$1=42,'Gruppe AF7'!AK57:AM57,IF(Vorgaben!C$1=36,'Gruppe AF6'!AI44,IF(Vorgaben!C$1=30,'Gruppe AF6'!AI44,'Gruppe AF6'!AI44))))","v":7},null,null,{"$f":"IF(Vorgaben!C$1=48,'Gruppe AF8'!AN65,IF(Vorgaben!C$1=42,'Gruppe AF7'!AN57:AP57,IF(Vorgaben!C$1=36,'Gruppe AF6'!AL44,IF(Vorgaben!C$1=30,'Gruppe AF6'!AL44,'Gruppe AF6'!BO31))))","v":7},null,null,{"$f":"IF(Vorgaben!C$1=48,'Gruppe AF8'!AQ65,IF(Vorgaben!C$1=42,'Gruppe AF7'!AQ57:AR57,IF(Vorgaben!C$1=36,'Gruppe AF6'!AO44,IF(Vorgaben!C$1=30,'Gruppe AF6'!AL44,'Gruppe AF6'!BP31))))","v":7},null,":",{"$f":"IF(Vorgaben!C$1=48,'Gruppe AF8'!AT65,IF(Vorgaben!C$1=42,'Gruppe AF7'!AT57:AU57,IF(Vorgaben!C$1=36,'Gruppe AF6'!AR44,IF(Vorgaben!C$1=30,'Gruppe AF6'!AR44,'Gruppe AF6'!BR31))))","v":7},null,{"$f":"IF(Vorgaben!C$1=48,'Gruppe AF8'!AV65,IF(Vorgaben!C$1=42,'Gruppe AF7'!AV57,IF(Vorgaben!C$1=36,'Gruppe AF6'!AT44,IF(Vorgaben!C$1=30,'Gruppe AF6'!AT44,'Gruppe AF6'!BS31))))","v":0}]
[null,null,null,null,null,null,null,null,"6.",null,{"$f":"IF(Vorgaben!C$1=48,'Gruppe AF8'!K66,IF(Vorgaben!C$1=42,'Gruppe AF7'!K58,IF(Vorgaben!C$1=36,'Gruppe AF6'!K45,'Gruppe AF6'!K45:AH45)))","v":"Gruppe A8"},null,null,null,null,null,null,null,null,null,null,null,null,null,null,null,null,null,null,null,null,null,null,null,null,null,{"$f":"IF(Vorgaben!C$1=48,'Gruppe AF8'!AK66,IF(Vorgaben!C$1=42,'Gruppe AF7'!AK58:AM58,IF(Vorgaben!C$1=36,'Gruppe AF6'!AI45,IF(Vorgaben!C$1=30,'Gruppe AF6'!AI45,'Gruppe AF6'!AI45))))","v":7},null,null,{"$f":"IF(Vorgaben!C$1=48,'Gruppe AF8'!AN66,IF(Vorgaben!C$1=42,'Gruppe AF7'!AN58:AP58,IF(Vorgaben!C$1=36,'Gruppe AF6'!AL45,IF(Vorgaben!C$1=30,'Gruppe AF6'!AL45,'Gruppe AF6'!BO32))))","v":6},null,null,{"$f":"IF(Vorgaben!C$1=48,'Gruppe AF8'!AQ66,IF(Vorgaben!C$1=42,'Gruppe AF7'!AQ58:AR58,IF(Vorgaben!C$1=36,'Gruppe AF6'!AO45,IF(Vorgaben!C$1=30,'Gruppe AF6'!AL45,'Gruppe AF6'!BP32))))","v":7},null,":",{"$f":"IF(Vorgaben!C$1=48,'Gruppe AF8'!AT66,IF(Vorgaben!C$1=42,'Gruppe AF7'!AT58:AU58,IF(Vorgaben!C$1=36,'Gruppe AF6'!AR45,IF(Vorgaben!C$1=30,'Gruppe AF6'!AR45,'Gruppe AF6'!BR32))))","v":9},null,{"$f":"IF(Vorgaben!C$1=48,'Gruppe AF8'!AV66,IF(Vorgaben!C$1=42,'Gruppe AF7'!AV58,IF(Vorgaben!C$1=36,'Gruppe AF6'!AT45,IF(Vorgaben!C$1=30,'Gruppe AF6'!AT45,'Gruppe AF6'!BS32))))","v":-2}]
[null,null,null,null,null,null,null,null,"7.",null,{"$f":"IF(Vorgaben!C$1=48,'Gruppe AF8'!K67,IF(Vorgaben!C$1=42,'Gruppe AF7'!K59,\"\"))","v":"Gruppe A5"},null,null,null,null,null,null,null,null,null,null,null,null,null,null,null,null,null,null,null,null,null,null,null,null,null,{"$f":"IF(Vorgaben!C$1=48,'Gruppe AF8'!AK67,IF(Vorgaben!C$1=42,'Gruppe AF7'!AK59:AM59,IF(Vorgaben!C$1=36,'Gruppe AF6'!AI46,IF(Vorgaben!C$1=30,'Gruppe AF6'!AI46,'Gruppe AF6'!AI46))))","v":7},null,null,{"$f":"IF(Vorgaben!C$1=48,'Gruppe AF8'!AN67,IF(Vorgaben!C$1=42,'Gruppe AF7'!AN59:AP59,\"\"))","v":5},null,null,{"$f":"IF(Vorgaben!C$1=48,'Gruppe AF8'!AQ67,IF(Vorgaben!C$1=42,'Gruppe AF7'!AQ59:AR59,\"\"))","v":7},null,":",{"$f":"IF(Vorgaben!C$1=48,'Gruppe AF8'!AT67,IF(Vorgaben!C$1=42,'Gruppe AF7'!AT59:AU59,\"\"))","v":10},null,{"$f":"IF(Vorgaben!C$1=48,'Gruppe AF8'!AV67,IF(Vorgaben!C$1=42,'Gruppe AF7'!AV59,\"\"))","v":-3}]
[null,null,null,null,null,null,null,null,"8.",null,{"$f":"IF(Vorgaben!C$1=48,'Gruppe AF8'!K68,\"\")","v":"Gruppe A1"},null,null,null,null,null,null,null,null,null,null,null,null,null,null,null,null,null,null,null,null,null,null,null,null,null,{"$f":"IF(Vorgaben!C$1=48,'Gruppe AF8'!AK68,IF(Vorgaben!C$1=42,'Gruppe AF7'!AK60:AM60,IF(Vorgaben!C$1=36,'Gruppe AF6'!AI47,IF(Vorgaben!C$1=30,'Gruppe AF6'!AI47,'Gruppe AF6'!AI47))))","v":7},null,null,{"$f":"IF(Vorgaben!C$1=48,'Gruppe AF8'!AN68,\"\")","v":5},null,null,{"$f":"IF(Vorgaben!C$1=48,'Gruppe AF8'!AQ68,\"\")","v":11},null,":",{"$f":"IF(Vorgaben!C$1=48,'Gruppe AF8'!AT68,\"\")","v":30},null,{"$f":"IF(Vorgaben!C$1=48,'Gruppe AF8'!AV68,\"\")","v":-19}]

{"sheet":"Gruppe B1","index":8,"n_rows":68,"n_cols":71,"rows_kept":68,"cut":false,"hidden":false,"merged":[[9,7,9,11],[9,20,9,21],[9,23,9,27],[9,37,9,41],[14,9,14,46],[14,47,14,48],[1,0,1,54],[2,0,2,54],[3,0,3,41],[5,12,5,19],[5,24,5,31],[7,1,7,38],[9,48,9,52],[17,9,17,10],[17,11,17,46],[17,47,17,48],[18,9,18,10],[18,11,18,46],[18,47,18,48],[15,9,15,10],[15,11,15,46],[15,47,15,48],[16,9,16,10],[16,11,16,46],[16,47,16,48],[21,9,21,10],[21,11,21,46],[21,47,21,48],[22,9,22,10],[22,11,22,46],[22,47,22,48],[19,9,19,10],[19,11,19,46],[19,47,19,48],[20,9,20,10],[20,11,20,46],[20,47,20,48],[26,1,26,2],[26,3,26,8],[26,10,26,47],[26,48,26,52],[26,53,26,54],[27,1,27,2],[27,3,27,8],[27,9,27,27],[27,29,27,47],[27,53,27,54],[27,51,27,52],[27,48,27,49],[28,1,28,2],[28,3,28,8],[28,9,28,27],[28,29,28,47],[28,53,28,54],[29,53,29,54],[30,1,30,2],[30,3,30,8],[30,9,30,27],[30,29,30,47],[30,53,30,54],[29,1,29,2],[29,3,29,8],[29,9,29,27],[29,29,29,47],[28,51,28,52],[28,48,28,49],[30,48,30,49],[29,48,29,49],[30,51,30,52],[29,51,29,52],[31,53,31,54],[32,1,32,2],[32,3,32,8],[32,9,32,27],[32,29,32,47],[32,53,32,54],[31,1,31,2],[31,3,31,8],[31,9,31,27],[31,29,31,47],[32,48,32,49],[31,48,31,49],[32,51,32,52],[31,51,31,52],[33,53,33,54],[34,1,34,2],[34,3,34,8],[34,9,34,27],[34,29,34,47],[34,53,34,54],[33,1,33,2],[33,3,33,8],[33,9,33,27],[33,29,33,47],[34,48,34,49],[33,48,33,49],[34,51,34,52],[33,51,33,52],[35,53,35,54],[36,1,36,2],[36,3,36,8],[36,9,36,27],[36,29,36,47],[36,53,36,54],[35,1,35,2],[35,3,35,8],[35,9,35,27],[35,29,35,47],[36,48,36,49],[35,48,35,49],[36,51,36,52],[35,51,35,52],[37,53,37,54],[38,1,38,2],[38,3,38,8],[38,9,38,27],[38,29,38,47],[38,53,38,54],[37,1,37,2],[37,3,37,8],[37,9,37,27],[37,29,37,47],[38,48,38,49],[37,48,37,49],[38,51,38,52],[37,51,37,52],[39,53,39,54],[40,1,40,2],[40,3,40,8],[40,9,40,27],[40,29,40,47],[40,53,40,54],[39,1,39,2],[39,3,39,8],[39,9,39,27],[39,29,39,47],[40,48,40,49],[39,48,39,49],[40,51,40,52],[39,51,39,52],[41,53,41,54],[42,1,42,2],[42,3,42,8],[42,9,42,27],[42,29,42,47],[42,53,42,54],[41,1,41,2],[41,3,41,8],[41,9,41,27],[41,29,41,47],[42,48,42,49],[41,48,41,49],[42,51,42,52],[41,51,41,52],[43,53,43,54],[44,1,44,2],[44,3,44,8],[44,9,44,27],[44,29,44,47],[44,53,44,54],[43,1,43,2],[43,3,43,8],[43,9,43,27],[43,29,43,47],[44,48,44,49],[43,48,43,49],[44,51,44,52],[43,51,43,52],[45,53,45,54],[46,1,46,2],[46,3,46,8],[46,9,46,27],[46,29,46,47],[46,53,46,54],[45,1,45,2],[45,3,45,8],[45,9,45,27],[45,29,45,47],[46,48,46,49],[45,48,45,49],[46,51,46,52],[45,51,45,52],[47,53,47,54],[48,1,48,2],[48,3,48,8],[48,9,48,27],[48,29,48,47],[48,53,48,54],[47,1,47,2],[47,3,47,8],[47,9,47,27],[47,29,47,47],[48,48,48,49],[47,48,47,49],[48,51,48,52],[47,51,47,52],[49,53,49,54],[50,1,50,2],[50,3,50,8],[50,9,50,27],[50,29,50,47],[50,53,50,54],[49,1,49,2],[49,3,49,8],[49,9,49,27],[49,29,49,47],[50,48,50,49],[49,48,49,49],[50,51,50,52],[49,51,49,52],[51,53,51,54],[52,1,52,2],[52,3,52,8],[52,9,52,27],[52,29,52,47],[52,53,52,54],[51,1,51,2],[51,3,51,8],[51,9,51,27],[51,29,51,47],[52,48,52,49],[51,48,51,49],[52,51,52,52],[51,51,51,52],[53,53,53,54],[54,1,54,2],[54,3,54,8],[54,9,54,27],[54,29,54,47],[54,53,54,54],[53,1,53,2],[53,3,53,8],[53,9,53,27],[53,29,53,47],[54,48,54,49],[53,48,53,49],[54,51,54,52],[53,51,53,52],[59,8,59,35],[59,36,59,38],[59,39,59,41],[59,42,59,46],[59,47,59,49],[60,8,60,9],[60,10,60,35],[60,36,60,38],[60,39,60,41],[60,42,60,43],[60,45,60,46],[60,47,60,49],[61,47,61,49],[62,47,62,49],[63,8,63,9],[63,10,63,35],[63,36,63,38],[63,39,63,41],[63,42,63,43],[63,45,63,46],[63,47,63,49],[62,8,62,9],[62,10,62,35],[62,36,62,38],[62,39,62,41],[62,42,62,43],[62,45,62,46],[64,36,64,38],[64,39,64,41],[64,42,64,43],[64,45,64,46],[61,8,61,9],[61,10,61,35],[61,36,61,38],[61,39,61,41],[61,42,61,43],[61,45,61,46],[64,47,64,49],[65,8,65,9],[65,10,65,35],[65,36,65,38],[65,39,65,41],[65,42,65,43],[66,47,66,49],[67,8,67,9],[67,10,67,35],[67,36,67,38],[67,39,67,41],[67,42,67,43],[67,45,67,46],[67,47,67,49],[66,8,66,9],[66,10,66,35],[66,36,66,38],[66,39,66,41],[66,42,66,43],[66,45,66,46],[65,45,65,46],[65,47,65,49],[64,8,64,9],[64,10,64,35]]}
[]
["Vorrunde"]
["Gruppe B"]
[]
[]
[]
[]
[]
[]
[null,null,null,null,null,null,"Beginn:",{"$f":"Vorgaben!C4","v":"14:15:00"},null,null,null,null,"Uhr",null,null,null,null,null,null,"Spielzeit:",{"$f":"Vorgaben!C5","v":1},"1x","x",{"$f":"Vorgaben!C6","v":"00:09:00"},null,null,null,null,"min",null,null,null,null,null,null,null,"Pause:",{"$f":"Vorgaben!C7","v":"00:01:00"},null,null,null,null,"min",null,null,null,null,"HZ:",{"$f":"IF(Vorgaben!C5>1,Vorgaben!C8,0)","v":"00:00:00"},null,null,null,null,"min"]
[]
[]
[null,"I. Teilnehmende Mannschaften"]
[]
[null,null,null,null,null,null,null,null,null,"Mannschaften"]
[null,null,null,null,null,null,null,null,null,"1.",null,{"$f":"'VR Gruppeneinteilung'!F3","v":"Gruppe B1"}]
[null,null,null,null,null,null,null,null,null,"2.",null,{"$f":"'VR Gruppeneinteilung'!F4","v":"Gruppe B2"}]
[null,null,null,null,null,null,null,null,null,"3.",null,{"$f":"'VR Gruppeneinteilung'!F5","v":"Gruppe B3"}]
[null,null,null,null,null,null,null,null,null,"4.",null,{"$f":"'VR Gruppeneinteilung'!F6","v":"Gruppe B4"}]
[null,null,null,null,null,null,null,null,null,"5.",null,{"$f":"'VR Gruppeneinteilung'!F7","v":"Gruppe B5"}]
[null,null,null,null,null,null,null,null,null,"6.",null,{"$f":"'VR Gruppeneinteilung'!F8","v":"Gruppe B6"}]
[null,null,null,null,null,null,null,null,null,"7.",null,{"$f":"'VR Gruppeneinteilung'!F9","v":"Gruppe B7"}]
[null,null,null,null,null,null,null,null,null,"8.",null,{"$f":"'VR Gruppeneinteilung'!F10","v":"Gruppe B8"}]
[]
[null,"II. Spielplan"]
[null,null,null,null,null,null,null,null,null,null,null,null,null,null,null,null,null,null,null,null,null,null,null,null,null,null,null,null,null,null,null,null,null,null,null,null,null,null,null,null,null,null,null,null,null,null,null,null,null,null,null,null,null,null,null,null,null,null,null,null,null,null,null,null,"6er"]
[null,"Nr.",null,"Beginn",null,null,null,null,null,null,"Spielpaarung",null,null,null,null,null,null,null,null,null,null,null,null,null,null,null,null,null,null,null,null,null,null,null,null,null,null,null,null,null,null,null,null,null,null,null,null,null,"Ergebnis",null,null,null,null,"Pl",null,null,null,"Punkte",null,null,null,null,null,null,{"$f":"$L$16","v":"Gruppe B1"},{"$f":"COUNT($AW$28,$AW$31,$AZ$34,$AW$37,$AZ$40)","v":4},{"$f":"SUM($BF$28+$BF$31+$BH$34+$BF$37+$BH$40)","v":6},{"$f":"SUM($AW$28+$AW$31+$AZ$34+$AW$37+$AZ$40)","v":5},":",{"$f":"SUM(AZ28+AZ31+$AW$34+AZ37+$AW$40)","v":3},{"$f":"SUM(BP27-BR27)","v":2}]
[{"$f":"VLOOKUP(B28,Vorgaben!B8:C14,2,FALSE)","v":{"$error":"#N/A"}},1,null,{"$f":"$H$10","v":"14:15:00"},null,null,null,null,null,{"$f":"IF(Vorgaben!C$1=48,'Gruppe AF8'!J128,IF(Vorgaben!C$1=42,'Gruppe AF7'!O127,IF(Vorgaben!C$1=36,'Gruppe AF6'!I121,'Gruppe AF6'!I121)))","v":"Gruppe B1"},null,null,null,null,null,null,null,null,null,null,null,null,null,null,null,null,null,null,"-",{"$f":"IF(Vorgaben!C$1=48,'Gruppe AF8'!AD128,IF(Vorgaben!C$1=42,'Gruppe AF7'!AF127,IF(Vorgaben!C$1=36,'Gruppe AF6'!AC121,'Gruppe AF6'!AC121)))","v":"Gruppe B2"},null,null,null,null,null,null,null,null,null,null,null,null,null,null,null,null,null,null,2,null,":",0,null,{"$f":"Vorgaben!$G$19","v":2},null,null,null,{"$f":"IF(ISBLANK(AW28),\"0\",IF(AW28>AZ28,3,IF(AW28=AZ28,1,0)))","v":3},":",{"$f":"IF(ISBLANK(AZ28),\"0\",IF(AZ28>AW28,3,IF(AZ28=AW28,1,0)))","v":0},null,null,null,null,{"$f":"$L$19","v":"Gruppe B4"},{"$f":"COUNT($AZ$29,$AW$33,$AZ$35,$AZ$37,$AW$42)","v":4},{"$f":"SUM($BH$29+$BF$33+$BH$35+$BH$37+$BF$42)","v":3},{"$f":"SUM($AZ$29+$AW$33+$AZ$35+$AZ$37+$AW$42)","v":4},":",{"$f":"SUM($AW$29+AZ33+$AW$35+$AW$37+AZ42)","v":6},{"$f":"SUM(BP28-BR28)","v":-2}]
[{"$f":"VLOOKUP(B29,Vorgaben!B$10:C$16,2,FALSE)","v":{"$error":"#N/A"}},2,null,{"$f":"IF(ISNA(A29),D28+($U$10*$X$10+$AL$10+$AW$10),D28+($U$10*$X$10+$AL$10+$AW$10)+A29)","v":"14:25:00"},null,null,null,null,null,{"$f":"IF(Vorgaben!C$1=48,'Gruppe AF8'!J129,IF(Vorgaben!C$1=42,'Gruppe AF7'!O128,IF(Vorgaben!C$1=36,'Gruppe AF6'!I122,'Gruppe AF6'!I122)))","v":"Gruppe B3"},null,null,null,null,null,null,null,null,null,null,null,null,null,null,null,null,null,null,"-",{"$f":"IF(Vorgaben!C$1=48,'Gruppe AF8'!AD129,IF(Vorgaben!C$1=42,'Gruppe AF7'!AF128,IF(Vorgaben!C$1=36,'Gruppe AF6'!AC122,'Gruppe AF6'!AC122)))","v":"Gruppe B4"},null,null,null,null,null,null,null,null,null,null,null,null,null,null,null,null,null,null,3,null,":",1,null,{"$f":"Vorgaben!$G$19","v":2},null,null,null,3,":",0,null,null,null,null,{"$f":"$L$21","v":"Gruppe B6"},{"$f":"COUNT($AZ$30,$AZ$33,$AW$36,$AW$38,$AW$40)","v":3},{"$f":"SUM($BH$30+$BH$33+$BF$36+$BF$38+$BF$40)","v":3},{"$f":"SUM($AZ$30+$AZ$33+$AW$36+$AW$38+$AW$40)","v":3},":",{"$f":"SUM($AW$30+$AW$33+AZ36+AZ38+AZ40)","v":3},0]
[{"$f":"VLOOKUP(B30,Vorgaben!B$10:C$16,2,FALSE)","v":{"$error":"#N/A"}},3,null,{"$f":"IF(ISNA(A30),D29+($U$10*$X$10+$AL$10+$AW$10),D29+($U$10*$X$10+$AL$10+$AW$10)+A30)","v":"14:35:00"},null,null,null,null,null,{"$f":"IF(Vorgaben!C$1=48,'Gruppe AF8'!J130,IF(Vorgaben!C$1=42,'Gruppe AF7'!O129,IF(Vorgaben!C$1=36,'Gruppe AF6'!I123,'Gruppe AF6'!I123)))","v":"Gruppe B5"},null,null,null,null,null,null,null,null,null,null,null,null,null,null,null,null,null,null,"-",{"$f":"IF(Vorgaben!C$1=48,'Gruppe AF8'!AD130,IF(Vorgaben!C$1=42,'Gruppe AF7'!AF129,IF(Vorgaben!C$1=36,'Gruppe AF6'!AC123,'Gruppe AF6'!AC123)))","v":"Gruppe B6"},null,null,null,null,null,null,null,null,null,null,null,null,null,null,null,null,null,null,null,null,":",null,null,{"$f":"Vorgaben!$G$19","v":2},null,null,null,"0",":","0",null,null,null,null,{"$f":"$L$17","v":"Gruppe B2"},{"$f":"COUNT($AZ$28,$AW$32,$AZ$38,$AW$35,$AW$41)","v":4},{"$f":"SUM($BH$28+$BF$32+$BF$35+$BH$38+$BF$41)","v":3},{"$f":"SUM($AZ$28+$AW$32+$AW$35+$AZ$38+$AW$41)","v":3},":",{"$f":"SUM($AW$28+AZ32+AZ34+$AW$38+AZ41)","v":5},-2]
[{"$f":"VLOOKUP(B31,Vorgaben!B$10:C$16,2,FALSE)","v":{"$error":"#N/A"}},4,null,"14:45:00",null,null,null,null,null,{"$f":"IF(Vorgaben!C$1=48,'Gruppe AF8'!J131,IF(Vorgaben!C$1=42,'Gruppe AF7'!O130,IF(Vorgaben!C$1=36,'Gruppe AF6'!I124,'Gruppe AF6'!I124)))","v":"Gruppe B7"},null,null,null,null,null,null,null,null,null,null,null,null,null,null,null,null,null,null,"-",{"$f":"IF(Vorgaben!C$1=48,'Gruppe AF8'!AD131,IF(Vorgaben!C$1=42,'Gruppe AF7'!AF130,IF(Vorgaben!C$1=36,'Gruppe AF6'!AC124,'Gruppe AF6'!AC124)))","v":"Gruppe B8"},null,null,null,null,null,null,null,null,null,null,null,null,null,null,null,null,null,null,null,null,":",null,null,{"$f":"Vorgaben!$G$19","v":2},null,null,null,"0",":","0",null,null,null,null,{"$f":"$L$18","v":"Gruppe B3"},{"$f":"COUNT($AW$29,$AZ$31,$AZ$36,$AW$39,$AZ$41)","v":4},{"$f":"SUM($BF$29+$BH$31+$BH$36+$BF$39+$BH$41)","v":6},{"$f":"SUM($AW$29+$AZ$31+$AZ$36+$AW$39+$AZ$41)","v":6},":",{"$f":"SUM($AW$31+AZ29+$AW$36+AZ39+$AW$41)","v":4},2]
[{"$f":"IF(VLOOKUP(B32,Vorgaben!B$10:C$16,2,FALSE)=\"\",\"\",VLOOKUP(B32,Vorgaben!B$10:C$16,2,FALSE))","v":{"$error":"#N/A"}},5,null,"14:55:00",null,null,null,null,null,{"$f":"IF(Vorgaben!C$1=48,'Gruppe AF8'!J132,IF(Vorgaben!C$1=42,'Gruppe AF7'!O131,IF(Vorgaben!C$1=36,'Gruppe AF6'!I125,'Gruppe AF6'!I125)))","v":"Gruppe B4"},null,null,null,null,null,null,null,null,null,null,null,null,null,null,null,null,null,null,"-",{"$f":"IF(Vorgaben!C$1=48,'Gruppe AF8'!AD132,IF(Vorgaben!C$1=42,'Gruppe AF7'!AF131,IF(Vorgaben!C$1=36,'Gruppe AF6'!AC125,'Gruppe AF6'!AC125)))","v":"Gruppe B1"},null,null,null,null,null,null,null,null,null,null,null,null,null,null,null,null,null,null,null,null,":",null,null,{"$f":"Vorgaben!$G$19","v":2},null,null,null,"0",":","0",null,null,null,null,{"$f":"$L$20","v":"Gruppe B5"},{"$f":"COUNT($AW$30,$AZ$32,$AW$34,$AZ$39,$AZ$42)","v":3},{"$f":"SUM($BF$30+$BH$32+$BF$34+$BH$39+$BH$42)","v":3},{"$f":"SUM($AW$30+$AZ$32+$AW$34+$AZ$39+$AZ$42)","v":3},":",{"$f":"SUM(AZ30+AZ34+$AW$32+$AW$39+$AW$425+$AW$42)","v":3},0]
[{"$f":"VLOOKUP(B33,Vorgaben!B$10:C$16,2,FALSE)","v":{"$error":"#N/A"}},6,null,"15:05:00",null,null,null,null,null,{"$f":"IF(Vorgaben!C$1=48,'Gruppe AF8'!J133,IF(Vorgaben!C$1=42,'Gruppe AF7'!O132,IF(Vorgaben!C$1=36,'Gruppe AF6'!I126,'Gruppe AF6'!I126)))","v":"Gruppe B2"},null,null,null,null,null,null,null,null,null,null,null,null,null,null,null,null,null,null,"-",{"$f":"IF(Vorgaben!C$1=48,'Gruppe AF8'!AD133,IF(Vorgaben!C$1=42,'Gruppe AF7'!AF132,IF(Vorgaben!C$1=36,'Gruppe AF6'!AC126,'Gruppe AF6'!AC126)))","v":"Gruppe B3"},null,null,null,null,null,null,null,null,null,null,null,null,null,null,null,null,null,null,null,null,":",null,null,{"$f":"Vorgaben!$G$19","v":2},null,null,null,"0",":","0",null,null,null,null,"8er"]
[{"$f":"VLOOKUP(B34,Vorgaben!B$10:C$16,2,FALSE)","v":{"$error":"#N/A"}},7,null,"15:15:00",null,null,null,null,null,{"$f":"IF(Vorgaben!C$1=48,'Gruppe AF8'!J134,IF(Vorgaben!C$1=42,'Gruppe AF7'!O133,IF(Vorgaben!C$1=36,'Gruppe AF6'!I127,'Gruppe AF6'!I127)))","v":"Gruppe B8"},null,null,null,null,null,null,null,null,null,null,null,null,null,null,null,null,null,null,"-",{"$f":"IF(Vorgaben!C$1=48,'Gruppe AF8'!AD134,IF(Vorgaben!C$1=42,'Gruppe AF7'!AF133,IF(Vorgaben!C$1=36,'Gruppe AF6'!AC127,'Gruppe AF6'!AC127)))","v":"Gruppe B5"},null,null,null,null,null,null,null,null,null,null,null,null,null,null,null,null,null,null,1,null,":",1,null,{"$f":"Vorgaben!$G$19","v":2},null,null,null,1,":",1,null,null,null,null,{"$f":"$L$20","v":"Gruppe B5"},{"$f":"COUNT($AW$30,$AZ$34,$AW$36,$AZ$41,$AW$47,$AW$51,$AZ$54)","v":6},{"$f":"SUM($BF$30+$BH$34+$BF$36+$BH$41+$BF$47+$BF$51+$BH$54)","v":6},{"$f":"SUM($AW$30+$AZ$34+$AW$36+$AZ$41+$AW$47+$AW$51+$AZ$54)","v":6},":",{"$f":"SUM($AZ$30+$AW$34+$AZ$36+$AW$41+$AZ$47+$AZ$51+$AW$54)","v":6},0]
[{"$f":"VLOOKUP(B35,Vorgaben!B$10:C$16,2,FALSE)","v":{"$error":"#N/A"}},8,null,"15:25:00",null,null,null,null,null,{"$f":"IF(Vorgaben!C$1=48,'Gruppe AF8'!J135,IF(Vorgaben!C$1=42,'Gruppe AF7'!O134,IF(Vorgaben!C$1=36,'Gruppe AF6'!I128,'Gruppe AF6'!I128)))","v":"Gruppe B6"},null,null,null,null,null,null,null,null,null,null,null,null,null,null,null,null,null,null,"-",{"$f":"IF(Vorgaben!C$1=48,'Gruppe AF8'!AD135,IF(Vorgaben!C$1=42,'Gruppe AF7'!AF134,IF(Vorgaben!C$1=36,'Gruppe AF6'!AC128,'Gruppe AF6'!AC128)))","v":"Gruppe B7"},null,null,null,null,null,null,null,null,null,null,null,null,null,null,null,null,null,null,1,null,":",1,null,{"$f":"Vorgaben!$G$19","v":2},null,null,null,1,":",1,null,null,null,null,{"$f":"$L$22","v":"Gruppe B7"},{"$f":"COUNT($AW$31,$AZ$35,$AZ$38,$AW$41,$AZ$44,$AW$50,$AZ$55)","v":6},{"$f":"SUM($BF$31+$BH$35+$BH$38+$BF$41+$BH$44+$BF$50+$BH$55)","v":6},{"$f":"SUM($AW$31+$AZ$35+$AZ$38+$AW$41+$AZ$44+$AW$50+$AZ$55)","v":6},":",{"$f":"SUM($AZ$31+$AW$35+$AW$38+$AZ$41+$AW$44+$AZ$50+$AW$55)","v":6},0]
[{"$f":"VLOOKUP(B36,Vorgaben!B$10:C$16,2,FALSE)","v":{"$error":"#N/A"}},9,null,"15:35:00",null,null,null,null,null,{"$f":"IF(Vorgaben!C$1=48,'Gruppe AF8'!J136,IF(Vorgaben!C$1=42,'Gruppe AF7'!O135,IF(Vorgaben!C$1=36,'Gruppe AF6'!I129,'Gruppe AF6'!I129)))","v":"Gruppe B5"},null,null,null,null,null,null,null,null,null,null,null,null,null,null,null,null,null,null,"-",{"$f":"IF(Vorgaben!C$1=48,'Gruppe AF8'!AD136,IF(Vorgaben!C$1=42,'Gruppe AF7'!AF135,IF(Vorgaben!C$1=36,'Gruppe AF6'!AC129,'Gruppe AF6'!AC129)))","v":"Gruppe B4"},null,null,null,null,null,null,null,null,null,null,null,null,null,null,null,null,null,null,1,null,":",1,null,{"$f":"Vorgaben!$G$19","v":2},null,null,null,1,":",1,null,null,null,null,{"$f":"$L$18","v":"Gruppe B3"},{"$f":"COUNT($AW$29,$AZ$33,$AZ$37,$AW$43,$AZ$47,$AZ$50,$AW$53)","v":6},{"$f":"SUM($BF$29+$BH$33+$BH$37+$BF$43+$BH$47+$BH$50+$BF$53)","v":8},{"$f":"SUM($AW$29+$AZ$33+$AZ$37+$AW$43+$AZ$47+$AZ$50+$AW$53)","v":8},":",{"$f":"SUM($AZ$29+$AW$33+$AW$37+$AZ$43+$AW$47+$AW$50+$AZ$53)","v":6},2]
[{"$f":"VLOOKUP(B37,Vorgaben!B$10:C$16,2,FALSE)","v":{"$error":"#N/A"}},10,null,"15:45:00",null,null,null,null,null,{"$f":"IF(Vorgaben!C$1=48,'Gruppe AF8'!J137,IF(Vorgaben!C$1=42,'Gruppe AF7'!O136,IF(Vorgaben!C$1=36,'Gruppe AF6'!I130,'Gruppe AF6'!I130)))","v":"Gruppe B1"},null,null,null,null,null,null,null,null,null,null,null,null,null,null,null,null,null,null,"-",{"$f":"IF(Vorgaben!C$1=48,'Gruppe AF8'!AD137,IF(Vorgaben!C$1=42,'Gruppe AF7'!AF136,IF(Vorgaben!C$1=36,'Gruppe AF6'!AC130,'Gruppe AF6'!AC130)))","v":"Gruppe B3"},null,null,null,null,null,null,null,null,null,null,null,null,null,null,null,null,null,null,1,null,":",1,null,{"$f":"Vorgaben!$G$19","v":2},null,null,null,1,":",1,null,null,null,null,{"$f":"$L$17","v":"Gruppe B2"},{"$f":"COUNT($AZ$28,$AW$33,$AW$38,$AZ$40,$AW$45,$AZ$49,$AW$54)","v":6},{"$f":"SUM($BH$28+$BF$33+$BF$38+$BH$40+$BF$45+$BH$49+$BF$54)","v":4},{"$f":"SUM($AZ$28+$AW$33+$AW$38+$AZ$40+$AW$45+$AZ$49+$AW$54)","v":5},":",{"$f":"SUM($AW$28+$AZ$33+$AZ$38+$AW$40+$AZ$45+$AW$49+$AZ$54)","v":8},-3]
[{"$f":"VLOOKUP(B38,Vorgaben!B$10:C$16,2,FALSE)","v":{"$error":"#N/A"}},11,null,"15:55:00",null,null,null,null,null,{"$f":"IF(Vorgaben!C$1=48,'Gruppe AF8'!J138,IF(Vorgaben!C$1=42,'Gruppe AF7'!O137,IF(Vorgaben!C$1=36,'Gruppe AF6'!I131,'Gruppe AF6'!I131)))","v":"Gruppe B2"},null,null,null,null,null,null,null,null,null,null,null,null,null,null,null,null,null,null,"-",{"$f":"IF(Vorgaben!C$1=48,'Gruppe AF8'!AD138,IF(Vorgaben!C$1=42,'Gruppe AF7'!AF137,IF(Vorgaben!C$1=36,'Gruppe AF6'!AC131,'Gruppe AF6'!AC131)))","v":"Gruppe B7"},null,null,null,null,null,null,null,null,null,null,null,null,null,null,null,null,null,null,1,null,":",1,null,{"$f":"Vorgaben!$G$19","v":2},null,null,null,1,":",1,null,null,null,null,{"$f":"$L$16","v":"Gruppe B1"},{"$f":"COUNT($AW$28,$AZ$32,$AW$37,$AZ$42,$AW$46,$AZ$51,$AW$55)","v":6},{"$f":"SUM($BF$28+$BH$32+$BF$37+$BH$42+$BF$46+$BH$51+$BF$55)","v":8},{"$f":"SUM($AW$28+$AZ$32+$AW$37+$AZ$42+$AW$46+$AZ$51+$AW$55)","v":7},":",{"$f":"SUM($AZ$28+$AW$32+$AZ$37+$AW$42+$AZ$46+$AW$51+$AZ$55)","v":5},2]
[{"$f":"VLOOKUP(B39,Vorgaben!B$10:C$16,2,FALSE)","v":{"$error":"#N/A"}},12,null,"16:05:00",null,null,null,null,null,{"$f":"IF(Vorgaben!C$1=48,'Gruppe AF8'!J139,IF(Vorgaben!C$1=42,'Gruppe AF7'!O138,IF(Vorgaben!C$1=36,'Gruppe AF6'!I132,'Gruppe AF6'!I132)))","v":"Gruppe B6"},null,null,null,null,null,null,null,null,null,null,null,null,null,null,null,null,null,null,"-",{"$f":"IF(Vorgaben!C$1=48,'Gruppe AF8'!AD139,IF(Vorgaben!C$1=42,'Gruppe AF7'!AF138,IF(Vorgaben!C$1=36,'Gruppe AF6'!AC132,'Gruppe AF6'!AC132)))","v":"Gruppe B8"},null,null,null,null,null,null,null,null,null,null,null,null,null,null,null,null,null,null,1,null,":",1,null,{"$f":"Vorgaben!$G$19","v":2},null,null,null,1,":",1,null,null,null,null,{"$f":"$L$19","v":"Gruppe B4"},{"$f":"COUNT($AZ$29,$AW$32,$AZ$36,$AW$40,$AW$44,$AZ$48,$AW$52)","v":6},{"$f":"SUM($BH$29+$BF$32+$BH$36+$BF$40+$BF$44+$BH$48+$BF$52)","v":5},{"$f":"SUM($AZ$29+$AW$32+$AZ$36+$AW$40+$AW$44+$AZ$48+$AW$52)","v":6},":",{"$f":"SUM($AW$29+$AZ$32+$AW$36+$AZ$40+$AZ$44+$AW$48+$AZ$52)","v":8},-2]
[{"$f":"VLOOKUP(B40,Vorgaben!B$10:C$16,2,FALSE)","v":{"$error":"#N/A"}},13,null,"16:15:00",null,null,null,null,null,{"$f":"IF(Vorgaben!C$1=48,'Gruppe AF8'!J140,IF(Vorgaben!C$1=42,'Gruppe AF7'!O139,IF(Vorgaben!C$1=36,'Gruppe AF6'!I133,'Gruppe AF6'!I133)))","v":"Gruppe B4"},null,null,null,null,null,null,null,null,null,null,null,null,null,null,null,null,null,null,"-",{"$f":"IF(Vorgaben!C$1=48,'Gruppe AF8'!AD140,IF(Vorgaben!C$1=42,'Gruppe AF7'!AF139,IF(Vorgaben!C$1=36,'Gruppe AF6'!AC133,'Gruppe AF6'!AC133)))","v":"Gruppe B2"},null,null,null,null,null,null,null,null,null,null,null,null,null,null,null,null,null,null,1,null,":",1,null,{"$f":"Vorgaben!$G$19","v":2},null,null,null,1,":",1,null,null,null,null,{"$f":"$L$23","v":"Gruppe B8"},{"$f":"COUNT($AZ$31,$AW$34,$AZ$39,$AW$42,$AZ$45,$AW$48,$AZ$53)","v":6},{"$f":"SUM($BH$31+$BF$34+$BH$39+$BF$42+$BH$45+$BF$48+$BH$53)","v":6},{"$f":"SUM($AZ$31+$AW$34+$AZ$39+$AW$42+$AZ$45+$AW$48+$AZ$53)","v":6},":",{"$f":"SUM($AW$31+$AZ$34+$AW$39+$AZ$42+$AW$45+$AZ$48+$AW$53)","v":6},0]
[{"$f":"VLOOKUP(B41,Vorgaben!B$10:C$16,2,FALSE)","v":{"$error":"#N/A"}},14,null,"16:25:00",null,null,null,null,null,{"$f":"IF(Vorgaben!C$1=48,'Gruppe AF8'!J141,IF(Vorgaben!C$1=42,'Gruppe AF7'!O140,IF(Vorgaben!C$1=36,'Gruppe AF6'!I134,'Gruppe AF6'!I134)))","v":"Gruppe B7"},null,null,null,null,null,null,null,null,null,null,null,null,null,null,null,null,null,null,"-",{"$f":"IF(Vorgaben!C$1=48,'Gruppe AF8'!AD141,IF(Vorgaben!C$1=42,'Gruppe AF7'!AF140,IF(Vorgaben!C$1=36,'Gruppe AF6'!AC134,'Gruppe AF6'!AC134)))","v":"Gruppe B5"},null,null,null,null,null,null,null,null,null,null,null,null,null,null,null,null,null,null,1,null,":",1,null,{"$f":"Vorgaben!$G$19","v":2},null,null,null,1,":",1,null,null,null,null,{"$f":"$L$21","v":"Gruppe B6"},{"$f":"COUNT($AZ$30,$AW$35,$AW$39,$AZ$43,$AZ$46,$AW$49,$AZ$52)","v":6},{"$f":"SUM($BH$30+$BF$35+$BF$39+$BH$43+$BH$46+$BF$49+$BH$52)","v":8},{"$f":"SUM($AZ$30+$AW$35+$AW$39+$AZ$43+$AZ$46+$AW$49+$AZ$52)","v":7},":",{"$f":"SUM($AW$30+$AZ$35+$AZ$39+$AW$43+$AW$46+$AZ$49+$AW$52)","v":6},1]
[{"$f":"VLOOKUP(B42,Vorgaben!B$10:C$16,2,FALSE)","v":{"$error":"#N/A"}},15,null,"16:35:00",null,null,null,null,null,{"$f":"IF(Vorgaben!C$1=48,'Gruppe AF8'!J142,IF(Vorgaben!C$1=42,'Gruppe AF7'!O141,IF(Vorgaben!C$1=36,'Gruppe AF6'!I135,'Gruppe AF6'!I135)))","v":"Gruppe B8"},null,null,null,null,null,null,null,null,null,null,null,null,null,null,null,null,null,null,"-",{"$f":"IF(Vorgaben!C$1=48,'Gruppe AF8'!AD142,IF(Vorgaben!C$1=42,'Gruppe AF7'!AF141,IF(Vorgaben!C$1=36,'Gruppe AF6'!AC135,'Gruppe AF6'!AC135)))","v":"Gruppe B1"},null,null,null,null,null,null,null,null,null,null,null,null,null,null,null,null,null,null,1,null,":",1,null,{"$f":"Vorgaben!$G$19","v":2},null,null,null,1,":",1,null,null,null,null,"7er"]
[{"$f":"VLOOKUP(B43,Vorgaben!B$10:C$16,2,FALSE)","v":{"$error":"#N/A"}},16,null,"16:45:00",null,null,null,null,null,{"$f":"IF(Vorgaben!C$1=48,'Gruppe AF8'!J143,IF(Vorgaben!C$1=42,'Gruppe AF7'!O142,IF(Vorgaben!C$1=36,'Gruppe AF6'!I136,\"\")))","v":"Gruppe B3"},null,null,null,null,null,null,null,null,null,null,null,null,null,null,null,null,null,null,"-",{"$f":"IF(Vorgaben!C$1=48,'Gruppe AF8'!AD143,IF(Vorgaben!C$1=42,'Gruppe AF7'!AF142,IF(Vorgaben!C$1=36,'Gruppe AF6'!AC136,\"\")))","v":"Gruppe B6"},null,null,null,null,null,null,null,null,null,null,null,null,null,null,null,null,null,null,1,null,":",1,null,{"$f":"Vorgaben!$G$19","v":2},null,null,null,1,":",1,null,null,null,null,{"$f":"$L$16","v":"Gruppe B1"},{"$f":"COUNT(AW28,AZ31,AW34,AZ37,AW40,AZ43)","v":5},{"$f":"COUNT(BF28,BH31,BF34,BH37,BF40,BH43)","v":5},{"$f":"SUM(AW28,AZ31,AW34,AZ37,AW40,AZ43)","v":6},":",{"$f":"SUM(AZ28+AW31+AW37+AW43+AZ40+AZ34)","v":4},2]
[{"$f":"VLOOKUP(B44,Vorgaben!B$10:C$16,2,FALSE)","v":{"$error":"#N/A"}},17,null,"16:55:00",null,null,null,null,null,{"$f":"IF(Vorgaben!C$1=48,'Gruppe AF8'!J144,IF(Vorgaben!C$1=42,'Gruppe AF7'!O143,IF(Vorgaben!C$1=36,'Gruppe AF6'!I137,\"\")))","v":"Gruppe B4"},null,null,null,null,null,null,null,null,null,null,null,null,null,null,null,null,null,null,"-",{"$f":"IF(Vorgaben!C$1=48,'Gruppe AF8'!AD144,IF(Vorgaben!C$1=42,'Gruppe AF7'!AF143,IF(Vorgaben!C$1=36,'Gruppe AF6'!AC137,\"\")))","v":"Gruppe B7"},null,null,null,null,null,null,null,null,null,null,null,null,null,null,null,null,null,null,1,null,":",1,null,{"$f":"Vorgaben!$G$19","v":2},null,null,null,1,":",1,null,null,null,null,{"$f":"$L$18","v":"Gruppe B3"},{"$f":"COUNT(AW29,AW33,AZ36,AZ38,AW43,AZ46)","v":5},{"$f":"COUNT(BF29,BF33,BH36,BH38,BF43,BH46)","v":5},{"$f":"SUM(AW29,AW33,AZ36,AZ38,AW43,AZ46)","v":7},":",{"$f":"SUM(AZ29+AZ33+AW36+AW38+AZ43+AW46)","v":5},2]
[{"$f":"VLOOKUP(B45,Vorgaben!B$10:C$16,2,FALSE)","v":{"$error":"#N/A"}},18,null,"17:05:00",null,null,null,null,null,{"$f":"IF(Vorgaben!C$1=48,'Gruppe AF8'!J145,IF(Vorgaben!C$1=42,'Gruppe AF7'!O144,IF(Vorgaben!C$1=36,'Gruppe AF6'!I138,\"\")))","v":"Gruppe B2"},null,null,null,null,null,null,null,null,null,null,null,null,null,null,null,null,null,null,"-",{"$f":"IF(Vorgaben!C$1=48,'Gruppe AF8'!AD145,IF(Vorgaben!C$1=42,'Gruppe AF7'!AF144,IF(Vorgaben!C$1=36,'Gruppe AF6'!AC138,\"\")))","v":"Gruppe B8"},null,null,null,null,null,null,null,null,null,null,null,null,null,null,null,null,null,null,1,null,":",1,null,{"$f":"Vorgaben!$G$19","v":2},null,null,null,1,":",1,null,null,null,null,{"$f":"$L$17","v":"Gruppe B2"},{"$f":"COUNT(AZ28,AW32,AW36,AZ39,AW42,AZ47)","v":5},{"$f":"COUNT(BH28,BF32,BF36,BH39,BF42,BH47)","v":5},{"$f":"SUM(AZ28,AW32,AW36,AZ39,AW42,AZ47)","v":4},":",{"$f":"SUM(AW28+AZ32+AZ36+AW39+AZ42+AW47)","v":6},-2]
[{"$f":"VLOOKUP(B46,Vorgaben!B$10:C$16,2,FALSE)","v":{"$error":"#N/A"}},19,null,"17:15:00",null,null,null,null,null,{"$f":"IF(Vorgaben!C$1=48,'Gruppe AF8'!J146,IF(Vorgaben!C$1=42,'Gruppe AF7'!O145,IF(Vorgaben!C$1=36,'Gruppe AF6'!I139,\"\")))","v":"Gruppe B1"},null,null,null,null,null,null,null,null,null,null,null,null,null,null,null,null,null,null,"-",{"$f":"IF(Vorgaben!C$1=48,'Gruppe AF8'!AD146,IF(Vorgaben!C$1=42,'Gruppe AF7'!AF145,IF(Vorgaben!C$1=36,'Gruppe AF6'!AC139,\"\")))","v":"Gruppe B6"},null,null,null,null,null,null,null,null,null,null,null,null,null,null,null,null,null,null,1,null,":",1,null,{"$f":"Vorgaben!$G$19","v":2},null,null,null,1,":",1,null,null,null,null,{"$f":"$L$19","v":"Gruppe B4"},{"$f":"COUNT(AZ29,AZ32,AW35,AZ40,AW44,AW48)","v":5},{"$f":"COUNT(BH29,BH32,BF35,BH40,BF44,BF48)","v":5},{"$f":"SUM(AZ29,AZ32,AW35,AZ40,AW44,AW48)","v":5},":",{"$f":"SUM(AW29+AW32+AZ35+AW40+AZ44+AZ48)","v":7},-2]
[{"$f":"VLOOKUP(B47,Vorgaben!B$10:C$16,2,FALSE)","v":{"$error":"#N/A"}},20,null,"17:25:00",null,null,null,null,null,{"$f":"IF(Vorgaben!C$1=48,'Gruppe AF8'!J147,IF(Vorgaben!C$1=42,'Gruppe AF7'!O146,IF(Vorgaben!C$1=36,'Gruppe AF6'!I140,\"\")))","v":"Gruppe B5"},null,null,null,null,null,null,null,null,null,null,null,null,null,null,null,null,null,null,"-",{"$f":"IF(Vorgaben!C$1=48,'Gruppe AF8'!AD147,IF(Vorgaben!C$1=42,'Gruppe AF7'!AF146,IF(Vorgaben!C$1=36,'Gruppe AF6'!AC140,\"\")))","v":"Gruppe B3"},null,null,null,null,null,null,null,null,null,null,null,null,null,null,null,null,null,null,1,null,":",1,null,{"$f":"Vorgaben!$G$19","v":2},null,null,null,1,":",1,null,null,null,null,{"$f":"$L$22","v":"Gruppe B7"},{"$f":"COUNT(AW31,AZ35,AW38,AZ41,AZ45,AW47)","v":5},{"$f":"COUNT(BF31,BH35,BF38,BH41,BH45,BF47)","v":5},{"$f":"SUM(AW31,AZ35,AW38,AZ41,AZ45,AW47)","v":5},":",{"$f":"SUM(AZ31+AW35+AZ38+AW41+AW45+AZ47)","v":5},0]
[{"$f":"VLOOKUP(B48,Vorgaben!B$10:C$16,2,FALSE)","v":{"$error":"#N/A"}},21,null,"17:35:00",null,null,null,null,null,{"$f":"IF(Vorgaben!C$1=48,'Gruppe AF8'!J148,IF(Vorgaben!C$1=42,'Gruppe AF7'!O147,IF(Vorgaben!C$1=36,'Gruppe AF6'!I141,\"\")))","v":"Gruppe B8"},null,null,null,null,null,null,null,null,null,null,null,null,null,null,null,null,null,null,"-",{"$f":"IF(Vorgaben!C$1=48,'Gruppe AF8'!AD148,IF(Vorgaben!C$1=42,'Gruppe AF7'!AF147,IF(Vorgaben!C$1=36,'Gruppe AF6'!AC141,\"\")))","v":"Gruppe B4"},null,null,null,null,null,null,null,null,null,null,null,null,null,null,null,null,null,null,1,null,":",1,null,{"$f":"Vorgaben!$G$19","v":2},null,null,null,1,":",1,null,null,null,null,{"$f":"$L$20","v":"Gruppe B5"},{"$f":"COUNT(AW30,AZ33,AW37,AZ42,AW45,AZ48)","v":4},{"$f":"SUM(BF30,BH33,BF37,BH42,BF45,BH48)","v":4},{"$f":"SUM(AW30,AZ33,AW37,AZ42,AW45,AZ48)","v":4},":",{"$f":"SUM(AZ30+AW33+AZ37+AW42+AZ45+AW48)","v":4},0]
[{"$f":"VLOOKUP(B49,Vorgaben!B$10:C$16,2,FALSE)","v":{"$error":"#N/A"}},22,null,"17:45:00",null,null,null,null,null,{"$f":"IF(Vorgaben!C$1=48,'Gruppe AF8'!J149,IF(Vorgaben!C$1=42,'Gruppe AF7'!O148,IF(Vorgaben!C$1=36,'Gruppe AF6'!I142,\"\")))","v":"Gruppe B6"},null,null,null,null,null,null,null,null,null,null,null,null,null,null,null,null,null,null,"-",{"$f":"IF(Vorgaben!C$1=48,'Gruppe AF8'!AD149,IF(Vorgaben!C$1=42,'Gruppe AF7'!AF148,IF(Vorgaben!C$1=36,'Gruppe AF6'!AC142,\"\")))","v":"Gruppe B2"},null,null,null,null,null,null,null,null,null,null,null,null,null,null,null,null,null,null,2,null,":",1,null,{"$f":"Vorgaben!$G$19","v":2},null,null,null,3,":",0,null,null,null,null,{"$f":"$L$21","v":"Gruppe B6"},{"$f":"COUNT(AZ30,AZ34,AW39,AW41,AZ44,AW46)","v":5},{"$f":"SUM(BH30,BH34,BF39,BF41,BH44,BF46)","v":5},{"$f":"SUM(AZ30,AZ34,AW39,AW41,AZ44,AW46)","v":5},":",{"$f":"SUM(AW30+AW34+AZ39+AZ41+AW44+AZ46)","v":5},0]
[{"$f":"VLOOKUP(B50,Vorgaben!B$10:C$16,2,FALSE)","v":{"$error":"#N/A"}},23,null,"17:55:00",null,null,null,null,null,{"$f":"IF(Vorgaben!C$1=48,'Gruppe AF8'!J150,IF(Vorgaben!C$1=42,'Gruppe AF7'!O149,IF(Vorgaben!C$1=36,'Gruppe AF6'!I143,\"\")))","v":"Gruppe B7"},null,null,null,null,null,null,null,null,null,null,null,null,null,null,null,null,null,null,"-",{"$f":"IF(Vorgaben!C$1=48,'Gruppe AF8'!AD150,IF(Vorgaben!C$1=42,'Gruppe AF7'!AF149,IF(Vorgaben!C$1=36,'Gruppe AF6'!AC143,\"\")))","v":"Gruppe B3"},null,null,null,null,null,null,null,null,null,null,null,null,null,null,null,null,null,null,1,null,":",1,null,{"$f":"Vorgaben!$G$19","v":2},null,null,null,1,":",1]
[{"$f":"VLOOKUP(B51,Vorgaben!B$10:C$16,2,FALSE)","v":{"$error":"#N/A"}},24,null,"18:05:00",null,null,null,null,null,{"$f":"IF(Vorgaben!C$1=48,'Gruppe AF8'!J151,IF(Vorgaben!C$1=42,'Gruppe AF7'!O150,IF(Vorgaben!C$1=36,'Gruppe AF6'!I144,\"\")))","v":"Gruppe B5"},null,null,null,null,null,null,null,null,null,null,null,null,null,null,null,null,null,null,"-",{"$f":"IF(Vorgaben!C$1=48,'Gruppe AF8'!AD151,IF(Vorgaben!C$1=42,'Gruppe AF7'!AF150,IF(Vorgaben!C$1=36,'Gruppe AF6'!AC144,\"\")))","v":"Gruppe B1"},null,null,null,null,null,null,null,null,null,null,null,null,null,null,null,null,null,null,1,null,":",1,null,{"$f":"Vorgaben!$G$19","v":2},null,null,null,1,":",1]
[{"$f":"VLOOKUP(B52,Vorgaben!B$10:C$16,2,FALSE)","v":{"$error":"#N/A"}},25,null,"18:15:00",null,null,null,null,null,{"$f":"IF(Vorgaben!C$1=48,'Gruppe AF8'!J152,IF(Vorgaben!C$1=42,'Gruppe AF7'!O151,IF(Vorgaben!C$1=36,'Gruppe AF6'!I145,\"\")))","v":"Gruppe B4"},null,null,null,null,null,null,null,null,null,null,null,null,null,null,null,null,null,null,"-",{"$f":"IF(Vorgaben!C$1=48,'Gruppe AF8'!AD152,IF(Vorgaben!C$1=42,'Gruppe AF7'!AF151,IF(Vorgaben!C$1=36,'Gruppe AF6'!AC145,\"\")))","v":"Gruppe B6"},null,null,null,null,null,null,null,null,null,null,null,null,null,null,null,null,null,null,1,null,":",1,null,{"$f":"Vorgaben!$G$19","v":2},null,null,null,1,":",1]
[{"$f":"VLOOKUP(B53,Vorgaben!B$10:C$16,2,FALSE)","v":{"$error":"#N/A"}},26,null,"18:25:00",null,null,null,null,null,{"$f":"IF(Vorgaben!C$1=48,'Gruppe AF8'!J153,IF(Vorgaben!C$1=42,'Gruppe AF7'!O152,IF(Vorgaben!C$1=36,'Gruppe AF6'!I146,\"\")))","v":"Gruppe B3"},null,null,null,null,null,null,null,null,null,null,null,null,null,null,null,null,null,null,"-",{"$f":"IF(Vorgaben!C$1=48,'Gruppe AF8'!AD153,IF(Vorgaben!C$1=42,'Gruppe AF7'!AF152,IF(Vorgaben!C$1=36,'Gruppe AF6'!AC146,\"\")))","v":"Gruppe B8"},null,null,null,null,null,null,null,null,null,null,null,null,null,null,null,null,null,null,1,null,":",1,null,{"$f":"Vorgaben!$G$19","v":2},null,null,null,1,":",1]
[{"$f":"VLOOKUP(B54,Vorgaben!B$10:C$16,2,FALSE)","v":{"$error":"#N/A"}},27,null,"18:35:00",null,null,null,null,null,{"$f":"IF(Vorgaben!C$1=48,'Gruppe AF8'!J154,IF(Vorgaben!C$1=42,'Gruppe AF7'!O153,IF(Vorgaben!C$1=36,'Gruppe AF6'!I147,\"\")))","v":"Gruppe B2"},null,null,null,null,null,null,null,null,null,null,null,null,null,null,null,null,null,null,"-",{"$f":"IF(Vorgaben!C$1=48,'Gruppe AF8'!AD154,IF(Vorgaben!C$1=42,'Gruppe AF7'!AF153,IF(Vorgaben!C$1=36,'Gruppe AF6'!AC147,\"\")))","v":"Gruppe B5"},null,null,null,null,null,null,null,null,null,null,null,null,null,null,null,null,null,null,1,null,":",1,null,{"$f":"Vorgaben!$G$19","v":2},null,null,null,1,":",1]
[{"$f":"VLOOKUP(B55,Vorgaben!B$10:C$16,2,FALSE)","v":{"$error":"#N/A"}},28,null,"18:45:00",null,null,null,null,null,{"$f":"IF(Vorgaben!C$1=48,'Gruppe AF8'!J155,IF(Vorgaben!C$1=42,'Gruppe AF7'!O154,IF(Vorgaben!C$1=36,'Gruppe AF6'!I148,\"\")))","v":"Gruppe B1"},null,null,null,null,null,null,null,null,null,null,null,null,null,null,null,null,null,null,"-",{"$f":"IF(Vorgaben!C$1=48,'Gruppe AF8'!AD155,IF(Vorgaben!C$1=42,'Gruppe AF7'!AF154,IF(Vorgaben!C$1=36,'Gruppe AF6'!AC148,\"\")))","v":"Gruppe B7"},null,null,null,null,null,null,null,null,null,null,null,null,null,null,null,null,null,null,1,null,":",1,null,{"$f":"Vorgaben!$G$19","v":2},null,null,null,1,":",1]
[]
[]
[null,"III. Abschlußtabelle"]
[]
[null,null,null,null,null,null,null,null,"Mannschaften",null,null,null,null,null,null,null,null,null,null,null,null,null,null,null,null,null,null,null,null,null,null,null,null,null,null,null,"Sp.",null,null,"Pkt.",null,null,"Tore",null,null,null,null,"Diff."]
[null,null,null,null,null,null,null,null,"1.",null,{"$f":"IF(Vorgaben!C$1=48,'Gruppe AF8'!K161,IF(Vorgaben!C$1=42,'Gruppe AF7'!K153,IF(Vorgaben!C$1=36,'Gruppe AF6'!K140,'Gruppe AF6'!K140)))","v":"Gruppe B3"},null,null,null,null,null,null,null,null,null,null,null,null,null,null,null,null,null,null,null,null,null,null,null,null,null,{"$f":"IF(Vorgaben!C$1=48,'Gruppe AF8'!AK161,IF(Vorgaben!C$1=42,'Gruppe AF7'!AK153,IF(Vorgaben!C$1=36,'Gruppe AF6'!AI140,IF(Vorgaben!C$1=30,'Gruppe AF6'!AI140,'Gruppe AF6'!AI140))))","v":6},null,null,{"$f":"IF(Vorgaben!C$1=48,'Gruppe AF8'!AN161,IF(Vorgaben!C$1=42,'Gruppe AF7'!AN153,IF(Vorgaben!C$1=36,'Gruppe AF6'!AL140,IF(Vorgaben!C$1=30,'Gruppe AF6'!AL140,'Gruppe AF6'!BO127))))","v":8},null,null,{"$f":"IF(Vorgaben!C$1=48,'Gruppe AF8'!AQ161,IF(Vorgaben!C$1=42,'Gruppe AF7'!AQ153,IF(Vorgaben!C$1=36,'Gruppe AF6'!AO140,IF(Vorgaben!C$1=30,'Gruppe AF6'!AL140,'Gruppe AF6'!BP127))))","v":8},null,":",{"$f":"IF(Vorgaben!C$1=48,'Gruppe AF8'!AT161,IF(Vorgaben!C$1=42,'Gruppe AF7'!AT153,IF(Vorgaben!C$1=36,'Gruppe AF6'!AR140,IF(Vorgaben!C$1=30,'Gruppe AF6'!AR140,'Gruppe AF6'!BR127))))","v":6},null,{"$f":"IF(Vorgaben!C$1=48,'Gruppe AF8'!AV161,IF(Vorgaben!C$1=42,'Gruppe AF7'!AV153,IF(Vorgaben!C$1=36,'Gruppe AF6'!AT140,IF(Vorgaben!C$1=30,'Gruppe AF6'!AT140,'Gruppe AF6'!BS127))))","v":2}]
[null,null,null,null,null,null,null,null,"2.",null,{"$f":"IF(Vorgaben!C$1=48,'Gruppe AF8'!K162,IF(Vorgaben!C$1=42,'Gruppe AF7'!K154,IF(Vorgaben!C$1=36,'Gruppe AF6'!K141,'Gruppe AF6'!K141)))","v":"Gruppe B1"},null,null,null,null,null,null,null,null,null,null,null,null,null,null,null,null,null,null,null,null,null,null,null,null,null,{"$f":"IF(Vorgaben!C$1=48,'Gruppe AF8'!AK162,IF(Vorgaben!C$1=42,'Gruppe AF7'!AK154,IF(Vorgaben!C$1=36,'Gruppe AF6'!AI141,IF(Vorgaben!C$1=30,'Gruppe AF6'!AI141,'Gruppe AF6'!AI141))))","v":6},null,null,{"$f":"IF(Vorgaben!C$1=48,'Gruppe AF8'!AN162,IF(Vorgaben!C$1=42,'Gruppe AF7'!AN154,IF(Vorgaben!C$1=36,'Gruppe AF6'!AL141,IF(Vorgaben!C$1=30,'Gruppe AF6'!AL141,'Gruppe AF6'!BO128))))","v":8},null,null,{"$f":"IF(Vorgaben!C$1=48,'Gruppe AF8'!AQ162,IF(Vorgaben!C$1=42,'Gruppe AF7'!AQ154,IF(Vorgaben!C$1=36,'Gruppe AF6'!AO141,IF(Vorgaben!C$1=30,'Gruppe AF6'!AL141,'Gruppe AF6'!BP128))))","v":7},null,":",{"$f":"IF(Vorgaben!C$1=48,'Gruppe AF8'!AT162,IF(Vorgaben!C$1=42,'Gruppe AF7'!AT154,IF(Vorgaben!C$1=36,'Gruppe AF6'!AR141,IF(Vorgaben!C$1=30,'Gruppe AF6'!AR141,'Gruppe AF6'!BR128))))","v":5},null,{"$f":"IF(Vorgaben!C$1=48,'Gruppe AF8'!AV162,IF(Vorgaben!C$1=42,'Gruppe AF7'!AV154,IF(Vorgaben!C$1=36,'Gruppe AF6'!AT141,IF(Vorgaben!C$1=30,'Gruppe AF6'!AT141,'Gruppe AF6'!BS128))))","v":2}]
[null,null,null,null,null,null,null,null,"3.",null,{"$f":"IF(Vorgaben!C$1=48,'Gruppe AF8'!K163,IF(Vorgaben!C$1=42,'Gruppe AF7'!K155,IF(Vorgaben!C$1=36,'Gruppe AF6'!K142,'Gruppe AF6'!K142)))","v":"Gruppe B6"},null,null,null,null,null,null,null,null,null,null,null,null,null,null,null,null,null,null,null,null,null,null,null,null,null,{"$f":"IF(Vorgaben!C$1=48,'Gruppe AF8'!AK163,IF(Vorgaben!C$1=42,'Gruppe AF7'!AK155,IF(Vorgaben!C$1=36,'Gruppe AF6'!AI142,IF(Vorgaben!C$1=30,'Gruppe AF6'!AI142,'Gruppe AF6'!AI142))))","v":6},null,null,{"$f":"IF(Vorgaben!C$1=48,'Gruppe AF8'!AN163,IF(Vorgaben!C$1=42,'Gruppe AF7'!AN155,IF(Vorgaben!C$1=36,'Gruppe AF6'!AL142,IF(Vorgaben!C$1=30,'Gruppe AF6'!AL142,'Gruppe AF6'!BO129))))","v":8},null,null,{"$f":"IF(Vorgaben!C$1=48,'Gruppe AF8'!AQ163,IF(Vorgaben!C$1=42,'Gruppe AF7'!AQ155,IF(Vorgaben!C$1=36,'Gruppe AF6'!AO142,IF(Vorgaben!C$1=30,'Gruppe AF6'!AL142,'Gruppe AF6'!BP129))))","v":7},null,":",{"$f":"IF(Vorgaben!C$1=48,'Gruppe AF8'!AT163,IF(Vorgaben!C$1=42,'Gruppe AF7'!AT155,IF(Vorgaben!C$1=36,'Gruppe AF6'!AR142,IF(Vorgaben!C$1=30,'Gruppe AF6'!AR142,'Gruppe AF6'!BR129))))","v":6},null,{"$f":"IF(Vorgaben!C$1=48,'Gruppe AF8'!AV163,IF(Vorgaben!C$1=42,'Gruppe AF7'!AV155,IF(Vorgaben!C$1=36,'Gruppe AF6'!AT142,IF(Vorgaben!C$1=30,'Gruppe AF6'!AT142,'Gruppe AF6'!BS129))))","v":1}]
[null,null,null,null,null,null,null,null,"4.",null,{"$f":"IF(Vorgaben!C$1=48,'Gruppe AF8'!K164,IF(Vorgaben!C$1=42,'Gruppe AF7'!K156,IF(Vorgaben!C$1=36,'Gruppe AF6'!K143,'Gruppe AF6'!K143)))","v":"Gruppe B5"},null,null,null,null,null,null,null,null,null,null,null,null,null,null,null,null,null,null,null,null,null,null,null,null,null,{"$f":"IF(Vorgaben!C$1=48,'Gruppe AF8'!AK164,IF(Vorgaben!C$1=42,'Gruppe AF7'!AK156,IF(Vorgaben!C$1=36,'Gruppe AF6'!AI143,IF(Vorgaben!C$1=30,'Gruppe AF6'!AI143,'Gruppe AF6'!AI143))))","v":6},null,null,{"$f":"IF(Vorgaben!C$1=48,'Gruppe AF8'!AN164,IF(Vorgaben!C$1=42,'Gruppe AF7'!AN156,IF(Vorgaben!C$1=36,'Gruppe AF6'!AL143,IF(Vorgaben!C$1=30,'Gruppe AF6'!AL143,'Gruppe AF6'!BO130))))","v":6},null,null,{"$f":"IF(Vorgaben!C$1=48,'Gruppe AF8'!AQ164,IF(Vorgaben!C$1=42,'Gruppe AF7'!AQ156,IF(Vorgaben!C$1=36,'Gruppe AF6'!AO143,IF(Vorgaben!C$1=30,'Gruppe AF6'!AL143,'Gruppe AF6'!BP130))))","v":6},null,":",{"$f":"IF(Vorgaben!C$1=48,'Gruppe AF8'!AT164,IF(Vorgaben!C$1=42,'Gruppe AF7'!AT156,IF(Vorgaben!C$1=36,'Gruppe AF6'!AR143,IF(Vorgaben!C$1=30,'Gruppe AF6'!AR143,'Gruppe AF6'!BR130))))","v":6},null,{"$f":"IF(Vorgaben!C$1=48,'Gruppe AF8'!AV164,IF(Vorgaben!C$1=42,'Gruppe AF7'!AV156,IF(Vorgaben!C$1=36,'Gruppe AF6'!AT143,IF(Vorgaben!C$1=30,'Gruppe AF6'!AT143,'Gruppe AF6'!BS130))))","v":0}]
[null,null,null,null,null,null,null,null,"5.",null,{"$f":"IF(Vorgaben!C$1=48,'Gruppe AF8'!K165,IF(Vorgaben!C$1=42,'Gruppe AF7'!K157,IF(Vorgaben!C$1=36,'Gruppe AF6'!K144,'Gruppe AF6'!K144)))","v":"Gruppe B7"},null,null,null,null,null,null,null,null,null,null,null,null,null,null,null,null,null,null,null,null,null,null,null,null,null,{"$f":"IF(Vorgaben!C$1=48,'Gruppe AF8'!AK165,IF(Vorgaben!C$1=42,'Gruppe AF7'!AK157,IF(Vorgaben!C$1=36,'Gruppe AF6'!AI144,IF(Vorgaben!C$1=30,'Gruppe AF6'!AI144,'Gruppe AF6'!AI144))))","v":6},null,null,{"$f":"IF(Vorgaben!C$1=48,'Gruppe AF8'!AN165,IF(Vorgaben!C$1=42,'Gruppe AF7'!AN157,IF(Vorgaben!C$1=36,'Gruppe AF6'!AL144,IF(Vorgaben!C$1=30,'Gruppe AF6'!AL144,'Gruppe AF6'!BO131))))","v":6},null,null,{"$f":"IF(Vorgaben!C$1=48,'Gruppe AF8'!AQ165,IF(Vorgaben!C$1=42,'Gruppe AF7'!AQ157,IF(Vorgaben!C$1=36,'Gruppe AF6'!AO144,IF(Vorgaben!C$1=30,'Gruppe AF6'!AL144,'Gruppe AF6'!BP131))))","v":6},null,":",{"$f":"IF(Vorgaben!C$1=48,'Gruppe AF8'!AT165,IF(Vorgaben!C$1=42,'Gruppe AF7'!AT157,IF(Vorgaben!C$1=36,'Gruppe AF6'!AR144,IF(Vorgaben!C$1=30,'Gruppe AF6'!AR144,'Gruppe AF6'!BR131))))","v":6},null,{"$f":"IF(Vorgaben!C$1=48,'Gruppe AF8'!AV165,IF(Vorgaben!C$1=42,'Gruppe AF7'!AV157,IF(Vorgaben!C$1=36,'Gruppe AF6'!AT144,IF(Vorgaben!C$1=30,'Gruppe AF6'!AT144,'Gruppe AF6'!BS131))))","v":0}]
[null,null,null,null,null,null,null,null,"6.",null,{"$f":"IF(Vorgaben!C$1=48,'Gruppe AF8'!K166,IF(Vorgaben!C$1=42,'Gruppe AF7'!K158,IF(Vorgaben!C$1=36,'Gruppe AF6'!K145,'Gruppe AF6'!K145)))","v":"Gruppe B8"},null,null,null,null,null,null,null,null,null,null,null,null,null,null,null,null,null,null,null,null,null,null,null,null,null,{"$f":"IF(Vorgaben!C$1=48,'Gruppe AF8'!AK166,IF(Vorgaben!C$1=42,'Gruppe AF7'!AK158,IF(Vorgaben!C$1=36,'Gruppe AF6'!AI145,IF(Vorgaben!C$1=30,'Gruppe AF6'!AI145,'Gruppe AF6'!AI145))))","v":6},null,null,{"$f":"IF(Vorgaben!C$1=48,'Gruppe AF8'!AN166,IF(Vorgaben!C$1=42,'Gruppe AF7'!AN158,IF(Vorgaben!C$1=36,'Gruppe AF6'!AL145,IF(Vorgaben!C$1=30,'Gruppe AF6'!AL145,'Gruppe AF6'!BO132))))","v":6},null,null,{"$f":"IF(Vorgaben!C$1=48,'Gruppe AF8'!AQ166,IF(Vorgaben!C$1=42,'Gruppe AF7'!AQ158,IF(Vorgaben!C$1=36,'Gruppe AF6'!AO145,IF(Vorgaben!C$1=30,'Gruppe AF6'!AL145,'Gruppe AF6'!BP132))))","v":6},null,":",{"$f":"IF(Vorgaben!C$1=48,'Gruppe AF8'!AT166,IF(Vorgaben!C$1=42,'Gruppe AF7'!AT158,IF(Vorgaben!C$1=36,'Gruppe AF6'!AR145,IF(Vorgaben!C$1=30,'Gruppe AF6'!AR145,'Gruppe AF6'!BR132))))","v":6},null,{"$f":"IF(Vorgaben!C$1=48,'Gruppe AF8'!AV166,IF(Vorgaben!C$1=42,'Gruppe AF7'!AV158,IF(Vorgaben!C$1=36,'Gruppe AF6'!AT145,IF(Vorgaben!C$1=30,'Gruppe AF6'!AT145,'Gruppe AF6'!BS132))))","v":0}]
[null,null,null,null,null,null,null,null,"7.",null,{"$f":"IF(Vorgaben!C$1=48,'Gruppe AF8'!K167,IF(Vorgaben!C$1=42,'Gruppe AF7'!K159,IF(Vorgaben!C$1=36,'Gruppe AF6'!K146,'Gruppe AF6'!K146)))","v":"Gruppe B4"},null,null,null,null,null,null,null,null,null,null,null,null,null,null,null,null,null,null,null,null,null,null,null,null,null,{"$f":"IF(Vorgaben!C$1=48,'Gruppe AF8'!AK167,IF(Vorgaben!C$1=42,'Gruppe AF7'!AK159,IF(Vorgaben!C$1=36,'Gruppe AF6'!AI146,IF(Vorgaben!C$1=30,'Gruppe AF6'!K146,\"\"))))","v":6},null,null,{"$f":"IF(Vorgaben!C$1=48,'Gruppe AF8'!AN167,IF(Vorgaben!C$1=42,'Gruppe AF7'!AN159,IF(Vorgaben!C$1=36,'Gruppe AF6'!AL146,IF(Vorgaben!C$1=30,'Gruppe AF6'!AL146,\"\"))))","v":5},null,null,{"$f":"IF(Vorgaben!C$1=48,'Gruppe AF8'!AQ167,IF(Vorgaben!C$1=42,'Gruppe AF7'!AQ159,IF(Vorgaben!C$1=36,'Gruppe AF6'!AO146,IF(Vorgaben!C$1=30,'Gruppe AF6'!AL146,\"\"))))","v":6},null,":",{"$f":"IF(Vorgaben!C$1=48,'Gruppe AF8'!AT167,IF(Vorgaben!C$1=42,'Gruppe AF7'!AT159,IF(Vorgaben!C$1=36,'Gruppe AF6'!AR146,IF(Vorgaben!C$1=30,'Gruppe AF6'!AR146,\"\"))))","v":8},null,{"$f":"IF(Vorgaben!C$1=48,'Gruppe AF8'!AV167,IF(Vorgaben!C$1=42,'Gruppe AF7'!AV159,IF(Vorgaben!C$1=36,'Gruppe AF6'!AT146,IF(Vorgaben!C$1=30,'Gruppe AF6'!AT146,\"\"))))","v":-2}]
[null,null,null,null,null,null,null,null,"8.",null,{"$f":"IF(Vorgaben!C$1=48,'Gruppe AF8'!K168,IF(Vorgaben!C$1=42,'Gruppe AF7'!K160,IF(Vorgaben!C$1=36,'Gruppe AF6'!K147,'Gruppe AF6'!K147)))","v":"Gruppe B2"},null,null,null,null,null,null,null,null,null,null,null,null,null,null,null,null,null,null,null,null,null,null,null,null,null,{"$f":"IF(Vorgaben!C$1=48,'Gruppe AF8'!AK168,IF(Vorgaben!C$1=42,'Gruppe AF7'!AK160,IF(Vorgaben!C$1=36,'Gruppe AF6'!AI147,IF(Vorgaben!C$1=30,'Gruppe AF6'!K147,\"\"))))","v":6},null,null,{"$f":"IF(Vorgaben!C$1=48,'Gruppe AF8'!AN168,IF(Vorgaben!C$1=42,'Gruppe AF7'!AN160,IF(Vorgaben!C$1=36,'Gruppe AF6'!AL147,IF(Vorgaben!C$1=30,'Gruppe AF6'!AL147,\"\"))))","v":4},null,null,{"$f":"IF(Vorgaben!C$1=48,'Gruppe AF8'!AQ168,IF(Vorgaben!C$1=42,'Gruppe AF7'!AQ160,IF(Vorgaben!C$1=36,'Gruppe AF6'!AO147,IF(Vorgaben!C$1=30,'Gruppe AF6'!AL147,\"\"))))","v":5},null,":",{"$f":"IF(Vorgaben!C$1=48,'Gruppe AF8'!AT168,IF(Vorgaben!C$1=42,'Gruppe AF7'!AT160,IF(Vorgaben!C$1=36,'Gruppe AF6'!AR147,IF(Vorgaben!C$1=30,'Gruppe AF6'!AR147,\"\"))))","v":8},null,{"$f":"IF(Vorgaben!C$1=48,'Gruppe AF8'!AV168,IF(Vorgaben!C$1=42,'Gruppe AF7'!AV160,IF(Vorgaben!C$1=36,'Gruppe AF6'!AT147,IF(Vorgaben!C$1=30,'Gruppe AF6'!AT147,\"\"))))","v":-3}]

{"sheet":"Gruppe C1","index":9,"n_rows":68,"n_cols":71,"rows_kept":68,"cut":false,"hidden":false,"merged":[[9,7,9,11],[9,20,9,21],[9,23,9,27],[9,37,9,41],[14,9,14,46],[14,47,14,48],[1,0,1,54],[2,0,2,54],[3,0,3,41],[5,12,5,19],[5,24,5,31],[7,1,7,38],[9,48,9,52],[17,9,17,10],[17,11,17,46],[17,47,17,48],[18,9,18,10],[18,11,18,46],[18,47,18,48],[15,9,15,10],[15,11,15,46],[15,47,15,48],[16,9,16,10],[16,11,16,46],[16,47,16,48],[21,9,21,10],[21,11,21,46],[21,47,21,48],[22,9,22,10],[22,11,22,46],[22,47,22,48],[19,9,19,10],[19,11,19,46],[19,47,19,48],[20,9,20,10],[20,11,20,46],[20,47,20,48],[26,1,26,2],[26,3,26,8],[26,10,26,47],[26,48,26,52],[26,53,26,54],[27,1,27,2],[27,3,27,8],[27,9,27,27],[27,29,27,47],[27,53,27,54],[27,48,27,49],[27,51,27,52],[28,1,28,2],[28,3,28,8],[28,9,28,27],[28,29,28,47],[28,53,28,54],[29,53,29,54],[30,1,30,2],[30,3,30,8],[30,9,30,27],[30,29,30,47],[30,53,30,54],[29,1,29,2],[29,3,29,8],[29,9,29,27],[29,29,29,47],[28,48,28,49],[29,48,29,49],[28,51,28,52],[29,51,29,52],[30,48,30,49],[30,51,30,52],[31,53,31,54],[32,1,32,2],[32,3,32,8],[32,9,32,27],[32,29,32,47],[32,53,32,54],[31,1,31,2],[31,3,31,8],[31,9,31,27],[31,29,31,47],[32,48,32,49],[31,48,31,49],[32,51,32,52],[31,51,31,52],[33,53,33,54],[34,1,34,2],[34,3,34,8],[34,9,34,27],[34,29,34,47],[34,53,34,54],[33,1,33,2],[33,3,33,8],[33,9,33,27],[33,29,33,47],[34,48,34,49],[33,48,33,49],[34,51,34,52],[33,51,33,52],[35,53,35,54],[36,1,36,2],[36,3,36,8],[36,9,36,27],[36,29,36,47],[36,53,36,54],[35,1,35,2],[35,3,35,8],[35,9,35,27],[35,29,35,47],[36,48,36,49],[35,48,35,49],[36,51,36,52],[35,51,35,52],[37,53,37,54],[38,1,38,2],[38,3,38,8],[38,9,38,27],[38,29,38,47],[38,53,38,54],[37,1,37,2],[37,3,37,8],[37,9,37,27],[37,29,37,47],[38,48,38,49],[37,48,37,49],[38,51,38,52],[37,51,37,52],[39,53,39,54],[40,1,40,2],[40,3,40,8],[40,9,40,27],[40,29,40,47],[40,53,40,54],[39,1,39,2],[39,3,39,8],[39,9,39,27],[39,29,39,47],[40,48,40,49],[39,48,39,49],[40,51,40,52],[39,51,39,52],[41,53,41,54],[42,1,42,2],[42,3,42,8],[42,9,42,27],[42,29,42,47],[42,53,42,54],[41,1,41,2],[41,3,41,8],[41,9,41,27],[41,29,41,47],[42,48,42,49],[41,48,41,49],[42,51,42,52],[41,51,41,52],[43,53,43,54],[44,1,44,2],[44,3,44,8],[44,9,44,27],[44,29,44,47],[44,53,44,54],[43,1,43,2],[43,3,43,8],[43,9,43,27],[43,29,43,47],[44,48,44,49],[43,48,43,49],[44,51,44,52],[43,51,43,52],[45,53,45,54],[46,1,46,2],[46,3,46,8],[46,9,46,27],[46,29,46,47],[46,53,46,54],[45,1,45,2],[45,3,45,8],[45,9,45,27],[45,29,45,47],[46,48,46,49],[45,48,45,49],[46,51,46,52],[45,51,45,52],[47,53,47,54],[48,1,48,2],[48,3,48,8],[48,9,48,27],[48,29,48,47],[48,53,48,54],[47,1,47,2],[47,3,47,8],[47,9,47,27],[47,29,47,47],[48,48,48,49],[47,48,47,49],[48,51,48,52],[47,51,47,52],[49,53,49,54],[50,1,50,2],[50,3,50,8],[50,9,50,27],[50,29,50,47],[50,53,50,54],[49,1,49,2],[49,3,49,8],[49,9,49,27],[49,29,49,47],[50,48,50,49],[49,48,49,49],[50,51,50,52],[49,51,49,52],[51,53,51,54],[52,1,52,2],[52,3,52,8],[52,9,52,27],[52,29,52,47],[52,53,52,54],[51,1,51,2],[51,3,51,8],[51,9,51,27],[51,29,51,47],[52,48,52,49],[51,48,51,49],[52,51,52,52],[51,51,51,52],[53,53,53,54],[54,1,54,2],[54,3,54,8],[54,9,54,27],[54,29,54,47],[54,53,54,54],[53,1,53,2],[53,3,53,8],[53,9,53,27],[53,29,53,47],[54,48,54,49],[53,48,53,49],[54,51,54,52],[53,51,53,52],[59,8,59,35],[59,36,59,38],[59,39,59,41],[59,42,59,46],[59,47,59,49],[60,8,60,9],[60,10,60,35],[60,36,60,38],[60,39,60,41],[60,42,60,43],[60,45,60,46],[60,47,60,49],[61,47,61,49],[62,47,62,49],[63,8,63,9],[63,10,63,35],[63,36,63,38],[63,39,63,41],[63,42,63,43],[63,45,63,46],[63,47,63,49],[62,8,62,9],[62,10,62,35],[62,36,62,38],[62,39,62,41],[62,42,62,43],[62,45,62,46],[64,36,64,38],[64,39,64,41],[64,42,64,43],[64,45,64,46],[61,8,61,9],[61,10,61,35],[61,36,61,38],[61,39,61,41],[61,42,61,43],[61,45,61,46],[64,47,64,49],[65,8,65,9],[65,10,65,35],[65,36,65,38],[65,39,65,41],[65,42,65,43],[66,47,66,49],[67,8,67,9],[67,10,67,35],[67,36,67,38],[67,39,67,41],[67,42,67,43],[67,45,67,46],[67,47,67,49],[66,8,66,9],[66,10,66,35],[66,36,66,38],[66,39,66,41],[66,42,66,43],[66,45,66,46],[65,45,65,46],[65,47,65,49],[64,8,64,9],[64,10,64,35]]}
[]
["Vorrunde"]
["Gruppe C"]
[]
[]
[]
[]
[]
[]
[null,null,null,null,null,null,"Beginn:",{"$f":"Vorgaben!C4","v":"14:15:00"},null,null,null,null,"Uhr",null,null,null,null,null,null,"Spielzeit:",{"$f":"Vorgaben!C5","v":1},"1x","x",{"$f":"Vorgaben!C6","v":"00:09:00"},null,null,null,null,"min",null,null,null,null,null,null,null,"Pause:",{"$f":"Vorgaben!C7","v":"00:01:00"},null,null,null,null,"min",null,null,null,null,"HZ:",{"$f":"IF(Vorgaben!C5>1,Vorgaben!C8,0)","v":"00:00:00"},null,null,null,null,"min"]
[]
[]
[null,"I. Teilnehmende Mannschaften"]
[]
[null,null,null,null,null,null,null,null,null,"Mannschaften"]
[null,null,null,null,null,null,null,null,null,"1.",null,{"$f":"Vorgaben!B29","v":"Gruppe C1"}]
[null,null,null,null,null,null,null,null,null,"2.",null,{"$f":"Vorgaben!B30","v":"Gruppe C2"}]
[null,null,null,null,null,null,null,null,null,"3.",null,{"$f":"Vorgaben!B31","v":"Gruppe C3"}]
[null,null,null,null,null,null,null,null,null,"4.",null,{"$f":"Vorgaben!B32","v":"Gruppe C4"}]
[null,null,null,null,null,null,null,null,null,"5.",null,{"$f":"Vorgaben!B33","v":"Gruppe C5"}]
[null,null,null,null,null,null,null,null,null,"6.",null,{"$f":"Vorgaben!B34","v":"Gruppe C6"}]
[null,null,null,null,null,null,null,null,null,"7.",null,{"$f":"Vorgaben!B35","v":"Gruppe C7"}]
[null,null,null,null,null,null,null,null,null,"8.",null,{"$f":"Vorgaben!B36","v":"Gruppe C8"}]
[]
[null,"II. Spielplan"]
[null,null,null,null,null,null,null,null,null,null,null,null,null,null,null,null,null,null,null,null,null,null,null,null,null,null,null,null,null,null,null,null,null,null,null,null,null,null,null,null,null,null,null,null,null,null,null,null,null,null,null,null,null,null,null,null,null,null,null,null,null,null,null,null,"6er"]
[null,"Nr.",null,"Beginn",null,null,null,null,null,null,"Spielpaarung",null,null,null,null,null,null,null,null,null,null,null,null,null,null,null,null,null,null,null,null,null,null,null,null,null,null,null,null,null,null,null,null,null,null,null,null,null,"Ergebnis",null,null,null,null,"Pl",null,null,null,"Punkte",null,null,null,null,null,null,{"$f":"$L$16","v":"Gruppe C1"},{"$f":"COUNT($AW$28,$AW$31,$AZ$34,$AW$37,$AZ$40)","v":1},{"$f":"SUM($BF$28+$BF$31+$BH$34+$BF$37+$BH$40)","v":3},{"$f":"SUM($AW$28+$AW$31+$AZ$34+$AW$37+$AZ$40)","v":2},":",{"$f":"SUM(AZ28+AZ31+$AW$34+AZ37+$AW$40)","v":0},{"$f":"SUM(BP27-BR27)","v":2}]
[{"$f":"VLOOKUP(B28,Vorgaben!B8:C14,2,FALSE)","v":{"$error":"#N/A"}},1,null,{"$f":"$H$10","v":"14:15:00"},null,null,null,null,null,{"$f":"IF(Vorgaben!C$1=48,'Gruppe AF8'!J228,IF(Vorgaben!C$1=42,'Gruppe AF7'!O227,IF(Vorgaben!C$1=36,'Gruppe AF6'!I221,'Gruppe AF6'!I221)))","v":"Gruppe C1"},null,null,null,null,null,null,null,null,null,null,null,null,null,null,null,null,null,null,"-",{"$f":"IF(Vorgaben!C$1=48,'Gruppe AF8'!AD228,IF(Vorgaben!C$1=42,'Gruppe AF7'!AF227,IF(Vorgaben!C$1=36,'Gruppe AF6'!AC221,'Gruppe AF6'!AC221)))","v":"Gruppe C2"},null,null,null,null,null,null,null,null,null,null,null,null,null,null,null,null,null,null,null,null,":",null,null,{"$f":"Vorgaben!$C$29","v":3},null,null,null,{"$f":"IF(ISBLANK(AW28),\"0\",IF(AW28>AZ28,3,IF(AW28=AZ28,1,0)))","v":"0"},":",{"$f":"IF(ISBLANK(AZ28),\"0\",IF(AZ28>AW28,3,IF(AZ28=AW28,1,0)))","v":"0"},null,null,null,null,{"$f":"$L$19","v":"Gruppe C4"},{"$f":"COUNT($AZ$29,$AW$33,$AZ$35,$AZ$37,$AW$42)","v":1},{"$f":"SUM($BH$29+$BF$33+$BH$35+$BH$37+$BF$42)","v":0},{"$f":"SUM($AZ$29+$AW$33+$AZ$35+$AZ$37+$AW$42)","v":4},":",{"$f":"SUM($AW$29+AZ33+$AW$35+$AW$37+AZ42)","v":5},{"$f":"SUM(BP28-BR28)","v":-1}]
[{"$f":"VLOOKUP(B29,Vorgaben!B$10:C$16,2,FALSE)","v":{"$error":"#N/A"}},2,null,{"$f":"IF(ISNA(A29),D28+($U$10*$X$10+$AL$10+$AW$10),D28+($U$10*$X$10+$AL$10+$AW$10)+A29)","v":"14:25:00"},null,null,null,null,null,{"$f":"IF(Vorgaben!C$1=48,'Gruppe AF8'!J229,IF(Vorgaben!C$1=42,'Gruppe AF7'!O228,IF(Vorgaben!C$1=36,'Gruppe AF6'!I222,'Gruppe AF6'!I222)))","v":"Gruppe C3"},null,null,null,null,null,null,null,null,null,null,null,null,null,null,null,null,null,null,"-",{"$f":"IF(Vorgaben!C$1=48,'Gruppe AF8'!AD229,IF(Vorgaben!C$1=42,'Gruppe AF7'!AF228,IF(Vorgaben!C$1=36,'Gruppe AF6'!AC222,'Gruppe AF6'!AC222)))","v":"Gruppe C4"},null,null,null,null,null,null,null,null,null,null,null,null,null,null,null,null,null,null,null,null,":",null,null,{"$f":"Vorgaben!$C$29","v":3},null,null,null,"0",":","0",null,null,null,null,{"$f":"$L$21","v":"Gruppe C6"},{"$f":"COUNT($AZ$30,$AZ$33,$AW$36,$AW$38,$AW$40)","v":2},{"$f":"SUM($BH$30+$BH$33+$BF$36+$BF$38+$BF$40)","v":3},{"$f":"SUM($AZ$30+$AZ$33+$AW$36+$AW$38+$AW$40)","v":5},":",{"$f":"SUM($AW$30+$AW$33+AZ36+AZ38+AZ40)","v":9},-4]
[{"$f":"VLOOKUP(B30,Vorgaben!B$10:C$16,2,FALSE)","v":{"$error":"#N/A"}},3,null,{"$f":"IF(ISNA(A30),D29+($U$10*$X$10+$AL$10+$AW$10),D29+($U$10*$X$10+$AL$10+$AW$10)+A30)","v":"14:35:00"},null,null,null,null,null,{"$f":"IF(Vorgaben!C$1=48,'Gruppe AF8'!J230,IF(Vorgaben!C$1=42,'Gruppe AF7'!O229,IF(Vorgaben!C$1=36,'Gruppe AF6'!I223,'Gruppe AF6'!I223)))","v":"Gruppe C5"},null,null,null,null,null,null,null,null,null,null,null,null,null,null,null,null,null,null,"-",{"$f":"IF(Vorgaben!C$1=48,'Gruppe AF8'!AD230,IF(Vorgaben!C$1=42,'Gruppe AF7'!AF229,IF(Vorgaben!C$1=36,'Gruppe AF6'!AC223,'Gruppe AF6'!AC223)))","v":"Gruppe C6"},null,null,null,null,null,null,null,null,null,null,null,null,null,null,null,null,null,null,5,null,":",0,null,{"$f":"Vorgaben!$C$29","v":3},null,null,null,3,":",0,null,null,null,null,{"$f":"$L$17","v":"Gruppe C2"},{"$f":"COUNT($AZ$28,$AW$32,$AZ$38,$AW$35,$AW$41)","v":1},{"$f":"SUM($BH$28+$BF$32+$BF$35+$BH$38+$BF$41)","v":3},{"$f":"SUM($AZ$28+$AW$32+$AW$35+$AZ$38+$AW$41)","v":3},":",{"$f":"SUM($AW$28+AZ32+AZ34+$AW$38+AZ41)","v":1},2]
[{"$f":"VLOOKUP(B31,Vorgaben!B$10:C$16,2,FALSE)","v":{"$error":"#N/A"}},4,null,"14:45:00",null,null,null,null,null,{"$f":"IF(Vorgaben!C$1=48,'Gruppe AF8'!J231,IF(Vorgaben!C$1=42,'Gruppe AF7'!O230,IF(Vorgaben!C$1=36,'Gruppe AF6'!I224,'Gruppe AF6'!I224)))","v":"Gruppe C7"},null,null,null,null,null,null,null,null,null,null,null,null,null,null,null,null,null,null,"-",{"$f":"IF(Vorgaben!C$1=48,'Gruppe AF8'!AD231,IF(Vorgaben!C$1=42,'Gruppe AF7'!AF230,IF(Vorgaben!C$1=36,'Gruppe AF6'!AC224,'Gruppe AF6'!AC224)))","v":"Gruppe C8"},null,null,null,null,null,null,null,null,null,null,null,null,null,null,null,null,null,null,2,null,":",0,null,{"$f":"Vorgaben!$C$29","v":3},null,null,null,3,":",0,null,null,null,null,{"$f":"$L$18","v":"Gruppe C3"},{"$f":"COUNT($AW$29,$AZ$31,$AZ$36,$AW$39,$AZ$41)","v":1},{"$f":"SUM($BF$29+$BH$31+$BH$36+$BF$39+$BH$41)","v":0},{"$f":"SUM($AW$29+$AZ$31+$AZ$36+$AW$39+$AZ$41)","v":0},":",{"$f":"SUM($AW$31+AZ29+$AW$36+AZ39+$AW$41)","v":2},-2]
[{"$f":"IF(VLOOKUP(B32,Vorgaben!B$10:C$16,2,FALSE)=\"\",\"\",VLOOKUP(B32,Vorgaben!B$10:C$16,2,FALSE))","v":{"$error":"#N/A"}},5,null,"14:55:00",null,null,null,null,null,{"$f":"IF(Vorgaben!C$1=48,'Gruppe AF8'!J232,IF(Vorgaben!C$1=42,'Gruppe AF7'!O231,IF(Vorgaben!C$1=36,'Gruppe AF6'!I225,'Gruppe AF6'!I225)))","v":"Gruppe C4"},null,null,null,null,null,null,null,null,null,null,null,null,null,null,null,null,null,null,"-",{"$f":"IF(Vorgaben!C$1=48,'Gruppe AF8'!AD232,IF(Vorgaben!C$1=42,'Gruppe AF7'!AF231,IF(Vorgaben!C$1=36,'Gruppe AF6'!AC225,'Gruppe AF6'!AC225)))","v":"Gruppe C1"},null,null,null,null,null,null,null,null,null,null,null,null,null,null,null,null,null,null,3,null,":",1,null,{"$f":"Vorgaben!$C$29","v":3},null,null,null,3,":",0,null,null,null,null,{"$f":"$L$20","v":"Gruppe C5"},{"$f":"COUNT($AW$30,$AZ$32,$AW$34,$AZ$39,$AZ$42)","v":2},{"$f":"SUM($BF$30+$BH$32+$BF$34+$BH$39+$BH$42)","v":3},{"$f":"SUM($AW$30+$AZ$32+$AW$34+$AZ$39+$AZ$42)","v":6},":",{"$f":"SUM(AZ30+AZ34+$AW$32+$AW$39+$AW$425+$AW$42)","v":3},3]
[{"$f":"VLOOKUP(B33,Vorgaben!B$10:C$16,2,FALSE)","v":{"$error":"#N/A"}},6,null,"15:05:00",null,null,null,null,null,{"$f":"IF(Vorgaben!C$1=48,'Gruppe AF8'!J233,IF(Vorgaben!C$1=42,'Gruppe AF7'!O232,IF(Vorgaben!C$1=36,'Gruppe AF6'!I226,'Gruppe AF6'!I226)))","v":"Gruppe C2"},null,null,null,null,null,null,null,null,null,null,null,null,null,null,null,null,null,null,"-",{"$f":"IF(Vorgaben!C$1=48,'Gruppe AF8'!AD233,IF(Vorgaben!C$1=42,'Gruppe AF7'!AF232,IF(Vorgaben!C$1=36,'Gruppe AF6'!AC226,'Gruppe AF6'!AC226)))","v":"Gruppe C3"},null,null,null,null,null,null,null,null,null,null,null,null,null,null,null,null,null,null,4,null,":",5,null,{"$f":"Vorgaben!$C$29","v":3},null,null,null,0,":",3,null,null,null,null,"8er"]
[{"$f":"VLOOKUP(B34,Vorgaben!B$10:C$16,2,FALSE)","v":{"$error":"#N/A"}},7,null,"15:15:00",null,null,null,null,null,{"$f":"IF(Vorgaben!C$1=48,'Gruppe AF8'!J234,IF(Vorgaben!C$1=42,'Gruppe AF7'!O233,IF(Vorgaben!C$1=36,'Gruppe AF6'!I227,'Gruppe AF6'!I227)))","v":"Gruppe C8"},null,null,null,null,null,null,null,null,null,null,null,null,null,null,null,null,null,null,"-",{"$f":"IF(Vorgaben!C$1=48,'Gruppe AF8'!AD234,IF(Vorgaben!C$1=42,'Gruppe AF7'!AF233,IF(Vorgaben!C$1=36,'Gruppe AF6'!AC227,'Gruppe AF6'!AC227)))","v":"Gruppe C5"},null,null,null,null,null,null,null,null,null,null,null,null,null,null,null,null,null,null,null,null,":",null,null,{"$f":"Vorgaben!$C$29","v":3},null,null,null,"0",":","0",null,null,null,null,{"$f":"$L$20","v":"Gruppe C5"},{"$f":"COUNT($AW$30,$AZ$34,$AW$36,$AZ$41,$AW$47,$AW$51,$AZ$54)","v":3},{"$f":"SUM($BF$30+$BH$34+$BF$36+$BH$41+$BF$47+$BF$51+$BH$54)","v":9},{"$f":"SUM($AW$30+$AZ$34+$AW$36+$AZ$41+$AW$47+$AW$51+$AZ$54)","v":12},":",{"$f":"SUM($AZ$30+$AW$34+$AZ$36+$AW$41+$AZ$47+$AZ$51+$AW$54)","v":1},{"$f":"SUM(BP34-BR34)","v":11}]
[{"$f":"VLOOKUP(B35,Vorgaben!B$10:C$16,2,FALSE)","v":{"$error":"#N/A"}},8,null,"15:25:00",null,null,null,null,null,{"$f":"IF(Vorgaben!C$1=48,'Gruppe AF8'!J235,IF(Vorgaben!C$1=42,'Gruppe AF7'!O234,IF(Vorgaben!C$1=36,'Gruppe AF6'!I228,'Gruppe AF6'!I228)))","v":"Gruppe C6"},null,null,null,null,null,null,null,null,null,null,null,null,null,null,null,null,null,null,"-",{"$f":"IF(Vorgaben!C$1=48,'Gruppe AF8'!AD235,IF(Vorgaben!C$1=42,'Gruppe AF7'!AF234,IF(Vorgaben!C$1=36,'Gruppe AF6'!AC228,'Gruppe AF6'!AC228)))","v":"Gruppe C7"},null,null,null,null,null,null,null,null,null,null,null,null,null,null,null,null,null,null,null,null,":",null,null,{"$f":"Vorgaben!$C$29","v":3},null,null,null,"0",":","0",null,null,null,null,{"$f":"$L$22","v":"Gruppe C7"},{"$f":"COUNT($AW$31,$AZ$35,$AZ$38,$AW$41,$AZ$44,$AW$50,$AZ$55)","v":2},{"$f":"SUM($BF$31+$BH$35+$BH$38+$BF$41+$BH$44+$BF$50+$BH$55)","v":3},{"$f":"SUM($AW$31+$AZ$35+$AZ$38+$AW$41+$AZ$44+$AW$50+$AZ$55)","v":4},":",{"$f":"SUM($AZ$31+$AW$35+$AW$38+$AZ$41+$AW$44+$AZ$50+$AW$55)","v":4},{"$f":"SUM(BP35-BR35)","v":0}]
[{"$f":"VLOOKUP(B36,Vorgaben!B$10:C$16,2,FALSE)","v":{"$error":"#N/A"}},9,null,"15:35:00",null,null,null,null,null,{"$f":"IF(Vorgaben!C$1=48,'Gruppe AF8'!J236,IF(Vorgaben!C$1=42,'Gruppe AF7'!O235,IF(Vorgaben!C$1=36,'Gruppe AF6'!I229,'Gruppe AF6'!I229)))","v":"Gruppe C5"},null,null,null,null,null,null,null,null,null,null,null,null,null,null,null,null,null,null,"-",{"$f":"IF(Vorgaben!C$1=48,'Gruppe AF8'!AD236,IF(Vorgaben!C$1=42,'Gruppe AF7'!AF235,IF(Vorgaben!C$1=36,'Gruppe AF6'!AC229,'Gruppe AF6'!AC229)))","v":"Gruppe C4"},null,null,null,null,null,null,null,null,null,null,null,null,null,null,null,null,null,null,null,null,":",null,null,{"$f":"Vorgaben!$C$29","v":3},null,null,null,"0",":","0",null,null,null,null,{"$f":"$L$18","v":"Gruppe C3"},{"$f":"COUNT($AW$29,$AZ$33,$AZ$37,$AW$43,$AZ$47,$AZ$50,$AW$53)","v":3},{"$f":"SUM($BF$29+$BH$33+$BH$37+$BF$43+$BH$47+$BH$50+$BF$53)","v":6},{"$f":"SUM($AW$29+$AZ$33+$AZ$37+$AW$43+$AZ$47+$AZ$50+$AW$53)","v":10},":",{"$f":"SUM($AZ$29+$AW$33+$AW$37+$AZ$43+$AW$47+$AW$50+$AZ$53)","v":14},-4]
[{"$f":"VLOOKUP(B37,Vorgaben!B$10:C$16,2,FALSE)","v":{"$error":"#N/A"}},10,null,"15:45:00",null,null,null,null,null,{"$f":"IF(Vorgaben!C$1=48,'Gruppe AF8'!J237,IF(Vorgaben!C$1=42,'Gruppe AF7'!O236,IF(Vorgaben!C$1=36,'Gruppe AF6'!I230,'Gruppe AF6'!I230)))","v":"Gruppe C1"},null,null,null,null,null,null,null,null,null,null,null,null,null,null,null,null,null,null,"-",{"$f":"IF(Vorgaben!C$1=48,'Gruppe AF8'!AD237,IF(Vorgaben!C$1=42,'Gruppe AF7'!AF236,IF(Vorgaben!C$1=36,'Gruppe AF6'!AC230,'Gruppe AF6'!AC230)))","v":"Gruppe C3"},null,null,null,null,null,null,null,null,null,null,null,null,null,null,null,null,null,null,null,null,":",null,null,{"$f":"Vorgaben!$C$29","v":3},null,null,null,"0",":","0",null,null,null,null,{"$f":"$L$17","v":"Gruppe C2"},{"$f":"COUNT($AZ$28,$AW$33,$AW$38,$AZ$40,$AW$45,$AZ$49,$AW$54)","v":2},{"$f":"SUM($BH$28+$BF$33+$BF$38+$BH$40+$BF$45+$BH$49+$BF$54)","v":0},{"$f":"SUM($AZ$28+$AW$33+$AW$38+$AZ$40+$AW$45+$AZ$49+$AW$54)","v":5},":",{"$f":"SUM($AW$28+$AZ$33+$AZ$38+$AW$40+$AZ$45+$AW$49+$AZ$54)","v":9},-4]
[{"$f":"VLOOKUP(B38,Vorgaben!B$10:C$16,2,FALSE)","v":{"$error":"#N/A"}},11,null,"15:55:00",null,null,null,null,null,{"$f":"IF(Vorgaben!C$1=48,'Gruppe AF8'!J238,IF(Vorgaben!C$1=42,'Gruppe AF7'!O237,IF(Vorgaben!C$1=36,'Gruppe AF6'!I231,'Gruppe AF6'!I231)))","v":"Gruppe C2"},null,null,null,null,null,null,null,null,null,null,null,null,null,null,null,null,null,null,"-",{"$f":"IF(Vorgaben!C$1=48,'Gruppe AF8'!AD238,IF(Vorgaben!C$1=42,'Gruppe AF7'!AF237,IF(Vorgaben!C$1=36,'Gruppe AF6'!AC231,'Gruppe AF6'!AC231)))","v":"Gruppe C7"},null,null,null,null,null,null,null,null,null,null,null,null,null,null,null,null,null,null,null,null,":",null,null,{"$f":"Vorgaben!$C$29","v":3},null,null,null,"0",":","0",null,null,null,null,{"$f":"$L$16","v":"Gruppe C1"},{"$f":"COUNT($AW$28,$AZ$32,$AW$37,$AZ$42,$AW$46,$AZ$51,$AW$55)","v":2},{"$f":"SUM($BF$28+$BH$32+$BF$37+$BH$42+$BF$46+$BH$51+$BF$55)","v":0},{"$f":"SUM($AW$28+$AZ$32+$AW$37+$AZ$42+$AW$46+$AZ$51+$AW$55)","v":1},":",{"$f":"SUM($AZ$28+$AW$32+$AZ$37+$AW$42+$AZ$46+$AW$51+$AZ$55)","v":6},-5]
[{"$f":"VLOOKUP(B39,Vorgaben!B$10:C$16,2,FALSE)","v":{"$error":"#N/A"}},12,null,"16:05:00",null,null,null,null,null,{"$f":"IF(Vorgaben!C$1=48,'Gruppe AF8'!J239,IF(Vorgaben!C$1=42,'Gruppe AF7'!O238,IF(Vorgaben!C$1=36,'Gruppe AF6'!I232,'Gruppe AF6'!I232)))","v":"Gruppe C6"},null,null,null,null,null,null,null,null,null,null,null,null,null,null,null,null,null,null,"-",{"$f":"IF(Vorgaben!C$1=48,'Gruppe AF8'!AD239,IF(Vorgaben!C$1=42,'Gruppe AF7'!AF238,IF(Vorgaben!C$1=36,'Gruppe AF6'!AC232,'Gruppe AF6'!AC232)))","v":"Gruppe C8"},null,null,null,null,null,null,null,null,null,null,null,null,null,null,null,null,null,null,null,null,":",null,null,{"$f":"Vorgaben!$C$29","v":3},null,null,null,"0",":","0",null,null,null,null,{"$f":"$L$19","v":"Gruppe C4"},{"$f":"COUNT($AZ$29,$AW$32,$AZ$36,$AW$40,$AW$44,$AZ$48,$AW$52)","v":3},{"$f":"SUM($BH$29+$BF$32+$BH$36+$BF$40+$BF$44+$BH$48+$BF$52)","v":6},{"$f":"SUM($AZ$29+$AW$32+$AZ$36+$AW$40+$AW$44+$AZ$48+$AW$52)","v":9},":",{"$f":"SUM($AW$29+$AZ$32+$AW$36+$AZ$40+$AZ$44+$AW$48+$AZ$52)","v":3},6]
[{"$f":"VLOOKUP(B40,Vorgaben!B$10:C$16,2,FALSE)","v":{"$error":"#N/A"}},13,null,"16:15:00",null,null,null,null,null,{"$f":"IF(Vorgaben!C$1=48,'Gruppe AF8'!J240,IF(Vorgaben!C$1=42,'Gruppe AF7'!O239,IF(Vorgaben!C$1=36,'Gruppe AF6'!I233,'Gruppe AF6'!I233)))","v":"Gruppe C4"},null,null,null,null,null,null,null,null,null,null,null,null,null,null,null,null,null,null,"-",{"$f":"IF(Vorgaben!C$1=48,'Gruppe AF8'!AD240,IF(Vorgaben!C$1=42,'Gruppe AF7'!AF239,IF(Vorgaben!C$1=36,'Gruppe AF6'!AC233,'Gruppe AF6'!AC233)))","v":"Gruppe C2"},null,null,null,null,null,null,null,null,null,null,null,null,null,null,null,null,null,null,null,null,":",null,null,{"$f":"Vorgaben!$C$29","v":3},null,null,null,"0",":","0",null,null,null,null,{"$f":"$L$23","v":"Gruppe C8"},{"$f":"COUNT($AZ$31,$AW$34,$AZ$39,$AW$42,$AZ$45,$AW$48,$AZ$53)","v":3},{"$f":"SUM($BH$31+$BF$34+$BH$39+$BF$42+$BH$45+$BF$48+$BH$53)","v":6},{"$f":"SUM($AZ$31+$AW$34+$AZ$39+$AW$42+$AZ$45+$AW$48+$AZ$53)","v":9},":",{"$f":"SUM($AW$31+$AZ$34+$AW$39+$AZ$42+$AW$45+$AZ$48+$AW$53)","v":3},6]
[{"$f":"VLOOKUP(B41,Vorgaben!B$10:C$16,2,FALSE)","v":{"$error":"#N/A"}},14,null,"16:25:00",null,null,null,null,null,{"$f":"IF(Vorgaben!C$1=48,'Gruppe AF8'!J241,IF(Vorgaben!C$1=42,'Gruppe AF7'!O240,IF(Vorgaben!C$1=36,'Gruppe AF6'!I234,'Gruppe AF6'!I234)))","v":"Gruppe C7"},null,null,null,null,null,null,null,null,null,null,null,null,null,null,null,null,null,null,"-",{"$f":"IF(Vorgaben!C$1=48,'Gruppe AF8'!AD241,IF(Vorgaben!C$1=42,'Gruppe AF7'!AF240,IF(Vorgaben!C$1=36,'Gruppe AF6'!AC234,'Gruppe AF6'!AC234)))","v":"Gruppe C5"},null,null,null,null,null,null,null,null,null,null,null,null,null,null,null,null,null,null,null,null,":",null,null,{"$f":"Vorgaben!$C$29","v":3},null,null,null,"0",":","0",null,null,null,null,{"$f":"$L$21","v":"Gruppe C6"},{"$f":"COUNT($AZ$30,$AW$35,$AW$39,$AZ$43,$AZ$46,$AW$49,$AZ$52)","v":2},{"$f":"SUM($BH$30+$BF$35+$BF$39+$BH$43+$BH$46+$BF$49+$BH$52)","v":0},{"$f":"SUM($AZ$30+$AW$35+$AW$39+$AZ$43+$AZ$46+$AW$49+$AZ$52)","v":1},":",{"$f":"SUM($AW$30+$AZ$35+$AZ$39+$AW$43+$AW$46+$AZ$49+$AW$52)","v":11},-10]
[{"$f":"VLOOKUP(B42,Vorgaben!B$10:C$16,2,FALSE)","v":{"$error":"#N/A"}},15,null,"16:35:00",null,null,null,null,null,{"$f":"IF(Vorgaben!C$1=48,'Gruppe AF8'!J242,IF(Vorgaben!C$1=42,'Gruppe AF7'!O241,IF(Vorgaben!C$1=36,'Gruppe AF6'!I235,'Gruppe AF6'!I235)))","v":"Gruppe C8"},null,null,null,null,null,null,null,null,null,null,null,null,null,null,null,null,null,null,"-",{"$f":"IF(Vorgaben!C$1=48,'Gruppe AF8'!AD242,IF(Vorgaben!C$1=42,'Gruppe AF7'!AF241,IF(Vorgaben!C$1=36,'Gruppe AF6'!AC235,'Gruppe AF6'!AC235)))","v":"Gruppe C1"},null,null,null,null,null,null,null,null,null,null,null,null,null,null,null,null,null,null,null,null,":",null,null,{"$f":"Vorgaben!$C$29","v":3},null,null,null,"0",":","0",null,null,null,null,"7er"]
[{"$f":"VLOOKUP(B43,Vorgaben!B$10:C$16,2,FALSE)","v":{"$error":"#N/A"}},16,null,"16:45:00",null,null,null,null,null,{"$f":"IF(Vorgaben!C$1=48,'Gruppe AF8'!J243,IF(Vorgaben!C$1=42,'Gruppe AF7'!O242,IF(Vorgaben!C$1=36,'Gruppe AF6'!I236,\"\")))","v":"Gruppe C3"},null,null,null,null,null,null,null,null,null,null,null,null,null,null,null,null,null,null,"-",{"$f":"IF(Vorgaben!C$1=48,'Gruppe AF8'!AD243,IF(Vorgaben!C$1=42,'Gruppe AF7'!AF242,IF(Vorgaben!C$1=36,'Gruppe AF6'!AC236,\"\")))","v":"Gruppe C6"},null,null,null,null,null,null,null,null,null,null,null,null,null,null,null,null,null,null,null,null,":",null,null,{"$f":"Vorgaben!$C$29","v":3},null,null,null,"0",":","0",null,null,null,null,{"$f":"$L$16","v":"Gruppe C1"},{"$f":"COUNT(AW28,AZ31,AW34,AZ37,AW40,AZ43)","v":1},{"$f":"SUM(BF28,BH31,BF34,BH37,BF40,BH43)","v":0},{"$f":"SUM(AW28,AZ31,AW34,AZ37,AW40,AZ43)","v":0},":",{"$f":"SUM(AZ28+AW31+AW37+AW43+AZ40+AZ34)","v":2},{"$f":"SUM(BP43-BR43)","v":-2}]
[{"$f":"VLOOKUP(B44,Vorgaben!B$10:C$16,2,FALSE)","v":{"$error":"#N/A"}},17,null,"16:55:00",null,null,null,null,null,{"$f":"IF(Vorgaben!C$1=48,'Gruppe AF8'!J244,IF(Vorgaben!C$1=42,'Gruppe AF7'!O243,IF(Vorgaben!C$1=36,'Gruppe AF6'!I237,\"\")))","v":"Gruppe C4"},null,null,null,null,null,null,null,null,null,null,null,null,null,null,null,null,null,null,"-",{"$f":"IF(Vorgaben!C$1=48,'Gruppe AF8'!AD244,IF(Vorgaben!C$1=42,'Gruppe AF7'!AF243,IF(Vorgaben!C$1=36,'Gruppe AF6'!AC237,\"\")))","v":"Gruppe C7"},null,null,null,null,null,null,null,null,null,null,null,null,null,null,null,null,null,null,null,null,":",null,null,{"$f":"Vorgaben!$C$29","v":3},null,null,null,"0",":","0",null,null,null,null,{"$f":"$L$18","v":"Gruppe C3"},{"$f":"COUNT(AW29,AW33,AZ36,AZ38,AW43,AZ46)","v":1},{"$f":"SUM(BF29,BF33,BH36,BH38,BF43,BH46)","v":0},{"$f":"SUM(AW29,AW33,AZ36,AZ38,AW43,AZ46)","v":4},":",{"$f":"SUM(AZ29+AZ33+AW36+AW38+AZ43+AW46)","v":5},{"$f":"SUM(BP44-BR44)","v":-1}]
[{"$f":"VLOOKUP(B45,Vorgaben!B$10:C$16,2,FALSE)","v":{"$error":"#N/A"}},18,null,"17:05:00",null,null,null,null,null,{"$f":"IF(Vorgaben!C$1=48,'Gruppe AF8'!J245,IF(Vorgaben!C$1=42,'Gruppe AF7'!O244,IF(Vorgaben!C$1=36,'Gruppe AF6'!I238,\"\")))","v":"Gruppe C2"},null,null,null,null,null,null,null,null,null,null,null,null,null,null,null,null,null,null,"-",{"$f":"IF(Vorgaben!C$1=48,'Gruppe AF8'!AD245,IF(Vorgaben!C$1=42,'Gruppe AF7'!AF244,IF(Vorgaben!C$1=36,'Gruppe AF6'!AC238,\"\")))","v":"Gruppe C8"},null,null,null,null,null,null,null,null,null,null,null,null,null,null,null,null,null,null,null,null,":",null,null,{"$f":"Vorgaben!$C$29","v":3},null,null,null,"0",":","0",null,null,null,null,{"$f":"$L$17","v":"Gruppe C2"},{"$f":"COUNT(AZ28,AW32,AW36,AZ39,AW42,AZ47)","v":1},{"$f":"SUM(BH28,BF32,BF36,BH39,BF42,BH47)","v":3},{"$f":"SUM(AZ28,AW32,AW36,AZ39,AW42,AZ47)","v":3},":",{"$f":"SUM(AW28+AZ32+AZ36+AW39+AZ42+AW47)","v":1},2]
[{"$f":"VLOOKUP(B46,Vorgaben!B$10:C$16,2,FALSE)","v":{"$error":"#N/A"}},19,null,"17:15:00",null,null,null,null,null,{"$f":"IF(Vorgaben!C$1=48,'Gruppe AF8'!J246,IF(Vorgaben!C$1=42,'Gruppe AF7'!O245,IF(Vorgaben!C$1=36,'Gruppe AF6'!I239,\"\")))","v":"Gruppe C1"},null,null,null,null,null,null,null,null,null,null,null,null,null,null,null,null,null,null,"-",{"$f":"IF(Vorgaben!C$1=48,'Gruppe AF8'!AD246,IF(Vorgaben!C$1=42,'Gruppe AF7'!AF245,IF(Vorgaben!C$1=36,'Gruppe AF6'!AC239,\"\")))","v":"Gruppe C6"},null,null,null,null,null,null,null,null,null,null,null,null,null,null,null,null,null,null,null,null,":",null,null,{"$f":"Vorgaben!$C$29","v":3},null,null,null,"0",":","0",null,null,null,null,{"$f":"$L$19","v":"Gruppe C4"},{"$f":"COUNT(AZ29,AZ32,AW35,AZ40,AW44,AW48)","v":2},{"$f":"SUM(BH29,BH32,BF35,BH40,BF44,BF48)","v":3},{"$f":"SUM(AZ29,AZ32,AW35,AZ40,AW44,AW48)","v":2},":",{"$f":"SUM(AW29+AW32+AZ35+AW40+AZ44+AZ48)","v":3},-1]
[{"$f":"VLOOKUP(B47,Vorgaben!B$10:C$16,2,FALSE)","v":{"$error":"#N/A"}},20,null,"17:25:00",null,null,null,null,null,{"$f":"IF(Vorgaben!C$1=48,'Gruppe AF8'!J247,IF(Vorgaben!C$1=42,'Gruppe AF7'!O246,IF(Vorgaben!C$1=36,'Gruppe AF6'!I240,\"\")))","v":"Gruppe C5"},null,null,null,null,null,null,null,null,null,null,null,null,null,null,null,null,null,null,"-",{"$f":"IF(Vorgaben!C$1=48,'Gruppe AF8'!AD247,IF(Vorgaben!C$1=42,'Gruppe AF7'!AF246,IF(Vorgaben!C$1=36,'Gruppe AF6'!AC240,\"\")))","v":"Gruppe C3"},null,null,null,null,null,null,null,null,null,null,null,null,null,null,null,null,null,null,null,null,":",null,null,{"$f":"Vorgaben!$C$29","v":3},null,null,null,"0",":","0",null,null,null,null,{"$f":"$L$22","v":"Gruppe C7"},{"$f":"COUNT(AW31,AZ35,AW38,AZ41,AZ45,AW47)","v":1},{"$f":"SUM(BF31,BH35,BF38,BH41,BH45,BF47)","v":3},{"$f":"SUM(AW31,AZ35,AW38,AZ41,AZ45,AW47)","v":2},":",{"$f":"SUM(AZ31+AW35+AZ38+AW41+AW45+AZ47)","v":0},2]
[{"$f":"VLOOKUP(B48,Vorgaben!B$10:C$16,2,FALSE)","v":{"$error":"#N/A"}},21,null,"17:35:00",null,null,null,null,null,{"$f":"IF(Vorgaben!C$1=48,'Gruppe AF8'!J248,IF(Vorgaben!C$1=42,'Gruppe AF7'!O247,IF(Vorgaben!C$1=36,'Gruppe AF6'!I241,\"\")))","v":"Gruppe C8"},null,null,null,null,null,null,null,null,null,null,null,null,null,null,null,null,null,null,"-",{"$f":"IF(Vorgaben!C$1=48,'Gruppe AF8'!AD248,IF(Vorgaben!C$1=42,'Gruppe AF7'!AF247,IF(Vorgaben!C$1=36,'Gruppe AF6'!AC241,\"\")))","v":"Gruppe C4"},null,null,null,null,null,null,null,null,null,null,null,null,null,null,null,null,null,null,1,null,":",0,null,{"$f":"Vorgaben!$C$29","v":3},null,null,null,3,":",0,null,null,null,null,{"$f":"$L$20","v":"Gruppe C5"},{"$f":"COUNT(AW30,AZ33,AW37,AZ42,AW45,AZ48)","v":3},{"$f":"SUM(BF30,BH33,BF37,BH42,BF45,BH48)","v":6},{"$f":"SUM(AW30,AZ33,AW37,AZ42,AW45,AZ48)","v":10},":",{"$f":"SUM(AZ30+AW33+AZ37+AW42+AZ45+AW48)","v":5},5]
[{"$f":"VLOOKUP(B49,Vorgaben!B$10:C$16,2,FALSE)","v":{"$error":"#N/A"}},22,null,"17:45:00",null,null,null,null,null,{"$f":"IF(Vorgaben!C$1=48,'Gruppe AF8'!J249,IF(Vorgaben!C$1=42,'Gruppe AF7'!O248,IF(Vorgaben!C$1=36,'Gruppe AF6'!I242,\"\")))","v":"Gruppe C6"},null,null,null,null,null,null,null,null,null,null,null,null,null,null,null,null,null,null,"-",{"$f":"IF(Vorgaben!C$1=48,'Gruppe AF8'!AD249,IF(Vorgaben!C$1=42,'Gruppe AF7'!AF248,IF(Vorgaben!C$1=36,'Gruppe AF6'!AC242,\"\")))","v":"Gruppe C2"},null,null,null,null,null,null,null,null,null,null,null,null,null,null,null,null,null,null,null,null,":",null,null,{"$f":"Vorgaben!$C$29","v":3},null,null,null,"0",":","0",null,null,null,null,{"$f":"$L$21","v":"Gruppe C6"},{"$f":"COUNT(AZ30,AZ34,AW39,AW41,AZ44,AW46)","v":1},{"$f":"SUM(BH30,BH34,BF39,BF41,BH44,BF46)","v":0},{"$f":"SUM(AZ30,AZ34,AW39,AW41,AZ44,AW46)","v":0},":",{"$f":"SUM(AW30+AW34+AZ39+AZ41+AW44+AZ46)","v":5},-5]
[{"$f":"VLOOKUP(B50,Vorgaben!B$10:C$16,2,FALSE)","v":{"$error":"#N/A"}},23,null,"17:55:00",null,null,null,null,null,{"$f":"IF(Vorgaben!C$1=48,'Gruppe AF8'!J250,IF(Vorgaben!C$1=42,'Gruppe AF7'!O249,IF(Vorgaben!C$1=36,'Gruppe AF6'!I243,\"\")))","v":"Gruppe C7"},null,null,null,null,null,null,null,null,null,null,null,null,null,null,null,null,null,null,"-",{"$f":"IF(Vorgaben!C$1=48,'Gruppe AF8'!AD250,IF(Vorgaben!C$1=42,'Gruppe AF7'!AF249,IF(Vorgaben!C$1=36,'Gruppe AF6'!AC243,\"\")))","v":"Gruppe C3"},null,null,null,null,null,null,null,null,null,null,null,null,null,null,null,null,null,null,2,null,":",4,null,{"$f":"Vorgaben!$C$29","v":3},null,null,null,0,":",3]
[{"$f":"VLOOKUP(B51,Vorgaben!B$10:C$16,2,FALSE)","v":{"$error":"#N/A"}},24,null,"18:05:00",null,null,null,null,null,{"$f":"IF(Vorgaben!C$1=48,'Gruppe AF8'!J251,IF(Vorgaben!C$1=42,'Gruppe AF7'!O250,IF(Vorgaben!C$1=36,'Gruppe AF6'!I244,\"\")))","v":"Gruppe C5"},null,null,null,null,null,null,null,null,null,null,null,null,null,null,null,null,null,null,"-",{"$f":"IF(Vorgaben!C$1=48,'Gruppe AF8'!AD251,IF(Vorgaben!C$1=42,'Gruppe AF7'!AF250,IF(Vorgaben!C$1=36,'Gruppe AF6'!AC244,\"\")))","v":"Gruppe C1"},null,null,null,null,null,null,null,null,null,null,null,null,null,null,null,null,null,null,3,null,":",0,null,{"$f":"Vorgaben!$C$29","v":3},null,null,null,3,":",0]
[{"$f":"VLOOKUP(B52,Vorgaben!B$10:C$16,2,FALSE)","v":{"$error":"#N/A"}},25,null,"18:15:00",null,null,null,null,null,{"$f":"IF(Vorgaben!C$1=48,'Gruppe AF8'!J252,IF(Vorgaben!C$1=42,'Gruppe AF7'!O251,IF(Vorgaben!C$1=36,'Gruppe AF6'!I245,\"\")))","v":"Gruppe C4"},null,null,null,null,null,null,null,null,null,null,null,null,null,null,null,null,null,null,"-",{"$f":"IF(Vorgaben!C$1=48,'Gruppe AF8'!AD252,IF(Vorgaben!C$1=42,'Gruppe AF7'!AF251,IF(Vorgaben!C$1=36,'Gruppe AF6'!AC245,\"\")))","v":"Gruppe C6"},null,null,null,null,null,null,null,null,null,null,null,null,null,null,null,null,null,null,6,null,":",1,null,{"$f":"Vorgaben!$C$29","v":3},null,null,null,3,":",0]
[{"$f":"VLOOKUP(B53,Vorgaben!B$10:C$16,2,FALSE)","v":{"$error":"#N/A"}},26,null,"18:25:00",null,null,null,null,null,{"$f":"IF(Vorgaben!C$1=48,'Gruppe AF8'!J253,IF(Vorgaben!C$1=42,'Gruppe AF7'!O252,IF(Vorgaben!C$1=36,'Gruppe AF6'!I246,\"\")))","v":"Gruppe C3"},null,null,null,null,null,null,null,null,null,null,null,null,null,null,null,null,null,null,"-",{"$f":"IF(Vorgaben!C$1=48,'Gruppe AF8'!AD253,IF(Vorgaben!C$1=42,'Gruppe AF7'!AF252,IF(Vorgaben!C$1=36,'Gruppe AF6'!AC246,\"\")))","v":"Gruppe C8"},null,null,null,null,null,null,null,null,null,null,null,null,null,null,null,null,null,null,1,null,":",8,null,{"$f":"Vorgaben!$C$29","v":3},null,null,null,0,":",3]
[{"$f":"VLOOKUP(B54,Vorgaben!B$10:C$16,2,FALSE)","v":{"$error":"#N/A"}},27,null,"18:35:00",null,null,null,null,null,{"$f":"IF(Vorgaben!C$1=48,'Gruppe AF8'!J254,IF(Vorgaben!C$1=42,'Gruppe AF7'!O253,IF(Vorgaben!C$1=36,'Gruppe AF6'!I247,\"\")))","v":"Gruppe C2"},null,null,null,null,null,null,null,null,null,null,null,null,null,null,null,null,null,null,"-",{"$f":"IF(Vorgaben!C$1=48,'Gruppe AF8'!AD254,IF(Vorgaben!C$1=42,'Gruppe AF7'!AF253,IF(Vorgaben!C$1=36,'Gruppe AF6'!AC247,\"\")))","v":"Gruppe C5"},null,null,null,null,null,null,null,null,null,null,null,null,null,null,null,null,null,null,1,null,":",4,null,{"$f":"Vorgaben!$C$29","v":3},null,null,null,0,":",3]
[{"$f":"VLOOKUP(B55,Vorgaben!B$10:C$16,2,FALSE)","v":{"$error":"#N/A"}},28,null,"18:45:00",null,null,null,null,null,{"$f":"IF(Vorgaben!C$1=48,'Gruppe AF8'!J255,IF(Vorgaben!C$1=42,'Gruppe AF7'!O254,IF(Vorgaben!C$1=36,'Gruppe AF6'!I248,\"\")))","v":"Gruppe C1"},null,null,null,null,null,null,null,null,null,null,null,null,null,null,null,null,null,null,"-",{"$f":"IF(Vorgaben!C$1=48,'Gruppe AF8'!AD255,IF(Vorgaben!C$1=42,'Gruppe AF7'!AF254,IF(Vorgaben!C$1=36,'Gruppe AF6'!AC248,\"\")))","v":"Gruppe C7"},null,null,null,null,null,null,null,null,null,null,null,null,null,null,null,null,null,null,null,null,":",null,null,{"$f":"Vorgaben!$C$29","v":3},null,null,null,"0",":","0"]
[]
[]
[null,"III. Abschlußtabelle"]
[]
[null,null,null,null,null,null,null,null,"Mannschaften",null,null,null,null,null,null,null,null,null,null,null,null,null,null,null,null,null,null,null,null,null,null,null,null,null,null,null,"Sp.",null,null,"Pkt.",null,null,"Tore",null,null,null,null,"Diff."]
[null,null,null,null,null,null,null,null,"1.",null,{"$f":"IF(Vorgaben!C$1=48,'Gruppe AF8'!K261,IF(Vorgaben!C$1=42,'Gruppe AF7'!K253,IF(Vorgaben!C$1=36,'Gruppe AF6'!K240,'Gruppe AF6'!K240)))","v":"Gruppe C5"},null,null,null,null,null,null,null,null,null,null,null,null,null,null,null,null,null,null,null,null,null,null,null,null,null,{"$f":"IF(Vorgaben!C$1=48,'Gruppe AF8'!AK261,IF(Vorgaben!C$1=42,'Gruppe AF7'!AK253:AM253,IF(Vorgaben!C$1=36,'Gruppe AF6'!AI240,IF(Vorgaben!C$1=30,'Gruppe AF6'!AI40,'Gruppe AF6'!AI240))))","v":3},null,null,{"$f":"IF(Vorgaben!C$1=48,'Gruppe AF8'!AN261,IF(Vorgaben!C$1=42,'Gruppe AF7'!AN253:AP253,IF(Vorgaben!C$1=36,'Gruppe AF6'!AL240,IF(Vorgaben!C$1=30,'Gruppe AF6'!AL240,'Gruppe AF6'!AL240))))","v":9},null,null,{"$f":"IF(Vorgaben!C$1=48,'Gruppe AF8'!AQ261,IF(Vorgaben!C$1=42,'Gruppe AF7'!AQ253:AR253,IF(Vorgaben!C$1=36,'Gruppe AF6'!AO240,IF(Vorgaben!C$1=30,'Gruppe AF6'!AL240,'Gruppe AF6'!AL240))))","v":12},null,":",{"$f":"IF(Vorgaben!C$1=48,'Gruppe AF8'!AT261,IF(Vorgaben!C$1=42,'Gruppe AF7'!AT253:AU253,IF(Vorgaben!C$1=36,'Gruppe AF6'!AR240,IF(Vorgaben!C$1=30,'Gruppe AF6'!AR240,'Gruppe AF6'!AR240))))","v":1},null,{"$f":"IF(Vorgaben!C$1=48,'Gruppe AF8'!AV261,IF(Vorgaben!C$1=42,'Gruppe AF7'!AV253,IF(Vorgaben!C$1=36,'Gruppe AF6'!AT240,IF(Vorgaben!C$1=30,'Gruppe AF6'!AT240,'Gruppe AF6'!AT240))))","v":11}]
[null,null,null,null,null,null,null,null,"2.",null,{"$f":"IF(Vorgaben!C$1=48,'Gruppe AF8'!K262,IF(Vorgaben!C$1=42,'Gruppe AF7'!K254,IF(Vorgaben!C$1=36,'Gruppe AF6'!K241,'Gruppe AF6'!K241)))","v":"Gruppe C8"},null,null,null,null,null,null,null,null,null,null,null,null,null,null,null,null,null,null,null,null,null,null,null,null,null,{"$f":"IF(Vorgaben!C$1=48,'Gruppe AF8'!AK262,IF(Vorgaben!C$1=42,'Gruppe AF7'!AK254:AM254,IF(Vorgaben!C$1=36,'Gruppe AF6'!AI241,IF(Vorgaben!C$1=30,'Gruppe AF6'!AI41,'Gruppe AF6'!AI241))))","v":3},null,null,{"$f":"IF(Vorgaben!C$1=48,'Gruppe AF8'!AN262,IF(Vorgaben!C$1=42,'Gruppe AF7'!AN254:AP254,IF(Vorgaben!C$1=36,'Gruppe AF6'!AL241,IF(Vorgaben!C$1=30,'Gruppe AF6'!AL241,'Gruppe AF6'!AL241))))","v":6},null,null,{"$f":"IF(Vorgaben!C$1=48,'Gruppe AF8'!AQ262,IF(Vorgaben!C$1=42,'Gruppe AF7'!AQ254:AR254,IF(Vorgaben!C$1=36,'Gruppe AF6'!AO241,IF(Vorgaben!C$1=30,'Gruppe AF6'!AL241,'Gruppe AF6'!AL241))))","v":9},null,":",{"$f":"IF(Vorgaben!C$1=48,'Gruppe AF8'!AT262,IF(Vorgaben!C$1=42,'Gruppe AF7'!AT254:AU254,IF(Vorgaben!C$1=36,'Gruppe AF6'!AR241,IF(Vorgaben!C$1=30,'Gruppe AF6'!AR241,'Gruppe AF6'!AR241))))","v":3},null,{"$f":"IF(Vorgaben!C$1=48,'Gruppe AF8'!AV262,IF(Vorgaben!C$1=42,'Gruppe AF7'!AV254,IF(Vorgaben!C$1=36,'Gruppe AF6'!AT241,IF(Vorgaben!C$1=30,'Gruppe AF6'!AT241,'Gruppe AF6'!AT241))))","v":6}]
[null,null,null,null,null,null,null,null,"3.",null,{"$f":"IF(Vorgaben!C$1=48,'Gruppe AF8'!K263,IF(Vorgaben!C$1=42,'Gruppe AF7'!K255,IF(Vorgaben!C$1=36,'Gruppe AF6'!K242,'Gruppe AF6'!K242)))","v":"Gruppe C4"},null,null,null,null,null,null,null,null,null,null,null,null,null,null,null,null,null,null,null,null,null,null,null,null,null,{"$f":"IF(Vorgaben!C$1=48,'Gruppe AF8'!AK263,IF(Vorgaben!C$1=42,'Gruppe AF7'!AK255:AM255,IF(Vorgaben!C$1=36,'Gruppe AF6'!AI242,IF(Vorgaben!C$1=30,'Gruppe AF6'!AI42,'Gruppe AF6'!AI242))))","v":3},null,null,{"$f":"IF(Vorgaben!C$1=48,'Gruppe AF8'!AN263,IF(Vorgaben!C$1=42,'Gruppe AF7'!AN255:AP255,IF(Vorgaben!C$1=36,'Gruppe AF6'!AL242,IF(Vorgaben!C$1=30,'Gruppe AF6'!AL242,'Gruppe AF6'!AL242))))","v":6},null,null,{"$f":"IF(Vorgaben!C$1=48,'Gruppe AF8'!AQ263,IF(Vorgaben!C$1=42,'Gruppe AF7'!AQ255:AR255,IF(Vorgaben!C$1=36,'Gruppe AF6'!AO242,IF(Vorgaben!C$1=30,'Gruppe AF6'!AL242,'Gruppe AF6'!AL242))))","v":9},null,":",{"$f":"IF(Vorgaben!C$1=48,'Gruppe AF8'!AT263,IF(Vorgaben!C$1=42,'Gruppe AF7'!AT255:AU255,IF(Vorgaben!C$1=36,'Gruppe AF6'!AR242,IF(Vorgaben!C$1=30,'Gruppe AF6'!AR242,'Gruppe AF6'!AR242))))","v":3},null,{"$f":"IF(Vorgaben!C$1=48,'Gruppe AF8'!AV263,IF(Vorgaben!C$1=42,'Gruppe AF7'!AV255,IF(Vorgaben!C$1=36,'Gruppe AF6'!AT242,IF(Vorgaben!C$1=30,'Gruppe AF6'!AT242,'Gruppe AF6'!AT242))))","v":6}]
[null,null,null,null,null,null,null,null,"4.",null,{"$f":"IF(Vorgaben!C$1=48,'Gruppe AF8'!K264,IF(Vorgaben!C$1=42,'Gruppe AF7'!K256,IF(Vorgaben!C$1=36,'Gruppe AF6'!K243,'Gruppe AF6'!K243)))","v":"Gruppe C3"},null,null,null,null,null,null,null,null,null,null,null,null,null,null,null,null,null,null,null,null,null,null,null,null,null,{"$f":"IF(Vorgaben!C$1=48,'Gruppe AF8'!AK264,IF(Vorgaben!C$1=42,'Gruppe AF7'!AK256:AM256,IF(Vorgaben!C$1=36,'Gruppe AF6'!AI243,IF(Vorgaben!C$1=30,'Gruppe AF6'!AI43,'Gruppe AF6'!AI243))))","v":3},null,null,{"$f":"IF(Vorgaben!C$1=48,'Gruppe AF8'!AN264,IF(Vorgaben!C$1=42,'Gruppe AF7'!AN256:AP256,IF(Vorgaben!C$1=36,'Gruppe AF6'!AL243,IF(Vorgaben!C$1=30,'Gruppe AF6'!AL243,'Gruppe AF6'!AL243))))","v":6},null,null,{"$f":"IF(Vorgaben!C$1=48,'Gruppe AF8'!AQ264,IF(Vorgaben!C$1=42,'Gruppe AF7'!AQ256:AR256,IF(Vorgaben!C$1=36,'Gruppe AF6'!AO243,IF(Vorgaben!C$1=30,'Gruppe AF6'!AL243,'Gruppe AF6'!AL243))))","v":10},null,":",{"$f":"IF(Vorgaben!C$1=48,'Gruppe AF8'!AT264,IF(Vorgaben!C$1=42,'Gruppe AF7'!AT256:AU256,IF(Vorgaben!C$1=36,'Gruppe AF6'!AR243,IF(Vorgaben!C$1=30,'Gruppe AF6'!AR243,'Gruppe AF6'!AR243))))","v":14},null,{"$f":"IF(Vorgaben!C$1=48,'Gruppe AF8'!AV264,IF(Vorgaben!C$1=42,'Gruppe AF7'!AV256,IF(Vorgaben!C$1=36,'Gruppe AF6'!AT243,IF(Vorgaben!C$1=30,'Gruppe AF6'!AT243,'Gruppe AF6'!AT243))))","v":-4}]
[null,null,null,null,null,null,null,null,"5.",null,{"$f":"IF(Vorgaben!C$1=48,'Gruppe AF8'!K265,IF(Vorgaben!C$1=42,'Gruppe AF7'!K257,IF(Vorgaben!C$1=36,'Gruppe AF6'!K244,'Gruppe AF6'!K244)))","v":"Gruppe C7"},null,null,null,null,null,null,null,null,null,null,null,null,null,null,null,null,null,null,null,null,null,null,null,null,null,{"$f":"IF(Vorgaben!C$1=48,'Gruppe AF8'!AK265,IF(Vorgaben!C$1=42,'Gruppe AF7'!AK257:AM257,IF(Vorgaben!C$1=36,'Gruppe AF6'!AI244,IF(Vorgaben!C$1=30,'Gruppe AF6'!AI44,'Gruppe AF6'!AI244))))","v":2},null,null,{"$f":"IF(Vorgaben!C$1=48,'Gruppe AF8'!AN265,IF(Vorgaben!C$1=42,'Gruppe AF7'!AN257:AP257,IF(Vorgaben!C$1=36,'Gruppe AF6'!AL244,IF(Vorgaben!C$1=30,'Gruppe AF6'!AL244,'Gruppe AF6'!AL244))))","v":3},null,null,{"$f":"IF(Vorgaben!C$1=48,'Gruppe AF8'!AQ265,IF(Vorgaben!C$1=42,'Gruppe AF7'!AQ257:AR257,IF(Vorgaben!C$1=36,'Gruppe AF6'!AO244,IF(Vorgaben!C$1=30,'Gruppe AF6'!AL244,'Gruppe AF6'!AL244))))","v":4},null,":",{"$f":"IF(Vorgaben!C$1=48,'Gruppe AF8'!AT265,IF(Vorgaben!C$1=42,'Gruppe AF7'!AT257:AU257,IF(Vorgaben!C$1=36,'Gruppe AF6'!AR244,IF(Vorgaben!C$1=30,'Gruppe AF6'!AR244,'Gruppe AF6'!AR244))))","v":4},null,{"$f":"IF(Vorgaben!C$1=48,'Gruppe AF8'!AV265,IF(Vorgaben!C$1=42,'Gruppe AF7'!AV257,IF(Vorgaben!C$1=36,'Gruppe AF6'!AT244,IF(Vorgaben!C$1=30,'Gruppe AF6'!AT244,'Gruppe AF6'!AT244))))","v":0}]
[null,null,null,null,null,null,null,null,"6.",null,{"$f":"IF(Vorgaben!C$1=48,'Gruppe AF8'!K266,IF(Vorgaben!C$1=42,'Gruppe AF7'!K258,IF(Vorgaben!C$1=36,'Gruppe AF6'!K245,'Gruppe AF6'!K245)))","v":"Gruppe C2"},null,null,null,null,null,null,null,null,null,null,null,null,null,null,null,null,null,null,null,null,null,null,null,null,null,{"$f":"IF(Vorgaben!C$1=48,'Gruppe AF8'!AK266,IF(Vorgaben!C$1=42,'Gruppe AF7'!AK258:AM258,IF(Vorgaben!C$1=36,'Gruppe AF6'!AI245,IF(Vorgaben!C$1=30,'Gruppe AF6'!AI45,'Gruppe AF6'!AI245))))","v":2},null,null,{"$f":"IF(Vorgaben!C$1=48,'Gruppe AF8'!AN266,IF(Vorgaben!C$1=42,'Gruppe AF7'!AN258:AP258,IF(Vorgaben!C$1=36,'Gruppe AF6'!AL245,IF(Vorgaben!C$1=30,'Gruppe AF6'!AL245,'Gruppe AF6'!AL245))))","v":0},null,null,{"$f":"IF(Vorgaben!C$1=48,'Gruppe AF8'!AQ266,IF(Vorgaben!C$1=42,'Gruppe AF7'!AQ258:AR258,IF(Vorgaben!C$1=36,'Gruppe AF6'!AO245,IF(Vorgaben!C$1=30,'Gruppe AF6'!AL245,'Gruppe AF6'!AL245))))","v":5},null,":",{"$f":"IF(Vorgaben!C$1=48,'Gruppe AF8'!AT266,IF(Vorgaben!C$1=42,'Gruppe AF7'!AT258:AU258,IF(Vorgaben!C$1=36,'Gruppe AF6'!AR245,IF(Vorgaben!C$1=30,'Gruppe AF6'!AR245,'Gruppe AF6'!AR245))))","v":9},null,{"$f":"IF(Vorgaben!C$1=48,'Gruppe AF8'!AV266,IF(Vorgaben!C$1=42,'Gruppe AF7'!AV258,IF(Vorgaben!C$1=36,'Gruppe AF6'!AT245,IF(Vorgaben!C$1=30,'Gruppe AF6'!AT245,'Gruppe AF6'!AT245))))","v":-4}]
[null,null,null,null,null,null,null,null,"7.",null,{"$f":"IF(Vorgaben!C$1=48,'Gruppe AF8'!K267,IF(Vorgaben!C$1=42,'Gruppe AF7'!K259,IF(Vorgaben!C$1=36,'Gruppe AF6'!K246,'Gruppe AF6'!K246)))","v":"Gruppe C1"},null,null,null,null,null,null,null,null,null,null,null,null,null,null,null,null,null,null,null,null,null,null,null,null,null,{"$f":"IF(Vorgaben!C$1=48,'Gruppe AF8'!AK267,IF(Vorgaben!C$1=42,'Gruppe AF7'!AK259:AM259,IF(Vorgaben!C$1=36,'Gruppe AF6'!AI246,IF(Vorgaben!C$1=30,'Gruppe AF6'!K246,\"\"))))","v":2},null,null,{"$f":"IF(Vorgaben!C$1=48,'Gruppe AF8'!AN267,IF(Vorgaben!C$1=42,'Gruppe AF7'!AN259:AP259,IF(Vorgaben!C$1=36,'Gruppe AF6'!AL246,IF(Vorgaben!C$1=30,'Gruppe AF6'!AL246,\"\"))))","v":0},null,null,{"$f":"IF(Vorgaben!C$1=48,'Gruppe AF8'!AQ267,IF(Vorgaben!C$1=42,'Gruppe AF7'!AQ259:AR259,IF(Vorgaben!C$1=36,'Gruppe AF6'!AO246,IF(Vorgaben!C$1=30,'Gruppe AF6'!AL246,\"\"))))","v":1},null,":",{"$f":"IF(Vorgaben!C$1=48,'Gruppe AF8'!AT267,IF(Vorgaben!C$1=42,'Gruppe AF7'!AT259:AU259,IF(Vorgaben!C$1=36,'Gruppe AF6'!AR246,IF(Vorgaben!C$1=30,'Gruppe AF6'!AR246,\"\"))))","v":6},null,{"$f":"IF(Vorgaben!C$1=48,'Gruppe AF8'!AV267,IF(Vorgaben!C$1=42,'Gruppe AF7'!AV259,IF(Vorgaben!C$1=36,'Gruppe AF6'!AT246,IF(Vorgaben!C$1=30,'Gruppe AF6'!AT246,\"\"))))","v":-5}]
[null,null,null,null,null,null,null,null,"8.",null,{"$f":"IF(Vorgaben!C$1=48,'Gruppe AF8'!K268,IF(Vorgaben!C$1=42,'Gruppe AF7'!K260,IF(Vorgaben!C$1=36,'Gruppe AF6'!K247,'Gruppe AF6'!K247)))","v":"Gruppe C6"},null,null,null,null,null,null,null,null,null,null,null,null,null,null,null,null,null,null,null,null,null,null,null,null,null,{"$f":"IF(Vorgaben!C$1=48,'Gruppe AF8'!AK268,IF(Vorgaben!C$1=42,'Gruppe AF7'!AK260:AM260,IF(Vorgaben!C$1=36,'Gruppe AF6'!AI247,IF(Vorgaben!C$1=30,'Gruppe AF6'!K247,\"\"))))","v":2},null,null,{"$f":"IF(Vorgaben!C$1=48,'Gruppe AF8'!AN268,IF(Vorgaben!C$1=42,'Gruppe AF7'!AN260:AP260,IF(Vorgaben!C$1=36,'Gruppe AF6'!AL247,IF(Vorgaben!C$1=30,'Gruppe AF6'!AL247,\"\"))))","v":0},null,null,{"$f":"IF(Vorgaben!C$1=48,'Gruppe AF8'!AQ268,IF(Vorgaben!C$1=42,'Gruppe AF7'!AQ260:AR260,IF(Vorgaben!C$1=36,'Gruppe AF6'!AO247,IF(Vorgaben!C$1=30,'Gruppe AF6'!AL247,\"\"))))","v":1},null,":",{"$f":"IF(Vorgaben!C$1=48,'Gruppe AF8'!AT268,IF(Vorgaben!C$1=42,'Gruppe AF7'!AT260:AU260,IF(Vorgaben!C$1=36,'Gruppe AF6'!AR247,IF(Vorgaben!C$1=30,'Gruppe AF6'!AR247,\"\"))))","v":11},null,{"$f":"IF(Vorgaben!C$1=48,'Gruppe AF8'!AV268,IF(Vorgaben!C$1=42,'Gruppe AF7'!AV260,IF(Vorgaben!C$1=36,'Gruppe AF6'!AT247,IF(Vorgaben!C$1=30,'Gruppe AF6'!AT247,\"\"))))","v":-10}]

{"sheet":"Gruppe D1","index":10,"n_rows":68,"n_cols":71,"rows_kept":68,"cut":false,"hidden":false,"merged":[[9,7,9,11],[9,20,9,21],[9,23,9,27],[9,37,9,41],[14,9,14,46],[14,47,14,48],[1,0,1,54],[2,0,2,54],[3,0,3,41],[5,12,5,19],[5,24,5,31],[7,1,7,38],[9,48,9,52],[17,9,17,10],[17,11,17,46],[17,47,17,48],[18,9,18,10],[18,11,18,46],[18,47,18,48],[15,9,15,10],[15,11,15,46],[15,47,15,48],[16,9,16,10],[16,11,16,46],[16,47,16,48],[21,9,21,10],[21,11,21,46],[21,47,21,48],[22,9,22,10],[22,11,22,46],[22,47,22,48],[19,9,19,10],[19,11,19,46],[19,47,19,48],[20,9,20,10],[20,11,20,46],[20,47,20,48],[26,1,26,2],[26,3,26,8],[26,10,26,47],[26,48,26,52],[26,53,26,54],[27,1,27,2],[27,3,27,8],[27,9,27,27],[27,29,27,47],[27,48,27,49],[27,51,27,52],[27,53,27,54],[28,1,28,2],[28,3,28,8],[28,9,28,27],[28,29,28,47],[28,48,28,49],[28,51,28,52],[28,53,28,54],[29,53,29,54],[30,1,30,2],[30,3,30,8],[30,9,30,27],[30,29,30,47],[30,53,30,54],[29,1,29,2],[29,3,29,8],[29,9,29,27],[29,29,29,47],[29,48,29,49],[29,51,29,52],[30,48,30,49],[30,51,30,52],[31,53,31,54],[32,1,32,2],[32,3,32,8],[32,9,32,27],[32,29,32,47],[32,53,32,54],[31,1,31,2],[31,3,31,8],[31,9,31,27],[31,29,31,47],[32,48,32,49],[31,48,31,49],[32,51,32,52],[31,51,31,52],[33,53,33,54],[34,1,34,2],[34,3,34,8],[34,9,34,27],[34,29,34,47],[34,53,34,54],[33,1,33,2],[33,3,33,8],[33,9,33,27],[33,29,33,47],[34,48,34,49],[33,48,33,49],[34,51,34,52],[33,51,33,52],[35,53,35,54],[36,1,36,2],[36,3,36,8],[36,9,36,27],[36,29,36,47],[36,53,36,54],[35,1,35,2],[35,3,35,8],[35,9,35,27],[35,29,35,47],[36,48,36,49],[35,48,35,49],[36,51,36,52],[35,51,35,52],[37,53,37,54],[38,1,38,2],[38,3,38,8],[38,9,38,27],[38,29,38,47],[38,53,38,54],[37,1,37,2],[37,3,37,8],[37,9,37,27],[37,29,37,47],[38,48,38,49],[37,48,37,49],[38,51,38,52],[37,51,37,52],[39,53,39,54],[40,1,40,2],[40,3,40,8],[40,9,40,27],[40,29,40,47],[40,53,40,54],[39,1,39,2],[39,3,39,8],[39,9,39,27],[39,29,39,47],[40,48,40,49],[39,48,39,49],[40,51,40,52],[39,51,39,52],[41,53,41,54],[42,1,42,2],[42,3,42,8],[42,9,42,27],[42,29,42,47],[42,53,42,54],[41,1,41,2],[41,3,41,8],[41,9,41,27],[41,29,41,47],[42,48,42,49],[41,48,41,49],[42,51,42,52],[41,51,41,52],[43,53,43,54],[44,1,44,2],[44,3,44,8],[44,9,44,27],[44,29,44,47],[44,53,44,54],[43,1,43,2],[43,3,43,8],[43,9,43,27],[43,29,43,47],[44,48,44,49],[43,48,43,49],[44,51,44,52],[43,51,43,52],[45,53,45,54],[46,1,46,2],[46,3,46,8],[46,9,46,27],[46,29,46,47],[46,53,46,54],[45,1,45,2],[45,3,45,8],[45,9,45,27],[45,29,45,47],[46,48,46,49],[45,48,45,49],[46,51,46,52],[45,51,45,52],[47,53,47,54],[48,1,48,2],[48,3,48,8],[48,9,48,27],[48,29,48,47],[48,53,48,54],[47,1,47,2],[47,3,47,8],[47,9,47,27],[47,29,47,47],[48,48,48,49],[47,48,47,49],[48,51,48,52],[47,51,47,52],[49,53,49,54],[50,1,50,2],[50,3,50,8],[50,9,50,27],[50,29,50,47],[50,53,50,54],[49,1,49,2],[49,3,49,8],[49,9,49,27],[49,29,49,47],[50,48,50,49],[49,48,49,49],[50,51,50,52],[49,51,49,52],[51,53,51,54],[52,1,52,2],[52,3,52,8],[52,9,52,27],[52,29,52,47],[52,53,52,54],[51,1,51,2],[51,3,51,8],[51,9,51,27],[51,29,51,47],[52,48,52,49],[51,48,51,49],[52,51,52,52],[51,51,51,52],[53,53,53,54],[54,1,54,2],[54,3,54,8],[54,9,54,27],[54,29,54,47],[54,53,54,54],[53,1,53,2],[53,3,53,8],[53,9,53,27],[53,29,53,47],[54,48,54,49],[53,48,53,49],[54,51,54,52],[53,51,53,52],[59,8,59,35],[59,36,59,38],[59,39,59,41],[59,42,59,46],[59,47,59,49],[60,8,60,9],[60,10,60,35],[60,36,60,38],[60,39,60,41],[60,42,60,43],[60,45,60,46],[60,47,60,49],[61,8,61,9],[61,10,61,35],[61,36,61,38],[61,39,61,41],[61,42,61,43],[61,45,61,46],[61,47,61,49],[62,47,62,49],[63,8,63,9],[63,10,63,35],[63,36,63,38],[63,39,63,41],[63,42,63,43],[63,45,63,46],[63,47,63,49],[62,8,62,9],[62,10,62,35],[62,36,62,38],[62,39,62,41],[62,42,62,43],[62,45,62,46],[64,47,64,49],[65,8,65,9],[65,10,65,35],[65,36,65,38],[65,39,65,41],[65,42,65,43],[65,45,65,46],[65,47,65,49],[64,8,64,9],[64,10,64,35],[64,36,64,38],[64,39,64,41],[64,42,64,43],[64,45,64,46],[66,47,66,49],[67,8,67,9],[67,10,67,35],[67,36,67,38],[67,39,67,41],[67,42,67,43],[67,45,67,46],[67,47,67,49],[66,8,66,9],[66,10,66,35],[66,36,66,38],[66,39,66,41],[66,42,66,43],[66,45,66,46]]}
[]
["Vorrunde"]
["Gruppe D"]
[]
[]
[]
[]
[]
[]
[null,null,null,null,null,null,"Beginn:",{"$f":"Vorgaben!C4","v":"14:15:00"},null,null,null,null,"Uhr",null,null,null,null,null,null,"Spielzeit:",{"$f":"Vorgaben!C5","v":1},"1x","x",{"$f":"Vorgaben!C6","v":"00:09:00"},null,null,null,null,"min",null,null,null,null,null,null,null,"Pause:",{"$f":"Vorgaben!C7","v":"00:01:00"},null,null,null,null,"min",null,null,null,null,"HZ:",{"$f":"IF(Vorgaben!C5>1,Vorgaben!C8,0)","v":"00:00:00"},null,null,null,null,"min"]
[]
[]
[null,"I. Teilnehmende Mannschaften"]
[]
[null,null,null,null,null,null,null,null,null,"Mannschaften"]
[null,null,null,null,null,null,null,null,null,"1.",null,{"$f":"Vorgaben!F29","v":"Gruppe D1"}]
[null,null,null,null,null,null,null,null,null,"2.",null,{"$f":"Vorgaben!F30","v":"Gruppe D2"}]
[null,null,null,null,null,null,null,null,null,"3.",null,{"$f":"Vorgaben!F31","v":"Gruppe D3"}]
[null,null,null,null,null,null,null,null,null,"4.",null,{"$f":"Vorgaben!F32","v":"Gruppe D4"}]
[null,null,null,null,null,null,null,null,null,"5.",null,{"$f":"Vorgaben!F33","v":"Gruppe D5"}]
[null,null,null,null,null,null,null,null,null,"6.",null,{"$f":"Vorgaben!F34","v":"Gruppe D6"}]
[null,null,null,null,null,null,null,null,null,"7.",null,{"$f":"Vorgaben!F35","v":"Gruppe D7"}]
[null,null,null,null,null,null,null,null,null,"8.",null,{"$f":"Vorgaben!F36","v":"Gruppe D8"}]
[]
[null,"II. Spielplan"]
[null,null,null,null,null,null,null,null,null,null,null,null,null,null,null,null,null,null,null,null,null,null,null,null,null,null,null,null,null,null,null,null,null,null,null,null,null,null,null,null,null,null,null,null,null,null,null,null,null,null,null,null,null,null,null,null,null,null,null,null,null,null,null,null,"6er"]
[null,"Nr.",null,"Beginn",null,null,null,null,null,null,"Spielpaarung",null,null,null,null,null,null,null,null,null,null,null,null,null,null,null,null,null,null,null,null,null,null,null,null,null,null,null,null,null,null,null,null,null,null,null,null,null,"Ergebnis",null,null,null,null,"Pl",null,null,null,"Punkte",null,null,null,null,null,null,{"$f":"$L$16","v":"Gruppe D1"},{"$f":"COUNT($AW$28,$AW$31,$AZ$34,$AW$37,$AZ$40)","v":0},{"$f":"SUM($BF$28+$BF$31+$BH$34+$BF$37+$BH$40)","v":0},{"$f":"SUM($AW$28+$AW$31+$AZ$34+$AW$37+$AZ$40)","v":0},":",{"$f":"SUM(AZ28+AZ31+$AW$34+AZ37+$AW$40)","v":0},{"$f":"SUM(BP27-BR27)","v":0}]
[{"$f":"VLOOKUP(B28,Vorgaben!B8:C14,2,FALSE)","v":{"$error":"#N/A"}},1,null,{"$f":"$H$10","v":"14:15:00"},null,null,null,null,null,{"$f":"IF(Vorgaben!C$1=48,'Gruppe AF8'!J328,IF(Vorgaben!C$1=42,'Gruppe AF7'!O327,IF(Vorgaben!C$1=36,'Gruppe AF6'!I321,IF(Vorgaben!C$1=30,'Gruppe AF6'!I321,IF(Vorgaben!C$1=24,'Gruppe AF6'!I321,\"\")))))","v":"Gruppe D1"},null,null,null,null,null,null,null,null,null,null,null,null,null,null,null,null,null,null,"-",{"$f":"IF(Vorgaben!C$1=48,'Gruppe AF8'!AD328,IF(Vorgaben!C$1=42,'Gruppe AF7'!AF327,IF(Vorgaben!C$1=36,'Gruppe AF6'!AC321,IF(Vorgaben!C$1=30,'Gruppe AF6'!AC321,IF(Vorgaben!C$1=24,'Gruppe AF6'!AC321,\"\")))))","v":"Gruppe D2"},null,null,null,null,null,null,null,null,null,null,null,null,null,null,null,null,null,null,null,null,":",null,null,{"$f":"Vorgaben!$G$29","v":4},null,null,null,{"$f":"IF(ISBLANK(AW28),\"0\",IF(AW28>AZ28,3,IF(AW28=AZ28,1,0)))","v":"0"},":",{"$f":"IF(ISBLANK(AZ28),\"0\",IF(AZ28>AW28,3,IF(AZ28=AW28,1,0)))","v":"0"},null,null,null,null,{"$f":"$L$19","v":"Gruppe D4"},{"$f":"COUNT($AZ$29,$AW$33,$AZ$35,$AZ$37,$AW$42)","v":0},{"$f":"SUM($BH$29+$BF$33+$BH$35+$BH$37+$BF$42)","v":0},{"$f":"SUM($AZ$29+$AW$33+$AZ$35+$AZ$37+$AW$42)","v":0},":",{"$f":"SUM($AW$29+AZ33+$AW$35+$AW$37+AZ42)","v":0},0]
[{"$f":"VLOOKUP(B29,Vorgaben!B$10:C$16,2,FALSE)","v":{"$error":"#N/A"}},2,null,{"$f":"IF(ISNA(A29),D28+($U$10*$X$10+$AL$10+$AW$10),D28+($U$10*$X$10+$AL$10+$AW$10)+A29)","v":"14:25:00"},null,null,null,null,null,{"$f":"IF(Vorgaben!C$1=48,'Gruppe AF8'!J329,IF(Vorgaben!C$1=42,'Gruppe AF7'!O328,IF(Vorgaben!C$1=36,'Gruppe AF6'!I322,IF(Vorgaben!C$1=30,'Gruppe AF6'!I322,IF(Vorgaben!C$1=24,'Gruppe AF6'!I322,\"\")))))","v":"Gruppe D3"},null,null,null,null,null,null,null,null,null,null,null,null,null,null,null,null,null,null,"-",{"$f":"IF(Vorgaben!C$1=48,'Gruppe AF8'!AD329,IF(Vorgaben!C$1=42,'Gruppe AF7'!AF328,IF(Vorgaben!C$1=36,'Gruppe AF6'!AC322,IF(Vorgaben!C$1=30,'Gruppe AF6'!AC322,IF(Vorgaben!C$1=24,'Gruppe AF6'!AC322,\"\")))))","v":"Gruppe D4"},null,null,null,null,null,null,null,null,null,null,null,null,null,null,null,null,null,null,null,null,":",null,null,{"$f":"Vorgaben!$G$29","v":4},null,null,null,"0",":","0",null,null,null,null,{"$f":"$L$21","v":"Gruppe D6"},{"$f":"COUNT($AZ$30,$AZ$33,$AW$36,$AW$38,$AW$40)","v":1},{"$f":"SUM($BH$30+$BH$33+$BF$36+$BF$38+$BF$40)","v":1},{"$f":"SUM($AZ$30+$AZ$33+$AW$36+$AW$38+$AW$40)","v":1},":",{"$f":"SUM($AW$30+$AW$33+AZ36+AZ38+AZ40)","v":1},0]
[{"$f":"VLOOKUP(B30,Vorgaben!B$10:C$16,2,FALSE)","v":{"$error":"#N/A"}},3,null,{"$f":"IF(ISNA(A30),D29+($U$10*$X$10+$AL$10+$AW$10),D29+($U$10*$X$10+$AL$10+$AW$10)+A30)","v":"14:35:00"},null,null,null,null,null,{"$f":"IF(Vorgaben!C$1=48,'Gruppe AF8'!J330,IF(Vorgaben!C$1=42,'Gruppe AF7'!O329,IF(Vorgaben!C$1=36,'Gruppe AF6'!I323,IF(Vorgaben!C$1=30,'Gruppe AF6'!I323,IF(Vorgaben!C$1=24,'Gruppe AF6'!I323,\"\")))))","v":"Gruppe D5"},null,null,null,null,null,null,null,null,null,null,null,null,null,null,null,null,null,null,"-",{"$f":"IF(Vorgaben!C$1=48,'Gruppe AF8'!AD330,IF(Vorgaben!C$1=42,'Gruppe AF7'!AF329,IF(Vorgaben!C$1=36,'Gruppe AF6'!AC323,IF(Vorgaben!C$1=30,'Gruppe AF6'!AC323,IF(Vorgaben!C$1=24,'Gruppe AF6'!AC323,\"\")))))","v":"Gruppe D6"},null,null,null,null,null,null,null,null,null,null,null,null,null,null,null,null,null,null,null,null,":",null,null,{"$f":"Vorgaben!$G$29","v":4},null,null,null,"0",":","0",null,null,null,null,{"$f":"$L$17","v":"Gruppe D2"},{"$f":"COUNT($AZ$28,$AW$32,$AZ$38,$AW$35,$AW$41)","v":1},{"$f":"SUM($BH$28+$BF$32+$BF$35+$BH$38+$BF$41)","v":1},{"$f":"SUM($AZ$28+$AW$32+$AW$35+$AZ$38+$AW$41)","v":1},":",{"$f":"SUM($AW$28+AZ32+AZ34+$AW$38+AZ41)","v":1},0]
[{"$f":"VLOOKUP(B31,Vorgaben!B$10:C$16,2,FALSE)","v":{"$error":"#N/A"}},4,null,"14:45:00",null,null,null,null,null,{"$f":"IF(Vorgaben!C$1=48,'Gruppe AF8'!J331,IF(Vorgaben!C$1=42,'Gruppe AF7'!O330,IF(Vorgaben!C$1=36,'Gruppe AF6'!I324,IF(Vorgaben!C$1=30,'Gruppe AF6'!I324,IF(Vorgaben!C$1=24,'Gruppe AF6'!I324,\"\")))))","v":"Gruppe D7"},null,null,null,null,null,null,null,null,null,null,null,null,null,null,null,null,null,null,"-",{"$f":"IF(Vorgaben!C$1=48,'Gruppe AF8'!AD331,IF(Vorgaben!C$1=42,'Gruppe AF7'!AF330,IF(Vorgaben!C$1=36,'Gruppe AF6'!AC324,IF(Vorgaben!C$1=30,'Gruppe AF6'!AC324,IF(Vorgaben!C$1=24,'Gruppe AF6'!AC324,\"\")))))","v":"Gruppe D8"},null,null,null,null,null,null,null,null,null,null,null,null,null,null,null,null,null,null,null,null,":",null,null,{"$f":"Vorgaben!$G$29","v":4},null,null,null,"0",":","0",null,null,null,null,{"$f":"$L$18","v":"Gruppe D3"},{"$f":"COUNT($AW$29,$AZ$31,$AZ$36,$AW$39,$AZ$41)","v":1},{"$f":"SUM($BF$29+$BH$31+$BH$36+$BF$39+$BH$41)","v":0},{"$f":"SUM($AW$29+$AZ$31+$AZ$36+$AW$39+$AZ$41)","v":0},":",{"$f":"SUM($AW$31+AZ29+$AW$36+AZ39+$AW$41)","v":3},-3]
[{"$f":"IF(VLOOKUP(B32,Vorgaben!B$10:C$16,2,FALSE)=\"\",\"\",VLOOKUP(B32,Vorgaben!B$10:C$16,2,FALSE))","v":{"$error":"#N/A"}},5,null,"14:55:00",null,null,null,null,null,{"$f":"IF(Vorgaben!C$1=48,'Gruppe AF8'!J332,IF(Vorgaben!C$1=42,'Gruppe AF7'!O331,IF(Vorgaben!C$1=36,'Gruppe AF6'!I325,IF(Vorgaben!C$1=30,'Gruppe AF6'!I325,IF(Vorgaben!C$1=24,'Gruppe AF6'!I325,\"\")))))","v":"Gruppe D4"},null,null,null,null,null,null,null,null,null,null,null,null,null,null,null,null,null,null,"-",{"$f":"IF(Vorgaben!C$1=48,'Gruppe AF8'!AD332,IF(Vorgaben!C$1=42,'Gruppe AF7'!AF331,IF(Vorgaben!C$1=36,'Gruppe AF6'!AC325,IF(Vorgaben!C$1=30,'Gruppe AF6'!AC325,IF(Vorgaben!C$1=24,'Gruppe AF6'!AC325,\"\")))))","v":"Gruppe D1"},null,null,null,null,null,null,null,null,null,null,null,null,null,null,null,null,null,null,null,null,":",null,null,{"$f":"Vorgaben!$G$29","v":4},null,null,null,"0",":","0",null,null,null,null,{"$f":"$L$20","v":"Gruppe D5"},{"$f":"COUNT($AW$30,$AZ$32,$AW$34,$AZ$39,$AZ$42)","v":1},{"$f":"SUM($BF$30+$BH$32+$BF$34+$BH$39+$BH$42)","v":3},{"$f":"SUM($AW$30+$AZ$32+$AW$34+$AZ$39+$AZ$42)","v":3},":",{"$f":"SUM(AZ30+AZ34+$AW$32+$AW$39+$AW$425+$AW$42)","v":0},3]
[{"$f":"VLOOKUP(B33,Vorgaben!B$10:C$16,2,FALSE)","v":{"$error":"#N/A"}},6,null,"15:05:00",null,null,null,null,null,{"$f":"IF(Vorgaben!C$1=48,'Gruppe AF8'!J333,IF(Vorgaben!C$1=42,'Gruppe AF7'!O332,IF(Vorgaben!C$1=36,'Gruppe AF6'!I326,IF(Vorgaben!C$1=30,'Gruppe AF6'!I326,IF(Vorgaben!C$1=24,'Gruppe AF6'!I326,\"\")))))","v":"Gruppe D2"},null,null,null,null,null,null,null,null,null,null,null,null,null,null,null,null,null,null,"-",{"$f":"IF(Vorgaben!C$1=48,'Gruppe AF8'!AD333,IF(Vorgaben!C$1=42,'Gruppe AF7'!AF332,IF(Vorgaben!C$1=36,'Gruppe AF6'!AC326,IF(Vorgaben!C$1=30,'Gruppe AF6'!AC326,IF(Vorgaben!C$1=24,'Gruppe AF6'!AC326,\"\")))))","v":"Gruppe D3"},null,null,null,null,null,null,null,null,null,null,null,null,null,null,null,null,null,null,null,null,":",null,null,{"$f":"Vorgaben!$G$29","v":4},null,null,null,"0",":","0",null,null,null,null,"8er"]
[{"$f":"VLOOKUP(B34,Vorgaben!B$10:C$16,2,FALSE)","v":{"$error":"#N/A"}},7,null,"15:15:00",null,null,null,null,null,{"$f":"IF(Vorgaben!C$1=48,'Gruppe AF8'!J334,IF(Vorgaben!C$1=42,'Gruppe AF7'!O333,IF(Vorgaben!C$1=36,'Gruppe AF6'!I327,IF(Vorgaben!C$1=30,'Gruppe AF6'!I327,IF(Vorgaben!C$1=24,'Gruppe AF6'!I327,\"\")))))","v":"Gruppe D8"},null,null,null,null,null,null,null,null,null,null,null,null,null,null,null,null,null,null,"-",{"$f":"IF(Vorgaben!C$1=48,'Gruppe AF8'!AD334,IF(Vorgaben!C$1=42,'Gruppe AF7'!AF333,IF(Vorgaben!C$1=36,'Gruppe AF6'!AC327,IF(Vorgaben!C$1=30,'Gruppe AF6'!AC327,IF(Vorgaben!C$1=24,'Gruppe AF6'!AC327,\"\")))))","v":"Gruppe D5"},null,null,null,null,null,null,null,null,null,null,null,null,null,null,null,null,null,null,null,null,":",null,null,{"$f":"Vorgaben!$G$29","v":4},null,null,null,"0",":","0",null,null,null,null,{"$f":"$L$20","v":"Gruppe D5"},{"$f":"COUNT($AW$30,$AZ$34,$AW$36,$AZ$41,$AW$47,$AW$51,$AZ$54)","v":0},{"$f":"SUM($BF$30+$BH$34+$BF$36+$BH$41+$BF$47+$BF$51+$BH$54)","v":0},{"$f":"SUM($AW$30+$AZ$34+$AW$36+$AZ$41+$AW$47+$AW$51+$AZ$54)","v":0},":",{"$f":"SUM($AZ$30+$AW$34+$AZ$36+$AW$41+$AZ$47+$AZ$51+$AW$54)","v":0},0]
[{"$f":"VLOOKUP(B35,Vorgaben!B$10:C$16,2,FALSE)","v":{"$error":"#N/A"}},8,null,"15:25:00",null,null,null,null,null,{"$f":"IF(Vorgaben!C$1=48,'Gruppe AF8'!J335,IF(Vorgaben!C$1=42,'Gruppe AF7'!O334,IF(Vorgaben!C$1=36,'Gruppe AF6'!I328,IF(Vorgaben!C$1=30,'Gruppe AF6'!I328,IF(Vorgaben!C$1=24,'Gruppe AF6'!I328,\"\")))))","v":"Gruppe D6"},null,null,null,null,null,null,null,null,null,null,null,null,null,null,null,null,null,null,"-",{"$f":"IF(Vorgaben!C$1=48,'Gruppe AF8'!AD335,IF(Vorgaben!C$1=42,'Gruppe AF7'!AF334,IF(Vorgaben!C$1=36,'Gruppe AF6'!AC328,IF(Vorgaben!C$1=30,'Gruppe AF6'!AC328,IF(Vorgaben!C$1=24,'Gruppe AF6'!AC328,\"\")))))","v":"Gruppe D7"},null,null,null,null,null,null,null,null,null,null,null,null,null,null,null,null,null,null,null,null,":",null,null,{"$f":"Vorgaben!$G$29","v":4},null,null,null,"0",":","0",null,null,null,null,{"$f":"$L$22","v":"Gruppe D7"},{"$f":"COUNT($AW$31,$AZ$35,$AZ$38,$AW$41,$AZ$44,$AW$50,$AZ$55)","v":1},{"$f":"SUM($BF$31+$BH$35+$BH$38+$BF$41+$BH$44+$BF$50+$BH$55)","v":1},{"$f":"SUM($AW$31+$AZ$35+$AZ$38+$AW$41+$AZ$44+$AW$50+$AZ$55)","v":1},":",{"$f":"SUM($AZ$31+$AW$35+$AW$38+$AZ$41+$AW$44+$AZ$50+$AW$55)","v":1},0]
[{"$f":"VLOOKUP(B36,Vorgaben!B$10:C$16,2,FALSE)","v":{"$error":"#N/A"}},9,null,"15:35:00",null,null,null,null,null,{"$f":"IF(Vorgaben!C$1=48,'Gruppe AF8'!J336,IF(Vorgaben!C$1=42,'Gruppe AF7'!O335,IF(Vorgaben!C$1=36,'Gruppe AF6'!I329,IF(Vorgaben!C$1=30,'Gruppe AF6'!I329,IF(Vorgaben!C$1=24,'Gruppe AF6'!I329,\"\")))))","v":"Gruppe D5"},null,null,null,null,null,null,null,null,null,null,null,null,null,null,null,null,null,null,"-",{"$f":"IF(Vorgaben!C$1=48,'Gruppe AF8'!AD336,IF(Vorgaben!C$1=42,'Gruppe AF7'!AF335,IF(Vorgaben!C$1=36,'Gruppe AF6'!AC329,IF(Vorgaben!C$1=30,'Gruppe AF6'!AC329,IF(Vorgaben!C$1=24,'Gruppe AF6'!AC329,\"\")))))","v":"Gruppe D4"},null,null,null,null,null,null,null,null,null,null,null,null,null,null,null,null,null,null,null,null,":",null,null,{"$f":"Vorgaben!$G$29","v":4},null,null,null,"0",":","0",null,null,null,null,{"$f":"$L$18","v":"Gruppe D3"},{"$f":"COUNT($AW$29,$AZ$33,$AZ$37,$AW$43,$AZ$47,$AZ$50,$AW$53)","v":0},{"$f":"SUM($BF$29+$BH$33+$BH$37+$BF$43+$BH$47+$BH$50+$BF$53)","v":0},{"$f":"SUM($AW$29+$AZ$33+$AZ$37+$AW$43+$AZ$47+$AZ$50+$AW$53)","v":0},":",{"$f":"SUM($AZ$29+$AW$33+$AW$37+$AZ$43+$AW$47+$AW$50+$AZ$53)","v":0},{"$f":"SUM(BP36-BR36)","v":0}]
[{"$f":"VLOOKUP(B37,Vorgaben!B$10:C$16,2,FALSE)","v":{"$error":"#N/A"}},10,null,"15:45:00",null,null,null,null,null,{"$f":"IF(Vorgaben!C$1=48,'Gruppe AF8'!J337,IF(Vorgaben!C$1=42,'Gruppe AF7'!O336,IF(Vorgaben!C$1=36,'Gruppe AF6'!I330,IF(Vorgaben!C$1=30,'Gruppe AF6'!I330,IF(Vorgaben!C$1=24,'Gruppe AF6'!I330,\"\")))))","v":"Gruppe D1"},null,null,null,null,null,null,null,null,null,null,null,null,null,null,null,null,null,null,"-",{"$f":"IF(Vorgaben!C$1=48,'Gruppe AF8'!AD337,IF(Vorgaben!C$1=42,'Gruppe AF7'!AF336,IF(Vorgaben!C$1=36,'Gruppe AF6'!AC330,IF(Vorgaben!C$1=30,'Gruppe AF6'!AC330,IF(Vorgaben!C$1=24,'Gruppe AF6'!AC330,\"\")))))","v":"Gruppe D3"},null,null,null,null,null,null,null,null,null,null,null,null,null,null,null,null,null,null,null,null,":",null,null,{"$f":"Vorgaben!$G$29","v":4},null,null,null,"0",":","0",null,null,null,null,{"$f":"$L$17","v":"Gruppe D2"},{"$f":"COUNT($AZ$28,$AW$33,$AW$38,$AZ$40,$AW$45,$AZ$49,$AW$54)","v":1},{"$f":"SUM($BH$28+$BF$33+$BF$38+$BH$40+$BF$45+$BH$49+$BF$54)","v":1},{"$f":"SUM($AZ$28+$AW$33+$AW$38+$AZ$40+$AW$45+$AZ$49+$AW$54)","v":1},":",{"$f":"SUM($AW$28+$AZ$33+$AZ$38+$AW$40+$AZ$45+$AW$49+$AZ$54)","v":1},0]
[{"$f":"VLOOKUP(B38,Vorgaben!B$10:C$16,2,FALSE)","v":{"$error":"#N/A"}},11,null,"15:55:00",null,null,null,null,null,{"$f":"IF(Vorgaben!C$1=48,'Gruppe AF8'!J338,IF(Vorgaben!C$1=42,'Gruppe AF7'!O337,IF(Vorgaben!C$1=36,'Gruppe AF6'!I331,IF(Vorgaben!C$1=30,'Gruppe AF6'!I331,IF(Vorgaben!C$1=24,'Gruppe AF6'!I331,\"\")))))","v":"Gruppe D2"},null,null,null,null,null,null,null,null,null,null,null,null,null,null,null,null,null,null,"-",{"$f":"IF(Vorgaben!C$1=48,'Gruppe AF8'!AD338,IF(Vorgaben!C$1=42,'Gruppe AF7'!AF337,IF(Vorgaben!C$1=36,'Gruppe AF6'!AC331,IF(Vorgaben!C$1=30,'Gruppe AF6'!AC331,IF(Vorgaben!C$1=24,'Gruppe AF6'!AC331,\"\")))))","v":"Gruppe D7"},null,null,null,null,null,null,null,null,null,null,null,null,null,null,null,null,null,null,1,null,":",1,null,{"$f":"Vorgaben!$G$29","v":4},null,null,null,1,":",1,null,null,null,null,{"$f":"$L$16","v":"Gruppe D1"},{"$f":"COUNT($AW$28,$AZ$32,$AW$37,$AZ$42,$AW$46,$AZ$51,$AW$55)","v":0},{"$f":"SUM($BF$28+$BH$32+$BF$37+$BH$42+$BF$46+$BH$51+$BF$55)","v":0},{"$f":"SUM($AW$28+$AZ$32+$AW$37+$AZ$42+$AW$46+$AZ$51+$AW$55)","v":0},":",{"$f":"SUM($AZ$28+$AW$32+$AZ$37+$AW$42+$AZ$46+$AW$51+$AZ$55)","v":0},0]
[{"$f":"VLOOKUP(B39,Vorgaben!B$10:C$16,2,FALSE)","v":{"$error":"#N/A"}},12,null,"16:05:00",null,null,null,null,null,{"$f":"IF(Vorgaben!C$1=48,'Gruppe AF8'!J339,IF(Vorgaben!C$1=42,'Gruppe AF7'!O338,IF(Vorgaben!C$1=36,'Gruppe AF6'!I332,IF(Vorgaben!C$1=30,'Gruppe AF6'!I332,IF(Vorgaben!C$1=24,'Gruppe AF6'!I332,\"\")))))","v":"Gruppe D6"},null,null,null,null,null,null,null,null,null,null,null,null,null,null,null,null,null,null,"-",{"$f":"IF(Vorgaben!C$1=48,'Gruppe AF8'!AD339,IF(Vorgaben!C$1=42,'Gruppe AF7'!AF338,IF(Vorgaben!C$1=36,'Gruppe AF6'!AC332,IF(Vorgaben!C$1=30,'Gruppe AF6'!AC332,IF(Vorgaben!C$1=24,'Gruppe AF6'!AC332,\"\")))))","v":"Gruppe D8"},null,null,null,null,null,null,null,null,null,null,null,null,null,null,null,null,null,null,0,null,":",3,null,{"$f":"Vorgaben!$G$29","v":4},null,null,null,0,":",3,null,null,null,null,{"$f":"$L$19","v":"Gruppe D4"},{"$f":"COUNT($AZ$29,$AW$32,$AZ$36,$AW$40,$AW$44,$AZ$48,$AW$52)","v":0},{"$f":"SUM($BH$29+$BF$32+$BH$36+$BF$40+$BF$44+$BH$48+$BF$52)","v":0},{"$f":"SUM($AZ$29+$AW$32+$AZ$36+$AW$40+$AW$44+$AZ$48+$AW$52)","v":0},":",{"$f":"SUM($AW$29+$AZ$32+$AW$36+$AZ$40+$AZ$44+$AW$48+$AZ$52)","v":0},0]
[{"$f":"VLOOKUP(B40,Vorgaben!B$10:C$16,2,FALSE)","v":{"$error":"#N/A"}},13,null,"16:15:00",null,null,null,null,null,{"$f":"IF(Vorgaben!C$1=48,'Gruppe AF8'!J340,IF(Vorgaben!C$1=42,'Gruppe AF7'!O339,IF(Vorgaben!C$1=36,'Gruppe AF6'!I333,IF(Vorgaben!C$1=30,'Gruppe AF6'!I333,IF(Vorgaben!C$1=24,'Gruppe AF6'!I333,\"\")))))","v":"Gruppe D4"},null,null,null,null,null,null,null,null,null,null,null,null,null,null,null,null,null,null,"-",{"$f":"IF(Vorgaben!C$1=48,'Gruppe AF8'!AD340,IF(Vorgaben!C$1=42,'Gruppe AF7'!AF339,IF(Vorgaben!C$1=36,'Gruppe AF6'!AC333,IF(Vorgaben!C$1=30,'Gruppe AF6'!AC333,IF(Vorgaben!C$1=24,'Gruppe AF6'!AC333,\"\")))))","v":"Gruppe D2"},null,null,null,null,null,null,null,null,null,null,null,null,null,null,null,null,null,null,null,null,":",null,null,{"$f":"Vorgaben!$G$29","v":4},null,null,null,"0",":","0",null,null,null,null,{"$f":"$L$23","v":"Gruppe D8"},{"$f":"COUNT($AZ$31,$AW$34,$AZ$39,$AW$42,$AZ$45,$AW$48,$AZ$53)","v":1},{"$f":"SUM($BH$31+$BF$34+$BH$39+$BF$42+$BH$45+$BF$48+$BH$53)","v":3},{"$f":"SUM($AZ$31+$AW$34+$AZ$39+$AW$42+$AZ$45+$AW$48+$AZ$53)","v":3},":",{"$f":"SUM($AW$31+$AZ$34+$AW$39+$AZ$42+$AW$45+$AZ$48+$AW$53)","v":0},3]
[{"$f":"VLOOKUP(B41,Vorgaben!B$10:C$16,2,FALSE)","v":{"$error":"#N/A"}},14,null,"16:25:00",null,null,null,null,null,{"$f":"IF(Vorgaben!C$1=48,'Gruppe AF8'!J341,IF(Vorgaben!C$1=42,'Gruppe AF7'!O340,IF(Vorgaben!C$1=36,'Gruppe AF6'!I334,IF(Vorgaben!C$1=30,'Gruppe AF6'!I334,IF(Vorgaben!C$1=24,'Gruppe AF6'!I334,\"\")))))","v":"Gruppe D7"},null,null,null,null,null,null,null,null,null,null,null,null,null,null,null,null,null,null,"-",{"$f":"IF(Vorgaben!C$1=48,'Gruppe AF8'!AD341,IF(Vorgaben!C$1=42,'Gruppe AF7'!AF340,IF(Vorgaben!C$1=36,'Gruppe AF6'!AC334,IF(Vorgaben!C$1=30,'Gruppe AF6'!AC334,IF(Vorgaben!C$1=24,'Gruppe AF6'!AC334,\"\")))))","v":"Gruppe D5"},null,null,null,null,null,null,null,null,null,null,null,null,null,null,null,null,null,null,null,null,":",null,null,{"$f":"Vorgaben!$G$29","v":4},null,null,null,"0",":","0",null,null,null,null,{"$f":"$L$21","v":"Gruppe D6"},{"$f":"COUNT($AZ$30,$AW$35,$AW$39,$AZ$43,$AZ$46,$AW$49,$AZ$52)","v":1},{"$f":"SUM($BH$30+$BF$35+$BF$39+$BH$43+$BH$46+$BF$49+$BH$52)","v":0},{"$f":"SUM($AZ$30+$AW$35+$AW$39+$AZ$43+$AZ$46+$AW$49+$AZ$52)","v":0},":",{"$f":"SUM($AW$30+$AZ$35+$AZ$39+$AW$43+$AW$46+$AZ$49+$AW$52)","v":3},-3]
[{"$f":"VLOOKUP(B42,Vorgaben!B$10:C$16,2,FALSE)","v":{"$error":"#N/A"}},15,null,"16:35:00",null,null,null,null,null,{"$f":"IF(Vorgaben!C$1=48,'Gruppe AF8'!J342,IF(Vorgaben!C$1=42,'Gruppe AF7'!O341,IF(Vorgaben!C$1=36,'Gruppe AF6'!I335,IF(Vorgaben!C$1=30,'Gruppe AF6'!I335,IF(Vorgaben!C$1=24,'Gruppe AF6'!I335,\"\")))))","v":"Gruppe D8"},null,null,null,null,null,null,null,null,null,null,null,null,null,null,null,null,null,null,"-",{"$f":"IF(Vorgaben!C$1=48,'Gruppe AF8'!AD342,IF(Vorgaben!C$1=42,'Gruppe AF7'!AF341,IF(Vorgaben!C$1=36,'Gruppe AF6'!AC335,IF(Vorgaben!C$1=30,'Gruppe AF6'!AC335,IF(Vorgaben!C$1=24,'Gruppe AF6'!AC335,\"\")))))","v":"Gruppe D1"},null,null,null,null,null,null,null,null,null,null,null,null,null,null,null,null,null,null,null,null,":",null,null,{"$f":"Vorgaben!$G$29","v":4},null,null,null,"0",":","0",null,null,null,null,"7er"]
[{"$f":"VLOOKUP(B43,Vorgaben!B$10:C$16,2,FALSE)","v":{"$error":"#N/A"}},16,null,"16:45:00",null,null,null,null,null,{"$f":"IF(Vorgaben!C$1=48,'Gruppe AF8'!J343,IF(Vorgaben!C$1=42,'Gruppe AF7'!O342,IF(Vorgaben!C$1=36,'Gruppe AF6'!I336,\"\")))","v":"Gruppe D3"},null,null,null,null,null,null,null,null,null,null,null,null,null,null,null,null,null,null,"-",{"$f":"IF(Vorgaben!C$1=48,'Gruppe AF8'!AD343,IF(Vorgaben!C$1=42,'Gruppe AF7'!AF342,IF(Vorgaben!C$1=36,'Gruppe AF6'!AC336,IF(Vorgaben!C$1=30,'Gruppe AF6'!AC336,IF(Vorgaben!C$1=24,'Gruppe AF6'!AC336,\"\")))))","v":"Gruppe D6"},null,null,null,null,null,null,null,null,null,null,null,null,null,null,null,null,null,null,null,null,":",null,null,{"$f":"Vorgaben!$G$29","v":4},null,null,null,"0",":","0",null,null,null,null,{"$f":"$L$16","v":"Gruppe D1"},{"$f":"COUNT(AW28,AZ31,AW34,AZ37,AW40,AZ43)","v":0},{"$f":"SUM(BF28,BH31,BF34,BH37,BF40,BH43)","v":0},{"$f":"SUM(AW28,AZ31,AW34,AZ37,AW40,AZ43)","v":0},":",{"$f":"SUM(AZ28+AW31+AW37+AW43+AZ40+AZ34)","v":0},0]
[{"$f":"VLOOKUP(B44,Vorgaben!B$10:C$16,2,FALSE)","v":{"$error":"#N/A"}},17,null,"16:55:00",null,null,null,null,null,{"$f":"IF(Vorgaben!C$1=48,'Gruppe AF8'!J344,IF(Vorgaben!C$1=42,'Gruppe AF7'!O343,IF(Vorgaben!C$1=36,'Gruppe AF6'!I337,\"\")))","v":"Gruppe D4"},null,null,null,null,null,null,null,null,null,null,null,null,null,null,null,null,null,null,"-",{"$f":"IF(Vorgaben!C$1=48,'Gruppe AF8'!AD344,IF(Vorgaben!C$1=42,'Gruppe AF7'!AF343,IF(Vorgaben!C$1=36,'Gruppe AF6'!AC337,IF(Vorgaben!C$1=30,'Gruppe AF6'!AC337,IF(Vorgaben!C$1=24,'Gruppe AF6'!AC337,\"\")))))","v":"Gruppe D7"},null,null,null,null,null,null,null,null,null,null,null,null,null,null,null,null,null,null,null,null,":",null,null,{"$f":"Vorgaben!$G$29","v":4},null,null,null,"0",":","0",null,null,null,null,{"$f":"$L$18","v":"Gruppe D3"},{"$f":"COUNT(AW29,AW33,AZ36,AZ38,AW43,AZ46)","v":1},{"$f":"SUM(BF29,BF33,BH36,BH38,BF43,BH46)","v":1},{"$f":"SUM(AW29,AW33,AZ36,AZ38,AW43,AZ46)","v":1},":",{"$f":"SUM(AZ29+AZ33+AW36+AW38+AZ43+AW46)","v":1},0]
[{"$f":"VLOOKUP(B45,Vorgaben!B$10:C$16,2,FALSE)","v":{"$error":"#N/A"}},18,null,"17:05:00",null,null,null,null,null,{"$f":"IF(Vorgaben!C$1=48,'Gruppe AF8'!J345,IF(Vorgaben!C$1=42,'Gruppe AF7'!O344,IF(Vorgaben!C$1=36,'Gruppe AF6'!I338,\"\")))","v":"Gruppe D2"},null,null,null,null,null,null,null,null,null,null,null,null,null,null,null,null,null,null,"-",{"$f":"IF(Vorgaben!C$1=48,'Gruppe AF8'!AD345,IF(Vorgaben!C$1=42,'Gruppe AF7'!AF344,IF(Vorgaben!C$1=36,'Gruppe AF6'!AC338,IF(Vorgaben!C$1=30,'Gruppe AF6'!AC338,IF(Vorgaben!C$1=24,'Gruppe AF6'!AC338,\"\")))))","v":"Gruppe D8"},null,null,null,null,null,null,null,null,null,null,null,null,null,null,null,null,null,null,null,null,":",null,null,{"$f":"Vorgaben!$G$29","v":4},null,null,null,"0",":","0",null,null,null,null,{"$f":"$L$17","v":"Gruppe D2"},{"$f":"COUNT(AZ28,AW32,AW36,AZ39,AW42,AZ47)","v":1},{"$f":"SUM(BH28,BF32,BF36,BH39,BF42,BH47)","v":3},{"$f":"SUM(AZ28,AW32,AW36,AZ39,AW42,AZ47)","v":3},":",{"$f":"SUM(AW28+AZ32+AZ36+AW39+AZ42+AW47)","v":0},3]
[{"$f":"VLOOKUP(B46,Vorgaben!B$10:C$16,2,FALSE)","v":{"$error":"#N/A"}},19,null,"17:15:00",null,null,null,null,null,{"$f":"IF(Vorgaben!C$1=48,'Gruppe AF8'!J346,IF(Vorgaben!C$1=42,'Gruppe AF7'!O345,IF(Vorgaben!C$1=36,'Gruppe AF6'!I339,\"\")))","v":"Gruppe D1"},null,null,null,null,null,null,null,null,null,null,null,null,null,null,null,null,null,null,"-",{"$f":"IF(Vorgaben!C$1=48,'Gruppe AF8'!AD346,IF(Vorgaben!C$1=42,'Gruppe AF7'!AF345,IF(Vorgaben!C$1=36,'Gruppe AF6'!AC339,IF(Vorgaben!C$1=30,'Gruppe AF6'!AC339,IF(Vorgaben!C$1=24,'Gruppe AF6'!AC339,\"\")))))","v":"Gruppe D6"},null,null,null,null,null,null,null,null,null,null,null,null,null,null,null,null,null,null,null,null,":",null,null,{"$f":"Vorgaben!$G$29","v":4},null,null,null,"0",":","0",null,null,null,null,{"$f":"$L$19","v":"Gruppe D4"},{"$f":"COUNT(AZ29,AZ32,AW35,AZ40,AW44,AW48)","v":0},{"$f":"SUM(BH29,BH32,BF35,BH40,BF44,BF48)","v":0},{"$f":"SUM(AZ29,AZ32,AW35,AZ40,AW44,AW48)","v":0},":",{"$f":"SUM(AW29+AW32+AZ35+AW40+AZ44+AZ48)","v":0},0]
[{"$f":"VLOOKUP(B47,Vorgaben!B$10:C$16,2,FALSE)","v":{"$error":"#N/A"}},20,null,"17:25:00",null,null,null,null,null,{"$f":"IF(Vorgaben!C$1=48,'Gruppe AF8'!J347,IF(Vorgaben!C$1=42,'Gruppe AF7'!O346,IF(Vorgaben!C$1=36,'Gruppe AF6'!I340,\"\")))","v":"Gruppe D5"},null,null,null,null,null,null,null,null,null,null,null,null,null,null,null,null,null,null,"-",{"$f":"IF(Vorgaben!C$1=48,'Gruppe AF8'!AD347,IF(Vorgaben!C$1=42,'Gruppe AF7'!AF346,IF(Vorgaben!C$1=36,'Gruppe AF6'!AC340,IF(Vorgaben!C$1=30,'Gruppe AF6'!AC340,IF(Vorgaben!C$1=24,'Gruppe AF6'!AC340,\"\")))))","v":"Gruppe D3"},null,null,null,null,null,null,null,null,null,null,null,null,null,null,null,null,null,null,null,null,":",null,null,{"$f":"Vorgaben!$G$29","v":4},null,null,null,"0",":","0",null,null,null,null,{"$f":"$L$22","v":"Gruppe D7"},{"$f":"COUNT(AW31,AZ35,AW38,AZ41,AZ45,AW47)","v":1},{"$f":"SUM(BF31,BH35,BF38,BH41,BH45,BF47)","v":1},{"$f":"SUM(AW31,AZ35,AW38,AZ41,AZ45,AW47)","v":1},":",{"$f":"SUM(AZ31+AW35+AZ38+AW41+AW45+AZ47)","v":1},0]
[{"$f":"VLOOKUP(B48,Vorgaben!B$10:C$16,2,FALSE)","v":{"$error":"#N/A"}},21,null,"17:35:00",null,null,null,null,null,{"$f":"IF(Vorgaben!C$1=48,'Gruppe AF8'!J348,IF(Vorgaben!C$1=42,'Gruppe AF7'!O347,IF(Vorgaben!C$1=36,'Gruppe AF6'!I341,\"\")))","v":"Gruppe D8"},null,null,null,null,null,null,null,null,null,null,null,null,null,null,null,null,null,null,"-",{"$f":"IF(Vorgaben!C$1=48,'Gruppe AF8'!AD348,IF(Vorgaben!C$1=42,'Gruppe AF7'!AF347,IF(Vorgaben!C$1=36,'Gruppe AF6'!AC341,IF(Vorgaben!C$1=30,'Gruppe AF6'!AC341,IF(Vorgaben!C$1=24,'Gruppe AF6'!AC341,\"\")))))","v":"Gruppe D4"},null,null,null,null,null,null,null,null,null,null,null,null,null,null,null,null,null,null,null,null,":",null,null,{"$f":"Vorgaben!$G$29","v":4},null,null,null,"0",":","0",null,null,null,null,{"$f":"$L$20","v":"Gruppe D5"},{"$f":"COUNT(AW30,AZ33,AW37,AZ42,AW45,AZ48)","v":0},{"$f":"SUM(BF30,BH33,BF37,BH42,BF45,BH48)","v":0},{"$f":"SUM(AW30,AZ33,AW37,AZ42,AW45,AZ48)","v":0},":",{"$f":"SUM(AZ30+AW33+AZ37+AW42+AZ45+AW48)","v":0},0]
[{"$f":"VLOOKUP(B49,Vorgaben!B$10:C$16,2,FALSE)","v":{"$error":"#N/A"}},22,null,"17:45:00",null,null,null,null,null,{"$f":"IF(Vorgaben!C$1=48,'Gruppe AF8'!J349,IF(Vorgaben!C$1=42,'Gruppe AF7'!O348,IF(Vorgaben!C$1=36,'Gruppe AF6'!I342,\"\")))","v":"Gruppe D6"},null,null,null,null,null,null,null,null,null,null,null,null,null,null,null,null,null,null,"-",{"$f":"IF(Vorgaben!C$1=48,'Gruppe AF8'!AD349,IF(Vorgaben!C$1=42,'Gruppe AF7'!AF348,IF(Vorgaben!C$1=36,'Gruppe AF6'!AC342,IF(Vorgaben!C$1=30,'Gruppe AF6'!AC342,IF(Vorgaben!C$1=24,'Gruppe AF6'!AC342,\"\")))))","v":"Gruppe D2"},null,null,null,null,null,null,null,null,null,null,null,null,null,null,null,null,null,null,null,null,":",null,null,{"$f":"Vorgaben!$G$29","v":4},null,null,null,"0",":","0",null,null,null,null,{"$f":"$L$21","v":"Gruppe D6"},{"$f":"COUNT(AZ30,AZ34,AW39,AW41,AZ44,AW46)","v":1},{"$f":"COUNT(BH30,BH34,BF39,BF41,BH44,BF46)","v":1},{"$f":"COUNT(AZ30,AZ34,AW39,AW41,AZ44,AW46)","v":1},":",{"$f":"SUM(AW30+AW34+AZ39+AZ41+AW44+AZ46)","v":3},{"$f":"SUM(BP49-BR49)","v":-2}]
[{"$f":"VLOOKUP(B50,Vorgaben!B$10:C$16,2,FALSE)","v":{"$error":"#N/A"}},23,null,"17:55:00",null,null,null,null,null,{"$f":"IF(Vorgaben!C$1=48,'Gruppe AF8'!J350,IF(Vorgaben!C$1=42,'Gruppe AF7'!O349,IF(Vorgaben!C$1=36,'Gruppe AF6'!I343,\"\")))","v":"Gruppe D7"},null,null,null,null,null,null,null,null,null,null,null,null,null,null,null,null,null,null,"-",{"$f":"IF(Vorgaben!C$1=48,'Gruppe AF8'!AD350,IF(Vorgaben!C$1=42,'Gruppe AF7'!AF349,IF(Vorgaben!C$1=36,'Gruppe AF6'!AC343,IF(Vorgaben!C$1=30,'Gruppe AF6'!AC343,IF(Vorgaben!C$1=24,'Gruppe AF6'!AC343,\"\")))))","v":"Gruppe D3"},null,null,null,null,null,null,null,null,null,null,null,null,null,null,null,null,null,null,null,null,":",null,null,{"$f":"Vorgaben!$G$29","v":4},null,null,null,"0",":","0"]
[{"$f":"VLOOKUP(B51,Vorgaben!B$10:C$16,2,FALSE)","v":{"$error":"#N/A"}},24,null,"18:05:00",null,null,null,null,null,{"$f":"IF(Vorgaben!C$1=48,'Gruppe AF8'!J351,IF(Vorgaben!C$1=42,'Gruppe AF7'!O350,IF(Vorgaben!C$1=36,'Gruppe AF6'!I344,\"\")))","v":"Gruppe D5"},null,null,null,null,null,null,null,null,null,null,null,null,null,null,null,null,null,null,"-",{"$f":"IF(Vorgaben!C$1=48,'Gruppe AF8'!AD351,IF(Vorgaben!C$1=42,'Gruppe AF7'!AF350,IF(Vorgaben!C$1=36,'Gruppe AF6'!AC344,IF(Vorgaben!C$1=30,'Gruppe AF6'!AC344,IF(Vorgaben!C$1=24,'Gruppe AF6'!AC344,\"\")))))","v":"Gruppe D1"},null,null,null,null,null,null,null,null,null,null,null,null,null,null,null,null,null,null,null,null,":",null,null,{"$f":"Vorgaben!$G$29","v":4},null,null,null,"0",":","0"]
[{"$f":"VLOOKUP(B52,Vorgaben!B$10:C$16,2,FALSE)","v":{"$error":"#N/A"}},25,null,"18:15:00",null,null,null,null,null,{"$f":"IF(Vorgaben!C$1=48,'Gruppe AF8'!J352,IF(Vorgaben!C$1=42,'Gruppe AF7'!O351,IF(Vorgaben!C$1=36,'Gruppe AF6'!I345,\"\")))","v":"Gruppe D4"},null,null,null,null,null,null,null,null,null,null,null,null,null,null,null,null,null,null,"-",{"$f":"IF(Vorgaben!C$1=48,'Gruppe AF8'!AD352,IF(Vorgaben!C$1=42,'Gruppe AF7'!AF351,IF(Vorgaben!C$1=36,'Gruppe AF6'!AC345,IF(Vorgaben!C$1=30,'Gruppe AF6'!AC345,IF(Vorgaben!C$1=24,'Gruppe AF6'!AC345,\"\")))))","v":"Gruppe D6"},null,null,null,null,null,null,null,null,null,null,null,null,null,null,null,null,null,null,null,null,":",null,null,{"$f":"Vorgaben!$G$29","v":4},null,null,null,"0",":","0"]
[{"$f":"VLOOKUP(B53,Vorgaben!B$10:C$16,2,FALSE)","v":{"$error":"#N/A"}},26,null,"18:25:00",null,null,null,null,null,{"$f":"IF(Vorgaben!C$1=48,'Gruppe AF8'!J353,IF(Vorgaben!C$1=42,'Gruppe AF7'!O352,IF(Vorgaben!C$1=36,'Gruppe AF6'!I346,\"\")))","v":"Gruppe D3"},null,null,null,null,null,null,null,null,null,null,null,null,null,null,null,null,null,null,"-",{"$f":"IF(Vorgaben!C$1=48,'Gruppe AF8'!AD353,IF(Vorgaben!C$1=42,'Gruppe AF7'!AF352,IF(Vorgaben!C$1=36,'Gruppe AF6'!AC346,IF(Vorgaben!C$1=30,'Gruppe AF6'!AC346,IF(Vorgaben!C$1=24,'Gruppe AF6'!AC346,\"\")))))","v":"Gruppe D8"},null,null,null,null,null,null,null,null,null,null,null,null,null,null,null,null,null,null,null,null,":",null,null,{"$f":"Vorgaben!$G$29","v":4},null,null,null,"0",":","0"]
[{"$f":"VLOOKUP(B54,Vorgaben!B$10:C$16,2,FALSE)","v":{"$error":"#N/A"}},27,null,"18:35:00",null,null,null,null,null,{"$f":"IF(Vorgaben!C$1=48,'Gruppe AF8'!J354,IF(Vorgaben!C$1=42,'Gruppe AF7'!O353,IF(Vorgaben!C$1=36,'Gruppe AF6'!I347,\"\")))","v":"Gruppe D2"},null,null,null,null,null,null,null,null,null,null,null,null,null,null,null,null,null,null,"-",{"$f":"IF(Vorgaben!C$1=48,'Gruppe AF8'!AD354,IF(Vorgaben!C$1=42,'Gruppe AF7'!AF353,IF(Vorgaben!C$1=36,'Gruppe AF6'!AC347,IF(Vorgaben!C$1=30,'Gruppe AF6'!AC347,IF(Vorgaben!C$1=24,'Gruppe AF6'!AC347,\"\")))))","v":"Gruppe D5"},null,null,null,null,null,null,null,null,null,null,null,null,null,null,null,null,null,null,null,null,":",null,null,{"$f":"Vorgaben!$G$29","v":4},null,null,null,"0",":","0"]
[{"$f":"VLOOKUP(B55,Vorgaben!B$10:C$16,2,FALSE)","v":{"$error":"#N/A"}},28,null,"18:45:00",null,null,null,null,null,{"$f":"IF(Vorgaben!C$1=48,'Gruppe AF8'!J355,IF(Vorgaben!C$1=42,'Gruppe AF7'!O354,IF(Vorgaben!C$1=36,'Gruppe AF6'!I348,\"\")))","v":"Gruppe D1"},null,null,null,null,null,null,null,null,null,null,null,null,null,null,null,null,null,null,"-",{"$f":"IF(Vorgaben!C$1=48,'Gruppe AF8'!AD355,IF(Vorgaben!C$1=42,'Gruppe AF7'!AF354,IF(Vorgaben!C$1=36,'Gruppe AF6'!AC348,IF(Vorgaben!C$1=30,'Gruppe AF6'!AC348,IF(Vorgaben!C$1=24,'Gruppe AF6'!AC348,\"\")))))","v":"Gruppe D7"},null,null,null,null,null,null,null,null,null,null,null,null,null,null,null,null,null,null,null,null,":",null,null,{"$f":"Vorgaben!$G$29","v":4},null,null,null,"0",":","0"]
[]
[]
[null,"III. Abschlußtabelle"]
[]
[null,null,null,null,null,null,null,null,"Mannschaften",null,null,null,null,null,null,null,null,null,null,null,null,null,null,null,null,null,null,null,null,null,null,null,null,null,null,null,"Sp.",null,null,"Pkt.",null,null,"Tore",null,null,null,null,"Diff."]
[null,null,null,null,null,null,null,null,"1.",null,{"$f":"IF(Vorgaben!C$1=48,'Gruppe AF8'!K361,IF(Vorgaben!C$1=42,'Gruppe AF7'!K353,IF(Vorgaben!C$1=36,'Gruppe AF6'!K340,'Gruppe AF6'!K340:AH340)))","v":"Gruppe D8"},null,null,null,null,null,null,null,null,null,null,null,null,null,null,null,null,null,null,null,null,null,null,null,null,null,{"$f":"IF(Vorgaben!C$1=48,'Gruppe AF8'!AK361,IF(Vorgaben!C$1=42,'Gruppe AF7'!AK353:AM353,IF(Vorgaben!C$1=36,'Gruppe AF6'!AI340,IF(Vorgaben!C$1=30,'Gruppe AF6'!AI340,'Gruppe AF6'!AI340))))","v":1},null,null,{"$f":"IF(Vorgaben!C$1=48,'Gruppe AF8'!AN361,IF(Vorgaben!C$1=42,'Gruppe AF7'!AN353:AP353,IF(Vorgaben!C$1=36,'Gruppe AF6'!AL340,IF(Vorgaben!C$1=30,'Gruppe AF6'!AL340,'Gruppe AF6'!BO327))))","v":3},null,null,{"$f":"IF(Vorgaben!C$1=48,'Gruppe AF8'!AQ361,IF(Vorgaben!C$1=42,'Gruppe AF7'!AQ353:AR353,IF(Vorgaben!C$1=36,'Gruppe AF6'!AO340,IF(Vorgaben!C$1=30,'Gruppe AF6'!AL340,'Gruppe AF6'!BP327))))","v":3},null,":",{"$f":"IF(Vorgaben!C$1=48,'Gruppe AF8'!AT361,IF(Vorgaben!C$1=42,'Gruppe AF7'!AT353:AU353,IF(Vorgaben!C$1=36,'Gruppe AF6'!AR340,IF(Vorgaben!C$1=30,'Gruppe AF6'!AR340,'Gruppe AF6'!BR327))))","v":0},null,{"$f":"IF(Vorgaben!C$1=48,'Gruppe AF8'!AV361,IF(Vorgaben!C$1=42,'Gruppe AF7'!AV353,IF(Vorgaben!C$1=36,'Gruppe AF6'!AT340,IF(Vorgaben!C$1=30,'Gruppe AF6'!AT340,'Gruppe AF6'!BS327))))","v":3}]
[null,null,null,null,null,null,null,null,"2.",null,{"$f":"IF(Vorgaben!C$1=48,'Gruppe AF8'!K362,IF(Vorgaben!C$1=42,'Gruppe AF7'!K354,IF(Vorgaben!C$1=36,'Gruppe AF6'!K341,'Gruppe AF6'!K341:AH341)))","v":"Gruppe D7"},null,null,null,null,null,null,null,null,null,null,null,null,null,null,null,null,null,null,null,null,null,null,null,null,null,{"$f":"IF(Vorgaben!C$1=48,'Gruppe AF8'!AK362,IF(Vorgaben!C$1=42,'Gruppe AF7'!AK354:AM354,IF(Vorgaben!C$1=36,'Gruppe AF6'!AI341,IF(Vorgaben!C$1=30,'Gruppe AF6'!AI341,'Gruppe AF6'!AI341))))","v":1},null,null,{"$f":"IF(Vorgaben!C$1=48,'Gruppe AF8'!AN362,IF(Vorgaben!C$1=42,'Gruppe AF7'!AN354:AP354,IF(Vorgaben!C$1=36,'Gruppe AF6'!AL341,IF(Vorgaben!C$1=30,'Gruppe AF6'!AL341,'Gruppe AF6'!BO328))))","v":1},null,null,{"$f":"IF(Vorgaben!C$1=48,'Gruppe AF8'!AQ362,IF(Vorgaben!C$1=42,'Gruppe AF7'!AQ354:AR354,IF(Vorgaben!C$1=36,'Gruppe AF6'!AO341,IF(Vorgaben!C$1=30,'Gruppe AF6'!AL341,'Gruppe AF6'!BP328))))","v":1},null,":",{"$f":"IF(Vorgaben!C$1=48,'Gruppe AF8'!AT362,IF(Vorgaben!C$1=42,'Gruppe AF7'!AT354:AU354,IF(Vorgaben!C$1=36,'Gruppe AF6'!AR341,IF(Vorgaben!C$1=30,'Gruppe AF6'!AR341,'Gruppe AF6'!BR328))))","v":1},null,{"$f":"IF(Vorgaben!C$1=48,'Gruppe AF8'!AV362,IF(Vorgaben!C$1=42,'Gruppe AF7'!AV354,IF(Vorgaben!C$1=36,'Gruppe AF6'!AT341,IF(Vorgaben!C$1=30,'Gruppe AF6'!AT341,'Gruppe AF6'!BS328))))","v":0}]
[null,null,null,null,null,null,null,null,"3.",null,{"$f":"IF(Vorgaben!C$1=48,'Gruppe AF8'!K363,IF(Vorgaben!C$1=42,'Gruppe AF7'!K355,IF(Vorgaben!C$1=36,'Gruppe AF6'!K342,'Gruppe AF6'!K342:AH342)))","v":"Gruppe D2"},null,null,null,null,null,null,null,null,null,null,null,null,null,null,null,null,null,null,null,null,null,null,null,null,null,{"$f":"IF(Vorgaben!C$1=48,'Gruppe AF8'!AK363,IF(Vorgaben!C$1=42,'Gruppe AF7'!AK355:AM355,IF(Vorgaben!C$1=36,'Gruppe AF6'!AI342,IF(Vorgaben!C$1=30,'Gruppe AF6'!AI342,'Gruppe AF6'!AI342))))","v":1},null,null,{"$f":"IF(Vorgaben!C$1=48,'Gruppe AF8'!AN363,IF(Vorgaben!C$1=42,'Gruppe AF7'!AN355:AP355,IF(Vorgaben!C$1=36,'Gruppe AF6'!AL342,IF(Vorgaben!C$1=30,'Gruppe AF6'!AL342,'Gruppe AF6'!BO329))))","v":1},null,null,{"$f":"IF(Vorgaben!C$1=48,'Gruppe AF8'!AQ363,IF(Vorgaben!C$1=42,'Gruppe AF7'!AQ355:AR355,IF(Vorgaben!C$1=36,'Gruppe AF6'!AO342,IF(Vorgaben!C$1=30,'Gruppe AF6'!AL342,'Gruppe AF6'!BP329))))","v":1},null,":",{"$f":"IF(Vorgaben!C$1=48,'Gruppe AF8'!AT363,IF(Vorgaben!C$1=42,'Gruppe AF7'!AT355:AU355,IF(Vorgaben!C$1=36,'Gruppe AF6'!AR342,IF(Vorgaben!C$1=30,'Gruppe AF6'!AR342,'Gruppe AF6'!BR329))))","v":1},null,{"$f":"IF(Vorgaben!C$1=48,'Gruppe AF8'!AV363,IF(Vorgaben!C$1=42,'Gruppe AF7'!AV355,IF(Vorgaben!C$1=36,'Gruppe AF6'!AT342,IF(Vorgaben!C$1=30,'Gruppe AF6'!AT342,'Gruppe AF6'!BS329))))","v":0}]
[null,null,null,null,null,null,null,null,"4.",null,{"$f":"IF(Vorgaben!C$1=48,'Gruppe AF8'!K364,IF(Vorgaben!C$1=42,'Gruppe AF7'!K356,IF(Vorgaben!C$1=36,'Gruppe AF6'!K343,'Gruppe AF6'!K343:AH343)))","v":"Gruppe D3"},null,null,null,null,null,null,null,null,null,null,null,null,null,null,null,null,null,null,null,null,null,null,null,null,null,{"$f":"IF(Vorgaben!C$1=48,'Gruppe AF8'!AK364,IF(Vorgaben!C$1=42,'Gruppe AF7'!AK356:AM356,IF(Vorgaben!C$1=36,'Gruppe AF6'!AI343,IF(Vorgaben!C$1=30,'Gruppe AF6'!AI343,'Gruppe AF6'!AI343))))","v":0},null,null,{"$f":"IF(Vorgaben!C$1=48,'Gruppe AF8'!AN364,IF(Vorgaben!C$1=42,'Gruppe AF7'!AN356:AP356,IF(Vorgaben!C$1=36,'Gruppe AF6'!AL343,IF(Vorgaben!C$1=30,'Gruppe AF6'!AL343,'Gruppe AF6'!BO330))))","v":0},null,null,{"$f":"IF(Vorgaben!C$1=48,'Gruppe AF8'!AQ364,IF(Vorgaben!C$1=42,'Gruppe AF7'!AQ356:AR356,IF(Vorgaben!C$1=36,'Gruppe AF6'!AO343,IF(Vorgaben!C$1=30,'Gruppe AF6'!AL343,'Gruppe AF6'!BP330))))","v":0},null,":",{"$f":"IF(Vorgaben!C$1=48,'Gruppe AF8'!AT364,IF(Vorgaben!C$1=42,'Gruppe AF7'!AT356:AU356,IF(Vorgaben!C$1=36,'Gruppe AF6'!AR343,IF(Vorgaben!C$1=30,'Gruppe AF6'!AR343,'Gruppe AF6'!BR330))))","v":0},null,{"$f":"IF(Vorgaben!C$1=48,'Gruppe AF8'!AV364,IF(Vorgaben!C$1=42,'Gruppe AF7'!AV356,IF(Vorgaben!C$1=36,'Gruppe AF6'!AT343,IF(Vorgaben!C$1=30,'Gruppe AF6'!AT343,'Gruppe AF6'!BS330))))","v":0}]
[null,null,null,null,null,null,null,null,"5.",null,{"$f":"IF(Vorgaben!C$1=48,'Gruppe AF8'!K365,IF(Vorgaben!C$1=42,'Gruppe AF7'!K357,IF(Vorgaben!C$1=36,'Gruppe AF6'!K344,'Gruppe AF6'!K344:AH344)))","v":"Gruppe D4"},null,null,null,null,null,null,null,null,null,null,null,null,null,null,null,null,null,null,null,null,null,null,null,null,null,{"$f":"IF(Vorgaben!C$1=48,'Gruppe AF8'!AK365,IF(Vorgaben!C$1=42,'Gruppe AF7'!AK357:AM357,IF(Vorgaben!C$1=36,'Gruppe AF6'!AI344,IF(Vorgaben!C$1=30,'Gruppe AF6'!AI344,'Gruppe AF6'!AI344))))","v":0},null,null,{"$f":"IF(Vorgaben!C$1=48,'Gruppe AF8'!AN365,IF(Vorgaben!C$1=42,'Gruppe AF7'!AN357:AP357,IF(Vorgaben!C$1=36,'Gruppe AF6'!AL344,IF(Vorgaben!C$1=30,'Gruppe AF6'!AL344,'Gruppe AF6'!BO331))))","v":0},null,null,{"$f":"IF(Vorgaben!C$1=48,'Gruppe AF8'!AQ365,IF(Vorgaben!C$1=42,'Gruppe AF7'!AQ357:AR357,IF(Vorgaben!C$1=36,'Gruppe AF6'!AO344,IF(Vorgaben!C$1=30,'Gruppe AF6'!AL344,'Gruppe AF6'!BP331))))","v":0},null,":",{"$f":"IF(Vorgaben!C$1=48,'Gruppe AF8'!AT365,IF(Vorgaben!C$1=42,'Gruppe AF7'!AT357:AU357,IF(Vorgaben!C$1=36,'Gruppe AF6'!AR344,IF(Vorgaben!C$1=30,'Gruppe AF6'!AR344,'Gruppe AF6'!BR331))))","v":0},null,{"$f":"IF(Vorgaben!C$1=48,'Gruppe AF8'!AV365,IF(Vorgaben!C$1=42,'Gruppe AF7'!AV357,IF(Vorgaben!C$1=36,'Gruppe AF6'!AT344,IF(Vorgaben!C$1=30,'Gruppe AF6'!AT344,'Gruppe AF6'!BS331))))","v":0}]
[null,null,null,null,null,null,null,null,"6.",null,{"$f":"IF(Vorgaben!C$1=48,'Gruppe AF8'!K366,IF(Vorgaben!C$1=42,'Gruppe AF7'!K358,IF(Vorgaben!C$1=36,'Gruppe AF6'!K345,'Gruppe AF6'!K345:AH345)))","v":"Gruppe D1"},null,null,null,null,null,null,null,null,null,null,null,null,null,null,null,null,null,null,null,null,null,null,null,null,null,{"$f":"IF(Vorgaben!C$1=48,'Gruppe AF8'!AK366,IF(Vorgaben!C$1=42,'Gruppe AF7'!AK358:AM358,IF(Vorgaben!C$1=36,'Gruppe AF6'!AI345,IF(Vorgaben!C$1=30,'Gruppe AF6'!AI345,'Gruppe AF6'!AI345))))","v":0},null,null,{"$f":"IF(Vorgaben!C$1=48,'Gruppe AF8'!AN366,IF(Vorgaben!C$1=42,'Gruppe AF7'!AN358:AP358,IF(Vorgaben!C$1=36,'Gruppe AF6'!AL345,IF(Vorgaben!C$1=30,'Gruppe AF6'!AL345,'Gruppe AF6'!BO332))))","v":0},null,null,{"$f":"IF(Vorgaben!C$1=48,'Gruppe AF8'!AQ366,IF(Vorgaben!C$1=42,'Gruppe AF7'!AQ358:AR358,IF(Vorgaben!C$1=36,'Gruppe AF6'!AO345,IF(Vorgaben!C$1=30,'Gruppe AF6'!AL345,'Gruppe AF6'!BP332))))","v":0},null,":",{"$f":"IF(Vorgaben!C$1=48,'Gruppe AF8'!AT366,IF(Vorgaben!C$1=42,'Gruppe AF7'!AT358:AU358,IF(Vorgaben!C$1=36,'Gruppe AF6'!AR345,IF(Vorgaben!C$1=30,'Gruppe AF6'!AR345,'Gruppe AF6'!BR332))))","v":0},null,{"$f":"IF(Vorgaben!C$1=48,'Gruppe AF8'!AV366,IF(Vorgaben!C$1=42,'Gruppe AF7'!AV358,IF(Vorgaben!C$1=36,'Gruppe AF6'!AT345,IF(Vorgaben!C$1=30,'Gruppe AF6'!AT345,'Gruppe AF6'!BS332))))","v":0}]
[null,null,null,null,null,null,null,null,"7.",null,{"$f":"IF(Vorgaben!C$1=48,'Gruppe AF8'!K367,IF(Vorgaben!C$1=42,'Gruppe AF7'!K359,IF(Vorgaben!C$1=36,'Gruppe AF6'!K346,'Gruppe AF6'!K346:AH346)))","v":"Gruppe D5"},null,null,null,null,null,null,null,null,null,null,null,null,null,null,null,null,null,null,null,null,null,null,null,null,null,{"$f":"IF(Vorgaben!C$1=48,'Gruppe AF8'!AK367,IF(Vorgaben!C$1=42,'Gruppe AF7'!AK359:AM359,IF(Vorgaben!C$1=36,'Gruppe AF6'!AI346,IF(Vorgaben!C$1=30,'Gruppe AF6'!K346,\"\"))))","v":0},null,null,{"$f":"IF(Vorgaben!C$1=48,'Gruppe AF8'!AN367,IF(Vorgaben!C$1=42,'Gruppe AF7'!AN359:AP359,IF(Vorgaben!C$1=36,'Gruppe AF6'!AL346,IF(Vorgaben!C$1=30,'Gruppe AF6'!AL346,\"\"))))","v":0},null,null,{"$f":"IF(Vorgaben!C$1=48,'Gruppe AF8'!AQ367,IF(Vorgaben!C$1=42,'Gruppe AF7'!AQ359:AR359,IF(Vorgaben!C$1=36,'Gruppe AF6'!AO346,IF(Vorgaben!C$1=30,'Gruppe AF6'!AL346,\"\"))))","v":0},null,":",{"$f":"IF(Vorgaben!C$1=48,'Gruppe AF8'!AT367,IF(Vorgaben!C$1=42,'Gruppe AF7'!AT359:AU359,IF(Vorgaben!C$1=36,'Gruppe AF6'!AR346,IF(Vorgaben!C$1=30,'Gruppe AF6'!AR346,\"\"))))","v":0},null,{"$f":"IF(Vorgaben!C$1=48,'Gruppe AF8'!AV367,IF(Vorgaben!C$1=42,'Gruppe AF7'!AV359,IF(Vorgaben!C$1=36,'Gruppe AF6'!AT346,IF(Vorgaben!C$1=30,'Gruppe AF6'!AT346,\"\"))))","v":0}]
[null,null,null,null,null,null,null,null,"8.",null,{"$f":"IF(Vorgaben!C$1=48,'Gruppe AF8'!K368,IF(Vorgaben!C$1=42,'Gruppe AF7'!K360,IF(Vorgaben!C$1=36,'Gruppe AF6'!K347,'Gruppe AF6'!K347:AH347)))","v":"Gruppe D6"},null,null,null,null,null,null,null,null,null,null,null,null,null,null,null,null,null,null,null,null,null,null,null,null,null,{"$f":"IF(Vorgaben!C$1=48,'Gruppe AF8'!AK368,IF(Vorgaben!C$1=42,'Gruppe AF7'!AK360:AM360,IF(Vorgaben!C$1=36,'Gruppe AF6'!AI347,IF(Vorgaben!C$1=30,'Gruppe AF6'!K347,\"\"))))","v":1},null,null,{"$f":"IF(Vorgaben!C$1=48,'Gruppe AF8'!AN368,IF(Vorgaben!C$1=42,'Gruppe AF7'!AN360:AP360,IF(Vorgaben!C$1=36,'Gruppe AF6'!AL347,IF(Vorgaben!C$1=30,'Gruppe AF6'!AL347,\"\"))))","v":0},null,null,{"$f":"IF(Vorgaben!C$1=48,'Gruppe AF8'!AQ368,IF(Vorgaben!C$1=42,'Gruppe AF7'!AQ360:AR360,IF(Vorgaben!C$1=36,'Gruppe AF6'!AO347,IF(Vorgaben!C$1=30,'Gruppe AF6'!AL347,\"\"))))","v":0},null,":",{"$f":"IF(Vorgaben!C$1=48,'Gruppe AF8'!AT368,IF(Vorgaben!C$1=42,'Gruppe AF7'!AT360:AU360,IF(Vorgaben!C$1=36,'Gruppe AF6'!AR347,IF(Vorgaben!C$1=30,'Gruppe AF6'!AR347,\"\"))))","v":3},null,{"$f":"IF(Vorgaben!C$1=48,'Gruppe AF8'!AV368,IF(Vorgaben!C$1=42,'Gruppe AF7'!AV360,IF(Vorgaben!C$1=36,'Gruppe AF6'!AT347,IF(Vorgaben!C$1=30,'Gruppe AF6'!AT347,\"\"))))","v":-3}]

{"sheet":"Gruppe E1","index":11,"n_rows":68,"n_cols":71,"rows_kept":68,"cut":false,"hidden":false,"merged":[[9,7,9,11],[9,20,9,21],[9,23,9,27],[9,37,9,41],[14,9,14,46],[14,47,14,48],[1,0,1,54],[2,0,2,54],[3,0,3,41],[5,12,5,19],[5,24,5,31],[7,1,7,38],[9,48,9,52],[17,9,17,10],[17,11,17,46],[17,47,17,48],[18,9,18,10],[18,11,18,46],[18,47,18,48],[15,9,15,10],[15,11,15,46],[15,47,15,48],[16,9,16,10],[16,11,16,46],[16,47,16,48],[21,9,21,10],[21,11,21,46],[21,47,21,48],[22,9,22,10],[22,11,22,46],[22,47,22,48],[19,9,19,10],[19,11,19,46],[19,47,19,48],[20,9,20,10],[20,11,20,46],[20,47,20,48],[26,1,26,2],[26,3,26,8],[26,10,26,47],[26,48,26,52],[26,53,26,54],[27,1,27,2],[27,3,27,8],[27,9,27,27],[27,29,27,47],[27,53,27,54],[27,51,27,52],[27,48,27,49],[28,1,28,2],[28,3,28,8],[28,9,28,27],[28,29,28,47],[28,53,28,54],[29,53,29,54],[30,1,30,2],[30,3,30,8],[30,9,30,27],[30,29,30,47],[30,53,30,54],[29,1,29,2],[29,3,29,8],[29,9,29,27],[29,29,29,47],[28,51,28,52],[29,51,29,52],[28,48,28,49],[29,48,29,49],[30,48,30,49],[30,51,30,52],[31,53,31,54],[32,1,32,2],[32,3,32,8],[32,9,32,27],[32,29,32,47],[32,53,32,54],[31,1,31,2],[31,3,31,8],[31,9,31,27],[31,29,31,47],[32,48,32,49],[31,48,31,49],[32,51,32,52],[31,51,31,52],[33,53,33,54],[34,1,34,2],[34,3,34,8],[34,9,34,27],[34,29,34,47],[34,53,34,54],[33,1,33,2],[33,3,33,8],[33,9,33,27],[33,29,33,47],[34,48,34,49],[33,48,33,49],[34,51,34,52],[33,51,33,52],[35,53,35,54],[36,1,36,2],[36,3,36,8],[36,9,36,27],[36,29,36,47],[36,53,36,54],[35,1,35,2],[35,3,35,8],[35,9,35,27],[35,29,35,47],[36,48,36,49],[35,48,35,49],[36,51,36,52],[35,51,35,52],[37,53,37,54],[38,1,38,2],[38,3,38,8],[38,9,38,27],[38,29,38,47],[38,53,38,54],[37,1,37,2],[37,3,37,8],[37,9,37,27],[37,29,37,47],[38,48,38,49],[37,48,37,49],[38,51,38,52],[37,51,37,52],[39,53,39,54],[40,1,40,2],[40,3,40,8],[40,9,40,27],[40,29,40,47],[40,53,40,54],[39,1,39,2],[39,3,39,8],[39,9,39,27],[39,29,39,47],[40,48,40,49],[39,48,39,49],[40,51,40,52],[39,51,39,52],[41,53,41,54],[42,1,42,2],[42,3,42,8],[42,9,42,27],[42,29,42,47],[42,53,42,54],[41,1,41,2],[41,3,41,8],[41,9,41,27],[41,29,41,47],[42,48,42,49],[41,48,41,49],[42,51,42,52],[41,51,41,52],[43,53,43,54],[44,1,44,2],[44,3,44,8],[44,9,44,27],[44,29,44,47],[44,53,44,54],[43,1,43,2],[43,3,43,8],[43,9,43,27],[43,29,43,47],[44,48,44,49],[43,48,43,49],[44,51,44,52],[43,51,43,52],[45,53,45,54],[46,1,46,2],[46,3,46,8],[46,9,46,27],[46,29,46,47],[46,53,46,54],[45,1,45,2],[45,3,45,8],[45,9,45,27],[45,29,45,47],[46,48,46,49],[45,48,45,49],[46,51,46,52],[45,51,45,52],[47,53,47,54],[48,1,48,2],[48,3,48,8],[48,9,48,27],[48,29,48,47],[48,53,48,54],[47,1,47,2],[47,3,47,8],[47,9,47,27],[47,29,47,47],[48,48,48,49],[47,48,47,49],[48,51,48,52],[47,51,47,52],[49,53,49,54],[50,1,50,2],[50,3,50,8],[50,9,50,27],[50,29,50,47],[50,53,50,54],[49,1,49,2],[49,3,49,8],[49,9,49,27],[49,29,49,47],[50,48,50,49],[49,48,49,49],[50,51,50,52],[49,51,49,52],[51,53,51,54],[52,1,52,2],[52,3,52,8],[52,9,52,27],[52,29,52,47],[52,53,52,54],[51,1,51,2],[51,3,51,8],[51,9,51,27],[51,29,51,47],[52,48,52,49],[51,48,51,49],[52,51,52,52],[51,51,51,52],[53,53,53,54],[54,1,54,2],[54,3,54,8],[54,9,54,27],[54,29,54,47],[54,53,54,54],[53,1,53,2],[53,3,53,8],[53,9,53,27],[53,29,53,47],[54,48,54,49],[53,48,53,49],[54,51,54,52],[53,51,53,52],[59,8,59,35],[59,36,59,38],[59,39,59,41],[59,42,59,46],[59,47,59,49],[60,8,60,9],[60,10,60,35],[60,36,60,38],[60,39,60,41],[60,42,60,43],[60,45,60,46],[60,47,60,49],[61,47,61,49],[62,47,62,49],[63,8,63,9],[63,10,63,35],[63,36,63,38],[63,39,63,41],[63,42,63,43],[63,45,63,46],[63,47,63,49],[62,8,62,9],[62,10,62,35],[62,36,62,38],[62,39,62,41],[62,42,62,43],[62,45,62,46],[64,36,64,38],[64,39,64,41],[64,42,64,43],[64,45,64,46],[61,8,61,9],[61,10,61,35],[61,36,61,38],[61,39,61,41],[61,42,61,43],[61,45,61,46],[64,47,64,49],[65,8,65,9],[65,10,65,35],[65,36,65,38],[65,39,65,41],[65,42,65,43],[66,47,66,49],[67,8,67,9],[67,10,67,35],[67,36,67,38],[67,39,67,41],[67,42,67,43],[67,45,67,46],[67,47,67,49],[66,8,66,9],[66,10,66,35],[66,36,66,38],[66,39,66,41],[66,42,66,43],[66,45,66,46],[65,45,65,46],[65,47,65,49],[64,8,64,9],[64,10,64,35]]}
[]
["Vorrunde"]
["Gruppe E"]
[]
[]
[]
[]
[]
[]
[null,null,null,null,null,null,"Beginn:",{"$f":"Vorgaben!C4","v":"14:15:00"},null,null,null,null,"Uhr",null,null,null,null,null,null,"Spielzeit:",{"$f":"Vorgaben!C5","v":1},"1x","x",{"$f":"Vorgaben!C6","v":"00:09:00"},null,null,null,null,"min",null,null,null,null,null,null,null,"Pause:",{"$f":"Vorgaben!C7","v":"00:01:00"},null,null,null,null,"min",null,null,null,null,"HZ:",{"$f":"IF(Vorgaben!C5>1,Vorgaben!C8,0)","v":"00:00:00"},null,null,null,null,"min"]
[]
[]
[null,"I. Teilnehmende Mannschaften"]
[]
[null,null,null,null,null,null,null,null,null,"Mannschaften"]
[null,null,null,null,null,null,null,null,null,"1.",null,{"$f":"Vorgaben!B39","v":"Gruppe E1"}]
[null,null,null,null,null,null,null,null,null,"2.",null,{"$f":"Vorgaben!B40","v":"Gruppe E2"}]
[null,null,null,null,null,null,null,null,null,"3.",null,{"$f":"Vorgaben!B41","v":"Gruppe E3"}]
[null,null,null,null,null,null,null,null,null,"4.",null,{"$f":"Vorgaben!B42","v":"Gruppe E4"}]
[null,null,null,null,null,null,null,null,null,"5.",null,{"$f":"Vorgaben!B43","v":"Gruppe E5"}]
[null,null,null,null,null,null,null,null,null,"6.",null,{"$f":"Vorgaben!B44","v":"Gruppe E6"}]
[null,null,null,null,null,null,null,null,null,"7.",null,{"$f":"Vorgaben!B45","v":"Gruppe E7"}]
[null,null,null,null,null,null,null,null,null,"8.",null,{"$f":"Vorgaben!B46","v":"Gruppe E8"}]
[]
[null,"II. Spielplan"]
[null,null,null,null,null,null,null,null,null,null,null,null,null,null,null,null,null,null,null,null,null,null,null,null,null,null,null,null,null,null,null,null,null,null,null,null,null,null,null,null,null,null,null,null,null,null,null,null,null,null,null,null,null,null,null,null,null,null,null,null,null,null,null,null,"6er"]
[null,"Nr.",null,"Beginn",null,null,null,null,null,null,"Spielpaarung",null,null,null,null,null,null,null,null,null,null,null,null,null,null,null,null,null,null,null,null,null,null,null,null,null,null,null,null,null,null,null,null,null,null,null,null,null,"Ergebnis",null,null,null,null,"Pl",null,null,null,"Punkte",null,null,null,null,null,null,{"$f":"$L$16","v":"Gruppe E1"},{"$f":"COUNT($AW$28,$AW$31,$AZ$34,$AW$37,$AZ$40)","v":5},{"$f":"SUM($BF$28+$BF$31+$BH$34+$BF$37+$BH$40)","v":5},{"$f":"SUM($AW$28+$AW$31+$AZ$34+$AW$37+$AZ$40)","v":5},":",{"$f":"SUM(AZ28+AZ31+$AW$34+AZ37+$AW$40)","v":5},{"$f":"SUM(BP27-BR27)","v":0}]
[{"$f":"VLOOKUP(B28,Vorgaben!B8:C14,2,FALSE)","v":{"$error":"#N/A"}},1,null,{"$f":"$H$10","v":"14:15:00"},null,null,null,null,null,{"$f":"IF(Vorgaben!C$1=48,'Gruppe AF8'!J428,IF(Vorgaben!C$1=42,'Gruppe AF7'!O427,IF(Vorgaben!C$1=36,'Gruppe AF6'!I421,IF(Vorgaben!C$1=30,'Gruppe AF6'!I421,'Gruppe AF6'!I421))))","v":"Gruppe E1"},null,null,null,null,null,null,null,null,null,null,null,null,null,null,null,null,null,null,"-",{"$f":"IF(Vorgaben!C$1=48,'Gruppe AF8'!AD428,IF(Vorgaben!C$1=42,'Gruppe AF7'!AF427,IF(Vorgaben!C$1=36,'Gruppe AF6'!AC421,IF(Vorgaben!C$1=36,'Gruppe AF6'!AC421,'Gruppe AF6'!AC421))))","v":"Gruppe E2"},null,null,null,null,null,null,null,null,null,null,null,null,null,null,null,null,null,null,1,null,":",1,null,{"$f":"Vorgaben!$C$39","v":5},null,null,null,{"$f":"IF(ISBLANK(AW28),\"0\",IF(AW28>AZ28,3,IF(AW28=AZ28,1,0)))","v":1},":",{"$f":"IF(ISBLANK(AZ28),\"0\",IF(AZ28>AW28,3,IF(AZ28=AW28,1,0)))","v":1},null,null,null,null,{"$f":"$L$19","v":"Gruppe E4"},{"$f":"COUNT($AZ$29,$AW$33,$AZ$35,$AZ$37,$AW$42)","v":5},{"$f":"SUM($BH$29+$BF$33+$BH$35+$BH$37+$BF$42)","v":5},{"$f":"SUM($AZ$29+$AW$33+$AZ$35+$AZ$37+$AW$42)","v":5},":",{"$f":"SUM($AW$29+AZ33+$AW$35+$AW$37+AZ42)","v":5},0]
[{"$f":"VLOOKUP(B29,Vorgaben!B$10:C$16,2,FALSE)","v":{"$error":"#N/A"}},2,null,{"$f":"IF(ISNA(A29),D28+($U$10*$X$10+$AL$10+$AW$10),D28+($U$10*$X$10+$AL$10+$AW$10)+A29)","v":"14:25:00"},null,null,null,null,null,{"$f":"IF(Vorgaben!C$1=48,'Gruppe AF8'!J429,IF(Vorgaben!C$1=42,'Gruppe AF7'!O428,IF(Vorgaben!C$1=36,'Gruppe AF6'!I422,IF(Vorgaben!C$1=30,'Gruppe AF6'!I422,'Gruppe AF6'!I422))))","v":"Gruppe E3"},null,null,null,null,null,null,null,null,null,null,null,null,null,null,null,null,null,null,"-",{"$f":"IF(Vorgaben!C$1=48,'Gruppe AF8'!AD429,IF(Vorgaben!C$1=42,'Gruppe AF7'!AF428,IF(Vorgaben!C$1=36,'Gruppe AF6'!AC422,IF(Vorgaben!C$1=36,'Gruppe AF6'!AC422,'Gruppe AF6'!AC422))))","v":"Gruppe E4"},null,null,null,null,null,null,null,null,null,null,null,null,null,null,null,null,null,null,1,null,":",1,null,{"$f":"Vorgaben!$C$39","v":5},null,null,null,1,":",1,null,null,null,null,{"$f":"$L$21","v":"Gruppe E6"},{"$f":"COUNT($AZ$30,$AZ$33,$AW$36,$AW$38,$AW$40)","v":5},{"$f":"SUM($BH$30+$BH$33+$BF$36+$BF$38+$BF$40)","v":5},{"$f":"SUM($AZ$30+$AZ$33+$AW$36+$AW$38+$AW$40)","v":5},":",{"$f":"SUM($AW$30+$AW$33+AZ36+AZ38+AZ40)","v":5},0]
[{"$f":"VLOOKUP(B30,Vorgaben!B$10:C$16,2,FALSE)","v":{"$error":"#N/A"}},3,null,{"$f":"IF(ISNA(A30),D29+($U$10*$X$10+$AL$10+$AW$10),D29+($U$10*$X$10+$AL$10+$AW$10)+A30)","v":"14:35:00"},null,null,null,null,null,{"$f":"IF(Vorgaben!C$1=48,'Gruppe AF8'!J430,IF(Vorgaben!C$1=42,'Gruppe AF7'!O429,IF(Vorgaben!C$1=36,'Gruppe AF6'!I423,IF(Vorgaben!C$1=30,'Gruppe AF6'!I423,'Gruppe AF6'!I423))))","v":"Gruppe E5"},null,null,null,null,null,null,null,null,null,null,null,null,null,null,null,null,null,null,"-",{"$f":"IF(Vorgaben!C$1=48,'Gruppe AF8'!AD430,IF(Vorgaben!C$1=42,'Gruppe AF7'!AF429,IF(Vorgaben!C$1=36,'Gruppe AF6'!AC423,IF(Vorgaben!C$1=36,'Gruppe AF6'!AC423,'Gruppe AF6'!AC423))))","v":"Gruppe E6"},null,null,null,null,null,null,null,null,null,null,null,null,null,null,null,null,null,null,1,null,":",1,null,{"$f":"Vorgaben!$C$39","v":5},null,null,null,1,":",1,null,null,null,null,{"$f":"$L$17","v":"Gruppe E2"},{"$f":"COUNT($AZ$28,$AW$32,$AZ$38,$AW$35,$AW$41)","v":5},{"$f":"SUM($BH$28+$BF$32+$BF$35+$BH$38+$BF$41)","v":4},{"$f":"SUM($AZ$28+$AW$32+$AW$35+$AZ$38+$AW$41)","v":5},":",{"$f":"SUM($AW$28+AZ32+AZ34+$AW$38+AZ41)","v":6},-1]
[{"$f":"VLOOKUP(B31,Vorgaben!B$10:C$16,2,FALSE)","v":{"$error":"#N/A"}},4,null,"14:45:00",null,null,null,null,null,{"$f":"IF(Vorgaben!C$1=48,'Gruppe AF8'!J431,IF(Vorgaben!C$1=42,'Gruppe AF7'!O430,IF(Vorgaben!C$1=36,'Gruppe AF6'!I424,IF(Vorgaben!C$1=30,'Gruppe AF6'!I424,'Gruppe AF6'!I424))))","v":"Gruppe E7"},null,null,null,null,null,null,null,null,null,null,null,null,null,null,null,null,null,null,"-",{"$f":"IF(Vorgaben!C$1=48,'Gruppe AF8'!AD431,IF(Vorgaben!C$1=42,'Gruppe AF7'!AF430,IF(Vorgaben!C$1=36,'Gruppe AF6'!AC424,IF(Vorgaben!C$1=36,'Gruppe AF6'!AC424,'Gruppe AF6'!AC424))))","v":"Gruppe E8"},null,null,null,null,null,null,null,null,null,null,null,null,null,null,null,null,null,null,1,null,":",1,null,{"$f":"Vorgaben!$C$39","v":5},null,null,null,1,":",1,null,null,null,null,{"$f":"$L$18","v":"Gruppe E3"},{"$f":"COUNT($AW$29,$AZ$31,$AZ$36,$AW$39,$AZ$41)","v":5},{"$f":"SUM($BF$29+$BH$31+$BH$36+$BF$39+$BH$41)","v":5},{"$f":"SUM($AW$29+$AZ$31+$AZ$36+$AW$39+$AZ$41)","v":5},":",{"$f":"SUM($AW$31+AZ29+$AW$36+AZ39+$AW$41)","v":5},0]
[{"$f":"IF(VLOOKUP(B32,Vorgaben!B$10:C$16,2,FALSE)=\"\",\"\",VLOOKUP(B32,Vorgaben!B$10:C$16,2,FALSE))","v":{"$error":"#N/A"}},5,null,"14:55:00",null,null,null,null,null,{"$f":"IF(Vorgaben!C$1=48,'Gruppe AF8'!J432,IF(Vorgaben!C$1=42,'Gruppe AF7'!O431,IF(Vorgaben!C$1=36,'Gruppe AF6'!I425,IF(Vorgaben!C$1=30,'Gruppe AF6'!I425,'Gruppe AF6'!I425))))","v":"Gruppe E4"},null,null,null,null,null,null,null,null,null,null,null,null,null,null,null,null,null,null,"-",{"$f":"IF(Vorgaben!C$1=48,'Gruppe AF8'!AD432,IF(Vorgaben!C$1=42,'Gruppe AF7'!AF431,IF(Vorgaben!C$1=36,'Gruppe AF6'!AC425,IF(Vorgaben!C$1=36,'Gruppe AF6'!AC425,'Gruppe AF6'!AC425))))","v":"Gruppe E1"},null,null,null,null,null,null,null,null,null,null,null,null,null,null,null,null,null,null,1,null,":",2,null,{"$f":"Vorgaben!$C$39","v":5},null,null,null,0,":",3,null,null,null,null,{"$f":"$L$20","v":"Gruppe E5"},{"$f":"COUNT($AW$30,$AZ$32,$AW$34,$AZ$39,$AZ$42)","v":5},{"$f":"SUM($BF$30+$BH$32+$BF$34+$BH$39+$BH$42)","v":7},{"$f":"SUM($AW$30+$AZ$32+$AW$34+$AZ$39+$AZ$42)","v":6},":",{"$f":"SUM(AZ30+AZ34+$AW$32+$AW$39+$AW$425+$AW$42)","v":5},1]
[{"$f":"VLOOKUP(B33,Vorgaben!B$10:C$16,2,FALSE)","v":{"$error":"#N/A"}},6,null,"15:05:00",null,null,null,null,null,{"$f":"IF(Vorgaben!C$1=48,'Gruppe AF8'!J433,IF(Vorgaben!C$1=42,'Gruppe AF7'!O432,IF(Vorgaben!C$1=36,'Gruppe AF6'!I426,IF(Vorgaben!C$1=30,'Gruppe AF6'!I426,'Gruppe AF6'!I426))))","v":"Gruppe E2"},null,null,null,null,null,null,null,null,null,null,null,null,null,null,null,null,null,null,"-",{"$f":"IF(Vorgaben!C$1=48,'Gruppe AF8'!AD433,IF(Vorgaben!C$1=42,'Gruppe AF7'!AF432,IF(Vorgaben!C$1=36,'Gruppe AF6'!AC426,IF(Vorgaben!C$1=36,'Gruppe AF6'!AC426,'Gruppe AF6'!AC426))))","v":"Gruppe E3"},null,null,null,null,null,null,null,null,null,null,null,null,null,null,null,null,null,null,1,null,":",1,null,{"$f":"Vorgaben!$C$39","v":5},null,null,null,1,":",1,null,null,null,null,"8er"]
[{"$f":"VLOOKUP(B34,Vorgaben!B$10:C$16,2,FALSE)","v":{"$error":"#N/A"}},7,null,"15:15:00",null,null,null,null,null,{"$f":"IF(Vorgaben!C$1=48,'Gruppe AF8'!J434,IF(Vorgaben!C$1=42,'Gruppe AF7'!O433,IF(Vorgaben!C$1=36,'Gruppe AF6'!I427,IF(Vorgaben!C$1=30,'Gruppe AF6'!I427,'Gruppe AF6'!I427))))","v":"Gruppe E8"},null,null,null,null,null,null,null,null,null,null,null,null,null,null,null,null,null,null,"-",{"$f":"IF(Vorgaben!C$1=48,'Gruppe AF8'!AD434,IF(Vorgaben!C$1=42,'Gruppe AF7'!AF433,IF(Vorgaben!C$1=36,'Gruppe AF6'!AC427,IF(Vorgaben!C$1=36,'Gruppe AF6'!AC427,'Gruppe AF6'!AC427))))","v":"Gruppe E5"},null,null,null,null,null,null,null,null,null,null,null,null,null,null,null,null,null,null,1,null,":",1,null,{"$f":"Vorgaben!$C$39","v":5},null,null,null,1,":",1,null,null,null,null,{"$f":"$L$20","v":"Gruppe E5"},{"$f":"COUNT($AW$30,$AZ$34,$AW$36,$AZ$41,$AW$47,$AW$51,$AZ$54)","v":7},{"$f":"SUM($BF$30+$BH$34+$BF$36+$BH$41+$BF$47+$BF$51+$BH$54)","v":6},{"$f":"SUM($AW$30+$AZ$34+$AW$36+$AZ$41+$AW$47+$AW$51+$AZ$54)","v":8},":",{"$f":"SUM($AZ$30+$AW$34+$AZ$36+$AW$41+$AZ$47+$AZ$51+$AW$54)","v":9},-1]
[{"$f":"VLOOKUP(B35,Vorgaben!B$10:C$16,2,FALSE)","v":{"$error":"#N/A"}},8,null,"15:25:00",null,null,null,null,null,{"$f":"IF(Vorgaben!C$1=48,'Gruppe AF8'!J435,IF(Vorgaben!C$1=42,'Gruppe AF7'!O434,IF(Vorgaben!C$1=36,'Gruppe AF6'!I428,IF(Vorgaben!C$1=30,'Gruppe AF6'!I428,'Gruppe AF6'!I428))))","v":"Gruppe E6"},null,null,null,null,null,null,null,null,null,null,null,null,null,null,null,null,null,null,"-",{"$f":"IF(Vorgaben!C$1=48,'Gruppe AF8'!AD435,IF(Vorgaben!C$1=42,'Gruppe AF7'!AF434,IF(Vorgaben!C$1=36,'Gruppe AF6'!AC428,IF(Vorgaben!C$1=36,'Gruppe AF6'!AC428,'Gruppe AF6'!AC428))))","v":"Gruppe E7"},null,null,null,null,null,null,null,null,null,null,null,null,null,null,null,null,null,null,1,null,":",1,null,{"$f":"Vorgaben!$C$39","v":5},null,null,null,1,":",1,null,null,null,null,{"$f":"$L$22","v":"Gruppe E7"},{"$f":"COUNT($AW$31,$AZ$35,$AZ$38,$AW$41,$AZ$44,$AW$50,$AZ$55)","v":7},{"$f":"SUM($BF$31+$BH$35+$BH$38+$BF$41+$BH$44+$BF$50+$BH$55)","v":8},{"$f":"SUM($AW$31+$AZ$35+$AZ$38+$AW$41+$AZ$44+$AW$50+$AZ$55)","v":9},":",{"$f":"SUM($AZ$31+$AW$35+$AW$38+$AZ$41+$AW$44+$AZ$50+$AW$55)","v":8},1]
[{"$f":"VLOOKUP(B36,Vorgaben!B$10:C$16,2,FALSE)","v":{"$error":"#N/A"}},9,null,"15:35:00",null,null,null,null,null,{"$f":"IF(Vorgaben!C$1=48,'Gruppe AF8'!J436,IF(Vorgaben!C$1=42,'Gruppe AF7'!O435,IF(Vorgaben!C$1=36,'Gruppe AF6'!I429,IF(Vorgaben!C$1=30,'Gruppe AF6'!I429,'Gruppe AF6'!I429))))","v":"Gruppe E5"},null,null,null,null,null,null,null,null,null,null,null,null,null,null,null,null,null,null,"-",{"$f":"IF(Vorgaben!C$1=48,'Gruppe AF8'!AD436,IF(Vorgaben!C$1=42,'Gruppe AF7'!AF435,IF(Vorgaben!C$1=36,'Gruppe AF6'!AC429,IF(Vorgaben!C$1=36,'Gruppe AF6'!AC429,'Gruppe AF6'!AC429))))","v":"Gruppe E4"},null,null,null,null,null,null,null,null,null,null,null,null,null,null,null,null,null,null,1,null,":",1,null,{"$f":"Vorgaben!$C$39","v":5},null,null,null,1,":",1,null,null,null,null,{"$f":"$L$18","v":"Gruppe E3"},{"$f":"COUNT($AW$29,$AZ$33,$AZ$37,$AW$43,$AZ$47,$AZ$50,$AW$53)","v":7},{"$f":"SUM($BF$29+$BH$33+$BH$37+$BF$43+$BH$47+$BH$50+$BF$53)","v":9},{"$f":"SUM($AW$29+$AZ$33+$AZ$37+$AW$43+$AZ$47+$AZ$50+$AW$53)","v":9},":",{"$f":"SUM($AZ$29+$AW$33+$AW$37+$AZ$43+$AW$47+$AW$50+$AZ$53)","v":8},1]
[{"$f":"VLOOKUP(B37,Vorgaben!B$10:C$16,2,FALSE)","v":{"$error":"#N/A"}},10,null,"15:45:00",null,null,null,null,null,{"$f":"IF(Vorgaben!C$1=48,'Gruppe AF8'!J437,IF(Vorgaben!C$1=42,'Gruppe AF7'!O436,IF(Vorgaben!C$1=36,'Gruppe AF6'!I430,IF(Vorgaben!C$1=30,'Gruppe AF6'!I430,'Gruppe AF6'!I430))))","v":"Gruppe E1"},null,null,null,null,null,null,null,null,null,null,null,null,null,null,null,null,null,null,"-",{"$f":"IF(Vorgaben!C$1=48,'Gruppe AF8'!AD437,IF(Vorgaben!C$1=42,'Gruppe AF7'!AF436,IF(Vorgaben!C$1=36,'Gruppe AF6'!AC430,IF(Vorgaben!C$1=36,'Gruppe AF6'!AC430,'Gruppe AF6'!AC430))))","v":"Gruppe E3"},null,null,null,null,null,null,null,null,null,null,null,null,null,null,null,null,null,null,1,null,":",1,null,{"$f":"Vorgaben!$C$39","v":5},null,null,null,1,":",1,null,null,null,null,{"$f":"$L$17","v":"Gruppe E2"},{"$f":"COUNT($AZ$28,$AW$33,$AW$38,$AZ$40,$AW$45,$AZ$49,$AW$54)","v":7},{"$f":"SUM($BH$28+$BF$33+$BF$38+$BH$40+$BF$45+$BH$49+$BF$54)","v":9},{"$f":"SUM($AZ$28+$AW$33+$AW$38+$AZ$40+$AW$45+$AZ$49+$AW$54)","v":9},":",{"$f":"SUM($AW$28+$AZ$33+$AZ$38+$AW$40+$AZ$45+$AW$49+$AZ$54)","v":8},1]
[{"$f":"VLOOKUP(B38,Vorgaben!B$10:C$16,2,FALSE)","v":{"$error":"#N/A"}},11,null,"15:55:00",null,null,null,null,null,{"$f":"IF(Vorgaben!C$1=48,'Gruppe AF8'!J438,IF(Vorgaben!C$1=42,'Gruppe AF7'!O437,IF(Vorgaben!C$1=36,'Gruppe AF6'!I431,IF(Vorgaben!C$1=30,'Gruppe AF6'!I431,'Gruppe AF6'!I431))))","v":"Gruppe E2"},null,null,null,null,null,null,null,null,null,null,null,null,null,null,null,null,null,null,"-",{"$f":"IF(Vorgaben!C$1=48,'Gruppe AF8'!AD438,IF(Vorgaben!C$1=42,'Gruppe AF7'!AF437,IF(Vorgaben!C$1=36,'Gruppe AF6'!AC431,IF(Vorgaben!C$1=36,'Gruppe AF6'!AC431,'Gruppe AF6'!AC431))))","v":"Gruppe E7"},null,null,null,null,null,null,null,null,null,null,null,null,null,null,null,null,null,null,1,null,":",1,null,{"$f":"Vorgaben!$C$39","v":5},null,null,null,1,":",1,null,null,null,null,{"$f":"$L$16","v":"Gruppe E1"},{"$f":"COUNT($AW$28,$AZ$32,$AW$37,$AZ$42,$AW$46,$AZ$51,$AW$55)","v":7},{"$f":"SUM($BF$28+$BH$32+$BF$37+$BH$42+$BF$46+$BH$51+$BF$55)","v":8},{"$f":"SUM($AW$28+$AZ$32+$AW$37+$AZ$42+$AW$46+$AZ$51+$AW$55)","v":8},":",{"$f":"SUM($AZ$28+$AW$32+$AZ$37+$AW$42+$AZ$46+$AW$51+$AZ$55)","v":9},-1]
[{"$f":"VLOOKUP(B39,Vorgaben!B$10:C$16,2,FALSE)","v":{"$error":"#N/A"}},12,null,"16:05:00",null,null,null,null,null,{"$f":"IF(Vorgaben!C$1=48,'Gruppe AF8'!J439,IF(Vorgaben!C$1=42,'Gruppe AF7'!O438,IF(Vorgaben!C$1=36,'Gruppe AF6'!I432,IF(Vorgaben!C$1=30,'Gruppe AF6'!I432,'Gruppe AF6'!I432))))","v":"Gruppe E6"},null,null,null,null,null,null,null,null,null,null,null,null,null,null,null,null,null,null,"-",{"$f":"IF(Vorgaben!C$1=48,'Gruppe AF8'!AD439,IF(Vorgaben!C$1=42,'Gruppe AF7'!AF438,IF(Vorgaben!C$1=36,'Gruppe AF6'!AC432,IF(Vorgaben!C$1=36,'Gruppe AF6'!AC432,'Gruppe AF6'!AC432))))","v":"Gruppe E8"},null,null,null,null,null,null,null,null,null,null,null,null,null,null,null,null,null,null,1,null,":",1,null,{"$f":"Vorgaben!$C$39","v":5},null,null,null,1,":",1,null,null,null,null,{"$f":"$L$19","v":"Gruppe E4"},{"$f":"COUNT($AZ$29,$AW$32,$AZ$36,$AW$40,$AW$44,$AZ$48,$AW$52)","v":7},{"$f":"SUM($BH$29+$BF$32+$BH$36+$BF$40+$BF$44+$BH$48+$BF$52)","v":8},{"$f":"SUM($AZ$29+$AW$32+$AZ$36+$AW$40+$AW$44+$AZ$48+$AW$52)","v":8},":",{"$f":"SUM($AW$29+$AZ$32+$AW$36+$AZ$40+$AZ$44+$AW$48+$AZ$52)","v":8},0]
[{"$f":"VLOOKUP(B40,Vorgaben!B$10:C$16,2,FALSE)","v":{"$error":"#N/A"}},13,null,"16:15:00",null,null,null,null,null,{"$f":"IF(Vorgaben!C$1=48,'Gruppe AF8'!J440,IF(Vorgaben!C$1=42,'Gruppe AF7'!O439,IF(Vorgaben!C$1=36,'Gruppe AF6'!I433,IF(Vorgaben!C$1=30,'Gruppe AF6'!I433,'Gruppe AF6'!I433))))","v":"Gruppe E4"},null,null,null,null,null,null,null,null,null,null,null,null,null,null,null,null,null,null,"-",{"$f":"IF(Vorgaben!C$1=48,'Gruppe AF8'!AD440,IF(Vorgaben!C$1=42,'Gruppe AF7'!AF439,IF(Vorgaben!C$1=36,'Gruppe AF6'!AC433,IF(Vorgaben!C$1=36,'Gruppe AF6'!AC433,'Gruppe AF6'!AC433))))","v":"Gruppe E2"},null,null,null,null,null,null,null,null,null,null,null,null,null,null,null,null,null,null,1,null,":",1,null,{"$f":"Vorgaben!$C$39","v":5},null,null,null,1,":",1,null,null,null,null,{"$f":"$L$23","v":"Gruppe E8"},{"$f":"COUNT($AZ$31,$AW$34,$AZ$39,$AW$42,$AZ$45,$AW$48,$AZ$53)","v":7},{"$f":"SUM($BH$31+$BF$34+$BH$39+$BF$42+$BH$45+$BF$48+$BH$53)","v":6},{"$f":"SUM($AZ$31+$AW$34+$AZ$39+$AW$42+$AZ$45+$AW$48+$AZ$53)","v":8},":",{"$f":"SUM($AW$31+$AZ$34+$AW$39+$AZ$42+$AW$45+$AZ$48+$AW$53)","v":9},-1]
[{"$f":"VLOOKUP(B41,Vorgaben!B$10:C$16,2,FALSE)","v":{"$error":"#N/A"}},14,null,"16:25:00",null,null,null,null,null,{"$f":"IF(Vorgaben!C$1=48,'Gruppe AF8'!J441,IF(Vorgaben!C$1=42,'Gruppe AF7'!O440,IF(Vorgaben!C$1=36,'Gruppe AF6'!I434,IF(Vorgaben!C$1=30,'Gruppe AF6'!I434,'Gruppe AF6'!I434))))","v":"Gruppe E7"},null,null,null,null,null,null,null,null,null,null,null,null,null,null,null,null,null,null,"-",{"$f":"IF(Vorgaben!C$1=48,'Gruppe AF8'!AD441,IF(Vorgaben!C$1=42,'Gruppe AF7'!AF440,IF(Vorgaben!C$1=36,'Gruppe AF6'!AC434,IF(Vorgaben!C$1=36,'Gruppe AF6'!AC434,'Gruppe AF6'!AC434))))","v":"Gruppe E5"},null,null,null,null,null,null,null,null,null,null,null,null,null,null,null,null,null,null,1,null,":",1,null,{"$f":"Vorgaben!$C$39","v":5},null,null,null,1,":",1,null,null,null,null,{"$f":"$L$21","v":"Gruppe E6"},{"$f":"COUNT($AZ$30,$AW$35,$AW$39,$AZ$43,$AZ$46,$AW$49,$AZ$52)","v":7},{"$f":"SUM($BH$30+$BF$35+$BF$39+$BH$43+$BH$46+$BF$49+$BH$52)","v":7},{"$f":"SUM($AZ$30+$AW$35+$AW$39+$AZ$43+$AZ$46+$AW$49+$AZ$52)","v":7},":",{"$f":"SUM($AW$30+$AZ$35+$AZ$39+$AW$43+$AW$46+$AZ$49+$AW$52)","v":7},0]
[{"$f":"VLOOKUP(B42,Vorgaben!B$10:C$16,2,FALSE)","v":{"$error":"#N/A"}},15,null,"16:35:00",null,null,null,null,null,{"$f":"IF(Vorgaben!C$1=48,'Gruppe AF8'!J442,IF(Vorgaben!C$1=42,'Gruppe AF7'!O441,IF(Vorgaben!C$1=36,'Gruppe AF6'!I435,IF(Vorgaben!C$1=30,'Gruppe AF6'!I435,'Gruppe AF6'!I435))))","v":"Gruppe E8"},null,null,null,null,null,null,null,null,null,null,null,null,null,null,null,null,null,null,"-",{"$f":"IF(Vorgaben!C$1=48,'Gruppe AF8'!AD442,IF(Vorgaben!C$1=42,'Gruppe AF7'!AF441,IF(Vorgaben!C$1=36,'Gruppe AF6'!AC435,IF(Vorgaben!C$1=36,'Gruppe AF6'!AC435,'Gruppe AF6'!AC435))))","v":"Gruppe E1"},null,null,null,null,null,null,null,null,null,null,null,null,null,null,null,null,null,null,1,null,":",1,null,{"$f":"Vorgaben!$C$39","v":5},null,null,null,1,":",1,null,null,null,null,"7er"]
[{"$f":"VLOOKUP(B43,Vorgaben!B$10:C$16,2,FALSE)","v":{"$error":"#N/A"}},16,null,"16:45:00",null,null,null,null,null,{"$f":"IF(Vorgaben!C$1=48,'Gruppe AF8'!J443,IF(Vorgaben!C$1=42,'Gruppe AF7'!O442,IF(Vorgaben!C$1=36,'Gruppe AF6'!I436,\"\")))","v":"Gruppe E3"},null,null,null,null,null,null,null,null,null,null,null,null,null,null,null,null,null,null,"-",{"$f":"IF(Vorgaben!C$1=48,'Gruppe AF8'!AD443,IF(Vorgaben!C$1=42,'Gruppe AF7'!AF442,IF(Vorgaben!C$1=36,'Gruppe AF6'!AC436,\"\")))","v":"Gruppe E6"},null,null,null,null,null,null,null,null,null,null,null,null,null,null,null,null,null,null,1,null,":",1,null,{"$f":"Vorgaben!$C$39","v":5},null,null,null,1,":",1,null,null,null,null,{"$f":"$L$16","v":"Gruppe E1"},{"$f":"COUNT(AW28,AZ31,AW34,AZ37,AW40,AZ43)","v":6},{"$f":"SUM(BF28,BH31,BF34,BH37,BF40,BH43)","v":6},{"$f":"SUM(AW28,AZ31,AW34,AZ37,AW40,AZ43)","v":6},":",{"$f":"SUM(AZ28+AW31+AW37+AW43+AZ40+AZ34)","v":6},0]
[{"$f":"VLOOKUP(B44,Vorgaben!B$10:C$16,2,FALSE)","v":{"$error":"#N/A"}},17,null,"16:55:00",null,null,null,null,null,{"$f":"IF(Vorgaben!C$1=48,'Gruppe AF8'!J444,IF(Vorgaben!C$1=42,'Gruppe AF7'!O443,IF(Vorgaben!C$1=36,'Gruppe AF6'!I437,\"\")))","v":"Gruppe E4"},null,null,null,null,null,null,null,null,null,null,null,null,null,null,null,null,null,null,"-",{"$f":"IF(Vorgaben!C$1=48,'Gruppe AF8'!AD444,IF(Vorgaben!C$1=42,'Gruppe AF7'!AF443,IF(Vorgaben!C$1=36,'Gruppe AF6'!AC437,\"\")))","v":"Gruppe E7"},null,null,null,null,null,null,null,null,null,null,null,null,null,null,null,null,null,null,2,null,":",1,null,{"$f":"Vorgaben!$C$39","v":5},null,null,null,3,":",0,null,null,null,null,{"$f":"$L$18","v":"Gruppe E3"},{"$f":"COUNT(AW29,AW33,AZ36,AZ38,AW43,AZ46)","v":6},{"$f":"SUM(BF29,BF33,BH36,BH38,BF43,BH46)","v":6},{"$f":"SUM(AW29,AW33,AZ36,AZ38,AW43,AZ46)","v":6},":",{"$f":"SUM(AZ29+AZ33+AW36+AW38+AZ43+AW46)","v":6},0]
[{"$f":"VLOOKUP(B45,Vorgaben!B$10:C$16,2,FALSE)","v":{"$error":"#N/A"}},18,null,"17:05:00",null,null,null,null,null,{"$f":"IF(Vorgaben!C$1=48,'Gruppe AF8'!J445,IF(Vorgaben!C$1=42,'Gruppe AF7'!O444,IF(Vorgaben!C$1=36,'Gruppe AF6'!I438,\"\")))","v":"Gruppe E2"},null,null,null,null,null,null,null,null,null,null,null,null,null,null,null,null,null,null,"-",{"$f":"IF(Vorgaben!C$1=48,'Gruppe AF8'!AD445,IF(Vorgaben!C$1=42,'Gruppe AF7'!AF444,IF(Vorgaben!C$1=36,'Gruppe AF6'!AC438,\"\")))","v":"Gruppe E8"},null,null,null,null,null,null,null,null,null,null,null,null,null,null,null,null,null,null,1,null,":",1,null,{"$f":"Vorgaben!$C$39","v":5},null,null,null,1,":",1,null,null,null,null,{"$f":"$L$17","v":"Gruppe E2"},{"$f":"COUNT(AZ28,AW32,AW36,AZ39,AW42,AZ47)","v":6},{"$f":"SUM(BH28,BF32,BF36,BH39,BF42,BH47)","v":5},{"$f":"SUM(AZ28,AW32,AW36,AZ39,AW42,AZ47)","v":6},":",{"$f":"SUM(AW28+AZ32+AZ36+AW39+AZ42+AW47)","v":7},-1]
[{"$f":"VLOOKUP(B46,Vorgaben!B$10:C$16,2,FALSE)","v":{"$error":"#N/A"}},19,null,"17:15:00",null,null,null,null,null,{"$f":"IF(Vorgaben!C$1=48,'Gruppe AF8'!J446,IF(Vorgaben!C$1=42,'Gruppe AF7'!O445,IF(Vorgaben!C$1=36,'Gruppe AF6'!I439,\"\")))","v":"Gruppe E1"},null,null,null,null,null,null,null,null,null,null,null,null,null,null,null,null,null,null,"-",{"$f":"IF(Vorgaben!C$1=48,'Gruppe AF8'!AD446,IF(Vorgaben!C$1=42,'Gruppe AF7'!AF445,IF(Vorgaben!C$1=36,'Gruppe AF6'!AC439,\"\")))","v":"Gruppe E6"},null,null,null,null,null,null,null,null,null,null,null,null,null,null,null,null,null,null,1,null,":",1,null,{"$f":"Vorgaben!$C$39","v":5},null,null,null,1,":",1,null,null,null,null,{"$f":"$L$19","v":"Gruppe E4"},{"$f":"COUNT(AZ29,AZ32,AW35,AZ40,AW44,AW48)","v":6},{"$f":"SUM(BH29,BH32,BF35,BH40,BF44,BF48)","v":10},{"$f":"SUM(AZ29,AZ32,AW35,AZ40,AW44,AW48)","v":8},":",{"$f":"SUM(AW29+AW32+AZ35+AW40+AZ44+AZ48)","v":6},2]
[{"$f":"VLOOKUP(B47,Vorgaben!B$10:C$16,2,FALSE)","v":{"$error":"#N/A"}},20,null,"17:25:00",null,null,null,null,null,{"$f":"IF(Vorgaben!C$1=48,'Gruppe AF8'!J447,IF(Vorgaben!C$1=42,'Gruppe AF7'!O446,IF(Vorgaben!C$1=36,'Gruppe AF6'!I440,\"\")))","v":"Gruppe E5"},null,null,null,null,null,null,null,null,null,null,null,null,null,null,null,null,null,null,"-",{"$f":"IF(Vorgaben!C$1=48,'Gruppe AF8'!AD447,IF(Vorgaben!C$1=42,'Gruppe AF7'!AF446,IF(Vorgaben!C$1=36,'Gruppe AF6'!AC440,\"\")))","v":"Gruppe E3"},null,null,null,null,null,null,null,null,null,null,null,null,null,null,null,null,null,null,1,null,":",1,null,{"$f":"Vorgaben!$C$39","v":5},null,null,null,1,":",1,null,null,null,null,{"$f":"$L$22","v":"Gruppe E7"},{"$f":"COUNT(AW31,AZ35,AW38,AZ41,AZ45,AW47)","v":6},{"$f":"SUM(BF31,BH35,BF38,BH41,BH45,BF47)","v":6},{"$f":"SUM(AW31,AZ35,AW38,AZ41,AZ45,AW47)","v":6},":",{"$f":"SUM(AZ31+AW35+AZ38+AW41+AW45+AZ47)","v":6},0]
[{"$f":"VLOOKUP(B48,Vorgaben!B$10:C$16,2,FALSE)","v":{"$error":"#N/A"}},21,null,"17:35:00",null,null,null,null,null,{"$f":"IF(Vorgaben!C$1=48,'Gruppe AF8'!J448,IF(Vorgaben!C$1=42,'Gruppe AF7'!O447,IF(Vorgaben!C$1=36,'Gruppe AF6'!I441,\"\")))","v":"Gruppe E8"},null,null,null,null,null,null,null,null,null,null,null,null,null,null,null,null,null,null,"-",{"$f":"IF(Vorgaben!C$1=48,'Gruppe AF8'!AD448,IF(Vorgaben!C$1=42,'Gruppe AF7'!AF447,IF(Vorgaben!C$1=36,'Gruppe AF6'!AC441,\"\")))","v":"Gruppe E4"},null,null,null,null,null,null,null,null,null,null,null,null,null,null,null,null,null,null,1,null,":",1,null,{"$f":"Vorgaben!$C$39","v":5},null,null,null,1,":",1,null,null,null,null,{"$f":"$L$20","v":"Gruppe E5"},{"$f":"COUNT(AW30,AZ33,AW37,AZ42,AW45,AZ48)","v":6},{"$f":"SUM(BF30,BH33,BF37,BH42,BF45,BH48)","v":6},{"$f":"SUM(AW30,AZ33,AW37,AZ42,AW45,AZ48)","v":6},":",{"$f":"SUM(AZ30+AW33+AZ37+AW42+AZ45+AW48)","v":6},0]
[{"$f":"VLOOKUP(B49,Vorgaben!B$10:C$16,2,FALSE)","v":{"$error":"#N/A"}},22,null,"17:45:00",null,null,null,null,null,{"$f":"IF(Vorgaben!C$1=48,'Gruppe AF8'!J449,IF(Vorgaben!C$1=42,'Gruppe AF7'!O448,IF(Vorgaben!C$1=36,'Gruppe AF6'!I442,\"\")))","v":"Gruppe E6"},null,null,null,null,null,null,null,null,null,null,null,null,null,null,null,null,null,null,"-",{"$f":"IF(Vorgaben!C$1=48,'Gruppe AF8'!AD449,IF(Vorgaben!C$1=42,'Gruppe AF7'!AF448,IF(Vorgaben!C$1=36,'Gruppe AF6'!AC442,\"\")))","v":"Gruppe E2"},null,null,null,null,null,null,null,null,null,null,null,null,null,null,null,null,null,null,1,null,":",1,null,{"$f":"Vorgaben!$C$39","v":5},null,null,null,1,":",1,null,null,null,null,{"$f":"$L$21","v":"Gruppe E6"},{"$f":"COUNT(AZ30,AZ34,AW39,AW41,AZ44,AW46)","v":6},{"$f":"SUM(BH30,BH34,BF39,BF41,BH44,BF46)","v":5},{"$f":"SUM(AZ30,AZ34,AW39,AW41,AZ44,AW46)","v":6},":",{"$f":"SUM(AW30+AW34+AZ39+AZ41+AW44+AZ46)","v":7},{"$f":"SUM(BP49-BR49)","v":-1}]
[{"$f":"VLOOKUP(B50,Vorgaben!B$10:C$16,2,FALSE)","v":{"$error":"#N/A"}},23,null,"17:55:00",null,null,null,null,null,{"$f":"IF(Vorgaben!C$1=48,'Gruppe AF8'!J450,IF(Vorgaben!C$1=42,'Gruppe AF7'!O449,IF(Vorgaben!C$1=36,'Gruppe AF6'!I443,\"\")))","v":"Gruppe E7"},null,null,null,null,null,null,null,null,null,null,null,null,null,null,null,null,null,null,"-",{"$f":"IF(Vorgaben!C$1=48,'Gruppe AF8'!AD450,IF(Vorgaben!C$1=42,'Gruppe AF7'!AF449,IF(Vorgaben!C$1=36,'Gruppe AF6'!AC443,\"\")))","v":"Gruppe E3"},null,null,null,null,null,null,null,null,null,null,null,null,null,null,null,null,null,null,1,null,":",1,null,{"$f":"Vorgaben!$C$39","v":5},null,null,null,1,":",1]
[{"$f":"VLOOKUP(B51,Vorgaben!B$10:C$16,2,FALSE)","v":{"$error":"#N/A"}},24,null,"18:05:00",null,null,null,null,null,{"$f":"IF(Vorgaben!C$1=48,'Gruppe AF8'!J451,IF(Vorgaben!C$1=42,'Gruppe AF7'!O450,IF(Vorgaben!C$1=36,'Gruppe AF6'!I444,\"\")))","v":"Gruppe E5"},null,null,null,null,null,null,null,null,null,null,null,null,null,null,null,null,null,null,"-",{"$f":"IF(Vorgaben!C$1=48,'Gruppe AF8'!AD451,IF(Vorgaben!C$1=42,'Gruppe AF7'!AF450,IF(Vorgaben!C$1=36,'Gruppe AF6'!AC444,\"\")))","v":"Gruppe E1"},null,null,null,null,null,null,null,null,null,null,null,null,null,null,null,null,null,null,1,null,":",1,null,{"$f":"Vorgaben!$C$39","v":5},null,null,null,1,":",1]
[{"$f":"VLOOKUP(B52,Vorgaben!B$10:C$16,2,FALSE)","v":{"$error":"#N/A"}},25,null,"18:15:00",null,null,null,null,null,{"$f":"IF(Vorgaben!C$1=48,'Gruppe AF8'!J452,IF(Vorgaben!C$1=42,'Gruppe AF7'!O451,IF(Vorgaben!C$1=36,'Gruppe AF6'!I445,\"\")))","v":"Gruppe E4"},null,null,null,null,null,null,null,null,null,null,null,null,null,null,null,null,null,null,"-",{"$f":"IF(Vorgaben!C$1=48,'Gruppe AF8'!AD452,IF(Vorgaben!C$1=42,'Gruppe AF7'!AF451,IF(Vorgaben!C$1=36,'Gruppe AF6'!AC445,\"\")))","v":"Gruppe E6"},null,null,null,null,null,null,null,null,null,null,null,null,null,null,null,null,null,null,1,null,":",1,null,{"$f":"Vorgaben!$C$39","v":5},null,null,null,1,":",1]
[{"$f":"VLOOKUP(B53,Vorgaben!B$10:C$16,2,FALSE)","v":{"$error":"#N/A"}},26,null,"18:25:00",null,null,null,null,null,{"$f":"IF(Vorgaben!C$1=48,'Gruppe AF8'!J453,IF(Vorgaben!C$1=42,'Gruppe AF7'!O452,IF(Vorgaben!C$1=36,'Gruppe AF6'!I446,\"\")))","v":"Gruppe E3"},null,null,null,null,null,null,null,null,null,null,null,null,null,null,null,null,null,null,"-",{"$f":"IF(Vorgaben!C$1=48,'Gruppe AF8'!AD453,IF(Vorgaben!C$1=42,'Gruppe AF7'!AF452,IF(Vorgaben!C$1=36,'Gruppe AF6'!AC446,\"\")))","v":"Gruppe E8"},null,null,null,null,null,null,null,null,null,null,null,null,null,null,null,null,null,null,3,null,":",2,null,{"$f":"Vorgaben!$C$39","v":5},null,null,null,3,":",0]
[{"$f":"VLOOKUP(B54,Vorgaben!B$10:C$16,2,FALSE)","v":{"$error":"#N/A"}},27,null,"18:35:00",null,null,null,null,null,{"$f":"IF(Vorgaben!C$1=48,'Gruppe AF8'!J454,IF(Vorgaben!C$1=42,'Gruppe AF7'!O453,IF(Vorgaben!C$1=36,'Gruppe AF6'!I447,\"\")))","v":"Gruppe E2"},null,null,null,null,null,null,null,null,null,null,null,null,null,null,null,null,null,null,"-",{"$f":"IF(Vorgaben!C$1=48,'Gruppe AF8'!AD454,IF(Vorgaben!C$1=42,'Gruppe AF7'!AF453,IF(Vorgaben!C$1=36,'Gruppe AF6'!AC447,\"\")))","v":"Gruppe E5"},null,null,null,null,null,null,null,null,null,null,null,null,null,null,null,null,null,null,3,null,":",2,null,{"$f":"Vorgaben!$C$39","v":5},null,null,null,3,":",0]
[{"$f":"VLOOKUP(B55,Vorgaben!B$10:C$16,2,FALSE)","v":{"$error":"#N/A"}},28,null,"18:45:00",null,null,null,null,null,{"$f":"IF(Vorgaben!C$1=48,'Gruppe AF8'!J455,IF(Vorgaben!C$1=42,'Gruppe AF7'!O454,IF(Vorgaben!C$1=36,'Gruppe AF6'!I448,\"\")))","v":"Gruppe E1"},null,null,null,null,null,null,null,null,null,null,null,null,null,null,null,null,null,null,"-",{"$f":"IF(Vorgaben!C$1=48,'Gruppe AF8'!AD455,IF(Vorgaben!C$1=42,'Gruppe AF7'!AF454,IF(Vorgaben!C$1=36,'Gruppe AF6'!AC448,\"\")))","v":"Gruppe E7"},null,null,null,null,null,null,null,null,null,null,null,null,null,null,null,null,null,null,1,null,":",3,null,{"$f":"Vorgaben!$C$39","v":5},null,null,null,0,":",3]
[]
[]
[null,"III. Abschlußtabelle"]
[]
[null,null,null,null,null,null,null,null,"Mannschaften",null,null,null,null,null,null,null,null,null,null,null,null,null,null,null,null,null,null,null,null,null,null,null,null,null,null,null,"Sp.",null,null,"Pkt.",null,null,"Tore",null,null,null,null,"Diff."]
[null,null,null,null,null,null,null,null,"1.",null,{"$f":"IF(Vorgaben!C$1=48,'Gruppe AF8'!K461,IF(Vorgaben!C$1=42,'Gruppe AF7'!K453,IF(Vorgaben!C$1=36,'Gruppe AF6'!K440,'Gruppe AF6'!K440)))","v":"Gruppe E2"},null,null,null,null,null,null,null,null,null,null,null,null,null,null,null,null,null,null,null,null,null,null,null,null,null,{"$f":"IF(Vorgaben!C$1=48,'Gruppe AF8'!AK461,IF(Vorgaben!C$1=42,'Gruppe AF7'!AK453:AM453,IF(Vorgaben!C$1=36,'Gruppe AF6'!AI440,IF(Vorgaben!C$1=30,'Gruppe AF6'!AI440,'Gruppe AF6'!AI440))))","v":7},null,null,{"$f":"IF(Vorgaben!C$1=48,'Gruppe AF8'!AN461,IF(Vorgaben!C$1=42,'Gruppe AF7'!AN453:AP453,IF(Vorgaben!C$1=36,'Gruppe AF6'!AL440,IF(Vorgaben!C$1=30,'Gruppe AF6'!AL440,\"\"))))","v":9},null,null,{"$f":"IF(Vorgaben!C$1=48,'Gruppe AF8'!AQ461,IF(Vorgaben!C$1=42,'Gruppe AF7'!AQ453:AR453,IF(Vorgaben!C$1=36,'Gruppe AF6'!AO440,IF(Vorgaben!C$1=30,'Gruppe AF6'!AL440,\"\"))))","v":9},null,":",{"$f":"IF(Vorgaben!C$1=48,'Gruppe AF8'!AT461,IF(Vorgaben!C$1=42,'Gruppe AF7'!AT453:AU453,IF(Vorgaben!C$1=36,'Gruppe AF6'!AR440,IF(Vorgaben!C$1=30,'Gruppe AF6'!AR440,\"\"))))","v":8},null,{"$f":"IF(Vorgaben!C$1=48,'Gruppe AF8'!AV461,IF(Vorgaben!C$1=42,'Gruppe AF7'!AV453,IF(Vorgaben!C$1=36,'Gruppe AF6'!AT440,IF(Vorgaben!C$1=30,'Gruppe AF6'!AT440,\"\"))))","v":1}]
[null,null,null,null,null,null,null,null,"2.",null,{"$f":"IF(Vorgaben!C$1=48,'Gruppe AF8'!K462,IF(Vorgaben!C$1=42,'Gruppe AF7'!K454,IF(Vorgaben!C$1=36,'Gruppe AF6'!K441,'Gruppe AF6'!K441:AH441)))","v":"Gruppe E3"},null,null,null,null,null,null,null,null,null,null,null,null,null,null,null,null,null,null,null,null,null,null,null,null,null,{"$f":"IF(Vorgaben!C$1=48,'Gruppe AF8'!AK462,IF(Vorgaben!C$1=42,'Gruppe AF7'!AK454:AM454,IF(Vorgaben!C$1=36,'Gruppe AF6'!AI441,IF(Vorgaben!C$1=30,'Gruppe AF6'!AI441,'Gruppe AF6'!AI441))))","v":7},null,null,{"$f":"IF(Vorgaben!C$1=48,'Gruppe AF8'!AN462,IF(Vorgaben!C$1=42,'Gruppe AF7'!AN454:AP454,IF(Vorgaben!C$1=36,'Gruppe AF6'!AL441,IF(Vorgaben!C$1=30,'Gruppe AF6'!AL441,\"\"))))","v":9},null,null,{"$f":"IF(Vorgaben!C$1=48,'Gruppe AF8'!AQ462,IF(Vorgaben!C$1=42,'Gruppe AF7'!AQ454:AR454,IF(Vorgaben!C$1=36,'Gruppe AF6'!AO441,IF(Vorgaben!C$1=30,'Gruppe AF6'!AL441,\"\"))))","v":9},null,":",{"$f":"IF(Vorgaben!C$1=48,'Gruppe AF8'!AT462,IF(Vorgaben!C$1=42,'Gruppe AF7'!AT454:AU454,IF(Vorgaben!C$1=36,'Gruppe AF6'!AR441,IF(Vorgaben!C$1=30,'Gruppe AF6'!AR441,\"\"))))","v":8},null,{"$f":"IF(Vorgaben!C$1=48,'Gruppe AF8'!AV462,IF(Vorgaben!C$1=42,'Gruppe AF7'!AV454,IF(Vorgaben!C$1=36,'Gruppe AF6'!AT441,IF(Vorgaben!C$1=30,'Gruppe AF6'!AT441,\"\"))))","v":1}]
[null,null,null,null,null,null,null,null,"3.",null,{"$f":"IF(Vorgaben!C$1=48,'Gruppe AF8'!K463,IF(Vorgaben!C$1=42,'Gruppe AF7'!K455,IF(Vorgaben!C$1=36,'Gruppe AF6'!K442,'Gruppe AF6'!K442:AH442)))","v":"Gruppe E7"},null,null,null,null,null,null,null,null,null,null,null,null,null,null,null,null,null,null,null,null,null,null,null,null,null,{"$f":"IF(Vorgaben!C$1=48,'Gruppe AF8'!AK463,IF(Vorgaben!C$1=42,'Gruppe AF7'!AK455:AM455,IF(Vorgaben!C$1=36,'Gruppe AF6'!AI442,IF(Vorgaben!C$1=30,'Gruppe AF6'!AI442,'Gruppe AF6'!AI442))))","v":7},null,null,{"$f":"IF(Vorgaben!C$1=48,'Gruppe AF8'!AN463,IF(Vorgaben!C$1=42,'Gruppe AF7'!AN455:AP455,IF(Vorgaben!C$1=36,'Gruppe AF6'!AL442,IF(Vorgaben!C$1=30,'Gruppe AF6'!AL442,\"\"))))","v":8},null,null,{"$f":"IF(Vorgaben!C$1=48,'Gruppe AF8'!AQ463,IF(Vorgaben!C$1=42,'Gruppe AF7'!AQ455:AR455,IF(Vorgaben!C$1=36,'Gruppe AF6'!AO442,IF(Vorgaben!C$1=30,'Gruppe AF6'!AL442,\"\"))))","v":9},null,":",{"$f":"IF(Vorgaben!C$1=48,'Gruppe AF8'!AT463,IF(Vorgaben!C$1=42,'Gruppe AF7'!AT455:AU455,IF(Vorgaben!C$1=36,'Gruppe AF6'!AR442,IF(Vorgaben!C$1=30,'Gruppe AF6'!AR442,\"\"))))","v":8},null,{"$f":"IF(Vorgaben!C$1=48,'Gruppe AF8'!AV463,IF(Vorgaben!C$1=42,'Gruppe AF7'!AV455,IF(Vorgaben!C$1=36,'Gruppe AF6'!AT442,IF(Vorgaben!C$1=30,'Gruppe AF6'!AT442,\"\"))))","v":1}]
[null,null,null,null,null,null,null,null,"4.",null,{"$f":"IF(Vorgaben!C$1=48,'Gruppe AF8'!K464,IF(Vorgaben!C$1=42,'Gruppe AF7'!K456,IF(Vorgaben!C$1=36,'Gruppe AF6'!K443,'Gruppe AF6'!K443:AH443)))","v":"Gruppe E4"},null,null,null,null,null,null,null,null,null,null,null,null,null,null,null,null,null,null,null,null,null,null,null,null,null,{"$f":"IF(Vorgaben!C$1=48,'Gruppe AF8'!AK464,IF(Vorgaben!C$1=42,'Gruppe AF7'!AK456:AM456,IF(Vorgaben!C$1=36,'Gruppe AF6'!AI443,IF(Vorgaben!C$1=30,'Gruppe AF6'!AI443,'Gruppe AF6'!AI443))))","v":7},null,null,{"$f":"IF(Vorgaben!C$1=48,'Gruppe AF8'!AN464,IF(Vorgaben!C$1=42,'Gruppe AF7'!AN456:AP456,IF(Vorgaben!C$1=36,'Gruppe AF6'!AL443,IF(Vorgaben!C$1=30,'Gruppe AF6'!AL443,\"\"))))","v":8},null,null,{"$f":"IF(Vorgaben!C$1=48,'Gruppe AF8'!AQ464,IF(Vorgaben!C$1=42,'Gruppe AF7'!AQ456:AR456,IF(Vorgaben!C$1=36,'Gruppe AF6'!AO443,IF(Vorgaben!C$1=30,'Gruppe AF6'!AL443,\"\"))))","v":8},null,":",{"$f":"IF(Vorgaben!C$1=48,'Gruppe AF8'!AT464,IF(Vorgaben!C$1=42,'Gruppe AF7'!AT456:AU456,IF(Vorgaben!C$1=36,'Gruppe AF6'!AR443,IF(Vorgaben!C$1=30,'Gruppe AF6'!AR443,\"\"))))","v":8},null,{"$f":"IF(Vorgaben!C$1=48,'Gruppe AF8'!AV464,IF(Vorgaben!C$1=42,'Gruppe AF7'!AV456,IF(Vorgaben!C$1=36,'Gruppe AF6'!AT443,IF(Vorgaben!C$1=30,'Gruppe AF6'!AT443,\"\"))))","v":0}]
[null,null,null,null,null,null,null,null,"5.",null,{"$f":"IF(Vorgaben!C$1=48,'Gruppe AF8'!K465,IF(Vorgaben!C$1=42,'Gruppe AF7'!K457,IF(Vorgaben!C$1=36,'Gruppe AF6'!K444,'Gruppe AF6'!K444:AH444)))","v":"Gruppe E1"},null,null,null,null,null,null,null,null,null,null,null,null,null,null,null,null,null,null,null,null,null,null,null,null,null,{"$f":"IF(Vorgaben!C$1=48,'Gruppe AF8'!AK465,IF(Vorgaben!C$1=42,'Gruppe AF7'!AK457:AM457,IF(Vorgaben!C$1=36,'Gruppe AF6'!AI444,IF(Vorgaben!C$1=30,'Gruppe AF6'!AI444,'Gruppe AF6'!AI444))))","v":7},null,null,{"$f":"IF(Vorgaben!C$1=48,'Gruppe AF8'!AN465,IF(Vorgaben!C$1=42,'Gruppe AF7'!AN457:AP457,IF(Vorgaben!C$1=36,'Gruppe AF6'!AL444,IF(Vorgaben!C$1=30,'Gruppe AF6'!AL444,\"\"))))","v":8},null,null,{"$f":"IF(Vorgaben!C$1=48,'Gruppe AF8'!AQ465,IF(Vorgaben!C$1=42,'Gruppe AF7'!AQ457:AR457,IF(Vorgaben!C$1=36,'Gruppe AF6'!AO444,IF(Vorgaben!C$1=30,'Gruppe AF6'!AL444,\"\"))))","v":8},null,":",{"$f":"IF(Vorgaben!C$1=48,'Gruppe AF8'!AT465,IF(Vorgaben!C$1=42,'Gruppe AF7'!AT457:AU457,IF(Vorgaben!C$1=36,'Gruppe AF6'!AR444,IF(Vorgaben!C$1=30,'Gruppe AF6'!AR444,\"\"))))","v":9},null,{"$f":"IF(Vorgaben!C$1=48,'Gruppe AF8'!AV465,IF(Vorgaben!C$1=42,'Gruppe AF7'!AV457,IF(Vorgaben!C$1=36,'Gruppe AF6'!AT444,IF(Vorgaben!C$1=30,'Gruppe AF6'!AT444,\"\"))))","v":-1}]
[null,null,null,null,null,null,null,null,"6.",null,{"$f":"IF(Vorgaben!C$1=48,'Gruppe AF8'!K466,IF(Vorgaben!C$1=42,'Gruppe AF7'!K458,IF(Vorgaben!C$1=36,'Gruppe AF6'!K445,'Gruppe AF6'!K445:AH445)))","v":"Gruppe E6"},null,null,null,null,null,null,null,null,null,null,null,null,null,null,null,null,null,null,null,null,null,null,null,null,null,{"$f":"IF(Vorgaben!C$1=48,'Gruppe AF8'!AK466,IF(Vorgaben!C$1=42,'Gruppe AF7'!AK458:AM458,IF(Vorgaben!C$1=36,'Gruppe AF6'!AI445,IF(Vorgaben!C$1=30,'Gruppe AF6'!AI445,'Gruppe AF6'!AI445))))","v":7},null,null,{"$f":"IF(Vorgaben!C$1=48,'Gruppe AF8'!AN466,IF(Vorgaben!C$1=42,'Gruppe AF7'!AN458:AP458,IF(Vorgaben!C$1=36,'Gruppe AF6'!AL445,IF(Vorgaben!C$1=30,'Gruppe AF6'!AL445,\"\"))))","v":7},null,null,{"$f":"IF(Vorgaben!C$1=48,'Gruppe AF8'!AQ466,IF(Vorgaben!C$1=42,'Gruppe AF7'!AQ458:AR458,IF(Vorgaben!C$1=36,'Gruppe AF6'!AO445,IF(Vorgaben!C$1=30,'Gruppe AF6'!AL445,\"\"))))","v":7},null,":",{"$f":"IF(Vorgaben!C$1=48,'Gruppe AF8'!AT466,IF(Vorgaben!C$1=42,'Gruppe AF7'!AT458:AU458,IF(Vorgaben!C$1=36,'Gruppe AF6'!AR445,IF(Vorgaben!C$1=30,'Gruppe AF6'!AR445,\"\"))))","v":7},null,{"$f":"IF(Vorgaben!C$1=48,'Gruppe AF8'!AV466,IF(Vorgaben!C$1=42,'Gruppe AF7'!AV458,IF(Vorgaben!C$1=36,'Gruppe AF6'!AT445,IF(Vorgaben!C$1=30,'Gruppe AF6'!AT445,\"\"))))","v":0}]
[null,null,null,null,null,null,null,null,"7.",null,{"$f":"IF(Vorgaben!C$1=48,'Gruppe AF8'!K467,IF(Vorgaben!C$1=42,'Gruppe AF7'!K459,IF(Vorgaben!C$1=36,'Gruppe AF6'!K446,'Gruppe AF6'!K446:AH446)))","v":"Gruppe E5"},null,null,null,null,null,null,null,null,null,null,null,null,null,null,null,null,null,null,null,null,null,null,null,null,null,{"$f":"IF(Vorgaben!C$1=48,'Gruppe AF8'!AK467,IF(Vorgaben!C$1=42,'Gruppe AF7'!AK459:AM459,IF(Vorgaben!C$1=36,'Gruppe AF6'!AI446,IF(Vorgaben!C$1=30,'Gruppe AF6'!AI446,'Gruppe AF6'!AI446))))","v":7},null,null,{"$f":"IF(Vorgaben!C$1=48,'Gruppe AF8'!AN467,IF(Vorgaben!C$1=42,'Gruppe AF7'!AN459:AP459,IF(Vorgaben!C$1=36,'Gruppe AF6'!AL446,IF(Vorgaben!C$1=30,'Gruppe AF6'!AL446,\"\"))))","v":6},null,null,{"$f":"IF(Vorgaben!C$1=48,'Gruppe AF8'!AQ467,IF(Vorgaben!C$1=42,'Gruppe AF7'!AQ459:AR459,IF(Vorgaben!C$1=36,'Gruppe AF6'!AO446,IF(Vorgaben!C$1=30,'Gruppe AF6'!AL446,\"\"))))","v":8},null,":",{"$f":"IF(Vorgaben!C$1=48,'Gruppe AF8'!AT467,IF(Vorgaben!C$1=42,'Gruppe AF7'!AT459:AU459,IF(Vorgaben!C$1=36,'Gruppe AF6'!AR446,IF(Vorgaben!C$1=30,'Gruppe AF6'!AR446,\"\"))))","v":9},null,{"$f":"IF(Vorgaben!C$1=48,'Gruppe AF8'!AV467,IF(Vorgaben!C$1=42,'Gruppe AF7'!AV459,IF(Vorgaben!C$1=36,'Gruppe AF6'!AT446,IF(Vorgaben!C$1=30,'Gruppe AF6'!AT446,\"\"))))","v":-1}]
[null,null,null,null,null,null,null,null,"8.",null,{"$f":"IF(Vorgaben!C$1=48,'Gruppe AF8'!K468,IF(Vorgaben!C$1=42,'Gruppe AF7'!K460,IF(Vorgaben!C$1=36,'Gruppe AF6'!K447,'Gruppe AF6'!K447:AH447)))","v":"Gruppe E8"},null,null,null,null,null,null,null,null,null,null,null,null,null,null,null,null,null,null,null,null,null,null,null,null,null,{"$f":"IF(Vorgaben!C$1=48,'Gruppe AF8'!AK468,IF(Vorgaben!C$1=42,'Gruppe AF7'!AK460:AM460,IF(Vorgaben!C$1=36,'Gruppe AF6'!AI447,IF(Vorgaben!C$1=30,'Gruppe AF6'!AI447,'Gruppe AF6'!AI447))))","v":7},null,null,{"$f":"IF(Vorgaben!C$1=48,'Gruppe AF8'!AN468,IF(Vorgaben!C$1=42,'Gruppe AF7'!AN460:AP460,IF(Vorgaben!C$1=36,'Gruppe AF6'!AL447,IF(Vorgaben!C$1=30,'Gruppe AF6'!AL447,\"\"))))","v":6},null,null,{"$f":"IF(Vorgaben!C$1=48,'Gruppe AF8'!AQ468,IF(Vorgaben!C$1=42,'Gruppe AF7'!AQ460:AR460,IF(Vorgaben!C$1=36,'Gruppe AF6'!AO447,IF(Vorgaben!C$1=30,'Gruppe AF6'!AL447,\"\"))))","v":8},null,":",{"$f":"IF(Vorgaben!C$1=48,'Gruppe AF8'!AT468,IF(Vorgaben!C$1=42,'Gruppe AF7'!AT460:AU460,IF(Vorgaben!C$1=36,'Gruppe AF6'!AR447,IF(Vorgaben!C$1=30,'Gruppe AF6'!AR447,\"\"))))","v":9},null,{"$f":"IF(Vorgaben!C$1=48,'Gruppe AF8'!AV468,IF(Vorgaben!C$1=42,'Gruppe AF7'!AV460,IF(Vorgaben!C$1=36,'Gruppe AF6'!AT447,IF(Vorgaben!C$1=30,'Gruppe AF6'!AT447,\"\"))))","v":-1}]

{"sheet":"Gruppe F1","index":12,"n_rows":68,"n_cols":71,"rows_kept":68,"cut":false,"hidden":false,"merged":[[9,7,9,11],[9,20,9,21],[9,23,9,27],[9,37,9,41],[14,9,14,46],[14,47,14,48],[1,0,1,54],[2,0,2,54],[3,0,3,41],[5,12,5,19],[5,24,5,31],[7,1,7,38],[9,48,9,52],[17,9,17,10],[17,11,17,46],[17,47,17,48],[18,9,18,10],[18,11,18,46],[18,47,18,48],[15,9,15,10],[15,11,15,46],[15,47,15,48],[16,9,16,10],[16,11,16,46],[16,47,16,48],[21,9,21,10],[21,11,21,46],[21,47,21,48],[22,9,22,10],[22,11,22,46],[22,47,22,48],[19,9,19,10],[19,11,19,46],[19,47,19,48],[20,9,20,10],[20,11,20,46],[20,47,20,48],[26,1,26,2],[26,3,26,8],[26,10,26,47],[26,48,26,52],[26,53,26,54],[27,1,27,2],[27,3,27,8],[27,9,27,27],[27,29,27,47],[27,53,27,54],[27,51,27,52],[27,48,27,49],[28,1,28,2],[28,3,28,8],[28,9,28,27],[28,29,28,47],[28,53,28,54],[29,53,29,54],[30,1,30,2],[30,3,30,8],[30,9,30,27],[30,29,30,47],[30,53,30,54],[29,1,29,2],[29,3,29,8],[29,9,29,27],[29,29,29,47],[28,51,28,52],[29,51,29,52],[28,48,28,49],[29,48,29,49],[30,48,30,49],[30,51,30,52],[31,53,31,54],[32,1,32,2],[32,3,32,8],[32,9,32,27],[32,29,32,47],[32,53,32,54],[31,1,31,2],[31,3,31,8],[31,9,31,27],[31,29,31,47],[32,48,32,49],[31,48,31,49],[32,51,32,52],[31,51,31,52],[33,53,33,54],[34,1,34,2],[34,3,34,8],[34,9,34,27],[34,29,34,47],[34,53,34,54],[33,1,33,2],[33,3,33,8],[33,9,33,27],[33,29,33,47],[34,48,34,49],[33,48,33,49],[34,51,34,52],[33,51,33,52],[35,53,35,54],[36,1,36,2],[36,3,36,8],[36,9,36,27],[36,29,36,47],[36,53,36,54],[35,1,35,2],[35,3,35,8],[35,9,35,27],[35,29,35,47],[36,48,36,49],[35,48,35,49],[36,51,36,52],[35,51,35,52],[37,53,37,54],[38,1,38,2],[38,3,38,8],[38,9,38,27],[38,29,38,47],[38,53,38,54],[37,1,37,2],[37,3,37,8],[37,9,37,27],[37,29,37,47],[38,48,38,49],[37,48,37,49],[38,51,38,52],[37,51,37,52],[39,53,39,54],[40,1,40,2],[40,3,40,8],[40,9,40,27],[40,29,40,47],[40,53,40,54],[39,1,39,2],[39,3,39,8],[39,9,39,27],[39,29,39,47],[40,48,40,49],[39,48,39,49],[40,51,40,52],[39,51,39,52],[41,53,41,54],[42,1,42,2],[42,3,42,8],[42,9,42,27],[42,29,42,47],[42,53,42,54],[41,1,41,2],[41,3,41,8],[41,9,41,27],[41,29,41,47],[42,48,42,49],[41,48,41,49],[42,51,42,52],[41,51,41,52],[43,53,43,54],[44,1,44,2],[44,3,44,8],[44,9,44,27],[44,29,44,47],[44,53,44,54],[43,1,43,2],[43,3,43,8],[43,9,43,27],[43,29,43,47],[44,48,44,49],[43,48,43,49],[44,51,44,52],[43,51,43,52],[45,53,45,54],[46,1,46,2],[46,3,46,8],[46,9,46,27],[46,29,46,47],[46,53,46,54],[45,1,45,2],[45,3,45,8],[45,9,45,27],[45,29,45,47],[46,48,46,49],[45,48,45,49],[46,51,46,52],[45,51,45,52],[47,53,47,54],[48,1,48,2],[48,3,48,8],[48,9,48,27],[48,29,48,47],[48,53,48,54],[47,1,47,2],[47,3,47,8],[47,9,47,27],[47,29,47,47],[48,48,48,49],[47,48,47,49],[48,51,48,52],[47,51,47,52],[49,53,49,54],[50,1,50,2],[50,3,50,8],[50,9,50,27],[50,29,50,47],[50,53,50,54],[49,1,49,2],[49,3,49,8],[49,9,49,27],[49,29,49,47],[50,48,50,49],[49,48,49,49],[50,51,50,52],[49,51,49,52],[51,53,51,54],[52,1,52,2],[52,3,52,8],[52,9,52,27],[52,29,52,47],[52,53,52,54],[51,1,51,2],[51,3,51,8],[51,9,51,27],[51,29,51,47],[52,48,52,49],[51,48,51,49],[52,51,52,52],[51,51,51,52],[53,53,53,54],[54,1,54,2],[54,3,54,8],[54,9,54,27],[54,29,54,47],[54,53,54,54],[53,1,53,2],[53,3,53,8],[53,9,53,27],[53,29,53,47],[54,48,54,49],[53,48,53,49],[54,51,54,52],[53,51,53,52],[59,8,59,35],[59,36,59,38],[59,39,59,41],[59,42,59,46],[59,47,59,49],[60,8,60,9],[60,10,60,35],[60,36,60,38],[60,39,60,41],[60,42,60,43],[60,45,60,46],[60,47,60,49],[61,47,61,49],[62,47,62,49],[63,8,63,9],[63,10,63,35],[63,36,63,38],[63,39,63,41],[63,42,63,43],[63,45,63,46],[63,47,63,49],[62,8,62,9],[62,10,62,35],[62,36,62,38],[62,39,62,41],[62,42,62,43],[62,45,62,46],[64,36,64,38],[64,39,64,41],[64,42,64,43],[64,45,64,46],[61,8,61,9],[61,10,61,35],[61,36,61,38],[61,39,61,41],[61,42,61,43],[61,45,61,46],[64,47,64,49],[65,8,65,9],[65,10,65,35],[65,36,65,38],[65,39,65,41],[65,42,65,43],[66,47,66,49],[67,8,67,9],[67,10,67,35],[67,36,67,38],[67,39,67,41],[67,42,67,43],[67,45,67,46],[67,47,67,49],[66,8,66,9],[66,10,66,35],[66,36,66,38],[66,39,66,41],[66,42,66,43],[66,45,66,46],[65,45,65,46],[65,47,65,49],[64,8,64,9],[64,10,64,35]]}
[]
["Vorrunde"]
["Gruppe F"]
[]
[]
[]
[]
[]
[]
[null,null,null,null,null,null,"Beginn:",{"$f":"Vorgaben!C4","v":"14:15:00"},null,null,null,null,"Uhr",null,null,null,null,null,null,"Spielzeit:",{"$f":"Vorgaben!C5","v":1},"1x","x",{"$f":"Vorgaben!C6","v":"00:09:00"},null,null,null,null,"min",null,null,null,null,null,null,null,"Pause:",{"$f":"Vorgaben!C7","v":"00:01:00"},null,null,null,null,"min",null,null,null,null,"HZ:",{"$f":"IF(Vorgaben!C5>1,Vorgaben!C8,0)","v":"00:00:00"},null,null,null,null,"min"]
[]
[]
[null,"I. Teilnehmende Mannschaften"]
[]
[null,null,null,null,null,null,null,null,null,"Mannschaften"]
[null,null,null,null,null,null,null,null,null,"1.",null,{"$f":"Vorgaben!F39","v":"Gruppe F1"}]
[null,null,null,null,null,null,null,null,null,"2.",null,{"$f":"Vorgaben!F40","v":"Gruppe F2"}]
[null,null,null,null,null,null,null,null,null,"3.",null,{"$f":"Vorgaben!F41","v":"Gruppe F3"}]
[null,null,null,null,null,null,null,null,null,"4.",null,{"$f":"Vorgaben!F42","v":"Gruppe F4"}]
[null,null,null,null,null,null,null,null,null,"5.",null,{"$f":"Vorgaben!F43","v":"Gruppe F5"}]
[null,null,null,null,null,null,null,null,null,"6.",null,{"$f":"Vorgaben!F44","v":"Gruppe F6"}]
[null,null,null,null,null,null,null,null,null,"7.",null,{"$f":"Vorgaben!F45","v":"Gruppe F7"}]
[null,null,null,null,null,null,null,null,null,"8.",null,{"$f":"Vorgaben!F46","v":"Gruppe F8"}]
[]
[null,"II. Spielplan"]
[null,null,null,null,null,null,null,null,null,null,null,null,null,null,null,null,null,null,null,null,null,null,null,null,null,null,null,null,null,null,null,null,null,null,null,null,null,null,null,null,null,null,null,null,null,null,null,null,null,null,null,null,null,null,null,null,null,null,null,null,null,null,null,null,"6er"]
[null,"Nr.",null,"Beginn",null,null,null,null,null,null,"Spielpaarung",null,null,null,null,null,null,null,null,null,null,null,null,null,null,null,null,null,null,null,null,null,null,null,null,null,null,null,null,null,null,null,null,null,null,null,null,null,"Ergebnis",null,null,null,null,"Pl",null,null,null,"Punkte",null,null,null,null,null,null,{"$f":"$L$16","v":"Gruppe F1"},{"$f":"COUNT($AW$28,$AW$31,$AZ$34,$AW$37,$AZ$40)","v":5},{"$f":"SUM($BF$28+$BF$31+$BH$34+$BF$37+$BH$40)","v":4},{"$f":"SUM($AW$28+$AW$31+$AZ$34+$AW$37+$AZ$40)","v":5},":",{"$f":"SUM(AZ28+AZ31+$AW$34+AZ37+$AW$40)","v":15},{"$f":"SUM(BP27-BR27)","v":-10}]
[{"$f":"VLOOKUP(B28,Vorgaben!B8:C14,2,FALSE)","v":{"$error":"#N/A"}},1,null,{"$f":"$H$10","v":"14:15:00"},null,null,null,null,null,{"$f":"IF(Vorgaben!C$1=48,'Gruppe AF8'!J528,IF(Vorgaben!C$1=42,'Gruppe AF7'!P527,IF(Vorgaben!C$1=36,'Gruppe AF6'!I521,'Gruppe AF6'!I521)))","v":"Gruppe F1"},null,null,null,null,null,null,null,null,null,null,null,null,null,null,null,null,null,null,"-",{"$f":"IF(Vorgaben!C$1=48,'Gruppe AF8'!AD528,IF(Vorgaben!C$1=42,'Gruppe AF7'!AG527,IF(Vorgaben!C$1=36,'Gruppe AF6'!AC521,'Gruppe AF6'!AC521)))","v":"Gruppe F2"},null,null,null,null,null,null,null,null,null,null,null,null,null,null,null,null,null,null,1,null,":",1,null,{"$f":"Vorgaben!$G$39","v":6},null,null,null,{"$f":"IF(ISBLANK(AW28),\"0\",IF(AW28>AZ28,3,IF(AW28=AZ28,1,0)))","v":1},":",{"$f":"IF(ISBLANK(AZ28),\"0\",IF(AZ28>AW28,3,IF(AZ28=AW28,1,0)))","v":1},null,null,null,null,{"$f":"$L$19","v":"Gruppe F4"},{"$f":"COUNT($AZ$29,$AW$33,$AZ$35,$AZ$37,$AW$42)","v":5},{"$f":"SUM($BH$29+$BF$33+$BH$35+$BH$37+$BF$42)","v":7},{"$f":"SUM($AZ$29+$AW$33+$AZ$35+$AZ$37+$AW$42)","v":15},":",{"$f":"SUM($AW$29+AZ33+$AW$35+$AW$37+AZ42)","v":5},10]
[{"$f":"VLOOKUP(B29,Vorgaben!B$10:C$16,2,FALSE)","v":{"$error":"#N/A"}},2,null,{"$f":"IF(ISNA(A29),D28+($U$10*$X$10+$AL$10+$AW$10),D28+($U$10*$X$10+$AL$10+$AW$10)+A29)","v":"14:25:00"},null,null,null,null,null,{"$f":"IF(Vorgaben!C$1=48,'Gruppe AF8'!J529,IF(Vorgaben!C$1=42,'Gruppe AF7'!P528,IF(Vorgaben!C$1=36,'Gruppe AF6'!I522,'Gruppe AF6'!I522)))","v":"Gruppe F3"},null,null,null,null,null,null,null,null,null,null,null,null,null,null,null,null,null,null,"-",{"$f":"IF(Vorgaben!C$1=48,'Gruppe AF8'!AD529,IF(Vorgaben!C$1=42,'Gruppe AF7'!AG528,IF(Vorgaben!C$1=36,'Gruppe AF6'!AC522,'Gruppe AF6'!AC522)))","v":"Gruppe F4"},null,null,null,null,null,null,null,null,null,null,null,null,null,null,null,null,null,null,1,null,":",1,null,{"$f":"Vorgaben!$G$39","v":6},null,null,null,1,":",1,null,null,null,null,{"$f":"$L$21","v":"Gruppe F6"},{"$f":"COUNT($AZ$30,$AZ$33,$AW$36,$AW$38,$AW$40)","v":5},{"$f":"SUM($BH$30+$BH$33+$BF$36+$BF$38+$BF$40)","v":5},{"$f":"SUM($AZ$30+$AZ$33+$AW$36+$AW$38+$AW$40)","v":5},":",{"$f":"SUM($AW$30+$AW$33+AZ36+AZ38+AZ40)","v":5},0]
[{"$f":"VLOOKUP(B30,Vorgaben!B$10:C$16,2,FALSE)","v":{"$error":"#N/A"}},3,null,{"$f":"IF(ISNA(A30),D29+($U$10*$X$10+$AL$10+$AW$10),D29+($U$10*$X$10+$AL$10+$AW$10)+A30)","v":"14:35:00"},null,null,null,null,null,{"$f":"IF(Vorgaben!C$1=48,'Gruppe AF8'!J530,IF(Vorgaben!C$1=42,'Gruppe AF7'!P529,IF(Vorgaben!C$1=36,'Gruppe AF6'!I523,'Gruppe AF6'!I523)))","v":"Gruppe F5"},null,null,null,null,null,null,null,null,null,null,null,null,null,null,null,null,null,null,"-",{"$f":"IF(Vorgaben!C$1=48,'Gruppe AF8'!AD530,IF(Vorgaben!C$1=42,'Gruppe AF7'!AG529,IF(Vorgaben!C$1=36,'Gruppe AF6'!AC523,'Gruppe AF6'!AC523)))","v":"Gruppe F6"},null,null,null,null,null,null,null,null,null,null,null,null,null,null,null,null,null,null,1,null,":",1,null,{"$f":"Vorgaben!$G$39","v":6},null,null,null,1,":",1,null,null,null,null,{"$f":"$L$17","v":"Gruppe F2"},{"$f":"COUNT($AZ$28,$AW$32,$AZ$38,$AW$35,$AW$41)","v":5},{"$f":"SUM($BH$28+$BF$32+$BF$35+$BH$38+$BF$41)","v":5},{"$f":"SUM($AZ$28+$AW$32+$AW$35+$AZ$38+$AW$41)","v":5},":",{"$f":"SUM($AW$28+AZ32+AZ34+$AW$38+AZ41)","v":5},0]
[{"$f":"VLOOKUP(B31,Vorgaben!B$10:C$16,2,FALSE)","v":{"$error":"#N/A"}},4,null,"14:45:00",null,null,null,null,null,{"$f":"IF(Vorgaben!C$1=48,'Gruppe AF8'!J531,IF(Vorgaben!C$1=42,'Gruppe AF7'!P530,IF(Vorgaben!C$1=36,'Gruppe AF6'!I524,'Gruppe AF6'!I524)))","v":"Gruppe F7"},null,null,null,null,null,null,null,null,null,null,null,null,null,null,null,null,null,null,"-",{"$f":"IF(Vorgaben!C$1=48,'Gruppe AF8'!AD531,IF(Vorgaben!C$1=42,'Gruppe AF7'!AG530,IF(Vorgaben!C$1=36,'Gruppe AF6'!AC524,'Gruppe AF6'!AC524)))","v":"Gruppe F8"},null,null,null,null,null,null,null,null,null,null,null,null,null,null,null,null,null,null,1,null,":",11,null,{"$f":"Vorgaben!$G$39","v":6},null,null,null,0,":",3,null,null,null,null,{"$f":"$L$18","v":"Gruppe F3"},{"$f":"COUNT($AW$29,$AZ$31,$AZ$36,$AW$39,$AZ$41)","v":5},{"$f":"SUM($BF$29+$BH$31+$BH$36+$BF$39+$BH$41)","v":7},{"$f":"SUM($AW$29+$AZ$31+$AZ$36+$AW$39+$AZ$41)","v":15},":",{"$f":"SUM($AW$31+AZ29+$AW$36+AZ39+$AW$41)","v":5},10]
[{"$f":"IF(VLOOKUP(B32,Vorgaben!B$10:C$16,2,FALSE)=\"\",\"\",VLOOKUP(B32,Vorgaben!B$10:C$16,2,FALSE))","v":{"$error":"#N/A"}},5,null,"14:55:00",null,null,null,null,null,{"$f":"IF(Vorgaben!C$1=48,'Gruppe AF8'!J532,IF(Vorgaben!C$1=42,'Gruppe AF7'!P531,IF(Vorgaben!C$1=36,'Gruppe AF6'!I525,'Gruppe AF6'!I525)))","v":"Gruppe F4"},null,null,null,null,null,null,null,null,null,null,null,null,null,null,null,null,null,null,"-",{"$f":"IF(Vorgaben!C$1=48,'Gruppe AF8'!AD532,IF(Vorgaben!C$1=42,'Gruppe AF7'!AG531,IF(Vorgaben!C$1=36,'Gruppe AF6'!AC525,'Gruppe AF6'!AC525)))","v":"Gruppe F1"},null,null,null,null,null,null,null,null,null,null,null,null,null,null,null,null,null,null,1,null,":",1,null,{"$f":"Vorgaben!$G$39","v":6},null,null,null,1,":",1,null,null,null,null,{"$f":"$L$20","v":"Gruppe F5"},{"$f":"COUNT($AW$30,$AZ$32,$AW$34,$AZ$39,$AZ$42)","v":5},{"$f":"SUM($BF$30+$BH$32+$BF$34+$BH$39+$BH$42)","v":4},{"$f":"SUM($AW$30+$AZ$32+$AW$34+$AZ$39+$AZ$42)","v":5},":",{"$f":"SUM(AZ30+AZ34+$AW$32+$AW$39+$AW$425+$AW$42)","v":15},-10]
[{"$f":"VLOOKUP(B33,Vorgaben!B$10:C$16,2,FALSE)","v":{"$error":"#N/A"}},6,null,"15:05:00",null,null,null,null,null,{"$f":"IF(Vorgaben!C$1=48,'Gruppe AF8'!J533,IF(Vorgaben!C$1=42,'Gruppe AF7'!P532,IF(Vorgaben!C$1=36,'Gruppe AF6'!I526,'Gruppe AF6'!I526)))","v":"Gruppe F2"},null,null,null,null,null,null,null,null,null,null,null,null,null,null,null,null,null,null,"-",{"$f":"IF(Vorgaben!C$1=48,'Gruppe AF8'!AD533,IF(Vorgaben!C$1=42,'Gruppe AF7'!AG532,IF(Vorgaben!C$1=36,'Gruppe AF6'!AC526,'Gruppe AF6'!AC526)))","v":"Gruppe F3"},null,null,null,null,null,null,null,null,null,null,null,null,null,null,null,null,null,null,1,null,":",1,null,{"$f":"Vorgaben!$G$39","v":6},null,null,null,1,":",1,null,null,null,null,"8er"]
[{"$f":"VLOOKUP(B34,Vorgaben!B$10:C$16,2,FALSE)","v":{"$error":"#N/A"}},7,null,"15:15:00",null,null,null,null,null,{"$f":"IF(Vorgaben!C$1=48,'Gruppe AF8'!J534,IF(Vorgaben!C$1=42,'Gruppe AF7'!P533,IF(Vorgaben!C$1=36,'Gruppe AF6'!I527,'Gruppe AF6'!I527)))","v":"Gruppe F8"},null,null,null,null,null,null,null,null,null,null,null,null,null,null,null,null,null,null,"-",{"$f":"IF(Vorgaben!C$1=48,'Gruppe AF8'!AD534,IF(Vorgaben!C$1=42,'Gruppe AF7'!AG533,IF(Vorgaben!C$1=36,'Gruppe AF6'!AC527,'Gruppe AF6'!AC527)))","v":"Gruppe F5"},null,null,null,null,null,null,null,null,null,null,null,null,null,null,null,null,null,null,1,null,":",1,null,{"$f":"Vorgaben!$G$39","v":6},null,null,null,1,":",1,null,null,null,null,{"$f":"$L$20","v":"Gruppe F5"},{"$f":"COUNT($AW$30,$AZ$34,$AW$36,$AZ$41,$AW$47,$AW$51,$AZ$54)","v":7},{"$f":"SUM($BF$30+$BH$34+$BF$36+$BH$41+$BF$47+$BF$51+$BH$54)","v":7},{"$f":"SUM($AW$30+$AZ$34+$AW$36+$AZ$41+$AW$47+$AW$51+$AZ$54)","v":7},":",{"$f":"SUM($AZ$30+$AW$34+$AZ$36+$AW$41+$AZ$47+$AZ$51+$AW$54)","v":7},0]
[{"$f":"VLOOKUP(B35,Vorgaben!B$10:C$16,2,FALSE)","v":{"$error":"#N/A"}},8,null,"15:25:00",null,null,null,null,null,{"$f":"IF(Vorgaben!C$1=48,'Gruppe AF8'!J535,IF(Vorgaben!C$1=42,'Gruppe AF7'!P534,IF(Vorgaben!C$1=36,'Gruppe AF6'!I528,'Gruppe AF6'!I528)))","v":"Gruppe F6"},null,null,null,null,null,null,null,null,null,null,null,null,null,null,null,null,null,null,"-",{"$f":"IF(Vorgaben!C$1=48,'Gruppe AF8'!AD535,IF(Vorgaben!C$1=42,'Gruppe AF7'!AG534,IF(Vorgaben!C$1=36,'Gruppe AF6'!AC528,'Gruppe AF6'!AC528)))","v":"Gruppe F7"},null,null,null,null,null,null,null,null,null,null,null,null,null,null,null,null,null,null,1,null,":",1,null,{"$f":"Vorgaben!$G$39","v":6},null,null,null,1,":",1,null,null,null,null,{"$f":"$L$22","v":"Gruppe F7"},{"$f":"COUNT($AW$31,$AZ$35,$AZ$38,$AW$41,$AZ$44,$AW$50,$AZ$55)","v":6},{"$f":"SUM($BF$31+$BH$35+$BH$38+$BF$41+$BH$44+$BF$50+$BH$55)","v":5},{"$f":"SUM($AW$31+$AZ$35+$AZ$38+$AW$41+$AZ$44+$AW$50+$AZ$55)","v":6},":",{"$f":"SUM($AZ$31+$AW$35+$AW$38+$AZ$41+$AW$44+$AZ$50+$AW$55)","v":16},-10]
[{"$f":"VLOOKUP(B36,Vorgaben!B$10:C$16,2,FALSE)","v":{"$error":"#N/A"}},9,null,"15:35:00",null,null,null,null,null,{"$f":"IF(Vorgaben!C$1=48,'Gruppe AF8'!J536,IF(Vorgaben!C$1=42,'Gruppe AF7'!P535,IF(Vorgaben!C$1=36,'Gruppe AF6'!I529,'Gruppe AF6'!I529)))","v":"Gruppe F5"},null,null,null,null,null,null,null,null,null,null,null,null,null,null,null,null,null,null,"-",{"$f":"IF(Vorgaben!C$1=48,'Gruppe AF8'!AD536,IF(Vorgaben!C$1=42,'Gruppe AF7'!AG535,IF(Vorgaben!C$1=36,'Gruppe AF6'!AC529,'Gruppe AF6'!AC529)))","v":"Gruppe F4"},null,null,null,null,null,null,null,null,null,null,null,null,null,null,null,null,null,null,1,null,":",1,null,{"$f":"Vorgaben!$G$39","v":6},null,null,null,1,":",1,null,null,null,null,{"$f":"$L$18","v":"Gruppe F3"},{"$f":"COUNT($AW$29,$AZ$33,$AZ$37,$AW$43,$AZ$47,$AZ$50,$AW$53)","v":6},{"$f":"SUM($BF$29+$BH$33+$BH$37+$BF$43+$BH$47+$BH$50+$BF$53)","v":6},{"$f":"SUM($AW$29+$AZ$33+$AZ$37+$AW$43+$AZ$47+$AZ$50+$AW$53)","v":6},":",{"$f":"SUM($AZ$29+$AW$33+$AW$37+$AZ$43+$AW$47+$AW$50+$AZ$53)","v":6},0]
[{"$f":"VLOOKUP(B37,Vorgaben!B$10:C$16,2,FALSE)","v":{"$error":"#N/A"}},10,null,"15:45:00",null,null,null,null,null,{"$f":"IF(Vorgaben!C$1=48,'Gruppe AF8'!J537,IF(Vorgaben!C$1=42,'Gruppe AF7'!P536,IF(Vorgaben!C$1=36,'Gruppe AF6'!I530,'Gruppe AF6'!I530)))","v":"Gruppe F1"},null,null,null,null,null,null,null,null,null,null,null,null,null,null,null,null,null,null,"-",{"$f":"IF(Vorgaben!C$1=48,'Gruppe AF8'!AD537,IF(Vorgaben!C$1=42,'Gruppe AF7'!AG536,IF(Vorgaben!C$1=36,'Gruppe AF6'!AC530,'Gruppe AF6'!AC530)))","v":"Gruppe F3"},null,null,null,null,null,null,null,null,null,null,null,null,null,null,null,null,null,null,1,null,":",1,null,{"$f":"Vorgaben!$G$39","v":6},null,null,null,1,":",1,null,null,null,null,{"$f":"$L$17","v":"Gruppe F2"},{"$f":"COUNT($AZ$28,$AW$33,$AW$38,$AZ$40,$AW$45,$AZ$49,$AW$54)","v":6},{"$f":"SUM($BH$28+$BF$33+$BF$38+$BH$40+$BF$45+$BH$49+$BF$54)","v":6},{"$f":"SUM($AZ$28+$AW$33+$AW$38+$AZ$40+$AW$45+$AZ$49+$AW$54)","v":6},":",{"$f":"SUM($AW$28+$AZ$33+$AZ$38+$AW$40+$AZ$45+$AW$49+$AZ$54)","v":6},0]
[{"$f":"VLOOKUP(B38,Vorgaben!B$10:C$16,2,FALSE)","v":{"$error":"#N/A"}},11,null,"15:55:00",null,null,null,null,null,{"$f":"IF(Vorgaben!C$1=48,'Gruppe AF8'!J538,IF(Vorgaben!C$1=42,'Gruppe AF7'!P537,IF(Vorgaben!C$1=36,'Gruppe AF6'!I531,'Gruppe AF6'!I531)))","v":"Gruppe F2"},null,null,null,null,null,null,null,null,null,null,null,null,null,null,null,null,null,null,"-",{"$f":"IF(Vorgaben!C$1=48,'Gruppe AF8'!AD538,IF(Vorgaben!C$1=42,'Gruppe AF7'!AG537,IF(Vorgaben!C$1=36,'Gruppe AF6'!AC531,'Gruppe AF6'!AC531)))","v":"Gruppe F7"},null,null,null,null,null,null,null,null,null,null,null,null,null,null,null,null,null,null,1,null,":",1,null,{"$f":"Vorgaben!$G$39","v":6},null,null,null,1,":",1,null,null,null,null,{"$f":"$L$16","v":"Gruppe F1"},{"$f":"COUNT($AW$28,$AZ$32,$AW$37,$AZ$42,$AW$46,$AZ$51,$AW$55)","v":7},{"$f":"SUM($BF$28+$BH$32+$BF$37+$BH$42+$BF$46+$BH$51+$BF$55)","v":6},{"$f":"SUM($AW$28+$AZ$32+$AW$37+$AZ$42+$AW$46+$AZ$51+$AW$55)","v":7},":",{"$f":"SUM($AZ$28+$AW$32+$AZ$37+$AW$42+$AZ$46+$AW$51+$AZ$55)","v":17},-10]
[{"$f":"VLOOKUP(B39,Vorgaben!B$10:C$16,2,FALSE)","v":{"$error":"#N/A"}},12,null,"16:05:00",null,null,null,null,null,{"$f":"IF(Vorgaben!C$1=48,'Gruppe AF8'!J539,IF(Vorgaben!C$1=42,'Gruppe AF7'!P538,IF(Vorgaben!C$1=36,'Gruppe AF6'!I532,'Gruppe AF6'!I532)))","v":"Gruppe F6"},null,null,null,null,null,null,null,null,null,null,null,null,null,null,null,null,null,null,"-",{"$f":"IF(Vorgaben!C$1=48,'Gruppe AF8'!AD539,IF(Vorgaben!C$1=42,'Gruppe AF7'!AG538,IF(Vorgaben!C$1=36,'Gruppe AF6'!AC532,'Gruppe AF6'!AC532)))","v":"Gruppe F8"},null,null,null,null,null,null,null,null,null,null,null,null,null,null,null,null,null,null,1,null,":",1,null,{"$f":"Vorgaben!$G$39","v":6},null,null,null,1,":",1,null,null,null,null,{"$f":"$L$19","v":"Gruppe F4"},{"$f":"COUNT($AZ$29,$AW$32,$AZ$36,$AW$40,$AW$44,$AZ$48,$AW$52)","v":6},{"$f":"SUM($BH$29+$BF$32+$BH$36+$BF$40+$BF$44+$BH$48+$BF$52)","v":6},{"$f":"SUM($AZ$29+$AW$32+$AZ$36+$AW$40+$AW$44+$AZ$48+$AW$52)","v":6},":",{"$f":"SUM($AW$29+$AZ$32+$AW$36+$AZ$40+$AZ$44+$AW$48+$AZ$52)","v":6},0]
[{"$f":"VLOOKUP(B40,Vorgaben!B$10:C$16,2,FALSE)","v":{"$error":"#N/A"}},13,null,"16:15:00",null,null,null,null,null,{"$f":"IF(Vorgaben!C$1=48,'Gruppe AF8'!J540,IF(Vorgaben!C$1=42,'Gruppe AF7'!P539,IF(Vorgaben!C$1=36,'Gruppe AF6'!I533,'Gruppe AF6'!I533)))","v":"Gruppe F4"},null,null,null,null,null,null,null,null,null,null,null,null,null,null,null,null,null,null,"-",{"$f":"IF(Vorgaben!C$1=48,'Gruppe AF8'!AD540,IF(Vorgaben!C$1=42,'Gruppe AF7'!AG539,IF(Vorgaben!C$1=36,'Gruppe AF6'!AC533,'Gruppe AF6'!AC533)))","v":"Gruppe F2"},null,null,null,null,null,null,null,null,null,null,null,null,null,null,null,null,null,null,1,null,":",1,null,{"$f":"Vorgaben!$G$39","v":6},null,null,null,1,":",1,null,null,null,null,{"$f":"$L$23","v":"Gruppe F8"},{"$f":"COUNT($AZ$31,$AW$34,$AZ$39,$AW$42,$AZ$45,$AW$48,$AZ$53)","v":6},{"$f":"SUM($BH$31+$BF$34+$BH$39+$BF$42+$BH$45+$BF$48+$BH$53)","v":10},{"$f":"SUM($AZ$31+$AW$34+$AZ$39+$AW$42+$AZ$45+$AW$48+$AZ$53)","v":26},":",{"$f":"SUM($AW$31+$AZ$34+$AW$39+$AZ$42+$AW$45+$AZ$48+$AW$53)","v":6},20]
[{"$f":"VLOOKUP(B41,Vorgaben!B$10:C$16,2,FALSE)","v":{"$error":"#N/A"}},14,null,"16:25:00",null,null,null,null,null,{"$f":"IF(Vorgaben!C$1=48,'Gruppe AF8'!J541,IF(Vorgaben!C$1=42,'Gruppe AF7'!P540,IF(Vorgaben!C$1=36,'Gruppe AF6'!I534,'Gruppe AF6'!I534)))","v":"Gruppe F7"},null,null,null,null,null,null,null,null,null,null,null,null,null,null,null,null,null,null,"-",{"$f":"IF(Vorgaben!C$1=48,'Gruppe AF8'!AD541,IF(Vorgaben!C$1=42,'Gruppe AF7'!AG540,IF(Vorgaben!C$1=36,'Gruppe AF6'!AC534,'Gruppe AF6'!AC534)))","v":"Gruppe F5"},null,null,null,null,null,null,null,null,null,null,null,null,null,null,null,null,null,null,1,null,":",1,null,{"$f":"Vorgaben!$G$39","v":6},null,null,null,1,":",1,null,null,null,null,{"$f":"$L$21","v":"Gruppe F6"},{"$f":"COUNT($AZ$30,$AW$35,$AW$39,$AZ$43,$AZ$46,$AW$49,$AZ$52)","v":6},{"$f":"SUM($BH$30+$BF$35+$BF$39+$BH$43+$BH$46+$BF$49+$BH$52)","v":6},{"$f":"SUM($AZ$30+$AW$35+$AW$39+$AZ$43+$AZ$46+$AW$49+$AZ$52)","v":6},":",{"$f":"SUM($AW$30+$AZ$35+$AZ$39+$AW$43+$AW$46+$AZ$49+$AW$52)","v":6},0]
[{"$f":"VLOOKUP(B42,Vorgaben!B$10:C$16,2,FALSE)","v":{"$error":"#N/A"}},15,null,"16:35:00",null,null,null,null,null,{"$f":"IF(Vorgaben!C$1=48,'Gruppe AF8'!J542,IF(Vorgaben!C$1=42,'Gruppe AF7'!P541,IF(Vorgaben!C$1=36,'Gruppe AF6'!I535,'Gruppe AF6'!I535)))","v":"Gruppe F8"},null,null,null,null,null,null,null,null,null,null,null,null,null,null,null,null,null,null,"-",{"$f":"IF(Vorgaben!C$1=48,'Gruppe AF8'!AD542,IF(Vorgaben!C$1=42,'Gruppe AF7'!AG541,IF(Vorgaben!C$1=36,'Gruppe AF6'!AC535,'Gruppe AF6'!AC535)))","v":"Gruppe F1"},null,null,null,null,null,null,null,null,null,null,null,null,null,null,null,null,null,null,11,null,":",1,null,{"$f":"Vorgaben!$G$39","v":6},null,null,null,3,":",0,null,null,null,null,"7er"]
[{"$f":"VLOOKUP(B43,Vorgaben!B$10:C$16,2,FALSE)","v":{"$error":"#N/A"}},16,null,"16:45:00",null,null,null,null,null,{"$f":"IF(Vorgaben!C$1=48,'Gruppe AF8'!J543,IF(Vorgaben!C$1=42,'Gruppe AF7'!P542,IF(Vorgaben!C$1=36,'Gruppe AF6'!I536,'Gruppe AF6'!I536)))","v":"Gruppe F3"},null,null,null,null,null,null,null,null,null,null,null,null,null,null,null,null,null,null,"-",{"$f":"IF(Vorgaben!C$1=48,'Gruppe AF8'!AD543,IF(Vorgaben!C$1=42,'Gruppe AF7'!AG542,IF(Vorgaben!C$1=36,'Gruppe AF6'!AC536,'Gruppe AF6'!AC536)))","v":"Gruppe F6"},null,null,null,null,null,null,null,null,null,null,null,null,null,null,null,null,null,null,1,null,":",1,null,{"$f":"Vorgaben!$G$39","v":6},null,null,null,1,":",1,null,null,null,null,{"$f":"$L$16","v":"Gruppe F1"},{"$f":"COUNT(AW28,AZ31,AW34,AZ37,AW40,AZ43)","v":6},{"$f":"SUM(BF28,BH31,BF34,BH37,BF40,BH43)","v":8},{"$f":"SUM(AW28,AZ31,AW34,AZ37,AW40,AZ43)","v":16},":",{"$f":"SUM(AZ28+AW31+AW37+AW43+AZ40+AZ34)","v":6},10]
[{"$f":"VLOOKUP(B44,Vorgaben!B$10:C$16,2,FALSE)","v":{"$error":"#N/A"}},17,null,"16:55:00",null,null,null,null,null,{"$f":"IF(Vorgaben!C$1=48,'Gruppe AF8'!J544,IF(Vorgaben!C$1=42,'Gruppe AF7'!P543,IF(Vorgaben!C$1=36,'Gruppe AF6'!I537,'Gruppe AF6'!I537)))","v":"Gruppe F4"},null,null,null,null,null,null,null,null,null,null,null,null,null,null,null,null,null,null,"-",{"$f":"IF(Vorgaben!C$1=48,'Gruppe AF8'!AD544,IF(Vorgaben!C$1=42,'Gruppe AF7'!AG543,IF(Vorgaben!C$1=36,'Gruppe AF6'!AC537,'Gruppe AF6'!AC537)))","v":"Gruppe F7"},null,null,null,null,null,null,null,null,null,null,null,null,null,null,null,null,null,null,1,null,":",1,null,{"$f":"Vorgaben!$G$39","v":6},null,null,null,1,":",1,null,null,null,null,{"$f":"$L$18","v":"Gruppe F3"},{"$f":"COUNT(AW29,AW33,AZ36,AZ38,AW43,AZ46)","v":6},{"$f":"SUM(BF29,BF33,BH36,BH38,BF43,BH46)","v":6},{"$f":"SUM(AW29,AW33,AZ36,AZ38,AW43,AZ46)","v":6},":",{"$f":"SUM(AZ29+AZ33+AW36+AW38+AZ43+AW46)","v":6},0]
[{"$f":"VLOOKUP(B45,Vorgaben!B$10:C$16,2,FALSE)","v":{"$error":"#N/A"}},18,null,"17:05:00",null,null,null,null,null,{"$f":"IF(Vorgaben!C$1=48,'Gruppe AF8'!J545,IF(Vorgaben!C$1=42,'Gruppe AF7'!P544,IF(Vorgaben!C$1=36,'Gruppe AF6'!I538,'Gruppe AF6'!I538)))","v":"Gruppe F2"},null,null,null,null,null,null,null,null,null,null,null,null,null,null,null,null,null,null,"-",{"$f":"IF(Vorgaben!C$1=48,'Gruppe AF8'!AD545,IF(Vorgaben!C$1=42,'Gruppe AF7'!AG544,IF(Vorgaben!C$1=36,'Gruppe AF6'!AC538,'Gruppe AF6'!AC538)))","v":"Gruppe F8"},null,null,null,null,null,null,null,null,null,null,null,null,null,null,null,null,null,null,1,null,":",1,null,{"$f":"Vorgaben!$G$39","v":6},null,null,null,1,":",1,null,null,null,null,{"$f":"$L$17","v":"Gruppe F2"},{"$f":"COUNT(AZ28,AW32,AW36,AZ39,AW42,AZ47)","v":6},{"$f":"SUM(BH28,BF32,BF36,BH39,BF42,BH47)","v":8},{"$f":"SUM(AZ28,AW32,AW36,AZ39,AW42,AZ47)","v":16},":",{"$f":"SUM(AW28+AZ32+AZ36+AW39+AZ42+AW47)","v":6},10]
[{"$f":"VLOOKUP(B46,Vorgaben!B$10:C$16,2,FALSE)","v":{"$error":"#N/A"}},19,null,"17:15:00",null,null,null,null,null,{"$f":"IF(Vorgaben!C$1=48,'Gruppe AF8'!J546,IF(Vorgaben!C$1=42,'Gruppe AF7'!P545,IF(Vorgaben!C$1=36,'Gruppe AF6'!I539,'Gruppe AF6'!I539)))","v":"Gruppe F1"},null,null,null,null,null,null,null,null,null,null,null,null,null,null,null,null,null,null,"-",{"$f":"IF(Vorgaben!C$1=48,'Gruppe AF8'!AD546,IF(Vorgaben!C$1=42,'Gruppe AF7'!AG545,IF(Vorgaben!C$1=36,'Gruppe AF6'!AC539,'Gruppe AF6'!AC539)))","v":"Gruppe F6"},null,null,null,null,null,null,null,null,null,null,null,null,null,null,null,null,null,null,1,null,":",1,null,{"$f":"Vorgaben!$G$39","v":6},null,null,null,1,":",1,null,null,null,null,{"$f":"$L$19","v":"Gruppe F4"},{"$f":"COUNT(AZ29,AZ32,AW35,AZ40,AW44,AW48)","v":5},{"$f":"SUM(BH29,BH32,BF35,BH40,BF44,BF48)","v":5},{"$f":"SUM(AZ29,AZ32,AW35,AZ40,AW44,AW48)","v":5},":",{"$f":"SUM(AW29+AW32+AZ35+AW40+AZ44+AZ48)","v":5},0]
[{"$f":"VLOOKUP(B47,Vorgaben!B$10:C$16,2,FALSE)","v":{"$error":"#N/A"}},20,null,"17:25:00",null,null,null,null,null,{"$f":"IF(Vorgaben!C$1=48,'Gruppe AF8'!J547,IF(Vorgaben!C$1=42,'Gruppe AF7'!P546,IF(Vorgaben!C$1=36,'Gruppe AF6'!I540,'Gruppe AF6'!I540)))","v":"Gruppe F5"},null,null,null,null,null,null,null,null,null,null,null,null,null,null,null,null,null,null,"-",{"$f":"IF(Vorgaben!C$1=48,'Gruppe AF8'!AD547,IF(Vorgaben!C$1=42,'Gruppe AF7'!AG546,IF(Vorgaben!C$1=36,'Gruppe AF6'!AC540,'Gruppe AF6'!AC540)))","v":"Gruppe F3"},null,null,null,null,null,null,null,null,null,null,null,null,null,null,null,null,null,null,1,null,":",1,null,{"$f":"Vorgaben!$G$39","v":6},null,null,null,1,":",1,null,null,null,null,{"$f":"$L$22","v":"Gruppe F7"},{"$f":"COUNT(AW31,AZ35,AW38,AZ41,AZ45,AW47)","v":6},{"$f":"SUM(BF31,BH35,BF38,BH41,BH45,BF47)","v":5},{"$f":"SUM(AW31,AZ35,AW38,AZ41,AZ45,AW47)","v":6},":",{"$f":"SUM(AZ31+AW35+AZ38+AW41+AW45+AZ47)","v":16},-10]
[{"$f":"VLOOKUP(B48,Vorgaben!B$10:C$16,2,FALSE)","v":{"$error":"#N/A"}},21,null,"17:35:00",null,null,null,null,null,{"$f":"IF(Vorgaben!C$1=48,'Gruppe AF8'!J548,IF(Vorgaben!C$1=42,'Gruppe AF7'!P547,IF(Vorgaben!C$1=36,'Gruppe AF6'!I541,'Gruppe AF6'!I541)))","v":"Gruppe F8"},null,null,null,null,null,null,null,null,null,null,null,null,null,null,null,null,null,null,"-",{"$f":"IF(Vorgaben!C$1=48,'Gruppe AF8'!AD548,IF(Vorgaben!C$1=42,'Gruppe AF7'!AG547,IF(Vorgaben!C$1=36,'Gruppe AF6'!AC541,'Gruppe AF6'!AC541)))","v":"Gruppe F4"},null,null,null,null,null,null,null,null,null,null,null,null,null,null,null,null,null,null,null,null,":",null,null,{"$f":"Vorgaben!$G$39","v":6},null,null,null,"0",":","0",null,null,null,null,{"$f":"$L$20","v":"Gruppe F5"},{"$f":"COUNT(AW30,AZ33,AW37,AZ42,AW45,AZ48)","v":5},{"$f":"SUM(BF30,BH33,BF37,BH42,BF45,BH48)","v":4},{"$f":"SUM(AW30,AZ33,AW37,AZ42,AW45,AZ48)","v":5},":",{"$f":"SUM(AZ30+AW33+AZ37+AW42+AZ45+AW48)","v":15},-10]
[{"$f":"VLOOKUP(B49,Vorgaben!B$10:C$16,2,FALSE)","v":{"$error":"#N/A"}},22,null,"17:45:00",null,null,null,null,null,{"$f":"IF(Vorgaben!C$1=48,'Gruppe AF8'!J549,IF(Vorgaben!C$1=42,'Gruppe AF7'!P548,IF(Vorgaben!C$1=36,'Gruppe AF6'!I542,'Gruppe AF6'!I542)))","v":"Gruppe F6"},null,null,null,null,null,null,null,null,null,null,null,null,null,null,null,null,null,null,"-",{"$f":"IF(Vorgaben!C$1=48,'Gruppe AF8'!AD549,IF(Vorgaben!C$1=42,'Gruppe AF7'!AG548,IF(Vorgaben!C$1=36,'Gruppe AF6'!AC542,'Gruppe AF6'!AC542)))","v":"Gruppe F2"},null,null,null,null,null,null,null,null,null,null,null,null,null,null,null,null,null,null,null,null,":",null,null,{"$f":"Vorgaben!$G$39","v":6},null,null,null,"0",":","0",null,null,null,null,{"$f":"$L$21","v":"Gruppe F6"},{"$f":"COUNT(AZ30,AZ34,AW39,AW41,AZ44,AW46)","v":6},{"$f":"SUM(BH30,BH34,BF39,BF41,BH44,BF46)","v":6},{"$f":"SUM(AZ30,AZ34,AW39,AW41,AZ44,AW46)","v":6},":",{"$f":"SUM(AW30+AW34+AZ39+AZ41+AW44+AZ46)","v":6},{"$f":"SUM(BP49-BR49)","v":0}]
[{"$f":"VLOOKUP(B50,Vorgaben!B$10:C$16,2,FALSE)","v":{"$error":"#N/A"}},23,null,"17:55:00",null,null,null,null,null,{"$f":"IF(Vorgaben!C$1=48,'Gruppe AF8'!J550,IF(Vorgaben!C$1=42,'Gruppe AF7'!P549,IF(Vorgaben!C$1=36,'Gruppe AF6'!I543,'Gruppe AF6'!I543)))","v":"Gruppe F7"},null,null,null,null,null,null,null,null,null,null,null,null,null,null,null,null,null,null,"-",{"$f":"IF(Vorgaben!C$1=48,'Gruppe AF8'!AD550,IF(Vorgaben!C$1=42,'Gruppe AF7'!AG549,IF(Vorgaben!C$1=36,'Gruppe AF6'!AC543,'Gruppe AF6'!AC543)))","v":"Gruppe F3"},null,null,null,null,null,null,null,null,null,null,null,null,null,null,null,null,null,null,null,null,":",null,null,{"$f":"Vorgaben!$G$39","v":6},null,null,null,"0",":","0"]
[{"$f":"VLOOKUP(B51,Vorgaben!B$10:C$16,2,FALSE)","v":{"$error":"#N/A"}},24,null,"18:05:00",null,null,null,null,null,{"$f":"IF(Vorgaben!C$1=48,'Gruppe AF8'!J551,IF(Vorgaben!C$1=42,'Gruppe AF7'!P550,IF(Vorgaben!C$1=36,'Gruppe AF6'!I544,'Gruppe AF6'!I544)))","v":"Gruppe F5"},null,null,null,null,null,null,null,null,null,null,null,null,null,null,null,null,null,null,"-",{"$f":"IF(Vorgaben!C$1=48,'Gruppe AF8'!AD551,IF(Vorgaben!C$1=42,'Gruppe AF7'!AG550,IF(Vorgaben!C$1=36,'Gruppe AF6'!AC544,'Gruppe AF6'!AC544)))","v":"Gruppe F1"},null,null,null,null,null,null,null,null,null,null,null,null,null,null,null,null,null,null,1,null,":",1,null,{"$f":"Vorgaben!$G$39","v":6},null,null,null,1,":",1]
[{"$f":"VLOOKUP(B52,Vorgaben!B$10:C$16,2,FALSE)","v":{"$error":"#N/A"}},25,null,"18:15:00",null,null,null,null,null,{"$f":"IF(Vorgaben!C$1=48,'Gruppe AF8'!J552,IF(Vorgaben!C$1=42,'Gruppe AF7'!P551,IF(Vorgaben!C$1=36,'Gruppe AF6'!I545,'Gruppe AF6'!I545)))","v":"Gruppe F4"},null,null,null,null,null,null,null,null,null,null,null,null,null,null,null,null,null,null,"-",{"$f":"IF(Vorgaben!C$1=48,'Gruppe AF8'!AD552,IF(Vorgaben!C$1=42,'Gruppe AF7'!AG551,IF(Vorgaben!C$1=36,'Gruppe AF6'!AC545,'Gruppe AF6'!AC545)))","v":"Gruppe F6"},null,null,null,null,null,null,null,null,null,null,null,null,null,null,null,null,null,null,1,null,":",1,null,{"$f":"Vorgaben!$G$39","v":6},null,null,null,1,":",1]
[{"$f":"VLOOKUP(B53,Vorgaben!B$10:C$16,2,FALSE)","v":{"$error":"#N/A"}},26,null,"18:25:00",null,null,null,null,null,{"$f":"IF(Vorgaben!C$1=48,'Gruppe AF8'!J553,IF(Vorgaben!C$1=42,'Gruppe AF7'!P552,IF(Vorgaben!C$1=36,'Gruppe AF6'!I546,'Gruppe AF6'!I546)))","v":"Gruppe F3"},null,null,null,null,null,null,null,null,null,null,null,null,null,null,null,null,null,null,"-",{"$f":"IF(Vorgaben!C$1=48,'Gruppe AF8'!AD553,IF(Vorgaben!C$1=42,'Gruppe AF7'!AG552,IF(Vorgaben!C$1=36,'Gruppe AF6'!AC546,'Gruppe AF6'!AC546)))","v":"Gruppe F8"},null,null,null,null,null,null,null,null,null,null,null,null,null,null,null,null,null,null,1,null,":",1,null,{"$f":"Vorgaben!$G$39","v":6},null,null,null,1,":",1]
[{"$f":"VLOOKUP(B54,Vorgaben!B$10:C$16,2,FALSE)","v":{"$error":"#N/A"}},27,null,"18:35:00",null,null,null,null,null,{"$f":"IF(Vorgaben!C$1=48,'Gruppe AF8'!J554,IF(Vorgaben!C$1=42,'Gruppe AF7'!P553,IF(Vorgaben!C$1=36,'Gruppe AF6'!I547,'Gruppe AF6'!I547)))","v":"Gruppe F2"},null,null,null,null,null,null,null,null,null,null,null,null,null,null,null,null,null,null,"-",{"$f":"IF(Vorgaben!C$1=48,'Gruppe AF8'!AD554,IF(Vorgaben!C$1=42,'Gruppe AF7'!AG553,IF(Vorgaben!C$1=36,'Gruppe AF6'!AC547,'Gruppe AF6'!AC547)))","v":"Gruppe F5"},null,null,null,null,null,null,null,null,null,null,null,null,null,null,null,null,null,null,1,null,":",1,null,{"$f":"Vorgaben!$G$39","v":6},null,null,null,1,":",1]
[{"$f":"VLOOKUP(B55,Vorgaben!B$10:C$16,2,FALSE)","v":{"$error":"#N/A"}},28,null,"18:45:00",null,null,null,null,null,{"$f":"IF(Vorgaben!C$1=48,'Gruppe AF8'!J555,IF(Vorgaben!C$1=42,'Gruppe AF7'!P554,IF(Vorgaben!C$1=36,'Gruppe AF6'!I548,'Gruppe AF6'!I548)))","v":"Gruppe F1"},null,null,null,null,null,null,null,null,null,null,null,null,null,null,null,null,null,null,"-",{"$f":"IF(Vorgaben!C$1=48,'Gruppe AF8'!AD555,IF(Vorgaben!C$1=42,'Gruppe AF7'!AG554,IF(Vorgaben!C$1=36,'Gruppe AF6'!AC548,'Gruppe AF6'!AC548)))","v":"Gruppe F7"},null,null,null,null,null,null,null,null,null,null,null,null,null,null,null,null,null,null,1,null,":",1,null,{"$f":"Vorgaben!$G$39","v":6},null,null,null,1,":",1]
[]
[]
[null,"III. Abschlußtabelle"]
[]
[null,null,null,null,null,null,null,null,"Mannschaften",null,null,null,null,null,null,null,null,null,null,null,null,null,null,null,null,null,null,null,null,null,null,null,null,null,null,null,"Sp.",null,null,"Pkt.",null,null,"Tore",null,null,null,null,"Diff."]
[null,null,null,null,null,null,null,null,"1.",null,{"$f":"IF(Vorgaben!C$1=48,'Gruppe AF8'!K561,IF(Vorgaben!C$1=42,'Gruppe AF7'!L553,IF(Vorgaben!C$1=36,'Gruppe AF6'!K540,'Gruppe AF6'!K540)))","v":"Gruppe F8"},null,null,null,null,null,null,null,null,null,null,null,null,null,null,null,null,null,null,null,null,null,null,null,null,null,{"$f":"IF(Vorgaben!C$1=48,'Gruppe AF8'!AK561,IF(Vorgaben!C$1=42,'Gruppe AF7'!AL553,IF(Vorgaben!C$1=36,'Gruppe AF6'!AI540,IF(Vorgaben!C$1=30,'Gruppe AF6'!AI540,'Gruppe AF6'!AI540))))","v":6},null,null,{"$f":"IF(Vorgaben!C$1=48,'Gruppe AF8'!AN561,IF(Vorgaben!C$1=42,'Gruppe AF7'!AO553,IF(Vorgaben!C$1=36,'Gruppe AF6'!AL540,IF(Vorgaben!C$1=30,'Gruppe AF6'!AL540,\"\"))))","v":10},null,null,{"$f":"IF(Vorgaben!C$1=48,'Gruppe AF8'!AQ561,IF(Vorgaben!C$1=42,'Gruppe AF7'!AR553,IF(Vorgaben!C$1=36,'Gruppe AF6'!AO540,IF(Vorgaben!C$1=30,'Gruppe AF6'!AL540,\"\"))))","v":26},null,":",{"$f":"IF(Vorgaben!C$1=48,'Gruppe AF8'!AT561,IF(Vorgaben!C$1=42,'Gruppe AF7'!AU553,IF(Vorgaben!C$1=36,'Gruppe AF6'!AR540,IF(Vorgaben!C$1=30,'Gruppe AF6'!AR540,\"\"))))","v":6},null,{"$f":"IF(Vorgaben!C$1=48,'Gruppe AF8'!AV561,IF(Vorgaben!C$1=42,'Gruppe AF7'!AW553,IF(Vorgaben!C$1=36,'Gruppe AF6'!AT540,IF(Vorgaben!C$1=30,'Gruppe AF6'!AT540,\"\"))))","v":20}]
[null,null,null,null,null,null,null,null,"2.",null,{"$f":"IF(Vorgaben!C$1=48,'Gruppe AF8'!K562,IF(Vorgaben!C$1=42,'Gruppe AF7'!L554,IF(Vorgaben!C$1=36,'Gruppe AF6'!K541,'Gruppe AF6'!K541)))","v":"Gruppe F5"},null,null,null,null,null,null,null,null,null,null,null,null,null,null,null,null,null,null,null,null,null,null,null,null,null,{"$f":"IF(Vorgaben!C$1=48,'Gruppe AF8'!AK562,IF(Vorgaben!C$1=42,'Gruppe AF7'!AL554,IF(Vorgaben!C$1=36,'Gruppe AF6'!AI541,IF(Vorgaben!C$1=30,'Gruppe AF6'!AI541,'Gruppe AF6'!AI541))))","v":7},null,null,{"$f":"IF(Vorgaben!C$1=48,'Gruppe AF8'!AN562,IF(Vorgaben!C$1=42,'Gruppe AF7'!AO554,IF(Vorgaben!C$1=36,'Gruppe AF6'!AL541,IF(Vorgaben!C$1=30,'Gruppe AF6'!AL541,\"\"))))","v":7},null,null,{"$f":"IF(Vorgaben!C$1=48,'Gruppe AF8'!AQ562,IF(Vorgaben!C$1=42,'Gruppe AF7'!AR554,IF(Vorgaben!C$1=36,'Gruppe AF6'!AO541,IF(Vorgaben!C$1=30,'Gruppe AF6'!AL541,\"\"))))","v":7},null,":",{"$f":"IF(Vorgaben!C$1=48,'Gruppe AF8'!AT562,IF(Vorgaben!C$1=42,'Gruppe AF7'!AU554,IF(Vorgaben!C$1=36,'Gruppe AF6'!AR541,IF(Vorgaben!C$1=30,'Gruppe AF6'!AR541,\"\"))))","v":7},null,{"$f":"IF(Vorgaben!C$1=48,'Gruppe AF8'!AV562,IF(Vorgaben!C$1=42,'Gruppe AF7'!AW554,IF(Vorgaben!C$1=36,'Gruppe AF6'!AT541,IF(Vorgaben!C$1=30,'Gruppe AF6'!AT541,\"\"))))","v":0}]
[null,null,null,null,null,null,null,null,"3.",null,{"$f":"IF(Vorgaben!C$1=48,'Gruppe AF8'!K563,IF(Vorgaben!C$1=42,'Gruppe AF7'!L555,IF(Vorgaben!C$1=36,'Gruppe AF6'!K542,'Gruppe AF6'!K542)))","v":"Gruppe F6"},null,null,null,null,null,null,null,null,null,null,null,null,null,null,null,null,null,null,null,null,null,null,null,null,null,{"$f":"IF(Vorgaben!C$1=48,'Gruppe AF8'!AK563,IF(Vorgaben!C$1=42,'Gruppe AF7'!AL555,IF(Vorgaben!C$1=36,'Gruppe AF6'!AI542,IF(Vorgaben!C$1=30,'Gruppe AF6'!AI542,'Gruppe AF6'!AI542))))","v":6},null,null,{"$f":"IF(Vorgaben!C$1=48,'Gruppe AF8'!AN563,IF(Vorgaben!C$1=42,'Gruppe AF7'!AO555,IF(Vorgaben!C$1=36,'Gruppe AF6'!AL542,IF(Vorgaben!C$1=30,'Gruppe AF6'!AL542,\"\"))))","v":6},null,null,{"$f":"IF(Vorgaben!C$1=48,'Gruppe AF8'!AQ563,IF(Vorgaben!C$1=42,'Gruppe AF7'!AR555,IF(Vorgaben!C$1=36,'Gruppe AF6'!AO542,IF(Vorgaben!C$1=30,'Gruppe AF6'!AL542,\"\"))))","v":6},null,":",{"$f":"IF(Vorgaben!C$1=48,'Gruppe AF8'!AT563,IF(Vorgaben!C$1=42,'Gruppe AF7'!AU555,IF(Vorgaben!C$1=36,'Gruppe AF6'!AR542,IF(Vorgaben!C$1=30,'Gruppe AF6'!AR542,\"\"))))","v":6},null,{"$f":"IF(Vorgaben!C$1=48,'Gruppe AF8'!AV563,IF(Vorgaben!C$1=42,'Gruppe AF7'!AW555,IF(Vorgaben!C$1=36,'Gruppe AF6'!AT542,IF(Vorgaben!C$1=30,'Gruppe AF6'!AT542,\"\"))))","v":0}]
[null,null,null,null,null,null,null,null,"4.",null,{"$f":"IF(Vorgaben!C$1=48,'Gruppe AF8'!K564,IF(Vorgaben!C$1=42,'Gruppe AF7'!L556,IF(Vorgaben!C$1=36,'Gruppe AF6'!K543,'Gruppe AF6'!K543)))","v":"Gruppe F4"},null,null,null,null,null,null,null,null,null,null,null,null,null,null,null,null,null,null,null,null,null,null,null,null,null,{"$f":"IF(Vorgaben!C$1=48,'Gruppe AF8'!AK564,IF(Vorgaben!C$1=42,'Gruppe AF7'!AL556,IF(Vorgaben!C$1=36,'Gruppe AF6'!AI543,IF(Vorgaben!C$1=30,'Gruppe AF6'!AI543,'Gruppe AF6'!AI543))))","v":6},null,null,{"$f":"IF(Vorgaben!C$1=48,'Gruppe AF8'!AN564,IF(Vorgaben!C$1=42,'Gruppe AF7'!AO556,IF(Vorgaben!C$1=36,'Gruppe AF6'!AL543,IF(Vorgaben!C$1=30,'Gruppe AF6'!AL543,\"\"))))","v":6},null,null,{"$f":"IF(Vorgaben!C$1=48,'Gruppe AF8'!AQ564,IF(Vorgaben!C$1=42,'Gruppe AF7'!AR556,IF(Vorgaben!C$1=36,'Gruppe AF6'!AO543,IF(Vorgaben!C$1=30,'Gruppe AF6'!AL543,\"\"))))","v":6},null,":",{"$f":"IF(Vorgaben!C$1=48,'Gruppe AF8'!AT564,IF(Vorgaben!C$1=42,'Gruppe AF7'!AU556,IF(Vorgaben!C$1=36,'Gruppe AF6'!AR543,IF(Vorgaben!C$1=30,'Gruppe AF6'!AR543,\"\"))))","v":6},null,{"$f":"IF(Vorgaben!C$1=48,'Gruppe AF8'!AV564,IF(Vorgaben!C$1=42,'Gruppe AF7'!AW556,IF(Vorgaben!C$1=36,'Gruppe AF6'!AT543,IF(Vorgaben!C$1=30,'Gruppe AF6'!AT543,\"\"))))","v":0}]
[null,null,null,null,null,null,null,null,"5.",null,{"$f":"IF(Vorgaben!C$1=48,'Gruppe AF8'!K565,IF(Vorgaben!C$1=42,'Gruppe AF7'!L557,IF(Vorgaben!C$1=36,'Gruppe AF6'!K544,'Gruppe AF6'!K544)))","v":"Gruppe F3"},null,null,null,null,null,null,null,null,null,null,null,null,null,null,null,null,null,null,null,null,null,null,null,null,null,{"$f":"IF(Vorgaben!C$1=48,'Gruppe AF8'!AK565,IF(Vorgaben!C$1=42,'Gruppe AF7'!AL557,IF(Vorgaben!C$1=36,'Gruppe AF6'!AI544,IF(Vorgaben!C$1=30,'Gruppe AF6'!AI544,'Gruppe AF6'!AI544))))","v":6},null,null,{"$f":"IF(Vorgaben!C$1=48,'Gruppe AF8'!AN565,IF(Vorgaben!C$1=42,'Gruppe AF7'!AO557,IF(Vorgaben!C$1=36,'Gruppe AF6'!AL544,IF(Vorgaben!C$1=30,'Gruppe AF6'!AL544,\"\"))))","v":6},null,null,{"$f":"IF(Vorgaben!C$1=48,'Gruppe AF8'!AQ565,IF(Vorgaben!C$1=42,'Gruppe AF7'!AR557,IF(Vorgaben!C$1=36,'Gruppe AF6'!AO544,IF(Vorgaben!C$1=30,'Gruppe AF6'!AL544,\"\"))))","v":6},null,":",{"$f":"IF(Vorgaben!C$1=48,'Gruppe AF8'!AT565,IF(Vorgaben!C$1=42,'Gruppe AF7'!AU557,IF(Vorgaben!C$1=36,'Gruppe AF6'!AR544,IF(Vorgaben!C$1=30,'Gruppe AF6'!AR544,\"\"))))","v":6},null,{"$f":"IF(Vorgaben!C$1=48,'Gruppe AF8'!AV565,IF(Vorgaben!C$1=42,'Gruppe AF7'!AW557,IF(Vorgaben!C$1=36,'Gruppe AF6'!AT544,IF(Vorgaben!C$1=30,'Gruppe AF6'!AT544,\"\"))))","v":0}]
[null,null,null,null,null,null,null,null,"6.",null,{"$f":"IF(Vorgaben!C$1=48,'Gruppe AF8'!K566,IF(Vorgaben!C$1=42,'Gruppe AF7'!L558,IF(Vorgaben!C$1=36,'Gruppe AF6'!K545,'Gruppe AF6'!K545)))","v":"Gruppe F2"},null,null,null,null,null,null,null,null,null,null,null,null,null,null,null,null,null,null,null,null,null,null,null,null,null,{"$f":"IF(Vorgaben!C$1=48,'Gruppe AF8'!AK566,IF(Vorgaben!C$1=42,'Gruppe AF7'!AL558,IF(Vorgaben!C$1=36,'Gruppe AF6'!AI545,IF(Vorgaben!C$1=30,'Gruppe AF6'!AI545,'Gruppe AF6'!AI545))))","v":6},null,null,{"$f":"IF(Vorgaben!C$1=48,'Gruppe AF8'!AN566,IF(Vorgaben!C$1=42,'Gruppe AF7'!AO558,IF(Vorgaben!C$1=36,'Gruppe AF6'!AL545,IF(Vorgaben!C$1=30,'Gruppe AF6'!AL545,\"\"))))","v":6},null,null,{"$f":"IF(Vorgaben!C$1=48,'Gruppe AF8'!AQ566,IF(Vorgaben!C$1=42,'Gruppe AF7'!AR558,IF(Vorgaben!C$1=36,'Gruppe AF6'!AO545,IF(Vorgaben!C$1=30,'Gruppe AF6'!AL545,\"\"))))","v":6},null,":",{"$f":"IF(Vorgaben!C$1=48,'Gruppe AF8'!AT566,IF(Vorgaben!C$1=42,'Gruppe AF7'!AU558,IF(Vorgaben!C$1=36,'Gruppe AF6'!AR545,IF(Vorgaben!C$1=30,'Gruppe AF6'!AR545,\"\"))))","v":6},null,{"$f":"IF(Vorgaben!C$1=48,'Gruppe AF8'!AV566,IF(Vorgaben!C$1=42,'Gruppe AF7'!AW558,IF(Vorgaben!C$1=36,'Gruppe AF6'!AT545,IF(Vorgaben!C$1=30,'Gruppe AF6'!AT545,\"\"))))","v":0}]
[null,null,null,null,null,null,null,null,"7.",null,{"$f":"IF(Vorgaben!C$1=48,'Gruppe AF8'!K567,IF(Vorgaben!C$1=42,'Gruppe AF7'!L559,IF(Vorgaben!C$1=36,'Gruppe AF6'!K546,'Gruppe AF6'!K546)))","v":"Gruppe F1"},null,null,null,null,null,null,null,null,null,null,null,null,null,null,null,null,null,null,null,null,null,null,null,null,null,{"$f":"IF(Vorgaben!C$1=48,'Gruppe AF8'!AK567,IF(Vorgaben!C$1=42,'Gruppe AF7'!AL559,IF(Vorgaben!C$1=36,'Gruppe AF6'!AI546,IF(Vorgaben!C$1=30,'Gruppe AF6'!AI546,'Gruppe AF6'!AI546))))","v":7},null,null,{"$f":"IF(Vorgaben!C$1=48,'Gruppe AF8'!AN567,IF(Vorgaben!C$1=42,'Gruppe AF7'!AO559,IF(Vorgaben!C$1=36,'Gruppe AF6'!AL546,IF(Vorgaben!C$1=30,'Gruppe AF6'!AL546,\"\"))))","v":6},null,null,{"$f":"IF(Vorgaben!C$1=48,'Gruppe AF8'!AQ567,IF(Vorgaben!C$1=42,'Gruppe AF7'!AR559,IF(Vorgaben!C$1=36,'Gruppe AF6'!AO546,IF(Vorgaben!C$1=30,'Gruppe AF6'!AL546,\"\"))))","v":7},null,":",{"$f":"IF(Vorgaben!C$1=48,'Gruppe AF8'!AT567,IF(Vorgaben!C$1=42,'Gruppe AF7'!AU559,IF(Vorgaben!C$1=36,'Gruppe AF6'!AR546,IF(Vorgaben!C$1=30,'Gruppe AF6'!AR546,\"\"))))","v":17},null,{"$f":"IF(Vorgaben!C$1=48,'Gruppe AF8'!AV567,IF(Vorgaben!C$1=42,'Gruppe AF7'!AW559,IF(Vorgaben!C$1=36,'Gruppe AF6'!AT546,IF(Vorgaben!C$1=30,'Gruppe AF6'!AT546,\"\"))))","v":-10}]
[null,null,null,null,null,null,null,null,"8.",null,{"$f":"IF(Vorgaben!C$1=48,'Gruppe AF8'!K568,IF(Vorgaben!C$1=42,'Gruppe AF7'!L560,IF(Vorgaben!C$1=36,'Gruppe AF6'!K547,'Gruppe AF6'!K547)))","v":"Gruppe F7"},null,null,null,null,null,null,null,null,null,null,null,null,null,null,null,null,null,null,null,null,null,null,null,null,null,{"$f":"IF(Vorgaben!C$1=48,'Gruppe AF8'!AK568,IF(Vorgaben!C$1=42,'Gruppe AF7'!AL560,IF(Vorgaben!C$1=36,'Gruppe AF6'!AI547,IF(Vorgaben!C$1=30,'Gruppe AF6'!AI547,'Gruppe AF6'!AI547))))","v":6},null,null,{"$f":"IF(Vorgaben!C$1=48,'Gruppe AF8'!AN568,IF(Vorgaben!C$1=42,'Gruppe AF7'!AO560,IF(Vorgaben!C$1=36,'Gruppe AF6'!AL547,IF(Vorgaben!C$1=30,'Gruppe AF6'!AL547,\"\"))))","v":5},null,null,{"$f":"IF(Vorgaben!C$1=48,'Gruppe AF8'!AQ568,IF(Vorgaben!C$1=42,'Gruppe AF7'!AR560,IF(Vorgaben!C$1=36,'Gruppe AF6'!AO547,IF(Vorgaben!C$1=30,'Gruppe AF6'!AL547,\"\"))))","v":6},null,":",{"$f":"IF(Vorgaben!C$1=48,'Gruppe AF8'!AT568,IF(Vorgaben!C$1=42,'Gruppe AF7'!AU560,IF(Vorgaben!C$1=36,'Gruppe AF6'!AR547,IF(Vorgaben!C$1=30,'Gruppe AF6'!AR547,\"\"))))","v":16},null,{"$f":"IF(Vorgaben!C$1=48,'Gruppe AF8'!AV568,IF(Vorgaben!C$1=42,'Gruppe AF7'!AW560,IF(Vorgaben!C$1=36,'Gruppe AF6'!AT547,IF(Vorgaben!C$1=30,'Gruppe AF6'!AT547,\"\"))))","v":-10}]

{"sheet":"Platzzuordnung","index":13,"n_rows":139,"n_cols":61,"rows_kept":139,"cut":false,"hidden":true,"merged":[[1,4,1,5]]}
["Beginn:",{"$f":"Vorgaben!G4","v":"08:45:00"},"Uhr","Spielzeit:",{"$f":"Vorgaben!G5","v":1},"x",{"$f":"Vorgaben!G6","v":"00:10:00"},"Min.","Pause:",{"$f":"Vorgaben!G7","v":"00:01:00"},"Min"]
[null,null,null,null,"Mittagspause",null,null,"Min.","Halbzeit:",{"$f":"IF(Vorgaben!G5>1,Vorgaben!G8,0)","v":"00:00:00"},null,null,null,null,null,null,null,null,null,null,null,null,null,null,null,null,null,null,null,null,null,null,null,null,null,null,null,null,null,null,null,null,null,null,null,null,null,null,null,null,null,null,null,null,null,null,null,null,null,"ZwRu1",1]
["Nr.","Platz","Gruppe","Zeit",null,"Pause vor Spiel",{"$f":"Vorgaben!#REF!","v":{"$error":"#REF!"}},null,"Pause nach Spiel 116","00:18:00",null,null,null,null,null,null,null,null,null,null,null,null,null,null,null,null,null,null,null,null,null,null,null,null,null,null,null,null,null,null,null,null,null,null,null,null,null,null,null,null,null,"GruppenZahl",{"$f":"A3","v":"Nr."},{"$f":"B3","v":"Platz"},"Gruppe","Zeit","Mannschaft 1","Mannschaft 2",null,"ZwRu2",2]
[1,{"$f":"IF(ISNA(MATCH(A4,$M$6:$M$11,0)),IF(ISNA(MATCH(A4,$N$6:$N$11,0)),IF(ISNA(MATCH(A4,$O$6:$O$11,0)),IF(ISNA(MATCH(A4,$P$6:$P$11,0)),IF(ISNA(MATCH(A4,$Q$6:$Q$11,0)),IF(ISNA(MATCH(A4,$R$6:$R$11,0)),IF(ISNA(MATCH(A4,$S$6:$S$11,0)),IF(ISNA(MATCH(A4,$T$6:$T$11,0)),IF(ISNA(MATCH(A4,$U$6:$U$11,0)),IF(ISNA(MATCH(A4,$V$6:$V$11,0)),IF(ISNA(MATCH(A4,$W$6:$W$11,0)),IF(ISNA(MATCH(A4,$X$6:$X$11,0)),IF(ISNA(MATCH(A4,$Y$6:$Y$11,0)),IF(ISNA(MATCH(A4,$Z$6:$Z$11,0)),IF(ISNA(MATCH(A4,$AA$6:$AA$11,0)),IF(ISNA(MATCH(A4,$AB$6:$AB$11,0)),IF(ISNA(MATCH(A4,$AC$6:$AC$11,0)),IF(ISNA(MATCH(A4,$AD$6:$AD$11,0)),IF(ISNA(MATCH(A4,$AE$6:$AE$11,0)),IF(ISNA(MATCH(A4,$AF$6:$AF$11,0)),IF(ISNA(MATCH(A4,$AG$6:$AG$11,0)),IF(ISNA(MATCH(A4,$AH$6:$AH$11,0)),IF(ISNA(MATCH(A4,$AI$6:$AI$11,0)),IF(ISNA(MATCH(A4,$AJ$6:$AJ$11,0)),IF(ISNA(MATCH(A4,$AK$6:$AK$11,0)),IF(ISNA(MATCH(A4,$AL$6:$AL$11,0)),\"F\",MATCH(A4,$AL$6:$AL$11,0)),MATCH(A4,$AK$6:$AK$11,0)),MATCH(A4,$AJ$6:$AJ$11,0)),MATCH(A4,$AI$6:$AI$11,0)),MATCH(A4,$AH$6:$AH$11,0)),MATCH(A4,$AG$6:$AG$11,0)),MATCH(A4,$AF$6:$AF$11,0)),MATCH(A4,$AE$6:$AE$11,0)),MATCH(A4,$AD$6:$AD$11,0)),MATCH(A4,$AC$6:$AC$11,0)),MATCH(A4,$AB$6:$AB$11,0)),MATCH(A4,$AA$6:$AA$11,0)),MATCH(A4,$Z$6:$Z$11,0)),MATCH(A4,$Y$6:$Y$11,0)),MATCH(A4,$X$6:$X$11,0)),MATCH(A4,$W$6:$W$11,0)),MATCH(A4,$V$6:$V$11,0)),MATCH(A4,$U$6:$U$11,0)),MATCH(A4,$T$6:$T$11,0)),MATCH(A4,$S$6:$S$11,0)),MATCH(A4,$R$6:$R$11,0)),MATCH(A4,$Q$6:$Q$11,0)),MATCH(A4,$P$6:$P$11,0)),MATCH(A4,$O$6:$O$11,0)),MATCH(A4,$N$6:$N$11,0)),MATCH(A4,$M$6:$M$11,0))","v":1},"ZwRu1",{"$f":"IF(B4=M$13,VLOOKUP(A4,$M$14:$S$39,7,FALSE),IF(B4=N$13,VLOOKUP(A4,$N$14:$S$39,6,FALSE),IF(B4=O$13,VLOOKUP(A4,$O$13:$S$39,5,FALSE),IF(B4=P$13,VLOOKUP(A4,$P$13:$S$39,4,FALSE),IF(B4=Q$13,VLOOKUP(A4,$Q$13:$S$39,3,FALSE),IF(B4=R$13,VLOOKUP(A4,$R$13:$S$39,2,FALSE),\"\"))))))","v":"08:45:00"},{"$f":"IF($C4=\"ZwRu1\",VLOOKUP($A4,'Lauf ZRA'!$A$1:$E$15,4,FALSE),IF($C4=\"ZwRu2\",VLOOKUP($A4,'Lauf ZRB'!$A$1:$E$15,4,FALSE),IF($C4=\"PlSp13-18\",VLOOKUP($A4,'Lauf PlSp13-18'!$A$1:$G$15,4,FALSE),IF($C4=\"PlSp19-24\",VLOOKUP($A4,'Lauf PlSp19-24'!$A$1:$G$15,4,FALSE),IF($C4=\"PlSp25-30\",VLOOKUP($A4,'Lauf PlSp25-30'!$A$1:$G$15,4,FALSE),IF($C4=\"PlSp31-36\",VLOOKUP($A4,'Lauf PlSp31-36'!$A$1:$G$15,4,FALSE),IF($C4=\"PlSp37-42\",VLOOKUP($A4,'Lauf PlSp37-42'!$A$1:$G$15,4,FALSE),IF($C4=\"PlSp43-48\",VLOOKUP($A4,'Lauf PlSp43-48'!$A$1:$G$15,4,FALSE),IF($C4=\"Halbfinale\",VLOOKUP($A4,'Lauf Halbfinale'!$A$1:$G$6,4,FALSE),IF($C4=\"Endrunde\",VLOOKUP($A4,'Lauf Endrunde'!$A$1:$G$6,4,FALSE),))))))))))","v":"Gruppe A7"},{"$f":"IF($C4=\"ZwRu1\",VLOOKUP($A4,'Lauf ZRA'!$A$1:$E$15,5,FALSE),IF($C4=\"ZwRu2\",VLOOKUP($A4,'Lauf ZRB'!$A$1:$E$15,5,FALSE),IF($C4=\"PlSp13-18\",VLOOKUP($A4,'Lauf PlSp13-18'!$A$1:$G$15,5,FALSE),IF($C4=\"PlSp19-24\",VLOOKUP($A4,'Lauf PlSp19-24'!$A$1:$G$15,5,FALSE),IF($C4=\"PlSp25-30\",VLOOKUP($A4,'Lauf PlSp25-30'!$A$1:$G$15,5,FALSE),IF($C4=\"PlSp31-36\",VLOOKUP($A4,'Lauf PlSp31-36'!$A$1:$G$15,5,FALSE),IF($C4=\"PlSp37-42\",VLOOKUP($A4,'Lauf PlSp37-42'!$A$1:$G$15,5,FALSE),IF($C4=\"PlSp43-48\",VLOOKUP($A4,'Lauf PlSp43-48'!$A$1:$G$15,5,FALSE),IF($C4=\"Halbfinale\",VLOOKUP($A4,'Lauf Halbfinale'!$A$1:$G$6,5,FALSE),IF($C4=\"Endrunde\",VLOOKUP($A4,'Lauf Endrunde'!$A$1:$G$6,5,FALSE),))))))))))","v":"Gruppe A4"},null,null,null,null,null,null,1,2,3,4,5,6,7,8,9,10,11,12,13,14,15,16,17,18,19,20,21,22,23,24,25,26,null,null,null,null,null,null,null,null,null,null,null,null,null,{"$f":"IF(BC4=BH$2,BI$2,IF(BC4=BH$3,BI$3,IF(BC4=BH$4,BI$4,IF(BC4=BH$5,BI$5,IF(BC4=$BH$6,$BI$6,IF(BC4=BH$7,BI$7,IF(BC4=BH$8,BI$8,IF(BC4=BH$9,BI$9,IF(BC4=BH$10,BI$10,\"Fehler\")))))))))","v":1},1,1,"ZwRu1","09:00:00","JSG Harderberg/Kloster Oesede 2","VfL \"Fortuna\" Veenhusen 1",null,"PlSp13-18",3]
[2,{"$f":"IF(ISNA(MATCH(A5,$M$6:$M$11,0)),IF(ISNA(MATCH(A5,$N$6:$N$11,0)),IF(ISNA(MATCH(A5,$O$6:$O$11,0)),IF(ISNA(MATCH(A5,$P$6:$P$11,0)),IF(ISNA(MATCH(A5,$Q$6:$Q$11,0)),IF(ISNA(MATCH(A5,$R$6:$R$11,0)),IF(ISNA(MATCH(A5,$S$6:$S$11,0)),IF(ISNA(MATCH(A5,$T$6:$T$11,0)),IF(ISNA(MATCH(A5,$U$6:$U$11,0)),IF(ISNA(MATCH(A5,$V$6:$V$11,0)),IF(ISNA(MATCH(A5,$W$6:$W$11,0)),IF(ISNA(MATCH(A5,$X$6:$X$11,0)),IF(ISNA(MATCH(A5,$Y$6:$Y$11,0)),IF(ISNA(MATCH(A5,$Z$6:$Z$11,0)),IF(ISNA(MATCH(A5,$AA$6:$AA$11,0)),IF(ISNA(MATCH(A5,$AB$6:$AB$11,0)),IF(ISNA(MATCH(A5,$AC$6:$AC$11,0)),IF(ISNA(MATCH(A5,$AD$6:$AD$11,0)),IF(ISNA(MATCH(A5,$AE$6:$AE$11,0)),IF(ISNA(MATCH(A5,$AF$6:$AF$11,0)),IF(ISNA(MATCH(A5,$AG$6:$AG$11,0)),IF(ISNA(MATCH(A5,$AH$6:$AH$11,0)),IF(ISNA(MATCH(A5,$AI$6:$AI$11,0)),IF(ISNA(MATCH(A5,$AJ$6:$AJ$11,0)),IF(ISNA(MATCH(A5,$AK$6:$AK$11,0)),IF(ISNA(MATCH(A5,$AL$6:$AL$11,0)),\"F\",MATCH(A5,$AL$6:$AL$11,0)),MATCH(A5,$AK$6:$AK$11,0)),MATCH(A5,$AJ$6:$AJ$11,0)),MATCH(A5,$AI$6:$AI$11,0)),MATCH(A5,$AH$6:$AH$11,0)),MATCH(A5,$AG$6:$AG$11,0)),MATCH(A5,$AF$6:$AF$11,0)),MATCH(A5,$AE$6:$AE$11,0)),MATCH(A5,$AD$6:$AD$11,0)),MATCH(A5,$AC$6:$AC$11,0)),MATCH(A5,$AB$6:$AB$11,0)),MATCH(A5,$AA$6:$AA$11,0)),MATCH(A5,$Z$6:$Z$11,0)),MATCH(A5,$Y$6:$Y$11,0)),MATCH(A5,$X$6:$X$11,0)),MATCH(A5,$W$6:$W$11,0)),MATCH(A5,$V$6:$V$11,0)),MATCH(A5,$U$6:$U$11,0)),MATCH(A5,$T$6:$T$11,0)),MATCH(A5,$S$6:$S$11,0)),MATCH(A5,$R$6:$R$11,0)),MATCH(A5,$Q$6:$Q$11,0)),MATCH(A5,$P$6:$P$11,0)),MATCH(A5,$O$6:$O$11,0)),MATCH(A5,$N$6:$N$11,0)),MATCH(A5,$M$6:$M$11,0))","v":1},"ZwRu1",{"$f":"IF(B5=M$13,VLOOKUP(A5,$M$14:$S$39,7,FALSE),IF(B5=N$13,VLOOKUP(A5,$N$14:$S$39,6,FALSE),IF(B5=O$13,VLOOKUP(A5,$O$13:$S$39,5,FALSE),IF(B5=P$13,VLOOKUP(A5,$P$13:$S$39,4,FALSE),IF(B5=Q$13,VLOOKUP(A5,$Q$13:$S$39,3,FALSE),IF(B5=R$13,VLOOKUP(A5,$R$13:$S$39,2,FALSE),\"\"))))))","v":"08:56:00"},{"$f":"IF($C5=\"ZwRu1\",VLOOKUP($A5,'Lauf ZRA'!$A$1:$E$15,4,FALSE),IF($C5=\"ZwRu2\",VLOOKUP($A5,'Lauf ZRB'!$A$1:$E$15,4,FALSE),IF($C5=\"PlSp13-18\",VLOOKUP($A5,'Lauf PlSp13-18'!$A$1:$G$15,4,FALSE),IF($C5=\"PlSp19-24\",VLOOKUP($A5,'Lauf PlSp19-24'!$A$1:$G$15,4,FALSE),IF($C5=\"PlSp25-30\",VLOOKUP($A5,'Lauf PlSp25-30'!$A$1:$G$15,4,FALSE),IF($C5=\"PlSp31-36\",VLOOKUP($A5,'Lauf PlSp31-36'!$A$1:$G$15,4,FALSE),IF($C5=\"PlSp37-42\",VLOOKUP($A5,'Lauf PlSp37-42'!$A$1:$G$15,4,FALSE),IF($C5=\"PlSp43-48\",VLOOKUP($A5,'Lauf PlSp43-48'!$A$1:$G$15,4,FALSE),IF($C5=\"Halbfinale\",VLOOKUP($A5,'Lauf Halbfinale'!$A$1:$G$6,4,FALSE),IF($C5=\"Endrunde\",VLOOKUP($A5,'Lauf Endrunde'!$A$1:$G$6,4,FALSE),))))))))))","v":"Gruppe C5"},{"$f":"IF($C5=\"ZwRu1\",VLOOKUP($A5,'Lauf ZRA'!$A$1:$E$15,5,FALSE),IF($C5=\"ZwRu2\",VLOOKUP($A5,'Lauf ZRB'!$A$1:$E$15,5,FALSE),IF($C5=\"PlSp13-18\",VLOOKUP($A5,'Lauf PlSp13-18'!$A$1:$G$15,5,FALSE),IF($C5=\"PlSp19-24\",VLOOKUP($A5,'Lauf PlSp19-24'!$A$1:$G$15,5,FALSE),IF($C5=\"PlSp25-30\",VLOOKUP($A5,'Lauf PlSp25-30'!$A$1:$G$15,5,FALSE),IF($C5=\"PlSp31-36\",VLOOKUP($A5,'Lauf PlSp31-36'!$A$1:$G$15,5,FALSE),IF($C5=\"PlSp37-42\",VLOOKUP($A5,'Lauf PlSp37-42'!$A$1:$G$15,5,FALSE),IF($C5=\"PlSp43-48\",VLOOKUP($A5,'Lauf PlSp43-48'!$A$1:$G$15,5,FALSE),IF($C5=\"Halbfinale\",VLOOKUP($A5,'Lauf Halbfinale'!$A$1:$G$6,5,FALSE),IF($C5=\"Endrunde\",VLOOKUP($A5,'Lauf Endrunde'!$A$1:$G$6,5,FALSE),))))))))))","v":"Gruppe C8"},null,null,null,null,null,"Platz/Uhr",{"$f":"B1","v":"08:45:00"},{"$f":"IF(N$4=$G$3,M5+(($E$1*$G$1)+$J$1)+$G$2,M5+(($E$1*$G$1)+$J$1))","v":{"$error":"#REF!"}},{"$f":"IF(O$4=$G$3,N5+(($E$1*$G$1)+$J$1)+$G$2,N5+(($E$1*$G$1)+$J$1))","v":{"$error":"#REF!"}},{"$error":"#REF!"},{"$error":"#REF!"},{"$error":"#REF!"},{"$error":"#REF!"},{"$error":"#REF!"},{"$error":"#REF!"},{"$error":"#REF!"},{"$error":"#REF!"},{"$error":"#REF!"},{"$error":"#REF!"},{"$error":"#REF!"},{"$f":"IF(AA$4=$G$3,Z5+(($E$1*$G$1)+$J$1)+$G$2,Z5+(($E$1*$G$1)+$J$1))","v":{"$error":"#REF!"}},{"$error":"#REF!"},{"$error":"#REF!"},{"$error":"#REF!"},{"$error":"#REF!"},{"$error":"#REF!"},{"$error":"#REF!"},{"$error":"#REF!"},{"$error":"#REF!"},{"$error":"#REF!"},{"$error":"#REF!"},{"$error":"#REF!"},null,null,null,null,null,null,null,null,null,null,null,null,null,2,16,2,"ZwRu2","09:00:00","TuS Eversten 1","VfL \"Fortuna\" Veenhusen 2",null,"PlSp19-24",4]
[3,1,"ZwRu1","09:07:00",{"$f":"IF($C6=\"ZwRu1\",VLOOKUP($A6,'Lauf ZRA'!$A$1:$E$15,4,FALSE),IF($C6=\"ZwRu2\",VLOOKUP($A6,'Lauf ZRB'!$A$1:$E$15,4,FALSE),IF($C6=\"PlSp13-18\",VLOOKUP($A6,'Lauf PlSp13-18'!$A$1:$G$15,4,FALSE),IF($C6=\"PlSp19-24\",VLOOKUP($A6,'Lauf PlSp19-24'!$A$1:$G$15,4,FALSE),IF($C6=\"PlSp25-30\",VLOOKUP($A6,'Lauf PlSp25-30'!$A$1:$G$15,4,FALSE),IF($C6=\"PlSp31-36\",VLOOKUP($A6,'Lauf PlSp31-36'!$A$1:$G$15,4,FALSE),IF($C6=\"PlSp37-42\",VLOOKUP($A6,'Lauf PlSp37-42'!$A$1:$G$15,4,FALSE),IF($C6=\"PlSp43-48\",VLOOKUP($A6,'Lauf PlSp43-48'!$A$1:$G$15,4,FALSE),IF($C6=\"Halbfinale\",VLOOKUP($A6,'Lauf Halbfinale'!$A$1:$G$6,4,FALSE),IF($C6=\"Endrunde\",VLOOKUP($A6,'Lauf Endrunde'!$A$1:$G$6,4,FALSE),))))))))))","v":"Gruppe E2"},{"$f":"IF($C6=\"ZwRu1\",VLOOKUP($A6,'Lauf ZRA'!$A$1:$E$15,5,FALSE),IF($C6=\"ZwRu2\",VLOOKUP($A6,'Lauf ZRB'!$A$1:$E$15,5,FALSE),IF($C6=\"PlSp13-18\",VLOOKUP($A6,'Lauf PlSp13-18'!$A$1:$G$15,5,FALSE),IF($C6=\"PlSp19-24\",VLOOKUP($A6,'Lauf PlSp19-24'!$A$1:$G$15,5,FALSE),IF($C6=\"PlSp25-30\",VLOOKUP($A6,'Lauf PlSp25-30'!$A$1:$G$15,5,FALSE),IF($C6=\"PlSp31-36\",VLOOKUP($A6,'Lauf PlSp31-36'!$A$1:$G$15,5,FALSE),IF($C6=\"PlSp37-42\",VLOOKUP($A6,'Lauf PlSp37-42'!$A$1:$G$15,5,FALSE),IF($C6=\"PlSp43-48\",VLOOKUP($A6,'Lauf PlSp43-48'!$A$1:$G$15,5,FALSE),IF($C6=\"Halbfinale\",VLOOKUP($A6,'Lauf Halbfinale'!$A$1:$G$6,5,FALSE),IF($C6=\"Endrunde\",VLOOKUP($A6,'Lauf Endrunde'!$A$1:$G$6,5,FALSE),))))))))))","v":"Gruppe E3"},null,null,"ZwRuA",6,"1--15",1,{"$f":"M$14","v":1},{"$f":"M$15","v":2},{"$f":"M$16","v":3},{"$f":"M$17","v":4},{"$f":"M$18","v":5},{"$f":"M$19","v":6},{"$f":"M$20","v":7},{"$f":"M$21","v":8},{"$f":"M$22","v":9},{"$f":"M$23","v":10},{"$f":"M$24","v":11},{"$f":"M$25","v":12},{"$f":"M$26","v":13},{"$f":"M$27","v":14},{"$f":"M$28","v":15},{"$f":"M$29","v":0},{"$f":"M$30","v":121},{"$f":"M$31","v":123},{"$f":"M$32","v":125},{"$f":"M$33","v":0},{"$f":"M$34","v":0},{"$f":"M35","v":105},{"$f":"M36","v":127},{"$f":"M37","v":131},{"$f":"M38","v":0},{"$f":"M39","v":132},"A",null,null,null,null,null,null,null,null,null,null,null,null,3,31,3,"PlSp13-18","09:00:00","SV Ostfrisia Moordorf","VfB 1928 Wilden",null,"PlSp25-30",5]
[4,1,"ZwRu1","09:18:00",{"$f":"IF($C7=\"ZwRu1\",VLOOKUP($A7,'Lauf ZRA'!$A$1:$E$15,4,FALSE),IF($C7=\"ZwRu2\",VLOOKUP($A7,'Lauf ZRB'!$A$1:$E$15,4,FALSE),IF($C7=\"PlSp13-18\",VLOOKUP($A7,'Lauf PlSp13-18'!$A$1:$G$15,4,FALSE),IF($C7=\"PlSp19-24\",VLOOKUP($A7,'Lauf PlSp19-24'!$A$1:$G$15,4,FALSE),IF($C7=\"PlSp25-30\",VLOOKUP($A7,'Lauf PlSp25-30'!$A$1:$G$15,4,FALSE),IF($C7=\"PlSp31-36\",VLOOKUP($A7,'Lauf PlSp31-36'!$A$1:$G$15,4,FALSE),IF($C7=\"PlSp37-42\",VLOOKUP($A7,'Lauf PlSp37-42'!$A$1:$G$15,4,FALSE),IF($C7=\"PlSp43-48\",VLOOKUP($A7,'Lauf PlSp43-48'!$A$1:$G$15,4,FALSE),IF($C7=\"Halbfinale\",VLOOKUP($A7,'Lauf Halbfinale'!$A$1:$G$6,4,FALSE),IF($C7=\"Endrunde\",VLOOKUP($A7,'Lauf Endrunde'!$A$1:$G$6,4,FALSE),))))))))))","v":"Gruppe A4"},{"$f":"IF($C7=\"ZwRu1\",VLOOKUP($A7,'Lauf ZRA'!$A$1:$E$15,5,FALSE),IF($C7=\"ZwRu2\",VLOOKUP($A7,'Lauf ZRB'!$A$1:$E$15,5,FALSE),IF($C7=\"PlSp13-18\",VLOOKUP($A7,'Lauf PlSp13-18'!$A$1:$G$15,5,FALSE),IF($C7=\"PlSp19-24\",VLOOKUP($A7,'Lauf PlSp19-24'!$A$1:$G$15,5,FALSE),IF($C7=\"PlSp25-30\",VLOOKUP($A7,'Lauf PlSp25-30'!$A$1:$G$15,5,FALSE),IF($C7=\"PlSp31-36\",VLOOKUP($A7,'Lauf PlSp31-36'!$A$1:$G$15,5,FALSE),IF($C7=\"PlSp37-42\",VLOOKUP($A7,'Lauf PlSp37-42'!$A$1:$G$15,5,FALSE),IF($C7=\"PlSp43-48\",VLOOKUP($A7,'Lauf PlSp43-48'!$A$1:$G$15,5,FALSE),IF($C7=\"Halbfinale\",VLOOKUP($A7,'Lauf Halbfinale'!$A$1:$G$6,5,FALSE),IF($C7=\"Endrunde\",VLOOKUP($A7,'Lauf Endrunde'!$A$1:$G$6,5,FALSE),))))))))))","v":"Gruppe C5"},null,null,"ZwRuB",6,"16-30",2,{"$f":"N$14","v":16},{"$f":"N$15","v":17},{"$f":"N$16","v":18},{"$f":"N$17","v":19},{"$f":"N$18","v":20},{"$f":"N$19","v":21},{"$f":"N$20","v":22},{"$f":"N$21","v":23},{"$f":"N$22","v":24},{"$f":"N$23","v":25},{"$f":"N$24","v":26},{"$f":"N$25","v":27},{"$f":"N$26","v":28},{"$f":"N$27","v":29},{"$f":"N$28","v":30},{"$f":"N$29","v":0},{"$f":"N$30","v":122},{"$f":"N$31","v":124},{"$f":"N$32","v":126},{"$f":"N$33","v":0},{"$f":"N$34","v":0},{"$f":"N$35","v":120},{"$f":"N$36","v":128},{"$f":"N$37","v":0},{"$f":"N$38","v":0},{"$f":"N39","v":0},"B",null,null,null,null,null,null,null,null,null,null,null,null,4,46,4,"PlSp19-24","09:00:00","VfL Viktoria Flachsmeer","VfL Weiße Elf Nordhorn",null,"PlSp31-36",6]
[5,1,"ZwRu1","09:29:00",{"$f":"IF($C8=\"ZwRu1\",VLOOKUP($A8,'Lauf ZRA'!$A$1:$E$15,4,FALSE),IF($C8=\"ZwRu2\",VLOOKUP($A8,'Lauf ZRB'!$A$1:$E$15,4,FALSE),IF($C8=\"PlSp13-18\",VLOOKUP($A8,'Lauf PlSp13-18'!$A$1:$G$15,4,FALSE),IF($C8=\"PlSp19-24\",VLOOKUP($A8,'Lauf PlSp19-24'!$A$1:$G$15,4,FALSE),IF($C8=\"PlSp25-30\",VLOOKUP($A8,'Lauf PlSp25-30'!$A$1:$G$15,4,FALSE),IF($C8=\"PlSp31-36\",VLOOKUP($A8,'Lauf PlSp31-36'!$A$1:$G$15,4,FALSE),IF($C8=\"PlSp37-42\",VLOOKUP($A8,'Lauf PlSp37-42'!$A$1:$G$15,4,FALSE),IF($C8=\"PlSp43-48\",VLOOKUP($A8,'Lauf PlSp43-48'!$A$1:$G$15,4,FALSE),IF($C8=\"Halbfinale\",VLOOKUP($A8,'Lauf Halbfinale'!$A$1:$G$6,4,FALSE),IF($C8=\"Endrunde\",VLOOKUP($A8,'Lauf Endrunde'!$A$1:$G$6,4,FALSE),))))))))))","v":"Gruppe C8"},{"$f":"IF($C8=\"ZwRu1\",VLOOKUP($A8,'Lauf ZRA'!$A$1:$E$15,5,FALSE),IF($C8=\"ZwRu2\",VLOOKUP($A8,'Lauf ZRB'!$A$1:$E$15,5,FALSE),IF($C8=\"PlSp13-18\",VLOOKUP($A8,'Lauf PlSp13-18'!$A$1:$G$15,5,FALSE),IF($C8=\"PlSp19-24\",VLOOKUP($A8,'Lauf PlSp19-24'!$A$1:$G$15,5,FALSE),IF($C8=\"PlSp25-30\",VLOOKUP($A8,'Lauf PlSp25-30'!$A$1:$G$15,5,FALSE),IF($C8=\"PlSp31-36\",VLOOKUP($A8,'Lauf PlSp31-36'!$A$1:$G$15,5,FALSE),IF($C8=\"PlSp37-42\",VLOOKUP($A8,'Lauf PlSp37-42'!$A$1:$G$15,5,FALSE),IF($C8=\"PlSp43-48\",VLOOKUP($A8,'Lauf PlSp43-48'!$A$1:$G$15,5,FALSE),IF($C8=\"Halbfinale\",VLOOKUP($A8,'Lauf Halbfinale'!$A$1:$G$6,5,FALSE),IF($C8=\"Endrunde\",VLOOKUP($A8,'Lauf Endrunde'!$A$1:$G$6,5,FALSE),))))))))))","v":"Gruppe E2"},null,null,"3.",6,"31-45",3,{"$f":"O$14","v":31},{"$f":"O$15","v":92},{"$f":"O$16","v":32},{"$f":"O$17","v":33},{"$f":"O$18","v":94},{"$f":"O$19","v":34},{"$f":"O$20","v":35},{"$f":"O$21","v":96},{"$f":"O$22","v":36},{"$f":"O$23","v":37},{"$f":"O$24","v":98},{"$f":"O$25","v":38},{"$f":"O$26","v":39},{"$f":"O$27","v":100},{"$f":"O$28","v":40},{"$f":"O$29","v":41},{"$f":"O$30","v":102},{"$f":"O$31","v":42},{"$f":"O$32","v":43},{"$f":"O$33","v":104},{"$f":"O$34","v":44},{"$f":"O$35","v":45},{"$f":"O36","v":129},{"$f":"O37","v":0},{"$f":"O38","v":0},{"$f":"O39","v":0},"C",null,null,null,null,null,null,null,null,null,null,null,null,5,61,5,"PlSp25-30","09:00:00","SFR Möhlenwarf","JFV Leer",null,"PlSp37-42",7]
[6,1,"ZwRu1","09:40:00",{"$f":"IF($C9=\"ZwRu1\",VLOOKUP($A9,'Lauf ZRA'!$A$1:$E$15,4,FALSE),IF($C9=\"ZwRu2\",VLOOKUP($A9,'Lauf ZRB'!$A$1:$E$15,4,FALSE),IF($C9=\"PlSp13-18\",VLOOKUP($A9,'Lauf PlSp13-18'!$A$1:$G$15,4,FALSE),IF($C9=\"PlSp19-24\",VLOOKUP($A9,'Lauf PlSp19-24'!$A$1:$G$15,4,FALSE),IF($C9=\"PlSp25-30\",VLOOKUP($A9,'Lauf PlSp25-30'!$A$1:$G$15,4,FALSE),IF($C9=\"PlSp31-36\",VLOOKUP($A9,'Lauf PlSp31-36'!$A$1:$G$15,4,FALSE),IF($C9=\"PlSp37-42\",VLOOKUP($A9,'Lauf PlSp37-42'!$A$1:$G$15,4,FALSE),IF($C9=\"PlSp43-48\",VLOOKUP($A9,'Lauf PlSp43-48'!$A$1:$G$15,4,FALSE),IF($C9=\"Halbfinale\",VLOOKUP($A9,'Lauf Halbfinale'!$A$1:$G$6,4,FALSE),IF($C9=\"Endrunde\",VLOOKUP($A9,'Lauf Endrunde'!$A$1:$G$6,4,FALSE),))))))))))","v":"Gruppe A7"},{"$f":"IF($C9=\"ZwRu1\",VLOOKUP($A9,'Lauf ZRA'!$A$1:$E$15,5,FALSE),IF($C9=\"ZwRu2\",VLOOKUP($A9,'Lauf ZRB'!$A$1:$E$15,5,FALSE),IF($C9=\"PlSp13-18\",VLOOKUP($A9,'Lauf PlSp13-18'!$A$1:$G$15,5,FALSE),IF($C9=\"PlSp19-24\",VLOOKUP($A9,'Lauf PlSp19-24'!$A$1:$G$15,5,FALSE),IF($C9=\"PlSp25-30\",VLOOKUP($A9,'Lauf PlSp25-30'!$A$1:$G$15,5,FALSE),IF($C9=\"PlSp31-36\",VLOOKUP($A9,'Lauf PlSp31-36'!$A$1:$G$15,5,FALSE),IF($C9=\"PlSp37-42\",VLOOKUP($A9,'Lauf PlSp37-42'!$A$1:$G$15,5,FALSE),IF($C9=\"PlSp43-48\",VLOOKUP($A9,'Lauf PlSp43-48'!$A$1:$G$15,5,FALSE),IF($C9=\"Halbfinale\",VLOOKUP($A9,'Lauf Halbfinale'!$A$1:$G$6,5,FALSE),IF($C9=\"Endrunde\",VLOOKUP($A9,'Lauf Endrunde'!$A$1:$G$6,5,FALSE),))))))))))","v":"Gruppe C5"},null,null,"4.",6,"46-60",4,{"$f":"P$14","v":91},{"$f":"P$15","v":46},{"$f":"P$16","v":47},{"$f":"P$17","v":93},{"$f":"P$18","v":48},{"$f":"P$19","v":49},{"$f":"P$20","v":95},{"$f":"P$21","v":50},{"$f":"P$22","v":51},{"$f":"P$23","v":97},{"$f":"P$24","v":52},{"$f":"P$25","v":53},{"$f":"P$26","v":99},{"$f":"P$27","v":54},{"$f":"P$28","v":55},{"$f":"P$29","v":101},{"$f":"P$30","v":56},{"$f":"P$31","v":57},{"$f":"P$32","v":103},{"$f":"P$33","v":58},{"$f":"P$34","v":59},{"$f":"P$35","v":60},{"$f":"P36","v":130},{"$f":"P37","v":0},{"$f":"P38","v":0},{"$f":"P39","v":0},"D",null,null,null,null,null,null,null,null,null,null,null,null,6,76,6,"PlSp31-36","09:00:00","vv Jubbega","Test Team B",null,"Halbfinale",8]
[7,1,"ZwRu1","09:51:00",{"$f":"IF($C10=\"ZwRu1\",VLOOKUP($A10,'Lauf ZRA'!$A$1:$E$15,4,FALSE),IF($C10=\"ZwRu2\",VLOOKUP($A10,'Lauf ZRB'!$A$1:$E$15,4,FALSE),IF($C10=\"PlSp13-18\",VLOOKUP($A10,'Lauf PlSp13-18'!$A$1:$G$15,4,FALSE),IF($C10=\"PlSp19-24\",VLOOKUP($A10,'Lauf PlSp19-24'!$A$1:$G$15,4,FALSE),IF($C10=\"PlSp25-30\",VLOOKUP($A10,'Lauf PlSp25-30'!$A$1:$G$15,4,FALSE),IF($C10=\"PlSp31-36\",VLOOKUP($A10,'Lauf PlSp31-36'!$A$1:$G$15,4,FALSE),IF($C10=\"PlSp37-42\",VLOOKUP($A10,'Lauf PlSp37-42'!$A$1:$G$15,4,FALSE),IF($C10=\"PlSp43-48\",VLOOKUP($A10,'Lauf PlSp43-48'!$A$1:$G$15,4,FALSE),IF($C10=\"Halbfinale\",VLOOKUP($A10,'Lauf Halbfinale'!$A$1:$G$6,4,FALSE),IF($C10=\"Endrunde\",VLOOKUP($A10,'Lauf Endrunde'!$A$1:$G$6,4,FALSE),))))))))))","v":"Gruppe E2"},{"$f":"IF($C10=\"ZwRu1\",VLOOKUP($A10,'Lauf ZRA'!$A$1:$E$15,5,FALSE),IF($C10=\"ZwRu2\",VLOOKUP($A10,'Lauf ZRB'!$A$1:$E$15,5,FALSE),IF($C10=\"PlSp13-18\",VLOOKUP($A10,'Lauf PlSp13-18'!$A$1:$G$15,5,FALSE),IF($C10=\"PlSp19-24\",VLOOKUP($A10,'Lauf PlSp19-24'!$A$1:$G$15,5,FALSE),IF($C10=\"PlSp25-30\",VLOOKUP($A10,'Lauf PlSp25-30'!$A$1:$G$15,5,FALSE),IF($C10=\"PlSp31-36\",VLOOKUP($A10,'Lauf PlSp31-36'!$A$1:$G$15,5,FALSE),IF($C10=\"PlSp37-42\",VLOOKUP($A10,'Lauf PlSp37-42'!$A$1:$G$15,5,FALSE),IF($C10=\"PlSp43-48\",VLOOKUP($A10,'Lauf PlSp43-48'!$A$1:$G$15,5,FALSE),IF($C10=\"Halbfinale\",VLOOKUP($A10,'Lauf Halbfinale'!$A$1:$G$6,5,FALSE),IF($C10=\"Endrunde\",VLOOKUP($A10,'Lauf Endrunde'!$A$1:$G$6,5,FALSE),))))))))))","v":"Gruppe A4"},null,null,"5.",6,"61-75",5,{"$f":"Q$14","v":61},{"$f":"Q$15","v":107},{"$f":"Q$16","v":62},{"$f":"Q$17","v":63},{"$f":"Q$18","v":109},{"$f":"Q$19","v":64},{"$f":"Q$20","v":65},{"$f":"Q$21","v":111},{"$f":"Q$22","v":66},{"$f":"Q$23","v":67},{"$f":"Q$24","v":113},{"$f":"Q$25","v":68},{"$f":"Q$26","v":69},{"$f":"Q$27","v":115},{"$f":"Q$28","v":70},{"$f":"Q$29","v":71},{"$f":"Q$30","v":117},{"$f":"Q$31","v":72},{"$f":"Q$32","v":73},{"$f":"Q$33","v":119},{"$f":"Q$34","v":74},{"$f":"Q$35","v":75},{"$f":"Q$36","v":0},{"$f":"Q37","v":0},{"$f":"Q38","v":0},{"$f":"Q39","v":0},"E",null,null,null,null,null,null,null,null,null,null,null,null,1,2,1,"ZwRu1","09:12:00","MSG Moormerland Mädchen","TuS Eversten 2",null,"Endrunde",9]
[8,1,"ZwRu1","10:02:00",{"$f":"IF($C11=\"ZwRu1\",VLOOKUP($A11,'Lauf ZRA'!$A$1:$E$15,4,FALSE),IF($C11=\"ZwRu2\",VLOOKUP($A11,'Lauf ZRB'!$A$1:$E$15,4,FALSE),IF($C11=\"PlSp13-18\",VLOOKUP($A11,'Lauf PlSp13-18'!$A$1:$G$15,4,FALSE),IF($C11=\"PlSp19-24\",VLOOKUP($A11,'Lauf PlSp19-24'!$A$1:$G$15,4,FALSE),IF($C11=\"PlSp25-30\",VLOOKUP($A11,'Lauf PlSp25-30'!$A$1:$G$15,4,FALSE),IF($C11=\"PlSp31-36\",VLOOKUP($A11,'Lauf PlSp31-36'!$A$1:$G$15,4,FALSE),IF($C11=\"PlSp37-42\",VLOOKUP($A11,'Lauf PlSp37-42'!$A$1:$G$15,4,FALSE),IF($C11=\"PlSp43-48\",VLOOKUP($A11,'Lauf PlSp43-48'!$A$1:$G$15,4,FALSE),IF($C11=\"Halbfinale\",VLOOKUP($A11,'Lauf Halbfinale'!$A$1:$G$6,4,FALSE),IF($C11=\"Endrunde\",VLOOKUP($A11,'Lauf Endrunde'!$A$1:$G$6,4,FALSE),))))))))))","v":"Gruppe E3"},{"$f":"IF($C11=\"ZwRu1\",VLOOKUP($A11,'Lauf ZRA'!$A$1:$E$15,5,FALSE),IF($C11=\"ZwRu2\",VLOOKUP($A11,'Lauf ZRB'!$A$1:$E$15,5,FALSE),IF($C11=\"PlSp13-18\",VLOOKUP($A11,'Lauf PlSp13-18'!$A$1:$G$15,5,FALSE),IF($C11=\"PlSp19-24\",VLOOKUP($A11,'Lauf PlSp19-24'!$A$1:$G$15,5,FALSE),IF($C11=\"PlSp25-30\",VLOOKUP($A11,'Lauf PlSp25-30'!$A$1:$G$15,5,FALSE),IF($C11=\"PlSp31-36\",VLOOKUP($A11,'Lauf PlSp31-36'!$A$1:$G$15,5,FALSE),IF($C11=\"PlSp37-42\",VLOOKUP($A11,'Lauf PlSp37-42'!$A$1:$G$15,5,FALSE),IF($C11=\"PlSp43-48\",VLOOKUP($A11,'Lauf PlSp43-48'!$A$1:$G$15,5,FALSE),IF($C11=\"Halbfinale\",VLOOKUP($A11,'Lauf Halbfinale'!$A$1:$G$6,5,FALSE),IF($C11=\"Endrunde\",VLOOKUP($A11,'Lauf Endrunde'!$A$1:$G$6,5,FALSE),))))))))))","v":"Gruppe A7"},null,null,"6.",6,"76-90",6,{"$f":"R$14","v":106},{"$f":"R$15","v":76},{"$f":"R$16","v":77},{"$f":"R$17","v":108},{"$f":"R$18","v":78},{"$f":"R$19","v":79},{"$f":"R$20","v":110},{"$f":"R$21","v":80},{"$f":"R$22","v":81},{"$f":"R$23","v":112},{"$f":"R$24","v":82},{"$f":"R$25","v":83},{"$f":"R$26","v":114},{"$f":"R$27","v":84},{"$f":"R$28","v":85},{"$f":"R$29","v":116},{"$f":"R$30","v":86},{"$f":"R$31","v":87},{"$f":"R$32","v":118},{"$f":"R$33","v":88},{"$f":"R$34","v":89},{"$f":"R$35","v":90},{"$f":"R$36","v":0},{"$f":"R37","v":0},{"$f":"R38","v":0},{"$f":"R39","v":0},"F",null,null,null,null,null,null,null,null,null,null,null,null,2,17,2,"ZwRu2","09:12:00","SV Spetzerfehn","TuRa Westrhauderfehn"]
[9,1,"ZwRu1","10:13:00",{"$f":"IF($C12=\"ZwRu1\",VLOOKUP($A12,'Lauf ZRA'!$A$1:$E$15,4,FALSE),IF($C12=\"ZwRu2\",VLOOKUP($A12,'Lauf ZRB'!$A$1:$E$15,4,FALSE),IF($C12=\"PlSp13-18\",VLOOKUP($A12,'Lauf PlSp13-18'!$A$1:$G$15,4,FALSE),IF($C12=\"PlSp19-24\",VLOOKUP($A12,'Lauf PlSp19-24'!$A$1:$G$15,4,FALSE),IF($C12=\"PlSp25-30\",VLOOKUP($A12,'Lauf PlSp25-30'!$A$1:$G$15,4,FALSE),IF($C12=\"PlSp31-36\",VLOOKUP($A12,'Lauf PlSp31-36'!$A$1:$G$15,4,FALSE),IF($C12=\"PlSp37-42\",VLOOKUP($A12,'Lauf PlSp37-42'!$A$1:$G$15,4,FALSE),IF($C12=\"PlSp43-48\",VLOOKUP($A12,'Lauf PlSp43-48'!$A$1:$G$15,4,FALSE),IF($C12=\"Halbfinale\",VLOOKUP($A12,'Lauf Halbfinale'!$A$1:$G$6,4,FALSE),IF($C12=\"Endrunde\",VLOOKUP($A12,'Lauf Endrunde'!$A$1:$G$6,4,FALSE),))))))))))","v":"Gruppe C5"},{"$f":"IF($C12=\"ZwRu1\",VLOOKUP($A12,'Lauf ZRA'!$A$1:$E$15,5,FALSE),IF($C12=\"ZwRu2\",VLOOKUP($A12,'Lauf ZRB'!$A$1:$E$15,5,FALSE),IF($C12=\"PlSp13-18\",VLOOKUP($A12,'Lauf PlSp13-18'!$A$1:$G$15,5,FALSE),IF($C12=\"PlSp19-24\",VLOOKUP($A12,'Lauf PlSp19-24'!$A$1:$G$15,5,FALSE),IF($C12=\"PlSp25-30\",VLOOKUP($A12,'Lauf PlSp25-30'!$A$1:$G$15,5,FALSE),IF($C12=\"PlSp31-36\",VLOOKUP($A12,'Lauf PlSp31-36'!$A$1:$G$15,5,FALSE),IF($C12=\"PlSp37-42\",VLOOKUP($A12,'Lauf PlSp37-42'!$A$1:$G$15,5,FALSE),IF($C12=\"PlSp43-48\",VLOOKUP($A12,'Lauf PlSp43-48'!$A$1:$G$15,5,FALSE),IF($C12=\"Halbfinale\",VLOOKUP($A12,'Lauf Halbfinale'!$A$1:$G$6,5,FALSE),IF($C12=\"Endrunde\",VLOOKUP($A12,'Lauf Endrunde'!$A$1:$G$6,5,FALSE),))))))))))","v":"Gruppe E2"},null,null,"7.",6,"91-105",null,"Ab einer Turniergröße mit 42 Mannschaften!",null,null,null,null,null,null,null,null,null,null,null,null,null,null,null,null,null,null,null,null,null,null,null,null,null,null,null,null,null,null,null,null,null,null,null,null,null,null,7,91,3,"PlSp37-42","09:12:00","Test Team A","TuS Weener"]
[10,1,"ZwRu1",{"$f":"IF(B13=M$13,VLOOKUP(A13,$M$14:$S$39,7,FALSE),IF(B13=N$13,VLOOKUP(A13,$N$14:$S$39,6,FALSE),IF(B13=O$13,VLOOKUP(A13,$O$13:$S$39,5,FALSE),IF(B13=P$13,VLOOKUP(A13,$P$13:$S$39,4,FALSE),IF(B13=Q$13,VLOOKUP(A13,$Q$13:$S$39,3,FALSE),IF(B13=R$13,VLOOKUP(A13,$R$13:$S$39,2,FALSE),\"\"))))))","v":"10:24:00"},{"$f":"IF($C13=\"ZwRu1\",VLOOKUP($A13,'Lauf ZRA'!$A$1:$E$15,4,FALSE),IF($C13=\"ZwRu2\",VLOOKUP($A13,'Lauf ZRB'!$A$1:$E$15,4,FALSE),IF($C13=\"PlSp13-18\",VLOOKUP($A13,'Lauf PlSp13-18'!$A$1:$G$15,4,FALSE),IF($C13=\"PlSp19-24\",VLOOKUP($A13,'Lauf PlSp19-24'!$A$1:$G$15,4,FALSE),IF($C13=\"PlSp25-30\",VLOOKUP($A13,'Lauf PlSp25-30'!$A$1:$G$15,4,FALSE),IF($C13=\"PlSp31-36\",VLOOKUP($A13,'Lauf PlSp31-36'!$A$1:$G$15,4,FALSE),IF($C13=\"PlSp37-42\",VLOOKUP($A13,'Lauf PlSp37-42'!$A$1:$G$15,4,FALSE),IF($C13=\"PlSp43-48\",VLOOKUP($A13,'Lauf PlSp43-48'!$A$1:$G$15,4,FALSE),IF($C13=\"Halbfinale\",VLOOKUP($A13,'Lauf Halbfinale'!$A$1:$G$6,4,FALSE),IF($C13=\"Endrunde\",VLOOKUP($A13,'Lauf Endrunde'!$A$1:$G$6,4,FALSE),))))))))))","v":"Gruppe C8"},{"$f":"IF($C13=\"ZwRu1\",VLOOKUP($A13,'Lauf ZRA'!$A$1:$E$15,5,FALSE),IF($C13=\"ZwRu2\",VLOOKUP($A13,'Lauf ZRB'!$A$1:$E$15,5,FALSE),IF($C13=\"PlSp13-18\",VLOOKUP($A13,'Lauf PlSp13-18'!$A$1:$G$15,5,FALSE),IF($C13=\"PlSp19-24\",VLOOKUP($A13,'Lauf PlSp19-24'!$A$1:$G$15,5,FALSE),IF($C13=\"PlSp25-30\",VLOOKUP($A13,'Lauf PlSp25-30'!$A$1:$G$15,5,FALSE),IF($C13=\"PlSp31-36\",VLOOKUP($A13,'Lauf PlSp31-36'!$A$1:$G$15,5,FALSE),IF($C13=\"PlSp37-42\",VLOOKUP($A13,'Lauf PlSp37-42'!$A$1:$G$15,5,FALSE),IF($C13=\"PlSp43-48\",VLOOKUP($A13,'Lauf PlSp43-48'!$A$1:$G$15,5,FALSE),IF($C13=\"Halbfinale\",VLOOKUP($A13,'Lauf Halbfinale'!$A$1:$G$6,5,FALSE),IF($C13=\"Endrunde\",VLOOKUP($A13,'Lauf Endrunde'!$A$1:$G$6,5,FALSE),))))))))))","v":"Gruppe E3"},null,null,null,null,null,null,1,2,3,4,5,6,null,null,null,null,null,null,null,null,null,null,null,null,null,null,null,null,null,null,null,null,null,null,null,null,null,null,null,null,null,null,null,null,null,4,47,4,"PlSp19-24","09:12:00","Blau-Weiß Papenburg","vv Beilen"]
[11,1,"ZwRu1","10:35:00",{"$f":"IF($C14=\"ZwRu1\",VLOOKUP($A14,'Lauf ZRA'!$A$1:$E$15,4,FALSE),IF($C14=\"ZwRu2\",VLOOKUP($A14,'Lauf ZRB'!$A$1:$E$15,4,FALSE),IF($C14=\"PlSp13-18\",VLOOKUP($A14,'Lauf PlSp13-18'!$A$1:$G$15,4,FALSE),IF($C14=\"PlSp19-24\",VLOOKUP($A14,'Lauf PlSp19-24'!$A$1:$G$15,4,FALSE),IF($C14=\"PlSp25-30\",VLOOKUP($A14,'Lauf PlSp25-30'!$A$1:$G$15,4,FALSE),IF($C14=\"PlSp31-36\",VLOOKUP($A14,'Lauf PlSp31-36'!$A$1:$G$15,4,FALSE),IF($C14=\"PlSp37-42\",VLOOKUP($A14,'Lauf PlSp37-42'!$A$1:$G$15,4,FALSE),IF($C14=\"PlSp43-48\",VLOOKUP($A14,'Lauf PlSp43-48'!$A$1:$G$15,4,FALSE),IF($C14=\"Halbfinale\",VLOOKUP($A14,'Lauf Halbfinale'!$A$1:$G$6,4,FALSE),IF($C14=\"Endrunde\",VLOOKUP($A14,'Lauf Endrunde'!$A$1:$G$6,4,FALSE),))))))))))","v":"Gruppe A7"},{"$f":"IF($C14=\"ZwRu1\",VLOOKUP($A14,'Lauf ZRA'!$A$1:$E$15,5,FALSE),IF($C14=\"ZwRu2\",VLOOKUP($A14,'Lauf ZRB'!$A$1:$E$15,5,FALSE),IF($C14=\"PlSp13-18\",VLOOKUP($A14,'Lauf PlSp13-18'!$A$1:$G$15,5,FALSE),IF($C14=\"PlSp19-24\",VLOOKUP($A14,'Lauf PlSp19-24'!$A$1:$G$15,5,FALSE),IF($C14=\"PlSp25-30\",VLOOKUP($A14,'Lauf PlSp25-30'!$A$1:$G$15,5,FALSE),IF($C14=\"PlSp31-36\",VLOOKUP($A14,'Lauf PlSp31-36'!$A$1:$G$15,5,FALSE),IF($C14=\"PlSp37-42\",VLOOKUP($A14,'Lauf PlSp37-42'!$A$1:$G$15,5,FALSE),IF($C14=\"PlSp43-48\",VLOOKUP($A14,'Lauf PlSp43-48'!$A$1:$G$15,5,FALSE),IF($C14=\"Halbfinale\",VLOOKUP($A14,'Lauf Halbfinale'!$A$1:$G$6,5,FALSE),IF($C14=\"Endrunde\",VLOOKUP($A14,'Lauf Endrunde'!$A$1:$G$6,5,FALSE),))))))))))","v":"Gruppe E2"},null,null,"Halbfinale","106-107",null,{"$f":"B1","v":"08:45:00"},1,16,31,91,61,106,{"$f":"L14","v":"08:45:00"},1,null,null,null,null,null,null,null,null,null,null,null,null,null,null,null,null,null,null,null,null,null,null,null,null,null,null,null,null,null,null,null,5,62,5,"PlSp25-30","09:12:00","Test","Test Team D"]
[12,1,"ZwRu1","10:46:00",{"$f":"IF($C15=\"ZwRu1\",VLOOKUP($A15,'Lauf ZRA'!$A$1:$E$15,4,FALSE),IF($C15=\"ZwRu2\",VLOOKUP($A15,'Lauf ZRB'!$A$1:$E$15,4,FALSE),IF($C15=\"PlSp13-18\",VLOOKUP($A15,'Lauf PlSp13-18'!$A$1:$G$15,4,FALSE),IF($C15=\"PlSp19-24\",VLOOKUP($A15,'Lauf PlSp19-24'!$A$1:$G$15,4,FALSE),IF($C15=\"PlSp25-30\",VLOOKUP($A15,'Lauf PlSp25-30'!$A$1:$G$15,4,FALSE),IF($C15=\"PlSp31-36\",VLOOKUP($A15,'Lauf PlSp31-36'!$A$1:$G$15,4,FALSE),IF($C15=\"PlSp37-42\",VLOOKUP($A15,'Lauf PlSp37-42'!$A$1:$G$15,4,FALSE),IF($C15=\"PlSp43-48\",VLOOKUP($A15,'Lauf PlSp43-48'!$A$1:$G$15,4,FALSE),IF($C15=\"Halbfinale\",VLOOKUP($A15,'Lauf Halbfinale'!$A$1:$G$6,4,FALSE),IF($C15=\"Endrunde\",VLOOKUP($A15,'Lauf Endrunde'!$A$1:$G$6,4,FALSE),))))))))))","v":"Gruppe E3"},{"$f":"IF($C15=\"ZwRu1\",VLOOKUP($A15,'Lauf ZRA'!$A$1:$E$15,5,FALSE),IF($C15=\"ZwRu2\",VLOOKUP($A15,'Lauf ZRB'!$A$1:$E$15,5,FALSE),IF($C15=\"PlSp13-18\",VLOOKUP($A15,'Lauf PlSp13-18'!$A$1:$G$15,5,FALSE),IF($C15=\"PlSp19-24\",VLOOKUP($A15,'Lauf PlSp19-24'!$A$1:$G$15,5,FALSE),IF($C15=\"PlSp25-30\",VLOOKUP($A15,'Lauf PlSp25-30'!$A$1:$G$15,5,FALSE),IF($C15=\"PlSp31-36\",VLOOKUP($A15,'Lauf PlSp31-36'!$A$1:$G$15,5,FALSE),IF($C15=\"PlSp37-42\",VLOOKUP($A15,'Lauf PlSp37-42'!$A$1:$G$15,5,FALSE),IF($C15=\"PlSp43-48\",VLOOKUP($A15,'Lauf PlSp43-48'!$A$1:$G$15,5,FALSE),IF($C15=\"Halbfinale\",VLOOKUP($A15,'Lauf Halbfinale'!$A$1:$G$6,5,FALSE),IF($C15=\"Endrunde\",VLOOKUP($A15,'Lauf Endrunde'!$A$1:$G$6,5,FALSE),))))))))))","v":"Gruppe A4"},null,null,null,"Gr7",{"$f":"VLOOKUP(T15,Vorgaben!$F$10:$G$16,2,FALSE)","v":{"$error":"#N/A"}},{"$f":"IF(ISNA(K15),L14+J$1+$J$2+(E$1*G$1),L14+K15+J$1+$J$2+(E$1*G$1))","v":"08:56:00"},2,17,92,46,107,76,{"$f":"L15","v":"08:56:00"},2,null,null,null,null,null,null,null,null,null,null,null,null,null,null,null,null,null,null,null,null,null,null,null,null,null,null,null,null,null,null,null,6,77,6,"PlSp31-36","09:12:00","JVC Dedemsvaart","SV Borussia Salchendorf"]
[13,1,"ZwRu1","10:57:00",{"$f":"IF($C16=\"ZwRu1\",VLOOKUP($A16,'Lauf ZRA'!$A$1:$E$15,4,FALSE),IF($C16=\"ZwRu2\",VLOOKUP($A16,'Lauf ZRB'!$A$1:$E$15,4,FALSE),IF($C16=\"PlSp13-18\",VLOOKUP($A16,'Lauf PlSp13-18'!$A$1:$G$15,4,FALSE),IF($C16=\"PlSp19-24\",VLOOKUP($A16,'Lauf PlSp19-24'!$A$1:$G$15,4,FALSE),IF($C16=\"PlSp25-30\",VLOOKUP($A16,'Lauf PlSp25-30'!$A$1:$G$15,4,FALSE),IF($C16=\"PlSp31-36\",VLOOKUP($A16,'Lauf PlSp31-36'!$A$1:$G$15,4,FALSE),IF($C16=\"PlSp37-42\",VLOOKUP($A16,'Lauf PlSp37-42'!$A$1:$G$15,4,FALSE),IF($C16=\"PlSp43-48\",VLOOKUP($A16,'Lauf PlSp43-48'!$A$1:$G$15,4,FALSE),IF($C16=\"Halbfinale\",VLOOKUP($A16,'Lauf Halbfinale'!$A$1:$G$6,4,FALSE),IF($C16=\"Endrunde\",VLOOKUP($A16,'Lauf Endrunde'!$A$1:$G$6,4,FALSE),))))))))))","v":"Gruppe C8"},{"$f":"IF($C16=\"ZwRu1\",VLOOKUP($A16,'Lauf ZRA'!$A$1:$E$15,5,FALSE),IF($C16=\"ZwRu2\",VLOOKUP($A16,'Lauf ZRB'!$A$1:$E$15,5,FALSE),IF($C16=\"PlSp13-18\",VLOOKUP($A16,'Lauf PlSp13-18'!$A$1:$G$15,5,FALSE),IF($C16=\"PlSp19-24\",VLOOKUP($A16,'Lauf PlSp19-24'!$A$1:$G$15,5,FALSE),IF($C16=\"PlSp25-30\",VLOOKUP($A16,'Lauf PlSp25-30'!$A$1:$G$15,5,FALSE),IF($C16=\"PlSp31-36\",VLOOKUP($A16,'Lauf PlSp31-36'!$A$1:$G$15,5,FALSE),IF($C16=\"PlSp37-42\",VLOOKUP($A16,'Lauf PlSp37-42'!$A$1:$G$15,5,FALSE),IF($C16=\"PlSp43-48\",VLOOKUP($A16,'Lauf PlSp43-48'!$A$1:$G$15,5,FALSE),IF($C16=\"Halbfinale\",VLOOKUP($A16,'Lauf Halbfinale'!$A$1:$G$6,5,FALSE),IF($C16=\"Endrunde\",VLOOKUP($A16,'Lauf Endrunde'!$A$1:$G$6,5,FALSE),))))))))))","v":"Gruppe A7"},null,null,null,null,{"$f":"VLOOKUP(T16,Vorgaben!$F$10:$G$16,2,FALSE)","v":{"$error":"#N/A"}},{"$f":"IF(ISNA(K16),L15+J$1+$J$2+(E$1*G$1),L15+K16+J$1+$J$2+(E$1*G$1))","v":"09:07:00"},3,18,32,47,62,77,"09:07:00",3,null,null,null,null,null,null,null,null,null,null,null,null,null,null,null,null,null,null,null,null,null,null,null,null,null,null,null,null,null,null,null,1,3,1,"ZwRu1","09:24:00","MSG Moormerland EE","JSG Riede/Emtinghausen EE"]
[14,1,"ZwRu1","11:08:00",{"$f":"IF($C17=\"ZwRu1\",VLOOKUP($A17,'Lauf ZRA'!$A$1:$E$15,4,FALSE),IF($C17=\"ZwRu2\",VLOOKUP($A17,'Lauf ZRB'!$A$1:$E$15,4,FALSE),IF($C17=\"PlSp13-18\",VLOOKUP($A17,'Lauf PlSp13-18'!$A$1:$G$15,4,FALSE),IF($C17=\"PlSp19-24\",VLOOKUP($A17,'Lauf PlSp19-24'!$A$1:$G$15,4,FALSE),IF($C17=\"PlSp25-30\",VLOOKUP($A17,'Lauf PlSp25-30'!$A$1:$G$15,4,FALSE),IF($C17=\"PlSp31-36\",VLOOKUP($A17,'Lauf PlSp31-36'!$A$1:$G$15,4,FALSE),IF($C17=\"PlSp37-42\",VLOOKUP($A17,'Lauf PlSp37-42'!$A$1:$G$15,4,FALSE),IF($C17=\"PlSp43-48\",VLOOKUP($A17,'Lauf PlSp43-48'!$A$1:$G$15,4,FALSE),IF($C17=\"Halbfinale\",VLOOKUP($A17,'Lauf Halbfinale'!$A$1:$G$6,4,FALSE),IF($C17=\"Endrunde\",VLOOKUP($A17,'Lauf Endrunde'!$A$1:$G$6,4,FALSE),))))))))))","v":"Gruppe C5"},{"$f":"IF($C17=\"ZwRu1\",VLOOKUP($A17,'Lauf ZRA'!$A$1:$E$15,5,FALSE),IF($C17=\"ZwRu2\",VLOOKUP($A17,'Lauf ZRB'!$A$1:$E$15,5,FALSE),IF($C17=\"PlSp13-18\",VLOOKUP($A17,'Lauf PlSp13-18'!$A$1:$G$15,5,FALSE),IF($C17=\"PlSp19-24\",VLOOKUP($A17,'Lauf PlSp19-24'!$A$1:$G$15,5,FALSE),IF($C17=\"PlSp25-30\",VLOOKUP($A17,'Lauf PlSp25-30'!$A$1:$G$15,5,FALSE),IF($C17=\"PlSp31-36\",VLOOKUP($A17,'Lauf PlSp31-36'!$A$1:$G$15,5,FALSE),IF($C17=\"PlSp37-42\",VLOOKUP($A17,'Lauf PlSp37-42'!$A$1:$G$15,5,FALSE),IF($C17=\"PlSp43-48\",VLOOKUP($A17,'Lauf PlSp43-48'!$A$1:$G$15,5,FALSE),IF($C17=\"Halbfinale\",VLOOKUP($A17,'Lauf Halbfinale'!$A$1:$G$6,5,FALSE),IF($C17=\"Endrunde\",VLOOKUP($A17,'Lauf Endrunde'!$A$1:$G$6,5,FALSE),))))))))))","v":"Gruppe E3"},null,null,null,null,{"$f":"VLOOKUP(T17,Vorgaben!$F$10:$G$16,2,FALSE)","v":{"$error":"#N/A"}},"09:18:00",4,19,33,93,63,108,"09:18:00",4,null,null,null,null,null,null,null,null,null,null,null,null,null,null,null,null,null,null,null,null,null,null,null,null,null,null,null,null,null,null,null,2,18,2,"ZwRu2","09:24:00","SV Spetzerfehn FF","vv BeilenFF"]
[15,1,"ZwRu1","11:19:00",{"$f":"IF($C18=\"ZwRu1\",VLOOKUP($A18,'Lauf ZRA'!$A$1:$E$15,4,FALSE),IF($C18=\"ZwRu2\",VLOOKUP($A18,'Lauf ZRB'!$A$1:$E$15,4,FALSE),IF($C18=\"PlSp13-18\",VLOOKUP($A18,'Lauf PlSp13-18'!$A$1:$G$15,4,FALSE),IF($C18=\"PlSp19-24\",VLOOKUP($A18,'Lauf PlSp19-24'!$A$1:$G$15,4,FALSE),IF($C18=\"PlSp25-30\",VLOOKUP($A18,'Lauf PlSp25-30'!$A$1:$G$15,4,FALSE),IF($C18=\"PlSp31-36\",VLOOKUP($A18,'Lauf PlSp31-36'!$A$1:$G$15,4,FALSE),IF($C18=\"PlSp37-42\",VLOOKUP($A18,'Lauf PlSp37-42'!$A$1:$G$15,4,FALSE),IF($C18=\"PlSp43-48\",VLOOKUP($A18,'Lauf PlSp43-48'!$A$1:$G$15,4,FALSE),IF($C18=\"Halbfinale\",VLOOKUP($A18,'Lauf Halbfinale'!$A$1:$G$6,4,FALSE),IF($C18=\"Endrunde\",VLOOKUP($A18,'Lauf Endrunde'!$A$1:$G$6,4,FALSE),))))))))))","v":"Gruppe A4"},{"$f":"IF($C18=\"ZwRu1\",VLOOKUP($A18,'Lauf ZRA'!$A$1:$E$15,5,FALSE),IF($C18=\"ZwRu2\",VLOOKUP($A18,'Lauf ZRB'!$A$1:$E$15,5,FALSE),IF($C18=\"PlSp13-18\",VLOOKUP($A18,'Lauf PlSp13-18'!$A$1:$G$15,5,FALSE),IF($C18=\"PlSp19-24\",VLOOKUP($A18,'Lauf PlSp19-24'!$A$1:$G$15,5,FALSE),IF($C18=\"PlSp25-30\",VLOOKUP($A18,'Lauf PlSp25-30'!$A$1:$G$15,5,FALSE),IF($C18=\"PlSp31-36\",VLOOKUP($A18,'Lauf PlSp31-36'!$A$1:$G$15,5,FALSE),IF($C18=\"PlSp37-42\",VLOOKUP($A18,'Lauf PlSp37-42'!$A$1:$G$15,5,FALSE),IF($C18=\"PlSp43-48\",VLOOKUP($A18,'Lauf PlSp43-48'!$A$1:$G$15,5,FALSE),IF($C18=\"Halbfinale\",VLOOKUP($A18,'Lauf Halbfinale'!$A$1:$G$6,5,FALSE),IF($C18=\"Endrunde\",VLOOKUP($A18,'Lauf Endrunde'!$A$1:$G$6,5,FALSE),))))))))))","v":"Gruppe C8"},null,null,null,"Turniergröße",{"$f":"VLOOKUP(T18,Vorgaben!$F$10:$G$16,2,FALSE)","v":{"$error":"#N/A"}},"09:29:00",5,20,94,48,109,78,"09:29:00",5,null,null,null,null,null,null,null,null,null,null,null,null,null,null,null,null,null,null,null,null,null,null,null,null,null,null,null,null,null,null,null,3,32,3,"PlSp13-18","09:24:00","JSG Riede/Emtinghausen","JSG Harderberg/Kloster Oesede 1"]
[16,{"$f":"IF(ISNA(MATCH(A19,$M$6:$M$11,0)),IF(ISNA(MATCH(A19,$N$6:$N$11,0)),IF(ISNA(MATCH(A19,$O$6:$O$11,0)),IF(ISNA(MATCH(A19,$P$6:$P$11,0)),IF(ISNA(MATCH(A19,$Q$6:$Q$11,0)),IF(ISNA(MATCH(A19,$R$6:$R$11,0)),IF(ISNA(MATCH(A19,$S$6:$S$11,0)),IF(ISNA(MATCH(A19,$T$6:$T$11,0)),IF(ISNA(MATCH(A19,$U$6:$U$11,0)),IF(ISNA(MATCH(A19,$V$6:$V$11,0)),IF(ISNA(MATCH(A19,$W$6:$W$11,0)),IF(ISNA(MATCH(A19,$X$6:$X$11,0)),IF(ISNA(MATCH(A19,$Y$6:$Y$11,0)),IF(ISNA(MATCH(A19,$Z$6:$Z$11,0)),IF(ISNA(MATCH(A19,$AA$6:$AA$11,0)),IF(ISNA(MATCH(A19,$AB$6:$AB$11,0)),IF(ISNA(MATCH(A19,$AC$6:$AC$11,0)),IF(ISNA(MATCH(A19,$AD$6:$AD$11,0)),IF(ISNA(MATCH(A19,$AE$6:$AE$11,0)),IF(ISNA(MATCH(A19,$AF$6:$AF$11,0)),IF(ISNA(MATCH(A19,$AG$6:$AG$11,0)),IF(ISNA(MATCH(A19,$AH$6:$AH$11,0)),IF(ISNA(MATCH(A19,$AI$6:$AI$11,0)),IF(ISNA(MATCH(A19,$AJ$6:$AJ$11,0)),IF(ISNA(MATCH(A19,$AK$6:$AK$11,0)),IF(ISNA(MATCH(A19,$AL$6:$AL$11,0)),\"F\",MATCH(A19,$AL$6:$AL$11,0)),MATCH(A19,$AK$6:$AK$11,0)),MATCH(A19,$AJ$6:$AJ$11,0)),MATCH(A19,$AI$6:$AI$11,0)),MATCH(A19,$AH$6:$AH$11,0)),MATCH(A19,$AG$6:$AG$11,0)),MATCH(A19,$AF$6:$AF$11,0)),MATCH(A19,$AE$6:$AE$11,0)),MATCH(A19,$AD$6:$AD$11,0)),MATCH(A19,$AC$6:$AC$11,0)),MATCH(A19,$AB$6:$AB$11,0)),MATCH(A19,$AA$6:$AA$11,0)),MATCH(A19,$Z$6:$Z$11,0)),MATCH(A19,$Y$6:$Y$11,0)),MATCH(A19,$X$6:$X$11,0)),MATCH(A19,$W$6:$W$11,0)),MATCH(A19,$V$6:$V$11,0)),MATCH(A19,$U$6:$U$11,0)),MATCH(A19,$T$6:$T$11,0)),MATCH(A19,$S$6:$S$11,0)),MATCH(A19,$R$6:$R$11,0)),MATCH(A19,$Q$6:$Q$11,0)),MATCH(A19,$P$6:$P$11,0)),MATCH(A19,$O$6:$O$11,0)),MATCH(A19,$N$6:$N$11,0)),MATCH(A19,$M$6:$M$11,0))","v":2},"ZwRu2",{"$f":"IF(B19=M$13,VLOOKUP(A19,$M$14:$S$39,7,FALSE),IF(B19=N$13,VLOOKUP(A19,$N$14:$S$39,6,FALSE),IF(B19=O$13,VLOOKUP(A19,$O$13:$S$39,5,FALSE),IF(B19=P$13,VLOOKUP(A19,$P$13:$S$39,4,FALSE),IF(B19=Q$13,VLOOKUP(A19,$Q$13:$S$39,3,FALSE),IF(B19=R$13,VLOOKUP(A19,$R$13:$S$39,2,FALSE),\"\"))))))","v":"08:45:00"},{"$f":"IF($C19=\"ZwRu1\",VLOOKUP($A19,'Lauf ZRA'!$A$1:$E$15,4,FALSE),IF($C19=\"ZwRu2\",VLOOKUP($A19,'Lauf ZRB'!$A$1:$E$15,4,FALSE),IF($C19=\"PlSp13-18\",VLOOKUP($A19,'Lauf PlSp13-18'!$A$1:$G$15,4,FALSE),IF($C19=\"PlSp19-24\",VLOOKUP($A19,'Lauf PlSp19-24'!$A$1:$G$15,4,FALSE),IF($C19=\"PlSp25-30\",VLOOKUP($A19,'Lauf PlSp25-30'!$A$1:$G$15,4,FALSE),IF($C19=\"PlSp31-36\",VLOOKUP($A19,'Lauf PlSp31-36'!$A$1:$G$15,4,FALSE),IF($C19=\"PlSp37-42\",VLOOKUP($A19,'Lauf PlSp37-42'!$A$1:$G$15,4,FALSE),IF($C19=\"PlSp43-48\",VLOOKUP($A19,'Lauf PlSp43-48'!$A$1:$G$15,4,FALSE),IF($C19=\"Halbfinale\",VLOOKUP($A19,'Lauf Halbfinale'!$A$1:$G$6,4,FALSE),IF($C19=\"Endrunde\",VLOOKUP($A19,'Lauf Endrunde'!$A$1:$G$6,4,FALSE),))))))))))","v":"Gruppe B3"},{"$f":"IF($C19=\"ZwRu1\",VLOOKUP($A19,'Lauf ZRA'!$A$1:$E$15,5,FALSE),IF($C19=\"ZwRu2\",VLOOKUP($A19,'Lauf ZRB'!$A$1:$E$15,5,FALSE),IF($C19=\"PlSp13-18\",VLOOKUP($A19,'Lauf PlSp13-18'!$A$1:$G$15,5,FALSE),IF($C19=\"PlSp19-24\",VLOOKUP($A19,'Lauf PlSp19-24'!$A$1:$G$15,5,FALSE),IF($C19=\"PlSp25-30\",VLOOKUP($A19,'Lauf PlSp25-30'!$A$1:$G$15,5,FALSE),IF($C19=\"PlSp31-36\",VLOOKUP($A19,'Lauf PlSp31-36'!$A$1:$G$15,5,FALSE),IF($C19=\"PlSp37-42\",VLOOKUP($A19,'Lauf PlSp37-42'!$A$1:$G$15,5,FALSE),IF($C19=\"PlSp43-48\",VLOOKUP($A19,'Lauf PlSp43-48'!$A$1:$G$15,5,FALSE),IF($C19=\"Halbfinale\",VLOOKUP($A19,'Lauf Halbfinale'!$A$1:$G$6,5,FALSE),IF($C19=\"Endrunde\",VLOOKUP($A19,'Lauf Endrunde'!$A$1:$G$6,5,FALSE),))))))))))","v":"Gruppe B1"},null,null,null,30,{"$f":"VLOOKUP(T19,Vorgaben!$F$10:$G$16,2,FALSE)","v":{"$error":"#N/A"}},"09:40:00",6,21,34,49,64,79,"09:40:00",6,null,null,null,null,null,null,null,null,null,null,null,null,null,null,null,null,null,null,null,null,null,null,null,null,null,null,null,null,null,null,null,7,92,4,"PlSp37-42","09:24:00","SV Warsingsfehn","VfL \"Fortuna\" Veenhusen 3"]
[17,2,"ZwRu2","08:56:00",{"$f":"IF($C20=\"ZwRu1\",VLOOKUP($A20,'Lauf ZRA'!$A$1:$E$15,4,FALSE),IF($C20=\"ZwRu2\",VLOOKUP($A20,'Lauf ZRB'!$A$1:$E$15,4,FALSE),IF($C20=\"PlSp13-18\",VLOOKUP($A20,'Lauf PlSp13-18'!$A$1:$G$15,4,FALSE),IF($C20=\"PlSp19-24\",VLOOKUP($A20,'Lauf PlSp19-24'!$A$1:$G$15,4,FALSE),IF($C20=\"PlSp25-30\",VLOOKUP($A20,'Lauf PlSp25-30'!$A$1:$G$15,4,FALSE),IF($C20=\"PlSp31-36\",VLOOKUP($A20,'Lauf PlSp31-36'!$A$1:$G$15,4,FALSE),IF($C20=\"PlSp37-42\",VLOOKUP($A20,'Lauf PlSp37-42'!$A$1:$G$15,4,FALSE),IF($C20=\"PlSp43-48\",VLOOKUP($A20,'Lauf PlSp43-48'!$A$1:$G$15,4,FALSE),IF($C20=\"Halbfinale\",VLOOKUP($A20,'Lauf Halbfinale'!$A$1:$G$6,4,FALSE),IF($C20=\"Endrunde\",VLOOKUP($A20,'Lauf Endrunde'!$A$1:$G$6,4,FALSE),))))))))))","v":"Gruppe D8"},{"$f":"IF($C20=\"ZwRu1\",VLOOKUP($A20,'Lauf ZRA'!$A$1:$E$15,5,FALSE),IF($C20=\"ZwRu2\",VLOOKUP($A20,'Lauf ZRB'!$A$1:$E$15,5,FALSE),IF($C20=\"PlSp13-18\",VLOOKUP($A20,'Lauf PlSp13-18'!$A$1:$G$15,5,FALSE),IF($C20=\"PlSp19-24\",VLOOKUP($A20,'Lauf PlSp19-24'!$A$1:$G$15,5,FALSE),IF($C20=\"PlSp25-30\",VLOOKUP($A20,'Lauf PlSp25-30'!$A$1:$G$15,5,FALSE),IF($C20=\"PlSp31-36\",VLOOKUP($A20,'Lauf PlSp31-36'!$A$1:$G$15,5,FALSE),IF($C20=\"PlSp37-42\",VLOOKUP($A20,'Lauf PlSp37-42'!$A$1:$G$15,5,FALSE),IF($C20=\"PlSp43-48\",VLOOKUP($A20,'Lauf PlSp43-48'!$A$1:$G$15,5,FALSE),IF($C20=\"Halbfinale\",VLOOKUP($A20,'Lauf Halbfinale'!$A$1:$G$6,5,FALSE),IF($C20=\"Endrunde\",VLOOKUP($A20,'Lauf Endrunde'!$A$1:$G$6,5,FALSE),))))))))))","v":"Gruppe D7"},null,null,null,36,{"$f":"VLOOKUP(T20,Vorgaben!$F$10:$G$16,2,FALSE)","v":{"$error":"#N/A"}},"09:51:00",7,22,35,95,65,110,"09:51:00",7,null,null,null,null,null,null,null,null,null,null,null,null,null,null,null,null,null,null,null,null,null,null,null,null,null,null,null,null,null,null,null,5,63,5,"PlSp25-30","09:24:00","Willy","Ammi"]
[18,2,"ZwRu2","09:07:00",{"$f":"IF($C21=\"ZwRu1\",VLOOKUP($A21,'Lauf ZRA'!$A$1:$E$15,4,FALSE),IF($C21=\"ZwRu2\",VLOOKUP($A21,'Lauf ZRB'!$A$1:$E$15,4,FALSE),IF($C21=\"PlSp13-18\",VLOOKUP($A21,'Lauf PlSp13-18'!$A$1:$G$15,4,FALSE),IF($C21=\"PlSp19-24\",VLOOKUP($A21,'Lauf PlSp19-24'!$A$1:$G$15,4,FALSE),IF($C21=\"PlSp25-30\",VLOOKUP($A21,'Lauf PlSp25-30'!$A$1:$G$15,4,FALSE),IF($C21=\"PlSp31-36\",VLOOKUP($A21,'Lauf PlSp31-36'!$A$1:$G$15,4,FALSE),IF($C21=\"PlSp37-42\",VLOOKUP($A21,'Lauf PlSp37-42'!$A$1:$G$15,4,FALSE),IF($C21=\"PlSp43-48\",VLOOKUP($A21,'Lauf PlSp43-48'!$A$1:$G$15,4,FALSE),IF($C21=\"Halbfinale\",VLOOKUP($A21,'Lauf Halbfinale'!$A$1:$G$6,4,FALSE),IF($C21=\"Endrunde\",VLOOKUP($A21,'Lauf Endrunde'!$A$1:$G$6,4,FALSE),))))))))))","v":"Gruppe F8"},{"$f":"IF($C21=\"ZwRu1\",VLOOKUP($A21,'Lauf ZRA'!$A$1:$E$15,5,FALSE),IF($C21=\"ZwRu2\",VLOOKUP($A21,'Lauf ZRB'!$A$1:$E$15,5,FALSE),IF($C21=\"PlSp13-18\",VLOOKUP($A21,'Lauf PlSp13-18'!$A$1:$G$15,5,FALSE),IF($C21=\"PlSp19-24\",VLOOKUP($A21,'Lauf PlSp19-24'!$A$1:$G$15,5,FALSE),IF($C21=\"PlSp25-30\",VLOOKUP($A21,'Lauf PlSp25-30'!$A$1:$G$15,5,FALSE),IF($C21=\"PlSp31-36\",VLOOKUP($A21,'Lauf PlSp31-36'!$A$1:$G$15,5,FALSE),IF($C21=\"PlSp37-42\",VLOOKUP($A21,'Lauf PlSp37-42'!$A$1:$G$15,5,FALSE),IF($C21=\"PlSp43-48\",VLOOKUP($A21,'Lauf PlSp43-48'!$A$1:$G$15,5,FALSE),IF($C21=\"Halbfinale\",VLOOKUP($A21,'Lauf Halbfinale'!$A$1:$G$6,5,FALSE),IF($C21=\"Endrunde\",VLOOKUP($A21,'Lauf Endrunde'!$A$1:$G$6,5,FALSE),))))))))))","v":"Gruppe F5"},null,null,null,42,{"$f":"VLOOKUP(T21,Vorgaben!$F$10:$G$16,2,FALSE)","v":{"$error":"#N/A"}},"10:02:00",8,23,96,50,111,80,"10:02:00",8,null,null,null,null,null,null,null,null,null,null,null,null,null,null,null,null,null,null,null,null,null,null,null,null,null,null,null,null,null,null,null,6,78,6,"PlSp31-36","09:24:00","JVC Dedemsvaart EE","SV Borussia Salchendorf FF"]
[19,2,"ZwRu2","09:18:00",{"$f":"IF($C22=\"ZwRu1\",VLOOKUP($A22,'Lauf ZRA'!$A$1:$E$15,4,FALSE),IF($C22=\"ZwRu2\",VLOOKUP($A22,'Lauf ZRB'!$A$1:$E$15,4,FALSE),IF($C22=\"PlSp13-18\",VLOOKUP($A22,'Lauf PlSp13-18'!$A$1:$G$15,4,FALSE),IF($C22=\"PlSp19-24\",VLOOKUP($A22,'Lauf PlSp19-24'!$A$1:$G$15,4,FALSE),IF($C22=\"PlSp25-30\",VLOOKUP($A22,'Lauf PlSp25-30'!$A$1:$G$15,4,FALSE),IF($C22=\"PlSp31-36\",VLOOKUP($A22,'Lauf PlSp31-36'!$A$1:$G$15,4,FALSE),IF($C22=\"PlSp37-42\",VLOOKUP($A22,'Lauf PlSp37-42'!$A$1:$G$15,4,FALSE),IF($C22=\"PlSp43-48\",VLOOKUP($A22,'Lauf PlSp43-48'!$A$1:$G$15,4,FALSE),IF($C22=\"Halbfinale\",VLOOKUP($A22,'Lauf Halbfinale'!$A$1:$G$6,4,FALSE),IF($C22=\"Endrunde\",VLOOKUP($A22,'Lauf Endrunde'!$A$1:$G$6,4,FALSE),))))))))))","v":"Gruppe B1"},{"$f":"IF($C22=\"ZwRu1\",VLOOKUP($A22,'Lauf ZRA'!$A$1:$E$15,5,FALSE),IF($C22=\"ZwRu2\",VLOOKUP($A22,'Lauf ZRB'!$A$1:$E$15,5,FALSE),IF($C22=\"PlSp13-18\",VLOOKUP($A22,'Lauf PlSp13-18'!$A$1:$G$15,5,FALSE),IF($C22=\"PlSp19-24\",VLOOKUP($A22,'Lauf PlSp19-24'!$A$1:$G$15,5,FALSE),IF($C22=\"PlSp25-30\",VLOOKUP($A22,'Lauf PlSp25-30'!$A$1:$G$15,5,FALSE),IF($C22=\"PlSp31-36\",VLOOKUP($A22,'Lauf PlSp31-36'!$A$1:$G$15,5,FALSE),IF($C22=\"PlSp37-42\",VLOOKUP($A22,'Lauf PlSp37-42'!$A$1:$G$15,5,FALSE),IF($C22=\"PlSp43-48\",VLOOKUP($A22,'Lauf PlSp43-48'!$A$1:$G$15,5,FALSE),IF($C22=\"Halbfinale\",VLOOKUP($A22,'Lauf Halbfinale'!$A$1:$G$6,5,FALSE),IF($C22=\"Endrunde\",VLOOKUP($A22,'Lauf Endrunde'!$A$1:$G$6,5,FALSE),))))))))))","v":"Gruppe D8"},null,null,null,48,{"$f":"VLOOKUP(T22,Vorgaben!$F$10:$G$16,2,FALSE)","v":{"$error":"#N/A"}},"10:13:00",9,24,36,51,66,81,"10:13:00",9,null,null,null,null,null,null,null,null,null,null,null,null,null,null,null,null,null,null,null,null,null,null,null,null,null,null,null,null,null,null,null,1,4,1,"ZwRu1","09:36:00","VfL \"Fortuna\" Veenhusen 1","MSG Moormerland Mädchen"]
[20,2,"ZwRu2","09:29:00",{"$f":"IF($C23=\"ZwRu1\",VLOOKUP($A23,'Lauf ZRA'!$A$1:$E$15,4,FALSE),IF($C23=\"ZwRu2\",VLOOKUP($A23,'Lauf ZRB'!$A$1:$E$15,4,FALSE),IF($C23=\"PlSp13-18\",VLOOKUP($A23,'Lauf PlSp13-18'!$A$1:$G$15,4,FALSE),IF($C23=\"PlSp19-24\",VLOOKUP($A23,'Lauf PlSp19-24'!$A$1:$G$15,4,FALSE),IF($C23=\"PlSp25-30\",VLOOKUP($A23,'Lauf PlSp25-30'!$A$1:$G$15,4,FALSE),IF($C23=\"PlSp31-36\",VLOOKUP($A23,'Lauf PlSp31-36'!$A$1:$G$15,4,FALSE),IF($C23=\"PlSp37-42\",VLOOKUP($A23,'Lauf PlSp37-42'!$A$1:$G$15,4,FALSE),IF($C23=\"PlSp43-48\",VLOOKUP($A23,'Lauf PlSp43-48'!$A$1:$G$15,4,FALSE),IF($C23=\"Halbfinale\",VLOOKUP($A23,'Lauf Halbfinale'!$A$1:$G$6,4,FALSE),IF($C23=\"Endrunde\",VLOOKUP($A23,'Lauf Endrunde'!$A$1:$G$6,4,FALSE),))))))))))","v":"Gruppe D7"},{"$f":"IF($C23=\"ZwRu1\",VLOOKUP($A23,'Lauf ZRA'!$A$1:$E$15,5,FALSE),IF($C23=\"ZwRu2\",VLOOKUP($A23,'Lauf ZRB'!$A$1:$E$15,5,FALSE),IF($C23=\"PlSp13-18\",VLOOKUP($A23,'Lauf PlSp13-18'!$A$1:$G$15,5,FALSE),IF($C23=\"PlSp19-24\",VLOOKUP($A23,'Lauf PlSp19-24'!$A$1:$G$15,5,FALSE),IF($C23=\"PlSp25-30\",VLOOKUP($A23,'Lauf PlSp25-30'!$A$1:$G$15,5,FALSE),IF($C23=\"PlSp31-36\",VLOOKUP($A23,'Lauf PlSp31-36'!$A$1:$G$15,5,FALSE),IF($C23=\"PlSp37-42\",VLOOKUP($A23,'Lauf PlSp37-42'!$A$1:$G$15,5,FALSE),IF($C23=\"PlSp43-48\",VLOOKUP($A23,'Lauf PlSp43-48'!$A$1:$G$15,5,FALSE),IF($C23=\"Halbfinale\",VLOOKUP($A23,'Lauf Halbfinale'!$A$1:$G$6,5,FALSE),IF($C23=\"Endrunde\",VLOOKUP($A23,'Lauf Endrunde'!$A$1:$G$6,5,FALSE),))))))))))","v":"Gruppe F8"},null,null,null,null,{"$f":"VLOOKUP(T23,Vorgaben!$F$10:$G$16,2,FALSE)","v":{"$error":"#N/A"}},"10:24:00",10,25,37,97,67,112,"10:24:00",10,null,null,null,null,null,null,null,null,null,null,null,null,null,null,null,null,null,null,null,null,null,null,null,null,null,null,null,null,null,null,null,2,19,2,"ZwRu2","09:36:00","VfL \"Fortuna\" Veenhusen 2","SV Spetzerfehn"]
[21,2,"ZwRu2","09:40:00",{"$f":"IF($C24=\"ZwRu1\",VLOOKUP($A24,'Lauf ZRA'!$A$1:$E$15,4,FALSE),IF($C24=\"ZwRu2\",VLOOKUP($A24,'Lauf ZRB'!$A$1:$E$15,4,FALSE),IF($C24=\"PlSp13-18\",VLOOKUP($A24,'Lauf PlSp13-18'!$A$1:$G$15,4,FALSE),IF($C24=\"PlSp19-24\",VLOOKUP($A24,'Lauf PlSp19-24'!$A$1:$G$15,4,FALSE),IF($C24=\"PlSp25-30\",VLOOKUP($A24,'Lauf PlSp25-30'!$A$1:$G$15,4,FALSE),IF($C24=\"PlSp31-36\",VLOOKUP($A24,'Lauf PlSp31-36'!$A$1:$G$15,4,FALSE),IF($C24=\"PlSp37-42\",VLOOKUP($A24,'Lauf PlSp37-42'!$A$1:$G$15,4,FALSE),IF($C24=\"PlSp43-48\",VLOOKUP($A24,'Lauf PlSp43-48'!$A$1:$G$15,4,FALSE),IF($C24=\"Halbfinale\",VLOOKUP($A24,'Lauf Halbfinale'!$A$1:$G$6,4,FALSE),IF($C24=\"Endrunde\",VLOOKUP($A24,'Lauf Endrunde'!$A$1:$G$6,4,FALSE),))))))))))","v":"Gruppe B3"},{"$f":"IF($C24=\"ZwRu1\",VLOOKUP($A24,'Lauf ZRA'!$A$1:$E$15,5,FALSE),IF($C24=\"ZwRu2\",VLOOKUP($A24,'Lauf ZRB'!$A$1:$E$15,5,FALSE),IF($C24=\"PlSp13-18\",VLOOKUP($A24,'Lauf PlSp13-18'!$A$1:$G$15,5,FALSE),IF($C24=\"PlSp19-24\",VLOOKUP($A24,'Lauf PlSp19-24'!$A$1:$G$15,5,FALSE),IF($C24=\"PlSp25-30\",VLOOKUP($A24,'Lauf PlSp25-30'!$A$1:$G$15,5,FALSE),IF($C24=\"PlSp31-36\",VLOOKUP($A24,'Lauf PlSp31-36'!$A$1:$G$15,5,FALSE),IF($C24=\"PlSp37-42\",VLOOKUP($A24,'Lauf PlSp37-42'!$A$1:$G$15,5,FALSE),IF($C24=\"PlSp43-48\",VLOOKUP($A24,'Lauf PlSp43-48'!$A$1:$G$15,5,FALSE),IF($C24=\"Halbfinale\",VLOOKUP($A24,'Lauf Halbfinale'!$A$1:$G$6,5,FALSE),IF($C24=\"Endrunde\",VLOOKUP($A24,'Lauf Endrunde'!$A$1:$G$6,5,FALSE),))))))))))","v":"Gruppe D8"},null,null,null,null,{"$f":"VLOOKUP(T24,Vorgaben!$F$10:$G$16,2,FALSE)","v":{"$error":"#N/A"}},"10:35:00",11,26,98,52,113,82,"10:35:00",11,null,null,null,null,null,null,null,null,null,null,null,null,null,null,null,null,null,null,null,null,null,null,null,null,null,null,null,null,null,null,null,3,33,3,"PlSp13-18","09:36:00","Blau-Weiß Papenburg EE","TuRa Westrhauderfehn FF"]
[22,2,"ZwRu2","09:51:00",{"$f":"IF($C25=\"ZwRu1\",VLOOKUP($A25,'Lauf ZRA'!$A$1:$E$15,4,FALSE),IF($C25=\"ZwRu2\",VLOOKUP($A25,'Lauf ZRB'!$A$1:$E$15,4,FALSE),IF($C25=\"PlSp13-18\",VLOOKUP($A25,'Lauf PlSp13-18'!$A$1:$G$15,4,FALSE),IF($C25=\"PlSp19-24\",VLOOKUP($A25,'Lauf PlSp19-24'!$A$1:$G$15,4,FALSE),IF($C25=\"PlSp25-30\",VLOOKUP($A25,'Lauf PlSp25-30'!$A$1:$G$15,4,FALSE),IF($C25=\"PlSp31-36\",VLOOKUP($A25,'Lauf PlSp31-36'!$A$1:$G$15,4,FALSE),IF($C25=\"PlSp37-42\",VLOOKUP($A25,'Lauf PlSp37-42'!$A$1:$G$15,4,FALSE),IF($C25=\"PlSp43-48\",VLOOKUP($A25,'Lauf PlSp43-48'!$A$1:$G$15,4,FALSE),IF($C25=\"Halbfinale\",VLOOKUP($A25,'Lauf Halbfinale'!$A$1:$G$6,4,FALSE),IF($C25=\"Endrunde\",VLOOKUP($A25,'Lauf Endrunde'!$A$1:$G$6,4,FALSE),))))))))))","v":"Gruppe F8"},{"$f":"IF($C25=\"ZwRu1\",VLOOKUP($A25,'Lauf ZRA'!$A$1:$E$15,5,FALSE),IF($C25=\"ZwRu2\",VLOOKUP($A25,'Lauf ZRB'!$A$1:$E$15,5,FALSE),IF($C25=\"PlSp13-18\",VLOOKUP($A25,'Lauf PlSp13-18'!$A$1:$G$15,5,FALSE),IF($C25=\"PlSp19-24\",VLOOKUP($A25,'Lauf PlSp19-24'!$A$1:$G$15,5,FALSE),IF($C25=\"PlSp25-30\",VLOOKUP($A25,'Lauf PlSp25-30'!$A$1:$G$15,5,FALSE),IF($C25=\"PlSp31-36\",VLOOKUP($A25,'Lauf PlSp31-36'!$A$1:$G$15,5,FALSE),IF($C25=\"PlSp37-42\",VLOOKUP($A25,'Lauf PlSp37-42'!$A$1:$G$15,5,FALSE),IF($C25=\"PlSp43-48\",VLOOKUP($A25,'Lauf PlSp43-48'!$A$1:$G$15,5,FALSE),IF($C25=\"Halbfinale\",VLOOKUP($A25,'Lauf Halbfinale'!$A$1:$G$6,5,FALSE),IF($C25=\"Endrunde\",VLOOKUP($A25,'Lauf Endrunde'!$A$1:$G$6,5,FALSE),))))))))))","v":"Gruppe B1"},null,null,null,null,{"$f":"VLOOKUP(T25,Vorgaben!$F$10:$G$16,2,FALSE)","v":{"$error":"#N/A"}},"10:46:00",12,27,38,53,68,83,"10:46:00",12,null,null,null,null,null,null,null,null,null,null,null,null,null,null,null,null,null,null,null,null,null,null,null,null,null,null,null,null,null,null,null,4,48,4,"PlSp19-24","09:36:00","TuS Eversten 2 EE","JSG Harderberg/Kloster Oesede 1 FF"]
[23,2,"ZwRu2","10:02:00",{"$f":"IF($C26=\"ZwRu1\",VLOOKUP($A26,'Lauf ZRA'!$A$1:$E$15,4,FALSE),IF($C26=\"ZwRu2\",VLOOKUP($A26,'Lauf ZRB'!$A$1:$E$15,4,FALSE),IF($C26=\"PlSp13-18\",VLOOKUP($A26,'Lauf PlSp13-18'!$A$1:$G$15,4,FALSE),IF($C26=\"PlSp19-24\",VLOOKUP($A26,'Lauf PlSp19-24'!$A$1:$G$15,4,FALSE),IF($C26=\"PlSp25-30\",VLOOKUP($A26,'Lauf PlSp25-30'!$A$1:$G$15,4,FALSE),IF($C26=\"PlSp31-36\",VLOOKUP($A26,'Lauf PlSp31-36'!$A$1:$G$15,4,FALSE),IF($C26=\"PlSp37-42\",VLOOKUP($A26,'Lauf PlSp37-42'!$A$1:$G$15,4,FALSE),IF($C26=\"PlSp43-48\",VLOOKUP($A26,'Lauf PlSp43-48'!$A$1:$G$15,4,FALSE),IF($C26=\"Halbfinale\",VLOOKUP($A26,'Lauf Halbfinale'!$A$1:$G$6,4,FALSE),IF($C26=\"Endrunde\",VLOOKUP($A26,'Lauf Endrunde'!$A$1:$G$6,4,FALSE),))))))))))","v":"Gruppe F5"},{"$f":"IF($C26=\"ZwRu1\",VLOOKUP($A26,'Lauf ZRA'!$A$1:$E$15,5,FALSE),IF($C26=\"ZwRu2\",VLOOKUP($A26,'Lauf ZRB'!$A$1:$E$15,5,FALSE),IF($C26=\"PlSp13-18\",VLOOKUP($A26,'Lauf PlSp13-18'!$A$1:$G$15,5,FALSE),IF($C26=\"PlSp19-24\",VLOOKUP($A26,'Lauf PlSp19-24'!$A$1:$G$15,5,FALSE),IF($C26=\"PlSp25-30\",VLOOKUP($A26,'Lauf PlSp25-30'!$A$1:$G$15,5,FALSE),IF($C26=\"PlSp31-36\",VLOOKUP($A26,'Lauf PlSp31-36'!$A$1:$G$15,5,FALSE),IF($C26=\"PlSp37-42\",VLOOKUP($A26,'Lauf PlSp37-42'!$A$1:$G$15,5,FALSE),IF($C26=\"PlSp43-48\",VLOOKUP($A26,'Lauf PlSp43-48'!$A$1:$G$15,5,FALSE),IF($C26=\"Halbfinale\",VLOOKUP($A26,'Lauf Halbfinale'!$A$1:$G$6,5,FALSE),IF($C26=\"Endrunde\",VLOOKUP($A26,'Lauf Endrunde'!$A$1:$G$6,5,FALSE),))))))))))","v":"Gruppe B3"},null,null,null,null,{"$f":"VLOOKUP(T26,Vorgaben!$F$10:$G$16,2,FALSE)","v":{"$error":"#N/A"}},"10:57:00",13,28,39,99,69,114,"10:57:00",13,null,null,null,null,null,null,null,null,null,null,null,null,null,null,null,null,null,null,null,null,null,null,null,null,null,null,null,null,null,null,null,7,93,5,"PlSp37-42","09:36:00","SV Warsingsfehn EE","VfL \"Fortuna\" Veenhusen 3 FF"]
[24,2,"ZwRu2","10:13:00",{"$f":"IF($C27=\"ZwRu1\",VLOOKUP($A27,'Lauf ZRA'!$A$1:$E$15,4,FALSE),IF($C27=\"ZwRu2\",VLOOKUP($A27,'Lauf ZRB'!$A$1:$E$15,4,FALSE),IF($C27=\"PlSp13-18\",VLOOKUP($A27,'Lauf PlSp13-18'!$A$1:$G$15,4,FALSE),IF($C27=\"PlSp19-24\",VLOOKUP($A27,'Lauf PlSp19-24'!$A$1:$G$15,4,FALSE),IF($C27=\"PlSp25-30\",VLOOKUP($A27,'Lauf PlSp25-30'!$A$1:$G$15,4,FALSE),IF($C27=\"PlSp31-36\",VLOOKUP($A27,'Lauf PlSp31-36'!$A$1:$G$15,4,FALSE),IF($C27=\"PlSp37-42\",VLOOKUP($A27,'Lauf PlSp37-42'!$A$1:$G$15,4,FALSE),IF($C27=\"PlSp43-48\",VLOOKUP($A27,'Lauf PlSp43-48'!$A$1:$G$15,4,FALSE),IF($C27=\"Halbfinale\",VLOOKUP($A27,'Lauf Halbfinale'!$A$1:$G$6,4,FALSE),IF($C27=\"Endrunde\",VLOOKUP($A27,'Lauf Endrunde'!$A$1:$G$6,4,FALSE),))))))))))","v":"Gruppe D8"},{"$f":"IF($C27=\"ZwRu1\",VLOOKUP($A27,'Lauf ZRA'!$A$1:$E$15,5,FALSE),IF($C27=\"ZwRu2\",VLOOKUP($A27,'Lauf ZRB'!$A$1:$E$15,5,FALSE),IF($C27=\"PlSp13-18\",VLOOKUP($A27,'Lauf PlSp13-18'!$A$1:$G$15,5,FALSE),IF($C27=\"PlSp19-24\",VLOOKUP($A27,'Lauf PlSp19-24'!$A$1:$G$15,5,FALSE),IF($C27=\"PlSp25-30\",VLOOKUP($A27,'Lauf PlSp25-30'!$A$1:$G$15,5,FALSE),IF($C27=\"PlSp31-36\",VLOOKUP($A27,'Lauf PlSp31-36'!$A$1:$G$15,5,FALSE),IF($C27=\"PlSp37-42\",VLOOKUP($A27,'Lauf PlSp37-42'!$A$1:$G$15,5,FALSE),IF($C27=\"PlSp43-48\",VLOOKUP($A27,'Lauf PlSp43-48'!$A$1:$G$15,5,FALSE),IF($C27=\"Halbfinale\",VLOOKUP($A27,'Lauf Halbfinale'!$A$1:$G$6,5,FALSE),IF($C27=\"Endrunde\",VLOOKUP($A27,'Lauf Endrunde'!$A$1:$G$6,5,FALSE),))))))))))","v":"Gruppe F8"},null,null,null,null,{"$f":"VLOOKUP(T27,Vorgaben!$F$10:$G$16,2,FALSE)","v":{"$error":"#N/A"}},"11:08:00",14,29,100,54,115,84,"11:08:00",14,null,null,null,null,null,null,null,null,null,null,null,null,null,null,null,null,null,null,null,null,null,null,null,null,null,null,null,null,null,null,null,6,79,6,"PlSp31-36","09:36:00","Test Team B","JVC Dedemsvaart"]
[25,2,"ZwRu2","10:24:00",{"$f":"IF($C28=\"ZwRu1\",VLOOKUP($A28,'Lauf ZRA'!$A$1:$E$15,4,FALSE),IF($C28=\"ZwRu2\",VLOOKUP($A28,'Lauf ZRB'!$A$1:$E$15,4,FALSE),IF($C28=\"PlSp13-18\",VLOOKUP($A28,'Lauf PlSp13-18'!$A$1:$G$15,4,FALSE),IF($C28=\"PlSp19-24\",VLOOKUP($A28,'Lauf PlSp19-24'!$A$1:$G$15,4,FALSE),IF($C28=\"PlSp25-30\",VLOOKUP($A28,'Lauf PlSp25-30'!$A$1:$G$15,4,FALSE),IF($C28=\"PlSp31-36\",VLOOKUP($A28,'Lauf PlSp31-36'!$A$1:$G$15,4,FALSE),IF($C28=\"PlSp37-42\",VLOOKUP($A28,'Lauf PlSp37-42'!$A$1:$G$15,4,FALSE),IF($C28=\"PlSp43-48\",VLOOKUP($A28,'Lauf PlSp43-48'!$A$1:$G$15,4,FALSE),IF($C28=\"Halbfinale\",VLOOKUP($A28,'Lauf Halbfinale'!$A$1:$G$6,4,FALSE),IF($C28=\"Endrunde\",VLOOKUP($A28,'Lauf Endrunde'!$A$1:$G$6,4,FALSE),))))))))))","v":"Gruppe D7"},{"$f":"IF($C28=\"ZwRu1\",VLOOKUP($A28,'Lauf ZRA'!$A$1:$E$15,5,FALSE),IF($C28=\"ZwRu2\",VLOOKUP($A28,'Lauf ZRB'!$A$1:$E$15,5,FALSE),IF($C28=\"PlSp13-18\",VLOOKUP($A28,'Lauf PlSp13-18'!$A$1:$G$15,5,FALSE),IF($C28=\"PlSp19-24\",VLOOKUP($A28,'Lauf PlSp19-24'!$A$1:$G$15,5,FALSE),IF($C28=\"PlSp25-30\",VLOOKUP($A28,'Lauf PlSp25-30'!$A$1:$G$15,5,FALSE),IF($C28=\"PlSp31-36\",VLOOKUP($A28,'Lauf PlSp31-36'!$A$1:$G$15,5,FALSE),IF($C28=\"PlSp37-42\",VLOOKUP($A28,'Lauf PlSp37-42'!$A$1:$G$15,5,FALSE),IF($C28=\"PlSp43-48\",VLOOKUP($A28,'Lauf PlSp43-48'!$A$1:$G$15,5,FALSE),IF($C28=\"Halbfinale\",VLOOKUP($A28,'Lauf Halbfinale'!$A$1:$G$6,5,FALSE),IF($C28=\"Endrunde\",VLOOKUP($A28,'Lauf Endrunde'!$A$1:$G$6,5,FALSE),))))))))))","v":"Gruppe F5"},null,null,null,null,{"$f":"VLOOKUP(T28,Vorgaben!$F$10:$G$16,2,FALSE)","v":{"$error":"#N/A"}},"11:19:00",15,30,40,55,70,85,"11:19:00",15,null,null,null,null,null,null,null,null,null,null,null,null,null,null,null,null,null,null,null,null,null,null,null,null,null,null,null,null,null,null,null,1,5,1,"ZwRu1","09:48:00","TuS Eversten 2","MSG Moormerland EE"]
[26,2,"ZwRu2","10:35:00",{"$f":"IF($C29=\"ZwRu1\",VLOOKUP($A29,'Lauf ZRA'!$A$1:$E$15,4,FALSE),IF($C29=\"ZwRu2\",VLOOKUP($A29,'Lauf ZRB'!$A$1:$E$15,4,FALSE),IF($C29=\"PlSp13-18\",VLOOKUP($A29,'Lauf PlSp13-18'!$A$1:$G$15,4,FALSE),IF($C29=\"PlSp19-24\",VLOOKUP($A29,'Lauf PlSp19-24'!$A$1:$G$15,4,FALSE),IF($C29=\"PlSp25-30\",VLOOKUP($A29,'Lauf PlSp25-30'!$A$1:$G$15,4,FALSE),IF($C29=\"PlSp31-36\",VLOOKUP($A29,'Lauf PlSp31-36'!$A$1:$G$15,4,FALSE),IF($C29=\"PlSp37-42\",VLOOKUP($A29,'Lauf PlSp37-42'!$A$1:$G$15,4,FALSE),IF($C29=\"PlSp43-48\",VLOOKUP($A29,'Lauf PlSp43-48'!$A$1:$G$15,4,FALSE),IF($C29=\"Halbfinale\",VLOOKUP($A29,'Lauf Halbfinale'!$A$1:$G$6,4,FALSE),IF($C29=\"Endrunde\",VLOOKUP($A29,'Lauf Endrunde'!$A$1:$G$6,4,FALSE),))))))))))","v":"Gruppe B3"},{"$f":"IF($C29=\"ZwRu1\",VLOOKUP($A29,'Lauf ZRA'!$A$1:$E$15,5,FALSE),IF($C29=\"ZwRu2\",VLOOKUP($A29,'Lauf ZRB'!$A$1:$E$15,5,FALSE),IF($C29=\"PlSp13-18\",VLOOKUP($A29,'Lauf PlSp13-18'!$A$1:$G$15,5,FALSE),IF($C29=\"PlSp19-24\",VLOOKUP($A29,'Lauf PlSp19-24'!$A$1:$G$15,5,FALSE),IF($C29=\"PlSp25-30\",VLOOKUP($A29,'Lauf PlSp25-30'!$A$1:$G$15,5,FALSE),IF($C29=\"PlSp31-36\",VLOOKUP($A29,'Lauf PlSp31-36'!$A$1:$G$15,5,FALSE),IF($C29=\"PlSp37-42\",VLOOKUP($A29,'Lauf PlSp37-42'!$A$1:$G$15,5,FALSE),IF($C29=\"PlSp43-48\",VLOOKUP($A29,'Lauf PlSp43-48'!$A$1:$G$15,5,FALSE),IF($C29=\"Halbfinale\",VLOOKUP($A29,'Lauf Halbfinale'!$A$1:$G$6,5,FALSE),IF($C29=\"Endrunde\",VLOOKUP($A29,'Lauf Endrunde'!$A$1:$G$6,5,FALSE),))))))))))","v":"Gruppe F8"},null,null,null,null,{"$f":"VLOOKUP(T29,Vorgaben!$F$10:$G$16,2,FALSE)","v":"00:45:00"},"12:15:00",null,null,41,101,71,116,"12:15:00",16,null,null,null,null,null,null,null,null,null,null,null,null,null,null,null,null,null,null,null,null,null,null,null,null,null,null,null,null,null,null,null,2,20,2,"ZwRu2","09:48:00","TuRa Westrhauderfehn","SV Spetzerfehn FF"]
[27,2,"ZwRu2","10:46:00",{"$f":"IF($C30=\"ZwRu1\",VLOOKUP($A30,'Lauf ZRA'!$A$1:$E$15,4,FALSE),IF($C30=\"ZwRu2\",VLOOKUP($A30,'Lauf ZRB'!$A$1:$E$15,4,FALSE),IF($C30=\"PlSp13-18\",VLOOKUP($A30,'Lauf PlSp13-18'!$A$1:$G$15,4,FALSE),IF($C30=\"PlSp19-24\",VLOOKUP($A30,'Lauf PlSp19-24'!$A$1:$G$15,4,FALSE),IF($C30=\"PlSp25-30\",VLOOKUP($A30,'Lauf PlSp25-30'!$A$1:$G$15,4,FALSE),IF($C30=\"PlSp31-36\",VLOOKUP($A30,'Lauf PlSp31-36'!$A$1:$G$15,4,FALSE),IF($C30=\"PlSp37-42\",VLOOKUP($A30,'Lauf PlSp37-42'!$A$1:$G$15,4,FALSE),IF($C30=\"PlSp43-48\",VLOOKUP($A30,'Lauf PlSp43-48'!$A$1:$G$15,4,FALSE),IF($C30=\"Halbfinale\",VLOOKUP($A30,'Lauf Halbfinale'!$A$1:$G$6,4,FALSE),IF($C30=\"Endrunde\",VLOOKUP($A30,'Lauf Endrunde'!$A$1:$G$6,4,FALSE),))))))))))","v":"Gruppe F5"},{"$f":"IF($C30=\"ZwRu1\",VLOOKUP($A30,'Lauf ZRA'!$A$1:$E$15,5,FALSE),IF($C30=\"ZwRu2\",VLOOKUP($A30,'Lauf ZRB'!$A$1:$E$15,5,FALSE),IF($C30=\"PlSp13-18\",VLOOKUP($A30,'Lauf PlSp13-18'!$A$1:$G$15,5,FALSE),IF($C30=\"PlSp19-24\",VLOOKUP($A30,'Lauf PlSp19-24'!$A$1:$G$15,5,FALSE),IF($C30=\"PlSp25-30\",VLOOKUP($A30,'Lauf PlSp25-30'!$A$1:$G$15,5,FALSE),IF($C30=\"PlSp31-36\",VLOOKUP($A30,'Lauf PlSp31-36'!$A$1:$G$15,5,FALSE),IF($C30=\"PlSp37-42\",VLOOKUP($A30,'Lauf PlSp37-42'!$A$1:$G$15,5,FALSE),IF($C30=\"PlSp43-48\",VLOOKUP($A30,'Lauf PlSp43-48'!$A$1:$G$15,5,FALSE),IF($C30=\"Halbfinale\",VLOOKUP($A30,'Lauf Halbfinale'!$A$1:$G$6,5,FALSE),IF($C30=\"Endrunde\",VLOOKUP($A30,'Lauf Endrunde'!$A$1:$G$6,5,FALSE),))))))))))","v":"Gruppe B1"},null,null,null,null,{"$f":"VLOOKUP(T30,Vorgaben!$F$10:$G$16,2,FALSE)","v":{"$error":"#N/A"}},"12:26:00",121,122,102,56,117,86,"12:26:00",17,null,null,null,null,null,null,null,null,null,null,null,null,null,null,null,null,null,null,null,null,null,null,null,null,null,null,null,null,null,null,null,3,34,3,"PlSp13-18","09:48:00","VfB 1928 Wilden","JSG Riede/Emtinghausen"]
[28,2,"ZwRu2","10:57:00",{"$f":"IF($C31=\"ZwRu1\",VLOOKUP($A31,'Lauf ZRA'!$A$1:$E$15,4,FALSE),IF($C31=\"ZwRu2\",VLOOKUP($A31,'Lauf ZRB'!$A$1:$E$15,4,FALSE),IF($C31=\"PlSp13-18\",VLOOKUP($A31,'Lauf PlSp13-18'!$A$1:$G$15,4,FALSE),IF($C31=\"PlSp19-24\",VLOOKUP($A31,'Lauf PlSp19-24'!$A$1:$G$15,4,FALSE),IF($C31=\"PlSp25-30\",VLOOKUP($A31,'Lauf PlSp25-30'!$A$1:$G$15,4,FALSE),IF($C31=\"PlSp31-36\",VLOOKUP($A31,'Lauf PlSp31-36'!$A$1:$G$15,4,FALSE),IF($C31=\"PlSp37-42\",VLOOKUP($A31,'Lauf PlSp37-42'!$A$1:$G$15,4,FALSE),IF($C31=\"PlSp43-48\",VLOOKUP($A31,'Lauf PlSp43-48'!$A$1:$G$15,4,FALSE),IF($C31=\"Halbfinale\",VLOOKUP($A31,'Lauf Halbfinale'!$A$1:$G$6,4,FALSE),IF($C31=\"Endrunde\",VLOOKUP($A31,'Lauf Endrunde'!$A$1:$G$6,4,FALSE),))))))))))","v":"Gruppe D7"},{"$f":"IF($C31=\"ZwRu1\",VLOOKUP($A31,'Lauf ZRA'!$A$1:$E$15,5,FALSE),IF($C31=\"ZwRu2\",VLOOKUP($A31,'Lauf ZRB'!$A$1:$E$15,5,FALSE),IF($C31=\"PlSp13-18\",VLOOKUP($A31,'Lauf PlSp13-18'!$A$1:$G$15,5,FALSE),IF($C31=\"PlSp19-24\",VLOOKUP($A31,'Lauf PlSp19-24'!$A$1:$G$15,5,FALSE),IF($C31=\"PlSp25-30\",VLOOKUP($A31,'Lauf PlSp25-30'!$A$1:$G$15,5,FALSE),IF($C31=\"PlSp31-36\",VLOOKUP($A31,'Lauf PlSp31-36'!$A$1:$G$15,5,FALSE),IF($C31=\"PlSp37-42\",VLOOKUP($A31,'Lauf PlSp37-42'!$A$1:$G$15,5,FALSE),IF($C31=\"PlSp43-48\",VLOOKUP($A31,'Lauf PlSp43-48'!$A$1:$G$15,5,FALSE),IF($C31=\"Halbfinale\",VLOOKUP($A31,'Lauf Halbfinale'!$A$1:$G$6,5,FALSE),IF($C31=\"Endrunde\",VLOOKUP($A31,'Lauf Endrunde'!$A$1:$G$6,5,FALSE),))))))))))","v":"Gruppe B3"},null,null,null,null,{"$f":"VLOOKUP(T31,Vorgaben!$F$10:$G$16,2,FALSE)","v":{"$error":"#N/A"}},"12:37:00",123,124,42,57,72,87,"12:37:00",18,null,null,null,null,null,null,null,null,null,null,null,null,null,null,null,null,null,null,null,null,null,null,null,null,null,null,null,null,null,null,null,4,49,4,"PlSp19-24","09:48:00","VfL Weiße Elf Nordhorn","Blau-Weiß Papenburg"]
[29,2,"ZwRu2","11:08:00",{"$f":"IF($C32=\"ZwRu1\",VLOOKUP($A32,'Lauf ZRA'!$A$1:$E$15,4,FALSE),IF($C32=\"ZwRu2\",VLOOKUP($A32,'Lauf ZRB'!$A$1:$E$15,4,FALSE),IF($C32=\"PlSp13-18\",VLOOKUP($A32,'Lauf PlSp13-18'!$A$1:$G$15,4,FALSE),IF($C32=\"PlSp19-24\",VLOOKUP($A32,'Lauf PlSp19-24'!$A$1:$G$15,4,FALSE),IF($C32=\"PlSp25-30\",VLOOKUP($A32,'Lauf PlSp25-30'!$A$1:$G$15,4,FALSE),IF($C32=\"PlSp31-36\",VLOOKUP($A32,'Lauf PlSp31-36'!$A$1:$G$15,4,FALSE),IF($C32=\"PlSp37-42\",VLOOKUP($A32,'Lauf PlSp37-42'!$A$1:$G$15,4,FALSE),IF($C32=\"PlSp43-48\",VLOOKUP($A32,'Lauf PlSp43-48'!$A$1:$G$15,4,FALSE),IF($C32=\"Halbfinale\",VLOOKUP($A32,'Lauf Halbfinale'!$A$1:$G$6,4,FALSE),IF($C32=\"Endrunde\",VLOOKUP($A32,'Lauf Endrunde'!$A$1:$G$6,4,FALSE),))))))))))","v":"Gruppe D8"},{"$f":"IF($C32=\"ZwRu1\",VLOOKUP($A32,'Lauf ZRA'!$A$1:$E$15,5,FALSE),IF($C32=\"ZwRu2\",VLOOKUP($A32,'Lauf ZRB'!$A$1:$E$15,5,FALSE),IF($C32=\"PlSp13-18\",VLOOKUP($A32,'Lauf PlSp13-18'!$A$1:$G$15,5,FALSE),IF($C32=\"PlSp19-24\",VLOOKUP($A32,'Lauf PlSp19-24'!$A$1:$G$15,5,FALSE),IF($C32=\"PlSp25-30\",VLOOKUP($A32,'Lauf PlSp25-30'!$A$1:$G$15,5,FALSE),IF($C32=\"PlSp31-36\",VLOOKUP($A32,'Lauf PlSp31-36'!$A$1:$G$15,5,FALSE),IF($C32=\"PlSp37-42\",VLOOKUP($A32,'Lauf PlSp37-42'!$A$1:$G$15,5,FALSE),IF($C32=\"PlSp43-48\",VLOOKUP($A32,'Lauf PlSp43-48'!$A$1:$G$15,5,FALSE),IF($C32=\"Halbfinale\",VLOOKUP($A32,'Lauf Halbfinale'!$A$1:$G$6,5,FALSE),IF($C32=\"Endrunde\",VLOOKUP($A32,'Lauf Endrunde'!$A$1:$G$6,5,FALSE),))))))))))","v":"Gruppe F5"},null,null,null,null,{"$f":"VLOOKUP(T32,Vorgaben!$F$10:$G$16,2,FALSE)","v":{"$error":"#N/A"}},"12:48:00",125,126,43,103,73,118,"12:48:00",19,null,null,null,null,null,null,null,null,null,null,null,null,null,null,null,null,null,null,null,null,null,null,null,null,null,null,null,null,null,null,null,5,64,5,"PlSp25-30","09:48:00","JFV Leer","Test"]
[30,2,"ZwRu2","11:19:00",{"$f":"IF($C33=\"ZwRu1\",VLOOKUP($A33,'Lauf ZRA'!$A$1:$E$15,4,FALSE),IF($C33=\"ZwRu2\",VLOOKUP($A33,'Lauf ZRB'!$A$1:$E$15,4,FALSE),IF($C33=\"PlSp13-18\",VLOOKUP($A33,'Lauf PlSp13-18'!$A$1:$G$15,4,FALSE),IF($C33=\"PlSp19-24\",VLOOKUP($A33,'Lauf PlSp19-24'!$A$1:$G$15,4,FALSE),IF($C33=\"PlSp25-30\",VLOOKUP($A33,'Lauf PlSp25-30'!$A$1:$G$15,4,FALSE),IF($C33=\"PlSp31-36\",VLOOKUP($A33,'Lauf PlSp31-36'!$A$1:$G$15,4,FALSE),IF($C33=\"PlSp37-42\",VLOOKUP($A33,'Lauf PlSp37-42'!$A$1:$G$15,4,FALSE),IF($C33=\"PlSp43-48\",VLOOKUP($A33,'Lauf PlSp43-48'!$A$1:$G$15,4,FALSE),IF($C33=\"Halbfinale\",VLOOKUP($A33,'Lauf Halbfinale'!$A$1:$G$6,4,FALSE),IF($C33=\"Endrunde\",VLOOKUP($A33,'Lauf Endrunde'!$A$1:$G$6,4,FALSE),))))))))))","v":"Gruppe B1"},{"$f":"IF($C33=\"ZwRu1\",VLOOKUP($A33,'Lauf ZRA'!$A$1:$E$15,5,FALSE),IF($C33=\"ZwRu2\",VLOOKUP($A33,'Lauf ZRB'!$A$1:$E$15,5,FALSE),IF($C33=\"PlSp13-18\",VLOOKUP($A33,'Lauf PlSp13-18'!$A$1:$G$15,5,FALSE),IF($C33=\"PlSp19-24\",VLOOKUP($A33,'Lauf PlSp19-24'!$A$1:$G$15,5,FALSE),IF($C33=\"PlSp25-30\",VLOOKUP($A33,'Lauf PlSp25-30'!$A$1:$G$15,5,FALSE),IF($C33=\"PlSp31-36\",VLOOKUP($A33,'Lauf PlSp31-36'!$A$1:$G$15,5,FALSE),IF($C33=\"PlSp37-42\",VLOOKUP($A33,'Lauf PlSp37-42'!$A$1:$G$15,5,FALSE),IF($C33=\"PlSp43-48\",VLOOKUP($A33,'Lauf PlSp43-48'!$A$1:$G$15,5,FALSE),IF($C33=\"Halbfinale\",VLOOKUP($A33,'Lauf Halbfinale'!$A$1:$G$6,5,FALSE),IF($C33=\"Endrunde\",VLOOKUP($A33,'Lauf Endrunde'!$A$1:$G$6,5,FALSE),))))))))))","v":"Gruppe D7"},null,null,null,null,{"$f":"VLOOKUP(T33,Vorgaben!$F$10:$G$16,2,FALSE)","v":{"$error":"#N/A"}},"12:59:00",null,null,104,58,119,88,"12:59:00",20,null,null,null,null,null,null,null,null,null,null,null,null,null,null,null,null,null,null,null,null,null,null,null,null,null,null,null,null,null,null,null,7,94,6,"PlSp37-42","09:48:00","TuS Weener","SV Warsingsfehn"]
[31,3,"PlSp13-18","08:45:00",{"$f":"IF($C34=\"ZwRu1\",VLOOKUP($A34,'Lauf ZRA'!$A$1:$E$15,4,FALSE),IF($C34=\"ZwRu2\",VLOOKUP($A34,'Lauf ZRB'!$A$1:$E$15,4,FALSE),IF($C34=\"PlSp13-18\",VLOOKUP($A34,'Lauf PlSp13-18'!$A$1:$G$15,4,FALSE),IF($C34=\"PlSp19-24\",VLOOKUP($A34,'Lauf PlSp19-24'!$A$1:$G$15,4,FALSE),IF($C34=\"PlSp25-30\",VLOOKUP($A34,'Lauf PlSp25-30'!$A$1:$G$15,4,FALSE),IF($C34=\"PlSp31-36\",VLOOKUP($A34,'Lauf PlSp31-36'!$A$1:$G$15,4,FALSE),IF($C34=\"PlSp37-42\",VLOOKUP($A34,'Lauf PlSp37-42'!$A$1:$G$15,4,FALSE),IF($C34=\"PlSp43-48\",VLOOKUP($A34,'Lauf PlSp43-48'!$A$1:$G$15,4,FALSE),IF($C34=\"Halbfinale\",VLOOKUP($A34,'Lauf Halbfinale'!$A$1:$G$6,4,FALSE),IF($C34=\"Endrunde\",VLOOKUP($A34,'Lauf Endrunde'!$A$1:$G$6,4,FALSE),))))))))))","v":"Gruppe A2"},{"$f":"IF($C34=\"ZwRu1\",VLOOKUP($A34,'Lauf ZRA'!$A$1:$E$15,5,FALSE),IF($C34=\"ZwRu2\",VLOOKUP($A34,'Lauf ZRB'!$A$1:$E$15,5,FALSE),IF($C34=\"PlSp13-18\",VLOOKUP($A34,'Lauf PlSp13-18'!$A$1:$G$15,5,FALSE),IF($C34=\"PlSp19-24\",VLOOKUP($A34,'Lauf PlSp19-24'!$A$1:$G$15,5,FALSE),IF($C34=\"PlSp25-30\",VLOOKUP($A34,'Lauf PlSp25-30'!$A$1:$G$15,5,FALSE),IF($C34=\"PlSp31-36\",VLOOKUP($A34,'Lauf PlSp31-36'!$A$1:$G$15,5,FALSE),IF($C34=\"PlSp37-42\",VLOOKUP($A34,'Lauf PlSp37-42'!$A$1:$G$15,5,FALSE),IF($C34=\"PlSp43-48\",VLOOKUP($A34,'Lauf PlSp43-48'!$A$1:$G$15,5,FALSE),IF($C34=\"Halbfinale\",VLOOKUP($A34,'Lauf Halbfinale'!$A$1:$G$6,5,FALSE),IF($C34=\"Endrunde\",VLOOKUP($A34,'Lauf Endrunde'!$A$1:$G$6,5,FALSE),))))))))))","v":"Gruppe B6"},null,null,null,null,{"$f":"VLOOKUP(T34,Vorgaben!$F$10:$G$16,2,FALSE)","v":{"$error":"#N/A"}},"13:10:00",null,null,44,59,74,89,"13:10:00",21,null,null,null,null,null,null,null,null,null,null,null,null,null,null,null,null,null,null,null,null,null,null,null,null,null,null,null,null,null,null,null,1,6,1,"ZwRu1","10:00:00","JSG Harderberg/Kloster Oesede 2","MSG Moormerland Mädchen"]
[32,3,"PlSp13-18","09:07:00",{"$f":"IF($C35=\"ZwRu1\",VLOOKUP($A35,'Lauf ZRA'!$A$1:$E$15,4,FALSE),IF($C35=\"ZwRu2\",VLOOKUP($A35,'Lauf ZRB'!$A$1:$E$15,4,FALSE),IF($C35=\"PlSp13-18\",VLOOKUP($A35,'Lauf PlSp13-18'!$A$1:$G$15,4,FALSE),IF($C35=\"PlSp19-24\",VLOOKUP($A35,'Lauf PlSp19-24'!$A$1:$G$15,4,FALSE),IF($C35=\"PlSp25-30\",VLOOKUP($A35,'Lauf PlSp25-30'!$A$1:$G$15,4,FALSE),IF($C35=\"PlSp31-36\",VLOOKUP($A35,'Lauf PlSp31-36'!$A$1:$G$15,4,FALSE),IF($C35=\"PlSp37-42\",VLOOKUP($A35,'Lauf PlSp37-42'!$A$1:$G$15,4,FALSE),IF($C35=\"PlSp43-48\",VLOOKUP($A35,'Lauf PlSp43-48'!$A$1:$G$15,4,FALSE),IF($C35=\"Halbfinale\",VLOOKUP($A35,'Lauf Halbfinale'!$A$1:$G$6,4,FALSE),IF($C35=\"Endrunde\",VLOOKUP($A35,'Lauf Endrunde'!$A$1:$G$6,4,FALSE),))))))))))","v":"Gruppe C4"},{"$f":"IF($C35=\"ZwRu1\",VLOOKUP($A35,'Lauf ZRA'!$A$1:$E$15,5,FALSE),IF($C35=\"ZwRu2\",VLOOKUP($A35,'Lauf ZRB'!$A$1:$E$15,5,FALSE),IF($C35=\"PlSp13-18\",VLOOKUP($A35,'Lauf PlSp13-18'!$A$1:$G$15,5,FALSE),IF($C35=\"PlSp19-24\",VLOOKUP($A35,'Lauf PlSp19-24'!$A$1:$G$15,5,FALSE),IF($C35=\"PlSp25-30\",VLOOKUP($A35,'Lauf PlSp25-30'!$A$1:$G$15,5,FALSE),IF($C35=\"PlSp31-36\",VLOOKUP($A35,'Lauf PlSp31-36'!$A$1:$G$15,5,FALSE),IF($C35=\"PlSp37-42\",VLOOKUP($A35,'Lauf PlSp37-42'!$A$1:$G$15,5,FALSE),IF($C35=\"PlSp43-48\",VLOOKUP($A35,'Lauf PlSp43-48'!$A$1:$G$15,5,FALSE),IF($C35=\"Halbfinale\",VLOOKUP($A35,'Lauf Halbfinale'!$A$1:$G$6,5,FALSE),IF($C35=\"Endrunde\",VLOOKUP($A35,'Lauf Endrunde'!$A$1:$G$6,5,FALSE),))))))))))","v":"Gruppe D2"},null,null,null,null,{"$f":"VLOOKUP(T35,Vorgaben!$F$10:$G$16,2,FALSE)","v":{"$error":"#N/A"}},"13:21:00",105,120,45,60,75,90,"13:21:00",22,null,null,null,null,null,null,null,null,null,null,null,null,null,null,null,null,null,null,null,null,null,null,null,null,null,null,null,null,null,null,null,2,21,2,"ZwRu2","10:00:00","TuS Eversten 1","SV Spetzerfehn"]
[33,3,"PlSp13-18","09:18:00",{"$f":"IF($C36=\"ZwRu1\",VLOOKUP($A36,'Lauf ZRA'!$A$1:$E$15,4,FALSE),IF($C36=\"ZwRu2\",VLOOKUP($A36,'Lauf ZRB'!$A$1:$E$15,4,FALSE),IF($C36=\"PlSp13-18\",VLOOKUP($A36,'Lauf PlSp13-18'!$A$1:$G$15,4,FALSE),IF($C36=\"PlSp19-24\",VLOOKUP($A36,'Lauf PlSp19-24'!$A$1:$G$15,4,FALSE),IF($C36=\"PlSp25-30\",VLOOKUP($A36,'Lauf PlSp25-30'!$A$1:$G$15,4,FALSE),IF($C36=\"PlSp31-36\",VLOOKUP($A36,'Lauf PlSp31-36'!$A$1:$G$15,4,FALSE),IF($C36=\"PlSp37-42\",VLOOKUP($A36,'Lauf PlSp37-42'!$A$1:$G$15,4,FALSE),IF($C36=\"PlSp43-48\",VLOOKUP($A36,'Lauf PlSp43-48'!$A$1:$G$15,4,FALSE),IF($C36=\"Halbfinale\",VLOOKUP($A36,'Lauf Halbfinale'!$A$1:$G$6,4,FALSE),IF($C36=\"Endrunde\",VLOOKUP($A36,'Lauf Endrunde'!$A$1:$G$6,4,FALSE),))))))))))","v":"Gruppe E7"},{"$f":"IF($C36=\"ZwRu1\",VLOOKUP($A36,'Lauf ZRA'!$A$1:$E$15,5,FALSE),IF($C36=\"ZwRu2\",VLOOKUP($A36,'Lauf ZRB'!$A$1:$E$15,5,FALSE),IF($C36=\"PlSp13-18\",VLOOKUP($A36,'Lauf PlSp13-18'!$A$1:$G$15,5,FALSE),IF($C36=\"PlSp19-24\",VLOOKUP($A36,'Lauf PlSp19-24'!$A$1:$G$15,5,FALSE),IF($C36=\"PlSp25-30\",VLOOKUP($A36,'Lauf PlSp25-30'!$A$1:$G$15,5,FALSE),IF($C36=\"PlSp31-36\",VLOOKUP($A36,'Lauf PlSp31-36'!$A$1:$G$15,5,FALSE),IF($C36=\"PlSp37-42\",VLOOKUP($A36,'Lauf PlSp37-42'!$A$1:$G$15,5,FALSE),IF($C36=\"PlSp43-48\",VLOOKUP($A36,'Lauf PlSp43-48'!$A$1:$G$15,5,FALSE),IF($C36=\"Halbfinale\",VLOOKUP($A36,'Lauf Halbfinale'!$A$1:$G$6,5,FALSE),IF($C36=\"Endrunde\",VLOOKUP($A36,'Lauf Endrunde'!$A$1:$G$6,5,FALSE),))))))))))","v":"Gruppe F6"},null,null,null,null,{"$f":"VLOOKUP(T36,Vorgaben!$F$10:$G$16,2,FALSE)","v":{"$error":"#N/A"}},"13:32:00",127,128,129,130,null,null,"13:32:00",23,null,null,null,null,null,null,null,null,null,null,null,null,null,null,null,null,null,null,null,null,null,null,null,null,null,null,null,null,null,null,null,{"$f":"IF(BC36=BH$2,BI$2,IF(BC36=BH$3,BI$3,IF(BC36=BH$4,BI$4,IF(BC36=BH$5,BI$5,IF(BC36=$BH$6,$BI$6,IF(BC36=BH$7,BI$7,IF(BC36=BH$8,BI$8,IF(BC36=BH$9,BI$9,IF(BC36=BH$10,BI$10,\"Fehler\")))))))))","v":3},35,3,"PlSp13-18","10:00:00","JSG Harderberg/Kloster Oesede 1","Blau-Weiß Papenburg EE"]
[34,3,"PlSp13-18","09:40:00",{"$f":"IF($C37=\"ZwRu1\",VLOOKUP($A37,'Lauf ZRA'!$A$1:$E$15,4,FALSE),IF($C37=\"ZwRu2\",VLOOKUP($A37,'Lauf ZRB'!$A$1:$E$15,4,FALSE),IF($C37=\"PlSp13-18\",VLOOKUP($A37,'Lauf PlSp13-18'!$A$1:$G$15,4,FALSE),IF($C37=\"PlSp19-24\",VLOOKUP($A37,'Lauf PlSp19-24'!$A$1:$G$15,4,FALSE),IF($C37=\"PlSp25-30\",VLOOKUP($A37,'Lauf PlSp25-30'!$A$1:$G$15,4,FALSE),IF($C37=\"PlSp31-36\",VLOOKUP($A37,'Lauf PlSp31-36'!$A$1:$G$15,4,FALSE),IF($C37=\"PlSp37-42\",VLOOKUP($A37,'Lauf PlSp37-42'!$A$1:$G$15,4,FALSE),IF($C37=\"PlSp43-48\",VLOOKUP($A37,'Lauf PlSp43-48'!$A$1:$G$15,4,FALSE),IF($C37=\"Halbfinale\",VLOOKUP($A37,'Lauf Halbfinale'!$A$1:$G$6,4,FALSE),IF($C37=\"Endrunde\",VLOOKUP($A37,'Lauf Endrunde'!$A$1:$G$6,4,FALSE),))))))))))","v":"Gruppe B6"},{"$f":"IF($C37=\"ZwRu1\",VLOOKUP($A37,'Lauf ZRA'!$A$1:$E$15,5,FALSE),IF($C37=\"ZwRu2\",VLOOKUP($A37,'Lauf ZRB'!$A$1:$E$15,5,FALSE),IF($C37=\"PlSp13-18\",VLOOKUP($A37,'Lauf PlSp13-18'!$A$1:$G$15,5,FALSE),IF($C37=\"PlSp19-24\",VLOOKUP($A37,'Lauf PlSp19-24'!$A$1:$G$15,5,FALSE),IF($C37=\"PlSp25-30\",VLOOKUP($A37,'Lauf PlSp25-30'!$A$1:$G$15,5,FALSE),IF($C37=\"PlSp31-36\",VLOOKUP($A37,'Lauf PlSp31-36'!$A$1:$G$15,5,FALSE),IF($C37=\"PlSp37-42\",VLOOKUP($A37,'Lauf PlSp37-42'!$A$1:$G$15,5,FALSE),IF($C37=\"PlSp43-48\",VLOOKUP($A37,'Lauf PlSp43-48'!$A$1:$G$15,5,FALSE),IF($C37=\"Halbfinale\",VLOOKUP($A37,'Lauf Halbfinale'!$A$1:$G$6,5,FALSE),IF($C37=\"Endrunde\",VLOOKUP($A37,'Lauf Endrunde'!$A$1:$G$6,5,FALSE),))))))))))","v":"Gruppe C4"},null,null,null,null,{"$f":"VLOOKUP(T37,Vorgaben!$F$10:$G$16,2,FALSE)","v":{"$error":"#N/A"}},"13:43:00",131,null,null,null,null,null,"13:43:00",24,null,null,null,null,null,null,null,null,null,null,null,null,null,null,null,null,null,null,null,null,null,null,null,null,null,null,null,null,null,null,null,7,95,4,"PlSp37-42","10:00:00","VfL \"Fortuna\" Veenhusen 3","SV Warsingsfehn EE"]
[35,3,"PlSp13-18","09:51:00",{"$f":"IF($C38=\"ZwRu1\",VLOOKUP($A38,'Lauf ZRA'!$A$1:$E$15,4,FALSE),IF($C38=\"ZwRu2\",VLOOKUP($A38,'Lauf ZRB'!$A$1:$E$15,4,FALSE),IF($C38=\"PlSp13-18\",VLOOKUP($A38,'Lauf PlSp13-18'!$A$1:$G$15,4,FALSE),IF($C38=\"PlSp19-24\",VLOOKUP($A38,'Lauf PlSp19-24'!$A$1:$G$15,4,FALSE),IF($C38=\"PlSp25-30\",VLOOKUP($A38,'Lauf PlSp25-30'!$A$1:$G$15,4,FALSE),IF($C38=\"PlSp31-36\",VLOOKUP($A38,'Lauf PlSp31-36'!$A$1:$G$15,4,FALSE),IF($C38=\"PlSp37-42\",VLOOKUP($A38,'Lauf PlSp37-42'!$A$1:$G$15,4,FALSE),IF($C38=\"PlSp43-48\",VLOOKUP($A38,'Lauf PlSp43-48'!$A$1:$G$15,4,FALSE),IF($C38=\"Halbfinale\",VLOOKUP($A38,'Lauf Halbfinale'!$A$1:$G$6,4,FALSE),IF($C38=\"Endrunde\",VLOOKUP($A38,'Lauf Endrunde'!$A$1:$G$6,4,FALSE),))))))))))","v":"Gruppe D2"},{"$f":"IF($C38=\"ZwRu1\",VLOOKUP($A38,'Lauf ZRA'!$A$1:$E$15,5,FALSE),IF($C38=\"ZwRu2\",VLOOKUP($A38,'Lauf ZRB'!$A$1:$E$15,5,FALSE),IF($C38=\"PlSp13-18\",VLOOKUP($A38,'Lauf PlSp13-18'!$A$1:$G$15,5,FALSE),IF($C38=\"PlSp19-24\",VLOOKUP($A38,'Lauf PlSp19-24'!$A$1:$G$15,5,FALSE),IF($C38=\"PlSp25-30\",VLOOKUP($A38,'Lauf PlSp25-30'!$A$1:$G$15,5,FALSE),IF($C38=\"PlSp31-36\",VLOOKUP($A38,'Lauf PlSp31-36'!$A$1:$G$15,5,FALSE),IF($C38=\"PlSp37-42\",VLOOKUP($A38,'Lauf PlSp37-42'!$A$1:$G$15,5,FALSE),IF($C38=\"PlSp43-48\",VLOOKUP($A38,'Lauf PlSp43-48'!$A$1:$G$15,5,FALSE),IF($C38=\"Halbfinale\",VLOOKUP($A38,'Lauf Halbfinale'!$A$1:$G$6,5,FALSE),IF($C38=\"Endrunde\",VLOOKUP($A38,'Lauf Endrunde'!$A$1:$G$6,5,FALSE),))))))))))","v":"Gruppe E7"},null,null,null,null,{"$f":"VLOOKUP(T38,Vorgaben!$F$10:$G$16,2,FALSE)","v":{"$error":"#N/A"}},"13:54:00",null,null,null,null,null,null,"13:54:00",25,null,null,null,null,null,null,null,null,null,null,null,null,null,null,null,null,null,null,null,null,null,null,null,null,null,null,null,null,null,null,null,5,65,5,"PlSp25-30","10:00:00","Test Team D","Willy"]
[36,3,"PlSp13-18","10:13:00",{"$f":"IF($C39=\"ZwRu1\",VLOOKUP($A39,'Lauf ZRA'!$A$1:$E$15,4,FALSE),IF($C39=\"ZwRu2\",VLOOKUP($A39,'Lauf ZRB'!$A$1:$E$15,4,FALSE),IF($C39=\"PlSp13-18\",VLOOKUP($A39,'Lauf PlSp13-18'!$A$1:$G$15,4,FALSE),IF($C39=\"PlSp19-24\",VLOOKUP($A39,'Lauf PlSp19-24'!$A$1:$G$15,4,FALSE),IF($C39=\"PlSp25-30\",VLOOKUP($A39,'Lauf PlSp25-30'!$A$1:$G$15,4,FALSE),IF($C39=\"PlSp31-36\",VLOOKUP($A39,'Lauf PlSp31-36'!$A$1:$G$15,4,FALSE),IF($C39=\"PlSp37-42\",VLOOKUP($A39,'Lauf PlSp37-42'!$A$1:$G$15,4,FALSE),IF($C39=\"PlSp43-48\",VLOOKUP($A39,'Lauf PlSp43-48'!$A$1:$G$15,4,FALSE),IF($C39=\"Halbfinale\",VLOOKUP($A39,'Lauf Halbfinale'!$A$1:$G$6,4,FALSE),IF($C39=\"Endrunde\",VLOOKUP($A39,'Lauf Endrunde'!$A$1:$G$6,4,FALSE),))))))))))","v":"Gruppe A2"},{"$f":"IF($C39=\"ZwRu1\",VLOOKUP($A39,'Lauf ZRA'!$A$1:$E$15,5,FALSE),IF($C39=\"ZwRu2\",VLOOKUP($A39,'Lauf ZRB'!$A$1:$E$15,5,FALSE),IF($C39=\"PlSp13-18\",VLOOKUP($A39,'Lauf PlSp13-18'!$A$1:$G$15,5,FALSE),IF($C39=\"PlSp19-24\",VLOOKUP($A39,'Lauf PlSp19-24'!$A$1:$G$15,5,FALSE),IF($C39=\"PlSp25-30\",VLOOKUP($A39,'Lauf PlSp25-30'!$A$1:$G$15,5,FALSE),IF($C39=\"PlSp31-36\",VLOOKUP($A39,'Lauf PlSp31-36'!$A$1:$G$15,5,FALSE),IF($C39=\"PlSp37-42\",VLOOKUP($A39,'Lauf PlSp37-42'!$A$1:$G$15,5,FALSE),IF($C39=\"PlSp43-48\",VLOOKUP($A39,'Lauf PlSp43-48'!$A$1:$G$15,5,FALSE),IF($C39=\"Halbfinale\",VLOOKUP($A39,'Lauf Halbfinale'!$A$1:$G$6,5,FALSE),IF($C39=\"Endrunde\",VLOOKUP($A39,'Lauf Endrunde'!$A$1:$G$6,5,FALSE),))))))))))","v":"Gruppe C4"},null,null,null,null,{"$f":"VLOOKUP(T39,Vorgaben!$F$10:$G$16,2,FALSE)","v":{"$error":"#N/A"}},"14:05:00",132,null,null,null,null,null,"14:05:00",26,null,null,null,null,null,null,null,null,null,null,null,null,null,null,null,null,null,null,null,null,null,null,null,null,null,null,null,null,null,null,null,6,80,6,"PlSp31-36","10:00:00","SV Borussia Salchendorf","JVC Dedemsvaart EE"]
[37,3,"PlSp13-18","10:24:00",{"$f":"IF($C40=\"ZwRu1\",VLOOKUP($A40,'Lauf ZRA'!$A$1:$E$15,4,FALSE),IF($C40=\"ZwRu2\",VLOOKUP($A40,'Lauf ZRB'!$A$1:$E$15,4,FALSE),IF($C40=\"PlSp13-18\",VLOOKUP($A40,'Lauf PlSp13-18'!$A$1:$G$15,4,FALSE),IF($C40=\"PlSp19-24\",VLOOKUP($A40,'Lauf PlSp19-24'!$A$1:$G$15,4,FALSE),IF($C40=\"PlSp25-30\",VLOOKUP($A40,'Lauf PlSp25-30'!$A$1:$G$15,4,FALSE),IF($C40=\"PlSp31-36\",VLOOKUP($A40,'Lauf PlSp31-36'!$A$1:$G$15,4,FALSE),IF($C40=\"PlSp37-42\",VLOOKUP($A40,'Lauf PlSp37-42'!$A$1:$G$15,4,FALSE),IF($C40=\"PlSp43-48\",VLOOKUP($A40,'Lauf PlSp43-48'!$A$1:$G$15,4,FALSE),IF($C40=\"Halbfinale\",VLOOKUP($A40,'Lauf Halbfinale'!$A$1:$G$6,4,FALSE),IF($C40=\"Endrunde\",VLOOKUP($A40,'Lauf Endrunde'!$A$1:$G$6,4,FALSE),))))))))))","v":"Gruppe E7"},{"$f":"IF($C40=\"ZwRu1\",VLOOKUP($A40,'Lauf ZRA'!$A$1:$E$15,5,FALSE),IF($C40=\"ZwRu2\",VLOOKUP($A40,'Lauf ZRB'!$A$1:$E$15,5,FALSE),IF($C40=\"PlSp13-18\",VLOOKUP($A40,'Lauf PlSp13-18'!$A$1:$G$15,5,FALSE),IF($C40=\"PlSp19-24\",VLOOKUP($A40,'Lauf PlSp19-24'!$A$1:$G$15,5,FALSE),IF($C40=\"PlSp25-30\",VLOOKUP($A40,'Lauf PlSp25-30'!$A$1:$G$15,5,FALSE),IF($C40=\"PlSp31-36\",VLOOKUP($A40,'Lauf PlSp31-36'!$A$1:$G$15,5,FALSE),IF($C40=\"PlSp37-42\",VLOOKUP($A40,'Lauf PlSp37-42'!$A$1:$G$15,5,FALSE),IF($C40=\"PlSp43-48\",VLOOKUP($A40,'Lauf PlSp43-48'!$A$1:$G$15,5,FALSE),IF($C40=\"Halbfinale\",VLOOKUP($A40,'Lauf Halbfinale'!$A$1:$G$6,5,FALSE),IF($C40=\"Endrunde\",VLOOKUP($A40,'Lauf Endrunde'!$A$1:$G$6,5,FALSE),))))))))))","v":"Gruppe B6"},null,null,null,null,null,null,{"$f":"M13","v":1},{"$f":"N13","v":2},3,4,5,6,null,null,null,null,null,null,null,null,null,null,null,null,null,null,null,null,null,null,null,null,null,null,null,null,null,null,null,null,null,null,null,null,null,1,7,1,"ZwRu1","10:12:00","MSG Moormerland EE","VfL \"Fortuna\" Veenhusen 1"]
[38,3,"PlSp13-18","10:46:00",{"$f":"IF($C41=\"ZwRu1\",VLOOKUP($A41,'Lauf ZRA'!$A$1:$E$15,4,FALSE),IF($C41=\"ZwRu2\",VLOOKUP($A41,'Lauf ZRB'!$A$1:$E$15,4,FALSE),IF($C41=\"PlSp13-18\",VLOOKUP($A41,'Lauf PlSp13-18'!$A$1:$G$15,4,FALSE),IF($C41=\"PlSp19-24\",VLOOKUP($A41,'Lauf PlSp19-24'!$A$1:$G$15,4,FALSE),IF($C41=\"PlSp25-30\",VLOOKUP($A41,'Lauf PlSp25-30'!$A$1:$G$15,4,FALSE),IF($C41=\"PlSp31-36\",VLOOKUP($A41,'Lauf PlSp31-36'!$A$1:$G$15,4,FALSE),IF($C41=\"PlSp37-42\",VLOOKUP($A41,'Lauf PlSp37-42'!$A$1:$G$15,4,FALSE),IF($C41=\"PlSp43-48\",VLOOKUP($A41,'Lauf PlSp43-48'!$A$1:$G$15,4,FALSE),IF($C41=\"Halbfinale\",VLOOKUP($A41,'Lauf Halbfinale'!$A$1:$G$6,4,FALSE),IF($C41=\"Endrunde\",VLOOKUP($A41,'Lauf Endrunde'!$A$1:$G$6,4,FALSE),))))))))))","v":"Gruppe F6"},{"$f":"IF($C41=\"ZwRu1\",VLOOKUP($A41,'Lauf ZRA'!$A$1:$E$15,5,FALSE),IF($C41=\"ZwRu2\",VLOOKUP($A41,'Lauf ZRB'!$A$1:$E$15,5,FALSE),IF($C41=\"PlSp13-18\",VLOOKUP($A41,'Lauf PlSp13-18'!$A$1:$G$15,5,FALSE),IF($C41=\"PlSp19-24\",VLOOKUP($A41,'Lauf PlSp19-24'!$A$1:$G$15,5,FALSE),IF($C41=\"PlSp25-30\",VLOOKUP($A41,'Lauf PlSp25-30'!$A$1:$G$15,5,FALSE),IF($C41=\"PlSp31-36\",VLOOKUP($A41,'Lauf PlSp31-36'!$A$1:$G$15,5,FALSE),IF($C41=\"PlSp37-42\",VLOOKUP($A41,'Lauf PlSp37-42'!$A$1:$G$15,5,FALSE),IF($C41=\"PlSp43-48\",VLOOKUP($A41,'Lauf PlSp43-48'!$A$1:$G$15,5,FALSE),IF($C41=\"Halbfinale\",VLOOKUP($A41,'Lauf Halbfinale'!$A$1:$G$6,5,FALSE),IF($C41=\"Endrunde\",VLOOKUP($A41,'Lauf Endrunde'!$A$1:$G$6,5,FALSE),))))))))))","v":"Gruppe A2"},null,null,null,null,null,null,null,null,null,null,null,null,null,null,null,null,null,null,null,null,null,null,null,null,null,null,null,null,null,null,null,null,null,null,null,null,null,null,null,null,null,null,null,null,null,2,22,2,"ZwRu2","10:12:00","SV Spetzerfehn FF","VfL \"Fortuna\" Veenhusen 2"]
[39,3,"PlSp13-18","10:57:00",{"$f":"IF($C42=\"ZwRu1\",VLOOKUP($A42,'Lauf ZRA'!$A$1:$E$15,4,FALSE),IF($C42=\"ZwRu2\",VLOOKUP($A42,'Lauf ZRB'!$A$1:$E$15,4,FALSE),IF($C42=\"PlSp13-18\",VLOOKUP($A42,'Lauf PlSp13-18'!$A$1:$G$15,4,FALSE),IF($C42=\"PlSp19-24\",VLOOKUP($A42,'Lauf PlSp19-24'!$A$1:$G$15,4,FALSE),IF($C42=\"PlSp25-30\",VLOOKUP($A42,'Lauf PlSp25-30'!$A$1:$G$15,4,FALSE),IF($C42=\"PlSp31-36\",VLOOKUP($A42,'Lauf PlSp31-36'!$A$1:$G$15,4,FALSE),IF($C42=\"PlSp37-42\",VLOOKUP($A42,'Lauf PlSp37-42'!$A$1:$G$15,4,FALSE),IF($C42=\"PlSp43-48\",VLOOKUP($A42,'Lauf PlSp43-48'!$A$1:$G$15,4,FALSE),IF($C42=\"Halbfinale\",VLOOKUP($A42,'Lauf Halbfinale'!$A$1:$G$6,4,FALSE),IF($C42=\"Endrunde\",VLOOKUP($A42,'Lauf Endrunde'!$A$1:$G$6,4,FALSE),))))))))))","v":"Gruppe C4"},{"$f":"IF($C42=\"ZwRu1\",VLOOKUP($A42,'Lauf ZRA'!$A$1:$E$15,5,FALSE),IF($C42=\"ZwRu2\",VLOOKUP($A42,'Lauf ZRB'!$A$1:$E$15,5,FALSE),IF($C42=\"PlSp13-18\",VLOOKUP($A42,'Lauf PlSp13-18'!$A$1:$G$15,5,FALSE),IF($C42=\"PlSp19-24\",VLOOKUP($A42,'Lauf PlSp19-24'!$A$1:$G$15,5,FALSE),IF($C42=\"PlSp25-30\",VLOOKUP($A42,'Lauf PlSp25-30'!$A$1:$G$15,5,FALSE),IF($C42=\"PlSp31-36\",VLOOKUP($A42,'Lauf PlSp31-36'!$A$1:$G$15,5,FALSE),IF($C42=\"PlSp37-42\",VLOOKUP($A42,'Lauf PlSp37-42'!$A$1:$G$15,5,FALSE),IF($C42=\"PlSp43-48\",VLOOKUP($A42,'Lauf PlSp43-48'!$A$1:$G$15,5,FALSE),IF($C42=\"Halbfinale\",VLOOKUP($A42,'Lauf Halbfinale'!$A$1:$G$6,5,FALSE),IF($C42=\"Endrunde\",VLOOKUP($A42,'Lauf Endrunde'!$A$1:$G$6,5,FALSE),))))))))))","v":"Gruppe E7"},null,null,null,null,null,null,null,null,null,null,null,null,null,null,null,null,null,null,null,null,null,null,null,null,null,null,null,null,null,null,null,null,null,null,null,null,null,null,null,null,null,null,null,null,null,3,36,3,"PlSp13-18","10:12:00","SV Ostfrisia Moordorf","JSG Riede/Emtinghausen"]
[40,3,"PlSp13-18","11:19:00",{"$f":"IF($C43=\"ZwRu1\",VLOOKUP($A43,'Lauf ZRA'!$A$1:$E$15,4,FALSE),IF($C43=\"ZwRu2\",VLOOKUP($A43,'Lauf ZRB'!$A$1:$E$15,4,FALSE),IF($C43=\"PlSp13-18\",VLOOKUP($A43,'Lauf PlSp13-18'!$A$1:$G$15,4,FALSE),IF($C43=\"PlSp19-24\",VLOOKUP($A43,'Lauf PlSp19-24'!$A$1:$G$15,4,FALSE),IF($C43=\"PlSp25-30\",VLOOKUP($A43,'Lauf PlSp25-30'!$A$1:$G$15,4,FALSE),IF($C43=\"PlSp31-36\",VLOOKUP($A43,'Lauf PlSp31-36'!$A$1:$G$15,4,FALSE),IF($C43=\"PlSp37-42\",VLOOKUP($A43,'Lauf PlSp37-42'!$A$1:$G$15,4,FALSE),IF($C43=\"PlSp43-48\",VLOOKUP($A43,'Lauf PlSp43-48'!$A$1:$G$15,4,FALSE),IF($C43=\"Halbfinale\",VLOOKUP($A43,'Lauf Halbfinale'!$A$1:$G$6,4,FALSE),IF($C43=\"Endrunde\",VLOOKUP($A43,'Lauf Endrunde'!$A$1:$G$6,4,FALSE),))))))))))","v":"Gruppe D2"},{"$f":"IF($C43=\"ZwRu1\",VLOOKUP($A43,'Lauf ZRA'!$A$1:$E$15,5,FALSE),IF($C43=\"ZwRu2\",VLOOKUP($A43,'Lauf ZRB'!$A$1:$E$15,5,FALSE),IF($C43=\"PlSp13-18\",VLOOKUP($A43,'Lauf PlSp13-18'!$A$1:$G$15,5,FALSE),IF($C43=\"PlSp19-24\",VLOOKUP($A43,'Lauf PlSp19-24'!$A$1:$G$15,5,FALSE),IF($C43=\"PlSp25-30\",VLOOKUP($A43,'Lauf PlSp25-30'!$A$1:$G$15,5,FALSE),IF($C43=\"PlSp31-36\",VLOOKUP($A43,'Lauf PlSp31-36'!$A$1:$G$15,5,FALSE),IF($C43=\"PlSp37-42\",VLOOKUP($A43,'Lauf PlSp37-42'!$A$1:$G$15,5,FALSE),IF($C43=\"PlSp43-48\",VLOOKUP($A43,'Lauf PlSp43-48'!$A$1:$G$15,5,FALSE),IF($C43=\"Halbfinale\",VLOOKUP($A43,'Lauf Halbfinale'!$A$1:$G$6,5,FALSE),IF($C43=\"Endrunde\",VLOOKUP($A43,'Lauf Endrunde'!$A$1:$G$6,5,FALSE),))))))))))","v":"Gruppe F6"},null,null,null,null,null,null,null,null,null,null,null,null,null,null,null,null,null,null,null,null,null,null,null,null,null,null,null,null,null,null,null,null,null,null,null,null,null,null,null,null,null,null,null,null,null,4,50,4,"PlSp19-24","10:12:00","vv Beilen","TuS Eversten 2 EE"]
[41,3,"PlSp13-18","12:15:00",{"$f":"IF($C44=\"ZwRu1\",VLOOKUP($A44,'Lauf ZRA'!$A$1:$E$15,4,FALSE),IF($C44=\"ZwRu2\",VLOOKUP($A44,'Lauf ZRB'!$A$1:$E$15,4,FALSE),IF($C44=\"PlSp13-18\",VLOOKUP($A44,'Lauf PlSp13-18'!$A$1:$G$15,4,FALSE),IF($C44=\"PlSp19-24\",VLOOKUP($A44,'Lauf PlSp19-24'!$A$1:$G$15,4,FALSE),IF($C44=\"PlSp25-30\",VLOOKUP($A44,'Lauf PlSp25-30'!$A$1:$G$15,4,FALSE),IF($C44=\"PlSp31-36\",VLOOKUP($A44,'Lauf PlSp31-36'!$A$1:$G$15,4,FALSE),IF($C44=\"PlSp37-42\",VLOOKUP($A44,'Lauf PlSp37-42'!$A$1:$G$15,4,FALSE),IF($C44=\"PlSp43-48\",VLOOKUP($A44,'Lauf PlSp43-48'!$A$1:$G$15,4,FALSE),IF($C44=\"Halbfinale\",VLOOKUP($A44,'Lauf Halbfinale'!$A$1:$G$6,4,FALSE),IF($C44=\"Endrunde\",VLOOKUP($A44,'Lauf Endrunde'!$A$1:$G$6,4,FALSE),))))))))))","v":"Gruppe A2"},{"$f":"IF($C44=\"ZwRu1\",VLOOKUP($A44,'Lauf ZRA'!$A$1:$E$15,5,FALSE),IF($C44=\"ZwRu2\",VLOOKUP($A44,'Lauf ZRB'!$A$1:$E$15,5,FALSE),IF($C44=\"PlSp13-18\",VLOOKUP($A44,'Lauf PlSp13-18'!$A$1:$G$15,5,FALSE),IF($C44=\"PlSp19-24\",VLOOKUP($A44,'Lauf PlSp19-24'!$A$1:$G$15,5,FALSE),IF($C44=\"PlSp25-30\",VLOOKUP($A44,'Lauf PlSp25-30'!$A$1:$G$15,5,FALSE),IF($C44=\"PlSp31-36\",VLOOKUP($A44,'Lauf PlSp31-36'!$A$1:$G$15,5,FALSE),IF($C44=\"PlSp37-42\",VLOOKUP($A44,'Lauf PlSp37-42'!$A$1:$G$15,5,FALSE),IF($C44=\"PlSp43-48\",VLOOKUP($A44,'Lauf PlSp43-48'!$A$1:$G$15,5,FALSE),IF($C44=\"Halbfinale\",VLOOKUP($A44,'Lauf Halbfinale'!$A$1:$G$6,5,FALSE),IF($C44=\"Endrunde\",VLOOKUP($A44,'Lauf Endrunde'!$A$1:$G$6,5,FALSE),))))))))))","v":"Gruppe E7"},null,null,null,null,null,null,null,null,null,null,null,null,null,null,null,null,null,null,null,null,null,null,null,null,null,null,null,null,null,null,null,null,null,null,null,null,null,null,null,null,null,null,null,null,null,7,96,5,"PlSp37-42","10:12:00","Test Team A","SV Warsingsfehn"]
[42,3,"PlSp13-18","12:37:00",{"$f":"IF($C45=\"ZwRu1\",VLOOKUP($A45,'Lauf ZRA'!$A$1:$E$15,4,FALSE),IF($C45=\"ZwRu2\",VLOOKUP($A45,'Lauf ZRB'!$A$1:$E$15,4,FALSE),IF($C45=\"PlSp13-18\",VLOOKUP($A45,'Lauf PlSp13-18'!$A$1:$G$15,4,FALSE),IF($C45=\"PlSp19-24\",VLOOKUP($A45,'Lauf PlSp19-24'!$A$1:$G$15,4,FALSE),IF($C45=\"PlSp25-30\",VLOOKUP($A45,'Lauf PlSp25-30'!$A$1:$G$15,4,FALSE),IF($C45=\"PlSp31-36\",VLOOKUP($A45,'Lauf PlSp31-36'!$A$1:$G$15,4,FALSE),IF($C45=\"PlSp37-42\",VLOOKUP($A45,'Lauf PlSp37-42'!$A$1:$G$15,4,FALSE),IF($C45=\"PlSp43-48\",VLOOKUP($A45,'Lauf PlSp43-48'!$A$1:$G$15,4,FALSE),IF($C45=\"Halbfinale\",VLOOKUP($A45,'Lauf Halbfinale'!$A$1:$G$6,4,FALSE),IF($C45=\"Endrunde\",VLOOKUP($A45,'Lauf Endrunde'!$A$1:$G$6,4,FALSE),))))))))))","v":"Gruppe F6"},{"$f":"IF($C45=\"ZwRu1\",VLOOKUP($A45,'Lauf ZRA'!$A$1:$E$15,5,FALSE),IF($C45=\"ZwRu2\",VLOOKUP($A45,'Lauf ZRB'!$A$1:$E$15,5,FALSE),IF($C45=\"PlSp13-18\",VLOOKUP($A45,'Lauf PlSp13-18'!$A$1:$G$15,5,FALSE),IF($C45=\"PlSp19-24\",VLOOKUP($A45,'Lauf PlSp19-24'!$A$1:$G$15,5,FALSE),IF($C45=\"PlSp25-30\",VLOOKUP($A45,'Lauf PlSp25-30'!$A$1:$G$15,5,FALSE),IF($C45=\"PlSp31-36\",VLOOKUP($A45,'Lauf PlSp31-36'!$A$1:$G$15,5,FALSE),IF($C45=\"PlSp37-42\",VLOOKUP($A45,'Lauf PlSp37-42'!$A$1:$G$15,5,FALSE),IF($C45=\"PlSp43-48\",VLOOKUP($A45,'Lauf PlSp43-48'!$A$1:$G$15,5,FALSE),IF($C45=\"Halbfinale\",VLOOKUP($A45,'Lauf Halbfinale'!$A$1:$G$6,5,FALSE),IF($C45=\"Endrunde\",VLOOKUP($A45,'Lauf Endrunde'!$A$1:$G$6,5,FALSE),))))))))))","v":"Gruppe B6"},null,null,null,null,null,null,null,null,null,null,null,null,null,null,null,null,null,null,null,null,null,null,null,null,null,null,null,null,null,null,null,null,null,null,null,null,null,null,null,null,null,null,null,null,null,6,81,6,"PlSp31-36","10:12:00","vv Jubbega","JVC Dedemsvaart"]
[43,3,"PlSp13-18","12:48:00",{"$f":"IF($C46=\"ZwRu1\",VLOOKUP($A46,'Lauf ZRA'!$A$1:$E$15,4,FALSE),IF($C46=\"ZwRu2\",VLOOKUP($A46,'Lauf ZRB'!$A$1:$E$15,4,FALSE),IF($C46=\"PlSp13-18\",VLOOKUP($A46,'Lauf PlSp13-18'!$A$1:$G$15,4,FALSE),IF($C46=\"PlSp19-24\",VLOOKUP($A46,'Lauf PlSp19-24'!$A$1:$G$15,4,FALSE),IF($C46=\"PlSp25-30\",VLOOKUP($A46,'Lauf PlSp25-30'!$A$1:$G$15,4,FALSE),IF($C46=\"PlSp31-36\",VLOOKUP($A46,'Lauf PlSp31-36'!$A$1:$G$15,4,FALSE),IF($C46=\"PlSp37-42\",VLOOKUP($A46,'Lauf PlSp37-42'!$A$1:$G$15,4,FALSE),IF($C46=\"PlSp43-48\",VLOOKUP($A46,'Lauf PlSp43-48'!$A$1:$G$15,4,FALSE),IF($C46=\"Halbfinale\",VLOOKUP($A46,'Lauf Halbfinale'!$A$1:$G$6,4,FALSE),IF($C46=\"Endrunde\",VLOOKUP($A46,'Lauf Endrunde'!$A$1:$G$6,4,FALSE),))))))))))","v":"Gruppe D2"},{"$f":"IF($C46=\"ZwRu1\",VLOOKUP($A46,'Lauf ZRA'!$A$1:$E$15,5,FALSE),IF($C46=\"ZwRu2\",VLOOKUP($A46,'Lauf ZRB'!$A$1:$E$15,5,FALSE),IF($C46=\"PlSp13-18\",VLOOKUP($A46,'Lauf PlSp13-18'!$A$1:$G$15,5,FALSE),IF($C46=\"PlSp19-24\",VLOOKUP($A46,'Lauf PlSp19-24'!$A$1:$G$15,5,FALSE),IF($C46=\"PlSp25-30\",VLOOKUP($A46,'Lauf PlSp25-30'!$A$1:$G$15,5,FALSE),IF($C46=\"PlSp31-36\",VLOOKUP($A46,'Lauf PlSp31-36'!$A$1:$G$15,5,FALSE),IF($C46=\"PlSp37-42\",VLOOKUP($A46,'Lauf PlSp37-42'!$A$1:$G$15,5,FALSE),IF($C46=\"PlSp43-48\",VLOOKUP($A46,'Lauf PlSp43-48'!$A$1:$G$15,5,FALSE),IF($C46=\"Halbfinale\",VLOOKUP($A46,'Lauf Halbfinale'!$A$1:$G$6,5,FALSE),IF($C46=\"Endrunde\",VLOOKUP($A46,'Lauf Endrunde'!$A$1:$G$6,5,FALSE),))))))))))","v":"Gruppe A2"},null,null,null,null,null,null,null,null,null,null,null,null,null,null,null,null,null,null,null,null,null,null,null,null,null,null,null,null,null,null,null,null,null,null,null,null,null,null,null,null,null,null,null,null,null,1,8,1,"ZwRu1","10:24:00","JSG Riede/Emtinghausen EE","JSG Harderberg/Kloster Oesede 2"]
[44,3,"PlSp13-18","13:10:00",{"$f":"IF($C47=\"ZwRu1\",VLOOKUP($A47,'Lauf ZRA'!$A$1:$E$15,4,FALSE),IF($C47=\"ZwRu2\",VLOOKUP($A47,'Lauf ZRB'!$A$1:$E$15,4,FALSE),IF($C47=\"PlSp13-18\",VLOOKUP($A47,'Lauf PlSp13-18'!$A$1:$G$15,4,FALSE),IF($C47=\"PlSp19-24\",VLOOKUP($A47,'Lauf PlSp19-24'!$A$1:$G$15,4,FALSE),IF($C47=\"PlSp25-30\",VLOOKUP($A47,'Lauf PlSp25-30'!$A$1:$G$15,4,FALSE),IF($C47=\"PlSp31-36\",VLOOKUP($A47,'Lauf PlSp31-36'!$A$1:$G$15,4,FALSE),IF($C47=\"PlSp37-42\",VLOOKUP($A47,'Lauf PlSp37-42'!$A$1:$G$15,4,FALSE),IF($C47=\"PlSp43-48\",VLOOKUP($A47,'Lauf PlSp43-48'!$A$1:$G$15,4,FALSE),IF($C47=\"Halbfinale\",VLOOKUP($A47,'Lauf Halbfinale'!$A$1:$G$6,4,FALSE),IF($C47=\"Endrunde\",VLOOKUP($A47,'Lauf Endrunde'!$A$1:$G$6,4,FALSE),))))))))))","v":"Gruppe C4"},{"$f":"IF($C47=\"ZwRu1\",VLOOKUP($A47,'Lauf ZRA'!$A$1:$E$15,5,FALSE),IF($C47=\"ZwRu2\",VLOOKUP($A47,'Lauf ZRB'!$A$1:$E$15,5,FALSE),IF($C47=\"PlSp13-18\",VLOOKUP($A47,'Lauf PlSp13-18'!$A$1:$G$15,5,FALSE),IF($C47=\"PlSp19-24\",VLOOKUP($A47,'Lauf PlSp19-24'!$A$1:$G$15,5,FALSE),IF($C47=\"PlSp25-30\",VLOOKUP($A47,'Lauf PlSp25-30'!$A$1:$G$15,5,FALSE),IF($C47=\"PlSp31-36\",VLOOKUP($A47,'Lauf PlSp31-36'!$A$1:$G$15,5,FALSE),IF($C47=\"PlSp37-42\",VLOOKUP($A47,'Lauf PlSp37-42'!$A$1:$G$15,5,FALSE),IF($C47=\"PlSp43-48\",VLOOKUP($A47,'Lauf PlSp43-48'!$A$1:$G$15,5,FALSE),IF($C47=\"Halbfinale\",VLOOKUP($A47,'Lauf Halbfinale'!$A$1:$G$6,5,FALSE),IF($C47=\"Endrunde\",VLOOKUP($A47,'Lauf Endrunde'!$A$1:$G$6,5,FALSE),))))))))))","v":"Gruppe F6"},null,null,null,null,null,null,null,null,null,null,null,null,null,null,null,null,null,null,null,null,null,null,null,null,null,null,null,null,null,null,null,null,null,null,null,null,null,null,null,null,null,null,null,null,null,2,23,2,"ZwRu2","10:24:00","vv BeilenFF","TuS Eversten 1"]
[45,3,"PlSp13-18","13:21:00",{"$f":"IF($C48=\"ZwRu1\",VLOOKUP($A48,'Lauf ZRA'!$A$1:$E$15,4,FALSE),IF($C48=\"ZwRu2\",VLOOKUP($A48,'Lauf ZRB'!$A$1:$E$15,4,FALSE),IF($C48=\"PlSp13-18\",VLOOKUP($A48,'Lauf PlSp13-18'!$A$1:$G$15,4,FALSE),IF($C48=\"PlSp19-24\",VLOOKUP($A48,'Lauf PlSp19-24'!$A$1:$G$15,4,FALSE),IF($C48=\"PlSp25-30\",VLOOKUP($A48,'Lauf PlSp25-30'!$A$1:$G$15,4,FALSE),IF($C48=\"PlSp31-36\",VLOOKUP($A48,'Lauf PlSp31-36'!$A$1:$G$15,4,FALSE),IF($C48=\"PlSp37-42\",VLOOKUP($A48,'Lauf PlSp37-42'!$A$1:$G$15,4,FALSE),IF($C48=\"PlSp43-48\",VLOOKUP($A48,'Lauf PlSp43-48'!$A$1:$G$15,4,FALSE),IF($C48=\"Halbfinale\",VLOOKUP($A48,'Lauf Halbfinale'!$A$1:$G$6,4,FALSE),IF($C48=\"Endrunde\",VLOOKUP($A48,'Lauf Endrunde'!$A$1:$G$6,4,FALSE),))))))))))","v":"Gruppe B6"},{"$f":"IF($C48=\"ZwRu1\",VLOOKUP($A48,'Lauf ZRA'!$A$1:$E$15,5,FALSE),IF($C48=\"ZwRu2\",VLOOKUP($A48,'Lauf ZRB'!$A$1:$E$15,5,FALSE),IF($C48=\"PlSp13-18\",VLOOKUP($A48,'Lauf PlSp13-18'!$A$1:$G$15,5,FALSE),IF($C48=\"PlSp19-24\",VLOOKUP($A48,'Lauf PlSp19-24'!$A$1:$G$15,5,FALSE),IF($C48=\"PlSp25-30\",VLOOKUP($A48,'Lauf PlSp25-30'!$A$1:$G$15,5,FALSE),IF($C48=\"PlSp31-36\",VLOOKUP($A48,'Lauf PlSp31-36'!$A$1:$G$15,5,FALSE),IF($C48=\"PlSp37-42\",VLOOKUP($A48,'Lauf PlSp37-42'!$A$1:$G$15,5,FALSE),IF($C48=\"PlSp43-48\",VLOOKUP($A48,'Lauf PlSp43-48'!$A$1:$G$15,5,FALSE),IF($C48=\"Halbfinale\",VLOOKUP($A48,'Lauf Halbfinale'!$A$1:$G$6,5,FALSE),IF($C48=\"Endrunde\",VLOOKUP($A48,'Lauf Endrunde'!$A$1:$G$6,5,FALSE),))))))))))","v":"Gruppe D2"},null,null,null,null,null,null,null,null,null,null,null,null,null,null,null,null,null,null,null,null,null,null,null,null,null,null,null,null,null,null,null,null,null,null,null,null,null,null,null,null,null,null,null,null,null,3,37,3,"PlSp13-18","10:24:00","Blau-Weiß Papenburg EE","VfB 1928 Wilden"]
[46,4,"PlSp19-24",{"$f":"IF(B49=M$13,VLOOKUP(A49,$M$14:$S$39,7,FALSE),IF(B49=N$13,VLOOKUP(A49,$N$14:$S$39,6,FALSE),IF(B49=O$13,VLOOKUP(A49,$O$13:$S$39,5,FALSE),IF(B49=P$13,VLOOKUP(A49,$P$13:$S$39,4,FALSE),IF(B49=Q$13,VLOOKUP(A49,$Q$13:$S$39,3,FALSE),IF(B49=R$13,VLOOKUP(A49,$R$13:$S$39,2,FALSE),\"\"))))))","v":"08:56:00"},{"$f":"IF($C49=\"ZwRu1\",VLOOKUP($A49,'Lauf ZRA'!$A$1:$E$15,4,FALSE),IF($C49=\"ZwRu2\",VLOOKUP($A49,'Lauf ZRB'!$A$1:$E$15,4,FALSE),IF($C49=\"PlSp13-18\",VLOOKUP($A49,'Lauf PlSp13-18'!$A$1:$G$15,4,FALSE),IF($C49=\"PlSp19-24\",VLOOKUP($A49,'Lauf PlSp19-24'!$A$1:$G$15,4,FALSE),IF($C49=\"PlSp25-30\",VLOOKUP($A49,'Lauf PlSp25-30'!$A$1:$G$15,4,FALSE),IF($C49=\"PlSp31-36\",VLOOKUP($A49,'Lauf PlSp31-36'!$A$1:$G$15,4,FALSE),IF($C49=\"PlSp37-42\",VLOOKUP($A49,'Lauf PlSp37-42'!$A$1:$G$15,4,FALSE),IF($C49=\"PlSp43-48\",VLOOKUP($A49,'Lauf PlSp43-48'!$A$1:$G$15,4,FALSE),IF($C49=\"Halbfinale\",VLOOKUP($A49,'Lauf Halbfinale'!$A$1:$G$6,4,FALSE),IF($C49=\"Endrunde\",VLOOKUP($A49,'Lauf Endrunde'!$A$1:$G$6,4,FALSE),))))))))))","v":"Gruppe A6"},{"$f":"IF($C49=\"ZwRu1\",VLOOKUP($A49,'Lauf ZRA'!$A$1:$E$15,5,FALSE),IF($C49=\"ZwRu2\",VLOOKUP($A49,'Lauf ZRB'!$A$1:$E$15,5,FALSE),IF($C49=\"PlSp13-18\",VLOOKUP($A49,'Lauf PlSp13-18'!$A$1:$G$15,5,FALSE),IF($C49=\"PlSp19-24\",VLOOKUP($A49,'Lauf PlSp19-24'!$A$1:$G$15,5,FALSE),IF($C49=\"PlSp25-30\",VLOOKUP($A49,'Lauf PlSp25-30'!$A$1:$G$15,5,FALSE),IF($C49=\"PlSp31-36\",VLOOKUP($A49,'Lauf PlSp31-36'!$A$1:$G$15,5,FALSE),IF($C49=\"PlSp37-42\",VLOOKUP($A49,'Lauf PlSp37-42'!$A$1:$G$15,5,FALSE),IF($C49=\"PlSp43-48\",VLOOKUP($A49,'Lauf PlSp43-48'!$A$1:$G$15,5,FALSE),IF($C49=\"Halbfinale\",VLOOKUP($A49,'Lauf Halbfinale'!$A$1:$G$6,5,FALSE),IF($C49=\"Endrunde\",VLOOKUP($A49,'Lauf Endrunde'!$A$1:$G$6,5,FALSE),))))))))))","v":"Gruppe B5"},null,null,null,null,null,null,null,null,null,null,null,null,null,null,null,null,null,null,null,null,null,null,null,null,null,null,null,null,null,null,null,null,null,null,null,null,null,null,null,null,null,null,null,null,null,4,51,4,"PlSp19-24","10:24:00","VfL Viktoria Flachsmeer","Blau-Weiß Papenburg"]
[47,4,"PlSp19-24","09:07:00",{"$f":"IF($C50=\"ZwRu1\",VLOOKUP($A50,'Lauf ZRA'!$A$1:$E$15,4,FALSE),IF($C50=\"ZwRu2\",VLOOKUP($A50,'Lauf ZRB'!$A$1:$E$15,4,FALSE),IF($C50=\"PlSp13-18\",VLOOKUP($A50,'Lauf PlSp13-18'!$A$1:$G$15,4,FALSE),IF($C50=\"PlSp19-24\",VLOOKUP($A50,'Lauf PlSp19-24'!$A$1:$G$15,4,FALSE),IF($C50=\"PlSp25-30\",VLOOKUP($A50,'Lauf PlSp25-30'!$A$1:$G$15,4,FALSE),IF($C50=\"PlSp31-36\",VLOOKUP($A50,'Lauf PlSp31-36'!$A$1:$G$15,4,FALSE),IF($C50=\"PlSp37-42\",VLOOKUP($A50,'Lauf PlSp37-42'!$A$1:$G$15,4,FALSE),IF($C50=\"PlSp43-48\",VLOOKUP($A50,'Lauf PlSp43-48'!$A$1:$G$15,4,FALSE),IF($C50=\"Halbfinale\",VLOOKUP($A50,'Lauf Halbfinale'!$A$1:$G$6,4,FALSE),IF($C50=\"Endrunde\",VLOOKUP($A50,'Lauf Endrunde'!$A$1:$G$6,4,FALSE),))))))))))","v":"Gruppe C3"},{"$f":"IF($C50=\"ZwRu1\",VLOOKUP($A50,'Lauf ZRA'!$A$1:$E$15,5,FALSE),IF($C50=\"ZwRu2\",VLOOKUP($A50,'Lauf ZRB'!$A$1:$E$15,5,FALSE),IF($C50=\"PlSp13-18\",VLOOKUP($A50,'Lauf PlSp13-18'!$A$1:$G$15,5,FALSE),IF($C50=\"PlSp19-24\",VLOOKUP($A50,'Lauf PlSp19-24'!$A$1:$G$15,5,FALSE),IF($C50=\"PlSp25-30\",VLOOKUP($A50,'Lauf PlSp25-30'!$A$1:$G$15,5,FALSE),IF($C50=\"PlSp31-36\",VLOOKUP($A50,'Lauf PlSp31-36'!$A$1:$G$15,5,FALSE),IF($C50=\"PlSp37-42\",VLOOKUP($A50,'Lauf PlSp37-42'!$A$1:$G$15,5,FALSE),IF($C50=\"PlSp43-48\",VLOOKUP($A50,'Lauf PlSp43-48'!$A$1:$G$15,5,FALSE),IF($C50=\"Halbfinale\",VLOOKUP($A50,'Lauf Halbfinale'!$A$1:$G$6,5,FALSE),IF($C50=\"Endrunde\",VLOOKUP($A50,'Lauf Endrunde'!$A$1:$G$6,5,FALSE),))))))))))","v":"Gruppe D3"},null,null,null,null,null,null,null,null,null,null,null,null,null,null,null,null,null,null,null,null,null,null,null,null,null,null,null,null,null,null,null,null,null,null,null,null,null,null,null,null,null,null,null,null,null,5,66,5,"PlSp25-30","10:24:00","SFR Möhlenwarf","Test"]
[48,4,"PlSp19-24","09:29:00",{"$f":"IF($C51=\"ZwRu1\",VLOOKUP($A51,'Lauf ZRA'!$A$1:$E$15,4,FALSE),IF($C51=\"ZwRu2\",VLOOKUP($A51,'Lauf ZRB'!$A$1:$E$15,4,FALSE),IF($C51=\"PlSp13-18\",VLOOKUP($A51,'Lauf PlSp13-18'!$A$1:$G$15,4,FALSE),IF($C51=\"PlSp19-24\",VLOOKUP($A51,'Lauf PlSp19-24'!$A$1:$G$15,4,FALSE),IF($C51=\"PlSp25-30\",VLOOKUP($A51,'Lauf PlSp25-30'!$A$1:$G$15,4,FALSE),IF($C51=\"PlSp31-36\",VLOOKUP($A51,'Lauf PlSp31-36'!$A$1:$G$15,4,FALSE),IF($C51=\"PlSp37-42\",VLOOKUP($A51,'Lauf PlSp37-42'!$A$1:$G$15,4,FALSE),IF($C51=\"PlSp43-48\",VLOOKUP($A51,'Lauf PlSp43-48'!$A$1:$G$15,4,FALSE),IF($C51=\"Halbfinale\",VLOOKUP($A51,'Lauf Halbfinale'!$A$1:$G$6,4,FALSE),IF($C51=\"Endrunde\",VLOOKUP($A51,'Lauf Endrunde'!$A$1:$G$6,4,FALSE),))))))))))","v":"Gruppe E4"},{"$f":"IF($C51=\"ZwRu1\",VLOOKUP($A51,'Lauf ZRA'!$A$1:$E$15,5,FALSE),IF($C51=\"ZwRu2\",VLOOKUP($A51,'Lauf ZRB'!$A$1:$E$15,5,FALSE),IF($C51=\"PlSp13-18\",VLOOKUP($A51,'Lauf PlSp13-18'!$A$1:$G$15,5,FALSE),IF($C51=\"PlSp19-24\",VLOOKUP($A51,'Lauf PlSp19-24'!$A$1:$G$15,5,FALSE),IF($C51=\"PlSp25-30\",VLOOKUP($A51,'Lauf PlSp25-30'!$A$1:$G$15,5,FALSE),IF($C51=\"PlSp31-36\",VLOOKUP($A51,'Lauf PlSp31-36'!$A$1:$G$15,5,FALSE),IF($C51=\"PlSp37-42\",VLOOKUP($A51,'Lauf PlSp37-42'!$A$1:$G$15,5,FALSE),IF($C51=\"PlSp43-48\",VLOOKUP($A51,'Lauf PlSp43-48'!$A$1:$G$15,5,FALSE),IF($C51=\"Halbfinale\",VLOOKUP($A51,'Lauf Halbfinale'!$A$1:$G$6,5,FALSE),IF($C51=\"Endrunde\",VLOOKUP($A51,'Lauf Endrunde'!$A$1:$G$6,5,FALSE),))))))))))","v":"Gruppe F4"},null,null,null,null,null,null,null,null,null,null,null,null,null,null,null,null,null,null,null,null,null,null,null,null,null,null,null,null,null,null,null,null,null,null,null,null,null,null,null,null,null,null,null,null,null,7,97,6,"PlSp37-42","10:24:00","SV Warsingsfehn EE","TuS Weener"]
[49,4,"PlSp19-24","09:40:00",{"$f":"IF($C52=\"ZwRu1\",VLOOKUP($A52,'Lauf ZRA'!$A$1:$E$15,4,FALSE),IF($C52=\"ZwRu2\",VLOOKUP($A52,'Lauf ZRB'!$A$1:$E$15,4,FALSE),IF($C52=\"PlSp13-18\",VLOOKUP($A52,'Lauf PlSp13-18'!$A$1:$G$15,4,FALSE),IF($C52=\"PlSp19-24\",VLOOKUP($A52,'Lauf PlSp19-24'!$A$1:$G$15,4,FALSE),IF($C52=\"PlSp25-30\",VLOOKUP($A52,'Lauf PlSp25-30'!$A$1:$G$15,4,FALSE),IF($C52=\"PlSp31-36\",VLOOKUP($A52,'Lauf PlSp31-36'!$A$1:$G$15,4,FALSE),IF($C52=\"PlSp37-42\",VLOOKUP($A52,'Lauf PlSp37-42'!$A$1:$G$15,4,FALSE),IF($C52=\"PlSp43-48\",VLOOKUP($A52,'Lauf PlSp43-48'!$A$1:$G$15,4,FALSE),IF($C52=\"Halbfinale\",VLOOKUP($A52,'Lauf Halbfinale'!$A$1:$G$6,4,FALSE),IF($C52=\"Endrunde\",VLOOKUP($A52,'Lauf Endrunde'!$A$1:$G$6,4,FALSE),))))))))))","v":"Gruppe B5"},{"$f":"IF($C52=\"ZwRu1\",VLOOKUP($A52,'Lauf ZRA'!$A$1:$E$15,5,FALSE),IF($C52=\"ZwRu2\",VLOOKUP($A52,'Lauf ZRB'!$A$1:$E$15,5,FALSE),IF($C52=\"PlSp13-18\",VLOOKUP($A52,'Lauf PlSp13-18'!$A$1:$G$15,5,FALSE),IF($C52=\"PlSp19-24\",VLOOKUP($A52,'Lauf PlSp19-24'!$A$1:$G$15,5,FALSE),IF($C52=\"PlSp25-30\",VLOOKUP($A52,'Lauf PlSp25-30'!$A$1:$G$15,5,FALSE),IF($C52=\"PlSp31-36\",VLOOKUP($A52,'Lauf PlSp31-36'!$A$1:$G$15,5,FALSE),IF($C52=\"PlSp37-42\",VLOOKUP($A52,'Lauf PlSp37-42'!$A$1:$G$15,5,FALSE),IF($C52=\"PlSp43-48\",VLOOKUP($A52,'Lauf PlSp43-48'!$A$1:$G$15,5,FALSE),IF($C52=\"Halbfinale\",VLOOKUP($A52,'Lauf Halbfinale'!$A$1:$G$6,5,FALSE),IF($C52=\"Endrunde\",VLOOKUP($A52,'Lauf Endrunde'!$A$1:$G$6,5,FALSE),))))))))))","v":"Gruppe C3"},null,null,null,null,null,null,null,null,null,null,null,null,null,null,null,null,null,null,null,null,null,null,null,null,null,null,null,null,null,null,null,null,null,null,null,null,null,null,null,null,null,null,null,null,null,1,9,1,"ZwRu1","10:36:00","MSG Moormerland Mädchen","MSG Moormerland EE"]
[50,4,"PlSp19-24","10:02:00",{"$f":"IF($C53=\"ZwRu1\",VLOOKUP($A53,'Lauf ZRA'!$A$1:$E$15,4,FALSE),IF($C53=\"ZwRu2\",VLOOKUP($A53,'Lauf ZRB'!$A$1:$E$15,4,FALSE),IF($C53=\"PlSp13-18\",VLOOKUP($A53,'Lauf PlSp13-18'!$A$1:$G$15,4,FALSE),IF($C53=\"PlSp19-24\",VLOOKUP($A53,'Lauf PlSp19-24'!$A$1:$G$15,4,FALSE),IF($C53=\"PlSp25-30\",VLOOKUP($A53,'Lauf PlSp25-30'!$A$1:$G$15,4,FALSE),IF($C53=\"PlSp31-36\",VLOOKUP($A53,'Lauf PlSp31-36'!$A$1:$G$15,4,FALSE),IF($C53=\"PlSp37-42\",VLOOKUP($A53,'Lauf PlSp37-42'!$A$1:$G$15,4,FALSE),IF($C53=\"PlSp43-48\",VLOOKUP($A53,'Lauf PlSp43-48'!$A$1:$G$15,4,FALSE),IF($C53=\"Halbfinale\",VLOOKUP($A53,'Lauf Halbfinale'!$A$1:$G$6,4,FALSE),IF($C53=\"Endrunde\",VLOOKUP($A53,'Lauf Endrunde'!$A$1:$G$6,4,FALSE),))))))))))","v":"Gruppe D3"},{"$f":"IF($C53=\"ZwRu1\",VLOOKUP($A53,'Lauf ZRA'!$A$1:$E$15,5,FALSE),IF($C53=\"ZwRu2\",VLOOKUP($A53,'Lauf ZRB'!$A$1:$E$15,5,FALSE),IF($C53=\"PlSp13-18\",VLOOKUP($A53,'Lauf PlSp13-18'!$A$1:$G$15,5,FALSE),IF($C53=\"PlSp19-24\",VLOOKUP($A53,'Lauf PlSp19-24'!$A$1:$G$15,5,FALSE),IF($C53=\"PlSp25-30\",VLOOKUP($A53,'Lauf PlSp25-30'!$A$1:$G$15,5,FALSE),IF($C53=\"PlSp31-36\",VLOOKUP($A53,'Lauf PlSp31-36'!$A$1:$G$15,5,FALSE),IF($C53=\"PlSp37-42\",VLOOKUP($A53,'Lauf PlSp37-42'!$A$1:$G$15,5,FALSE),IF($C53=\"PlSp43-48\",VLOOKUP($A53,'Lauf PlSp43-48'!$A$1:$G$15,5,FALSE),IF($C53=\"Halbfinale\",VLOOKUP($A53,'Lauf Halbfinale'!$A$1:$G$6,5,FALSE),IF($C53=\"Endrunde\",VLOOKUP($A53,'Lauf Endrunde'!$A$1:$G$6,5,FALSE),))))))))))","v":"Gruppe E4"},null,null,null,null,null,null,null,null,null,null,null,null,null,null,null,null,null,null,null,null,null,null,null,null,null,null,null,null,null,null,null,null,null,null,null,null,null,null,null,null,null,null,null,null,null,2,24,2,"ZwRu2","10:36:00","SV Spetzerfehn","SV Spetzerfehn FF"]
[51,4,"PlSp19-24","10:13:00",{"$f":"IF($C54=\"ZwRu1\",VLOOKUP($A54,'Lauf ZRA'!$A$1:$E$15,4,FALSE),IF($C54=\"ZwRu2\",VLOOKUP($A54,'Lauf ZRB'!$A$1:$E$15,4,FALSE),IF($C54=\"PlSp13-18\",VLOOKUP($A54,'Lauf PlSp13-18'!$A$1:$G$15,4,FALSE),IF($C54=\"PlSp19-24\",VLOOKUP($A54,'Lauf PlSp19-24'!$A$1:$G$15,4,FALSE),IF($C54=\"PlSp25-30\",VLOOKUP($A54,'Lauf PlSp25-30'!$A$1:$G$15,4,FALSE),IF($C54=\"PlSp31-36\",VLOOKUP($A54,'Lauf PlSp31-36'!$A$1:$G$15,4,FALSE),IF($C54=\"PlSp37-42\",VLOOKUP($A54,'Lauf PlSp37-42'!$A$1:$G$15,4,FALSE),IF($C54=\"PlSp43-48\",VLOOKUP($A54,'Lauf PlSp43-48'!$A$1:$G$15,4,FALSE),IF($C54=\"Halbfinale\",VLOOKUP($A54,'Lauf Halbfinale'!$A$1:$G$6,4,FALSE),IF($C54=\"Endrunde\",VLOOKUP($A54,'Lauf Endrunde'!$A$1:$G$6,4,FALSE),))))))))))","v":"Gruppe A6"},{"$f":"IF($C54=\"ZwRu1\",VLOOKUP($A54,'Lauf ZRA'!$A$1:$E$15,5,FALSE),IF($C54=\"ZwRu2\",VLOOKUP($A54,'Lauf ZRB'!$A$1:$E$15,5,FALSE),IF($C54=\"PlSp13-18\",VLOOKUP($A54,'Lauf PlSp13-18'!$A$1:$G$15,5,FALSE),IF($C54=\"PlSp19-24\",VLOOKUP($A54,'Lauf PlSp19-24'!$A$1:$G$15,5,FALSE),IF($C54=\"PlSp25-30\",VLOOKUP($A54,'Lauf PlSp25-30'!$A$1:$G$15,5,FALSE),IF($C54=\"PlSp31-36\",VLOOKUP($A54,'Lauf PlSp31-36'!$A$1:$G$15,5,FALSE),IF($C54=\"PlSp37-42\",VLOOKUP($A54,'Lauf PlSp37-42'!$A$1:$G$15,5,FALSE),IF($C54=\"PlSp43-48\",VLOOKUP($A54,'Lauf PlSp43-48'!$A$1:$G$15,5,FALSE),IF($C54=\"Halbfinale\",VLOOKUP($A54,'Lauf Halbfinale'!$A$1:$G$6,5,FALSE),IF($C54=\"Endrunde\",VLOOKUP($A54,'Lauf Endrunde'!$A$1:$G$6,5,FALSE),))))))))))","v":"Gruppe C3"},null,null,null,null,null,null,null,null,null,null,null,null,null,null,null,null,null,null,null,null,null,null,null,null,null,null,null,null,null,null,null,null,null,null,null,null,null,null,null,null,null,null,null,null,null,7,98,3,"PlSp37-42","10:36:00","VfL \"Fortuna\" Veenhusen 3 FF","Test Team A"]
[52,4,"PlSp19-24","10:35:00",{"$f":"IF($C55=\"ZwRu1\",VLOOKUP($A55,'Lauf ZRA'!$A$1:$E$15,4,FALSE),IF($C55=\"ZwRu2\",VLOOKUP($A55,'Lauf ZRB'!$A$1:$E$15,4,FALSE),IF($C55=\"PlSp13-18\",VLOOKUP($A55,'Lauf PlSp13-18'!$A$1:$G$15,4,FALSE),IF($C55=\"PlSp19-24\",VLOOKUP($A55,'Lauf PlSp19-24'!$A$1:$G$15,4,FALSE),IF($C55=\"PlSp25-30\",VLOOKUP($A55,'Lauf PlSp25-30'!$A$1:$G$15,4,FALSE),IF($C55=\"PlSp31-36\",VLOOKUP($A55,'Lauf PlSp31-36'!$A$1:$G$15,4,FALSE),IF($C55=\"PlSp37-42\",VLOOKUP($A55,'Lauf PlSp37-42'!$A$1:$G$15,4,FALSE),IF($C55=\"PlSp43-48\",VLOOKUP($A55,'Lauf PlSp43-48'!$A$1:$G$15,4,FALSE),IF($C55=\"Halbfinale\",VLOOKUP($A55,'Lauf Halbfinale'!$A$1:$G$6,4,FALSE),IF($C55=\"Endrunde\",VLOOKUP($A55,'Lauf Endrunde'!$A$1:$G$6,4,FALSE),))))))))))","v":"Gruppe E4"},{"$f":"IF($C55=\"ZwRu1\",VLOOKUP($A55,'Lauf ZRA'!$A$1:$E$15,5,FALSE),IF($C55=\"ZwRu2\",VLOOKUP($A55,'Lauf ZRB'!$A$1:$E$15,5,FALSE),IF($C55=\"PlSp13-18\",VLOOKUP($A55,'Lauf PlSp13-18'!$A$1:$G$15,5,FALSE),IF($C55=\"PlSp19-24\",VLOOKUP($A55,'Lauf PlSp19-24'!$A$1:$G$15,5,FALSE),IF($C55=\"PlSp25-30\",VLOOKUP($A55,'Lauf PlSp25-30'!$A$1:$G$15,5,FALSE),IF($C55=\"PlSp31-36\",VLOOKUP($A55,'Lauf PlSp31-36'!$A$1:$G$15,5,FALSE),IF($C55=\"PlSp37-42\",VLOOKUP($A55,'Lauf PlSp37-42'!$A$1:$G$15,5,FALSE),IF($C55=\"PlSp43-48\",VLOOKUP($A55,'Lauf PlSp43-48'!$A$1:$G$15,5,FALSE),IF($C55=\"Halbfinale\",VLOOKUP($A55,'Lauf Halbfinale'!$A$1:$G$6,5,FALSE),IF($C55=\"Endrunde\",VLOOKUP($A55,'Lauf Endrunde'!$A$1:$G$6,5,FALSE),))))))))))","v":"Gruppe B5"},null,null,null,null,null,null,null,null,null,null,null,null,null,null,null,null,null,null,null,null,null,null,null,null,null,null,null,null,null,null,null,null,null,null,null,null,null,null,null,null,null,null,null,null,null,4,52,4,"PlSp19-24","10:36:00","TuS Eversten 2 EE","VfL Weiße Elf Nordhorn"]
[53,4,"PlSp19-24","10:46:00",{"$f":"IF($C56=\"ZwRu1\",VLOOKUP($A56,'Lauf ZRA'!$A$1:$E$15,4,FALSE),IF($C56=\"ZwRu2\",VLOOKUP($A56,'Lauf ZRB'!$A$1:$E$15,4,FALSE),IF($C56=\"PlSp13-18\",VLOOKUP($A56,'Lauf PlSp13-18'!$A$1:$G$15,4,FALSE),IF($C56=\"PlSp19-24\",VLOOKUP($A56,'Lauf PlSp19-24'!$A$1:$G$15,4,FALSE),IF($C56=\"PlSp25-30\",VLOOKUP($A56,'Lauf PlSp25-30'!$A$1:$G$15,4,FALSE),IF($C56=\"PlSp31-36\",VLOOKUP($A56,'Lauf PlSp31-36'!$A$1:$G$15,4,FALSE),IF($C56=\"PlSp37-42\",VLOOKUP($A56,'Lauf PlSp37-42'!$A$1:$G$15,4,FALSE),IF($C56=\"PlSp43-48\",VLOOKUP($A56,'Lauf PlSp43-48'!$A$1:$G$15,4,FALSE),IF($C56=\"Halbfinale\",VLOOKUP($A56,'Lauf Halbfinale'!$A$1:$G$6,4,FALSE),IF($C56=\"Endrunde\",VLOOKUP($A56,'Lauf Endrunde'!$A$1:$G$6,4,FALSE),))))))))))","v":"Gruppe F4"},{"$f":"IF($C56=\"ZwRu1\",VLOOKUP($A56,'Lauf ZRA'!$A$1:$E$15,5,FALSE),IF($C56=\"ZwRu2\",VLOOKUP($A56,'Lauf ZRB'!$A$1:$E$15,5,FALSE),IF($C56=\"PlSp13-18\",VLOOKUP($A56,'Lauf PlSp13-18'!$A$1:$G$15,5,FALSE),IF($C56=\"PlSp19-24\",VLOOKUP($A56,'Lauf PlSp19-24'!$A$1:$G$15,5,FALSE),IF($C56=\"PlSp25-30\",VLOOKUP($A56,'Lauf PlSp25-30'!$A$1:$G$15,5,FALSE),IF($C56=\"PlSp31-36\",VLOOKUP($A56,'Lauf PlSp31-36'!$A$1:$G$15,5,FALSE),IF($C56=\"PlSp37-42\",VLOOKUP($A56,'Lauf PlSp37-42'!$A$1:$G$15,5,FALSE),IF($C56=\"PlSp43-48\",VLOOKUP($A56,'Lauf PlSp43-48'!$A$1:$G$15,5,FALSE),IF($C56=\"Halbfinale\",VLOOKUP($A56,'Lauf Halbfinale'!$A$1:$G$6,5,FALSE),IF($C56=\"Endrunde\",VLOOKUP($A56,'Lauf Endrunde'!$A$1:$G$6,5,FALSE),))))))))))","v":"Gruppe A6"},null,null,null,null,null,null,null,null,null,null,null,null,null,null,null,null,null,null,null,null,null,null,null,null,null,null,null,null,null,null,null,null,null,null,null,null,null,null,null,null,null,null,null,null,null,5,67,5,"PlSp25-30","10:36:00","Willy","JFV Leer"]
[54,4,"PlSp19-24","11:08:00",{"$f":"IF($C57=\"ZwRu1\",VLOOKUP($A57,'Lauf ZRA'!$A$1:$E$15,4,FALSE),IF($C57=\"ZwRu2\",VLOOKUP($A57,'Lauf ZRB'!$A$1:$E$15,4,FALSE),IF($C57=\"PlSp13-18\",VLOOKUP($A57,'Lauf PlSp13-18'!$A$1:$G$15,4,FALSE),IF($C57=\"PlSp19-24\",VLOOKUP($A57,'Lauf PlSp19-24'!$A$1:$G$15,4,FALSE),IF($C57=\"PlSp25-30\",VLOOKUP($A57,'Lauf PlSp25-30'!$A$1:$G$15,4,FALSE),IF($C57=\"PlSp31-36\",VLOOKUP($A57,'Lauf PlSp31-36'!$A$1:$G$15,4,FALSE),IF($C57=\"PlSp37-42\",VLOOKUP($A57,'Lauf PlSp37-42'!$A$1:$G$15,4,FALSE),IF($C57=\"PlSp43-48\",VLOOKUP($A57,'Lauf PlSp43-48'!$A$1:$G$15,4,FALSE),IF($C57=\"Halbfinale\",VLOOKUP($A57,'Lauf Halbfinale'!$A$1:$G$6,4,FALSE),IF($C57=\"Endrunde\",VLOOKUP($A57,'Lauf Endrunde'!$A$1:$G$6,4,FALSE),))))))))))","v":"Gruppe C3"},{"$f":"IF($C57=\"ZwRu1\",VLOOKUP($A57,'Lauf ZRA'!$A$1:$E$15,5,FALSE),IF($C57=\"ZwRu2\",VLOOKUP($A57,'Lauf ZRB'!$A$1:$E$15,5,FALSE),IF($C57=\"PlSp13-18\",VLOOKUP($A57,'Lauf PlSp13-18'!$A$1:$G$15,5,FALSE),IF($C57=\"PlSp19-24\",VLOOKUP($A57,'Lauf PlSp19-24'!$A$1:$G$15,5,FALSE),IF($C57=\"PlSp25-30\",VLOOKUP($A57,'Lauf PlSp25-30'!$A$1:$G$15,5,FALSE),IF($C57=\"PlSp31-36\",VLOOKUP($A57,'Lauf PlSp31-36'!$A$1:$G$15,5,FALSE),IF($C57=\"PlSp37-42\",VLOOKUP($A57,'Lauf PlSp37-42'!$A$1:$G$15,5,FALSE),IF($C57=\"PlSp43-48\",VLOOKUP($A57,'Lauf PlSp43-48'!$A$1:$G$15,5,FALSE),IF($C57=\"Halbfinale\",VLOOKUP($A57,'Lauf Halbfinale'!$A$1:$G$6,5,FALSE),IF($C57=\"Endrunde\",VLOOKUP($A57,'Lauf Endrunde'!$A$1:$G$6,5,FALSE),))))))))))","v":"Gruppe E4"},null,null,null,null,null,null,null,null,null,null,null,null,null,null,null,null,null,null,null,null,null,null,null,null,null,null,null,null,null,null,null,null,null,null,null,null,null,null,null,null,null,null,null,null,null,6,82,6,"PlSp31-36","10:36:00","JVC Dedemsvaart EE","Test Team B"]
[55,4,"PlSp19-24","11:19:00",{"$f":"IF($C58=\"ZwRu1\",VLOOKUP($A58,'Lauf ZRA'!$A$1:$E$15,4,FALSE),IF($C58=\"ZwRu2\",VLOOKUP($A58,'Lauf ZRB'!$A$1:$E$15,4,FALSE),IF($C58=\"PlSp13-18\",VLOOKUP($A58,'Lauf PlSp13-18'!$A$1:$G$15,4,FALSE),IF($C58=\"PlSp19-24\",VLOOKUP($A58,'Lauf PlSp19-24'!$A$1:$G$15,4,FALSE),IF($C58=\"PlSp25-30\",VLOOKUP($A58,'Lauf PlSp25-30'!$A$1:$G$15,4,FALSE),IF($C58=\"PlSp31-36\",VLOOKUP($A58,'Lauf PlSp31-36'!$A$1:$G$15,4,FALSE),IF($C58=\"PlSp37-42\",VLOOKUP($A58,'Lauf PlSp37-42'!$A$1:$G$15,4,FALSE),IF($C58=\"PlSp43-48\",VLOOKUP($A58,'Lauf PlSp43-48'!$A$1:$G$15,4,FALSE),IF($C58=\"Halbfinale\",VLOOKUP($A58,'Lauf Halbfinale'!$A$1:$G$6,4,FALSE),IF($C58=\"Endrunde\",VLOOKUP($A58,'Lauf Endrunde'!$A$1:$G$6,4,FALSE),))))))))))","v":"Gruppe D3"},{"$f":"IF($C58=\"ZwRu1\",VLOOKUP($A58,'Lauf ZRA'!$A$1:$E$15,5,FALSE),IF($C58=\"ZwRu2\",VLOOKUP($A58,'Lauf ZRB'!$A$1:$E$15,5,FALSE),IF($C58=\"PlSp13-18\",VLOOKUP($A58,'Lauf PlSp13-18'!$A$1:$G$15,5,FALSE),IF($C58=\"PlSp19-24\",VLOOKUP($A58,'Lauf PlSp19-24'!$A$1:$G$15,5,FALSE),IF($C58=\"PlSp25-30\",VLOOKUP($A58,'Lauf PlSp25-30'!$A$1:$G$15,5,FALSE),IF($C58=\"PlSp31-36\",VLOOKUP($A58,'Lauf PlSp31-36'!$A$1:$G$15,5,FALSE),IF($C58=\"PlSp37-42\",VLOOKUP($A58,'Lauf PlSp37-42'!$A$1:$G$15,5,FALSE),IF($C58=\"PlSp43-48\",VLOOKUP($A58,'Lauf PlSp43-48'!$A$1:$G$15,5,FALSE),IF($C58=\"Halbfinale\",VLOOKUP($A58,'Lauf Halbfinale'!$A$1:$G$6,5,FALSE),IF($C58=\"Endrunde\",VLOOKUP($A58,'Lauf Endrunde'!$A$1:$G$6,5,FALSE),))))))))))","v":"Gruppe F4"},null,null,null,null,null,null,null,null,null,null,null,null,null,null,null,null,null,null,null,null,null,null,null,null,null,null,null,null,null,null,null,null,null,null,null,null,null,null,null,null,null,null,null,null,null,1,10,1,"ZwRu1","10:48:00","TuS Eversten 2","JSG Riede/Emtinghausen EE"]
[56,4,"PlSp19-24","12:26:00",{"$f":"IF($C59=\"ZwRu1\",VLOOKUP($A59,'Lauf ZRA'!$A$1:$E$15,4,FALSE),IF($C59=\"ZwRu2\",VLOOKUP($A59,'Lauf ZRB'!$A$1:$E$15,4,FALSE),IF($C59=\"PlSp13-18\",VLOOKUP($A59,'Lauf PlSp13-18'!$A$1:$G$15,4,FALSE),IF($C59=\"PlSp19-24\",VLOOKUP($A59,'Lauf PlSp19-24'!$A$1:$G$15,4,FALSE),IF($C59=\"PlSp25-30\",VLOOKUP($A59,'Lauf PlSp25-30'!$A$1:$G$15,4,FALSE),IF($C59=\"PlSp31-36\",VLOOKUP($A59,'Lauf PlSp31-36'!$A$1:$G$15,4,FALSE),IF($C59=\"PlSp37-42\",VLOOKUP($A59,'Lauf PlSp37-42'!$A$1:$G$15,4,FALSE),IF($C59=\"PlSp43-48\",VLOOKUP($A59,'Lauf PlSp43-48'!$A$1:$G$15,4,FALSE),IF($C59=\"Halbfinale\",VLOOKUP($A59,'Lauf Halbfinale'!$A$1:$G$6,4,FALSE),IF($C59=\"Endrunde\",VLOOKUP($A59,'Lauf Endrunde'!$A$1:$G$6,4,FALSE),))))))))))","v":"Gruppe A6"},{"$f":"IF($C59=\"ZwRu1\",VLOOKUP($A59,'Lauf ZRA'!$A$1:$E$15,5,FALSE),IF($C59=\"ZwRu2\",VLOOKUP($A59,'Lauf ZRB'!$A$1:$E$15,5,FALSE),IF($C59=\"PlSp13-18\",VLOOKUP($A59,'Lauf PlSp13-18'!$A$1:$G$15,5,FALSE),IF($C59=\"PlSp19-24\",VLOOKUP($A59,'Lauf PlSp19-24'!$A$1:$G$15,5,FALSE),IF($C59=\"PlSp25-30\",VLOOKUP($A59,'Lauf PlSp25-30'!$A$1:$G$15,5,FALSE),IF($C59=\"PlSp31-36\",VLOOKUP($A59,'Lauf PlSp31-36'!$A$1:$G$15,5,FALSE),IF($C59=\"PlSp37-42\",VLOOKUP($A59,'Lauf PlSp37-42'!$A$1:$G$15,5,FALSE),IF($C59=\"PlSp43-48\",VLOOKUP($A59,'Lauf PlSp43-48'!$A$1:$G$15,5,FALSE),IF($C59=\"Halbfinale\",VLOOKUP($A59,'Lauf Halbfinale'!$A$1:$G$6,5,FALSE),IF($C59=\"Endrunde\",VLOOKUP($A59,'Lauf Endrunde'!$A$1:$G$6,5,FALSE),))))))))))","v":"Gruppe E4"},null,null,null,null,null,null,null,null,null,null,null,null,null,null,null,null,null,null,null,null,null,null,null,null,null,null,null,null,null,null,null,null,null,null,null,null,null,null,null,null,null,null,null,null,null,2,25,2,"ZwRu2","10:48:00","TuRa Westrhauderfehn","vv BeilenFF"]
[57,4,"PlSp19-24","12:37:00",{"$f":"IF($C60=\"ZwRu1\",VLOOKUP($A60,'Lauf ZRA'!$A$1:$E$15,4,FALSE),IF($C60=\"ZwRu2\",VLOOKUP($A60,'Lauf ZRB'!$A$1:$E$15,4,FALSE),IF($C60=\"PlSp13-18\",VLOOKUP($A60,'Lauf PlSp13-18'!$A$1:$G$15,4,FALSE),IF($C60=\"PlSp19-24\",VLOOKUP($A60,'Lauf PlSp19-24'!$A$1:$G$15,4,FALSE),IF($C60=\"PlSp25-30\",VLOOKUP($A60,'Lauf PlSp25-30'!$A$1:$G$15,4,FALSE),IF($C60=\"PlSp31-36\",VLOOKUP($A60,'Lauf PlSp31-36'!$A$1:$G$15,4,FALSE),IF($C60=\"PlSp37-42\",VLOOKUP($A60,'Lauf PlSp37-42'!$A$1:$G$15,4,FALSE),IF($C60=\"PlSp43-48\",VLOOKUP($A60,'Lauf PlSp43-48'!$A$1:$G$15,4,FALSE),IF($C60=\"Halbfinale\",VLOOKUP($A60,'Lauf Halbfinale'!$A$1:$G$6,4,FALSE),IF($C60=\"Endrunde\",VLOOKUP($A60,'Lauf Endrunde'!$A$1:$G$6,4,FALSE),))))))))))","v":"Gruppe F4"},{"$f":"IF($C60=\"ZwRu1\",VLOOKUP($A60,'Lauf ZRA'!$A$1:$E$15,5,FALSE),IF($C60=\"ZwRu2\",VLOOKUP($A60,'Lauf ZRB'!$A$1:$E$15,5,FALSE),IF($C60=\"PlSp13-18\",VLOOKUP($A60,'Lauf PlSp13-18'!$A$1:$G$15,5,FALSE),IF($C60=\"PlSp19-24\",VLOOKUP($A60,'Lauf PlSp19-24'!$A$1:$G$15,5,FALSE),IF($C60=\"PlSp25-30\",VLOOKUP($A60,'Lauf PlSp25-30'!$A$1:$G$15,5,FALSE),IF($C60=\"PlSp31-36\",VLOOKUP($A60,'Lauf PlSp31-36'!$A$1:$G$15,5,FALSE),IF($C60=\"PlSp37-42\",VLOOKUP($A60,'Lauf PlSp37-42'!$A$1:$G$15,5,FALSE),IF($C60=\"PlSp43-48\",VLOOKUP($A60,'Lauf PlSp43-48'!$A$1:$G$15,5,FALSE),IF($C60=\"Halbfinale\",VLOOKUP($A60,'Lauf Halbfinale'!$A$1:$G$6,5,FALSE),IF($C60=\"Endrunde\",VLOOKUP($A60,'Lauf Endrunde'!$A$1:$G$6,5,FALSE),))))))))))","v":"Gruppe B5"},null,null,null,null,null,null,null,null,null,null,null,null,null,null,null,null,null,null,null,null,null,null,null,null,null,null,null,null,null,null,null,null,null,null,null,null,null,null,null,null,null,null,null,null,null,3,38,3,"PlSp13-18","10:48:00","TuRa Westrhauderfehn FF","SV Ostfrisia Moordorf"]
[58,4,"PlSp19-24","12:59:00",{"$f":"IF($C61=\"ZwRu1\",VLOOKUP($A61,'Lauf ZRA'!$A$1:$E$15,4,FALSE),IF($C61=\"ZwRu2\",VLOOKUP($A61,'Lauf ZRB'!$A$1:$E$15,4,FALSE),IF($C61=\"PlSp13-18\",VLOOKUP($A61,'Lauf PlSp13-18'!$A$1:$G$15,4,FALSE),IF($C61=\"PlSp19-24\",VLOOKUP($A61,'Lauf PlSp19-24'!$A$1:$G$15,4,FALSE),IF($C61=\"PlSp25-30\",VLOOKUP($A61,'Lauf PlSp25-30'!$A$1:$G$15,4,FALSE),IF($C61=\"PlSp31-36\",VLOOKUP($A61,'Lauf PlSp31-36'!$A$1:$G$15,4,FALSE),IF($C61=\"PlSp37-42\",VLOOKUP($A61,'Lauf PlSp37-42'!$A$1:$G$15,4,FALSE),IF($C61=\"PlSp43-48\",VLOOKUP($A61,'Lauf PlSp43-48'!$A$1:$G$15,4,FALSE),IF($C61=\"Halbfinale\",VLOOKUP($A61,'Lauf Halbfinale'!$A$1:$G$6,4,FALSE),IF($C61=\"Endrunde\",VLOOKUP($A61,'Lauf Endrunde'!$A$1:$G$6,4,FALSE),))))))))))","v":"Gruppe D3"},{"$f":"IF($C61=\"ZwRu1\",VLOOKUP($A61,'Lauf ZRA'!$A$1:$E$15,5,FALSE),IF($C61=\"ZwRu2\",VLOOKUP($A61,'Lauf ZRB'!$A$1:$E$15,5,FALSE),IF($C61=\"PlSp13-18\",VLOOKUP($A61,'Lauf PlSp13-18'!$A$1:$G$15,5,FALSE),IF($C61=\"PlSp19-24\",VLOOKUP($A61,'Lauf PlSp19-24'!$A$1:$G$15,5,FALSE),IF($C61=\"PlSp25-30\",VLOOKUP($A61,'Lauf PlSp25-30'!$A$1:$G$15,5,FALSE),IF($C61=\"PlSp31-36\",VLOOKUP($A61,'Lauf PlSp31-36'!$A$1:$G$15,5,FALSE),IF($C61=\"PlSp37-42\",VLOOKUP($A61,'Lauf PlSp37-42'!$A$1:$G$15,5,FALSE),IF($C61=\"PlSp43-48\",VLOOKUP($A61,'Lauf PlSp43-48'!$A$1:$G$15,5,FALSE),IF($C61=\"Halbfinale\",VLOOKUP($A61,'Lauf Halbfinale'!$A$1:$G$6,5,FALSE),IF($C61=\"Endrunde\",VLOOKUP($A61,'Lauf Endrunde'!$A$1:$G$6,5,FALSE),))))))))))","v":"Gruppe A6"},null,null,null,null,null,null,null,null,null,null,null,null,null,null,null,null,null,null,null,null,null,null,null,null,null,null,null,null,null,null,null,null,null,null,null,null,null,null,null,null,null,null,null,null,null,4,53,4,"PlSp19-24","10:48:00","JSG Harderberg/Kloster Oesede 1 FF","VfL Viktoria Flachsmeer"]
[59,4,"PlSp19-24","13:10:00",{"$f":"IF($C62=\"ZwRu1\",VLOOKUP($A62,'Lauf ZRA'!$A$1:$E$15,4,FALSE),IF($C62=\"ZwRu2\",VLOOKUP($A62,'Lauf ZRB'!$A$1:$E$15,4,FALSE),IF($C62=\"PlSp13-18\",VLOOKUP($A62,'Lauf PlSp13-18'!$A$1:$G$15,4,FALSE),IF($C62=\"PlSp19-24\",VLOOKUP($A62,'Lauf PlSp19-24'!$A$1:$G$15,4,FALSE),IF($C62=\"PlSp25-30\",VLOOKUP($A62,'Lauf PlSp25-30'!$A$1:$G$15,4,FALSE),IF($C62=\"PlSp31-36\",VLOOKUP($A62,'Lauf PlSp31-36'!$A$1:$G$15,4,FALSE),IF($C62=\"PlSp37-42\",VLOOKUP($A62,'Lauf PlSp37-42'!$A$1:$G$15,4,FALSE),IF($C62=\"PlSp43-48\",VLOOKUP($A62,'Lauf PlSp43-48'!$A$1:$G$15,4,FALSE),IF($C62=\"Halbfinale\",VLOOKUP($A62,'Lauf Halbfinale'!$A$1:$G$6,4,FALSE),IF($C62=\"Endrunde\",VLOOKUP($A62,'Lauf Endrunde'!$A$1:$G$6,4,FALSE),))))))))))","v":"Gruppe C3"},{"$f":"IF($C62=\"ZwRu1\",VLOOKUP($A62,'Lauf ZRA'!$A$1:$E$15,5,FALSE),IF($C62=\"ZwRu2\",VLOOKUP($A62,'Lauf ZRB'!$A$1:$E$15,5,FALSE),IF($C62=\"PlSp13-18\",VLOOKUP($A62,'Lauf PlSp13-18'!$A$1:$G$15,5,FALSE),IF($C62=\"PlSp19-24\",VLOOKUP($A62,'Lauf PlSp19-24'!$A$1:$G$15,5,FALSE),IF($C62=\"PlSp25-30\",VLOOKUP($A62,'Lauf PlSp25-30'!$A$1:$G$15,5,FALSE),IF($C62=\"PlSp31-36\",VLOOKUP($A62,'Lauf PlSp31-36'!$A$1:$G$15,5,FALSE),IF($C62=\"PlSp37-42\",VLOOKUP($A62,'Lauf PlSp37-42'!$A$1:$G$15,5,FALSE),IF($C62=\"PlSp43-48\",VLOOKUP($A62,'Lauf PlSp43-48'!$A$1:$G$15,5,FALSE),IF($C62=\"Halbfinale\",VLOOKUP($A62,'Lauf Halbfinale'!$A$1:$G$6,5,FALSE),IF($C62=\"Endrunde\",VLOOKUP($A62,'Lauf Endrunde'!$A$1:$G$6,5,FALSE),))))))))))","v":"Gruppe F4"},null,null,null,null,null,null,null,null,null,null,null,null,null,null,null,null,null,null,null,null,null,null,null,null,null,null,null,null,null,null,null,null,null,null,null,null,null,null,null,null,null,null,null,null,null,7,99,5,"PlSp37-42","10:48:00","SV Warsingsfehn","SV Warsingsfehn EE"]
[60,4,"PlSp19-24","13:21:00",{"$f":"IF($C63=\"ZwRu1\",VLOOKUP($A63,'Lauf ZRA'!$A$1:$E$15,4,FALSE),IF($C63=\"ZwRu2\",VLOOKUP($A63,'Lauf ZRB'!$A$1:$E$15,4,FALSE),IF($C63=\"PlSp13-18\",VLOOKUP($A63,'Lauf PlSp13-18'!$A$1:$G$15,4,FALSE),IF($C63=\"PlSp19-24\",VLOOKUP($A63,'Lauf PlSp19-24'!$A$1:$G$15,4,FALSE),IF($C63=\"PlSp25-30\",VLOOKUP($A63,'Lauf PlSp25-30'!$A$1:$G$15,4,FALSE),IF($C63=\"PlSp31-36\",VLOOKUP($A63,'Lauf PlSp31-36'!$A$1:$G$15,4,FALSE),IF($C63=\"PlSp37-42\",VLOOKUP($A63,'Lauf PlSp37-42'!$A$1:$G$15,4,FALSE),IF($C63=\"PlSp43-48\",VLOOKUP($A63,'Lauf PlSp43-48'!$A$1:$G$15,4,FALSE),IF($C63=\"Halbfinale\",VLOOKUP($A63,'Lauf Halbfinale'!$A$1:$G$6,4,FALSE),IF($C63=\"Endrunde\",VLOOKUP($A63,'Lauf Endrunde'!$A$1:$G$6,4,FALSE),))))))))))","v":"Gruppe B5"},{"$f":"IF($C63=\"ZwRu1\",VLOOKUP($A63,'Lauf ZRA'!$A$1:$E$15,5,FALSE),IF($C63=\"ZwRu2\",VLOOKUP($A63,'Lauf ZRB'!$A$1:$E$15,5,FALSE),IF($C63=\"PlSp13-18\",VLOOKUP($A63,'Lauf PlSp13-18'!$A$1:$G$15,5,FALSE),IF($C63=\"PlSp19-24\",VLOOKUP($A63,'Lauf PlSp19-24'!$A$1:$G$15,5,FALSE),IF($C63=\"PlSp25-30\",VLOOKUP($A63,'Lauf PlSp25-30'!$A$1:$G$15,5,FALSE),IF($C63=\"PlSp31-36\",VLOOKUP($A63,'Lauf PlSp31-36'!$A$1:$G$15,5,FALSE),IF($C63=\"PlSp37-42\",VLOOKUP($A63,'Lauf PlSp37-42'!$A$1:$G$15,5,FALSE),IF($C63=\"PlSp43-48\",VLOOKUP($A63,'Lauf PlSp43-48'!$A$1:$G$15,5,FALSE),IF($C63=\"Halbfinale\",VLOOKUP($A63,'Lauf Halbfinale'!$A$1:$G$6,5,FALSE),IF($C63=\"Endrunde\",VLOOKUP($A63,'Lauf Endrunde'!$A$1:$G$6,5,FALSE),))))))))))","v":"Gruppe D3"},null,null,null,null,null,null,null,null,null,null,null,null,null,null,null,null,null,null,null,null,null,null,null,null,null,null,null,null,null,null,null,null,null,null,null,null,null,null,null,null,null,null,null,null,null,6,83,6,"PlSp31-36","10:48:00","SV Borussia Salchendorf FF","vv Jubbega"]
[61,5,"PlSp25-30","08:45:00",{"$f":"IF($C64=\"ZwRu1\",VLOOKUP($A64,'Lauf ZRA'!$A$1:$E$15,4,FALSE),IF($C64=\"ZwRu2\",VLOOKUP($A64,'Lauf ZRB'!$A$1:$E$15,4,FALSE),IF($C64=\"PlSp13-18\",VLOOKUP($A64,'Lauf PlSp13-18'!$A$1:$G$15,4,FALSE),IF($C64=\"PlSp19-24\",VLOOKUP($A64,'Lauf PlSp19-24'!$A$1:$G$15,4,FALSE),IF($C64=\"PlSp25-30\",VLOOKUP($A64,'Lauf PlSp25-30'!$A$1:$G$15,4,FALSE),IF($C64=\"PlSp31-36\",VLOOKUP($A64,'Lauf PlSp31-36'!$A$1:$G$15,4,FALSE),IF($C64=\"PlSp37-42\",VLOOKUP($A64,'Lauf PlSp37-42'!$A$1:$G$15,4,FALSE),IF($C64=\"PlSp43-48\",VLOOKUP($A64,'Lauf PlSp43-48'!$A$1:$G$15,4,FALSE),IF($C64=\"Halbfinale\",VLOOKUP($A64,'Lauf Halbfinale'!$A$1:$G$6,4,FALSE),IF($C64=\"Endrunde\",VLOOKUP($A64,'Lauf Endrunde'!$A$1:$G$6,4,FALSE),))))))))))","v":"Gruppe A3"},{"$f":"IF($C64=\"ZwRu1\",VLOOKUP($A64,'Lauf ZRA'!$A$1:$E$15,5,FALSE),IF($C64=\"ZwRu2\",VLOOKUP($A64,'Lauf ZRB'!$A$1:$E$15,5,FALSE),IF($C64=\"PlSp13-18\",VLOOKUP($A64,'Lauf PlSp13-18'!$A$1:$G$15,5,FALSE),IF($C64=\"PlSp19-24\",VLOOKUP($A64,'Lauf PlSp19-24'!$A$1:$G$15,5,FALSE),IF($C64=\"PlSp25-30\",VLOOKUP($A64,'Lauf PlSp25-30'!$A$1:$G$15,5,FALSE),IF($C64=\"PlSp31-36\",VLOOKUP($A64,'Lauf PlSp31-36'!$A$1:$G$15,5,FALSE),IF($C64=\"PlSp37-42\",VLOOKUP($A64,'Lauf PlSp37-42'!$A$1:$G$15,5,FALSE),IF($C64=\"PlSp43-48\",VLOOKUP($A64,'Lauf PlSp43-48'!$A$1:$G$15,5,FALSE),IF($C64=\"Halbfinale\",VLOOKUP($A64,'Lauf Halbfinale'!$A$1:$G$6,5,FALSE),IF($C64=\"Endrunde\",VLOOKUP($A64,'Lauf Endrunde'!$A$1:$G$6,5,FALSE),))))))))))","v":"Gruppe B7"},null,null,null,null,null,null,null,null,null,null,null,null,null,null,null,null,null,null,null,null,null,null,null,null,null,null,null,null,null,null,null,null,null,null,null,null,null,null,null,null,null,null,null,null,null,1,11,1,"ZwRu1","11:00:00","JSG Harderberg/Kloster Oesede 2","MSG Moormerland EE"]
[62,5,"PlSp25-30","09:07:00",{"$f":"IF($C65=\"ZwRu1\",VLOOKUP($A65,'Lauf ZRA'!$A$1:$E$15,4,FALSE),IF($C65=\"ZwRu2\",VLOOKUP($A65,'Lauf ZRB'!$A$1:$E$15,4,FALSE),IF($C65=\"PlSp13-18\",VLOOKUP($A65,'Lauf PlSp13-18'!$A$1:$G$15,4,FALSE),IF($C65=\"PlSp19-24\",VLOOKUP($A65,'Lauf PlSp19-24'!$A$1:$G$15,4,FALSE),IF($C65=\"PlSp25-30\",VLOOKUP($A65,'Lauf PlSp25-30'!$A$1:$G$15,4,FALSE),IF($C65=\"PlSp31-36\",VLOOKUP($A65,'Lauf PlSp31-36'!$A$1:$G$15,4,FALSE),IF($C65=\"PlSp37-42\",VLOOKUP($A65,'Lauf PlSp37-42'!$A$1:$G$15,4,FALSE),IF($C65=\"PlSp43-48\",VLOOKUP($A65,'Lauf PlSp43-48'!$A$1:$G$15,4,FALSE),IF($C65=\"Halbfinale\",VLOOKUP($A65,'Lauf Halbfinale'!$A$1:$G$6,4,FALSE),IF($C65=\"Endrunde\",VLOOKUP($A65,'Lauf Endrunde'!$A$1:$G$6,4,FALSE),))))))))))","v":"Gruppe C7"},{"$f":"IF($C65=\"ZwRu1\",VLOOKUP($A65,'Lauf ZRA'!$A$1:$E$15,5,FALSE),IF($C65=\"ZwRu2\",VLOOKUP($A65,'Lauf ZRB'!$A$1:$E$15,5,FALSE),IF($C65=\"PlSp13-18\",VLOOKUP($A65,'Lauf PlSp13-18'!$A$1:$G$15,5,FALSE),IF($C65=\"PlSp19-24\",VLOOKUP($A65,'Lauf PlSp19-24'!$A$1:$G$15,5,FALSE),IF($C65=\"PlSp25-30\",VLOOKUP($A65,'Lauf PlSp25-30'!$A$1:$G$15,5,FALSE),IF($C65=\"PlSp31-36\",VLOOKUP($A65,'Lauf PlSp31-36'!$A$1:$G$15,5,FALSE),IF($C65=\"PlSp37-42\",VLOOKUP($A65,'Lauf PlSp37-42'!$A$1:$G$15,5,FALSE),IF($C65=\"PlSp43-48\",VLOOKUP($A65,'Lauf PlSp43-48'!$A$1:$G$15,5,FALSE),IF($C65=\"Halbfinale\",VLOOKUP($A65,'Lauf Halbfinale'!$A$1:$G$6,5,FALSE),IF($C65=\"Endrunde\",VLOOKUP($A65,'Lauf Endrunde'!$A$1:$G$6,5,FALSE),))))))))))","v":"Gruppe D4"},null,null,null,null,null,null,null,null,null,null,null,null,null,null,null,null,null,null,null,null,null,null,null,null,null,null,null,null,null,null,null,null,null,null,null,null,null,null,null,null,null,null,null,null,null,2,26,2,"ZwRu2","11:00:00","TuS Eversten 1","SV Spetzerfehn FF"]
[63,5,"PlSp25-30","09:18:00",{"$f":"IF($C66=\"ZwRu1\",VLOOKUP($A66,'Lauf ZRA'!$A$1:$E$15,4,FALSE),IF($C66=\"ZwRu2\",VLOOKUP($A66,'Lauf ZRB'!$A$1:$E$15,4,FALSE),IF($C66=\"PlSp13-18\",VLOOKUP($A66,'Lauf PlSp13-18'!$A$1:$G$15,4,FALSE),IF($C66=\"PlSp19-24\",VLOOKUP($A66,'Lauf PlSp19-24'!$A$1:$G$15,4,FALSE),IF($C66=\"PlSp25-30\",VLOOKUP($A66,'Lauf PlSp25-30'!$A$1:$G$15,4,FALSE),IF($C66=\"PlSp31-36\",VLOOKUP($A66,'Lauf PlSp31-36'!$A$1:$G$15,4,FALSE),IF($C66=\"PlSp37-42\",VLOOKUP($A66,'Lauf PlSp37-42'!$A$1:$G$15,4,FALSE),IF($C66=\"PlSp43-48\",VLOOKUP($A66,'Lauf PlSp43-48'!$A$1:$G$15,4,FALSE),IF($C66=\"Halbfinale\",VLOOKUP($A66,'Lauf Halbfinale'!$A$1:$G$6,4,FALSE),IF($C66=\"Endrunde\",VLOOKUP($A66,'Lauf Endrunde'!$A$1:$G$6,4,FALSE),))))))))))","v":"Gruppe E1"},{"$f":"IF($C66=\"ZwRu1\",VLOOKUP($A66,'Lauf ZRA'!$A$1:$E$15,5,FALSE),IF($C66=\"ZwRu2\",VLOOKUP($A66,'Lauf ZRB'!$A$1:$E$15,5,FALSE),IF($C66=\"PlSp13-18\",VLOOKUP($A66,'Lauf PlSp13-18'!$A$1:$G$15,5,FALSE),IF($C66=\"PlSp19-24\",VLOOKUP($A66,'Lauf PlSp19-24'!$A$1:$G$15,5,FALSE),IF($C66=\"PlSp25-30\",VLOOKUP($A66,'Lauf PlSp25-30'!$A$1:$G$15,5,FALSE),IF($C66=\"PlSp31-36\",VLOOKUP($A66,'Lauf PlSp31-36'!$A$1:$G$15,5,FALSE),IF($C66=\"PlSp37-42\",VLOOKUP($A66,'Lauf PlSp37-42'!$A$1:$G$15,5,FALSE),IF($C66=\"PlSp43-48\",VLOOKUP($A66,'Lauf PlSp43-48'!$A$1:$G$15,5,FALSE),IF($C66=\"Halbfinale\",VLOOKUP($A66,'Lauf Halbfinale'!$A$1:$G$6,5,FALSE),IF($C66=\"Endrunde\",VLOOKUP($A66,'Lauf Endrunde'!$A$1:$G$6,5,FALSE),))))))))))","v":"Gruppe F3"},null,null,null,null,null,null,null,null,null,null,null,null,null,null,null,null,null,null,null,null,null,null,null,null,null,null,null,null,null,null,null,null,null,null,null,null,null,null,null,null,null,null,null,null,null,3,39,3,"PlSp13-18","11:00:00","JSG Riede/Emtinghausen","Blau-Weiß Papenburg EE"]
[64,5,"PlSp25-30","09:40:00",{"$f":"IF($C67=\"ZwRu1\",VLOOKUP($A67,'Lauf ZRA'!$A$1:$E$15,4,FALSE),IF($C67=\"ZwRu2\",VLOOKUP($A67,'Lauf ZRB'!$A$1:$E$15,4,FALSE),IF($C67=\"PlSp13-18\",VLOOKUP($A67,'Lauf PlSp13-18'!$A$1:$G$15,4,FALSE),IF($C67=\"PlSp19-24\",VLOOKUP($A67,'Lauf PlSp19-24'!$A$1:$G$15,4,FALSE),IF($C67=\"PlSp25-30\",VLOOKUP($A67,'Lauf PlSp25-30'!$A$1:$G$15,4,FALSE),IF($C67=\"PlSp31-36\",VLOOKUP($A67,'Lauf PlSp31-36'!$A$1:$G$15,4,FALSE),IF($C67=\"PlSp37-42\",VLOOKUP($A67,'Lauf PlSp37-42'!$A$1:$G$15,4,FALSE),IF($C67=\"PlSp43-48\",VLOOKUP($A67,'Lauf PlSp43-48'!$A$1:$G$15,4,FALSE),IF($C67=\"Halbfinale\",VLOOKUP($A67,'Lauf Halbfinale'!$A$1:$G$6,4,FALSE),IF($C67=\"Endrunde\",VLOOKUP($A67,'Lauf Endrunde'!$A$1:$G$6,4,FALSE),))))))))))","v":"Gruppe B7"},{"$f":"IF($C67=\"ZwRu1\",VLOOKUP($A67,'Lauf ZRA'!$A$1:$E$15,5,FALSE),IF($C67=\"ZwRu2\",VLOOKUP($A67,'Lauf ZRB'!$A$1:$E$15,5,FALSE),IF($C67=\"PlSp13-18\",VLOOKUP($A67,'Lauf PlSp13-18'!$A$1:$G$15,5,FALSE),IF($C67=\"PlSp19-24\",VLOOKUP($A67,'Lauf PlSp19-24'!$A$1:$G$15,5,FALSE),IF($C67=\"PlSp25-30\",VLOOKUP($A67,'Lauf PlSp25-30'!$A$1:$G$15,5,FALSE),IF($C67=\"PlSp31-36\",VLOOKUP($A67,'Lauf PlSp31-36'!$A$1:$G$15,5,FALSE),IF($C67=\"PlSp37-42\",VLOOKUP($A67,'Lauf PlSp37-42'!$A$1:$G$15,5,FALSE),IF($C67=\"PlSp43-48\",VLOOKUP($A67,'Lauf PlSp43-48'!$A$1:$G$15,5,FALSE),IF($C67=\"Halbfinale\",VLOOKUP($A67,'Lauf Halbfinale'!$A$1:$G$6,5,FALSE),IF($C67=\"Endrunde\",VLOOKUP($A67,'Lauf Endrunde'!$A$1:$G$6,5,FALSE),))))))))))","v":"Gruppe C7"},null,null,null,null,null,null,null,null,null,null,null,null,null,null,null,null,null,null,null,null,null,null,null,null,null,null,null,null,null,null,null,null,null,null,null,null,null,null,null,null,null,null,null,null,null,4,54,4,"PlSp19-24","11:00:00","Blau-Weiß Papenburg","TuS Eversten 2 EE"]
[65,5,"PlSp25-30","09:51:00",{"$f":"IF($C68=\"ZwRu1\",VLOOKUP($A68,'Lauf ZRA'!$A$1:$E$15,4,FALSE),IF($C68=\"ZwRu2\",VLOOKUP($A68,'Lauf ZRB'!$A$1:$E$15,4,FALSE),IF($C68=\"PlSp13-18\",VLOOKUP($A68,'Lauf PlSp13-18'!$A$1:$G$15,4,FALSE),IF($C68=\"PlSp19-24\",VLOOKUP($A68,'Lauf PlSp19-24'!$A$1:$G$15,4,FALSE),IF($C68=\"PlSp25-30\",VLOOKUP($A68,'Lauf PlSp25-30'!$A$1:$G$15,4,FALSE),IF($C68=\"PlSp31-36\",VLOOKUP($A68,'Lauf PlSp31-36'!$A$1:$G$15,4,FALSE),IF($C68=\"PlSp37-42\",VLOOKUP($A68,'Lauf PlSp37-42'!$A$1:$G$15,4,FALSE),IF($C68=\"PlSp43-48\",VLOOKUP($A68,'Lauf PlSp43-48'!$A$1:$G$15,4,FALSE),IF($C68=\"Halbfinale\",VLOOKUP($A68,'Lauf Halbfinale'!$A$1:$G$6,4,FALSE),IF($C68=\"Endrunde\",VLOOKUP($A68,'Lauf Endrunde'!$A$1:$G$6,4,FALSE),))))))))))","v":"Gruppe D4"},{"$f":"IF($C68=\"ZwRu1\",VLOOKUP($A68,'Lauf ZRA'!$A$1:$E$15,5,FALSE),IF($C68=\"ZwRu2\",VLOOKUP($A68,'Lauf ZRB'!$A$1:$E$15,5,FALSE),IF($C68=\"PlSp13-18\",VLOOKUP($A68,'Lauf PlSp13-18'!$A$1:$G$15,5,FALSE),IF($C68=\"PlSp19-24\",VLOOKUP($A68,'Lauf PlSp19-24'!$A$1:$G$15,5,FALSE),IF($C68=\"PlSp25-30\",VLOOKUP($A68,'Lauf PlSp25-30'!$A$1:$G$15,5,FALSE),IF($C68=\"PlSp31-36\",VLOOKUP($A68,'Lauf PlSp31-36'!$A$1:$G$15,5,FALSE),IF($C68=\"PlSp37-42\",VLOOKUP($A68,'Lauf PlSp37-42'!$A$1:$G$15,5,FALSE),IF($C68=\"PlSp43-48\",VLOOKUP($A68,'Lauf PlSp43-48'!$A$1:$G$15,5,FALSE),IF($C68=\"Halbfinale\",VLOOKUP($A68,'Lauf Halbfinale'!$A$1:$G$6,5,FALSE),IF($C68=\"Endrunde\",VLOOKUP($A68,'Lauf Endrunde'!$A$1:$G$6,5,FALSE),))))))))))","v":"Gruppe E1"},null,null,null,null,null,null,null,null,null,null,null,null,null,null,null,null,null,null,null,null,null,null,null,null,null,null,null,null,null,null,null,null,null,null,null,null,null,null,null,null,null,null,null,null,null,{"$f":"IF(BC68=BH$2,BI$2,IF(BC68=BH$3,BI$3,IF(BC68=BH$4,BI$4,IF(BC68=BH$5,BI$5,IF(BC68=$BH$6,$BI$6,IF(BC68=BH$7,BI$7,IF(BC68=BH$8,BI$8,IF(BC68=BH$9,BI$9,IF(BC68=BH$10,BI$10,\"Fehler\")))))))))","v":5},68,5,"PlSp25-30","11:00:00","Ammi","SFR Möhlenwarf"]
[66,{"$f":"IF(ISNA(MATCH(A69,$M$6:$M$11,0)),IF(ISNA(MATCH(A69,$N$6:$N$11,0)),IF(ISNA(MATCH(A69,$O$6:$O$11,0)),IF(ISNA(MATCH(A69,$P$6:$P$11,0)),IF(ISNA(MATCH(A69,$Q$6:$Q$11,0)),IF(ISNA(MATCH(A69,$R$6:$R$11,0)),IF(ISNA(MATCH(A69,$S$6:$S$11,0)),IF(ISNA(MATCH(A69,$T$6:$T$11,0)),IF(ISNA(MATCH(A69,$U$6:$U$11,0)),IF(ISNA(MATCH(A69,$V$6:$V$11,0)),IF(ISNA(MATCH(A69,$W$6:$W$11,0)),IF(ISNA(MATCH(A69,$X$6:$X$11,0)),IF(ISNA(MATCH(A69,$Y$6:$Y$11,0)),IF(ISNA(MATCH(A69,$Z$6:$Z$11,0)),IF(ISNA(MATCH(A69,$AA$6:$AA$11,0)),IF(ISNA(MATCH(A69,$AB$6:$AB$11,0)),IF(ISNA(MATCH(A69,$AC$6:$AC$11,0)),IF(ISNA(MATCH(A69,$AD$6:$AD$11,0)),IF(ISNA(MATCH(A69,$AE$6:$AE$11,0)),IF(ISNA(MATCH(A69,$AF$6:$AF$11,0)),IF(ISNA(MATCH(A69,$AG$6:$AG$11,0)),IF(ISNA(MATCH(A69,$AH$6:$AH$11,0)),IF(ISNA(MATCH(A69,$AI$6:$AI$11,0)),IF(ISNA(MATCH(A69,$AJ$6:$AJ$11,0)),IF(ISNA(MATCH(A69,$AK$6:$AK$11,0)),IF(ISNA(MATCH(A69,$AL$6:$AL$11,0)),\"F\",MATCH(A69,$AL$6:$AL$11,0)),MATCH(A69,$AK$6:$AK$11,0)),MATCH(A69,$AJ$6:$AJ$11,0)),MATCH(A69,$AI$6:$AI$11,0)),MATCH(A69,$AH$6:$AH$11,0)),MATCH(A69,$AG$6:$AG$11,0)),MATCH(A69,$AF$6:$AF$11,0)),MATCH(A69,$AE$6:$AE$11,0)),MATCH(A69,$AD$6:$AD$11,0)),MATCH(A69,$AC$6:$AC$11,0)),MATCH(A69,$AB$6:$AB$11,0)),MATCH(A69,$AA$6:$AA$11,0)),MATCH(A69,$Z$6:$Z$11,0)),MATCH(A69,$Y$6:$Y$11,0)),MATCH(A69,$X$6:$X$11,0)),MATCH(A69,$W$6:$W$11,0)),MATCH(A69,$V$6:$V$11,0)),MATCH(A69,$U$6:$U$11,0)),MATCH(A69,$T$6:$T$11,0)),MATCH(A69,$S$6:$S$11,0)),MATCH(A69,$R$6:$R$11,0)),MATCH(A69,$Q$6:$Q$11,0)),MATCH(A69,$P$6:$P$11,0)),MATCH(A69,$O$6:$O$11,0)),MATCH(A69,$N$6:$N$11,0)),MATCH(A69,$M$6:$M$11,0))","v":5},"PlSp25-30","10:13:00",{"$f":"IF($C69=\"ZwRu1\",VLOOKUP($A69,'Lauf ZRA'!$A$1:$E$15,4,FALSE),IF($C69=\"ZwRu2\",VLOOKUP($A69,'Lauf ZRB'!$A$1:$E$15,4,FALSE),IF($C69=\"PlSp13-18\",VLOOKUP($A69,'Lauf PlSp13-18'!$A$1:$G$15,4,FALSE),IF($C69=\"PlSp19-24\",VLOOKUP($A69,'Lauf PlSp19-24'!$A$1:$G$15,4,FALSE),IF($C69=\"PlSp25-30\",VLOOKUP($A69,'Lauf PlSp25-30'!$A$1:$G$15,4,FALSE),IF($C69=\"PlSp31-36\",VLOOKUP($A69,'Lauf PlSp31-36'!$A$1:$G$15,4,FALSE),IF($C69=\"PlSp37-42\",VLOOKUP($A69,'Lauf PlSp37-42'!$A$1:$G$15,4,FALSE),IF($C69=\"PlSp43-48\",VLOOKUP($A69,'Lauf PlSp43-48'!$A$1:$G$15,4,FALSE),IF($C69=\"Halbfinale\",VLOOKUP($A69,'Lauf Halbfinale'!$A$1:$G$6,4,FALSE),IF($C69=\"Endrunde\",VLOOKUP($A69,'Lauf Endrunde'!$A$1:$G$6,4,FALSE),))))))))))","v":"Gruppe A3"},{"$f":"IF($C69=\"ZwRu1\",VLOOKUP($A69,'Lauf ZRA'!$A$1:$E$15,5,FALSE),IF($C69=\"ZwRu2\",VLOOKUP($A69,'Lauf ZRB'!$A$1:$E$15,5,FALSE),IF($C69=\"PlSp13-18\",VLOOKUP($A69,'Lauf PlSp13-18'!$A$1:$G$15,5,FALSE),IF($C69=\"PlSp19-24\",VLOOKUP($A69,'Lauf PlSp19-24'!$A$1:$G$15,5,FALSE),IF($C69=\"PlSp25-30\",VLOOKUP($A69,'Lauf PlSp25-30'!$A$1:$G$15,5,FALSE),IF($C69=\"PlSp31-36\",VLOOKUP($A69,'Lauf PlSp31-36'!$A$1:$G$15,5,FALSE),IF($C69=\"PlSp37-42\",VLOOKUP($A69,'Lauf PlSp37-42'!$A$1:$G$15,5,FALSE),IF($C69=\"PlSp43-48\",VLOOKUP($A69,'Lauf PlSp43-48'!$A$1:$G$15,5,FALSE),IF($C69=\"Halbfinale\",VLOOKUP($A69,'Lauf Halbfinale'!$A$1:$G$6,5,FALSE),IF($C69=\"Endrunde\",VLOOKUP($A69,'Lauf Endrunde'!$A$1:$G$6,5,FALSE),))))))))))","v":"Gruppe C7"},null,null,null,null,null,null,null,null,null,null,null,null,null,null,null,null,null,null,null,null,null,null,null,null,null,null,null,null,null,null,null,null,null,null,null,null,null,null,null,null,null,null,null,null,null,7,100,6,"PlSp37-42","11:00:00","VfL \"Fortuna\" Veenhusen 3","VfL \"Fortuna\" Veenhusen 3 FF"]
[67,5,"PlSp25-30","10:24:00",{"$f":"IF($C70=\"ZwRu1\",VLOOKUP($A70,'Lauf ZRA'!$A$1:$E$15,4,FALSE),IF($C70=\"ZwRu2\",VLOOKUP($A70,'Lauf ZRB'!$A$1:$E$15,4,FALSE),IF($C70=\"PlSp13-18\",VLOOKUP($A70,'Lauf PlSp13-18'!$A$1:$G$15,4,FALSE),IF($C70=\"PlSp19-24\",VLOOKUP($A70,'Lauf PlSp19-24'!$A$1:$G$15,4,FALSE),IF($C70=\"PlSp25-30\",VLOOKUP($A70,'Lauf PlSp25-30'!$A$1:$G$15,4,FALSE),IF($C70=\"PlSp31-36\",VLOOKUP($A70,'Lauf PlSp31-36'!$A$1:$G$15,4,FALSE),IF($C70=\"PlSp37-42\",VLOOKUP($A70,'Lauf PlSp37-42'!$A$1:$G$15,4,FALSE),IF($C70=\"PlSp43-48\",VLOOKUP($A70,'Lauf PlSp43-48'!$A$1:$G$15,4,FALSE),IF($C70=\"Halbfinale\",VLOOKUP($A70,'Lauf Halbfinale'!$A$1:$G$6,4,FALSE),IF($C70=\"Endrunde\",VLOOKUP($A70,'Lauf Endrunde'!$A$1:$G$6,4,FALSE),))))))))))","v":"Gruppe E1"},{"$f":"IF($C70=\"ZwRu1\",VLOOKUP($A70,'Lauf ZRA'!$A$1:$E$15,5,FALSE),IF($C70=\"ZwRu2\",VLOOKUP($A70,'Lauf ZRB'!$A$1:$E$15,5,FALSE),IF($C70=\"PlSp13-18\",VLOOKUP($A70,'Lauf PlSp13-18'!$A$1:$G$15,5,FALSE),IF($C70=\"PlSp19-24\",VLOOKUP($A70,'Lauf PlSp19-24'!$A$1:$G$15,5,FALSE),IF($C70=\"PlSp25-30\",VLOOKUP($A70,'Lauf PlSp25-30'!$A$1:$G$15,5,FALSE),IF($C70=\"PlSp31-36\",VLOOKUP($A70,'Lauf PlSp31-36'!$A$1:$G$15,5,FALSE),IF($C70=\"PlSp37-42\",VLOOKUP($A70,'Lauf PlSp37-42'!$A$1:$G$15,5,FALSE),IF($C70=\"PlSp43-48\",VLOOKUP($A70,'Lauf PlSp43-48'!$A$1:$G$15,5,FALSE),IF($C70=\"Halbfinale\",VLOOKUP($A70,'Lauf Halbfinale'!$A$1:$G$6,5,FALSE),IF($C70=\"Endrunde\",VLOOKUP($A70,'Lauf Endrunde'!$A$1:$G$6,5,FALSE),))))))))))","v":"Gruppe B7"},null,null,null,null,null,null,null,null,null,null,null,null,null,null,null,null,null,null,null,null,null,null,null,null,null,null,null,null,null,null,null,null,null,null,null,null,null,null,null,null,null,null,null,null,null,1,12,1,"ZwRu1","11:12:00","JSG Riede/Emtinghausen EE","VfL \"Fortuna\" Veenhusen 1"]
[68,5,"PlSp25-30","10:46:00",{"$f":"IF($C71=\"ZwRu1\",VLOOKUP($A71,'Lauf ZRA'!$A$1:$E$15,4,FALSE),IF($C71=\"ZwRu2\",VLOOKUP($A71,'Lauf ZRB'!$A$1:$E$15,4,FALSE),IF($C71=\"PlSp13-18\",VLOOKUP($A71,'Lauf PlSp13-18'!$A$1:$G$15,4,FALSE),IF($C71=\"PlSp19-24\",VLOOKUP($A71,'Lauf PlSp19-24'!$A$1:$G$15,4,FALSE),IF($C71=\"PlSp25-30\",VLOOKUP($A71,'Lauf PlSp25-30'!$A$1:$G$15,4,FALSE),IF($C71=\"PlSp31-36\",VLOOKUP($A71,'Lauf PlSp31-36'!$A$1:$G$15,4,FALSE),IF($C71=\"PlSp37-42\",VLOOKUP($A71,'Lauf PlSp37-42'!$A$1:$G$15,4,FALSE),IF($C71=\"PlSp43-48\",VLOOKUP($A71,'Lauf PlSp43-48'!$A$1:$G$15,4,FALSE),IF($C71=\"Halbfinale\",VLOOKUP($A71,'Lauf Halbfinale'!$A$1:$G$6,4,FALSE),IF($C71=\"Endrunde\",VLOOKUP($A71,'Lauf Endrunde'!$A$1:$G$6,4,FALSE),))))))))))","v":"Gruppe F3"},{"$f":"IF($C71=\"ZwRu1\",VLOOKUP($A71,'Lauf ZRA'!$A$1:$E$15,5,FALSE),IF($C71=\"ZwRu2\",VLOOKUP($A71,'Lauf ZRB'!$A$1:$E$15,5,FALSE),IF($C71=\"PlSp13-18\",VLOOKUP($A71,'Lauf PlSp13-18'!$A$1:$G$15,5,FALSE),IF($C71=\"PlSp19-24\",VLOOKUP($A71,'Lauf PlSp19-24'!$A$1:$G$15,5,FALSE),IF($C71=\"PlSp25-30\",VLOOKUP($A71,'Lauf PlSp25-30'!$A$1:$G$15,5,FALSE),IF($C71=\"PlSp31-36\",VLOOKUP($A71,'Lauf PlSp31-36'!$A$1:$G$15,5,FALSE),IF($C71=\"PlSp37-42\",VLOOKUP($A71,'Lauf PlSp37-42'!$A$1:$G$15,5,FALSE),IF($C71=\"PlSp43-48\",VLOOKUP($A71,'Lauf PlSp43-48'!$A$1:$G$15,5,FALSE),IF($C71=\"Halbfinale\",VLOOKUP($A71,'Lauf Halbfinale'!$A$1:$G$6,5,FALSE),IF($C71=\"Endrunde\",VLOOKUP($A71,'Lauf Endrunde'!$A$1:$G$6,5,FALSE),))))))))))","v":"Gruppe A3"},null,null,null,null,null,null,null,null,null,null,null,null,null,null,null,null,null,null,null,null,null,null,null,null,null,null,null,null,null,null,null,null,null,null,null,null,null,null,null,null,null,null,null,null,null,2,27,2,"ZwRu2","11:12:00","vv BeilenFF","VfL \"Fortuna\" Veenhusen 2"]
[69,5,"PlSp25-30","10:57:00",{"$f":"IF($C72=\"ZwRu1\",VLOOKUP($A72,'Lauf ZRA'!$A$1:$E$15,4,FALSE),IF($C72=\"ZwRu2\",VLOOKUP($A72,'Lauf ZRB'!$A$1:$E$15,4,FALSE),IF($C72=\"PlSp13-18\",VLOOKUP($A72,'Lauf PlSp13-18'!$A$1:$G$15,4,FALSE),IF($C72=\"PlSp19-24\",VLOOKUP($A72,'Lauf PlSp19-24'!$A$1:$G$15,4,FALSE),IF($C72=\"PlSp25-30\",VLOOKUP($A72,'Lauf PlSp25-30'!$A$1:$G$15,4,FALSE),IF($C72=\"PlSp31-36\",VLOOKUP($A72,'Lauf PlSp31-36'!$A$1:$G$15,4,FALSE),IF($C72=\"PlSp37-42\",VLOOKUP($A72,'Lauf PlSp37-42'!$A$1:$G$15,4,FALSE),IF($C72=\"PlSp43-48\",VLOOKUP($A72,'Lauf PlSp43-48'!$A$1:$G$15,4,FALSE),IF($C72=\"Halbfinale\",VLOOKUP($A72,'Lauf Halbfinale'!$A$1:$G$6,4,FALSE),IF($C72=\"Endrunde\",VLOOKUP($A72,'Lauf Endrunde'!$A$1:$G$6,4,FALSE),))))))))))","v":"Gruppe C7"},{"$f":"IF($C72=\"ZwRu1\",VLOOKUP($A72,'Lauf ZRA'!$A$1:$E$15,5,FALSE),IF($C72=\"ZwRu2\",VLOOKUP($A72,'Lauf ZRB'!$A$1:$E$15,5,FALSE),IF($C72=\"PlSp13-18\",VLOOKUP($A72,'Lauf PlSp13-18'!$A$1:$G$15,5,FALSE),IF($C72=\"PlSp19-24\",VLOOKUP($A72,'Lauf PlSp19-24'!$A$1:$G$15,5,FALSE),IF($C72=\"PlSp25-30\",VLOOKUP($A72,'Lauf PlSp25-30'!$A$1:$G$15,5,FALSE),IF($C72=\"PlSp31-36\",VLOOKUP($A72,'Lauf PlSp31-36'!$A$1:$G$15,5,FALSE),IF($C72=\"PlSp37-42\",VLOOKUP($A72,'Lauf PlSp37-42'!$A$1:$G$15,5,FALSE),IF($C72=\"PlSp43-48\",VLOOKUP($A72,'Lauf PlSp43-48'!$A$1:$G$15,5,FALSE),IF($C72=\"Halbfinale\",VLOOKUP($A72,'Lauf Halbfinale'!$A$1:$G$6,5,FALSE),IF($C72=\"Endrunde\",VLOOKUP($A72,'Lauf Endrunde'!$A$1:$G$6,5,FALSE),))))))))))","v":"Gruppe E1"},null,null,null,null,null,null,null,null,null,null,null,null,null,null,null,null,null,null,null,null,null,null,null,null,null,null,null,null,null,null,null,null,null,null,null,null,null,null,null,null,null,null,null,null,null,7,101,3,"PlSp37-42","11:12:00","Test Team A","SV Warsingsfehn EE"]
[70,5,"PlSp25-30","11:19:00",{"$f":"IF($C73=\"ZwRu1\",VLOOKUP($A73,'Lauf ZRA'!$A$1:$E$15,4,FALSE),IF($C73=\"ZwRu2\",VLOOKUP($A73,'Lauf ZRB'!$A$1:$E$15,4,FALSE),IF($C73=\"PlSp13-18\",VLOOKUP($A73,'Lauf PlSp13-18'!$A$1:$G$15,4,FALSE),IF($C73=\"PlSp19-24\",VLOOKUP($A73,'Lauf PlSp19-24'!$A$1:$G$15,4,FALSE),IF($C73=\"PlSp25-30\",VLOOKUP($A73,'Lauf PlSp25-30'!$A$1:$G$15,4,FALSE),IF($C73=\"PlSp31-36\",VLOOKUP($A73,'Lauf PlSp31-36'!$A$1:$G$15,4,FALSE),IF($C73=\"PlSp37-42\",VLOOKUP($A73,'Lauf PlSp37-42'!$A$1:$G$15,4,FALSE),IF($C73=\"PlSp43-48\",VLOOKUP($A73,'Lauf PlSp43-48'!$A$1:$G$15,4,FALSE),IF($C73=\"Halbfinale\",VLOOKUP($A73,'Lauf Halbfinale'!$A$1:$G$6,4,FALSE),IF($C73=\"Endrunde\",VLOOKUP($A73,'Lauf Endrunde'!$A$1:$G$6,4,FALSE),))))))))))","v":"Gruppe D4"},{"$f":"IF($C73=\"ZwRu1\",VLOOKUP($A73,'Lauf ZRA'!$A$1:$E$15,5,FALSE),IF($C73=\"ZwRu2\",VLOOKUP($A73,'Lauf ZRB'!$A$1:$E$15,5,FALSE),IF($C73=\"PlSp13-18\",VLOOKUP($A73,'Lauf PlSp13-18'!$A$1:$G$15,5,FALSE),IF($C73=\"PlSp19-24\",VLOOKUP($A73,'Lauf PlSp19-24'!$A$1:$G$15,5,FALSE),IF($C73=\"PlSp25-30\",VLOOKUP($A73,'Lauf PlSp25-30'!$A$1:$G$15,5,FALSE),IF($C73=\"PlSp31-36\",VLOOKUP($A73,'Lauf PlSp31-36'!$A$1:$G$15,5,FALSE),IF($C73=\"PlSp37-42\",VLOOKUP($A73,'Lauf PlSp37-42'!$A$1:$G$15,5,FALSE),IF($C73=\"PlSp43-48\",VLOOKUP($A73,'Lauf PlSp43-48'!$A$1:$G$15,5,FALSE),IF($C73=\"Halbfinale\",VLOOKUP($A73,'Lauf Halbfinale'!$A$1:$G$6,5,FALSE),IF($C73=\"Endrunde\",VLOOKUP($A73,'Lauf Endrunde'!$A$1:$G$6,5,FALSE),))))))))))","v":"Gruppe F3"},null,null,null,null,null,null,null,null,null,null,null,null,null,null,null,null,null,null,null,null,null,null,null,null,null,null,null,null,null,null,null,null,null,null,null,null,null,null,null,null,null,null,null,null,null,4,55,4,"PlSp19-24","11:12:00","vv Beilen","JSG Harderberg/Kloster Oesede 1 FF"]
[71,5,"PlSp25-30","12:15:00",{"$f":"IF($C74=\"ZwRu1\",VLOOKUP($A74,'Lauf ZRA'!$A$1:$E$15,4,FALSE),IF($C74=\"ZwRu2\",VLOOKUP($A74,'Lauf ZRB'!$A$1:$E$15,4,FALSE),IF($C74=\"PlSp13-18\",VLOOKUP($A74,'Lauf PlSp13-18'!$A$1:$G$15,4,FALSE),IF($C74=\"PlSp19-24\",VLOOKUP($A74,'Lauf PlSp19-24'!$A$1:$G$15,4,FALSE),IF($C74=\"PlSp25-30\",VLOOKUP($A74,'Lauf PlSp25-30'!$A$1:$G$15,4,FALSE),IF($C74=\"PlSp31-36\",VLOOKUP($A74,'Lauf PlSp31-36'!$A$1:$G$15,4,FALSE),IF($C74=\"PlSp37-42\",VLOOKUP($A74,'Lauf PlSp37-42'!$A$1:$G$15,4,FALSE),IF($C74=\"PlSp43-48\",VLOOKUP($A74,'Lauf PlSp43-48'!$A$1:$G$15,4,FALSE),IF($C74=\"Halbfinale\",VLOOKUP($A74,'Lauf Halbfinale'!$A$1:$G$6,4,FALSE),IF($C74=\"Endrunde\",VLOOKUP($A74,'Lauf Endrunde'!$A$1:$G$6,4,FALSE),))))))))))","v":"Gruppe A3"},{"$f":"IF($C74=\"ZwRu1\",VLOOKUP($A74,'Lauf ZRA'!$A$1:$E$15,5,FALSE),IF($C74=\"ZwRu2\",VLOOKUP($A74,'Lauf ZRB'!$A$1:$E$15,5,FALSE),IF($C74=\"PlSp13-18\",VLOOKUP($A74,'Lauf PlSp13-18'!$A$1:$G$15,5,FALSE),IF($C74=\"PlSp19-24\",VLOOKUP($A74,'Lauf PlSp19-24'!$A$1:$G$15,5,FALSE),IF($C74=\"PlSp25-30\",VLOOKUP($A74,'Lauf PlSp25-30'!$A$1:$G$15,5,FALSE),IF($C74=\"PlSp31-36\",VLOOKUP($A74,'Lauf PlSp31-36'!$A$1:$G$15,5,FALSE),IF($C74=\"PlSp37-42\",VLOOKUP($A74,'Lauf PlSp37-42'!$A$1:$G$15,5,FALSE),IF($C74=\"PlSp43-48\",VLOOKUP($A74,'Lauf PlSp43-48'!$A$1:$G$15,5,FALSE),IF($C74=\"Halbfinale\",VLOOKUP($A74,'Lauf Halbfinale'!$A$1:$G$6,5,FALSE),IF($C74=\"Endrunde\",VLOOKUP($A74,'Lauf Endrunde'!$A$1:$G$6,5,FALSE),))))))))))","v":"Gruppe E1"},null,null,null,null,null,null,null,null,null,null,null,null,null,null,null,null,null,null,null,null,null,null,null,null,null,null,null,null,null,null,null,null,null,null,null,null,null,null,null,null,null,null,null,null,null,5,69,5,"PlSp25-30","11:12:00","Test","Willy"]
[72,5,"PlSp25-30","12:37:00",{"$f":"IF($C75=\"ZwRu1\",VLOOKUP($A75,'Lauf ZRA'!$A$1:$E$15,4,FALSE),IF($C75=\"ZwRu2\",VLOOKUP($A75,'Lauf ZRB'!$A$1:$E$15,4,FALSE),IF($C75=\"PlSp13-18\",VLOOKUP($A75,'Lauf PlSp13-18'!$A$1:$G$15,4,FALSE),IF($C75=\"PlSp19-24\",VLOOKUP($A75,'Lauf PlSp19-24'!$A$1:$G$15,4,FALSE),IF($C75=\"PlSp25-30\",VLOOKUP($A75,'Lauf PlSp25-30'!$A$1:$G$15,4,FALSE),IF($C75=\"PlSp31-36\",VLOOKUP($A75,'Lauf PlSp31-36'!$A$1:$G$15,4,FALSE),IF($C75=\"PlSp37-42\",VLOOKUP($A75,'Lauf PlSp37-42'!$A$1:$G$15,4,FALSE),IF($C75=\"PlSp43-48\",VLOOKUP($A75,'Lauf PlSp43-48'!$A$1:$G$15,4,FALSE),IF($C75=\"Halbfinale\",VLOOKUP($A75,'Lauf Halbfinale'!$A$1:$G$6,4,FALSE),IF($C75=\"Endrunde\",VLOOKUP($A75,'Lauf Endrunde'!$A$1:$G$6,4,FALSE),))))))))))","v":"Gruppe F3"},{"$f":"IF($C75=\"ZwRu1\",VLOOKUP($A75,'Lauf ZRA'!$A$1:$E$15,5,FALSE),IF($C75=\"ZwRu2\",VLOOKUP($A75,'Lauf ZRB'!$A$1:$E$15,5,FALSE),IF($C75=\"PlSp13-18\",VLOOKUP($A75,'Lauf PlSp13-18'!$A$1:$G$15,5,FALSE),IF($C75=\"PlSp19-24\",VLOOKUP($A75,'Lauf PlSp19-24'!$A$1:$G$15,5,FALSE),IF($C75=\"PlSp25-30\",VLOOKUP($A75,'Lauf PlSp25-30'!$A$1:$G$15,5,FALSE),IF($C75=\"PlSp31-36\",VLOOKUP($A75,'Lauf PlSp31-36'!$A$1:$G$15,5,FALSE),IF($C75=\"PlSp37-42\",VLOOKUP($A75,'Lauf PlSp37-42'!$A$1:$G$15,5,FALSE),IF($C75=\"PlSp43-48\",VLOOKUP($A75,'Lauf PlSp43-48'!$A$1:$G$15,5,FALSE),IF($C75=\"Halbfinale\",VLOOKUP($A75,'Lauf Halbfinale'!$A$1:$G$6,5,FALSE),IF($C75=\"Endrunde\",VLOOKUP($A75,'Lauf Endrunde'!$A$1:$G$6,5,FALSE),))))))))))","v":"Gruppe B7"},null,null,null,null,null,null,null,null,null,null,null,null,null,null,null,null,null,null,null,null,null,null,null,null,null,null,null,null,null,null,null,null,null,null,null,null,null,null,null,null,null,null,null,null,null,6,84,6,"PlSp31-36","11:12:00","JVC Dedemsvaart","JVC Dedemsvaart EE"]
[73,5,"PlSp25-30","12:48:00",{"$f":"IF($C76=\"ZwRu1\",VLOOKUP($A76,'Lauf ZRA'!$A$1:$E$15,4,FALSE),IF($C76=\"ZwRu2\",VLOOKUP($A76,'Lauf ZRB'!$A$1:$E$15,4,FALSE),IF($C76=\"PlSp13-18\",VLOOKUP($A76,'Lauf PlSp13-18'!$A$1:$G$15,4,FALSE),IF($C76=\"PlSp19-24\",VLOOKUP($A76,'Lauf PlSp19-24'!$A$1:$G$15,4,FALSE),IF($C76=\"PlSp25-30\",VLOOKUP($A76,'Lauf PlSp25-30'!$A$1:$G$15,4,FALSE),IF($C76=\"PlSp31-36\",VLOOKUP($A76,'Lauf PlSp31-36'!$A$1:$G$15,4,FALSE),IF($C76=\"PlSp37-42\",VLOOKUP($A76,'Lauf PlSp37-42'!$A$1:$G$15,4,FALSE),IF($C76=\"PlSp43-48\",VLOOKUP($A76,'Lauf PlSp43-48'!$A$1:$G$15,4,FALSE),IF($C76=\"Halbfinale\",VLOOKUP($A76,'Lauf Halbfinale'!$A$1:$G$6,4,FALSE),IF($C76=\"Endrunde\",VLOOKUP($A76,'Lauf Endrunde'!$A$1:$G$6,4,FALSE),))))))))))","v":"Gruppe D4"},{"$f":"IF($C76=\"ZwRu1\",VLOOKUP($A76,'Lauf ZRA'!$A$1:$E$15,5,FALSE),IF($C76=\"ZwRu2\",VLOOKUP($A76,'Lauf ZRB'!$A$1:$E$15,5,FALSE),IF($C76=\"PlSp13-18\",VLOOKUP($A76,'Lauf PlSp13-18'!$A$1:$G$15,5,FALSE),IF($C76=\"PlSp19-24\",VLOOKUP($A76,'Lauf PlSp19-24'!$A$1:$G$15,5,FALSE),IF($C76=\"PlSp25-30\",VLOOKUP($A76,'Lauf PlSp25-30'!$A$1:$G$15,5,FALSE),IF($C76=\"PlSp31-36\",VLOOKUP($A76,'Lauf PlSp31-36'!$A$1:$G$15,5,FALSE),IF($C76=\"PlSp37-42\",VLOOKUP($A76,'Lauf PlSp37-42'!$A$1:$G$15,5,FALSE),IF($C76=\"PlSp43-48\",VLOOKUP($A76,'Lauf PlSp43-48'!$A$1:$G$15,5,FALSE),IF($C76=\"Halbfinale\",VLOOKUP($A76,'Lauf Halbfinale'!$A$1:$G$6,5,FALSE),IF($C76=\"Endrunde\",VLOOKUP($A76,'Lauf Endrunde'!$A$1:$G$6,5,FALSE),))))))))))","v":"Gruppe A3"},null,null,null,null,null,null,null,null,null,null,null,null,null,null,null,null,null,null,null,null,null,null,null,null,null,null,null,null,null,null,null,null,null,null,null,null,null,null,null,null,null,null,null,null,null,1,13,1,"ZwRu1","11:24:00","TuS Eversten 2","JSG Harderberg/Kloster Oesede 2"]
[74,5,"PlSp25-30","13:10:00",{"$f":"IF($C77=\"ZwRu1\",VLOOKUP($A77,'Lauf ZRA'!$A$1:$E$15,4,FALSE),IF($C77=\"ZwRu2\",VLOOKUP($A77,'Lauf ZRB'!$A$1:$E$15,4,FALSE),IF($C77=\"PlSp13-18\",VLOOKUP($A77,'Lauf PlSp13-18'!$A$1:$G$15,4,FALSE),IF($C77=\"PlSp19-24\",VLOOKUP($A77,'Lauf PlSp19-24'!$A$1:$G$15,4,FALSE),IF($C77=\"PlSp25-30\",VLOOKUP($A77,'Lauf PlSp25-30'!$A$1:$G$15,4,FALSE),IF($C77=\"PlSp31-36\",VLOOKUP($A77,'Lauf PlSp31-36'!$A$1:$G$15,4,FALSE),IF($C77=\"PlSp37-42\",VLOOKUP($A77,'Lauf PlSp37-42'!$A$1:$G$15,4,FALSE),IF($C77=\"PlSp43-48\",VLOOKUP($A77,'Lauf PlSp43-48'!$A$1:$G$15,4,FALSE),IF($C77=\"Halbfinale\",VLOOKUP($A77,'Lauf Halbfinale'!$A$1:$G$6,4,FALSE),IF($C77=\"Endrunde\",VLOOKUP($A77,'Lauf Endrunde'!$A$1:$G$6,4,FALSE),))))))))))","v":"Gruppe C7"},{"$f":"IF($C77=\"ZwRu1\",VLOOKUP($A77,'Lauf ZRA'!$A$1:$E$15,5,FALSE),IF($C77=\"ZwRu2\",VLOOKUP($A77,'Lauf ZRB'!$A$1:$E$15,5,FALSE),IF($C77=\"PlSp13-18\",VLOOKUP($A77,'Lauf PlSp13-18'!$A$1:$G$15,5,FALSE),IF($C77=\"PlSp19-24\",VLOOKUP($A77,'Lauf PlSp19-24'!$A$1:$G$15,5,FALSE),IF($C77=\"PlSp25-30\",VLOOKUP($A77,'Lauf PlSp25-30'!$A$1:$G$15,5,FALSE),IF($C77=\"PlSp31-36\",VLOOKUP($A77,'Lauf PlSp31-36'!$A$1:$G$15,5,FALSE),IF($C77=\"PlSp37-42\",VLOOKUP($A77,'Lauf PlSp37-42'!$A$1:$G$15,5,FALSE),IF($C77=\"PlSp43-48\",VLOOKUP($A77,'Lauf PlSp43-48'!$A$1:$G$15,5,FALSE),IF($C77=\"Halbfinale\",VLOOKUP($A77,'Lauf Halbfinale'!$A$1:$G$6,5,FALSE),IF($C77=\"Endrunde\",VLOOKUP($A77,'Lauf Endrunde'!$A$1:$G$6,5,FALSE),))))))))))","v":"Gruppe F3"},null,null,null,null,null,null,null,null,null,null,null,null,null,null,null,null,null,null,null,null,null,null,null,null,null,null,null,null,null,null,null,null,null,null,null,null,null,null,null,null,null,null,null,null,null,2,28,2,"ZwRu2","11:24:00","TuRa Westrhauderfehn","TuS Eversten 1"]
[75,5,"PlSp25-30","13:21:00",{"$f":"IF($C78=\"ZwRu1\",VLOOKUP($A78,'Lauf ZRA'!$A$1:$E$15,4,FALSE),IF($C78=\"ZwRu2\",VLOOKUP($A78,'Lauf ZRB'!$A$1:$E$15,4,FALSE),IF($C78=\"PlSp13-18\",VLOOKUP($A78,'Lauf PlSp13-18'!$A$1:$G$15,4,FALSE),IF($C78=\"PlSp19-24\",VLOOKUP($A78,'Lauf PlSp19-24'!$A$1:$G$15,4,FALSE),IF($C78=\"PlSp25-30\",VLOOKUP($A78,'Lauf PlSp25-30'!$A$1:$G$15,4,FALSE),IF($C78=\"PlSp31-36\",VLOOKUP($A78,'Lauf PlSp31-36'!$A$1:$G$15,4,FALSE),IF($C78=\"PlSp37-42\",VLOOKUP($A78,'Lauf PlSp37-42'!$A$1:$G$15,4,FALSE),IF($C78=\"PlSp43-48\",VLOOKUP($A78,'Lauf PlSp43-48'!$A$1:$G$15,4,FALSE),IF($C78=\"Halbfinale\",VLOOKUP($A78,'Lauf Halbfinale'!$A$1:$G$6,4,FALSE),IF($C78=\"Endrunde\",VLOOKUP($A78,'Lauf Endrunde'!$A$1:$G$6,4,FALSE),))))))))))","v":"Gruppe B7"},{"$f":"IF($C78=\"ZwRu1\",VLOOKUP($A78,'Lauf ZRA'!$A$1:$E$15,5,FALSE),IF($C78=\"ZwRu2\",VLOOKUP($A78,'Lauf ZRB'!$A$1:$E$15,5,FALSE),IF($C78=\"PlSp13-18\",VLOOKUP($A78,'Lauf PlSp13-18'!$A$1:$G$15,5,FALSE),IF($C78=\"PlSp19-24\",VLOOKUP($A78,'Lauf PlSp19-24'!$A$1:$G$15,5,FALSE),IF($C78=\"PlSp25-30\",VLOOKUP($A78,'Lauf PlSp25-30'!$A$1:$G$15,5,FALSE),IF($C78=\"PlSp31-36\",VLOOKUP($A78,'Lauf PlSp31-36'!$A$1:$G$15,5,FALSE),IF($C78=\"PlSp37-42\",VLOOKUP($A78,'Lauf PlSp37-42'!$A$1:$G$15,5,FALSE),IF($C78=\"PlSp43-48\",VLOOKUP($A78,'Lauf PlSp43-48'!$A$1:$G$15,5,FALSE),IF($C78=\"Halbfinale\",VLOOKUP($A78,'Lauf Halbfinale'!$A$1:$G$6,5,FALSE),IF($C78=\"Endrunde\",VLOOKUP($A78,'Lauf Endrunde'!$A$1:$G$6,5,FALSE),))))))))))","v":"Gruppe D4"},null,null,null,null,null,null,null,null,null,null,null,null,null,null,null,null,null,null,null,null,null,null,null,null,null,null,null,null,null,null,null,null,null,null,null,null,null,null,null,null,null,null,null,null,null,3,40,3,"PlSp13-18","11:24:00","JSG Harderberg/Kloster Oesede 1","TuRa Westrhauderfehn FF"]
[76,6,"PlSp31-36","08:56:00",{"$f":"IF($C79=\"ZwRu1\",VLOOKUP($A79,'Lauf ZRA'!$A$1:$E$15,4,FALSE),IF($C79=\"ZwRu2\",VLOOKUP($A79,'Lauf ZRB'!$A$1:$E$15,4,FALSE),IF($C79=\"PlSp13-18\",VLOOKUP($A79,'Lauf PlSp13-18'!$A$1:$G$15,4,FALSE),IF($C79=\"PlSp19-24\",VLOOKUP($A79,'Lauf PlSp19-24'!$A$1:$G$15,4,FALSE),IF($C79=\"PlSp25-30\",VLOOKUP($A79,'Lauf PlSp25-30'!$A$1:$G$15,4,FALSE),IF($C79=\"PlSp31-36\",VLOOKUP($A79,'Lauf PlSp31-36'!$A$1:$G$15,4,FALSE),IF($C79=\"PlSp37-42\",VLOOKUP($A79,'Lauf PlSp37-42'!$A$1:$G$15,4,FALSE),IF($C79=\"PlSp43-48\",VLOOKUP($A79,'Lauf PlSp43-48'!$A$1:$G$15,4,FALSE),IF($C79=\"Halbfinale\",VLOOKUP($A79,'Lauf Halbfinale'!$A$1:$G$6,4,FALSE),IF($C79=\"Endrunde\",VLOOKUP($A79,'Lauf Endrunde'!$A$1:$G$6,4,FALSE),))))))))))","v":"Gruppe A8"},{"$f":"IF($C79=\"ZwRu1\",VLOOKUP($A79,'Lauf ZRA'!$A$1:$E$15,5,FALSE),IF($C79=\"ZwRu2\",VLOOKUP($A79,'Lauf ZRB'!$A$1:$E$15,5,FALSE),IF($C79=\"PlSp13-18\",VLOOKUP($A79,'Lauf PlSp13-18'!$A$1:$G$15,5,FALSE),IF($C79=\"PlSp19-24\",VLOOKUP($A79,'Lauf PlSp19-24'!$A$1:$G$15,5,FALSE),IF($C79=\"PlSp25-30\",VLOOKUP($A79,'Lauf PlSp25-30'!$A$1:$G$15,5,FALSE),IF($C79=\"PlSp31-36\",VLOOKUP($A79,'Lauf PlSp31-36'!$A$1:$G$15,5,FALSE),IF($C79=\"PlSp37-42\",VLOOKUP($A79,'Lauf PlSp37-42'!$A$1:$G$15,5,FALSE),IF($C79=\"PlSp43-48\",VLOOKUP($A79,'Lauf PlSp43-48'!$A$1:$G$15,5,FALSE),IF($C79=\"Halbfinale\",VLOOKUP($A79,'Lauf Halbfinale'!$A$1:$G$6,5,FALSE),IF($C79=\"Endrunde\",VLOOKUP($A79,'Lauf Endrunde'!$A$1:$G$6,5,FALSE),))))))))))","v":"Gruppe B8"},null,null,null,null,null,null,null,null,null,null,null,null,null,null,null,null,null,null,null,null,null,null,null,null,null,null,null,null,null,null,null,null,null,null,null,null,null,null,null,null,null,null,null,null,null,7,102,4,"PlSp37-42","11:24:00","VfL \"Fortuna\" Veenhusen 3 FF","TuS Weener"]
[77,6,"PlSp31-36","09:07:00",{"$f":"IF($C80=\"ZwRu1\",VLOOKUP($A80,'Lauf ZRA'!$A$1:$E$15,4,FALSE),IF($C80=\"ZwRu2\",VLOOKUP($A80,'Lauf ZRB'!$A$1:$E$15,4,FALSE),IF($C80=\"PlSp13-18\",VLOOKUP($A80,'Lauf PlSp13-18'!$A$1:$G$15,4,FALSE),IF($C80=\"PlSp19-24\",VLOOKUP($A80,'Lauf PlSp19-24'!$A$1:$G$15,4,FALSE),IF($C80=\"PlSp25-30\",VLOOKUP($A80,'Lauf PlSp25-30'!$A$1:$G$15,4,FALSE),IF($C80=\"PlSp31-36\",VLOOKUP($A80,'Lauf PlSp31-36'!$A$1:$G$15,4,FALSE),IF($C80=\"PlSp37-42\",VLOOKUP($A80,'Lauf PlSp37-42'!$A$1:$G$15,4,FALSE),IF($C80=\"PlSp43-48\",VLOOKUP($A80,'Lauf PlSp43-48'!$A$1:$G$15,4,FALSE),IF($C80=\"Halbfinale\",VLOOKUP($A80,'Lauf Halbfinale'!$A$1:$G$6,4,FALSE),IF($C80=\"Endrunde\",VLOOKUP($A80,'Lauf Endrunde'!$A$1:$G$6,4,FALSE),))))))))))","v":"Gruppe C2"},{"$f":"IF($C80=\"ZwRu1\",VLOOKUP($A80,'Lauf ZRA'!$A$1:$E$15,5,FALSE),IF($C80=\"ZwRu2\",VLOOKUP($A80,'Lauf ZRB'!$A$1:$E$15,5,FALSE),IF($C80=\"PlSp13-18\",VLOOKUP($A80,'Lauf PlSp13-18'!$A$1:$G$15,5,FALSE),IF($C80=\"PlSp19-24\",VLOOKUP($A80,'Lauf PlSp19-24'!$A$1:$G$15,5,FALSE),IF($C80=\"PlSp25-30\",VLOOKUP($A80,'Lauf PlSp25-30'!$A$1:$G$15,5,FALSE),IF($C80=\"PlSp31-36\",VLOOKUP($A80,'Lauf PlSp31-36'!$A$1:$G$15,5,FALSE),IF($C80=\"PlSp37-42\",VLOOKUP($A80,'Lauf PlSp37-42'!$A$1:$G$15,5,FALSE),IF($C80=\"PlSp43-48\",VLOOKUP($A80,'Lauf PlSp43-48'!$A$1:$G$15,5,FALSE),IF($C80=\"Halbfinale\",VLOOKUP($A80,'Lauf Halbfinale'!$A$1:$G$6,5,FALSE),IF($C80=\"Endrunde\",VLOOKUP($A80,'Lauf Endrunde'!$A$1:$G$6,5,FALSE),))))))))))","v":"Gruppe D1"},null,null,null,null,null,null,null,null,null,null,null,null,null,null,null,null,null,null,null,null,null,null,null,null,null,null,null,null,null,null,null,null,null,null,null,null,null,null,null,null,null,null,null,null,null,5,70,5,"PlSp25-30","11:24:00","Test Team D","Ammi"]
[78,6,"PlSp31-36","09:29:00",{"$f":"IF($C81=\"ZwRu1\",VLOOKUP($A81,'Lauf ZRA'!$A$1:$E$15,4,FALSE),IF($C81=\"ZwRu2\",VLOOKUP($A81,'Lauf ZRB'!$A$1:$E$15,4,FALSE),IF($C81=\"PlSp13-18\",VLOOKUP($A81,'Lauf PlSp13-18'!$A$1:$G$15,4,FALSE),IF($C81=\"PlSp19-24\",VLOOKUP($A81,'Lauf PlSp19-24'!$A$1:$G$15,4,FALSE),IF($C81=\"PlSp25-30\",VLOOKUP($A81,'Lauf PlSp25-30'!$A$1:$G$15,4,FALSE),IF($C81=\"PlSp31-36\",VLOOKUP($A81,'Lauf PlSp31-36'!$A$1:$G$15,4,FALSE),IF($C81=\"PlSp37-42\",VLOOKUP($A81,'Lauf PlSp37-42'!$A$1:$G$15,4,FALSE),IF($C81=\"PlSp43-48\",VLOOKUP($A81,'Lauf PlSp43-48'!$A$1:$G$15,4,FALSE),IF($C81=\"Halbfinale\",VLOOKUP($A81,'Lauf Halbfinale'!$A$1:$G$6,4,FALSE),IF($C81=\"Endrunde\",VLOOKUP($A81,'Lauf Endrunde'!$A$1:$G$6,4,FALSE),))))))))))","v":"Gruppe E6"},{"$f":"IF($C81=\"ZwRu1\",VLOOKUP($A81,'Lauf ZRA'!$A$1:$E$15,5,FALSE),IF($C81=\"ZwRu2\",VLOOKUP($A81,'Lauf ZRB'!$A$1:$E$15,5,FALSE),IF($C81=\"PlSp13-18\",VLOOKUP($A81,'Lauf PlSp13-18'!$A$1:$G$15,5,FALSE),IF($C81=\"PlSp19-24\",VLOOKUP($A81,'Lauf PlSp19-24'!$A$1:$G$15,5,FALSE),IF($C81=\"PlSp25-30\",VLOOKUP($A81,'Lauf PlSp25-30'!$A$1:$G$15,5,FALSE),IF($C81=\"PlSp31-36\",VLOOKUP($A81,'Lauf PlSp31-36'!$A$1:$G$15,5,FALSE),IF($C81=\"PlSp37-42\",VLOOKUP($A81,'Lauf PlSp37-42'!$A$1:$G$15,5,FALSE),IF($C81=\"PlSp43-48\",VLOOKUP($A81,'Lauf PlSp43-48'!$A$1:$G$15,5,FALSE),IF($C81=\"Halbfinale\",VLOOKUP($A81,'Lauf Halbfinale'!$A$1:$G$6,5,FALSE),IF($C81=\"Endrunde\",VLOOKUP($A81,'Lauf Endrunde'!$A$1:$G$6,5,FALSE),))))))))))","v":"Gruppe F2"},null,null,null,null,null,null,null,null,null,null,null,null,null,null,null,null,null,null,null,null,null,null,null,null,null,null,null,null,null,null,null,null,null,null,null,null,null,null,null,null,null,null,null,null,null,6,85,6,"PlSp31-36","11:24:00","SV Borussia Salchendorf","SV Borussia Salchendorf FF"]
[79,6,"PlSp31-36","09:40:00",{"$f":"IF($C82=\"ZwRu1\",VLOOKUP($A82,'Lauf ZRA'!$A$1:$E$15,4,FALSE),IF($C82=\"ZwRu2\",VLOOKUP($A82,'Lauf ZRB'!$A$1:$E$15,4,FALSE),IF($C82=\"PlSp13-18\",VLOOKUP($A82,'Lauf PlSp13-18'!$A$1:$G$15,4,FALSE),IF($C82=\"PlSp19-24\",VLOOKUP($A82,'Lauf PlSp19-24'!$A$1:$G$15,4,FALSE),IF($C82=\"PlSp25-30\",VLOOKUP($A82,'Lauf PlSp25-30'!$A$1:$G$15,4,FALSE),IF($C82=\"PlSp31-36\",VLOOKUP($A82,'Lauf PlSp31-36'!$A$1:$G$15,4,FALSE),IF($C82=\"PlSp37-42\",VLOOKUP($A82,'Lauf PlSp37-42'!$A$1:$G$15,4,FALSE),IF($C82=\"PlSp43-48\",VLOOKUP($A82,'Lauf PlSp43-48'!$A$1:$G$15,4,FALSE),IF($C82=\"Halbfinale\",VLOOKUP($A82,'Lauf Halbfinale'!$A$1:$G$6,4,FALSE),IF($C82=\"Endrunde\",VLOOKUP($A82,'Lauf Endrunde'!$A$1:$G$6,4,FALSE),))))))))))","v":"Gruppe B8"},{"$f":"IF($C82=\"ZwRu1\",VLOOKUP($A82,'Lauf ZRA'!$A$1:$E$15,5,FALSE),IF($C82=\"ZwRu2\",VLOOKUP($A82,'Lauf ZRB'!$A$1:$E$15,5,FALSE),IF($C82=\"PlSp13-18\",VLOOKUP($A82,'Lauf PlSp13-18'!$A$1:$G$15,5,FALSE),IF($C82=\"PlSp19-24\",VLOOKUP($A82,'Lauf PlSp19-24'!$A$1:$G$15,5,FALSE),IF($C82=\"PlSp25-30\",VLOOKUP($A82,'Lauf PlSp25-30'!$A$1:$G$15,5,FALSE),IF($C82=\"PlSp31-36\",VLOOKUP($A82,'Lauf PlSp31-36'!$A$1:$G$15,5,FALSE),IF($C82=\"PlSp37-42\",VLOOKUP($A82,'Lauf PlSp37-42'!$A$1:$G$15,5,FALSE),IF($C82=\"PlSp43-48\",VLOOKUP($A82,'Lauf PlSp43-48'!$A$1:$G$15,5,FALSE),IF($C82=\"Halbfinale\",VLOOKUP($A82,'Lauf Halbfinale'!$A$1:$G$6,5,FALSE),IF($C82=\"Endrunde\",VLOOKUP($A82,'Lauf Endrunde'!$A$1:$G$6,5,FALSE),))))))))))","v":"Gruppe C2"},null,null,null,null,null,null,null,null,null,null,null,null,null,null,null,null,null,null,null,null,null,null,null,null,null,null,null,null,null,null,null,null,null,null,null,null,null,null,null,null,null,null,null,null,null,1,14,1,"ZwRu1","11:36:00","MSG Moormerland Mädchen","JSG Riede/Emtinghausen EE"]
[80,6,"PlSp31-36","10:02:00",{"$f":"IF($C83=\"ZwRu1\",VLOOKUP($A83,'Lauf ZRA'!$A$1:$E$15,4,FALSE),IF($C83=\"ZwRu2\",VLOOKUP($A83,'Lauf ZRB'!$A$1:$E$15,4,FALSE),IF($C83=\"PlSp13-18\",VLOOKUP($A83,'Lauf PlSp13-18'!$A$1:$G$15,4,FALSE),IF($C83=\"PlSp19-24\",VLOOKUP($A83,'Lauf PlSp19-24'!$A$1:$G$15,4,FALSE),IF($C83=\"PlSp25-30\",VLOOKUP($A83,'Lauf PlSp25-30'!$A$1:$G$15,4,FALSE),IF($C83=\"PlSp31-36\",VLOOKUP($A83,'Lauf PlSp31-36'!$A$1:$G$15,4,FALSE),IF($C83=\"PlSp37-42\",VLOOKUP($A83,'Lauf PlSp37-42'!$A$1:$G$15,4,FALSE),IF($C83=\"PlSp43-48\",VLOOKUP($A83,'Lauf PlSp43-48'!$A$1:$G$15,4,FALSE),IF($C83=\"Halbfinale\",VLOOKUP($A83,'Lauf Halbfinale'!$A$1:$G$6,4,FALSE),IF($C83=\"Endrunde\",VLOOKUP($A83,'Lauf Endrunde'!$A$1:$G$6,4,FALSE),))))))))))","v":"Gruppe D1"},{"$f":"IF($C83=\"ZwRu1\",VLOOKUP($A83,'Lauf ZRA'!$A$1:$E$15,5,FALSE),IF($C83=\"ZwRu2\",VLOOKUP($A83,'Lauf ZRB'!$A$1:$E$15,5,FALSE),IF($C83=\"PlSp13-18\",VLOOKUP($A83,'Lauf PlSp13-18'!$A$1:$G$15,5,FALSE),IF($C83=\"PlSp19-24\",VLOOKUP($A83,'Lauf PlSp19-24'!$A$1:$G$15,5,FALSE),IF($C83=\"PlSp25-30\",VLOOKUP($A83,'Lauf PlSp25-30'!$A$1:$G$15,5,FALSE),IF($C83=\"PlSp31-36\",VLOOKUP($A83,'Lauf PlSp31-36'!$A$1:$G$15,5,FALSE),IF($C83=\"PlSp37-42\",VLOOKUP($A83,'Lauf PlSp37-42'!$A$1:$G$15,5,FALSE),IF($C83=\"PlSp43-48\",VLOOKUP($A83,'Lauf PlSp43-48'!$A$1:$G$15,5,FALSE),IF($C83=\"Halbfinale\",VLOOKUP($A83,'Lauf Halbfinale'!$A$1:$G$6,5,FALSE),IF($C83=\"Endrunde\",VLOOKUP($A83,'Lauf Endrunde'!$A$1:$G$6,5,FALSE),))))))))))","v":"Gruppe E6"},null,null,null,null,null,null,null,null,null,null,null,null,null,null,null,null,null,null,null,null,null,null,null,null,null,null,null,null,null,null,null,null,null,null,null,null,null,null,null,null,null,null,null,null,null,2,29,2,"ZwRu2","11:36:00","SV Spetzerfehn","vv BeilenFF"]
[81,6,"PlSp31-36",{"$f":"IF(B84=M$13,VLOOKUP(A84,$M$14:$S$39,7,FALSE),IF(B84=N$13,VLOOKUP(A84,$N$14:$S$39,6,FALSE),IF(B84=O$13,VLOOKUP(A84,$O$13:$S$39,5,FALSE),IF(B84=P$13,VLOOKUP(A84,$P$13:$S$39,4,FALSE),IF(B84=Q$13,VLOOKUP(A84,$Q$13:$S$39,3,FALSE),IF(B84=R$13,VLOOKUP(A84,$R$13:$S$39,2,FALSE),\"\"))))))","v":"10:13:00"},{"$f":"IF($C84=\"ZwRu1\",VLOOKUP($A84,'Lauf ZRA'!$A$1:$E$15,4,FALSE),IF($C84=\"ZwRu2\",VLOOKUP($A84,'Lauf ZRB'!$A$1:$E$15,4,FALSE),IF($C84=\"PlSp13-18\",VLOOKUP($A84,'Lauf PlSp13-18'!$A$1:$G$15,4,FALSE),IF($C84=\"PlSp19-24\",VLOOKUP($A84,'Lauf PlSp19-24'!$A$1:$G$15,4,FALSE),IF($C84=\"PlSp25-30\",VLOOKUP($A84,'Lauf PlSp25-30'!$A$1:$G$15,4,FALSE),IF($C84=\"PlSp31-36\",VLOOKUP($A84,'Lauf PlSp31-36'!$A$1:$G$15,4,FALSE),IF($C84=\"PlSp37-42\",VLOOKUP($A84,'Lauf PlSp37-42'!$A$1:$G$15,4,FALSE),IF($C84=\"PlSp43-48\",VLOOKUP($A84,'Lauf PlSp43-48'!$A$1:$G$15,4,FALSE),IF($C84=\"Halbfinale\",VLOOKUP($A84,'Lauf Halbfinale'!$A$1:$G$6,4,FALSE),IF($C84=\"Endrunde\",VLOOKUP($A84,'Lauf Endrunde'!$A$1:$G$6,4,FALSE),))))))))))","v":"Gruppe A8"},{"$f":"IF($C84=\"ZwRu1\",VLOOKUP($A84,'Lauf ZRA'!$A$1:$E$15,5,FALSE),IF($C84=\"ZwRu2\",VLOOKUP($A84,'Lauf ZRB'!$A$1:$E$15,5,FALSE),IF($C84=\"PlSp13-18\",VLOOKUP($A84,'Lauf PlSp13-18'!$A$1:$G$15,5,FALSE),IF($C84=\"PlSp19-24\",VLOOKUP($A84,'Lauf PlSp19-24'!$A$1:$G$15,5,FALSE),IF($C84=\"PlSp25-30\",VLOOKUP($A84,'Lauf PlSp25-30'!$A$1:$G$15,5,FALSE),IF($C84=\"PlSp31-36\",VLOOKUP($A84,'Lauf PlSp31-36'!$A$1:$G$15,5,FALSE),IF($C84=\"PlSp37-42\",VLOOKUP($A84,'Lauf PlSp37-42'!$A$1:$G$15,5,FALSE),IF($C84=\"PlSp43-48\",VLOOKUP($A84,'Lauf PlSp43-48'!$A$1:$G$15,5,FALSE),IF($C84=\"Halbfinale\",VLOOKUP($A84,'Lauf Halbfinale'!$A$1:$G$6,5,FALSE),IF($C84=\"Endrunde\",VLOOKUP($A84,'Lauf Endrunde'!$A$1:$G$6,5,FALSE),))))))))))","v":"Gruppe C2"},null,null,null,null,null,null,null,null,null,null,null,null,null,null,null,null,null,null,null,null,null,null,null,null,null,null,null,null,null,null,null,null,null,null,null,null,null,null,null,null,null,null,null,null,null,3,41,3,"PlSp13-18","11:36:00","SV Ostfrisia Moordorf","Blau-Weiß Papenburg EE"]
[82,6,"PlSp31-36","10:35:00",{"$f":"IF($C85=\"ZwRu1\",VLOOKUP($A85,'Lauf ZRA'!$A$1:$E$15,4,FALSE),IF($C85=\"ZwRu2\",VLOOKUP($A85,'Lauf ZRB'!$A$1:$E$15,4,FALSE),IF($C85=\"PlSp13-18\",VLOOKUP($A85,'Lauf PlSp13-18'!$A$1:$G$15,4,FALSE),IF($C85=\"PlSp19-24\",VLOOKUP($A85,'Lauf PlSp19-24'!$A$1:$G$15,4,FALSE),IF($C85=\"PlSp25-30\",VLOOKUP($A85,'Lauf PlSp25-30'!$A$1:$G$15,4,FALSE),IF($C85=\"PlSp31-36\",VLOOKUP($A85,'Lauf PlSp31-36'!$A$1:$G$15,4,FALSE),IF($C85=\"PlSp37-42\",VLOOKUP($A85,'Lauf PlSp37-42'!$A$1:$G$15,4,FALSE),IF($C85=\"PlSp43-48\",VLOOKUP($A85,'Lauf PlSp43-48'!$A$1:$G$15,4,FALSE),IF($C85=\"Halbfinale\",VLOOKUP($A85,'Lauf Halbfinale'!$A$1:$G$6,4,FALSE),IF($C85=\"Endrunde\",VLOOKUP($A85,'Lauf Endrunde'!$A$1:$G$6,4,FALSE),))))))))))","v":"Gruppe E6"},{"$f":"IF($C85=\"ZwRu1\",VLOOKUP($A85,'Lauf ZRA'!$A$1:$E$15,5,FALSE),IF($C85=\"ZwRu2\",VLOOKUP($A85,'Lauf ZRB'!$A$1:$E$15,5,FALSE),IF($C85=\"PlSp13-18\",VLOOKUP($A85,'Lauf PlSp13-18'!$A$1:$G$15,5,FALSE),IF($C85=\"PlSp19-24\",VLOOKUP($A85,'Lauf PlSp19-24'!$A$1:$G$15,5,FALSE),IF($C85=\"PlSp25-30\",VLOOKUP($A85,'Lauf PlSp25-30'!$A$1:$G$15,5,FALSE),IF($C85=\"PlSp31-36\",VLOOKUP($A85,'Lauf PlSp31-36'!$A$1:$G$15,5,FALSE),IF($C85=\"PlSp37-42\",VLOOKUP($A85,'Lauf PlSp37-42'!$A$1:$G$15,5,FALSE),IF($C85=\"PlSp43-48\",VLOOKUP($A85,'Lauf PlSp43-48'!$A$1:$G$15,5,FALSE),IF($C85=\"Halbfinale\",VLOOKUP($A85,'Lauf Halbfinale'!$A$1:$G$6,5,FALSE),IF($C85=\"Endrunde\",VLOOKUP($A85,'Lauf Endrunde'!$A$1:$G$6,5,FALSE),))))))))))","v":"Gruppe B8"},null,null,null,null,null,null,null,null,null,null,null,null,null,null,null,null,null,null,null,null,null,null,null,null,null,null,null,null,null,null,null,null,null,null,null,null,null,null,null,null,null,null,null,null,null,4,56,4,"PlSp19-24","11:36:00","VfL Viktoria Flachsmeer","TuS Eversten 2 EE"]
[83,6,"PlSp31-36","10:46:00",{"$f":"IF($C86=\"ZwRu1\",VLOOKUP($A86,'Lauf ZRA'!$A$1:$E$15,4,FALSE),IF($C86=\"ZwRu2\",VLOOKUP($A86,'Lauf ZRB'!$A$1:$E$15,4,FALSE),IF($C86=\"PlSp13-18\",VLOOKUP($A86,'Lauf PlSp13-18'!$A$1:$G$15,4,FALSE),IF($C86=\"PlSp19-24\",VLOOKUP($A86,'Lauf PlSp19-24'!$A$1:$G$15,4,FALSE),IF($C86=\"PlSp25-30\",VLOOKUP($A86,'Lauf PlSp25-30'!$A$1:$G$15,4,FALSE),IF($C86=\"PlSp31-36\",VLOOKUP($A86,'Lauf PlSp31-36'!$A$1:$G$15,4,FALSE),IF($C86=\"PlSp37-42\",VLOOKUP($A86,'Lauf PlSp37-42'!$A$1:$G$15,4,FALSE),IF($C86=\"PlSp43-48\",VLOOKUP($A86,'Lauf PlSp43-48'!$A$1:$G$15,4,FALSE),IF($C86=\"Halbfinale\",VLOOKUP($A86,'Lauf Halbfinale'!$A$1:$G$6,4,FALSE),IF($C86=\"Endrunde\",VLOOKUP($A86,'Lauf Endrunde'!$A$1:$G$6,4,FALSE),))))))))))","v":"Gruppe F2"},{"$f":"IF($C86=\"ZwRu1\",VLOOKUP($A86,'Lauf ZRA'!$A$1:$E$15,5,FALSE),IF($C86=\"ZwRu2\",VLOOKUP($A86,'Lauf ZRB'!$A$1:$E$15,5,FALSE),IF($C86=\"PlSp13-18\",VLOOKUP($A86,'Lauf PlSp13-18'!$A$1:$G$15,5,FALSE),IF($C86=\"PlSp19-24\",VLOOKUP($A86,'Lauf PlSp19-24'!$A$1:$G$15,5,FALSE),IF($C86=\"PlSp25-30\",VLOOKUP($A86,'Lauf PlSp25-30'!$A$1:$G$15,5,FALSE),IF($C86=\"PlSp31-36\",VLOOKUP($A86,'Lauf PlSp31-36'!$A$1:$G$15,5,FALSE),IF($C86=\"PlSp37-42\",VLOOKUP($A86,'Lauf PlSp37-42'!$A$1:$G$15,5,FALSE),IF($C86=\"PlSp43-48\",VLOOKUP($A86,'Lauf PlSp43-48'!$A$1:$G$15,5,FALSE),IF($C86=\"Halbfinale\",VLOOKUP($A86,'Lauf Halbfinale'!$A$1:$G$6,5,FALSE),IF($C86=\"Endrunde\",VLOOKUP($A86,'Lauf Endrunde'!$A$1:$G$6,5,FALSE),))))))))))","v":"Gruppe A8"},null,null,null,null,null,null,null,null,null,null,null,null,null,null,null,null,null,null,null,null,null,null,null,null,null,null,null,null,null,null,null,null,null,null,null,null,null,null,null,null,null,null,null,null,null,5,71,5,"PlSp25-30","11:36:00","SFR Möhlenwarf","Willy"]
[84,6,"PlSp31-36","11:08:00",{"$f":"IF($C87=\"ZwRu1\",VLOOKUP($A87,'Lauf ZRA'!$A$1:$E$15,4,FALSE),IF($C87=\"ZwRu2\",VLOOKUP($A87,'Lauf ZRB'!$A$1:$E$15,4,FALSE),IF($C87=\"PlSp13-18\",VLOOKUP($A87,'Lauf PlSp13-18'!$A$1:$G$15,4,FALSE),IF($C87=\"PlSp19-24\",VLOOKUP($A87,'Lauf PlSp19-24'!$A$1:$G$15,4,FALSE),IF($C87=\"PlSp25-30\",VLOOKUP($A87,'Lauf PlSp25-30'!$A$1:$G$15,4,FALSE),IF($C87=\"PlSp31-36\",VLOOKUP($A87,'Lauf PlSp31-36'!$A$1:$G$15,4,FALSE),IF($C87=\"PlSp37-42\",VLOOKUP($A87,'Lauf PlSp37-42'!$A$1:$G$15,4,FALSE),IF($C87=\"PlSp43-48\",VLOOKUP($A87,'Lauf PlSp43-48'!$A$1:$G$15,4,FALSE),IF($C87=\"Halbfinale\",VLOOKUP($A87,'Lauf Halbfinale'!$A$1:$G$6,4,FALSE),IF($C87=\"Endrunde\",VLOOKUP($A87,'Lauf Endrunde'!$A$1:$G$6,4,FALSE),))))))))))","v":"Gruppe C2"},{"$f":"IF($C87=\"ZwRu1\",VLOOKUP($A87,'Lauf ZRA'!$A$1:$E$15,5,FALSE),IF($C87=\"ZwRu2\",VLOOKUP($A87,'Lauf ZRB'!$A$1:$E$15,5,FALSE),IF($C87=\"PlSp13-18\",VLOOKUP($A87,'Lauf PlSp13-18'!$A$1:$G$15,5,FALSE),IF($C87=\"PlSp19-24\",VLOOKUP($A87,'Lauf PlSp19-24'!$A$1:$G$15,5,FALSE),IF($C87=\"PlSp25-30\",VLOOKUP($A87,'Lauf PlSp25-30'!$A$1:$G$15,5,FALSE),IF($C87=\"PlSp31-36\",VLOOKUP($A87,'Lauf PlSp31-36'!$A$1:$G$15,5,FALSE),IF($C87=\"PlSp37-42\",VLOOKUP($A87,'Lauf PlSp37-42'!$A$1:$G$15,5,FALSE),IF($C87=\"PlSp43-48\",VLOOKUP($A87,'Lauf PlSp43-48'!$A$1:$G$15,5,FALSE),IF($C87=\"Halbfinale\",VLOOKUP($A87,'Lauf Halbfinale'!$A$1:$G$6,5,FALSE),IF($C87=\"Endrunde\",VLOOKUP($A87,'Lauf Endrunde'!$A$1:$G$6,5,FALSE),))))))))))","v":"Gruppe E6"},null,null,null,null,null,null,null,null,null,null,null,null,null,null,null,null,null,null,null,null,null,null,null,null,null,null,null,null,null,null,null,null,null,null,null,null,null,null,null,null,null,null,null,null,null,6,86,6,"PlSp31-36","11:36:00","vv Jubbega","JVC Dedemsvaart EE"]
[85,6,"PlSp31-36","11:19:00",{"$f":"IF($C88=\"ZwRu1\",VLOOKUP($A88,'Lauf ZRA'!$A$1:$E$15,4,FALSE),IF($C88=\"ZwRu2\",VLOOKUP($A88,'Lauf ZRB'!$A$1:$E$15,4,FALSE),IF($C88=\"PlSp13-18\",VLOOKUP($A88,'Lauf PlSp13-18'!$A$1:$G$15,4,FALSE),IF($C88=\"PlSp19-24\",VLOOKUP($A88,'Lauf PlSp19-24'!$A$1:$G$15,4,FALSE),IF($C88=\"PlSp25-30\",VLOOKUP($A88,'Lauf PlSp25-30'!$A$1:$G$15,4,FALSE),IF($C88=\"PlSp31-36\",VLOOKUP($A88,'Lauf PlSp31-36'!$A$1:$G$15,4,FALSE),IF($C88=\"PlSp37-42\",VLOOKUP($A88,'Lauf PlSp37-42'!$A$1:$G$15,4,FALSE),IF($C88=\"PlSp43-48\",VLOOKUP($A88,'Lauf PlSp43-48'!$A$1:$G$15,4,FALSE),IF($C88=\"Halbfinale\",VLOOKUP($A88,'Lauf Halbfinale'!$A$1:$G$6,4,FALSE),IF($C88=\"Endrunde\",VLOOKUP($A88,'Lauf Endrunde'!$A$1:$G$6,4,FALSE),))))))))))","v":"Gruppe D1"},{"$f":"IF($C88=\"ZwRu1\",VLOOKUP($A88,'Lauf ZRA'!$A$1:$E$15,5,FALSE),IF($C88=\"ZwRu2\",VLOOKUP($A88,'Lauf ZRB'!$A$1:$E$15,5,FALSE),IF($C88=\"PlSp13-18\",VLOOKUP($A88,'Lauf PlSp13-18'!$A$1:$G$15,5,FALSE),IF($C88=\"PlSp19-24\",VLOOKUP($A88,'Lauf PlSp19-24'!$A$1:$G$15,5,FALSE),IF($C88=\"PlSp25-30\",VLOOKUP($A88,'Lauf PlSp25-30'!$A$1:$G$15,5,FALSE),IF($C88=\"PlSp31-36\",VLOOKUP($A88,'Lauf PlSp31-36'!$A$1:$G$15,5,FALSE),IF($C88=\"PlSp37-42\",VLOOKUP($A88,'Lauf PlSp37-42'!$A$1:$G$15,5,FALSE),IF($C88=\"PlSp43-48\",VLOOKUP($A88,'Lauf PlSp43-48'!$A$1:$G$15,5,FALSE),IF($C88=\"Halbfinale\",VLOOKUP($A88,'Lauf Halbfinale'!$A$1:$G$6,5,FALSE),IF($C88=\"Endrunde\",VLOOKUP($A88,'Lauf Endrunde'!$A$1:$G$6,5,FALSE),))))))))))","v":"Gruppe F2"},null,null,null,null,null,null,null,null,null,null,null,null,null,null,null,null,null,null,null,null,null,null,null,null,null,null,null,null,null,null,null,null,null,null,null,null,null,null,null,null,null,null,null,null,null,1,15,1,"ZwRu1","11:48:00","VfL \"Fortuna\" Veenhusen 1","TuS Eversten 2"]
[86,6,"PlSp31-36","12:26:00",{"$f":"IF($C89=\"ZwRu1\",VLOOKUP($A89,'Lauf ZRA'!$A$1:$E$15,4,FALSE),IF($C89=\"ZwRu2\",VLOOKUP($A89,'Lauf ZRB'!$A$1:$E$15,4,FALSE),IF($C89=\"PlSp13-18\",VLOOKUP($A89,'Lauf PlSp13-18'!$A$1:$G$15,4,FALSE),IF($C89=\"PlSp19-24\",VLOOKUP($A89,'Lauf PlSp19-24'!$A$1:$G$15,4,FALSE),IF($C89=\"PlSp25-30\",VLOOKUP($A89,'Lauf PlSp25-30'!$A$1:$G$15,4,FALSE),IF($C89=\"PlSp31-36\",VLOOKUP($A89,'Lauf PlSp31-36'!$A$1:$G$15,4,FALSE),IF($C89=\"PlSp37-42\",VLOOKUP($A89,'Lauf PlSp37-42'!$A$1:$G$15,4,FALSE),IF($C89=\"PlSp43-48\",VLOOKUP($A89,'Lauf PlSp43-48'!$A$1:$G$15,4,FALSE),IF($C89=\"Halbfinale\",VLOOKUP($A89,'Lauf Halbfinale'!$A$1:$G$6,4,FALSE),IF($C89=\"Endrunde\",VLOOKUP($A89,'Lauf Endrunde'!$A$1:$G$6,4,FALSE),))))))))))","v":"Gruppe A8"},{"$f":"IF($C89=\"ZwRu1\",VLOOKUP($A89,'Lauf ZRA'!$A$1:$E$15,5,FALSE),IF($C89=\"ZwRu2\",VLOOKUP($A89,'Lauf ZRB'!$A$1:$E$15,5,FALSE),IF($C89=\"PlSp13-18\",VLOOKUP($A89,'Lauf PlSp13-18'!$A$1:$G$15,5,FALSE),IF($C89=\"PlSp19-24\",VLOOKUP($A89,'Lauf PlSp19-24'!$A$1:$G$15,5,FALSE),IF($C89=\"PlSp25-30\",VLOOKUP($A89,'Lauf PlSp25-30'!$A$1:$G$15,5,FALSE),IF($C89=\"PlSp31-36\",VLOOKUP($A89,'Lauf PlSp31-36'!$A$1:$G$15,5,FALSE),IF($C89=\"PlSp37-42\",VLOOKUP($A89,'Lauf PlSp37-42'!$A$1:$G$15,5,FALSE),IF($C89=\"PlSp43-48\",VLOOKUP($A89,'Lauf PlSp43-48'!$A$1:$G$15,5,FALSE),IF($C89=\"Halbfinale\",VLOOKUP($A89,'Lauf Halbfinale'!$A$1:$G$6,5,FALSE),IF($C89=\"Endrunde\",VLOOKUP($A89,'Lauf Endrunde'!$A$1:$G$6,5,FALSE),))))))))))","v":"Gruppe E6"},null,null,null,null,null,null,null,null,null,null,null,null,null,null,null,null,null,null,null,null,null,null,null,null,null,null,null,null,null,null,null,null,null,null,null,null,null,null,null,null,null,null,null,null,null,2,30,2,"ZwRu2","11:48:00","VfL \"Fortuna\" Veenhusen 2","TuRa Westrhauderfehn"]
[87,6,"PlSp31-36","12:37:00",{"$f":"IF($C90=\"ZwRu1\",VLOOKUP($A90,'Lauf ZRA'!$A$1:$E$15,4,FALSE),IF($C90=\"ZwRu2\",VLOOKUP($A90,'Lauf ZRB'!$A$1:$E$15,4,FALSE),IF($C90=\"PlSp13-18\",VLOOKUP($A90,'Lauf PlSp13-18'!$A$1:$G$15,4,FALSE),IF($C90=\"PlSp19-24\",VLOOKUP($A90,'Lauf PlSp19-24'!$A$1:$G$15,4,FALSE),IF($C90=\"PlSp25-30\",VLOOKUP($A90,'Lauf PlSp25-30'!$A$1:$G$15,4,FALSE),IF($C90=\"PlSp31-36\",VLOOKUP($A90,'Lauf PlSp31-36'!$A$1:$G$15,4,FALSE),IF($C90=\"PlSp37-42\",VLOOKUP($A90,'Lauf PlSp37-42'!$A$1:$G$15,4,FALSE),IF($C90=\"PlSp43-48\",VLOOKUP($A90,'Lauf PlSp43-48'!$A$1:$G$15,4,FALSE),IF($C90=\"Halbfinale\",VLOOKUP($A90,'Lauf Halbfinale'!$A$1:$G$6,4,FALSE),IF($C90=\"Endrunde\",VLOOKUP($A90,'Lauf Endrunde'!$A$1:$G$6,4,FALSE),))))))))))","v":"Gruppe F2"},{"$f":"IF($C90=\"ZwRu1\",VLOOKUP($A90,'Lauf ZRA'!$A$1:$E$15,5,FALSE),IF($C90=\"ZwRu2\",VLOOKUP($A90,'Lauf ZRB'!$A$1:$E$15,5,FALSE),IF($C90=\"PlSp13-18\",VLOOKUP($A90,'Lauf PlSp13-18'!$A$1:$G$15,5,FALSE),IF($C90=\"PlSp19-24\",VLOOKUP($A90,'Lauf PlSp19-24'!$A$1:$G$15,5,FALSE),IF($C90=\"PlSp25-30\",VLOOKUP($A90,'Lauf PlSp25-30'!$A$1:$G$15,5,FALSE),IF($C90=\"PlSp31-36\",VLOOKUP($A90,'Lauf PlSp31-36'!$A$1:$G$15,5,FALSE),IF($C90=\"PlSp37-42\",VLOOKUP($A90,'Lauf PlSp37-42'!$A$1:$G$15,5,FALSE),IF($C90=\"PlSp43-48\",VLOOKUP($A90,'Lauf PlSp43-48'!$A$1:$G$15,5,FALSE),IF($C90=\"Halbfinale\",VLOOKUP($A90,'Lauf Halbfinale'!$A$1:$G$6,5,FALSE),IF($C90=\"Endrunde\",VLOOKUP($A90,'Lauf Endrunde'!$A$1:$G$6,5,FALSE),))))))))))","v":"Gruppe B8"},null,null,null,null,null,null,null,null,null,null,null,null,null,null,null,null,null,null,null,null,null,null,null,null,null,null,null,null,null,null,null,null,null,null,null,null,null,null,null,null,null,null,null,null,null,3,42,3,"PlSp13-18","11:48:00","TuRa Westrhauderfehn FF","VfB 1928 Wilden"]
[88,6,"PlSp31-36","12:59:00",{"$f":"IF($C91=\"ZwRu1\",VLOOKUP($A91,'Lauf ZRA'!$A$1:$E$15,4,FALSE),IF($C91=\"ZwRu2\",VLOOKUP($A91,'Lauf ZRB'!$A$1:$E$15,4,FALSE),IF($C91=\"PlSp13-18\",VLOOKUP($A91,'Lauf PlSp13-18'!$A$1:$G$15,4,FALSE),IF($C91=\"PlSp19-24\",VLOOKUP($A91,'Lauf PlSp19-24'!$A$1:$G$15,4,FALSE),IF($C91=\"PlSp25-30\",VLOOKUP($A91,'Lauf PlSp25-30'!$A$1:$G$15,4,FALSE),IF($C91=\"PlSp31-36\",VLOOKUP($A91,'Lauf PlSp31-36'!$A$1:$G$15,4,FALSE),IF($C91=\"PlSp37-42\",VLOOKUP($A91,'Lauf PlSp37-42'!$A$1:$G$15,4,FALSE),IF($C91=\"PlSp43-48\",VLOOKUP($A91,'Lauf PlSp43-48'!$A$1:$G$15,4,FALSE),IF($C91=\"Halbfinale\",VLOOKUP($A91,'Lauf Halbfinale'!$A$1:$G$6,4,FALSE),IF($C91=\"Endrunde\",VLOOKUP($A91,'Lauf Endrunde'!$A$1:$G$6,4,FALSE),))))))))))","v":"Gruppe D1"},{"$f":"IF($C91=\"ZwRu1\",VLOOKUP($A91,'Lauf ZRA'!$A$1:$E$15,5,FALSE),IF($C91=\"ZwRu2\",VLOOKUP($A91,'Lauf ZRB'!$A$1:$E$15,5,FALSE),IF($C91=\"PlSp13-18\",VLOOKUP($A91,'Lauf PlSp13-18'!$A$1:$G$15,5,FALSE),IF($C91=\"PlSp19-24\",VLOOKUP($A91,'Lauf PlSp19-24'!$A$1:$G$15,5,FALSE),IF($C91=\"PlSp25-30\",VLOOKUP($A91,'Lauf PlSp25-30'!$A$1:$G$15,5,FALSE),IF($C91=\"PlSp31-36\",VLOOKUP($A91,'Lauf PlSp31-36'!$A$1:$G$15,5,FALSE),IF($C91=\"PlSp37-42\",VLOOKUP($A91,'Lauf PlSp37-42'!$A$1:$G$15,5,FALSE),IF($C91=\"PlSp43-48\",VLOOKUP($A91,'Lauf PlSp43-48'!$A$1:$G$15,5,FALSE),IF($C91=\"Halbfinale\",VLOOKUP($A91,'Lauf Halbfinale'!$A$1:$G$6,5,FALSE),IF($C91=\"Endrunde\",VLOOKUP($A91,'Lauf Endrunde'!$A$1:$G$6,5,FALSE),))))))))))","v":"Gruppe A8"},null,null,null,null,null,null,null,null,null,null,null,null,null,null,null,null,null,null,null,null,null,null,null,null,null,null,null,null,null,null,null,null,null,null,null,null,null,null,null,null,null,null,null,null,null,4,57,4,"PlSp19-24","11:48:00","JSG Harderberg/Kloster Oesede 1 FF","VfL Weiße Elf Nordhorn"]
[89,6,"PlSp31-36","13:10:00",{"$f":"IF($C92=\"ZwRu1\",VLOOKUP($A92,'Lauf ZRA'!$A$1:$E$15,4,FALSE),IF($C92=\"ZwRu2\",VLOOKUP($A92,'Lauf ZRB'!$A$1:$E$15,4,FALSE),IF($C92=\"PlSp13-18\",VLOOKUP($A92,'Lauf PlSp13-18'!$A$1:$G$15,4,FALSE),IF($C92=\"PlSp19-24\",VLOOKUP($A92,'Lauf PlSp19-24'!$A$1:$G$15,4,FALSE),IF($C92=\"PlSp25-30\",VLOOKUP($A92,'Lauf PlSp25-30'!$A$1:$G$15,4,FALSE),IF($C92=\"PlSp31-36\",VLOOKUP($A92,'Lauf PlSp31-36'!$A$1:$G$15,4,FALSE),IF($C92=\"PlSp37-42\",VLOOKUP($A92,'Lauf PlSp37-42'!$A$1:$G$15,4,FALSE),IF($C92=\"PlSp43-48\",VLOOKUP($A92,'Lauf PlSp43-48'!$A$1:$G$15,4,FALSE),IF($C92=\"Halbfinale\",VLOOKUP($A92,'Lauf Halbfinale'!$A$1:$G$6,4,FALSE),IF($C92=\"Endrunde\",VLOOKUP($A92,'Lauf Endrunde'!$A$1:$G$6,4,FALSE),))))))))))","v":"Gruppe C2"},{"$f":"IF($C92=\"ZwRu1\",VLOOKUP($A92,'Lauf ZRA'!$A$1:$E$15,5,FALSE),IF($C92=\"ZwRu2\",VLOOKUP($A92,'Lauf ZRB'!$A$1:$E$15,5,FALSE),IF($C92=\"PlSp13-18\",VLOOKUP($A92,'Lauf PlSp13-18'!$A$1:$G$15,5,FALSE),IF($C92=\"PlSp19-24\",VLOOKUP($A92,'Lauf PlSp19-24'!$A$1:$G$15,5,FALSE),IF($C92=\"PlSp25-30\",VLOOKUP($A92,'Lauf PlSp25-30'!$A$1:$G$15,5,FALSE),IF($C92=\"PlSp31-36\",VLOOKUP($A92,'Lauf PlSp31-36'!$A$1:$G$15,5,FALSE),IF($C92=\"PlSp37-42\",VLOOKUP($A92,'Lauf PlSp37-42'!$A$1:$G$15,5,FALSE),IF($C92=\"PlSp43-48\",VLOOKUP($A92,'Lauf PlSp43-48'!$A$1:$G$15,5,FALSE),IF($C92=\"Halbfinale\",VLOOKUP($A92,'Lauf Halbfinale'!$A$1:$G$6,5,FALSE),IF($C92=\"Endrunde\",VLOOKUP($A92,'Lauf Endrunde'!$A$1:$G$6,5,FALSE),))))))))))","v":"Gruppe F2"},null,null,null,null,null,null,null,null,null,null,null,null,null,null,null,null,null,null,null,null,null,null,null,null,null,null,null,null,null,null,null,null,null,null,null,null,null,null,null,null,null,null,null,null,null,5,72,5,"PlSp25-30","11:48:00","Ammi","JFV Leer"]
[90,6,"PlSp31-36","13:21:00",{"$f":"IF($C93=\"ZwRu1\",VLOOKUP($A93,'Lauf ZRA'!$A$1:$E$15,4,FALSE),IF($C93=\"ZwRu2\",VLOOKUP($A93,'Lauf ZRB'!$A$1:$E$15,4,FALSE),IF($C93=\"PlSp13-18\",VLOOKUP($A93,'Lauf PlSp13-18'!$A$1:$G$15,4,FALSE),IF($C93=\"PlSp19-24\",VLOOKUP($A93,'Lauf PlSp19-24'!$A$1:$G$15,4,FALSE),IF($C93=\"PlSp25-30\",VLOOKUP($A93,'Lauf PlSp25-30'!$A$1:$G$15,4,FALSE),IF($C93=\"PlSp31-36\",VLOOKUP($A93,'Lauf PlSp31-36'!$A$1:$G$15,4,FALSE),IF($C93=\"PlSp37-42\",VLOOKUP($A93,'Lauf PlSp37-42'!$A$1:$G$15,4,FALSE),IF($C93=\"PlSp43-48\",VLOOKUP($A93,'Lauf PlSp43-48'!$A$1:$G$15,4,FALSE),IF($C93=\"Halbfinale\",VLOOKUP($A93,'Lauf Halbfinale'!$A$1:$G$6,4,FALSE),IF($C93=\"Endrunde\",VLOOKUP($A93,'Lauf Endrunde'!$A$1:$G$6,4,FALSE),))))))))))","v":"Gruppe B8"},{"$f":"IF($C93=\"ZwRu1\",VLOOKUP($A93,'Lauf ZRA'!$A$1:$E$15,5,FALSE),IF($C93=\"ZwRu2\",VLOOKUP($A93,'Lauf ZRB'!$A$1:$E$15,5,FALSE),IF($C93=\"PlSp13-18\",VLOOKUP($A93,'Lauf PlSp13-18'!$A$1:$G$15,5,FALSE),IF($C93=\"PlSp19-24\",VLOOKUP($A93,'Lauf PlSp19-24'!$A$1:$G$15,5,FALSE),IF($C93=\"PlSp25-30\",VLOOKUP($A93,'Lauf PlSp25-30'!$A$1:$G$15,5,FALSE),IF($C93=\"PlSp31-36\",VLOOKUP($A93,'Lauf PlSp31-36'!$A$1:$G$15,5,FALSE),IF($C93=\"PlSp37-42\",VLOOKUP($A93,'Lauf PlSp37-42'!$A$1:$G$15,5,FALSE),IF($C93=\"PlSp43-48\",VLOOKUP($A93,'Lauf PlSp43-48'!$A$1:$G$15,5,FALSE),IF($C93=\"Halbfinale\",VLOOKUP($A93,'Lauf Halbfinale'!$A$1:$G$6,5,FALSE),IF($C93=\"Endrunde\",VLOOKUP($A93,'Lauf Endrunde'!$A$1:$G$6,5,FALSE),))))))))))","v":"Gruppe D1"},null,null,null,null,null,null,null,null,null,null,null,null,null,null,null,null,null,null,null,null,null,null,null,null,null,null,null,null,null,null,null,null,null,null,null,null,null,null,null,null,null,null,null,null,null,7,103,6,"PlSp37-42","11:48:00","VfL \"Fortuna\" Veenhusen 3","Test Team A"]
[91,4,"PlSp37-42","08:45:00",{"$f":"IF($C94=\"ZwRu1\",VLOOKUP($A94,'Lauf ZRA'!$A$1:$E$15,4,FALSE),IF($C94=\"ZwRu2\",VLOOKUP($A94,'Lauf ZRB'!$A$1:$E$15,4,FALSE),IF($C94=\"PlSp13-18\",VLOOKUP($A94,'Lauf PlSp13-18'!$A$1:$G$15,4,FALSE),IF($C94=\"PlSp19-24\",VLOOKUP($A94,'Lauf PlSp19-24'!$A$1:$G$15,4,FALSE),IF($C94=\"PlSp25-30\",VLOOKUP($A94,'Lauf PlSp25-30'!$A$1:$G$15,4,FALSE),IF($C94=\"PlSp31-36\",VLOOKUP($A94,'Lauf PlSp31-36'!$A$1:$G$15,4,FALSE),IF($C94=\"PlSp37-42\",VLOOKUP($A94,'Lauf PlSp37-42'!$A$1:$G$15,4,FALSE),IF($C94=\"PlSp43-48\",VLOOKUP($A94,'Lauf PlSp43-48'!$A$1:$G$15,4,FALSE),IF($C94=\"Halbfinale\",VLOOKUP($A94,'Lauf Halbfinale'!$A$1:$G$6,4,FALSE),IF($C94=\"Endrunde\",VLOOKUP($A94,'Lauf Endrunde'!$A$1:$G$6,4,FALSE),))))))))))","v":"Gruppe A5"},{"$f":"IF($C94=\"ZwRu1\",VLOOKUP($A94,'Lauf ZRA'!$A$1:$E$15,5,FALSE),IF($C94=\"ZwRu2\",VLOOKUP($A94,'Lauf ZRB'!$A$1:$E$15,5,FALSE),IF($C94=\"PlSp13-18\",VLOOKUP($A94,'Lauf PlSp13-18'!$A$1:$G$15,5,FALSE),IF($C94=\"PlSp19-24\",VLOOKUP($A94,'Lauf PlSp19-24'!$A$1:$G$15,5,FALSE),IF($C94=\"PlSp25-30\",VLOOKUP($A94,'Lauf PlSp25-30'!$A$1:$G$15,5,FALSE),IF($C94=\"PlSp31-36\",VLOOKUP($A94,'Lauf PlSp31-36'!$A$1:$G$15,5,FALSE),IF($C94=\"PlSp37-42\",VLOOKUP($A94,'Lauf PlSp37-42'!$A$1:$G$15,5,FALSE),IF($C94=\"PlSp43-48\",VLOOKUP($A94,'Lauf PlSp43-48'!$A$1:$G$15,5,FALSE),IF($C94=\"Halbfinale\",VLOOKUP($A94,'Lauf Halbfinale'!$A$1:$G$6,5,FALSE),IF($C94=\"Endrunde\",VLOOKUP($A94,'Lauf Endrunde'!$A$1:$G$6,5,FALSE),))))))))))","v":"Gruppe B4"},null,null,null,null,null,null,null,null,null,null,null,null,null,null,null,null,null,null,null,null,null,null,null,null,null,null,null,null,null,null,null,null,null,null,null,null,null,null,null,null,null,null,null,null,null,8,106,1,"Halbfinale","13:00:00","JSG Riede/Emtinghausen EE","vv BeilenFF"]
[92,3,"PlSp37-42","08:56:00",{"$f":"IF($C95=\"ZwRu1\",VLOOKUP($A95,'Lauf ZRA'!$A$1:$E$15,4,FALSE),IF($C95=\"ZwRu2\",VLOOKUP($A95,'Lauf ZRB'!$A$1:$E$15,4,FALSE),IF($C95=\"PlSp13-18\",VLOOKUP($A95,'Lauf PlSp13-18'!$A$1:$G$15,4,FALSE),IF($C95=\"PlSp19-24\",VLOOKUP($A95,'Lauf PlSp19-24'!$A$1:$G$15,4,FALSE),IF($C95=\"PlSp25-30\",VLOOKUP($A95,'Lauf PlSp25-30'!$A$1:$G$15,4,FALSE),IF($C95=\"PlSp31-36\",VLOOKUP($A95,'Lauf PlSp31-36'!$A$1:$G$15,4,FALSE),IF($C95=\"PlSp37-42\",VLOOKUP($A95,'Lauf PlSp37-42'!$A$1:$G$15,4,FALSE),IF($C95=\"PlSp43-48\",VLOOKUP($A95,'Lauf PlSp43-48'!$A$1:$G$15,4,FALSE),IF($C95=\"Halbfinale\",VLOOKUP($A95,'Lauf Halbfinale'!$A$1:$G$6,4,FALSE),IF($C95=\"Endrunde\",VLOOKUP($A95,'Lauf Endrunde'!$A$1:$G$6,4,FALSE),))))))))))","v":"Gruppe C1"},{"$f":"IF($C95=\"ZwRu1\",VLOOKUP($A95,'Lauf ZRA'!$A$1:$E$15,5,FALSE),IF($C95=\"ZwRu2\",VLOOKUP($A95,'Lauf ZRB'!$A$1:$E$15,5,FALSE),IF($C95=\"PlSp13-18\",VLOOKUP($A95,'Lauf PlSp13-18'!$A$1:$G$15,5,FALSE),IF($C95=\"PlSp19-24\",VLOOKUP($A95,'Lauf PlSp19-24'!$A$1:$G$15,5,FALSE),IF($C95=\"PlSp25-30\",VLOOKUP($A95,'Lauf PlSp25-30'!$A$1:$G$15,5,FALSE),IF($C95=\"PlSp31-36\",VLOOKUP($A95,'Lauf PlSp31-36'!$A$1:$G$15,5,FALSE),IF($C95=\"PlSp37-42\",VLOOKUP($A95,'Lauf PlSp37-42'!$A$1:$G$15,5,FALSE),IF($C95=\"PlSp43-48\",VLOOKUP($A95,'Lauf PlSp43-48'!$A$1:$G$15,5,FALSE),IF($C95=\"Halbfinale\",VLOOKUP($A95,'Lauf Halbfinale'!$A$1:$G$6,5,FALSE),IF($C95=\"Endrunde\",VLOOKUP($A95,'Lauf Endrunde'!$A$1:$G$6,5,FALSE),))))))))))","v":"Gruppe D5"},null,null,null,null,null,null,null,null,null,null,null,null,null,null,null,null,null,null,null,null,null,null,null,null,null,null,null,null,null,null,null,null,null,null,null,null,null,null,null,null,null,null,null,null,null,8,107,2,"Halbfinale","13:00:00","TuS Eversten 2","TuRa Westrhauderfehn"]
[93,4,"PlSp37-42","09:18:00",{"$f":"IF($C96=\"ZwRu1\",VLOOKUP($A96,'Lauf ZRA'!$A$1:$E$15,4,FALSE),IF($C96=\"ZwRu2\",VLOOKUP($A96,'Lauf ZRB'!$A$1:$E$15,4,FALSE),IF($C96=\"PlSp13-18\",VLOOKUP($A96,'Lauf PlSp13-18'!$A$1:$G$15,4,FALSE),IF($C96=\"PlSp19-24\",VLOOKUP($A96,'Lauf PlSp19-24'!$A$1:$G$15,4,FALSE),IF($C96=\"PlSp25-30\",VLOOKUP($A96,'Lauf PlSp25-30'!$A$1:$G$15,4,FALSE),IF($C96=\"PlSp31-36\",VLOOKUP($A96,'Lauf PlSp31-36'!$A$1:$G$15,4,FALSE),IF($C96=\"PlSp37-42\",VLOOKUP($A96,'Lauf PlSp37-42'!$A$1:$G$15,4,FALSE),IF($C96=\"PlSp43-48\",VLOOKUP($A96,'Lauf PlSp43-48'!$A$1:$G$15,4,FALSE),IF($C96=\"Halbfinale\",VLOOKUP($A96,'Lauf Halbfinale'!$A$1:$G$6,4,FALSE),IF($C96=\"Endrunde\",VLOOKUP($A96,'Lauf Endrunde'!$A$1:$G$6,4,FALSE),))))))))))","v":"Gruppe E5"},{"$f":"IF($C96=\"ZwRu1\",VLOOKUP($A96,'Lauf ZRA'!$A$1:$E$15,5,FALSE),IF($C96=\"ZwRu2\",VLOOKUP($A96,'Lauf ZRB'!$A$1:$E$15,5,FALSE),IF($C96=\"PlSp13-18\",VLOOKUP($A96,'Lauf PlSp13-18'!$A$1:$G$15,5,FALSE),IF($C96=\"PlSp19-24\",VLOOKUP($A96,'Lauf PlSp19-24'!$A$1:$G$15,5,FALSE),IF($C96=\"PlSp25-30\",VLOOKUP($A96,'Lauf PlSp25-30'!$A$1:$G$15,5,FALSE),IF($C96=\"PlSp31-36\",VLOOKUP($A96,'Lauf PlSp31-36'!$A$1:$G$15,5,FALSE),IF($C96=\"PlSp37-42\",VLOOKUP($A96,'Lauf PlSp37-42'!$A$1:$G$15,5,FALSE),IF($C96=\"PlSp43-48\",VLOOKUP($A96,'Lauf PlSp43-48'!$A$1:$G$15,5,FALSE),IF($C96=\"Halbfinale\",VLOOKUP($A96,'Lauf Halbfinale'!$A$1:$G$6,5,FALSE),IF($C96=\"Endrunde\",VLOOKUP($A96,'Lauf Endrunde'!$A$1:$G$6,5,FALSE),))))))))))","v":"Gruppe F1"},null,null,null,null,null,null,null,null,null,null,null,null,null,null,null,null,null,null,null,null,null,null,null,null,null,null,null,null,null,null,null,null,null,null,null,null,null,null,null,null,null,null,null,null,null,7,104,3,"PlSp37-42","13:00:00","SV Warsingsfehn","VfL \"Fortuna\" Veenhusen 3 FF"]
[94,3,"PlSp37-42","09:29:00",{"$f":"IF($C97=\"ZwRu1\",VLOOKUP($A97,'Lauf ZRA'!$A$1:$E$15,4,FALSE),IF($C97=\"ZwRu2\",VLOOKUP($A97,'Lauf ZRB'!$A$1:$E$15,4,FALSE),IF($C97=\"PlSp13-18\",VLOOKUP($A97,'Lauf PlSp13-18'!$A$1:$G$15,4,FALSE),IF($C97=\"PlSp19-24\",VLOOKUP($A97,'Lauf PlSp19-24'!$A$1:$G$15,4,FALSE),IF($C97=\"PlSp25-30\",VLOOKUP($A97,'Lauf PlSp25-30'!$A$1:$G$15,4,FALSE),IF($C97=\"PlSp31-36\",VLOOKUP($A97,'Lauf PlSp31-36'!$A$1:$G$15,4,FALSE),IF($C97=\"PlSp37-42\",VLOOKUP($A97,'Lauf PlSp37-42'!$A$1:$G$15,4,FALSE),IF($C97=\"PlSp43-48\",VLOOKUP($A97,'Lauf PlSp43-48'!$A$1:$G$15,4,FALSE),IF($C97=\"Halbfinale\",VLOOKUP($A97,'Lauf Halbfinale'!$A$1:$G$6,4,FALSE),IF($C97=\"Endrunde\",VLOOKUP($A97,'Lauf Endrunde'!$A$1:$G$6,4,FALSE),))))))))))","v":"Gruppe B4"},{"$f":"IF($C97=\"ZwRu1\",VLOOKUP($A97,'Lauf ZRA'!$A$1:$E$15,5,FALSE),IF($C97=\"ZwRu2\",VLOOKUP($A97,'Lauf ZRB'!$A$1:$E$15,5,FALSE),IF($C97=\"PlSp13-18\",VLOOKUP($A97,'Lauf PlSp13-18'!$A$1:$G$15,5,FALSE),IF($C97=\"PlSp19-24\",VLOOKUP($A97,'Lauf PlSp19-24'!$A$1:$G$15,5,FALSE),IF($C97=\"PlSp25-30\",VLOOKUP($A97,'Lauf PlSp25-30'!$A$1:$G$15,5,FALSE),IF($C97=\"PlSp31-36\",VLOOKUP($A97,'Lauf PlSp31-36'!$A$1:$G$15,5,FALSE),IF($C97=\"PlSp37-42\",VLOOKUP($A97,'Lauf PlSp37-42'!$A$1:$G$15,5,FALSE),IF($C97=\"PlSp43-48\",VLOOKUP($A97,'Lauf PlSp43-48'!$A$1:$G$15,5,FALSE),IF($C97=\"Halbfinale\",VLOOKUP($A97,'Lauf Halbfinale'!$A$1:$G$6,5,FALSE),IF($C97=\"Endrunde\",VLOOKUP($A97,'Lauf Endrunde'!$A$1:$G$6,5,FALSE),))))))))))","v":"Gruppe C1"},null,null,null,null,null,null,null,null,null,null,null,null,null,null,null,null,null,null,null,null,null,null,null,null,null,null,null,null,null,null,null,null,null,null,null,null,null,null,null,null,null,null,null,null,null,4,58,4,"PlSp19-24","13:00:00","vv Beilen","VfL Viktoria Flachsmeer"]
[95,4,"PlSp37-42","09:51:00",{"$f":"IF($C98=\"ZwRu1\",VLOOKUP($A98,'Lauf ZRA'!$A$1:$E$15,4,FALSE),IF($C98=\"ZwRu2\",VLOOKUP($A98,'Lauf ZRB'!$A$1:$E$15,4,FALSE),IF($C98=\"PlSp13-18\",VLOOKUP($A98,'Lauf PlSp13-18'!$A$1:$G$15,4,FALSE),IF($C98=\"PlSp19-24\",VLOOKUP($A98,'Lauf PlSp19-24'!$A$1:$G$15,4,FALSE),IF($C98=\"PlSp25-30\",VLOOKUP($A98,'Lauf PlSp25-30'!$A$1:$G$15,4,FALSE),IF($C98=\"PlSp31-36\",VLOOKUP($A98,'Lauf PlSp31-36'!$A$1:$G$15,4,FALSE),IF($C98=\"PlSp37-42\",VLOOKUP($A98,'Lauf PlSp37-42'!$A$1:$G$15,4,FALSE),IF($C98=\"PlSp43-48\",VLOOKUP($A98,'Lauf PlSp43-48'!$A$1:$G$15,4,FALSE),IF($C98=\"Halbfinale\",VLOOKUP($A98,'Lauf Halbfinale'!$A$1:$G$6,4,FALSE),IF($C98=\"Endrunde\",VLOOKUP($A98,'Lauf Endrunde'!$A$1:$G$6,4,FALSE),))))))))))","v":"Gruppe D5"},{"$f":"IF($C98=\"ZwRu1\",VLOOKUP($A98,'Lauf ZRA'!$A$1:$E$15,5,FALSE),IF($C98=\"ZwRu2\",VLOOKUP($A98,'Lauf ZRB'!$A$1:$E$15,5,FALSE),IF($C98=\"PlSp13-18\",VLOOKUP($A98,'Lauf PlSp13-18'!$A$1:$G$15,5,FALSE),IF($C98=\"PlSp19-24\",VLOOKUP($A98,'Lauf PlSp19-24'!$A$1:$G$15,5,FALSE),IF($C98=\"PlSp25-30\",VLOOKUP($A98,'Lauf PlSp25-30'!$A$1:$G$15,5,FALSE),IF($C98=\"PlSp31-36\",VLOOKUP($A98,'Lauf PlSp31-36'!$A$1:$G$15,5,FALSE),IF($C98=\"PlSp37-42\",VLOOKUP($A98,'Lauf PlSp37-42'!$A$1:$G$15,5,FALSE),IF($C98=\"PlSp43-48\",VLOOKUP($A98,'Lauf PlSp43-48'!$A$1:$G$15,5,FALSE),IF($C98=\"Halbfinale\",VLOOKUP($A98,'Lauf Halbfinale'!$A$1:$G$6,5,FALSE),IF($C98=\"Endrunde\",VLOOKUP($A98,'Lauf Endrunde'!$A$1:$G$6,5,FALSE),))))))))))","v":"Gruppe E5"},null,null,null,null,null,null,null,null,null,null,null,null,null,null,null,null,null,null,null,null,null,null,null,null,null,null,null,null,null,null,null,null,null,null,null,null,null,null,null,null,null,null,null,null,null,5,73,5,"PlSp25-30","13:00:00","Test Team D","SFR Möhlenwarf"]
[96,3,"PlSp37-42","10:02:00",{"$f":"IF($C99=\"ZwRu1\",VLOOKUP($A99,'Lauf ZRA'!$A$1:$E$15,4,FALSE),IF($C99=\"ZwRu2\",VLOOKUP($A99,'Lauf ZRB'!$A$1:$E$15,4,FALSE),IF($C99=\"PlSp13-18\",VLOOKUP($A99,'Lauf PlSp13-18'!$A$1:$G$15,4,FALSE),IF($C99=\"PlSp19-24\",VLOOKUP($A99,'Lauf PlSp19-24'!$A$1:$G$15,4,FALSE),IF($C99=\"PlSp25-30\",VLOOKUP($A99,'Lauf PlSp25-30'!$A$1:$G$15,4,FALSE),IF($C99=\"PlSp31-36\",VLOOKUP($A99,'Lauf PlSp31-36'!$A$1:$G$15,4,FALSE),IF($C99=\"PlSp37-42\",VLOOKUP($A99,'Lauf PlSp37-42'!$A$1:$G$15,4,FALSE),IF($C99=\"PlSp43-48\",VLOOKUP($A99,'Lauf PlSp43-48'!$A$1:$G$15,4,FALSE),IF($C99=\"Halbfinale\",VLOOKUP($A99,'Lauf Halbfinale'!$A$1:$G$6,4,FALSE),IF($C99=\"Endrunde\",VLOOKUP($A99,'Lauf Endrunde'!$A$1:$G$6,4,FALSE),))))))))))","v":"Gruppe A5"},{"$f":"IF($C99=\"ZwRu1\",VLOOKUP($A99,'Lauf ZRA'!$A$1:$E$15,5,FALSE),IF($C99=\"ZwRu2\",VLOOKUP($A99,'Lauf ZRB'!$A$1:$E$15,5,FALSE),IF($C99=\"PlSp13-18\",VLOOKUP($A99,'Lauf PlSp13-18'!$A$1:$G$15,5,FALSE),IF($C99=\"PlSp19-24\",VLOOKUP($A99,'Lauf PlSp19-24'!$A$1:$G$15,5,FALSE),IF($C99=\"PlSp25-30\",VLOOKUP($A99,'Lauf PlSp25-30'!$A$1:$G$15,5,FALSE),IF($C99=\"PlSp31-36\",VLOOKUP($A99,'Lauf PlSp31-36'!$A$1:$G$15,5,FALSE),IF($C99=\"PlSp37-42\",VLOOKUP($A99,'Lauf PlSp37-42'!$A$1:$G$15,5,FALSE),IF($C99=\"PlSp43-48\",VLOOKUP($A99,'Lauf PlSp43-48'!$A$1:$G$15,5,FALSE),IF($C99=\"Halbfinale\",VLOOKUP($A99,'Lauf Halbfinale'!$A$1:$G$6,5,FALSE),IF($C99=\"Endrunde\",VLOOKUP($A99,'Lauf Endrunde'!$A$1:$G$6,5,FALSE),))))))))))","v":"Gruppe C1"},null,null,null,null,null,null,null,null,null,null,null,null,null,null,null,null,null,null,null,null,null,null,null,null,null,null,null,null,null,null,null,null,null,null,null,null,null,null,null,null,null,null,null,null,null,6,87,6,"PlSp31-36","13:00:00","SV Borussia Salchendorf FF","Test Team B"]
[97,4,"PlSp37-42","10:24:00",{"$f":"IF($C100=\"ZwRu1\",VLOOKUP($A100,'Lauf ZRA'!$A$1:$E$15,4,FALSE),IF($C100=\"ZwRu2\",VLOOKUP($A100,'Lauf ZRB'!$A$1:$E$15,4,FALSE),IF($C100=\"PlSp13-18\",VLOOKUP($A100,'Lauf PlSp13-18'!$A$1:$G$15,4,FALSE),IF($C100=\"PlSp19-24\",VLOOKUP($A100,'Lauf PlSp19-24'!$A$1:$G$15,4,FALSE),IF($C100=\"PlSp25-30\",VLOOKUP($A100,'Lauf PlSp25-30'!$A$1:$G$15,4,FALSE),IF($C100=\"PlSp31-36\",VLOOKUP($A100,'Lauf PlSp31-36'!$A$1:$G$15,4,FALSE),IF($C100=\"PlSp37-42\",VLOOKUP($A100,'Lauf PlSp37-42'!$A$1:$G$15,4,FALSE),IF($C100=\"PlSp43-48\",VLOOKUP($A100,'Lauf PlSp43-48'!$A$1:$G$15,4,FALSE),IF($C100=\"Halbfinale\",VLOOKUP($A100,'Lauf Halbfinale'!$A$1:$G$6,4,FALSE),IF($C100=\"Endrunde\",VLOOKUP($A100,'Lauf Endrunde'!$A$1:$G$6,4,FALSE),))))))))))","v":"Gruppe E5"},{"$f":"IF($C100=\"ZwRu1\",VLOOKUP($A100,'Lauf ZRA'!$A$1:$E$15,5,FALSE),IF($C100=\"ZwRu2\",VLOOKUP($A100,'Lauf ZRB'!$A$1:$E$15,5,FALSE),IF($C100=\"PlSp13-18\",VLOOKUP($A100,'Lauf PlSp13-18'!$A$1:$G$15,5,FALSE),IF($C100=\"PlSp19-24\",VLOOKUP($A100,'Lauf PlSp19-24'!$A$1:$G$15,5,FALSE),IF($C100=\"PlSp25-30\",VLOOKUP($A100,'Lauf PlSp25-30'!$A$1:$G$15,5,FALSE),IF($C100=\"PlSp31-36\",VLOOKUP($A100,'Lauf PlSp31-36'!$A$1:$G$15,5,FALSE),IF($C100=\"PlSp37-42\",VLOOKUP($A100,'Lauf PlSp37-42'!$A$1:$G$15,5,FALSE),IF($C100=\"PlSp43-48\",VLOOKUP($A100,'Lauf PlSp43-48'!$A$1:$G$15,5,FALSE),IF($C100=\"Halbfinale\",VLOOKUP($A100,'Lauf Halbfinale'!$A$1:$G$6,5,FALSE),IF($C100=\"Endrunde\",VLOOKUP($A100,'Lauf Endrunde'!$A$1:$G$6,5,FALSE),))))))))))","v":"Gruppe B4"},null,null,null,null,null,null,null,null,null,null,null,null,null,null,null,null,null,null,null,null,null,null,null,null,null,null,null,null,null,null,null,null,null,null,null,null,null,null,null,null,null,null,null,null,null,{"$f":"IF(BC100=BH$2,BI$2,IF(BC100=BH$3,BI$3,IF(BC100=BH$4,BI$4,IF(BC100=BH$5,BI$5,IF(BC100=$BH$6,$BI$6,IF(BC100=BH$7,BI$7,IF(BC100=BH$8,BI$8,IF(BC100=BH$9,BI$9,IF(BC100=BH$10,BI$10,\"Fehler\")))))))))","v":8},108,1,"Halbfinale","13:12:00","VfL \"Fortuna\" Veenhusen 1","VfL \"Fortuna\" Veenhusen 2"]
[98,3,"PlSp37-42","10:35:00",{"$f":"IF($C101=\"ZwRu1\",VLOOKUP($A101,'Lauf ZRA'!$A$1:$E$15,4,FALSE),IF($C101=\"ZwRu2\",VLOOKUP($A101,'Lauf ZRB'!$A$1:$E$15,4,FALSE),IF($C101=\"PlSp13-18\",VLOOKUP($A101,'Lauf PlSp13-18'!$A$1:$G$15,4,FALSE),IF($C101=\"PlSp19-24\",VLOOKUP($A101,'Lauf PlSp19-24'!$A$1:$G$15,4,FALSE),IF($C101=\"PlSp25-30\",VLOOKUP($A101,'Lauf PlSp25-30'!$A$1:$G$15,4,FALSE),IF($C101=\"PlSp31-36\",VLOOKUP($A101,'Lauf PlSp31-36'!$A$1:$G$15,4,FALSE),IF($C101=\"PlSp37-42\",VLOOKUP($A101,'Lauf PlSp37-42'!$A$1:$G$15,4,FALSE),IF($C101=\"PlSp43-48\",VLOOKUP($A101,'Lauf PlSp43-48'!$A$1:$G$15,4,FALSE),IF($C101=\"Halbfinale\",VLOOKUP($A101,'Lauf Halbfinale'!$A$1:$G$6,4,FALSE),IF($C101=\"Endrunde\",VLOOKUP($A101,'Lauf Endrunde'!$A$1:$G$6,4,FALSE),))))))))))","v":"Gruppe F1"},{"$f":"IF($C101=\"ZwRu1\",VLOOKUP($A101,'Lauf ZRA'!$A$1:$E$15,5,FALSE),IF($C101=\"ZwRu2\",VLOOKUP($A101,'Lauf ZRB'!$A$1:$E$15,5,FALSE),IF($C101=\"PlSp13-18\",VLOOKUP($A101,'Lauf PlSp13-18'!$A$1:$G$15,5,FALSE),IF($C101=\"PlSp19-24\",VLOOKUP($A101,'Lauf PlSp19-24'!$A$1:$G$15,5,FALSE),IF($C101=\"PlSp25-30\",VLOOKUP($A101,'Lauf PlSp25-30'!$A$1:$G$15,5,FALSE),IF($C101=\"PlSp31-36\",VLOOKUP($A101,'Lauf PlSp31-36'!$A$1:$G$15,5,FALSE),IF($C101=\"PlSp37-42\",VLOOKUP($A101,'Lauf PlSp37-42'!$A$1:$G$15,5,FALSE),IF($C101=\"PlSp43-48\",VLOOKUP($A101,'Lauf PlSp43-48'!$A$1:$G$15,5,FALSE),IF($C101=\"Halbfinale\",VLOOKUP($A101,'Lauf Halbfinale'!$A$1:$G$6,5,FALSE),IF($C101=\"Endrunde\",VLOOKUP($A101,'Lauf Endrunde'!$A$1:$G$6,5,FALSE),))))))))))","v":"Gruppe A5"},null,null,null,null,null,null,null,null,null,null,null,null,null,null,null,null,null,null,null,null,null,null,null,null,null,null,null,null,null,null,null,null,null,null,null,null,null,null,null,null,null,null,null,null,null,8,109,2,"Halbfinale","13:12:00","JSG Harderberg/Kloster Oesede 2","TuS Eversten 1"]
[99,4,"PlSp37-42","10:57:00",{"$f":"IF($C102=\"ZwRu1\",VLOOKUP($A102,'Lauf ZRA'!$A$1:$E$15,4,FALSE),IF($C102=\"ZwRu2\",VLOOKUP($A102,'Lauf ZRB'!$A$1:$E$15,4,FALSE),IF($C102=\"PlSp13-18\",VLOOKUP($A102,'Lauf PlSp13-18'!$A$1:$G$15,4,FALSE),IF($C102=\"PlSp19-24\",VLOOKUP($A102,'Lauf PlSp19-24'!$A$1:$G$15,4,FALSE),IF($C102=\"PlSp25-30\",VLOOKUP($A102,'Lauf PlSp25-30'!$A$1:$G$15,4,FALSE),IF($C102=\"PlSp31-36\",VLOOKUP($A102,'Lauf PlSp31-36'!$A$1:$G$15,4,FALSE),IF($C102=\"PlSp37-42\",VLOOKUP($A102,'Lauf PlSp37-42'!$A$1:$G$15,4,FALSE),IF($C102=\"PlSp43-48\",VLOOKUP($A102,'Lauf PlSp43-48'!$A$1:$G$15,4,FALSE),IF($C102=\"Halbfinale\",VLOOKUP($A102,'Lauf Halbfinale'!$A$1:$G$6,4,FALSE),IF($C102=\"Endrunde\",VLOOKUP($A102,'Lauf Endrunde'!$A$1:$G$6,4,FALSE),))))))))))","v":"Gruppe C1"},{"$f":"IF($C102=\"ZwRu1\",VLOOKUP($A102,'Lauf ZRA'!$A$1:$E$15,5,FALSE),IF($C102=\"ZwRu2\",VLOOKUP($A102,'Lauf ZRB'!$A$1:$E$15,5,FALSE),IF($C102=\"PlSp13-18\",VLOOKUP($A102,'Lauf PlSp13-18'!$A$1:$G$15,5,FALSE),IF($C102=\"PlSp19-24\",VLOOKUP($A102,'Lauf PlSp19-24'!$A$1:$G$15,5,FALSE),IF($C102=\"PlSp25-30\",VLOOKUP($A102,'Lauf PlSp25-30'!$A$1:$G$15,5,FALSE),IF($C102=\"PlSp31-36\",VLOOKUP($A102,'Lauf PlSp31-36'!$A$1:$G$15,5,FALSE),IF($C102=\"PlSp37-42\",VLOOKUP($A102,'Lauf PlSp37-42'!$A$1:$G$15,5,FALSE),IF($C102=\"PlSp43-48\",VLOOKUP($A102,'Lauf PlSp43-48'!$A$1:$G$15,5,FALSE),IF($C102=\"Halbfinale\",VLOOKUP($A102,'Lauf Halbfinale'!$A$1:$G$6,5,FALSE),IF($C102=\"Endrunde\",VLOOKUP($A102,'Lauf Endrunde'!$A$1:$G$6,5,FALSE),))))))))))","v":"Gruppe E5"},null,null,null,null,null,null,null,null,null,null,null,null,null,null,null,null,null,null,null,null,null,null,null,null,null,null,null,null,null,null,null,null,null,null,null,null,null,null,null,null,null,null,null,null,null,3,43,3,"PlSp13-18","13:12:00","JSG Harderberg/Kloster Oesede 1","SV Ostfrisia Moordorf"]
[100,3,"PlSp37-42","11:08:00",{"$f":"IF($C103=\"ZwRu1\",VLOOKUP($A103,'Lauf ZRA'!$A$1:$E$15,4,FALSE),IF($C103=\"ZwRu2\",VLOOKUP($A103,'Lauf ZRB'!$A$1:$E$15,4,FALSE),IF($C103=\"PlSp13-18\",VLOOKUP($A103,'Lauf PlSp13-18'!$A$1:$G$15,4,FALSE),IF($C103=\"PlSp19-24\",VLOOKUP($A103,'Lauf PlSp19-24'!$A$1:$G$15,4,FALSE),IF($C103=\"PlSp25-30\",VLOOKUP($A103,'Lauf PlSp25-30'!$A$1:$G$15,4,FALSE),IF($C103=\"PlSp31-36\",VLOOKUP($A103,'Lauf PlSp31-36'!$A$1:$G$15,4,FALSE),IF($C103=\"PlSp37-42\",VLOOKUP($A103,'Lauf PlSp37-42'!$A$1:$G$15,4,FALSE),IF($C103=\"PlSp43-48\",VLOOKUP($A103,'Lauf PlSp43-48'!$A$1:$G$15,4,FALSE),IF($C103=\"Halbfinale\",VLOOKUP($A103,'Lauf Halbfinale'!$A$1:$G$6,4,FALSE),IF($C103=\"Endrunde\",VLOOKUP($A103,'Lauf Endrunde'!$A$1:$G$6,4,FALSE),))))))))))","v":"Gruppe D5"},{"$f":"IF($C103=\"ZwRu1\",VLOOKUP($A103,'Lauf ZRA'!$A$1:$E$15,5,FALSE),IF($C103=\"ZwRu2\",VLOOKUP($A103,'Lauf ZRB'!$A$1:$E$15,5,FALSE),IF($C103=\"PlSp13-18\",VLOOKUP($A103,'Lauf PlSp13-18'!$A$1:$G$15,5,FALSE),IF($C103=\"PlSp19-24\",VLOOKUP($A103,'Lauf PlSp19-24'!$A$1:$G$15,5,FALSE),IF($C103=\"PlSp25-30\",VLOOKUP($A103,'Lauf PlSp25-30'!$A$1:$G$15,5,FALSE),IF($C103=\"PlSp31-36\",VLOOKUP($A103,'Lauf PlSp31-36'!$A$1:$G$15,5,FALSE),IF($C103=\"PlSp37-42\",VLOOKUP($A103,'Lauf PlSp37-42'!$A$1:$G$15,5,FALSE),IF($C103=\"PlSp43-48\",VLOOKUP($A103,'Lauf PlSp43-48'!$A$1:$G$15,5,FALSE),IF($C103=\"Halbfinale\",VLOOKUP($A103,'Lauf Halbfinale'!$A$1:$G$6,5,FALSE),IF($C103=\"Endrunde\",VLOOKUP($A103,'Lauf Endrunde'!$A$1:$G$6,5,FALSE),))))))))))","v":"Gruppe F1"},null,null,null,null,null,null,null,null,null,null,null,null,null,null,null,null,null,null,null,null,null,null,null,null,null,null,null,null,null,null,null,null,null,null,null,null,null,null,null,null,null,null,null,null,null,7,105,4,"PlSp37-42","13:12:00","TuS Weener","VfL \"Fortuna\" Veenhusen 3"]
[101,4,"PlSp37-42","12:15:00",{"$f":"IF($C104=\"ZwRu1\",VLOOKUP($A104,'Lauf ZRA'!$A$1:$E$15,4,FALSE),IF($C104=\"ZwRu2\",VLOOKUP($A104,'Lauf ZRB'!$A$1:$E$15,4,FALSE),IF($C104=\"PlSp13-18\",VLOOKUP($A104,'Lauf PlSp13-18'!$A$1:$G$15,4,FALSE),IF($C104=\"PlSp19-24\",VLOOKUP($A104,'Lauf PlSp19-24'!$A$1:$G$15,4,FALSE),IF($C104=\"PlSp25-30\",VLOOKUP($A104,'Lauf PlSp25-30'!$A$1:$G$15,4,FALSE),IF($C104=\"PlSp31-36\",VLOOKUP($A104,'Lauf PlSp31-36'!$A$1:$G$15,4,FALSE),IF($C104=\"PlSp37-42\",VLOOKUP($A104,'Lauf PlSp37-42'!$A$1:$G$15,4,FALSE),IF($C104=\"PlSp43-48\",VLOOKUP($A104,'Lauf PlSp43-48'!$A$1:$G$15,4,FALSE),IF($C104=\"Halbfinale\",VLOOKUP($A104,'Lauf Halbfinale'!$A$1:$G$6,4,FALSE),IF($C104=\"Endrunde\",VLOOKUP($A104,'Lauf Endrunde'!$A$1:$G$6,4,FALSE),))))))))))","v":"Gruppe A5"},{"$f":"IF($C104=\"ZwRu1\",VLOOKUP($A104,'Lauf ZRA'!$A$1:$E$15,5,FALSE),IF($C104=\"ZwRu2\",VLOOKUP($A104,'Lauf ZRB'!$A$1:$E$15,5,FALSE),IF($C104=\"PlSp13-18\",VLOOKUP($A104,'Lauf PlSp13-18'!$A$1:$G$15,5,FALSE),IF($C104=\"PlSp19-24\",VLOOKUP($A104,'Lauf PlSp19-24'!$A$1:$G$15,5,FALSE),IF($C104=\"PlSp25-30\",VLOOKUP($A104,'Lauf PlSp25-30'!$A$1:$G$15,5,FALSE),IF($C104=\"PlSp31-36\",VLOOKUP($A104,'Lauf PlSp31-36'!$A$1:$G$15,5,FALSE),IF($C104=\"PlSp37-42\",VLOOKUP($A104,'Lauf PlSp37-42'!$A$1:$G$15,5,FALSE),IF($C104=\"PlSp43-48\",VLOOKUP($A104,'Lauf PlSp43-48'!$A$1:$G$15,5,FALSE),IF($C104=\"Halbfinale\",VLOOKUP($A104,'Lauf Halbfinale'!$A$1:$G$6,5,FALSE),IF($C104=\"Endrunde\",VLOOKUP($A104,'Lauf Endrunde'!$A$1:$G$6,5,FALSE),))))))))))","v":"Gruppe E5"},null,null,null,null,null,null,null,null,null,null,null,null,null,null,null,null,null,null,null,null,null,null,null,null,null,null,null,null,null,null,null,null,null,null,null,null,null,null,null,null,null,null,null,null,null,5,74,5,"PlSp25-30","13:12:00","Test","Ammi"]
[102,3,"PlSp37-42","12:26:00",{"$f":"IF($C105=\"ZwRu1\",VLOOKUP($A105,'Lauf ZRA'!$A$1:$E$15,4,FALSE),IF($C105=\"ZwRu2\",VLOOKUP($A105,'Lauf ZRB'!$A$1:$E$15,4,FALSE),IF($C105=\"PlSp13-18\",VLOOKUP($A105,'Lauf PlSp13-18'!$A$1:$G$15,4,FALSE),IF($C105=\"PlSp19-24\",VLOOKUP($A105,'Lauf PlSp19-24'!$A$1:$G$15,4,FALSE),IF($C105=\"PlSp25-30\",VLOOKUP($A105,'Lauf PlSp25-30'!$A$1:$G$15,4,FALSE),IF($C105=\"PlSp31-36\",VLOOKUP($A105,'Lauf PlSp31-36'!$A$1:$G$15,4,FALSE),IF($C105=\"PlSp37-42\",VLOOKUP($A105,'Lauf PlSp37-42'!$A$1:$G$15,4,FALSE),IF($C105=\"PlSp43-48\",VLOOKUP($A105,'Lauf PlSp43-48'!$A$1:$G$15,4,FALSE),IF($C105=\"Halbfinale\",VLOOKUP($A105,'Lauf Halbfinale'!$A$1:$G$6,4,FALSE),IF($C105=\"Endrunde\",VLOOKUP($A105,'Lauf Endrunde'!$A$1:$G$6,4,FALSE),))))))))))","v":"Gruppe F1"},{"$f":"IF($C105=\"ZwRu1\",VLOOKUP($A105,'Lauf ZRA'!$A$1:$E$15,5,FALSE),IF($C105=\"ZwRu2\",VLOOKUP($A105,'Lauf ZRB'!$A$1:$E$15,5,FALSE),IF($C105=\"PlSp13-18\",VLOOKUP($A105,'Lauf PlSp13-18'!$A$1:$G$15,5,FALSE),IF($C105=\"PlSp19-24\",VLOOKUP($A105,'Lauf PlSp19-24'!$A$1:$G$15,5,FALSE),IF($C105=\"PlSp25-30\",VLOOKUP($A105,'Lauf PlSp25-30'!$A$1:$G$15,5,FALSE),IF($C105=\"PlSp31-36\",VLOOKUP($A105,'Lauf PlSp31-36'!$A$1:$G$15,5,FALSE),IF($C105=\"PlSp37-42\",VLOOKUP($A105,'Lauf PlSp37-42'!$A$1:$G$15,5,FALSE),IF($C105=\"PlSp43-48\",VLOOKUP($A105,'Lauf PlSp43-48'!$A$1:$G$15,5,FALSE),IF($C105=\"Halbfinale\",VLOOKUP($A105,'Lauf Halbfinale'!$A$1:$G$6,5,FALSE),IF($C105=\"Endrunde\",VLOOKUP($A105,'Lauf Endrunde'!$A$1:$G$6,5,FALSE),))))))))))","v":"Gruppe B4"},null,null,null,null,null,null,null,null,null,null,null,null,null,null,null,null,null,null,null,null,null,null,null,null,null,null,null,null,null,null,null,null,null,null,null,null,null,null,null,null,null,null,null,null,null,6,88,6,"PlSp31-36","13:12:00","SV Borussia Salchendorf","vv Jubbega"]
[103,4,"PlSp37-42","12:48:00",{"$f":"IF($C106=\"ZwRu1\",VLOOKUP($A106,'Lauf ZRA'!$A$1:$E$15,4,FALSE),IF($C106=\"ZwRu2\",VLOOKUP($A106,'Lauf ZRB'!$A$1:$E$15,4,FALSE),IF($C106=\"PlSp13-18\",VLOOKUP($A106,'Lauf PlSp13-18'!$A$1:$G$15,4,FALSE),IF($C106=\"PlSp19-24\",VLOOKUP($A106,'Lauf PlSp19-24'!$A$1:$G$15,4,FALSE),IF($C106=\"PlSp25-30\",VLOOKUP($A106,'Lauf PlSp25-30'!$A$1:$G$15,4,FALSE),IF($C106=\"PlSp31-36\",VLOOKUP($A106,'Lauf PlSp31-36'!$A$1:$G$15,4,FALSE),IF($C106=\"PlSp37-42\",VLOOKUP($A106,'Lauf PlSp37-42'!$A$1:$G$15,4,FALSE),IF($C106=\"PlSp43-48\",VLOOKUP($A106,'Lauf PlSp43-48'!$A$1:$G$15,4,FALSE),IF($C106=\"Halbfinale\",VLOOKUP($A106,'Lauf Halbfinale'!$A$1:$G$6,4,FALSE),IF($C106=\"Endrunde\",VLOOKUP($A106,'Lauf Endrunde'!$A$1:$G$6,4,FALSE),))))))))))","v":"Gruppe D5"},{"$f":"IF($C106=\"ZwRu1\",VLOOKUP($A106,'Lauf ZRA'!$A$1:$E$15,5,FALSE),IF($C106=\"ZwRu2\",VLOOKUP($A106,'Lauf ZRB'!$A$1:$E$15,5,FALSE),IF($C106=\"PlSp13-18\",VLOOKUP($A106,'Lauf PlSp13-18'!$A$1:$G$15,5,FALSE),IF($C106=\"PlSp19-24\",VLOOKUP($A106,'Lauf PlSp19-24'!$A$1:$G$15,5,FALSE),IF($C106=\"PlSp25-30\",VLOOKUP($A106,'Lauf PlSp25-30'!$A$1:$G$15,5,FALSE),IF($C106=\"PlSp31-36\",VLOOKUP($A106,'Lauf PlSp31-36'!$A$1:$G$15,5,FALSE),IF($C106=\"PlSp37-42\",VLOOKUP($A106,'Lauf PlSp37-42'!$A$1:$G$15,5,FALSE),IF($C106=\"PlSp43-48\",VLOOKUP($A106,'Lauf PlSp43-48'!$A$1:$G$15,5,FALSE),IF($C106=\"Halbfinale\",VLOOKUP($A106,'Lauf Halbfinale'!$A$1:$G$6,5,FALSE),IF($C106=\"Endrunde\",VLOOKUP($A106,'Lauf Endrunde'!$A$1:$G$6,5,FALSE),))))))))))","v":"Gruppe A5"},null,null,null,null,null,null,null,null,null,null,null,null,null,null,null,null,null,null,null,null,null,null,null,null,null,null,null,null,null,null,null,null,null,null,null,null,null,null,null,null,null,null,null,null,null,8,110,1,"Halbfinale","13:24:00","MSG Moormerland Mädchen","SV Spetzerfehn"]
[104,3,"PlSp37-42","12:59:00",{"$f":"IF($C107=\"ZwRu1\",VLOOKUP($A107,'Lauf ZRA'!$A$1:$E$15,4,FALSE),IF($C107=\"ZwRu2\",VLOOKUP($A107,'Lauf ZRB'!$A$1:$E$15,4,FALSE),IF($C107=\"PlSp13-18\",VLOOKUP($A107,'Lauf PlSp13-18'!$A$1:$G$15,4,FALSE),IF($C107=\"PlSp19-24\",VLOOKUP($A107,'Lauf PlSp19-24'!$A$1:$G$15,4,FALSE),IF($C107=\"PlSp25-30\",VLOOKUP($A107,'Lauf PlSp25-30'!$A$1:$G$15,4,FALSE),IF($C107=\"PlSp31-36\",VLOOKUP($A107,'Lauf PlSp31-36'!$A$1:$G$15,4,FALSE),IF($C107=\"PlSp37-42\",VLOOKUP($A107,'Lauf PlSp37-42'!$A$1:$G$15,4,FALSE),IF($C107=\"PlSp43-48\",VLOOKUP($A107,'Lauf PlSp43-48'!$A$1:$G$15,4,FALSE),IF($C107=\"Halbfinale\",VLOOKUP($A107,'Lauf Halbfinale'!$A$1:$G$6,4,FALSE),IF($C107=\"Endrunde\",VLOOKUP($A107,'Lauf Endrunde'!$A$1:$G$6,4,FALSE),))))))))))","v":"Gruppe C1"},{"$f":"IF($C107=\"ZwRu1\",VLOOKUP($A107,'Lauf ZRA'!$A$1:$E$15,5,FALSE),IF($C107=\"ZwRu2\",VLOOKUP($A107,'Lauf ZRB'!$A$1:$E$15,5,FALSE),IF($C107=\"PlSp13-18\",VLOOKUP($A107,'Lauf PlSp13-18'!$A$1:$G$15,5,FALSE),IF($C107=\"PlSp19-24\",VLOOKUP($A107,'Lauf PlSp19-24'!$A$1:$G$15,5,FALSE),IF($C107=\"PlSp25-30\",VLOOKUP($A107,'Lauf PlSp25-30'!$A$1:$G$15,5,FALSE),IF($C107=\"PlSp31-36\",VLOOKUP($A107,'Lauf PlSp31-36'!$A$1:$G$15,5,FALSE),IF($C107=\"PlSp37-42\",VLOOKUP($A107,'Lauf PlSp37-42'!$A$1:$G$15,5,FALSE),IF($C107=\"PlSp43-48\",VLOOKUP($A107,'Lauf PlSp43-48'!$A$1:$G$15,5,FALSE),IF($C107=\"Halbfinale\",VLOOKUP($A107,'Lauf Halbfinale'!$A$1:$G$6,5,FALSE),IF($C107=\"Endrunde\",VLOOKUP($A107,'Lauf Endrunde'!$A$1:$G$6,5,FALSE),))))))))))","v":"Gruppe F1"},null,null,null,null,null,null,null,null,null,null,null,null,null,null,null,null,null,null,null,null,null,null,null,null,null,null,null,null,null,null,null,null,null,null,null,null,null,null,null,null,null,null,null,null,null,8,111,2,"Halbfinale","13:24:00","MSG Moormerland EE","SV Spetzerfehn FF"]
[105,1,"PlSp37-42","13:21:00",{"$f":"IF($C108=\"ZwRu1\",VLOOKUP($A108,'Lauf ZRA'!$A$1:$E$15,4,FALSE),IF($C108=\"ZwRu2\",VLOOKUP($A108,'Lauf ZRB'!$A$1:$E$15,4,FALSE),IF($C108=\"PlSp13-18\",VLOOKUP($A108,'Lauf PlSp13-18'!$A$1:$G$15,4,FALSE),IF($C108=\"PlSp19-24\",VLOOKUP($A108,'Lauf PlSp19-24'!$A$1:$G$15,4,FALSE),IF($C108=\"PlSp25-30\",VLOOKUP($A108,'Lauf PlSp25-30'!$A$1:$G$15,4,FALSE),IF($C108=\"PlSp31-36\",VLOOKUP($A108,'Lauf PlSp31-36'!$A$1:$G$15,4,FALSE),IF($C108=\"PlSp37-42\",VLOOKUP($A108,'Lauf PlSp37-42'!$A$1:$G$15,4,FALSE),IF($C108=\"PlSp43-48\",VLOOKUP($A108,'Lauf PlSp43-48'!$A$1:$G$15,4,FALSE),IF($C108=\"Halbfinale\",VLOOKUP($A108,'Lauf Halbfinale'!$A$1:$G$6,4,FALSE),IF($C108=\"Endrunde\",VLOOKUP($A108,'Lauf Endrunde'!$A$1:$G$6,4,FALSE),))))))))))","v":"Gruppe B4"},{"$f":"IF($C108=\"ZwRu1\",VLOOKUP($A108,'Lauf ZRA'!$A$1:$E$15,5,FALSE),IF($C108=\"ZwRu2\",VLOOKUP($A108,'Lauf ZRB'!$A$1:$E$15,5,FALSE),IF($C108=\"PlSp13-18\",VLOOKUP($A108,'Lauf PlSp13-18'!$A$1:$G$15,5,FALSE),IF($C108=\"PlSp19-24\",VLOOKUP($A108,'Lauf PlSp19-24'!$A$1:$G$15,5,FALSE),IF($C108=\"PlSp25-30\",VLOOKUP($A108,'Lauf PlSp25-30'!$A$1:$G$15,5,FALSE),IF($C108=\"PlSp31-36\",VLOOKUP($A108,'Lauf PlSp31-36'!$A$1:$G$15,5,FALSE),IF($C108=\"PlSp37-42\",VLOOKUP($A108,'Lauf PlSp37-42'!$A$1:$G$15,5,FALSE),IF($C108=\"PlSp43-48\",VLOOKUP($A108,'Lauf PlSp43-48'!$A$1:$G$15,5,FALSE),IF($C108=\"Halbfinale\",VLOOKUP($A108,'Lauf Halbfinale'!$A$1:$G$6,5,FALSE),IF($C108=\"Endrunde\",VLOOKUP($A108,'Lauf Endrunde'!$A$1:$G$6,5,FALSE),))))))))))","v":"Gruppe D5"},null,null,null,null,null,null,null,null,null,null,null,null,null,null,null,null,null,null,null,null,null,null,null,null,null,null,null,null,null,null,null,null,null,null,null,null,null,null,null,null,null,null,null,null,null,3,44,3,"PlSp13-18","13:24:00","JSG Riede/Emtinghausen","TuRa Westrhauderfehn FF"]
[106,6,"PlSp43-48","08:45:00",{"$f":"IF($C109=\"ZwRu1\",VLOOKUP($A109,'Lauf ZRA'!$A$1:$E$15,4,FALSE),IF($C109=\"ZwRu2\",VLOOKUP($A109,'Lauf ZRB'!$A$1:$E$15,4,FALSE),IF($C109=\"PlSp13-18\",VLOOKUP($A109,'Lauf PlSp13-18'!$A$1:$G$15,4,FALSE),IF($C109=\"PlSp19-24\",VLOOKUP($A109,'Lauf PlSp19-24'!$A$1:$G$15,4,FALSE),IF($C109=\"PlSp25-30\",VLOOKUP($A109,'Lauf PlSp25-30'!$A$1:$G$15,4,FALSE),IF($C109=\"PlSp31-36\",VLOOKUP($A109,'Lauf PlSp31-36'!$A$1:$G$15,4,FALSE),IF($C109=\"PlSp37-42\",VLOOKUP($A109,'Lauf PlSp37-42'!$A$1:$G$15,4,FALSE),IF($C109=\"PlSp43-48\",VLOOKUP($A109,'Lauf PlSp43-48'!$A$1:$G$15,4,FALSE),IF($C109=\"Halbfinale\",VLOOKUP($A109,'Lauf Halbfinale'!$A$1:$G$6,4,FALSE),IF($C109=\"Endrunde\",VLOOKUP($A109,'Lauf Endrunde'!$A$1:$G$6,4,FALSE),))))))))))","v":"Gruppe A1"},{"$f":"IF($C109=\"ZwRu1\",VLOOKUP($A109,'Lauf ZRA'!$A$1:$E$15,5,FALSE),IF($C109=\"ZwRu2\",VLOOKUP($A109,'Lauf ZRB'!$A$1:$E$15,5,FALSE),IF($C109=\"PlSp13-18\",VLOOKUP($A109,'Lauf PlSp13-18'!$A$1:$G$15,5,FALSE),IF($C109=\"PlSp19-24\",VLOOKUP($A109,'Lauf PlSp19-24'!$A$1:$G$15,5,FALSE),IF($C109=\"PlSp25-30\",VLOOKUP($A109,'Lauf PlSp25-30'!$A$1:$G$15,5,FALSE),IF($C109=\"PlSp31-36\",VLOOKUP($A109,'Lauf PlSp31-36'!$A$1:$G$15,5,FALSE),IF($C109=\"PlSp37-42\",VLOOKUP($A109,'Lauf PlSp37-42'!$A$1:$G$15,5,FALSE),IF($C109=\"PlSp43-48\",VLOOKUP($A109,'Lauf PlSp43-48'!$A$1:$G$15,5,FALSE),IF($C109=\"Halbfinale\",VLOOKUP($A109,'Lauf Halbfinale'!$A$1:$G$6,5,FALSE),IF($C109=\"Endrunde\",VLOOKUP($A109,'Lauf Endrunde'!$A$1:$G$6,5,FALSE),))))))))))","v":"Gruppe B2"},null,null,null,null,null,null,null,null,null,null,null,null,null,null,null,null,null,null,null,null,null,null,null,null,null,null,null,null,null,null,null,null,null,null,null,null,null,null,null,null,null,null,null,null,null,4,59,4,"PlSp19-24","13:24:00","Blau-Weiß Papenburg","JSG Harderberg/Kloster Oesede 1 FF"]
[107,{"$f":"IF(ISNA(MATCH(A110,$M$6:$M$11,0)),IF(ISNA(MATCH(A110,$N$6:$N$11,0)),IF(ISNA(MATCH(A110,$O$6:$O$11,0)),IF(ISNA(MATCH(A110,$P$6:$P$11,0)),IF(ISNA(MATCH(A110,$Q$6:$Q$11,0)),IF(ISNA(MATCH(A110,$R$6:$R$11,0)),IF(ISNA(MATCH(A110,$S$6:$S$11,0)),IF(ISNA(MATCH(A110,$T$6:$T$11,0)),IF(ISNA(MATCH(A110,$U$6:$U$11,0)),IF(ISNA(MATCH(A110,$V$6:$V$11,0)),IF(ISNA(MATCH(A110,$W$6:$W$11,0)),IF(ISNA(MATCH(A110,$X$6:$X$11,0)),IF(ISNA(MATCH(A110,$Y$6:$Y$11,0)),IF(ISNA(MATCH(A110,$Z$6:$Z$11,0)),IF(ISNA(MATCH(A110,$AA$6:$AA$11,0)),IF(ISNA(MATCH(A110,$AB$6:$AB$11,0)),IF(ISNA(MATCH(A110,$AC$6:$AC$11,0)),IF(ISNA(MATCH(A110,$AD$6:$AD$11,0)),IF(ISNA(MATCH(A110,$AE$6:$AE$11,0)),IF(ISNA(MATCH(A110,$AF$6:$AF$11,0)),IF(ISNA(MATCH(A110,$AG$6:$AG$11,0)),IF(ISNA(MATCH(A110,$AH$6:$AH$11,0)),IF(ISNA(MATCH(A110,$AI$6:$AI$11,0)),IF(ISNA(MATCH(A110,$AJ$6:$AJ$11,0)),IF(ISNA(MATCH(A110,$AK$6:$AK$11,0)),IF(ISNA(MATCH(A110,$AL$6:$AL$11,0)),\"F\",MATCH(A110,$AL$6:$AL$11,0)),MATCH(A110,$AK$6:$AK$11,0)),MATCH(A110,$AJ$6:$AJ$11,0)),MATCH(A110,$AI$6:$AI$11,0)),MATCH(A110,$AH$6:$AH$11,0)),MATCH(A110,$AG$6:$AG$11,0)),MATCH(A110,$AF$6:$AF$11,0)),MATCH(A110,$AE$6:$AE$11,0)),MATCH(A110,$AD$6:$AD$11,0)),MATCH(A110,$AC$6:$AC$11,0)),MATCH(A110,$AB$6:$AB$11,0)),MATCH(A110,$AA$6:$AA$11,0)),MATCH(A110,$Z$6:$Z$11,0)),MATCH(A110,$Y$6:$Y$11,0)),MATCH(A110,$X$6:$X$11,0)),MATCH(A110,$W$6:$W$11,0)),MATCH(A110,$V$6:$V$11,0)),MATCH(A110,$U$6:$U$11,0)),MATCH(A110,$T$6:$T$11,0)),MATCH(A110,$S$6:$S$11,0)),MATCH(A110,$R$6:$R$11,0)),MATCH(A110,$Q$6:$Q$11,0)),MATCH(A110,$P$6:$P$11,0)),MATCH(A110,$O$6:$O$11,0)),MATCH(A110,$N$6:$N$11,0)),MATCH(A110,$M$6:$M$11,0))","v":5},"PlSp43-48","08:56:00",{"$f":"IF($C110=\"ZwRu1\",VLOOKUP($A110,'Lauf ZRA'!$A$1:$E$15,4,FALSE),IF($C110=\"ZwRu2\",VLOOKUP($A110,'Lauf ZRB'!$A$1:$E$15,4,FALSE),IF($C110=\"PlSp13-18\",VLOOKUP($A110,'Lauf PlSp13-18'!$A$1:$G$15,4,FALSE),IF($C110=\"PlSp19-24\",VLOOKUP($A110,'Lauf PlSp19-24'!$A$1:$G$15,4,FALSE),IF($C110=\"PlSp25-30\",VLOOKUP($A110,'Lauf PlSp25-30'!$A$1:$G$15,4,FALSE),IF($C110=\"PlSp31-36\",VLOOKUP($A110,'Lauf PlSp31-36'!$A$1:$G$15,4,FALSE),IF($C110=\"PlSp37-42\",VLOOKUP($A110,'Lauf PlSp37-42'!$A$1:$G$15,4,FALSE),IF($C110=\"PlSp43-48\",VLOOKUP($A110,'Lauf PlSp43-48'!$A$1:$G$15,4,FALSE),IF($C110=\"Halbfinale\",VLOOKUP($A110,'Lauf Halbfinale'!$A$1:$G$6,4,FALSE),IF($C110=\"Endrunde\",VLOOKUP($A110,'Lauf Endrunde'!$A$1:$G$6,4,FALSE),))))))))))","v":"Gruppe C6"},{"$f":"IF($C110=\"ZwRu1\",VLOOKUP($A110,'Lauf ZRA'!$A$1:$E$15,5,FALSE),IF($C110=\"ZwRu2\",VLOOKUP($A110,'Lauf ZRB'!$A$1:$E$15,5,FALSE),IF($C110=\"PlSp13-18\",VLOOKUP($A110,'Lauf PlSp13-18'!$A$1:$G$15,5,FALSE),IF($C110=\"PlSp19-24\",VLOOKUP($A110,'Lauf PlSp19-24'!$A$1:$G$15,5,FALSE),IF($C110=\"PlSp25-30\",VLOOKUP($A110,'Lauf PlSp25-30'!$A$1:$G$15,5,FALSE),IF($C110=\"PlSp31-36\",VLOOKUP($A110,'Lauf PlSp31-36'!$A$1:$G$15,5,FALSE),IF($C110=\"PlSp37-42\",VLOOKUP($A110,'Lauf PlSp37-42'!$A$1:$G$15,5,FALSE),IF($C110=\"PlSp43-48\",VLOOKUP($A110,'Lauf PlSp43-48'!$A$1:$G$15,5,FALSE),IF($C110=\"Halbfinale\",VLOOKUP($A110,'Lauf Halbfinale'!$A$1:$G$6,5,FALSE),IF($C110=\"Endrunde\",VLOOKUP($A110,'Lauf Endrunde'!$A$1:$G$6,5,FALSE),))))))))))","v":"Gruppe D6"},null,null,null,null,null,null,null,null,null,null,null,null,null,null,null,null,null,null,null,null,null,null,null,null,null,null,null,null,null,null,null,null,null,null,null,null,null,null,null,null,null,null,null,null,null,5,75,5,"PlSp25-30","13:24:00","JFV Leer","Test Team D"]
[108,6,"PlSp43-48",{"$f":"IF(B111=M$13,VLOOKUP(A111,$M$14:$S$39,7,FALSE),IF(B111=N$13,VLOOKUP(A111,$N$14:$S$39,6,FALSE),IF(B111=O$13,VLOOKUP(A111,$O$13:$S$39,5,FALSE),IF(B111=P$13,VLOOKUP(A111,$P$13:$S$39,4,FALSE),IF(B111=Q$13,VLOOKUP(A111,$Q$13:$S$39,3,FALSE),IF(B111=R$13,VLOOKUP(A111,$R$13:$S$39,2,FALSE),\"\"))))))","v":"09:18:00"},{"$f":"IF($C111=\"ZwRu1\",VLOOKUP($A111,'Lauf ZRA'!$A$1:$E$15,4,FALSE),IF($C111=\"ZwRu2\",VLOOKUP($A111,'Lauf ZRB'!$A$1:$E$15,4,FALSE),IF($C111=\"PlSp13-18\",VLOOKUP($A111,'Lauf PlSp13-18'!$A$1:$G$15,4,FALSE),IF($C111=\"PlSp19-24\",VLOOKUP($A111,'Lauf PlSp19-24'!$A$1:$G$15,4,FALSE),IF($C111=\"PlSp25-30\",VLOOKUP($A111,'Lauf PlSp25-30'!$A$1:$G$15,4,FALSE),IF($C111=\"PlSp31-36\",VLOOKUP($A111,'Lauf PlSp31-36'!$A$1:$G$15,4,FALSE),IF($C111=\"PlSp37-42\",VLOOKUP($A111,'Lauf PlSp37-42'!$A$1:$G$15,4,FALSE),IF($C111=\"PlSp43-48\",VLOOKUP($A111,'Lauf PlSp43-48'!$A$1:$G$15,4,FALSE),IF($C111=\"Halbfinale\",VLOOKUP($A111,'Lauf Halbfinale'!$A$1:$G$6,4,FALSE),IF($C111=\"Endrunde\",VLOOKUP($A111,'Lauf Endrunde'!$A$1:$G$6,4,FALSE),))))))))))","v":"Gruppe E8"},{"$f":"IF($C111=\"ZwRu1\",VLOOKUP($A111,'Lauf ZRA'!$A$1:$E$15,5,FALSE),IF($C111=\"ZwRu2\",VLOOKUP($A111,'Lauf ZRB'!$A$1:$E$15,5,FALSE),IF($C111=\"PlSp13-18\",VLOOKUP($A111,'Lauf PlSp13-18'!$A$1:$G$15,5,FALSE),IF($C111=\"PlSp19-24\",VLOOKUP($A111,'Lauf PlSp19-24'!$A$1:$G$15,5,FALSE),IF($C111=\"PlSp25-30\",VLOOKUP($A111,'Lauf PlSp25-30'!$A$1:$G$15,5,FALSE),IF($C111=\"PlSp31-36\",VLOOKUP($A111,'Lauf PlSp31-36'!$A$1:$G$15,5,FALSE),IF($C111=\"PlSp37-42\",VLOOKUP($A111,'Lauf PlSp37-42'!$A$1:$G$15,5,FALSE),IF($C111=\"PlSp43-48\",VLOOKUP($A111,'Lauf PlSp43-48'!$A$1:$G$15,5,FALSE),IF($C111=\"Halbfinale\",VLOOKUP($A111,'Lauf Halbfinale'!$A$1:$G$6,5,FALSE),IF($C111=\"Endrunde\",VLOOKUP($A111,'Lauf Endrunde'!$A$1:$G$6,5,FALSE),))))))))))","v":"Gruppe F7"},null,null,null,null,null,null,null,null,null,null,null,null,null,null,null,null,null,null,null,null,null,null,null,null,null,null,null,null,null,null,null,null,null,null,null,null,null,null,null,null,null,null,null,null,null,6,89,6,"PlSp31-36","13:24:00","JVC Dedemsvaart","SV Borussia Salchendorf FF"]
[109,5,"PlSp43-48",{"$f":"IF(B112=M$13,VLOOKUP(A112,$M$14:$S$39,7,FALSE),IF(B112=N$13,VLOOKUP(A112,$N$14:$S$39,6,FALSE),IF(B112=O$13,VLOOKUP(A112,$O$13:$S$39,5,FALSE),IF(B112=P$13,VLOOKUP(A112,$P$13:$S$39,4,FALSE),IF(B112=Q$13,VLOOKUP(A112,$Q$13:$S$39,3,FALSE),IF(B112=R$13,VLOOKUP(A112,$R$13:$S$39,2,FALSE),\"\"))))))","v":"09:29:00"},{"$f":"IF($C112=\"ZwRu1\",VLOOKUP($A112,'Lauf ZRA'!$A$1:$E$15,4,FALSE),IF($C112=\"ZwRu2\",VLOOKUP($A112,'Lauf ZRB'!$A$1:$E$15,4,FALSE),IF($C112=\"PlSp13-18\",VLOOKUP($A112,'Lauf PlSp13-18'!$A$1:$G$15,4,FALSE),IF($C112=\"PlSp19-24\",VLOOKUP($A112,'Lauf PlSp19-24'!$A$1:$G$15,4,FALSE),IF($C112=\"PlSp25-30\",VLOOKUP($A112,'Lauf PlSp25-30'!$A$1:$G$15,4,FALSE),IF($C112=\"PlSp31-36\",VLOOKUP($A112,'Lauf PlSp31-36'!$A$1:$G$15,4,FALSE),IF($C112=\"PlSp37-42\",VLOOKUP($A112,'Lauf PlSp37-42'!$A$1:$G$15,4,FALSE),IF($C112=\"PlSp43-48\",VLOOKUP($A112,'Lauf PlSp43-48'!$A$1:$G$15,4,FALSE),IF($C112=\"Halbfinale\",VLOOKUP($A112,'Lauf Halbfinale'!$A$1:$G$6,4,FALSE),IF($C112=\"Endrunde\",VLOOKUP($A112,'Lauf Endrunde'!$A$1:$G$6,4,FALSE),))))))))))","v":"Gruppe B2"},{"$f":"IF($C112=\"ZwRu1\",VLOOKUP($A112,'Lauf ZRA'!$A$1:$E$15,5,FALSE),IF($C112=\"ZwRu2\",VLOOKUP($A112,'Lauf ZRB'!$A$1:$E$15,5,FALSE),IF($C112=\"PlSp13-18\",VLOOKUP($A112,'Lauf PlSp13-18'!$A$1:$G$15,5,FALSE),IF($C112=\"PlSp19-24\",VLOOKUP($A112,'Lauf PlSp19-24'!$A$1:$G$15,5,FALSE),IF($C112=\"PlSp25-30\",VLOOKUP($A112,'Lauf PlSp25-30'!$A$1:$G$15,5,FALSE),IF($C112=\"PlSp31-36\",VLOOKUP($A112,'Lauf PlSp31-36'!$A$1:$G$15,5,FALSE),IF($C112=\"PlSp37-42\",VLOOKUP($A112,'Lauf PlSp37-42'!$A$1:$G$15,5,FALSE),IF($C112=\"PlSp43-48\",VLOOKUP($A112,'Lauf PlSp43-48'!$A$1:$G$15,5,FALSE),IF($C112=\"Halbfinale\",VLOOKUP($A112,'Lauf Halbfinale'!$A$1:$G$6,5,FALSE),IF($C112=\"Endrunde\",VLOOKUP($A112,'Lauf Endrunde'!$A$1:$G$6,5,FALSE),))))))))))","v":"Gruppe C6"},null,null,null,null,null,null,null,null,null,null,null,null,null,null,null,null,null,null,null,null,null,null,null,null,null,null,null,null,null,null,null,null,null,null,null,null,null,null,null,null,null,null,null,null,null,3,45,3,"PlSp13-18","13:36:00","VfB 1928 Wilden","JSG Harderberg/Kloster Oesede 1"]
[110,6,"PlSp43-48",{"$f":"IF(B113=M$13,VLOOKUP(A113,$M$14:$S$39,7,FALSE),IF(B113=N$13,VLOOKUP(A113,$N$14:$S$39,6,FALSE),IF(B113=O$13,VLOOKUP(A113,$O$13:$S$39,5,FALSE),IF(B113=P$13,VLOOKUP(A113,$P$13:$S$39,4,FALSE),IF(B113=Q$13,VLOOKUP(A113,$Q$13:$S$39,3,FALSE),IF(B113=R$13,VLOOKUP(A113,$R$13:$S$39,2,FALSE),\"\"))))))","v":"09:51:00"},{"$f":"IF($C113=\"ZwRu1\",VLOOKUP($A113,'Lauf ZRA'!$A$1:$E$15,4,FALSE),IF($C113=\"ZwRu2\",VLOOKUP($A113,'Lauf ZRB'!$A$1:$E$15,4,FALSE),IF($C113=\"PlSp13-18\",VLOOKUP($A113,'Lauf PlSp13-18'!$A$1:$G$15,4,FALSE),IF($C113=\"PlSp19-24\",VLOOKUP($A113,'Lauf PlSp19-24'!$A$1:$G$15,4,FALSE),IF($C113=\"PlSp25-30\",VLOOKUP($A113,'Lauf PlSp25-30'!$A$1:$G$15,4,FALSE),IF($C113=\"PlSp31-36\",VLOOKUP($A113,'Lauf PlSp31-36'!$A$1:$G$15,4,FALSE),IF($C113=\"PlSp37-42\",VLOOKUP($A113,'Lauf PlSp37-42'!$A$1:$G$15,4,FALSE),IF($C113=\"PlSp43-48\",VLOOKUP($A113,'Lauf PlSp43-48'!$A$1:$G$15,4,FALSE),IF($C113=\"Halbfinale\",VLOOKUP($A113,'Lauf Halbfinale'!$A$1:$G$6,4,FALSE),IF($C113=\"Endrunde\",VLOOKUP($A113,'Lauf Endrunde'!$A$1:$G$6,4,FALSE),))))))))))","v":"Gruppe D6"},{"$f":"IF($C113=\"ZwRu1\",VLOOKUP($A113,'Lauf ZRA'!$A$1:$E$15,5,FALSE),IF($C113=\"ZwRu2\",VLOOKUP($A113,'Lauf ZRB'!$A$1:$E$15,5,FALSE),IF($C113=\"PlSp13-18\",VLOOKUP($A113,'Lauf PlSp13-18'!$A$1:$G$15,5,FALSE),IF($C113=\"PlSp19-24\",VLOOKUP($A113,'Lauf PlSp19-24'!$A$1:$G$15,5,FALSE),IF($C113=\"PlSp25-30\",VLOOKUP($A113,'Lauf PlSp25-30'!$A$1:$G$15,5,FALSE),IF($C113=\"PlSp31-36\",VLOOKUP($A113,'Lauf PlSp31-36'!$A$1:$G$15,5,FALSE),IF($C113=\"PlSp37-42\",VLOOKUP($A113,'Lauf PlSp37-42'!$A$1:$G$15,5,FALSE),IF($C113=\"PlSp43-48\",VLOOKUP($A113,'Lauf PlSp43-48'!$A$1:$G$15,5,FALSE),IF($C113=\"Halbfinale\",VLOOKUP($A113,'Lauf Halbfinale'!$A$1:$G$6,5,FALSE),IF($C113=\"Endrunde\",VLOOKUP($A113,'Lauf Endrunde'!$A$1:$G$6,5,FALSE),))))))))))","v":"Gruppe E8"},null,null,null,null,null,null,null,null,null,null,null,null,null,null,null,null,null,null,null,null,null,null,null,null,null,null,null,null,null,null,null,null,null,null,null,null,null,null,null,null,null,null,null,null,null,4,60,4,"PlSp19-24","13:36:00","VfL Weiße Elf Nordhorn","vv Beilen"]
[111,5,"PlSp43-48","10:02:00",{"$f":"IF($C114=\"ZwRu1\",VLOOKUP($A114,'Lauf ZRA'!$A$1:$E$15,4,FALSE),IF($C114=\"ZwRu2\",VLOOKUP($A114,'Lauf ZRB'!$A$1:$E$15,4,FALSE),IF($C114=\"PlSp13-18\",VLOOKUP($A114,'Lauf PlSp13-18'!$A$1:$G$15,4,FALSE),IF($C114=\"PlSp19-24\",VLOOKUP($A114,'Lauf PlSp19-24'!$A$1:$G$15,4,FALSE),IF($C114=\"PlSp25-30\",VLOOKUP($A114,'Lauf PlSp25-30'!$A$1:$G$15,4,FALSE),IF($C114=\"PlSp31-36\",VLOOKUP($A114,'Lauf PlSp31-36'!$A$1:$G$15,4,FALSE),IF($C114=\"PlSp37-42\",VLOOKUP($A114,'Lauf PlSp37-42'!$A$1:$G$15,4,FALSE),IF($C114=\"PlSp43-48\",VLOOKUP($A114,'Lauf PlSp43-48'!$A$1:$G$15,4,FALSE),IF($C114=\"Halbfinale\",VLOOKUP($A114,'Lauf Halbfinale'!$A$1:$G$6,4,FALSE),IF($C114=\"Endrunde\",VLOOKUP($A114,'Lauf Endrunde'!$A$1:$G$6,4,FALSE),))))))))))","v":"Gruppe A1"},{"$f":"IF($C114=\"ZwRu1\",VLOOKUP($A114,'Lauf ZRA'!$A$1:$E$15,5,FALSE),IF($C114=\"ZwRu2\",VLOOKUP($A114,'Lauf ZRB'!$A$1:$E$15,5,FALSE),IF($C114=\"PlSp13-18\",VLOOKUP($A114,'Lauf PlSp13-18'!$A$1:$G$15,5,FALSE),IF($C114=\"PlSp19-24\",VLOOKUP($A114,'Lauf PlSp19-24'!$A$1:$G$15,5,FALSE),IF($C114=\"PlSp25-30\",VLOOKUP($A114,'Lauf PlSp25-30'!$A$1:$G$15,5,FALSE),IF($C114=\"PlSp31-36\",VLOOKUP($A114,'Lauf PlSp31-36'!$A$1:$G$15,5,FALSE),IF($C114=\"PlSp37-42\",VLOOKUP($A114,'Lauf PlSp37-42'!$A$1:$G$15,5,FALSE),IF($C114=\"PlSp43-48\",VLOOKUP($A114,'Lauf PlSp43-48'!$A$1:$G$15,5,FALSE),IF($C114=\"Halbfinale\",VLOOKUP($A114,'Lauf Halbfinale'!$A$1:$G$6,5,FALSE),IF($C114=\"Endrunde\",VLOOKUP($A114,'Lauf Endrunde'!$A$1:$G$6,5,FALSE),))))))))))","v":"Gruppe C6"},null,null,null,null,null,null,null,null,null,null,null,null,null,null,null,null,null,null,null,null,null,null,null,null,null,null,null,null,null,null,null,null,null,null,null,null,null,null,null,null,null,null,null,null,null,6,90,6,"PlSp31-36","13:36:00","Test Team B","SV Borussia Salchendorf"]
[112,6,"PlSp43-48","10:24:00",{"$f":"IF($C115=\"ZwRu1\",VLOOKUP($A115,'Lauf ZRA'!$A$1:$E$15,4,FALSE),IF($C115=\"ZwRu2\",VLOOKUP($A115,'Lauf ZRB'!$A$1:$E$15,4,FALSE),IF($C115=\"PlSp13-18\",VLOOKUP($A115,'Lauf PlSp13-18'!$A$1:$G$15,4,FALSE),IF($C115=\"PlSp19-24\",VLOOKUP($A115,'Lauf PlSp19-24'!$A$1:$G$15,4,FALSE),IF($C115=\"PlSp25-30\",VLOOKUP($A115,'Lauf PlSp25-30'!$A$1:$G$15,4,FALSE),IF($C115=\"PlSp31-36\",VLOOKUP($A115,'Lauf PlSp31-36'!$A$1:$G$15,4,FALSE),IF($C115=\"PlSp37-42\",VLOOKUP($A115,'Lauf PlSp37-42'!$A$1:$G$15,4,FALSE),IF($C115=\"PlSp43-48\",VLOOKUP($A115,'Lauf PlSp43-48'!$A$1:$G$15,4,FALSE),IF($C115=\"Halbfinale\",VLOOKUP($A115,'Lauf Halbfinale'!$A$1:$G$6,4,FALSE),IF($C115=\"Endrunde\",VLOOKUP($A115,'Lauf Endrunde'!$A$1:$G$6,4,FALSE),))))))))))","v":"Gruppe E8"},{"$f":"IF($C115=\"ZwRu1\",VLOOKUP($A115,'Lauf ZRA'!$A$1:$E$15,5,FALSE),IF($C115=\"ZwRu2\",VLOOKUP($A115,'Lauf ZRB'!$A$1:$E$15,5,FALSE),IF($C115=\"PlSp13-18\",VLOOKUP($A115,'Lauf PlSp13-18'!$A$1:$G$15,5,FALSE),IF($C115=\"PlSp19-24\",VLOOKUP($A115,'Lauf PlSp19-24'!$A$1:$G$15,5,FALSE),IF($C115=\"PlSp25-30\",VLOOKUP($A115,'Lauf PlSp25-30'!$A$1:$G$15,5,FALSE),IF($C115=\"PlSp31-36\",VLOOKUP($A115,'Lauf PlSp31-36'!$A$1:$G$15,5,FALSE),IF($C115=\"PlSp37-42\",VLOOKUP($A115,'Lauf PlSp37-42'!$A$1:$G$15,5,FALSE),IF($C115=\"PlSp43-48\",VLOOKUP($A115,'Lauf PlSp43-48'!$A$1:$G$15,5,FALSE),IF($C115=\"Halbfinale\",VLOOKUP($A115,'Lauf Halbfinale'!$A$1:$G$6,5,FALSE),IF($C115=\"Endrunde\",VLOOKUP($A115,'Lauf Endrunde'!$A$1:$G$6,5,FALSE),))))))))))","v":"Gruppe B2"},null,null,null,null,null,null,null,null,null,null,null,null,null,null,null,null,null,null,null,null,null,null,null,null,null,null,null,null,null,null,null,null,null,null,null,null,null,null,null,null,null,null,null,null,null,9,112,1,"Endrunde","13:48:00","MSG Moormerland EE","MSG Moormerland Mädchen"]
[113,5,"PlSp43-48","10:35:00",{"$f":"IF($C116=\"ZwRu1\",VLOOKUP($A116,'Lauf ZRA'!$A$1:$E$15,4,FALSE),IF($C116=\"ZwRu2\",VLOOKUP($A116,'Lauf ZRB'!$A$1:$E$15,4,FALSE),IF($C116=\"PlSp13-18\",VLOOKUP($A116,'Lauf PlSp13-18'!$A$1:$G$15,4,FALSE),IF($C116=\"PlSp19-24\",VLOOKUP($A116,'Lauf PlSp19-24'!$A$1:$G$15,4,FALSE),IF($C116=\"PlSp25-30\",VLOOKUP($A116,'Lauf PlSp25-30'!$A$1:$G$15,4,FALSE),IF($C116=\"PlSp31-36\",VLOOKUP($A116,'Lauf PlSp31-36'!$A$1:$G$15,4,FALSE),IF($C116=\"PlSp37-42\",VLOOKUP($A116,'Lauf PlSp37-42'!$A$1:$G$15,4,FALSE),IF($C116=\"PlSp43-48\",VLOOKUP($A116,'Lauf PlSp43-48'!$A$1:$G$15,4,FALSE),IF($C116=\"Halbfinale\",VLOOKUP($A116,'Lauf Halbfinale'!$A$1:$G$6,4,FALSE),IF($C116=\"Endrunde\",VLOOKUP($A116,'Lauf Endrunde'!$A$1:$G$6,4,FALSE),))))))))))","v":"Gruppe F7"},{"$f":"IF($C116=\"ZwRu1\",VLOOKUP($A116,'Lauf ZRA'!$A$1:$E$15,5,FALSE),IF($C116=\"ZwRu2\",VLOOKUP($A116,'Lauf ZRB'!$A$1:$E$15,5,FALSE),IF($C116=\"PlSp13-18\",VLOOKUP($A116,'Lauf PlSp13-18'!$A$1:$G$15,5,FALSE),IF($C116=\"PlSp19-24\",VLOOKUP($A116,'Lauf PlSp19-24'!$A$1:$G$15,5,FALSE),IF($C116=\"PlSp25-30\",VLOOKUP($A116,'Lauf PlSp25-30'!$A$1:$G$15,5,FALSE),IF($C116=\"PlSp31-36\",VLOOKUP($A116,'Lauf PlSp31-36'!$A$1:$G$15,5,FALSE),IF($C116=\"PlSp37-42\",VLOOKUP($A116,'Lauf PlSp37-42'!$A$1:$G$15,5,FALSE),IF($C116=\"PlSp43-48\",VLOOKUP($A116,'Lauf PlSp43-48'!$A$1:$G$15,5,FALSE),IF($C116=\"Halbfinale\",VLOOKUP($A116,'Lauf Halbfinale'!$A$1:$G$6,5,FALSE),IF($C116=\"Endrunde\",VLOOKUP($A116,'Lauf Endrunde'!$A$1:$G$6,5,FALSE),))))))))))","v":"Gruppe A1"},null,null,null,null,null,null,null,null,null,null,null,null,null,null,null,null,null,null,null,null,null,null,null,null,null,null,null,null,null,null,null,null,null,null,null,null,null,null,null,null,null,null,null,null,null,9,113,2,"Endrunde","13:48:00","SV Spetzerfehn FF","SV Spetzerfehn"]
[114,6,"PlSp43-48","10:57:00",{"$f":"IF($C117=\"ZwRu1\",VLOOKUP($A117,'Lauf ZRA'!$A$1:$E$15,4,FALSE),IF($C117=\"ZwRu2\",VLOOKUP($A117,'Lauf ZRB'!$A$1:$E$15,4,FALSE),IF($C117=\"PlSp13-18\",VLOOKUP($A117,'Lauf PlSp13-18'!$A$1:$G$15,4,FALSE),IF($C117=\"PlSp19-24\",VLOOKUP($A117,'Lauf PlSp19-24'!$A$1:$G$15,4,FALSE),IF($C117=\"PlSp25-30\",VLOOKUP($A117,'Lauf PlSp25-30'!$A$1:$G$15,4,FALSE),IF($C117=\"PlSp31-36\",VLOOKUP($A117,'Lauf PlSp31-36'!$A$1:$G$15,4,FALSE),IF($C117=\"PlSp37-42\",VLOOKUP($A117,'Lauf PlSp37-42'!$A$1:$G$15,4,FALSE),IF($C117=\"PlSp43-48\",VLOOKUP($A117,'Lauf PlSp43-48'!$A$1:$G$15,4,FALSE),IF($C117=\"Halbfinale\",VLOOKUP($A117,'Lauf Halbfinale'!$A$1:$G$6,4,FALSE),IF($C117=\"Endrunde\",VLOOKUP($A117,'Lauf Endrunde'!$A$1:$G$6,4,FALSE),))))))))))","v":"Gruppe C6"},{"$f":"IF($C117=\"ZwRu1\",VLOOKUP($A117,'Lauf ZRA'!$A$1:$E$15,5,FALSE),IF($C117=\"ZwRu2\",VLOOKUP($A117,'Lauf ZRB'!$A$1:$E$15,5,FALSE),IF($C117=\"PlSp13-18\",VLOOKUP($A117,'Lauf PlSp13-18'!$A$1:$G$15,5,FALSE),IF($C117=\"PlSp19-24\",VLOOKUP($A117,'Lauf PlSp19-24'!$A$1:$G$15,5,FALSE),IF($C117=\"PlSp25-30\",VLOOKUP($A117,'Lauf PlSp25-30'!$A$1:$G$15,5,FALSE),IF($C117=\"PlSp31-36\",VLOOKUP($A117,'Lauf PlSp31-36'!$A$1:$G$15,5,FALSE),IF($C117=\"PlSp37-42\",VLOOKUP($A117,'Lauf PlSp37-42'!$A$1:$G$15,5,FALSE),IF($C117=\"PlSp43-48\",VLOOKUP($A117,'Lauf PlSp43-48'!$A$1:$G$15,5,FALSE),IF($C117=\"Halbfinale\",VLOOKUP($A117,'Lauf Halbfinale'!$A$1:$G$6,5,FALSE),IF($C117=\"Endrunde\",VLOOKUP($A117,'Lauf Endrunde'!$A$1:$G$6,5,FALSE),))))))))))","v":"Gruppe E8"},null,null,null,null,null,null,null,null,null,null,null,null,null,null,null,null,null,null,null,null,null,null,null,null,null,null,null,null,null,null,null,null,null,null,null,null,null,null,null,null,null,null,null,null,null,9,114,3,"Endrunde","13:48:00","TuS Eversten 1","VfL \"Fortuna\" Veenhusen 1"]
[115,5,"PlSp43-48","11:08:00",{"$f":"IF($C118=\"ZwRu1\",VLOOKUP($A118,'Lauf ZRA'!$A$1:$E$15,4,FALSE),IF($C118=\"ZwRu2\",VLOOKUP($A118,'Lauf ZRB'!$A$1:$E$15,4,FALSE),IF($C118=\"PlSp13-18\",VLOOKUP($A118,'Lauf PlSp13-18'!$A$1:$G$15,4,FALSE),IF($C118=\"PlSp19-24\",VLOOKUP($A118,'Lauf PlSp19-24'!$A$1:$G$15,4,FALSE),IF($C118=\"PlSp25-30\",VLOOKUP($A118,'Lauf PlSp25-30'!$A$1:$G$15,4,FALSE),IF($C118=\"PlSp31-36\",VLOOKUP($A118,'Lauf PlSp31-36'!$A$1:$G$15,4,FALSE),IF($C118=\"PlSp37-42\",VLOOKUP($A118,'Lauf PlSp37-42'!$A$1:$G$15,4,FALSE),IF($C118=\"PlSp43-48\",VLOOKUP($A118,'Lauf PlSp43-48'!$A$1:$G$15,4,FALSE),IF($C118=\"Halbfinale\",VLOOKUP($A118,'Lauf Halbfinale'!$A$1:$G$6,4,FALSE),IF($C118=\"Endrunde\",VLOOKUP($A118,'Lauf Endrunde'!$A$1:$G$6,4,FALSE),))))))))))","v":"Gruppe D6"},{"$f":"IF($C118=\"ZwRu1\",VLOOKUP($A118,'Lauf ZRA'!$A$1:$E$15,5,FALSE),IF($C118=\"ZwRu2\",VLOOKUP($A118,'Lauf ZRB'!$A$1:$E$15,5,FALSE),IF($C118=\"PlSp13-18\",VLOOKUP($A118,'Lauf PlSp13-18'!$A$1:$G$15,5,FALSE),IF($C118=\"PlSp19-24\",VLOOKUP($A118,'Lauf PlSp19-24'!$A$1:$G$15,5,FALSE),IF($C118=\"PlSp25-30\",VLOOKUP($A118,'Lauf PlSp25-30'!$A$1:$G$15,5,FALSE),IF($C118=\"PlSp31-36\",VLOOKUP($A118,'Lauf PlSp31-36'!$A$1:$G$15,5,FALSE),IF($C118=\"PlSp37-42\",VLOOKUP($A118,'Lauf PlSp37-42'!$A$1:$G$15,5,FALSE),IF($C118=\"PlSp43-48\",VLOOKUP($A118,'Lauf PlSp43-48'!$A$1:$G$15,5,FALSE),IF($C118=\"Halbfinale\",VLOOKUP($A118,'Lauf Halbfinale'!$A$1:$G$6,5,FALSE),IF($C118=\"Endrunde\",VLOOKUP($A118,'Lauf Endrunde'!$A$1:$G$6,5,FALSE),))))))))))","v":"Gruppe F7"},null,null,null,null,null,null,null,null,null,null,null,null,null,null,null,null,null,null,null,null,null,null,null,null,null,null,null,null,null,null,null,null,null,null,null,null,null,null,null,null,null,null,null,null,null,9,115,4,"Endrunde","13:48:00","JSG Harderberg/Kloster Oesede 2","VfL \"Fortuna\" Veenhusen 2"]
[116,6,"PlSp43-48","12:15:00",{"$f":"IF($C119=\"ZwRu1\",VLOOKUP($A119,'Lauf ZRA'!$A$1:$E$15,4,FALSE),IF($C119=\"ZwRu2\",VLOOKUP($A119,'Lauf ZRB'!$A$1:$E$15,4,FALSE),IF($C119=\"PlSp13-18\",VLOOKUP($A119,'Lauf PlSp13-18'!$A$1:$G$15,4,FALSE),IF($C119=\"PlSp19-24\",VLOOKUP($A119,'Lauf PlSp19-24'!$A$1:$G$15,4,FALSE),IF($C119=\"PlSp25-30\",VLOOKUP($A119,'Lauf PlSp25-30'!$A$1:$G$15,4,FALSE),IF($C119=\"PlSp31-36\",VLOOKUP($A119,'Lauf PlSp31-36'!$A$1:$G$15,4,FALSE),IF($C119=\"PlSp37-42\",VLOOKUP($A119,'Lauf PlSp37-42'!$A$1:$G$15,4,FALSE),IF($C119=\"PlSp43-48\",VLOOKUP($A119,'Lauf PlSp43-48'!$A$1:$G$15,4,FALSE),IF($C119=\"Halbfinale\",VLOOKUP($A119,'Lauf Halbfinale'!$A$1:$G$6,4,FALSE),IF($C119=\"Endrunde\",VLOOKUP($A119,'Lauf Endrunde'!$A$1:$G$6,4,FALSE),))))))))))","v":"Gruppe A1"},{"$f":"IF($C119=\"ZwRu1\",VLOOKUP($A119,'Lauf ZRA'!$A$1:$E$15,5,FALSE),IF($C119=\"ZwRu2\",VLOOKUP($A119,'Lauf ZRB'!$A$1:$E$15,5,FALSE),IF($C119=\"PlSp13-18\",VLOOKUP($A119,'Lauf PlSp13-18'!$A$1:$G$15,5,FALSE),IF($C119=\"PlSp19-24\",VLOOKUP($A119,'Lauf PlSp19-24'!$A$1:$G$15,5,FALSE),IF($C119=\"PlSp25-30\",VLOOKUP($A119,'Lauf PlSp25-30'!$A$1:$G$15,5,FALSE),IF($C119=\"PlSp31-36\",VLOOKUP($A119,'Lauf PlSp31-36'!$A$1:$G$15,5,FALSE),IF($C119=\"PlSp37-42\",VLOOKUP($A119,'Lauf PlSp37-42'!$A$1:$G$15,5,FALSE),IF($C119=\"PlSp43-48\",VLOOKUP($A119,'Lauf PlSp43-48'!$A$1:$G$15,5,FALSE),IF($C119=\"Halbfinale\",VLOOKUP($A119,'Lauf Halbfinale'!$A$1:$G$6,5,FALSE),IF($C119=\"Endrunde\",VLOOKUP($A119,'Lauf Endrunde'!$A$1:$G$6,5,FALSE),))))))))))","v":"Gruppe E8"},null,null,null,null,null,null,null,null,null,null,null,null,null,null,null,null,null,null,null,null,null,null,null,null,null,null,null,null,null,null,null,null,null,null,null,null,null,null,null,null,null,null,null,null,null,9,116,1,"Endrunde","14:00:00","TuS Eversten 2","JSG Riede/Emtinghausen EE"]
[117,5,"PlSp43-48",{"$f":"IF(B120=M$13,VLOOKUP(A120,$M$14:$S$39,7,FALSE),IF(B120=N$13,VLOOKUP(A120,$N$14:$S$39,6,FALSE),IF(B120=O$13,VLOOKUP(A120,$O$13:$S$39,5,FALSE),IF(B120=P$13,VLOOKUP(A120,$P$13:$S$39,4,FALSE),IF(B120=Q$13,VLOOKUP(A120,$Q$13:$S$39,3,FALSE),IF(B120=R$13,VLOOKUP(A120,$R$13:$S$39,2,FALSE),\"\"))))))","v":"12:26:00"},{"$f":"IF($C120=\"ZwRu1\",VLOOKUP($A120,'Lauf ZRA'!$A$1:$E$15,4,FALSE),IF($C120=\"ZwRu2\",VLOOKUP($A120,'Lauf ZRB'!$A$1:$E$15,4,FALSE),IF($C120=\"PlSp13-18\",VLOOKUP($A120,'Lauf PlSp13-18'!$A$1:$G$15,4,FALSE),IF($C120=\"PlSp19-24\",VLOOKUP($A120,'Lauf PlSp19-24'!$A$1:$G$15,4,FALSE),IF($C120=\"PlSp25-30\",VLOOKUP($A120,'Lauf PlSp25-30'!$A$1:$G$15,4,FALSE),IF($C120=\"PlSp31-36\",VLOOKUP($A120,'Lauf PlSp31-36'!$A$1:$G$15,4,FALSE),IF($C120=\"PlSp37-42\",VLOOKUP($A120,'Lauf PlSp37-42'!$A$1:$G$15,4,FALSE),IF($C120=\"PlSp43-48\",VLOOKUP($A120,'Lauf PlSp43-48'!$A$1:$G$15,4,FALSE),IF($C120=\"Halbfinale\",VLOOKUP($A120,'Lauf Halbfinale'!$A$1:$G$6,4,FALSE),IF($C120=\"Endrunde\",VLOOKUP($A120,'Lauf Endrunde'!$A$1:$G$6,4,FALSE),))))))))))","v":"Gruppe F7"},{"$f":"IF($C120=\"ZwRu1\",VLOOKUP($A120,'Lauf ZRA'!$A$1:$E$15,5,FALSE),IF($C120=\"ZwRu2\",VLOOKUP($A120,'Lauf ZRB'!$A$1:$E$15,5,FALSE),IF($C120=\"PlSp13-18\",VLOOKUP($A120,'Lauf PlSp13-18'!$A$1:$G$15,5,FALSE),IF($C120=\"PlSp19-24\",VLOOKUP($A120,'Lauf PlSp19-24'!$A$1:$G$15,5,FALSE),IF($C120=\"PlSp25-30\",VLOOKUP($A120,'Lauf PlSp25-30'!$A$1:$G$15,5,FALSE),IF($C120=\"PlSp31-36\",VLOOKUP($A120,'Lauf PlSp31-36'!$A$1:$G$15,5,FALSE),IF($C120=\"PlSp37-42\",VLOOKUP($A120,'Lauf PlSp37-42'!$A$1:$G$15,5,FALSE),IF($C120=\"PlSp43-48\",VLOOKUP($A120,'Lauf PlSp43-48'!$A$1:$G$15,5,FALSE),IF($C120=\"Halbfinale\",VLOOKUP($A120,'Lauf Halbfinale'!$A$1:$G$6,5,FALSE),IF($C120=\"Endrunde\",VLOOKUP($A120,'Lauf Endrunde'!$A$1:$G$6,5,FALSE),))))))))))","v":"Gruppe B2"},null,null,null,null,null,null,null,null,null,null,null,null,null,null,null,null,null,null,null,null,null,null,null,null,null,null,null,null,null,null,null,null,null,null,null,null,null,null,null,null,null,null,null,null,null,9,117,1,"Endrunde","14:30:00","TuRa Westrhauderfehn","vv BeilenFF"]
[118,6,"PlSp43-48","12:48:00",{"$f":"IF($C121=\"ZwRu1\",VLOOKUP($A121,'Lauf ZRA'!$A$1:$E$15,4,FALSE),IF($C121=\"ZwRu2\",VLOOKUP($A121,'Lauf ZRB'!$A$1:$E$15,4,FALSE),IF($C121=\"PlSp13-18\",VLOOKUP($A121,'Lauf PlSp13-18'!$A$1:$G$15,4,FALSE),IF($C121=\"PlSp19-24\",VLOOKUP($A121,'Lauf PlSp19-24'!$A$1:$G$15,4,FALSE),IF($C121=\"PlSp25-30\",VLOOKUP($A121,'Lauf PlSp25-30'!$A$1:$G$15,4,FALSE),IF($C121=\"PlSp31-36\",VLOOKUP($A121,'Lauf PlSp31-36'!$A$1:$G$15,4,FALSE),IF($C121=\"PlSp37-42\",VLOOKUP($A121,'Lauf PlSp37-42'!$A$1:$G$15,4,FALSE),IF($C121=\"PlSp43-48\",VLOOKUP($A121,'Lauf PlSp43-48'!$A$1:$G$15,4,FALSE),IF($C121=\"Halbfinale\",VLOOKUP($A121,'Lauf Halbfinale'!$A$1:$G$6,4,FALSE),IF($C121=\"Endrunde\",VLOOKUP($A121,'Lauf Endrunde'!$A$1:$G$6,4,FALSE),))))))))))","v":"Gruppe D6"},{"$f":"IF($C121=\"ZwRu1\",VLOOKUP($A121,'Lauf ZRA'!$A$1:$E$15,5,FALSE),IF($C121=\"ZwRu2\",VLOOKUP($A121,'Lauf ZRB'!$A$1:$E$15,5,FALSE),IF($C121=\"PlSp13-18\",VLOOKUP($A121,'Lauf PlSp13-18'!$A$1:$G$15,5,FALSE),IF($C121=\"PlSp19-24\",VLOOKUP($A121,'Lauf PlSp19-24'!$A$1:$G$15,5,FALSE),IF($C121=\"PlSp25-30\",VLOOKUP($A121,'Lauf PlSp25-30'!$A$1:$G$15,5,FALSE),IF($C121=\"PlSp31-36\",VLOOKUP($A121,'Lauf PlSp31-36'!$A$1:$G$15,5,FALSE),IF($C121=\"PlSp37-42\",VLOOKUP($A121,'Lauf PlSp37-42'!$A$1:$G$15,5,FALSE),IF($C121=\"PlSp43-48\",VLOOKUP($A121,'Lauf PlSp43-48'!$A$1:$G$15,5,FALSE),IF($C121=\"Halbfinale\",VLOOKUP($A121,'Lauf Halbfinale'!$A$1:$G$6,5,FALSE),IF($C121=\"Endrunde\",VLOOKUP($A121,'Lauf Endrunde'!$A$1:$G$6,5,FALSE),))))))))))","v":"Gruppe A1"}]
[119,5,"PlSp43-48","12:59:00",{"$f":"IF($C122=\"ZwRu1\",VLOOKUP($A122,'Lauf ZRA'!$A$1:$E$15,4,FALSE),IF($C122=\"ZwRu2\",VLOOKUP($A122,'Lauf ZRB'!$A$1:$E$15,4,FALSE),IF($C122=\"PlSp13-18\",VLOOKUP($A122,'Lauf PlSp13-18'!$A$1:$G$15,4,FALSE),IF($C122=\"PlSp19-24\",VLOOKUP($A122,'Lauf PlSp19-24'!$A$1:$G$15,4,FALSE),IF($C122=\"PlSp25-30\",VLOOKUP($A122,'Lauf PlSp25-30'!$A$1:$G$15,4,FALSE),IF($C122=\"PlSp31-36\",VLOOKUP($A122,'Lauf PlSp31-36'!$A$1:$G$15,4,FALSE),IF($C122=\"PlSp37-42\",VLOOKUP($A122,'Lauf PlSp37-42'!$A$1:$G$15,4,FALSE),IF($C122=\"PlSp43-48\",VLOOKUP($A122,'Lauf PlSp43-48'!$A$1:$G$15,4,FALSE),IF($C122=\"Halbfinale\",VLOOKUP($A122,'Lauf Halbfinale'!$A$1:$G$6,4,FALSE),IF($C122=\"Endrunde\",VLOOKUP($A122,'Lauf Endrunde'!$A$1:$G$6,4,FALSE),))))))))))","v":"Gruppe C6"},{"$f":"IF($C122=\"ZwRu1\",VLOOKUP($A122,'Lauf ZRA'!$A$1:$E$15,5,FALSE),IF($C122=\"ZwRu2\",VLOOKUP($A122,'Lauf ZRB'!$A$1:$E$15,5,FALSE),IF($C122=\"PlSp13-18\",VLOOKUP($A122,'Lauf PlSp13-18'!$A$1:$G$15,5,FALSE),IF($C122=\"PlSp19-24\",VLOOKUP($A122,'Lauf PlSp19-24'!$A$1:$G$15,5,FALSE),IF($C122=\"PlSp25-30\",VLOOKUP($A122,'Lauf PlSp25-30'!$A$1:$G$15,5,FALSE),IF($C122=\"PlSp31-36\",VLOOKUP($A122,'Lauf PlSp31-36'!$A$1:$G$15,5,FALSE),IF($C122=\"PlSp37-42\",VLOOKUP($A122,'Lauf PlSp37-42'!$A$1:$G$15,5,FALSE),IF($C122=\"PlSp43-48\",VLOOKUP($A122,'Lauf PlSp43-48'!$A$1:$G$15,5,FALSE),IF($C122=\"Halbfinale\",VLOOKUP($A122,'Lauf Halbfinale'!$A$1:$G$6,5,FALSE),IF($C122=\"Endrunde\",VLOOKUP($A122,'Lauf Endrunde'!$A$1:$G$6,5,FALSE),))))))))))","v":"Gruppe F7"}]
[120,2,"PlSp43-48","13:21:00",{"$f":"IF($C123=\"ZwRu1\",VLOOKUP($A123,'Lauf ZRA'!$A$1:$E$15,4,FALSE),IF($C123=\"ZwRu2\",VLOOKUP($A123,'Lauf ZRB'!$A$1:$E$15,4,FALSE),IF($C123=\"PlSp13-18\",VLOOKUP($A123,'Lauf PlSp13-18'!$A$1:$G$15,4,FALSE),IF($C123=\"PlSp19-24\",VLOOKUP($A123,'Lauf PlSp19-24'!$A$1:$G$15,4,FALSE),IF($C123=\"PlSp25-30\",VLOOKUP($A123,'Lauf PlSp25-30'!$A$1:$G$15,4,FALSE),IF($C123=\"PlSp31-36\",VLOOKUP($A123,'Lauf PlSp31-36'!$A$1:$G$15,4,FALSE),IF($C123=\"PlSp37-42\",VLOOKUP($A123,'Lauf PlSp37-42'!$A$1:$G$15,4,FALSE),IF($C123=\"PlSp43-48\",VLOOKUP($A123,'Lauf PlSp43-48'!$A$1:$G$15,4,FALSE),IF($C123=\"Halbfinale\",VLOOKUP($A123,'Lauf Halbfinale'!$A$1:$G$6,4,FALSE),IF($C123=\"Endrunde\",VLOOKUP($A123,'Lauf Endrunde'!$A$1:$G$6,4,FALSE),))))))))))","v":"Gruppe B2"},{"$f":"IF($C123=\"ZwRu1\",VLOOKUP($A123,'Lauf ZRA'!$A$1:$E$15,5,FALSE),IF($C123=\"ZwRu2\",VLOOKUP($A123,'Lauf ZRB'!$A$1:$E$15,5,FALSE),IF($C123=\"PlSp13-18\",VLOOKUP($A123,'Lauf PlSp13-18'!$A$1:$G$15,5,FALSE),IF($C123=\"PlSp19-24\",VLOOKUP($A123,'Lauf PlSp19-24'!$A$1:$G$15,5,FALSE),IF($C123=\"PlSp25-30\",VLOOKUP($A123,'Lauf PlSp25-30'!$A$1:$G$15,5,FALSE),IF($C123=\"PlSp31-36\",VLOOKUP($A123,'Lauf PlSp31-36'!$A$1:$G$15,5,FALSE),IF($C123=\"PlSp37-42\",VLOOKUP($A123,'Lauf PlSp37-42'!$A$1:$G$15,5,FALSE),IF($C123=\"PlSp43-48\",VLOOKUP($A123,'Lauf PlSp43-48'!$A$1:$G$15,5,FALSE),IF($C123=\"Halbfinale\",VLOOKUP($A123,'Lauf Halbfinale'!$A$1:$G$6,5,FALSE),IF($C123=\"Endrunde\",VLOOKUP($A123,'Lauf Endrunde'!$A$1:$G$6,5,FALSE),))))))))))","v":"Gruppe D6"}]
[121,1,"Halbfinale","12:26:00",{"$f":"IF($C124=\"ZwRu1\",VLOOKUP($A124,'Lauf ZRA'!$A$1:$E$15,4,FALSE),IF($C124=\"ZwRu2\",VLOOKUP($A124,'Lauf ZRB'!$A$1:$E$15,4,FALSE),IF($C124=\"PlSp13-18\",VLOOKUP($A124,'Lauf PlSp13-18'!$A$1:$G$15,4,FALSE),IF($C124=\"PlSp19-24\",VLOOKUP($A124,'Lauf PlSp19-24'!$A$1:$G$15,4,FALSE),IF($C124=\"PlSp25-30\",VLOOKUP($A124,'Lauf PlSp25-30'!$A$1:$G$15,4,FALSE),IF($C124=\"PlSp31-36\",VLOOKUP($A124,'Lauf PlSp31-36'!$A$1:$G$15,4,FALSE),IF($C124=\"PlSp37-42\",VLOOKUP($A124,'Lauf PlSp37-42'!$A$1:$G$15,4,FALSE),IF($C124=\"PlSp43-48\",VLOOKUP($A124,'Lauf PlSp43-48'!$A$1:$G$15,4,FALSE),IF($C124=\"Halbfinale\",VLOOKUP($A124,'Lauf Halbfinale'!$A$1:$G$6,4,FALSE),IF($C124=\"Endrunde\",VLOOKUP($A124,'Lauf Endrunde'!$A$1:$G$6,4,FALSE),))))))))))","v":"Gruppe C8"},{"$f":"IF($C124=\"ZwRu1\",VLOOKUP($A124,'Lauf ZRA'!$A$1:$E$15,5,FALSE),IF($C124=\"ZwRu2\",VLOOKUP($A124,'Lauf ZRB'!$A$1:$E$15,5,FALSE),IF($C124=\"PlSp13-18\",VLOOKUP($A124,'Lauf PlSp13-18'!$A$1:$G$15,5,FALSE),IF($C124=\"PlSp19-24\",VLOOKUP($A124,'Lauf PlSp19-24'!$A$1:$G$15,5,FALSE),IF($C124=\"PlSp25-30\",VLOOKUP($A124,'Lauf PlSp25-30'!$A$1:$G$15,5,FALSE),IF($C124=\"PlSp31-36\",VLOOKUP($A124,'Lauf PlSp31-36'!$A$1:$G$15,5,FALSE),IF($C124=\"PlSp37-42\",VLOOKUP($A124,'Lauf PlSp37-42'!$A$1:$G$15,5,FALSE),IF($C124=\"PlSp43-48\",VLOOKUP($A124,'Lauf PlSp43-48'!$A$1:$G$15,5,FALSE),IF($C124=\"Halbfinale\",VLOOKUP($A124,'Lauf Halbfinale'!$A$1:$G$6,5,FALSE),IF($C124=\"Endrunde\",VLOOKUP($A124,'Lauf Endrunde'!$A$1:$G$6,5,FALSE),))))))))))","v":"Gruppe F5"}]
[122,2,"Halbfinale",{"$f":"IF(B125=M$13,VLOOKUP(A125,$M$14:$S$39,7,FALSE),IF(B125=N$13,VLOOKUP(A125,$N$14:$S$39,6,FALSE),IF(B125=O$13,VLOOKUP(A125,$O$13:$S$39,5,FALSE),IF(B125=P$13,VLOOKUP(A125,$P$13:$S$39,4,FALSE),IF(B125=Q$13,VLOOKUP(A125,$Q$13:$S$39,3,FALSE),IF(B125=R$13,VLOOKUP(A125,$R$13:$S$39,2,FALSE),\"\"))))))","v":"12:26:00"},{"$f":"IF($C125=\"ZwRu1\",VLOOKUP($A125,'Lauf ZRA'!$A$1:$E$15,4,FALSE),IF($C125=\"ZwRu2\",VLOOKUP($A125,'Lauf ZRB'!$A$1:$E$15,4,FALSE),IF($C125=\"PlSp13-18\",VLOOKUP($A125,'Lauf PlSp13-18'!$A$1:$G$15,4,FALSE),IF($C125=\"PlSp19-24\",VLOOKUP($A125,'Lauf PlSp19-24'!$A$1:$G$15,4,FALSE),IF($C125=\"PlSp25-30\",VLOOKUP($A125,'Lauf PlSp25-30'!$A$1:$G$15,4,FALSE),IF($C125=\"PlSp31-36\",VLOOKUP($A125,'Lauf PlSp31-36'!$A$1:$G$15,4,FALSE),IF($C125=\"PlSp37-42\",VLOOKUP($A125,'Lauf PlSp37-42'!$A$1:$G$15,4,FALSE),IF($C125=\"PlSp43-48\",VLOOKUP($A125,'Lauf PlSp43-48'!$A$1:$G$15,4,FALSE),IF($C125=\"Halbfinale\",VLOOKUP($A125,'Lauf Halbfinale'!$A$1:$G$6,4,FALSE),IF($C125=\"Endrunde\",VLOOKUP($A125,'Lauf Endrunde'!$A$1:$G$6,4,FALSE),))))))))))","v":"Gruppe E3"},{"$f":"IF($C125=\"ZwRu1\",VLOOKUP($A125,'Lauf ZRA'!$A$1:$E$15,5,FALSE),IF($C125=\"ZwRu2\",VLOOKUP($A125,'Lauf ZRB'!$A$1:$E$15,5,FALSE),IF($C125=\"PlSp13-18\",VLOOKUP($A125,'Lauf PlSp13-18'!$A$1:$G$15,5,FALSE),IF($C125=\"PlSp19-24\",VLOOKUP($A125,'Lauf PlSp19-24'!$A$1:$G$15,5,FALSE),IF($C125=\"PlSp25-30\",VLOOKUP($A125,'Lauf PlSp25-30'!$A$1:$G$15,5,FALSE),IF($C125=\"PlSp31-36\",VLOOKUP($A125,'Lauf PlSp31-36'!$A$1:$G$15,5,FALSE),IF($C125=\"PlSp37-42\",VLOOKUP($A125,'Lauf PlSp37-42'!$A$1:$G$15,5,FALSE),IF($C125=\"PlSp43-48\",VLOOKUP($A125,'Lauf PlSp43-48'!$A$1:$G$15,5,FALSE),IF($C125=\"Halbfinale\",VLOOKUP($A125,'Lauf Halbfinale'!$A$1:$G$6,5,FALSE),IF($C125=\"Endrunde\",VLOOKUP($A125,'Lauf Endrunde'!$A$1:$G$6,5,FALSE),))))))))))","v":"Gruppe D8"}]
[123,1,"Halbfinale","12:37:00",{"$f":"IF($C126=\"ZwRu1\",VLOOKUP($A126,'Lauf ZRA'!$A$1:$E$15,4,FALSE),IF($C126=\"ZwRu2\",VLOOKUP($A126,'Lauf ZRB'!$A$1:$E$15,4,FALSE),IF($C126=\"PlSp13-18\",VLOOKUP($A126,'Lauf PlSp13-18'!$A$1:$G$15,4,FALSE),IF($C126=\"PlSp19-24\",VLOOKUP($A126,'Lauf PlSp19-24'!$A$1:$G$15,4,FALSE),IF($C126=\"PlSp25-30\",VLOOKUP($A126,'Lauf PlSp25-30'!$A$1:$G$15,4,FALSE),IF($C126=\"PlSp31-36\",VLOOKUP($A126,'Lauf PlSp31-36'!$A$1:$G$15,4,FALSE),IF($C126=\"PlSp37-42\",VLOOKUP($A126,'Lauf PlSp37-42'!$A$1:$G$15,4,FALSE),IF($C126=\"PlSp43-48\",VLOOKUP($A126,'Lauf PlSp43-48'!$A$1:$G$15,4,FALSE),IF($C126=\"Halbfinale\",VLOOKUP($A126,'Lauf Halbfinale'!$A$1:$G$6,4,FALSE),IF($C126=\"Endrunde\",VLOOKUP($A126,'Lauf Endrunde'!$A$1:$G$6,4,FALSE),))))))))))","v":"Gruppe E2"},{"$f":"IF($C126=\"ZwRu1\",VLOOKUP($A126,'Lauf ZRA'!$A$1:$E$15,5,FALSE),IF($C126=\"ZwRu2\",VLOOKUP($A126,'Lauf ZRB'!$A$1:$E$15,5,FALSE),IF($C126=\"PlSp13-18\",VLOOKUP($A126,'Lauf PlSp13-18'!$A$1:$G$15,5,FALSE),IF($C126=\"PlSp19-24\",VLOOKUP($A126,'Lauf PlSp19-24'!$A$1:$G$15,5,FALSE),IF($C126=\"PlSp25-30\",VLOOKUP($A126,'Lauf PlSp25-30'!$A$1:$G$15,5,FALSE),IF($C126=\"PlSp31-36\",VLOOKUP($A126,'Lauf PlSp31-36'!$A$1:$G$15,5,FALSE),IF($C126=\"PlSp37-42\",VLOOKUP($A126,'Lauf PlSp37-42'!$A$1:$G$15,5,FALSE),IF($C126=\"PlSp43-48\",VLOOKUP($A126,'Lauf PlSp43-48'!$A$1:$G$15,5,FALSE),IF($C126=\"Halbfinale\",VLOOKUP($A126,'Lauf Halbfinale'!$A$1:$G$6,5,FALSE),IF($C126=\"Endrunde\",VLOOKUP($A126,'Lauf Endrunde'!$A$1:$G$6,5,FALSE),))))))))))","v":"Gruppe B3"}]
[124,2,"Halbfinale","12:37:00",{"$f":"IF($C127=\"ZwRu1\",VLOOKUP($A127,'Lauf ZRA'!$A$1:$E$15,4,FALSE),IF($C127=\"ZwRu2\",VLOOKUP($A127,'Lauf ZRB'!$A$1:$E$15,4,FALSE),IF($C127=\"PlSp13-18\",VLOOKUP($A127,'Lauf PlSp13-18'!$A$1:$G$15,4,FALSE),IF($C127=\"PlSp19-24\",VLOOKUP($A127,'Lauf PlSp19-24'!$A$1:$G$15,4,FALSE),IF($C127=\"PlSp25-30\",VLOOKUP($A127,'Lauf PlSp25-30'!$A$1:$G$15,4,FALSE),IF($C127=\"PlSp31-36\",VLOOKUP($A127,'Lauf PlSp31-36'!$A$1:$G$15,4,FALSE),IF($C127=\"PlSp37-42\",VLOOKUP($A127,'Lauf PlSp37-42'!$A$1:$G$15,4,FALSE),IF($C127=\"PlSp43-48\",VLOOKUP($A127,'Lauf PlSp43-48'!$A$1:$G$15,4,FALSE),IF($C127=\"Halbfinale\",VLOOKUP($A127,'Lauf Halbfinale'!$A$1:$G$6,4,FALSE),IF($C127=\"Endrunde\",VLOOKUP($A127,'Lauf Endrunde'!$A$1:$G$6,4,FALSE),))))))))))","v":"Gruppe A7"},{"$f":"IF($C127=\"ZwRu1\",VLOOKUP($A127,'Lauf ZRA'!$A$1:$E$15,5,FALSE),IF($C127=\"ZwRu2\",VLOOKUP($A127,'Lauf ZRB'!$A$1:$E$15,5,FALSE),IF($C127=\"PlSp13-18\",VLOOKUP($A127,'Lauf PlSp13-18'!$A$1:$G$15,5,FALSE),IF($C127=\"PlSp19-24\",VLOOKUP($A127,'Lauf PlSp19-24'!$A$1:$G$15,5,FALSE),IF($C127=\"PlSp25-30\",VLOOKUP($A127,'Lauf PlSp25-30'!$A$1:$G$15,5,FALSE),IF($C127=\"PlSp31-36\",VLOOKUP($A127,'Lauf PlSp31-36'!$A$1:$G$15,5,FALSE),IF($C127=\"PlSp37-42\",VLOOKUP($A127,'Lauf PlSp37-42'!$A$1:$G$15,5,FALSE),IF($C127=\"PlSp43-48\",VLOOKUP($A127,'Lauf PlSp43-48'!$A$1:$G$15,5,FALSE),IF($C127=\"Halbfinale\",VLOOKUP($A127,'Lauf Halbfinale'!$A$1:$G$6,5,FALSE),IF($C127=\"Endrunde\",VLOOKUP($A127,'Lauf Endrunde'!$A$1:$G$6,5,FALSE),))))))))))","v":"Gruppe B1"}]
[125,1,"Halbfinale","12:48:00",{"$f":"IF($C128=\"ZwRu1\",VLOOKUP($A128,'Lauf ZRA'!$A$1:$E$15,4,FALSE),IF($C128=\"ZwRu2\",VLOOKUP($A128,'Lauf ZRB'!$A$1:$E$15,4,FALSE),IF($C128=\"PlSp13-18\",VLOOKUP($A128,'Lauf PlSp13-18'!$A$1:$G$15,4,FALSE),IF($C128=\"PlSp19-24\",VLOOKUP($A128,'Lauf PlSp19-24'!$A$1:$G$15,4,FALSE),IF($C128=\"PlSp25-30\",VLOOKUP($A128,'Lauf PlSp25-30'!$A$1:$G$15,4,FALSE),IF($C128=\"PlSp31-36\",VLOOKUP($A128,'Lauf PlSp31-36'!$A$1:$G$15,4,FALSE),IF($C128=\"PlSp37-42\",VLOOKUP($A128,'Lauf PlSp37-42'!$A$1:$G$15,4,FALSE),IF($C128=\"PlSp43-48\",VLOOKUP($A128,'Lauf PlSp43-48'!$A$1:$G$15,4,FALSE),IF($C128=\"Halbfinale\",VLOOKUP($A128,'Lauf Halbfinale'!$A$1:$G$6,4,FALSE),IF($C128=\"Endrunde\",VLOOKUP($A128,'Lauf Endrunde'!$A$1:$G$6,4,FALSE),))))))))))","v":"Gruppe A4"},{"$f":"IF($C128=\"ZwRu1\",VLOOKUP($A128,'Lauf ZRA'!$A$1:$E$15,5,FALSE),IF($C128=\"ZwRu2\",VLOOKUP($A128,'Lauf ZRB'!$A$1:$E$15,5,FALSE),IF($C128=\"PlSp13-18\",VLOOKUP($A128,'Lauf PlSp13-18'!$A$1:$G$15,5,FALSE),IF($C128=\"PlSp19-24\",VLOOKUP($A128,'Lauf PlSp19-24'!$A$1:$G$15,5,FALSE),IF($C128=\"PlSp25-30\",VLOOKUP($A128,'Lauf PlSp25-30'!$A$1:$G$15,5,FALSE),IF($C128=\"PlSp31-36\",VLOOKUP($A128,'Lauf PlSp31-36'!$A$1:$G$15,5,FALSE),IF($C128=\"PlSp37-42\",VLOOKUP($A128,'Lauf PlSp37-42'!$A$1:$G$15,5,FALSE),IF($C128=\"PlSp43-48\",VLOOKUP($A128,'Lauf PlSp43-48'!$A$1:$G$15,5,FALSE),IF($C128=\"Halbfinale\",VLOOKUP($A128,'Lauf Halbfinale'!$A$1:$G$6,5,FALSE),IF($C128=\"Endrunde\",VLOOKUP($A128,'Lauf Endrunde'!$A$1:$G$6,5,FALSE),))))))))))","v":"Gruppe D7"}]
[126,2,"Halbfinale","12:48:00",{"$f":"IF($C129=\"ZwRu1\",VLOOKUP($A129,'Lauf ZRA'!$A$1:$E$15,4,FALSE),IF($C129=\"ZwRu2\",VLOOKUP($A129,'Lauf ZRB'!$A$1:$E$15,4,FALSE),IF($C129=\"PlSp13-18\",VLOOKUP($A129,'Lauf PlSp13-18'!$A$1:$G$15,4,FALSE),IF($C129=\"PlSp19-24\",VLOOKUP($A129,'Lauf PlSp19-24'!$A$1:$G$15,4,FALSE),IF($C129=\"PlSp25-30\",VLOOKUP($A129,'Lauf PlSp25-30'!$A$1:$G$15,4,FALSE),IF($C129=\"PlSp31-36\",VLOOKUP($A129,'Lauf PlSp31-36'!$A$1:$G$15,4,FALSE),IF($C129=\"PlSp37-42\",VLOOKUP($A129,'Lauf PlSp37-42'!$A$1:$G$15,4,FALSE),IF($C129=\"PlSp43-48\",VLOOKUP($A129,'Lauf PlSp43-48'!$A$1:$G$15,4,FALSE),IF($C129=\"Halbfinale\",VLOOKUP($A129,'Lauf Halbfinale'!$A$1:$G$6,4,FALSE),IF($C129=\"Endrunde\",VLOOKUP($A129,'Lauf Endrunde'!$A$1:$G$6,4,FALSE),))))))))))","v":"Gruppe C5"},{"$f":"IF($C129=\"ZwRu1\",VLOOKUP($A129,'Lauf ZRA'!$A$1:$E$15,5,FALSE),IF($C129=\"ZwRu2\",VLOOKUP($A129,'Lauf ZRB'!$A$1:$E$15,5,FALSE),IF($C129=\"PlSp13-18\",VLOOKUP($A129,'Lauf PlSp13-18'!$A$1:$G$15,5,FALSE),IF($C129=\"PlSp19-24\",VLOOKUP($A129,'Lauf PlSp19-24'!$A$1:$G$15,5,FALSE),IF($C129=\"PlSp25-30\",VLOOKUP($A129,'Lauf PlSp25-30'!$A$1:$G$15,5,FALSE),IF($C129=\"PlSp31-36\",VLOOKUP($A129,'Lauf PlSp31-36'!$A$1:$G$15,5,FALSE),IF($C129=\"PlSp37-42\",VLOOKUP($A129,'Lauf PlSp37-42'!$A$1:$G$15,5,FALSE),IF($C129=\"PlSp43-48\",VLOOKUP($A129,'Lauf PlSp43-48'!$A$1:$G$15,5,FALSE),IF($C129=\"Halbfinale\",VLOOKUP($A129,'Lauf Halbfinale'!$A$1:$G$6,5,FALSE),IF($C129=\"Endrunde\",VLOOKUP($A129,'Lauf Endrunde'!$A$1:$G$6,5,FALSE),))))))))))","v":"Gruppe F8"}]
[127,1,"Endrunde","13:32:00",{"$f":"IF($C130=\"ZwRu1\",VLOOKUP($A130,'Lauf ZRA'!$A$1:$E$15,4,FALSE),IF($C130=\"ZwRu2\",VLOOKUP($A130,'Lauf ZRB'!$A$1:$E$15,4,FALSE),IF($C130=\"PlSp13-18\",VLOOKUP($A130,'Lauf PlSp13-18'!$A$1:$G$15,4,FALSE),IF($C130=\"PlSp19-24\",VLOOKUP($A130,'Lauf PlSp19-24'!$A$1:$G$15,4,FALSE),IF($C130=\"PlSp25-30\",VLOOKUP($A130,'Lauf PlSp25-30'!$A$1:$G$15,4,FALSE),IF($C130=\"PlSp31-36\",VLOOKUP($A130,'Lauf PlSp31-36'!$A$1:$G$15,4,FALSE),IF($C130=\"PlSp37-42\",VLOOKUP($A130,'Lauf PlSp37-42'!$A$1:$G$15,4,FALSE),IF($C130=\"PlSp43-48\",VLOOKUP($A130,'Lauf PlSp43-48'!$A$1:$G$15,4,FALSE),IF($C130=\"Halbfinale\",VLOOKUP($A130,'Lauf Halbfinale'!$A$1:$G$6,4,FALSE),IF($C130=\"Endrunde\",VLOOKUP($A130,'Lauf Endrunde'!$A$1:$G$6,4,FALSE),))))))))))","v":" "},{"$f":"IF($C130=\"ZwRu1\",VLOOKUP($A130,'Lauf ZRA'!$A$1:$E$15,5,FALSE),IF($C130=\"ZwRu2\",VLOOKUP($A130,'Lauf ZRB'!$A$1:$E$15,5,FALSE),IF($C130=\"PlSp13-18\",VLOOKUP($A130,'Lauf PlSp13-18'!$A$1:$G$15,5,FALSE),IF($C130=\"PlSp19-24\",VLOOKUP($A130,'Lauf PlSp19-24'!$A$1:$G$15,5,FALSE),IF($C130=\"PlSp25-30\",VLOOKUP($A130,'Lauf PlSp25-30'!$A$1:$G$15,5,FALSE),IF($C130=\"PlSp31-36\",VLOOKUP($A130,'Lauf PlSp31-36'!$A$1:$G$15,5,FALSE),IF($C130=\"PlSp37-42\",VLOOKUP($A130,'Lauf PlSp37-42'!$A$1:$G$15,5,FALSE),IF($C130=\"PlSp43-48\",VLOOKUP($A130,'Lauf PlSp43-48'!$A$1:$G$15,5,FALSE),IF($C130=\"Halbfinale\",VLOOKUP($A130,'Lauf Halbfinale'!$A$1:$G$6,5,FALSE),IF($C130=\"Endrunde\",VLOOKUP($A130,'Lauf Endrunde'!$A$1:$G$6,5,FALSE),))))))))))","v":" "}]
[128,2,"Endrunde","13:32:00",{"$f":"IF($C131=\"ZwRu1\",VLOOKUP($A131,'Lauf ZRA'!$A$1:$E$15,4,FALSE),IF($C131=\"ZwRu2\",VLOOKUP($A131,'Lauf ZRB'!$A$1:$E$15,4,FALSE),IF($C131=\"PlSp13-18\",VLOOKUP($A131,'Lauf PlSp13-18'!$A$1:$G$15,4,FALSE),IF($C131=\"PlSp19-24\",VLOOKUP($A131,'Lauf PlSp19-24'!$A$1:$G$15,4,FALSE),IF($C131=\"PlSp25-30\",VLOOKUP($A131,'Lauf PlSp25-30'!$A$1:$G$15,4,FALSE),IF($C131=\"PlSp31-36\",VLOOKUP($A131,'Lauf PlSp31-36'!$A$1:$G$15,4,FALSE),IF($C131=\"PlSp37-42\",VLOOKUP($A131,'Lauf PlSp37-42'!$A$1:$G$15,4,FALSE),IF($C131=\"PlSp43-48\",VLOOKUP($A131,'Lauf PlSp43-48'!$A$1:$G$15,4,FALSE),IF($C131=\"Halbfinale\",VLOOKUP($A131,'Lauf Halbfinale'!$A$1:$G$6,4,FALSE),IF($C131=\"Endrunde\",VLOOKUP($A131,'Lauf Endrunde'!$A$1:$G$6,4,FALSE),))))))))))","v":" "},{"$f":"IF($C131=\"ZwRu1\",VLOOKUP($A131,'Lauf ZRA'!$A$1:$E$15,5,FALSE),IF($C131=\"ZwRu2\",VLOOKUP($A131,'Lauf ZRB'!$A$1:$E$15,5,FALSE),IF($C131=\"PlSp13-18\",VLOOKUP($A131,'Lauf PlSp13-18'!$A$1:$G$15,5,FALSE),IF($C131=\"PlSp19-24\",VLOOKUP($A131,'Lauf PlSp19-24'!$A$1:$G$15,5,FALSE),IF($C131=\"PlSp25-30\",VLOOKUP($A131,'Lauf PlSp25-30'!$A$1:$G$15,5,FALSE),IF($C131=\"PlSp31-36\",VLOOKUP($A131,'Lauf PlSp31-36'!$A$1:$G$15,5,FALSE),IF($C131=\"PlSp37-42\",VLOOKUP($A131,'Lauf PlSp37-42'!$A$1:$G$15,5,FALSE),IF($C131=\"PlSp43-48\",VLOOKUP($A131,'Lauf PlSp43-48'!$A$1:$G$15,5,FALSE),IF($C131=\"Halbfinale\",VLOOKUP($A131,'Lauf Halbfinale'!$A$1:$G$6,5,FALSE),IF($C131=\"Endrunde\",VLOOKUP($A131,'Lauf Endrunde'!$A$1:$G$6,5,FALSE),))))))))))","v":" "}]
[129,3,"Endrunde","13:32:00",{"$f":"IF($C132=\"ZwRu1\",VLOOKUP($A132,'Lauf ZRA'!$A$1:$E$15,4,FALSE),IF($C132=\"ZwRu2\",VLOOKUP($A132,'Lauf ZRB'!$A$1:$E$15,4,FALSE),IF($C132=\"PlSp13-18\",VLOOKUP($A132,'Lauf PlSp13-18'!$A$1:$G$15,4,FALSE),IF($C132=\"PlSp19-24\",VLOOKUP($A132,'Lauf PlSp19-24'!$A$1:$G$15,4,FALSE),IF($C132=\"PlSp25-30\",VLOOKUP($A132,'Lauf PlSp25-30'!$A$1:$G$15,4,FALSE),IF($C132=\"PlSp31-36\",VLOOKUP($A132,'Lauf PlSp31-36'!$A$1:$G$15,4,FALSE),IF($C132=\"PlSp37-42\",VLOOKUP($A132,'Lauf PlSp37-42'!$A$1:$G$15,4,FALSE),IF($C132=\"PlSp43-48\",VLOOKUP($A132,'Lauf PlSp43-48'!$A$1:$G$15,4,FALSE),IF($C132=\"Halbfinale\",VLOOKUP($A132,'Lauf Halbfinale'!$A$1:$G$6,4,FALSE),IF($C132=\"Endrunde\",VLOOKUP($A132,'Lauf Endrunde'!$A$1:$G$6,4,FALSE),))))))))))","v":" "},{"$f":"IF($C132=\"ZwRu1\",VLOOKUP($A132,'Lauf ZRA'!$A$1:$E$15,5,FALSE),IF($C132=\"ZwRu2\",VLOOKUP($A132,'Lauf ZRB'!$A$1:$E$15,5,FALSE),IF($C132=\"PlSp13-18\",VLOOKUP($A132,'Lauf PlSp13-18'!$A$1:$G$15,5,FALSE),IF($C132=\"PlSp19-24\",VLOOKUP($A132,'Lauf PlSp19-24'!$A$1:$G$15,5,FALSE),IF($C132=\"PlSp25-30\",VLOOKUP($A132,'Lauf PlSp25-30'!$A$1:$G$15,5,FALSE),IF($C132=\"PlSp31-36\",VLOOKUP($A132,'Lauf PlSp31-36'!$A$1:$G$15,5,FALSE),IF($C132=\"PlSp37-42\",VLOOKUP($A132,'Lauf PlSp37-42'!$A$1:$G$15,5,FALSE),IF($C132=\"PlSp43-48\",VLOOKUP($A132,'Lauf PlSp43-48'!$A$1:$G$15,5,FALSE),IF($C132=\"Halbfinale\",VLOOKUP($A132,'Lauf Halbfinale'!$A$1:$G$6,5,FALSE),IF($C132=\"Endrunde\",VLOOKUP($A132,'Lauf Endrunde'!$A$1:$G$6,5,FALSE),))))))))))","v":" "}]
[130,{"$f":"IF(ISNA(MATCH(A133,$M$6:$M$11,0)),IF(ISNA(MATCH(A133,$N$6:$N$11,0)),IF(ISNA(MATCH(A133,$O$6:$O$11,0)),IF(ISNA(MATCH(A133,$P$6:$P$11,0)),IF(ISNA(MATCH(A133,$Q$6:$Q$11,0)),IF(ISNA(MATCH(A133,$R$6:$R$11,0)),IF(ISNA(MATCH(A133,$S$6:$S$11,0)),IF(ISNA(MATCH(A133,$T$6:$T$11,0)),IF(ISNA(MATCH(A133,$U$6:$U$11,0)),IF(ISNA(MATCH(A133,$V$6:$V$11,0)),IF(ISNA(MATCH(A133,$W$6:$W$11,0)),IF(ISNA(MATCH(A133,$X$6:$X$11,0)),IF(ISNA(MATCH(A133,$Y$6:$Y$11,0)),IF(ISNA(MATCH(A133,$Z$6:$Z$11,0)),IF(ISNA(MATCH(A133,$AA$6:$AA$11,0)),IF(ISNA(MATCH(A133,$AB$6:$AB$11,0)),IF(ISNA(MATCH(A133,$AC$6:$AC$11,0)),IF(ISNA(MATCH(A133,$AD$6:$AD$11,0)),IF(ISNA(MATCH(A133,$AE$6:$AE$11,0)),IF(ISNA(MATCH(A133,$AF$6:$AF$11,0)),IF(ISNA(MATCH(A133,$AG$6:$AG$11,0)),IF(ISNA(MATCH(A133,$AH$6:$AH$11,0)),IF(ISNA(MATCH(A133,$AI$6:$AI$11,0)),IF(ISNA(MATCH(A133,$AJ$6:$AJ$11,0)),IF(ISNA(MATCH(A133,$AK$6:$AK$11,0)),IF(ISNA(MATCH(A133,$AL$6:$AL$11,0)),\"F\",MATCH(A133,$AL$6:$AL$11,0)),MATCH(A133,$AK$6:$AK$11,0)),MATCH(A133,$AJ$6:$AJ$11,0)),MATCH(A133,$AI$6:$AI$11,0)),MATCH(A133,$AH$6:$AH$11,0)),MATCH(A133,$AG$6:$AG$11,0)),MATCH(A133,$AF$6:$AF$11,0)),MATCH(A133,$AE$6:$AE$11,0)),MATCH(A133,$AD$6:$AD$11,0)),MATCH(A133,$AC$6:$AC$11,0)),MATCH(A133,$AB$6:$AB$11,0)),MATCH(A133,$AA$6:$AA$11,0)),MATCH(A133,$Z$6:$Z$11,0)),MATCH(A133,$Y$6:$Y$11,0)),MATCH(A133,$X$6:$X$11,0)),MATCH(A133,$W$6:$W$11,0)),MATCH(A133,$V$6:$V$11,0)),MATCH(A133,$U$6:$U$11,0)),MATCH(A133,$T$6:$T$11,0)),MATCH(A133,$S$6:$S$11,0)),MATCH(A133,$R$6:$R$11,0)),MATCH(A133,$Q$6:$Q$11,0)),MATCH(A133,$P$6:$P$11,0)),MATCH(A133,$O$6:$O$11,0)),MATCH(A133,$N$6:$N$11,0)),MATCH(A133,$M$6:$M$11,0))","v":4},"Endrunde","13:32:00",{"$f":"IF($C133=\"ZwRu1\",VLOOKUP($A133,'Lauf ZRA'!$A$1:$E$15,4,FALSE),IF($C133=\"ZwRu2\",VLOOKUP($A133,'Lauf ZRB'!$A$1:$E$15,4,FALSE),IF($C133=\"PlSp13-18\",VLOOKUP($A133,'Lauf PlSp13-18'!$A$1:$G$15,4,FALSE),IF($C133=\"PlSp19-24\",VLOOKUP($A133,'Lauf PlSp19-24'!$A$1:$G$15,4,FALSE),IF($C133=\"PlSp25-30\",VLOOKUP($A133,'Lauf PlSp25-30'!$A$1:$G$15,4,FALSE),IF($C133=\"PlSp31-36\",VLOOKUP($A133,'Lauf PlSp31-36'!$A$1:$G$15,4,FALSE),IF($C133=\"PlSp37-42\",VLOOKUP($A133,'Lauf PlSp37-42'!$A$1:$G$15,4,FALSE),IF($C133=\"PlSp43-48\",VLOOKUP($A133,'Lauf PlSp43-48'!$A$1:$G$15,4,FALSE),IF($C133=\"Halbfinale\",VLOOKUP($A133,'Lauf Halbfinale'!$A$1:$G$6,4,FALSE),IF($C133=\"Endrunde\",VLOOKUP($A133,'Lauf Endrunde'!$A$1:$G$6,4,FALSE),))))))))))","v":" "},{"$f":"IF($C133=\"ZwRu1\",VLOOKUP($A133,'Lauf ZRA'!$A$1:$E$15,5,FALSE),IF($C133=\"ZwRu2\",VLOOKUP($A133,'Lauf ZRB'!$A$1:$E$15,5,FALSE),IF($C133=\"PlSp13-18\",VLOOKUP($A133,'Lauf PlSp13-18'!$A$1:$G$15,5,FALSE),IF($C133=\"PlSp19-24\",VLOOKUP($A133,'Lauf PlSp19-24'!$A$1:$G$15,5,FALSE),IF($C133=\"PlSp25-30\",VLOOKUP($A133,'Lauf PlSp25-30'!$A$1:$G$15,5,FALSE),IF($C133=\"PlSp31-36\",VLOOKUP($A133,'Lauf PlSp31-36'!$A$1:$G$15,5,FALSE),IF($C133=\"PlSp37-42\",VLOOKUP($A133,'Lauf PlSp37-42'!$A$1:$G$15,5,FALSE),IF($C133=\"PlSp43-48\",VLOOKUP($A133,'Lauf PlSp43-48'!$A$1:$G$15,5,FALSE),IF($C133=\"Halbfinale\",VLOOKUP($A133,'Lauf Halbfinale'!$A$1:$G$6,5,FALSE),IF($C133=\"Endrunde\",VLOOKUP($A133,'Lauf Endrunde'!$A$1:$G$6,5,FALSE),))))))))))","v":" "}]
[131,1,"Endrunde","13:43:00",{"$f":"IF($C134=\"ZwRu1\",VLOOKUP($A134,'Lauf ZRA'!$A$1:$E$15,4,FALSE),IF($C134=\"ZwRu2\",VLOOKUP($A134,'Lauf ZRB'!$A$1:$E$15,4,FALSE),IF($C134=\"PlSp13-18\",VLOOKUP($A134,'Lauf PlSp13-18'!$A$1:$G$15,4,FALSE),IF($C134=\"PlSp19-24\",VLOOKUP($A134,'Lauf PlSp19-24'!$A$1:$G$15,4,FALSE),IF($C134=\"PlSp25-30\",VLOOKUP($A134,'Lauf PlSp25-30'!$A$1:$G$15,4,FALSE),IF($C134=\"PlSp31-36\",VLOOKUP($A134,'Lauf PlSp31-36'!$A$1:$G$15,4,FALSE),IF($C134=\"PlSp37-42\",VLOOKUP($A134,'Lauf PlSp37-42'!$A$1:$G$15,4,FALSE),IF($C134=\"PlSp43-48\",VLOOKUP($A134,'Lauf PlSp43-48'!$A$1:$G$15,4,FALSE),IF($C134=\"Halbfinale\",VLOOKUP($A134,'Lauf Halbfinale'!$A$1:$G$6,4,FALSE),IF($C134=\"Endrunde\",VLOOKUP($A134,'Lauf Endrunde'!$A$1:$G$6,4,FALSE),))))))))))","v":" "},{"$f":"IF($C134=\"ZwRu1\",VLOOKUP($A134,'Lauf ZRA'!$A$1:$E$15,5,FALSE),IF($C134=\"ZwRu2\",VLOOKUP($A134,'Lauf ZRB'!$A$1:$E$15,5,FALSE),IF($C134=\"PlSp13-18\",VLOOKUP($A134,'Lauf PlSp13-18'!$A$1:$G$15,5,FALSE),IF($C134=\"PlSp19-24\",VLOOKUP($A134,'Lauf PlSp19-24'!$A$1:$G$15,5,FALSE),IF($C134=\"PlSp25-30\",VLOOKUP($A134,'Lauf PlSp25-30'!$A$1:$G$15,5,FALSE),IF($C134=\"PlSp31-36\",VLOOKUP($A134,'Lauf PlSp31-36'!$A$1:$G$15,5,FALSE),IF($C134=\"PlSp37-42\",VLOOKUP($A134,'Lauf PlSp37-42'!$A$1:$G$15,5,FALSE),IF($C134=\"PlSp43-48\",VLOOKUP($A134,'Lauf PlSp43-48'!$A$1:$G$15,5,FALSE),IF($C134=\"Halbfinale\",VLOOKUP($A134,'Lauf Halbfinale'!$A$1:$G$6,5,FALSE),IF($C134=\"Endrunde\",VLOOKUP($A134,'Lauf Endrunde'!$A$1:$G$6,5,FALSE),))))))))))","v":" "}]
[132,1,"Endrunde","14:05:00",{"$f":"IF($C135=\"ZwRu1\",VLOOKUP($A135,'Lauf ZRA'!$A$1:$E$15,4,FALSE),IF($C135=\"ZwRu2\",VLOOKUP($A135,'Lauf ZRB'!$A$1:$E$15,4,FALSE),IF($C135=\"PlSp13-18\",VLOOKUP($A135,'Lauf PlSp13-18'!$A$1:$G$15,4,FALSE),IF($C135=\"PlSp19-24\",VLOOKUP($A135,'Lauf PlSp19-24'!$A$1:$G$15,4,FALSE),IF($C135=\"PlSp25-30\",VLOOKUP($A135,'Lauf PlSp25-30'!$A$1:$G$15,4,FALSE),IF($C135=\"PlSp31-36\",VLOOKUP($A135,'Lauf PlSp31-36'!$A$1:$G$15,4,FALSE),IF($C135=\"PlSp37-42\",VLOOKUP($A135,'Lauf PlSp37-42'!$A$1:$G$15,4,FALSE),IF($C135=\"PlSp43-48\",VLOOKUP($A135,'Lauf PlSp43-48'!$A$1:$G$15,4,FALSE),IF($C135=\"Halbfinale\",VLOOKUP($A135,'Lauf Halbfinale'!$A$1:$G$6,4,FALSE),IF($C135=\"Endrunde\",VLOOKUP($A135,'Lauf Endrunde'!$A$1:$G$6,4,FALSE),))))))))))","v":" "},{"$f":"IF($C135=\"ZwRu1\",VLOOKUP($A135,'Lauf ZRA'!$A$1:$E$15,5,FALSE),IF($C135=\"ZwRu2\",VLOOKUP($A135,'Lauf ZRB'!$A$1:$E$15,5,FALSE),IF($C135=\"PlSp13-18\",VLOOKUP($A135,'Lauf PlSp13-18'!$A$1:$G$15,5,FALSE),IF($C135=\"PlSp19-24\",VLOOKUP($A135,'Lauf PlSp19-24'!$A$1:$G$15,5,FALSE),IF($C135=\"PlSp25-30\",VLOOKUP($A135,'Lauf PlSp25-30'!$A$1:$G$15,5,FALSE),IF($C135=\"PlSp31-36\",VLOOKUP($A135,'Lauf PlSp31-36'!$A$1:$G$15,5,FALSE),IF($C135=\"PlSp37-42\",VLOOKUP($A135,'Lauf PlSp37-42'!$A$1:$G$15,5,FALSE),IF($C135=\"PlSp43-48\",VLOOKUP($A135,'Lauf PlSp43-48'!$A$1:$G$15,5,FALSE),IF($C135=\"Halbfinale\",VLOOKUP($A135,'Lauf Halbfinale'!$A$1:$G$6,5,FALSE),IF($C135=\"Endrunde\",VLOOKUP($A135,'Lauf Endrunde'!$A$1:$G$6,5,FALSE),))))))))))","v":" "}]
[133]
[134]
[135]
[136]

{"sheet":"Sonntag","index":14,"n_rows":800,"n_cols":71,"rows_kept":800,"cut":false,"hidden":true,"merged":[[737,2,737,7],[737,8,737,9],[737,10,737,11],[737,12,737,13],[735,2,735,7],[735,8,735,9],[735,10,735,11],[735,12,735,13],[736,2,736,7],[736,8,736,9],[736,10,736,11],[736,12,736,13],[733,2,733,7],[733,8,733,9],[733,10,733,11],[733,12,733,13],[734,2,734,7],[734,8,734,9],[734,10,734,11],[734,12,734,13],[730,14,730,16],[731,2,731,7],[731,8,731,9],[731,10,731,11],[731,12,731,13],[732,2,732,7],[732,8,732,9],[732,10,732,11],[732,12,732,13],[727,2,727,3],[727,4,727,8],[727,9,727,13],[730,1,730,7],[730,8,730,9],[730,10,730,11],[730,12,730,13],[725,2,725,3],[725,4,725,8],[725,9,725,13],[726,2,726,3],[726,4,726,8],[726,9,726,13],[723,2,723,3],[723,4,723,8],[723,9,723,13],[724,2,724,3],[724,4,724,8],[724,9,724,13],[721,2,721,3],[721,4,721,8],[721,9,721,13],[722,2,722,3],[722,4,722,8],[722,9,722,13],[719,2,719,3],[719,4,719,8],[719,9,719,13],[720,2,720,3],[720,4,720,8],[720,9,720,13],[717,2,717,3],[717,4,717,8],[717,9,717,13],[718,2,718,3],[718,4,718,8],[718,9,718,13],[715,2,715,3],[715,4,715,8],[715,9,715,13],[716,2,716,3],[716,4,716,8],[716,9,716,13],[712,53,712,54],[713,2,713,3],[713,4,713,8],[713,9,713,13],[714,2,714,3],[714,4,714,8],[714,9,714,13],[709,5,709,11],[710,5,710,11],[712,2,712,3],[712,4,712,8],[712,9,712,13],[712,14,712,16],[702,12,702,13],[704,4,704,11],[705,5,705,11],[706,5,706,11],[707,5,707,11],[708,5,708,11],[637,2,637,7],[637,8,637,9],[637,10,637,11],[637,12,637,13],[700,1,700,17],[701,1,701,17],[635,2,635,7],[635,8,635,9],[635,10,635,11],[635,12,635,13],[636,2,636,7],[636,8,636,9],[636,10,636,11],[636,12,636,13],[633,2,633,7],[633,8,633,9],[633,10,633,11],[633,12,633,13],[634,2,634,7],[634,8,634,9],[634,10,634,11],[634,12,634,13],[630,14,630,16],[631,2,631,7],[631,8,631,9],[631,10,631,11],[631,12,631,13],[632,2,632,7],[632,8,632,9],[632,10,632,11],[632,12,632,13],[627,2,627,3],[627,4,627,8],[627,9,627,13],[630,1,630,7],[630,8,630,9],[630,10,630,11],[630,12,630,13],[625,2,625,3],[625,4,625,8],[625,9,625,13],[626,2,626,3],[626,4,626,8],[626,9,626,13],[623,2,623,3],[623,4,623,8],[623,9,623,13],[624,2,624,3],[624,4,624,8],[624,9,624,13],[621,2,621,3],[621,4,621,8],[621,9,621,13],[622,2,622,3],[622,4,622,8],[622,9,622,13],[619,2,619,3],[619,4,619,8],[619,9,619,13],[620,2,620,3],[620,4,620,8],[620,9,620,13],[617,2,617,3],[617,4,617,8],[617,9,617,13],[618,2,618,3],[618,4,618,8],[618,9,618,13],[615,2,615,3],[615,4,615,8],[615,9,615,13],[616,2,616,3],[616,4,616,8],[616,9,616,13],[612,53,612,54],[613,2,613,3],[613,4,613,8],[613,9,613,13],[614,2,614,3],[614,4,614,8],[614,9,614,13],[609,5,609,11],[610,5,610,11],[612,2,612,3],[612,4,612,8],[612,9,612,13],[612,14,612,16],[602,12,602,13],[604,4,604,11],[605,5,605,11],[606,5,606,11],[607,5,607,11],[608,5,608,11],[537,2,537,7],[537,8,537,9],[537,10,537,11],[537,12,537,13],[600,1,600,17],[601,1,601,17],[535,2,535,7],[535,8,535,9],[535,10,535,11],[535,12,535,13],[536,2,536,7],[536,8,536,9],[536,10,536,11],[536,12,536,13],[533,2,533,7],[533,8,533,9],[533,10,533,11],[533,12,533,13],[534,2,534,7],[534,8,534,9],[534,10,534,11],[534,12,534,13],[530,14,530,16],[531,2,531,7],[531,8,531,9],[531,10,531,11],[531,12,531,13],[532,2,532,7],[532,8,532,9],[532,10,532,11],[532,12,532,13],[527,2,527,3],[527,4,527,8],[527,9,527,13],[530,1,530,7],[530,8,530,9],[530,10,530,11],[530,12,530,13],[525,2,525,3],[525,4,525,8],[525,9,525,13],[526,2,526,3],[526,4,526,8],[526,9,526,13],[523,2,523,3],[523,4,523,8],[523,9,523,13],[524,2,524,3],[524,4,524,8],[524,9,524,13],[521,2,521,3],[521,4,521,8],[521,9,521,13],[522,2,522,3],[522,4,522,8],[522,9,522,13],[519,2,519,3],[519,4,519,8],[519,9,519,13],[520,2,520,3],[520,4,520,8],[520,9,520,13],[517,2,517,3],[517,4,517,8],[517,9,517,13],[518,2,518,3],[518,4,518,8],[518,9,518,13],[515,2,515,3],[515,4,515,8],[515,9,515,13],[516,2,516,3],[516,4,516,8],[516,9,516,13],[512,53,512,54],[513,2,513,3],[513,4,513,8],[513,9,513,13],[514,2,514,3],[514,4,514,8],[514,9,514,13],[509,5,509,11],[510,5,510,11],[512,2,512,3],[512,4,512,8],[512,9,512,13],[512,14,512,16],[502,12,502,13],[504,4,504,11],[505,5,505,11],[506,5,506,11],[507,5,507,11],[508,5,508,11],[437,2,437,7],[437,8,437,9],[437,10,437,11],[437,12,437,13],[500,1,500,17],[501,1,501,17],[435,2,435,7],[435,8,435,9],[435,10,435,11],[435,12,435,13],[436,2,436,7],[436,8,436,9],[436,10,436,11],[436,12,436,13],[433,2,433,7],[433,8,433,9],[433,10,433,11],[433,12,433,13],[434,2,434,7],[434,8,434,9],[434,10,434,11],[434,12,434,13],[430,14,430,16],[431,2,431,7],[431,8,431,9],[431,10,431,11],[431,12,431,13],[432,2,432,7],[432,8,432,9],[432,10,432,11],[432,12,432,13],[427,2,427,3],[427,4,427,8],[427,9,427,13],[430,1,430,7],[430,8,430,9],[430,10,430,11],[430,12,430,13],[425,2,425,3],[425,4,425,8],[425,9,425,13],[426,2,426,3],[426,4,426,8],[426,9,426,13],[423,2,423,3],[423,4,423,8],[423,9,423,13],[424,2,424,3],[424,4,424,8],[424,9,424,13],[421,2,421,3],[421,4,421,8],[421,9,421,13],[422,2,422,3],[422,4,422,8],[422,9,422,13],[419,2,419,3],[419,4,419,8],[419,9,419,13],[420,2,420,3],[420,4,420,8],[420,9,420,13],[417,2,417,3],[417,4,417,8],[417,9,417,13],[418,2,418,3],[418,4,418,8],[418,9,418,13],[415,2,415,3],[415,4,415,8],[415,9,415,13],[416,2,416,3],[416,4,416,8],[416,9,416,13],[412,53,412,54],[413,2,413,3],[413,4,413,8],[413,9,413,13],[414,2,414,3],[414,4,414,8],[414,9,414,13],[409,5,409,11],[410,5,410,11],[412,2,412,3],[412,4,412,8],[412,9,412,13],[412,14,412,16],[402,12,402,13],[404,4,404,11],[405,5,405,11],[406,5,406,11],[407,5,407,11],[408,5,408,11],[337,2,337,7],[337,8,337,9],[337,10,337,11],[337,12,337,13],[400,1,400,17],[401,1,401,17],[335,2,335,7],[335,8,335,9],[335,10,335,11],[335,12,335,13],[336,2,336,7],[336,8,336,9],[336,10,336,11],[336,12,336,13],[333,2,333,7],[333,8,333,9],[333,10,333,11],[333,12,333,13],[334,2,334,7],[334,8,334,9],[334,10,334,11],[334,12,334,13],[330,14,330,16],[331,2,331,7],[331,8,331,9],[331,10,331,11],[331,12,331,13],[332,2,332,7],[332,8,332,9],[332,10,332,11],[332,12,332,13],[327,2,327,3],[327,4,327,8],[327,9,327,13],[330,1,330,7],[330,8,330,9],[330,10,330,11],[330,12,330,13],[325,2,325,3],[325,4,325,8],[325,9,325,13],[326,2,326,3],[326,4,326,8],[326,9,326,13],[323,2,323,3],[323,4,323,8],[323,9,323,13],[324,2,324,3],[324,4,324,8],[324,9,324,13],[321,2,321,3],[321,4,321,8],[321,9,321,13],[322,2,322,3],[322,4,322,8],[322,9,322,13],[319,2,319,3],[319,4,319,8],[319,9,319,13],[320,2,320,3],[320,4,320,8],[320,9,320,13],[317,2,317,3],[317,4,317,8],[317,9,317,13],[318,2,318,3],[318,4,318,8],[318,9,318,13],[315,2,315,3],[315,4,315,8],[315,9,315,13],[316,2,316,3],[316,4,316,8],[316,9,316,13],[312,53,312,54],[313,2,313,3],[313,4,313,8],[313,9,313,13],[314,2,314,3],[314,4,314,8],[314,9,314,13],[309,5,309,11],[310,5,310,11],[312,2,312,3],[312,4,312,8],[312,9,312,13],[312,14,312,16],[302,12,302,13],[304,4,304,11],[305,5,305,11],[306,5,306,11],[307,5,307,11],[308,5,308,11],[237,2,237,7],[237,8,237,9],[237,10,237,11],[237,12,237,13],[300,1,300,17],[301,1,301,17],[235,2,235,7],[235,8,235,9],[235,10,235,11],[235,12,235,13],[236,2,236,7],[236,8,236,9],[236,10,236,11],[236,12,236,13],[233,2,233,7],[233,8,233,9],[233,10,233,11],[233,12,233,13],[234,2,234,7],[234,8,234,9],[234,10,234,11],[234,12,234,13],[230,14,230,16],[231,2,231,7],[231,8,231,9],[231,10,231,11],[231,12,231,13],[232,2,232,7],[232,8,232,9],[232,10,232,11],[232,12,232,13],[227,2,227,3],[227,4,227,8],[227,9,227,13],[230,1,230,7],[230,8,230,9],[230,10,230,11],[230,12,230,13],[225,2,225,3],[225,4,225,8],[225,9,225,13],[226,2,226,3],[226,4,226,8],[226,9,226,13],[223,2,223,3],[223,4,223,8],[223,9,223,13],[224,2,224,3],[224,4,224,8],[224,9,224,13],[221,2,221,3],[221,4,221,8],[221,9,221,13],[222,2,222,3],[222,4,222,8],[222,9,222,13],[219,2,219,3],[219,4,219,8],[219,9,219,13],[220,2,220,3],[220,4,220,8],[220,9,220,13],[217,2,217,3],[217,4,217,8],[217,9,217,13],[218,2,218,3],[218,4,218,8],[218,9,218,13],[215,2,215,3],[215,4,215,8],[215,9,215,13],[216,2,216,3],[216,4,216,8],[216,9,216,13],[212,53,212,54],[213,2,213,3],[213,4,213,8],[213,9,213,13],[214,2,214,3],[214,4,214,8],[214,9,214,13],[209,5,209,11],[210,5,210,11],[212,2,212,3],[212,4,212,8],[212,9,212,13],[212,14,212,16],[202,12,202,13],[204,4,204,11],[205,5,205,11],[206,5,206,11],[207,5,207,11],[208,5,208,11],[137,2,137,7],[137,8,137,9],[137,10,137,11],[137,12,137,13],[200,1,200,17],[201,1,201,17],[135,2,135,7],[135,8,135,9],[135,10,135,11],[135,12,135,13],[136,2,136,7],[136,8,136,9],[136,10,136,11],[136,12,136,13],[133,2,133,7],[133,8,133,9],[133,10,133,11],[133,12,133,13],[134,2,134,7],[134,8,134,9],[134,10,134,11],[134,12,134,13],[130,14,130,16],[131,2,131,7],[131,8,131,9],[131,10,131,11],[131,12,131,13],[132,2,132,7],[132,8,132,9],[132,10,132,11],[132,12,132,13],[127,2,127,3],[127,4,127,8],[127,9,127,13],[130,1,130,7],[130,8,130,9],[130,10,130,11],[130,12,130,13],[125,2,125,3],[125,4,125,8],[125,9,125,13],[126,2,126,3],[126,4,126,8],[126,9,126,13],[123,2,123,3],[123,4,123,8],[123,9,123,13],[124,2,124,3],[124,4,124,8],[124,9,124,13],[121,2,121,3],[121,4,121,8],[121,9,121,13],[122,2,122,3],[122,4,122,8],[122,9,122,13],[119,2,119,3],[119,4,119,8],[119,9,119,13],[120,2,120,3],[120,4,120,8],[120,9,120,13],[117,2,117,3],[117,4,117,8],[117,9,117,13],[118,2,118,3],[118,4,118,8],[118,9,118,13],[115,2,115,3],[115,4,115,8],[115,9,115,13],[116,2,116,3],[116,4,116,8],[116,9,116,13],[112,53,112,54],[113,2,113,3],[113,4,113,8],[113,9,113,13],[114,2,114,3],[114,4,114,8],[114,9,114,13],[109,5,109,11],[110,5,110,11],[112,2,112,3],[112,4,112,8],[112,9,112,13],[112,14,112,16],[102,12,102,13],[104,4,104,11],[105,5,105,11],[106,5,106,11],[107,5,107,11],[108,5,108,11],[37,2,37,7],[37,8,37,9],[37,10,37,11],[37,12,37,13],[100,1,100,17],[101,1,101,17],[35,2,35,7],[35,8,35,9],[35,10,35,11],[35,12,35,13],[36,2,36,7],[36,8,36,9],[36,10,36,11],[36,12,36,13],[33,2,33,7],[33,8,33,9],[33,10,33,11],[33,12,33,13],[34,2,34,7],[34,8,34,9],[34,10,34,11],[34,12,34,13],[30,14,30,16],[31,2,31,7],[31,8,31,9],[31,10,31,11],[31,12,31,13],[32,2,32,7],[32,8,32,9],[32,10,32,11],[32,12,32,13],[27,2,27,3],[27,4,27,8],[27,9,27,13],[30,1,30,7],[30,8,30,9],[30,10,30,11],[30,12,30,13],[25,2,25,3],[25,4,25,8],[25,9,25,13],[26,2,26,3],[26,4,26,8],[26,9,26,13],[23,2,23,3],[23,4,23,8],[23,9,23,13],[24,2,24,3],[24,4,24,8],[24,9,24,13],[21,2,21,3],[21,4,21,8],[21,9,21,13],[22,2,22,3],[22,4,22,8],[22,9,22,13],[19,2,19,3],[19,4,19,8],[19,9,19,13],[20,2,20,3],[20,4,20,8],[20,9,20,13],[17,2,17,3],[17,4,17,8],[17,9,17,13],[18,2,18,3],[18,4,18,8],[18,9,18,13],[15,2,15,3],[15,4,15,8],[15,9,15,13],[16,2,16,3],[16,4,16,8],[16,9,16,13],[12,14,12,16],[12,53,12,54],[13,2,13,3],[13,4,13,8],[13,9,13,13],[14,2,14,3],[14,4,14,8],[14,9,14,13],[7,5,7,11],[8,5,8,11],[9,5,9,11],[10,5,10,11],[12,2,12,3],[12,4,12,8],[12,9,12,13],[0,1,0,17],[1,1,1,17],[2,12,2,13],[4,4,4,11],[5,5,5,11],[6,5,6,11]]}
[null,"Zwischenrunde"]
[null,"Gruppe A"]
[null,null,"Beginn:",null,{"$f":"Vorgaben!G4","v":"08:45:00"},"Uhr","Spielzeit:",null,{"$f":"Vorgaben!G5","v":1},"x",{"$f":"Vorgaben!G6","v":6.9444444444444441E-3},"min.","Pause:",null,{"$f":"Vorgaben!G7","v":6.9444444444444447E-4},"Min."]
[null,null,null,null,null,null,null,null,null,null,null,null,null,"Halbzeit:",{"$f":"IF(Vorgaben!G5>1,Vorgaben!G8,0)","v":0},"Min."]
[null,null,null,null,"Mannschaften:"]
[null,null,null,null,"1.",{"$f":"'ZR Gruppeneinteilung'!B3","v":"Gruppe A7"}]
[null,null,null,null,"2.",{"$f":"'ZR Gruppeneinteilung'!B4","v":"Gruppe A4"}]
[null,null,null,null,"3.",{"$f":"'ZR Gruppeneinteilung'!B5","v":"Gruppe C5"}]
[null,null,null,null,"4.",{"$f":"'ZR Gruppeneinteilung'!B6","v":"Gruppe C8"}]
[null,null,null,null,"5.",{"$f":"'ZR Gruppeneinteilung'!B7","v":"Gruppe E2"}]
[null,null,null,null,"6.",{"$f":"'ZR Gruppeneinteilung'!B8","v":"Gruppe E3"}]
[]
[null,"Nr.","Beginn",null,"Mannschaft1",null,null,null,null,"Mannschaft2",null,null,null,null,"Ergebnis",null,null,"Platz",null,null,null,null,null,null,null,null,null,null,null,null,null,null,null,null,null,null,null,null,null,null,null,null,null,null,null,null,null,null,null,null,null,null,null,"Punkte"]
[null,{"$f":"Platzzuordnung!A4","v":1},{"$f":"IF(Vorgaben!C$1=24,Platzzuordnung!S14,IF(Vorgaben!C$1=30,Platzzuordnung!S14,IF(Vorgaben!C$1=36,Platzzuordnung!S14,Platzzuordnung!D4)))","v":"08:45:00"},{"$f":"Platzzuordnung!C19","v":"ZwRu2"},{"$f":"$F$6","v":"Gruppe A7"},null,null,null,null,{"$f":"$F$7","v":"Gruppe A4"},null,null,null,null,{"$f":"IF(ISBLANK(ZwRuA!O14),\"\",ZwRuA!O14)","v":2},":",{"$f":"IF(ISBLANK(ZwRuA!Q14),\"\",ZwRuA!Q14)","v":2},{"$f":"VLOOKUP(B14,Platzzuordnung!$A$4:$B$110,2,FALSE)","v":1},null,null,null,null,null,null,null,null,null,null,null,null,null,null,null,null,null,null,null,null,null,null,null,null,null,null,null,null,null,null,null,null,null,null,null,{"$f":"IF(ISBLANK(ZwRuA!O14),\"0\",IF(ZwRuA!O14>ZwRuA!Q14,3,IF(ZwRuA!O14=ZwRuA!Q14,1,0)))","v":1},{"$f":"IF(ISBLANK(ZwRuA!O14),\"0\",IF(ZwRuA!Q14>ZwRuA!O14,3,IF(ZwRuA!Q14=ZwRuA!O14,1,0)))","v":1},{"$f":"IF(ISBLANK(ZwRuA!O14),0,1)","v":1},{"$f":"IF(ISBLANK(ZwRuA!Q14),0,1)","v":1}]
[null,{"$f":"Platzzuordnung!A5","v":2},{"$f":"IF(Vorgaben!C$1=24,Platzzuordnung!S15,IF(Vorgaben!C$1=30,Platzzuordnung!S15,IF(Vorgaben!C$1=36,Platzzuordnung!S15,Platzzuordnung!D5)))","v":"08:56:00"},{"$f":"Platzzuordnung!C20","v":"ZwRu2"},{"$f":"$F$8","v":"Gruppe C5"},null,null,null,null,{"$f":"$F$9","v":"Gruppe C8"},null,null,null,null,{"$f":"IF(ISBLANK(ZwRuA!O15),\"\",ZwRuA!O15)","v":3},":",{"$f":"IF(ISBLANK(ZwRuA!Q15),\"\",ZwRuA!Q15)","v":2},{"$f":"VLOOKUP(B15,Platzzuordnung!$A$4:$B$110,2,FALSE)","v":1},null,null,null,null,null,null,null,null,null,null,null,null,null,null,null,null,null,null,null,null,null,null,null,null,null,null,null,null,null,null,null,null,null,null,null,{"$f":"IF(ISBLANK(ZwRuA!O15),\"0\",IF(ZwRuA!O15>ZwRuA!Q15,3,IF(ZwRuA!O15=ZwRuA!Q15,1,0)))","v":3},{"$f":"IF(ISBLANK(ZwRuA!O15),\"0\",IF(ZwRuA!Q15>ZwRuA!O15,3,IF(ZwRuA!Q15=ZwRuA!O15,1,0)))","v":0},{"$f":"IF(ISBLANK(ZwRuA!O15),0,1)","v":1},{"$f":"IF(ISBLANK(ZwRuA!Q15),0,1)","v":1}]
[null,{"$f":"Platzzuordnung!A6","v":3},{"$f":"IF(Vorgaben!C$1=24,Platzzuordnung!S16,IF(Vorgaben!C$1=30,Platzzuordnung!S16,IF(Vorgaben!C$1=36,Platzzuordnung!S16,Platzzuordnung!D6)))","v":"09:07:00"},{"$f":"Platzzuordnung!C21","v":"ZwRu2"},{"$f":"$F$10","v":"Gruppe E2"},null,null,null,null,{"$f":"$F$11","v":"Gruppe E3"},null,null,null,null,{"$f":"IF(ISBLANK(ZwRuA!O16),\"\",ZwRuA!O16)","v":2},":",{"$f":"IF(ISBLANK(ZwRuA!Q16),\"\",ZwRuA!Q16)","v":2},{"$f":"VLOOKUP(B16,Platzzuordnung!$A$4:$B$110,2,FALSE)","v":1},null,null,null,null,null,null,null,null,null,null,null,null,null,null,null,null,null,null,null,null,null,null,null,null,null,null,null,null,null,null,null,null,null,null,null,{"$f":"IF(ISBLANK(ZwRuA!O16),\"0\",IF(ZwRuA!O16>ZwRuA!Q16,3,IF(ZwRuA!O16=ZwRuA!Q16,1,0)))","v":1},{"$f":"IF(ISBLANK(ZwRuA!O16),\"0\",IF(ZwRuA!Q16>ZwRuA!O16,3,IF(ZwRuA!Q16=ZwRuA!O16,1,0)))","v":1},{"$f":"IF(ISBLANK(ZwRuA!O16),0,1)","v":1},{"$f":"IF(ISBLANK(ZwRuA!Q16),0,1)","v":1}]
[null,{"$f":"Platzzuordnung!A7","v":4},{"$f":"IF(Vorgaben!C$1=24,Platzzuordnung!S17,IF(Vorgaben!C$1=30,Platzzuordnung!S17,IF(Vorgaben!C$1=36,Platzzuordnung!S17,Platzzuordnung!D7)))","v":"09:18:00"},{"$f":"Platzzuordnung!C22","v":"ZwRu2"},{"$f":"$F$7","v":"Gruppe A4"},null,null,null,null,{"$f":"$F$8","v":"Gruppe C5"},null,null,null,null,{"$f":"IF(ISBLANK(ZwRuA!O17),\"\",ZwRuA!O17)","v":2},":",{"$f":"IF(ISBLANK(ZwRuA!Q17),\"\",ZwRuA!Q17)","v":2},{"$f":"VLOOKUP(B17,Platzzuordnung!$A$4:$B$110,2,FALSE)","v":1},null,null,null,null,null,null,null,null,null,null,null,null,null,null,null,null,null,null,null,null,null,null,null,null,null,null,null,null,null,null,null,null,null,null,null,{"$f":"IF(ISBLANK(ZwRuA!O17),\"0\",IF(ZwRuA!O17>ZwRuA!Q17,3,IF(ZwRuA!O17=ZwRuA!Q17,1,0)))","v":1},{"$f":"IF(ISBLANK(ZwRuA!O17),\"0\",IF(ZwRuA!Q17>ZwRuA!O17,3,IF(ZwRuA!Q17=ZwRuA!O17,1,0)))","v":1},{"$f":"IF(ISBLANK(ZwRuA!O17),0,1)","v":1},{"$f":"IF(ISBLANK(ZwRuA!Q17),0,1)","v":1}]
[null,{"$f":"Platzzuordnung!A8","v":5},{"$f":"IF(Vorgaben!C$1=24,Platzzuordnung!S18,IF(Vorgaben!C$1=30,Platzzuordnung!S18,IF(Vorgaben!C$1=36,Platzzuordnung!S18,Platzzuordnung!D8)))","v":"09:29:00"},{"$f":"Platzzuordnung!C23","v":"ZwRu2"},{"$f":"F$9","v":"Gruppe C8"},null,null,null,null,{"$f":"$F$10","v":"Gruppe E2"},null,null,null,null,{"$f":"IF(ISBLANK(ZwRuA!O18),\"\",ZwRuA!O18)","v":2},":",{"$f":"IF(ISBLANK(ZwRuA!Q18),\"\",ZwRuA!Q18)","v":2},{"$f":"VLOOKUP(B18,Platzzuordnung!$A$4:$B$110,2,FALSE)","v":1},null,null,null,null,null,null,null,null,null,null,null,null,null,null,null,null,null,null,null,null,null,null,null,null,null,null,null,null,null,null,null,null,null,null,null,{"$f":"IF(ISBLANK(ZwRuA!O18),\"0\",IF(ZwRuA!O18>ZwRuA!Q18,3,IF(ZwRuA!O18=ZwRuA!Q18,1,0)))","v":1},{"$f":"IF(ISBLANK(ZwRuA!O18),\"0\",IF(ZwRuA!Q18>ZwRuA!O18,3,IF(ZwRuA!Q18=ZwRuA!O18,1,0)))","v":1},{"$f":"IF(ISBLANK(ZwRuA!O18),0,1)","v":1},{"$f":"IF(ISBLANK(ZwRuA!Q18),0,1)","v":1}]
[null,{"$f":"Platzzuordnung!A9","v":6},{"$f":"IF(Vorgaben!C$1=24,Platzzuordnung!S19,IF(Vorgaben!C$1=30,Platzzuordnung!S19,IF(Vorgaben!C$1=36,Platzzuordnung!S19,Platzzuordnung!D9)))","v":"09:40:00"},{"$f":"Platzzuordnung!C24","v":"ZwRu2"},{"$f":"$F$6","v":"Gruppe A7"},null,null,null,null,{"$f":"$F$8","v":"Gruppe C5"},null,null,null,null,{"$f":"IF(ISBLANK(ZwRuA!O19),\"\",ZwRuA!O19)","v":2},":",{"$f":"IF(ISBLANK(ZwRuA!Q19),\"\",ZwRuA!Q19)","v":2},{"$f":"VLOOKUP(B19,Platzzuordnung!$A$4:$B$110,2,FALSE)","v":1},null,null,null,null,null,null,null,null,null,null,null,null,null,null,null,null,null,null,null,null,null,null,null,null,null,null,null,null,null,null,null,null,null,null,null,{"$f":"IF(ISBLANK(ZwRuA!O19),\"0\",IF(ZwRuA!O19>ZwRuA!Q19,3,IF(ZwRuA!O19=ZwRuA!Q19,1,0)))","v":1},{"$f":"IF(ISBLANK(ZwRuA!O19),\"0\",IF(ZwRuA!Q19>ZwRuA!O19,3,IF(ZwRuA!Q19=ZwRuA!O19,1,0)))","v":1},{"$f":"IF(ISBLANK(ZwRuA!O19),0,1)","v":1},{"$f":"IF(ISBLANK(ZwRuA!Q19),0,1)","v":1}]
[null,{"$f":"Platzzuordnung!A10","v":7},{"$f":"IF(Vorgaben!C$1=24,Platzzuordnung!S20,IF(Vorgaben!C$1=30,Platzzuordnung!S20,IF(Vorgaben!C$1=36,Platzzuordnung!S20,Platzzuordnung!D10)))","v":"09:51:00"},{"$f":"Platzzuordnung!C25","v":"ZwRu2"},{"$f":"$F$10","v":"Gruppe E2"},null,null,null,null,{"$f":"$F$7","v":"Gruppe A4"},null,null,null,null,{"$f":"IF(ISBLANK(ZwRuA!O20),\"\",ZwRuA!O20)","v":2},":",{"$f":"IF(ISBLANK(ZwRuA!Q20),\"\",ZwRuA!Q20)","v":2},{"$f":"VLOOKUP(B20,Platzzuordnung!$A$4:$B$110,2,FALSE)","v":1},null,null,null,null,null,null,null,null,null,null,null,null,null,null,null,null,null,null,null,null,null,null,null,null,null,null,null,null,null,null,null,null,null,null,null,{"$f":"IF(ISBLANK(ZwRuA!O20),\"0\",IF(ZwRuA!O20>ZwRuA!Q20,3,IF(ZwRuA!O20=ZwRuA!Q20,1,0)))","v":1},{"$f":"IF(ISBLANK(ZwRuA!O20),\"0\",IF(ZwRuA!Q20>ZwRuA!O20,3,IF(ZwRuA!Q20=ZwRuA!O20,1,0)))","v":1},{"$f":"IF(ISBLANK(ZwRuA!O20),0,1)","v":1},{"$f":"IF(ISBLANK(ZwRuA!Q20),0,1)","v":1}]
[null,{"$f":"Platzzuordnung!A11","v":8},{"$f":"IF(Vorgaben!C$1=24,Platzzuordnung!S21,IF(Vorgaben!C$1=30,Platzzuordnung!S21,IF(Vorgaben!C$1=36,Platzzuordnung!S21,Platzzuordnung!D11)))","v":"10:02:00"},{"$f":"Platzzuordnung!C26","v":"ZwRu2"},{"$f":"F$11","v":"Gruppe E3"},null,null,null,null,{"$f":"$F$6","v":"Gruppe A7"},null,null,null,null,{"$f":"IF(ISBLANK(ZwRuA!O21),\"\",ZwRuA!O21)","v":2},":",{"$f":"IF(ISBLANK(ZwRuA!Q21),\"\",ZwRuA!Q21)","v":2},{"$f":"VLOOKUP(B21,Platzzuordnung!$A$4:$B$110,2,FALSE)","v":1},null,null,null,null,null,null,null,null,null,null,null,null,null,null,null,null,null,null,null,null,null,null,null,null,null,null,null,null,null,null,null,null,null,null,null,{"$f":"IF(ISBLANK(ZwRuA!O21),\"0\",IF(ZwRuA!O21>ZwRuA!Q21,3,IF(ZwRuA!O21=ZwRuA!Q21,1,0)))","v":1},{"$f":"IF(ISBLANK(ZwRuA!O21),\"0\",IF(ZwRuA!Q21>ZwRuA!O21,3,IF(ZwRuA!Q21=ZwRuA!O21,1,0)))","v":1},{"$f":"IF(ISBLANK(ZwRuA!O21),0,1)","v":1},{"$f":"IF(ISBLANK(ZwRuA!Q21),0,1)","v":1}]
[null,{"$f":"Platzzuordnung!A12","v":9},{"$f":"IF(Vorgaben!C$1=24,Platzzuordnung!S22,IF(Vorgaben!C$1=30,Platzzuordnung!S22,IF(Vorgaben!C$1=36,Platzzuordnung!S22,Platzzuordnung!D12)))","v":"10:13:00"},{"$f":"Platzzuordnung!C27","v":"ZwRu2"},{"$f":"$F$8","v":"Gruppe C5"},null,null,null,null,{"$f":"$F$10","v":"Gruppe E2"},null,null,null,null,{"$f":"IF(ISBLANK(ZwRuA!O22),\"\",ZwRuA!O22)","v":2},":",{"$f":"IF(ISBLANK(ZwRuA!Q22),\"\",ZwRuA!Q22)","v":2},{"$f":"VLOOKUP(B22,Platzzuordnung!$A$4:$B$110,2,FALSE)","v":1},null,null,null,null,null,null,null,null,null,null,null,null,null,null,null,null,null,null,null,null,null,null,null,null,null,null,null,null,null,null,null,null,null,null,null,{"$f":"IF(ISBLANK(ZwRuA!O22),\"0\",IF(ZwRuA!O22>ZwRuA!Q22,3,IF(ZwRuA!O22=ZwRuA!Q22,1,0)))","v":1},{"$f":"IF(ISBLANK(ZwRuA!O22),\"0\",IF(ZwRuA!Q22>ZwRuA!O22,3,IF(ZwRuA!Q22=ZwRuA!O22,1,0)))","v":1},{"$f":"IF(ISBLANK(ZwRuA!O22),0,1)","v":1},{"$f":"IF(ISBLANK(ZwRuA!Q22),0,1)","v":1}]
[null,{"$f":"Platzzuordnung!A13","v":10},{"$f":"IF(Vorgaben!C$1=24,Platzzuordnung!S23,IF(Vorgaben!C$1=30,Platzzuordnung!S23,IF(Vorgaben!C$1=36,Platzzuordnung!S23,Platzzuordnung!D13)))","v":"10:24:00"},{"$f":"Platzzuordnung!C28","v":"ZwRu2"},{"$f":"$F$9","v":"Gruppe C8"},null,null,null,null,{"$f":"$F$11","v":"Gruppe E3"},null,null,null,null,{"$f":"IF(ISBLANK(ZwRuA!O23),\"\",ZwRuA!O23)","v":2},":",{"$f":"IF(ISBLANK(ZwRuA!Q23),\"\",ZwRuA!Q23)","v":2},{"$f":"VLOOKUP(B23,Platzzuordnung!$A$4:$B$110,2,FALSE)","v":1},null,null,null,null,null,null,null,null,null,null,null,null,null,null,null,null,null,null,null,null,null,null,null,null,null,null,null,null,null,null,null,null,null,null,null,{"$f":"IF(ISBLANK(ZwRuA!O23),\"0\",IF(ZwRuA!O23>ZwRuA!Q23,3,IF(ZwRuA!O23=ZwRuA!Q23,1,0)))","v":1},{"$f":"IF(ISBLANK(ZwRuA!O23),\"0\",IF(ZwRuA!Q23>ZwRuA!O23,3,IF(ZwRuA!Q23=ZwRuA!O23,1,0)))","v":1},{"$f":"IF(ISBLANK(ZwRuA!O23),0,1)","v":1},{"$f":"IF(ISBLANK(ZwRuA!Q23),0,1)","v":1}]
[null,{"$f":"Platzzuordnung!A14","v":11},{"$f":"IF(Vorgaben!C$1=24,Platzzuordnung!S24,IF(Vorgaben!C$1=30,Platzzuordnung!S24,IF(Vorgaben!C$1=36,Platzzuordnung!S24,Platzzuordnung!D14)))","v":"10:35:00"},{"$f":"Platzzuordnung!C29","v":"ZwRu2"},{"$f":"F$6","v":"Gruppe A7"},null,null,null,null,{"$f":"$F$10","v":"Gruppe E2"},null,null,null,null,{"$f":"IF(ISBLANK(ZwRuA!O24),\"\",ZwRuA!O24)","v":2},":",{"$f":"IF(ISBLANK(ZwRuA!Q24),\"\",ZwRuA!Q24)","v":2},{"$f":"VLOOKUP(B24,Platzzuordnung!$A$4:$B$110,2,FALSE)","v":1},null,null,null,null,null,null,null,null,null,null,null,null,null,null,null,null,null,null,null,null,null,null,null,null,null,null,null,null,null,null,null,null,null,null,null,{"$f":"IF(ISBLANK(ZwRuA!O24),\"0\",IF(ZwRuA!O24>ZwRuA!Q24,3,IF(ZwRuA!O24=ZwRuA!Q24,1,0)))","v":1},{"$f":"IF(ISBLANK(ZwRuA!O24),\"0\",IF(ZwRuA!Q24>ZwRuA!O24,3,IF(ZwRuA!Q24=ZwRuA!O24,1,0)))","v":1},{"$f":"IF(ISBLANK(ZwRuA!O24),0,1)","v":1},{"$f":"IF(ISBLANK(ZwRuA!Q24),0,1)","v":1}]
[null,{"$f":"Platzzuordnung!A15","v":12},{"$f":"IF(Vorgaben!C$1=24,Platzzuordnung!S25,IF(Vorgaben!C$1=30,Platzzuordnung!S25,IF(Vorgaben!C$1=36,Platzzuordnung!S25,Platzzuordnung!D15)))","v":"10:46:00"},{"$f":"Platzzuordnung!C30","v":"ZwRu2"},{"$f":"$F$11","v":"Gruppe E3"},null,null,null,null,{"$f":"$F$7","v":"Gruppe A4"},null,null,null,null,{"$f":"IF(ISBLANK(ZwRuA!O25),\"\",ZwRuA!O25)","v":2},":",{"$f":"IF(ISBLANK(ZwRuA!Q25),\"\",ZwRuA!Q25)","v":2},{"$f":"VLOOKUP(B25,Platzzuordnung!$A$4:$B$110,2,FALSE)","v":1},null,null,null,null,null,null,null,null,null,null,null,null,null,null,null,null,null,null,null,null,null,null,null,null,null,null,null,null,null,null,null,null,null,null,null,{"$f":"IF(ISBLANK(ZwRuA!O25),\"0\",IF(ZwRuA!O25>ZwRuA!Q25,3,IF(ZwRuA!O25=ZwRuA!Q25,1,0)))","v":1},{"$f":"IF(ISBLANK(ZwRuA!O25),\"0\",IF(ZwRuA!Q25>ZwRuA!O25,3,IF(ZwRuA!Q25=ZwRuA!O25,1,0)))","v":1},{"$f":"IF(ISBLANK(ZwRuA!O25),0,1)","v":1},{"$f":"IF(ISBLANK(ZwRuA!Q25),0,1)","v":1}]
[null,{"$f":"Platzzuordnung!A16","v":13},{"$f":"IF(Vorgaben!C$1=24,Platzzuordnung!S26,IF(Vorgaben!C$1=30,Platzzuordnung!S26,IF(Vorgaben!C$1=36,Platzzuordnung!S26,Platzzuordnung!D16)))","v":"10:57:00"},{"$f":"Platzzuordnung!C31","v":"ZwRu2"},{"$f":"$F$9","v":"Gruppe C8"},null,null,null,null,{"$f":"$F$6","v":"Gruppe A7"},null,null,null,null,{"$f":"IF(ISBLANK(ZwRuA!O26),\"\",ZwRuA!O26)","v":2},":",{"$f":"IF(ISBLANK(ZwRuA!Q26),\"\",ZwRuA!Q26)","v":2},{"$f":"VLOOKUP(B26,Platzzuordnung!$A$4:$B$110,2,FALSE)","v":1},null,null,null,null,null,null,null,null,null,null,null,null,null,null,null,null,null,null,null,null,null,null,null,null,null,null,null,null,null,null,null,null,null,null,null,{"$f":"IF(ISBLANK(ZwRuA!O26),\"0\",IF(ZwRuA!O26>ZwRuA!Q26,3,IF(ZwRuA!O26=ZwRuA!Q26,1,0)))","v":1},{"$f":"IF(ISBLANK(ZwRuA!O26),\"0\",IF(ZwRuA!Q26>ZwRuA!O26,3,IF(ZwRuA!Q26=ZwRuA!O26,1,0)))","v":1},{"$f":"IF(ISBLANK(ZwRuA!O26),0,1)","v":1},{"$f":"IF(ISBLANK(ZwRuA!Q26),0,1)","v":1}]
[null,{"$f":"Platzzuordnung!A17","v":14},{"$f":"IF(Vorgaben!C$1=24,Platzzuordnung!S27,IF(Vorgaben!C$1=30,Platzzuordnung!S27,IF(Vorgaben!C$1=36,Platzzuordnung!S27,Platzzuordnung!D17)))","v":"11:08:00"},{"$f":"Platzzuordnung!C32","v":"ZwRu2"},{"$f":"$F$8","v":"Gruppe C5"},null,null,null,null,{"$f":"$F$11","v":"Gruppe E3"},null,null,null,null,{"$f":"IF(ISBLANK(ZwRuA!O27),\"\",ZwRuA!O27)","v":2},":",{"$f":"IF(ISBLANK(ZwRuA!Q27),\"\",ZwRuA!Q27)","v":2},{"$f":"VLOOKUP(B27,Platzzuordnung!$A$4:$B$110,2,FALSE)","v":1},null,null,null,null,null,null,null,null,null,null,null,null,null,null,null,null,null,null,null,null,null,null,null,null,null,null,null,null,null,null,null,null,null,null,null,{"$f":"IF(ISBLANK(ZwRuA!O27),\"0\",IF(ZwRuA!O27>ZwRuA!Q27,3,IF(ZwRuA!O27=ZwRuA!Q27,1,0)))","v":1},{"$f":"IF(ISBLANK(ZwRuA!O27),\"0\",IF(ZwRuA!Q27>ZwRuA!O27,3,IF(ZwRuA!Q27=ZwRuA!O27,1,0)))","v":1},{"$f":"IF(ISBLANK(ZwRuA!O27),0,1)","v":1},{"$f":"IF(ISBLANK(ZwRuA!Q27),0,1)","v":1}]
[null,{"$f":"Platzzuordnung!A18","v":15},{"$f":"IF(Vorgaben!C$1=24,Platzzuordnung!S28,IF(Vorgaben!C$1=30,Platzzuordnung!S28,IF(Vorgaben!C$1=36,Platzzuordnung!S28,Platzzuordnung!D18)))","v":"11:19:00"},{"$f":"Platzzuordnung!C33","v":"ZwRu2"},{"$f":"$F$7","v":"Gruppe A4"},null,null,null,null,{"$f":"$F$9","v":"Gruppe C8"},null,null,null,null,{"$f":"IF(ISBLANK(ZwRuA!O28),\"\",ZwRuA!O28)","v":3},":",{"$f":"IF(ISBLANK(ZwRuA!Q28),\"\",ZwRuA!Q28)","v":3},{"$f":"VLOOKUP(B28,Platzzuordnung!$A$4:$B$110,2,FALSE)","v":1},null,null,null,null,null,null,null,null,null,null,null,null,null,null,null,null,null,null,null,null,null,null,null,null,null,null,null,null,null,null,null,null,null,null,null,{"$f":"IF(ISBLANK(ZwRuA!O28),\"0\",IF(ZwRuA!O28>ZwRuA!Q28,3,IF(ZwRuA!O28=ZwRuA!Q28,1,0)))","v":1},{"$f":"IF(ISBLANK(ZwRuA!O28),\"0\",IF(ZwRuA!Q28>ZwRuA!O28,3,IF(ZwRuA!Q28=ZwRuA!O28,1,0)))","v":1},{"$f":"IF(ISBLANK(ZwRuA!O28),0,1)","v":1},{"$f":"IF(ISBLANK(ZwRuA!Q28),0,1)","v":1}]
[null,null,null,null,null,null,null,null,null,null,null,null,null,null,null,null,null,null,null,null,null,null,null,null,null,null,null,null,null,null,null,null,null,null,null,null,null,null,null,null,null,null,null,null,null,null,null,null,null,null,null,null,null,null,null,{"$f":"IF(BD31=\"Min. 3 Teams identisch.  HANDSORTIERUNG!\",BD31,IF(BD31=\"ACHTUNG! Direkter Vergleich war unentschieden!\",BD31,BD30))","v":"Min. 3 Teams identisch.  HANDSORTIERUNG!"}]
[null,null,null,null,null,null,null,null,null,null,null,null,null,null,null,null,null,null,null,null,null,null,null,null,null,null,null,null,null,null,null,null,null,null,null,null,null,null,null,null,null,null,null,null,null,null,null,null,null,null,null,null,null,null,null,{"$f":"IF(AND(EXACT(BF33,BF34),EXACT(BG33,BG34),EXACT(BI33,BI34)),\"ACHTUNG: Direkter Vergleich erfolgreich durchlaufen!\",IF(AND(EXACT(BF34,BF35),EXACT(BG34,BG35),EXACT(BI34,BI35)),\"ACHTUNG: Direkter Vergleich erfolgreich durchlaufen!\",IF(AND(EXACT(BF35,BF36),EXACT(BG35,BG36),EXACT(BI35,BI36)),\"ACHTUNG: Direkter Vergleich erfolgreich durchlaufen!\",IF(AND(EXACT(BF36,BF37),EXACT(BG36,BG37),EXACT(BI36,BI37)),\"ACHTUNG: Direkter Vergleich erfolgreich durchlaufen!\",IF(AND(EXACT(BF37,BF38),EXACT(BG37,BG38),EXACT(BI37,BI38)),\"ACHTUNG: Direkter Vergleich erfolgreich durchlaufen!\",\"\")))))","v":"ACHTUNG: Direkter Vergleich erfolgreich durchlaufen!"}]
[null,"Tabelle",null,null,null,null,null,null,"Spiele",null,"Punkte",null,"Differenz",null,"Tore",null,null,null,null,null,null,null,null,null,null,null,null,null,null,null,null,null,null,null,null,null,null,null,null,null,null,null,null,null,null,null,null,null,null,null,null,null,null,null,null,{"$f":"IF(OR(BS33=3,BS34=3,BS35=3,BS36=3,BS37=3,BS38=3),\"Min. 3 Teams identisch.  HANDSORTIERUNG!\",IF(OR(BR33=\"ACHTUNG! Direkter Vergleich war unentschieden!\",BR34=\"ACHTUNG! Direkter Vergleich war unentschieden!\",BR35=\"ACHTUNG! Direkter Vergleich war unentschieden!\",BR36=\"ACHTUNG! Direkter Vergleich war unentschieden!\",BR37=\"ACHTUNG! Direkter Vergleich war unentschieden!\",BR38=\"ACHTUNG! Direkter Vergleich war unentschieden!\"),\"ACHTUNG! Direkter Vergleich war unentschieden!\",\"\"))","v":"Min. 3 Teams identisch.  HANDSORTIERUNG!"}]
[null,1,{"$f":"BD33","v":"Gruppe C5"},null,null,null,null,null,{"$f":"BE33","v":5},null,{"$f":"BF33","v":7},null,{"$f":"BI33","v":1},null,{"$f":"BG33","v":11},":",{"$f":"BH33","v":10},null,null,null,null,null,null,null,null,null,null,null,null,null,null,null,null,null,null,null,null,null,null,null,null,null,null,null,null,null,null,null,null,null,null,null,null,null,null,"Mannschaft","Spiele","Punkte","Tore+","Tore-","Diff"]
[null,2,{"$f":"BD34","v":"Gruppe A4"},null,null,null,null,null,{"$f":"BE34","v":5},null,{"$f":"BF34","v":5},null,{"$f":"BI34","v":0},null,{"$f":"BG34","v":11},":",{"$f":"BH34","v":11},null,null,null,null,null,null,null,null,null,null,null,null,null,null,null,null,null,null,null,null,null,null,null,null,null,null,null,null,null,null,null,null,null,null,null,null,null,{"$f":"INDEX('ZR Gruppeneinteilung'!$B$3:$C$8,MATCH(BD33,'ZR Gruppeneinteilung'!$B$3:$B$8,0),2)","v":0},{"$f":"F$8","v":"Gruppe C5"},{"$f":"SUMIF($E$14:$I$28,$BD33,$BD$14:$BD$28)+SUMIF($J$14:$N$28,$BD33,$BE$14:$BE$28)","v":5},{"$f":"SUMIF($E$14:$I$28,$BD33,$BB$14:$BB$28)+SUMIF($J$14:$N$28,$BD33,$BC$14:$BC$28)","v":7},{"$f":"SUMIF($E$14:$I$28,$BD33,$O$14:$O$28)+SUMIF($J$14:$N$28,$BD33,Q$14:$Q$28)","v":11},{"$f":"SUMIF($E$14:$I$28,$BD33,$Q$14:$Q$28)+SUMIF($J$14:$N$28,$BD33,$O$14:$O$28)","v":10},{"$f":"BG33-BH33","v":1},{"$f":"BL33","v":0},null,{"$f":"IF(BN33>BO34,10,IF(BN33<BO34,-10,0))","v":0},null,{"$f":"IF(ISNA(INDEX(BB$14:BB$28,MATCH(BD33&BD34,E$14:E$28&J$14:J$28,0))),INDEX(BC$14:BC$28,MATCH(BD34&BD33,E$14:E$28&J$14:J$28,0)),INDEX(BB$14:BB$28,MATCH(BD33&BD34,E$14:E$28&J$14:J$28,0)))","v":1},null,{"$f":"IF(AND(EXACT(BF33,BF34),EXACT(BG33,BG34),EXACT(BI33,BI34),EXACT(BN33,BO34)),\"ACHTUNG! Direkter Vergleich war unentschieden!\",IF(AND(EXACT(BF33,BF34),EXACT(BG33,BG34),EXACT(BI33,BI34)),1,2))","v":2},null,{"$f":"IF(OR(BP33=\"ACHTUNG! Direkter Vergleich war unentschieden!\",BQ33=\"ACHTUNG! Direkter Vergleich war unentschieden!\"),\"ACHTUNG! Direkter Vergleich war unentschieden!\",\"\")","v":""},{"$f":"IF(OR(AND(EXACT(BE33,BE34),EXACT(BF33,BF34),EXACT(BI33,BI34),EXACT(BE33,BE35),EXACT(BF33,BF35),EXACT(BI33,BI35)),AND(EXACT(BE33,BE34),EXACT(BF33,BF34),EXACT(BI33,BI34),EXACT(BE33,BE32),EXACT(BF33,BF32),EXACT(BI33,BI32))*AND(EXACT(BE33,BE31),EXACT(BF33,BF31),EXACT(BI33,BI31),EXACT(BE33,BE32),EXACT(BF33,BF32),EXACT(BI33,BI32))),3,1)","v":1}]
[null,3,"Gruppe A7",null,null,null,null,null,5,null,5,null,0,null,10,":",10,null,null,null,null,null,null,null,null,null,null,null,null,null,null,null,null,null,null,null,null,null,null,null,null,null,null,null,null,null,null,null,null,null,null,null,null,null,{"$f":"INDEX('ZR Gruppeneinteilung'!$B$3:$C$8,MATCH(BD34,'ZR Gruppeneinteilung'!$B$3:$B$8,0),2)","v":0},{"$f":"F$7","v":"Gruppe A4"},5,5,{"$f":"SUMIF($E$14:$I$28,$BD34,$O$14:$O$28)+SUMIF($J$14:$N$28,$BD34,Q$14:$Q$28)","v":11},11,0,{"$f":"BL34","v":0},{"$f":"BM34","v":0},{"$f":"IF(BN33<BO34,10,IF(BN33>BO34,-10,0))","v":0},{"$f":"IF(BN34>BO35,10,IF(BN34<BO35,-10,0))","v":0},{"$f":"IF(ISNA(INDEX(BB$14:BB$28,MATCH(BD34&BD35,E$14:E$28&J$14:J$28,0))),INDEX(BC$14:BC$28,MATCH(BD35&BD34,E$14:E$28&J$14:J$28,0)),INDEX(BB$14:BB$28,MATCH(BD34&BD35,E$14:E$28&J$14:J$28,0)))","v":1},{"$f":"IF(ISNA(INDEX(BB$14:BB$28,MATCH(BD34&BD33,E$14:E$28&J$14:J$28,0))),INDEX(BC$14:BC$28,MATCH(BD33&BD34,E$14:E$28&J$14:J$28,0)),INDEX(BB$14:BB$28,MATCH(BD34&BD33,E$14:E$28&J$14:J$28,0)))","v":1},2,{"$f":"IF(AND(EXACT(BF33,BF34),EXACT(BG33,BG34),EXACT(BI33,BI34),EXACT(BO34,BN33)),\"ACHTUNG! Direkter Vergleich war unentschieden!\",IF(AND(EXACT(BF33,BF34),EXACT(BG33,BG34),EXACT(BI33,BI34)),1,2))","v":2},"",3]
[null,4,"Gruppe E2",null,null,null,null,null,5,null,5,null,0,null,10,":",10,null,null,null,null,null,null,null,null,null,null,null,null,null,null,null,null,null,null,null,null,null,null,null,null,null,null,null,null,null,null,null,null,null,null,null,null,null,{"$f":"INDEX('ZR Gruppeneinteilung'!$B$3:$C$8,MATCH(BD35,'ZR Gruppeneinteilung'!$B$3:$B$8,0),2)","v":0},{"$f":"F$6","v":"Gruppe A7"},5,5,{"$f":"SUMIF($E$14:$I$28,$BD35,$O$14:$O$28)+SUMIF($J$14:$N$28,$BD35,Q$14:$Q$28)","v":10},10,0,{"$f":"BL35","v":0},0,{"$f":"IF(BN34<BO35,10,IF(BN34>BO35,-10,0))","v":0},{"$f":"IF(BN35>BO36,10,IF(BN35<BO36,-10,0))","v":0},{"$f":"IF(ISNA(INDEX(BB$14:BB$28,MATCH(BD35&BD36,E$14:E$28&J$14:J$28,0))),INDEX(BC$14:BC$28,MATCH(BD36&BD35,E$14:E$28&J$14:J$28,0)),INDEX(BB$14:BB$28,MATCH(BD35&BD36,E$14:E$28&J$14:J$28,0)))","v":1},{"$f":"IF(ISNA(INDEX(BB$14:BB$28,MATCH(BD35&BD34,E$14:E$28&J$14:J$28,0))),INDEX(BC$14:BC$28,MATCH(BD34&BD35,E$14:E$28&J$14:J$28,0)),INDEX(BB$14:BB$28,MATCH(BD35&BD34,E$14:E$28&J$14:J$28,0)))","v":1},"ACHTUNG! Direkter Vergleich war unentschieden!",{"$f":"IF(AND(EXACT(BF34,BF35),EXACT(BG34,BG35),EXACT(BI34,BI35),EXACT(BO35,BN34)),\"ACHTUNG! Direkter Vergleich war unentschieden!\",IF(AND(EXACT(BF34,BF35),EXACT(BG34,BG35),EXACT(BI34,BI35)),1,2))","v":2},"ACHTUNG! Direkter Vergleich war unentschieden!",{"$f":"IF(OR(AND(EXACT(BE35,BE36),EXACT(BF35,BF36),EXACT(BI35,BI36),EXACT(BE35,BE37),EXACT(BF35,BF37),EXACT(BI35,BI37)),AND(EXACT(BE35,BE36),EXACT(BF35,BF36),EXACT(BI35,BI36),EXACT(BE35,BE34),EXACT(BF35,BF34),EXACT(BI35,BI34))*AND(EXACT(BE35,BE33),EXACT(BF35,BF33),EXACT(BI35,BI33),EXACT(BE35,BE34),EXACT(BF35,BF34),EXACT(BI35,BI34))),3,1)","v":3}]
[null,5,"Gruppe E3",null,null,null,null,null,5,null,5,null,0,null,10,":",10,null,null,null,null,null,null,null,null,null,null,null,null,null,null,null,null,null,null,null,null,null,null,null,null,null,null,null,null,null,null,null,null,null,null,null,null,null,{"$f":"INDEX('ZR Gruppeneinteilung'!$B$3:$C$8,MATCH(BD36,'ZR Gruppeneinteilung'!$B$3:$B$8,0),2)","v":0},{"$f":"F$10","v":"Gruppe E2"},5,5,{"$f":"SUMIF($E$14:$I$28,$BD36,$O$14:$O$28)+SUMIF($J$14:$N$28,$BD36,Q$14:$Q$28)","v":10},10,0,0,0,{"$f":"IF(BN35<BO36,10,IF(BN35>BO36,-10,0))","v":0},{"$f":"IF(BN35<BO36,10,IF(BN35>BO36,-10,0))","v":0},{"$f":"IF(ISNA(INDEX(BB$14:BB$28,MATCH(BD36&BD37,E$14:E$28&J$14:J$28,0))),INDEX(BC$14:BC$28,MATCH(BD37&BD36,E$14:E$28&J$14:J$28,0)),INDEX(BB$14:BB$28,MATCH(BD36&BD37,E$14:E$28&J$14:J$28,0)))","v":1},{"$f":"IF(ISNA(INDEX(BB$14:BB$28,MATCH(BD36&BD35,E$14:E$28&J$14:J$28,0))),INDEX(BC$14:BC$28,MATCH(BD35&BD36,E$14:E$28&J$14:J$28,0)),INDEX(BB$14:BB$28,MATCH(BD36&BD35,E$14:E$28&J$14:J$28,0)))","v":1},"ACHTUNG! Direkter Vergleich war unentschieden!","ACHTUNG! Direkter Vergleich war unentschieden!","ACHTUNG! Direkter Vergleich war unentschieden!",{"$f":"IF(OR(AND(EXACT(BE36,BE37),EXACT(BF36,BF37),EXACT(BI36,BI37),EXACT(BE36,BE38),EXACT(BF36,BF38),EXACT(BI36,BI38)),AND(EXACT(BE36,BE37),EXACT(BF36,BF37),EXACT(BI36,BI37),EXACT(BE36,BE35),EXACT(BF36,BF35),EXACT(BI36,BI35))*AND(EXACT(BE36,BE34),EXACT(BF36,BF34),EXACT(BI36,BI34),EXACT(BE36,BE35),EXACT(BF36,BF35),EXACT(BI36,BI35))),3,1)","v":3}]
[null,6,"Gruppe C8",null,null,null,null,null,5,null,4,null,-1,null,11,":",12,null,null,null,null,null,null,null,null,null,null,null,null,null,null,null,null,null,null,null,null,null,null,null,null,null,null,null,null,null,null,null,null,null,null,null,null,null,{"$f":"INDEX('ZR Gruppeneinteilung'!$B$3:$C$8,MATCH(BD37,'ZR Gruppeneinteilung'!$B$3:$B$8,0),2)","v":0},{"$f":"F$11","v":"Gruppe E3"},5,5,{"$f":"SUMIF($E$14:$I$28,$BD37,$O$14:$O$28)+SUMIF($J$14:$N$28,$BD37,Q$14:$Q$28)","v":10},10,0,0,0,{"$f":"IF(BN36<BO37,10,IF(BN36>BO37,-10,0))","v":0},{"$f":"IF(BN37>BO38,10,IF(BN37<BO38,-10,0))","v":0},{"$f":"IF(ISNA(INDEX(BB$14:BB$28,MATCH(BD37&BD38,E$14:E$28&J$14:J$28,0))),INDEX(BC$14:BC$28,MATCH(BD38&BD37,E$14:E$28&J$14:J$28,0)),INDEX(BB$14:BB$28,MATCH(BD37&BD38,E$14:E$28&J$14:J$28,0)))","v":1},{"$f":"IF(ISNA(INDEX(BB$14:BB$28,MATCH(BD37&BD36,E$14:E$28&J$14:J$28,0))),INDEX(BC$14:BC$28,MATCH(BD36&BD37,E$14:E$28&J$14:J$28,0)),INDEX(BB$14:BB$28,MATCH(BD37&BD36,E$14:E$28&J$14:J$28,0)))","v":1},{"$f":"IF(AND(EXACT(BF37,BF38),EXACT(BG37,BG38),EXACT(BI37,BI38),EXACT(BN37,BO38)),\"ACHTUNG! Direkter Vergleich war unentschieden!\",IF(AND(EXACT(BF37,BF38),EXACT(BG37,BG38),EXACT(BI37,BI38)),1,2))","v":2},"ACHTUNG! Direkter Vergleich war unentschieden!","ACHTUNG! Direkter Vergleich war unentschieden!",1]
[null,null,null,null,null,null,null,null,null,null,null,null,null,null,null,null,null,null,null,null,null,null,null,null,null,null,null,null,null,null,null,null,null,null,null,null,null,null,null,null,null,null,null,null,null,null,null,null,null,null,null,null,null,null,{"$f":"INDEX('ZR Gruppeneinteilung'!$B$3:$C$8,MATCH(BD38,'ZR Gruppeneinteilung'!$B$3:$B$8,0),2)","v":0},{"$f":"F$9","v":"Gruppe C8"},5,4,{"$f":"SUMIF($E$14:$I$28,$BD38,$O$14:$O$28)+SUMIF($J$14:$N$28,$BD38,Q$14:$Q$28)","v":11},12,-1,0,0,{"$f":"IF(BN37<BO38,10,IF(BN37>BO38,-10,0))","v":0},{"$f":"IF(BN37<BO38,10,IF(BN37>BO38,-10,0))","v":0},null,{"$f":"IF(ISNA(INDEX(BB$14:BB$28,MATCH(BD38&BD37,E$14:E$28&J$14:J$28,0))),INDEX(BC$14:BC$28,MATCH(BD37&BD38,E$14:E$28&J$14:J$28,0)),INDEX(BB$14:BB$28,MATCH(BD38&BD37,E$14:E$28&J$14:J$28,0)))","v":1},null,2,"",1]
[]
[]
[]
[]
[]
[]
[]
[]
[]
[]
[]
[]
[]
[]
[]
[]
[]
[]
[]
[]
[]
[]
[]
[]
[]
[]
[]
[]
[]
[]
[]
[]
[]
[]
[]
[]
[]
[]
[]
[]
[]
[]
[]
[]
[]
[]
[]
[]
[]
[]
[]
[]
[]
[]
[]
[]
[]
[]
[]
[]
[]
[]
[null,"Zwischenrunde"]
[null,"Gruppe B"]
[null,null,"Beginn:",null,{"$f":"Vorgaben!G4","v":"08:45:00"},"Uhr","Spielzeit:",null,{"$f":"Vorgaben!G5","v":1},"x",{"$f":"Vorgaben!G6","v":6.9444444444444441E-3},"min.","Pause:",null,{"$f":"Vorgaben!G7","v":6.9444444444444447E-4},"Min."]
[null,null,null,null,null,null,null,null,null,null,null,null,null,"Halbzeit:",{"$f":"IF(Vorgaben!G5>1,Vorgaben!G8,0)","v":0},"Min."]
[null,null,null,null,"Mannschaften:"]
[null,null,null,null,"1.",{"$f":"'ZR Gruppeneinteilung'!F3","v":"Gruppe B3"}]
[null,null,null,null,"2.",{"$f":"'ZR Gruppeneinteilung'!F4","v":"Gruppe B1"}]
[null,null,null,null,"3.",{"$f":"'ZR Gruppeneinteilung'!F5","v":"Gruppe D8"}]
[null,null,null,null,"4.",{"$f":"'ZR Gruppeneinteilung'!F6","v":"Gruppe D7"}]
[null,null,null,null,"5.",{"$f":"'ZR Gruppeneinteilung'!F7","v":"Gruppe F8"}]
[null,null,null,null,"6.",{"$f":"'ZR Gruppeneinteilung'!F8","v":"Gruppe F5"}]
[]
[null,"Nr.","Beginn",null,"Mannschaft1",null,null,null,null,"Mannschaft2",null,null,null,null,"Ergebnis",null,null,"Platz",null,null,null,null,null,null,null,null,null,null,null,null,null,null,null,null,null,null,null,null,null,null,null,null,null,null,null,null,null,null,null,null,null,null,null,"Punkte"]
[null,{"$f":"Platzzuordnung!A19","v":16},{"$f":"IF(Vorgaben!C$1=24,Platzzuordnung!S14,IF(Vorgaben!C$1=30,Platzzuordnung!S14,IF(Vorgaben!C$1=36,Platzzuordnung!S14,Platzzuordnung!D19)))","v":"08:45:00"},{"$f":"Platzzuordnung!C119","v":"PlSp43-48"},{"$f":"$F$106","v":"Gruppe B3"},null,null,null,null,{"$f":"$F$107","v":"Gruppe B1"},null,null,null,null,{"$f":"IF(ISBLANK(ZwRuB!O14),\"\",ZwRuB!O14)","v":1},":",{"$f":"IF(ISBLANK(ZwRuB!Q14),\"\",ZwRuB!Q14)","v":0},{"$f":"VLOOKUP(B114,Platzzuordnung!$A$4:$B$110,2,FALSE)","v":2},null,null,null,null,null,null,null,null,null,null,null,null,null,null,null,null,null,null,null,null,null,null,null,null,null,null,null,null,null,null,null,null,null,null,null,{"$f":"IF(ISBLANK(ZwRuB!O14),\"0\",IF(ZwRuB!O14>ZwRuB!Q14,3,IF(ZwRuB!O14=ZwRuB!Q14,1,0)))","v":3},{"$f":"IF(ISBLANK(ZwRuB!Q14),\"0\",IF(ZwRuB!Q14>ZwRuB!O14,3,IF(ZwRuB!Q14=ZwRuB!O14,1,0)))","v":0},{"$f":"IF(ISBLANK(ZwRuB!O14),0,1)","v":1},{"$f":"IF(ISBLANK(ZwRuB!Q14),0,1)","v":1}]
[null,{"$f":"Platzzuordnung!A20","v":17},{"$f":"IF(Vorgaben!C$1=24,Platzzuordnung!S15,IF(Vorgaben!C$1=30,Platzzuordnung!S15,IF(Vorgaben!C$1=36,Platzzuordnung!S15,Platzzuordnung!D20)))","v":"08:56:00"},{"$f":"Platzzuordnung!C120","v":"PlSp43-48"},{"$f":"$F$108","v":"Gruppe D8"},null,null,null,null,{"$f":"$F$109","v":"Gruppe D7"},null,null,null,null,{"$f":"IF(ISBLANK(ZwRuB!O15),\"\",ZwRuB!O15)","v":1},":",{"$f":"IF(ISBLANK(ZwRuB!Q15),\"\",ZwRuB!Q15)","v":1},{"$f":"VLOOKUP(B115,Platzzuordnung!$A$4:$B$110,2,FALSE)","v":2},null,null,null,null,null,null,null,null,null,null,null,null,null,null,null,null,null,null,null,null,null,null,null,null,null,null,null,null,null,null,null,null,null,null,null,{"$f":"IF(ISBLANK(ZwRuB!O15),\"0\",IF(ZwRuB!O15>ZwRuB!Q15,3,IF(ZwRuB!O15=ZwRuB!Q15,1,0)))","v":1},{"$f":"IF(ISBLANK(ZwRuB!Q15),\"0\",IF(ZwRuB!Q15>ZwRuB!O15,3,IF(ZwRuB!Q15=ZwRuB!O15,1,0)))","v":1},{"$f":"IF(ISBLANK(ZwRuB!O15),0,1)","v":1},{"$f":"IF(ISBLANK(ZwRuB!Q15),0,1)","v":1}]
[null,{"$f":"Platzzuordnung!A21","v":18},{"$f":"IF(Vorgaben!C$1=24,Platzzuordnung!S16,IF(Vorgaben!C$1=30,Platzzuordnung!S16,IF(Vorgaben!C$1=36,Platzzuordnung!S16,Platzzuordnung!D21)))","v":"09:07:00"},{"$f":"Platzzuordnung!C121","v":"PlSp43-48"},{"$f":"$F$110","v":"Gruppe F8"},null,null,null,null,{"$f":"$F$111","v":"Gruppe F5"},null,null,null,null,{"$f":"IF(ISBLANK(ZwRuB!O16),\"\",ZwRuB!O16)","v":2},":",{"$f":"IF(ISBLANK(ZwRuB!Q16),\"\",ZwRuB!Q16)","v":2},{"$f":"VLOOKUP(B116,Platzzuordnung!$A$4:$B$110,2,FALSE)","v":2},null,null,null,null,null,null,null,null,null,null,null,null,null,null,null,null,null,null,null,null,null,null,null,null,null,null,null,null,null,null,null,null,null,null,null,{"$f":"IF(ISBLANK(ZwRuB!O16),\"0\",IF(ZwRuB!O16>ZwRuB!Q16,3,IF(ZwRuB!O16=ZwRuB!Q16,1,0)))","v":1},{"$f":"IF(ISBLANK(ZwRuB!Q16),\"0\",IF(ZwRuB!Q16>ZwRuB!O16,3,IF(ZwRuB!Q16=ZwRuB!O16,1,0)))","v":1},{"$f":"IF(ISBLANK(ZwRuB!O16),0,1)","v":1},{"$f":"IF(ISBLANK(ZwRuB!Q16),0,1)","v":1}]
[null,{"$f":"Platzzuordnung!A22","v":19},{"$f":"IF(Vorgaben!C$1=24,Platzzuordnung!S17,IF(Vorgaben!C$1=30,Platzzuordnung!S17,IF(Vorgaben!C$1=36,Platzzuordnung!S17,Platzzuordnung!D22)))","v":"09:18:00"},{"$f":"Platzzuordnung!C122","v":"PlSp43-48"},{"$f":"$F$107","v":"Gruppe B1"},null,null,null,null,{"$f":"$F$108","v":"Gruppe D8"},null,null,null,null,{"$f":"IF(ISBLANK(ZwRuB!O17),\"\",ZwRuB!O17)","v":2},":",{"$f":"IF(ISBLANK(ZwRuB!Q17),\"\",ZwRuB!Q17)","v":0},{"$f":"VLOOKUP(B117,Platzzuordnung!$A$4:$B$110,2,FALSE)","v":2},null,null,null,null,null,null,null,null,null,null,null,null,null,null,null,null,null,null,null,null,null,null,null,null,null,null,null,null,null,null,null,null,null,null,null,{"$f":"IF(ISBLANK(ZwRuB!O17),\"0\",IF(ZwRuB!O17>ZwRuB!Q17,3,IF(ZwRuB!O17=ZwRuB!Q17,1,0)))","v":3},{"$f":"IF(ISBLANK(ZwRuB!Q17),\"0\",IF(ZwRuB!Q17>ZwRuB!O17,3,IF(ZwRuB!Q17=ZwRuB!O17,1,0)))","v":0},{"$f":"IF(ISBLANK(ZwRuB!O17),0,1)","v":1},{"$f":"IF(ISBLANK(ZwRuB!Q17),0,1)","v":1}]
[null,{"$f":"Platzzuordnung!A23","v":20},{"$f":"IF(Vorgaben!C$1=24,Platzzuordnung!S18,IF(Vorgaben!C$1=30,Platzzuordnung!S18,IF(Vorgaben!C$1=36,Platzzuordnung!S18,Platzzuordnung!D23)))","v":"09:29:00"},{"$f":"Platzzuordnung!C123","v":"PlSp43-48"},{"$f":"$F$109","v":"Gruppe D7"},null,null,null,null,{"$f":"$F$110","v":"Gruppe F8"},null,null,null,null,{"$f":"IF(ISBLANK(ZwRuB!O18),\"\",ZwRuB!O18)","v":1},":",{"$f":"IF(ISBLANK(ZwRuB!Q18),\"\",ZwRuB!Q18)","v":1},{"$f":"VLOOKUP(B118,Platzzuordnung!$A$4:$B$110,2,FALSE)","v":2},null,null,null,null,null,null,null,null,null,null,null,null,null,null,null,null,null,null,null,null,null,null,null,null,null,null,null,null,null,null,null,null,null,null,null,{"$f":"IF(ISBLANK(ZwRuB!O18),\"0\",IF(ZwRuB!O18>ZwRuB!Q18,3,IF(ZwRuB!O18=ZwRuB!Q18,1,0)))","v":1},{"$f":"IF(ISBLANK(ZwRuB!Q18),\"0\",IF(ZwRuB!Q18>ZwRuB!O18,3,IF(ZwRuB!Q18=ZwRuB!O18,1,0)))","v":1},{"$f":"IF(ISBLANK(ZwRuB!O18),0,1)","v":1},{"$f":"IF(ISBLANK(ZwRuB!Q18),0,1)","v":1}]
[null,{"$f":"Platzzuordnung!A24","v":21},{"$f":"IF(Vorgaben!C$1=24,Platzzuordnung!S19,IF(Vorgaben!C$1=30,Platzzuordnung!S19,IF(Vorgaben!C$1=36,Platzzuordnung!S19,Platzzuordnung!D24)))","v":"09:40:00"},{"$f":"Platzzuordnung!C124","v":"Halbfinale"},{"$f":"$F$106","v":"Gruppe B3"},null,null,null,null,{"$f":"$F$108","v":"Gruppe D8"},null,null,null,null,{"$f":"IF(ISBLANK(ZwRuB!O19),\"\",ZwRuB!O19)","v":4},":",{"$f":"IF(ISBLANK(ZwRuB!Q19),\"\",ZwRuB!Q19)","v":0},{"$f":"VLOOKUP(B119,Platzzuordnung!$A$4:$B$110,2,FALSE)","v":2},null,null,null,null,null,null,null,null,null,null,null,null,null,null,null,null,null,null,null,null,null,null,null,null,null,null,null,null,null,null,null,null,null,null,null,{"$f":"IF(ISBLANK(ZwRuB!O19),\"0\",IF(ZwRuB!O19>ZwRuB!Q19,3,IF(ZwRuB!O19=ZwRuB!Q19,1,0)))","v":3},{"$f":"IF(ISBLANK(ZwRuB!Q19),\"0\",IF(ZwRuB!Q19>ZwRuB!O19,3,IF(ZwRuB!Q19=ZwRuB!O19,1,0)))","v":0},{"$f":"IF(ISBLANK(ZwRuB!O19),0,1)","v":1},{"$f":"IF(ISBLANK(ZwRuB!Q19),0,1)","v":1}]
[null,{"$f":"Platzzuordnung!A25","v":22},{"$f":"IF(Vorgaben!C$1=24,Platzzuordnung!S20,IF(Vorgaben!C$1=30,Platzzuordnung!S20,IF(Vorgaben!C$1=36,Platzzuordnung!S20,Platzzuordnung!D25)))","v":"09:51:00"},{"$f":"Platzzuordnung!C125","v":"Halbfinale"},{"$f":"$F$110","v":"Gruppe F8"},null,null,null,null,{"$f":"$F$107","v":"Gruppe B1"},null,null,null,null,{"$f":"IF(ISBLANK(ZwRuB!O20),\"\",ZwRuB!O20)","v":1},":",{"$f":"IF(ISBLANK(ZwRuB!Q20),\"\",ZwRuB!Q20)","v":1},{"$f":"VLOOKUP(B120,Platzzuordnung!$A$4:$B$110,2,FALSE)","v":2},null,null,null,null,null,null,null,null,null,null,null,null,null,null,null,null,null,null,null,null,null,null,null,null,null,null,null,null,null,null,null,null,null,null,null,{"$f":"IF(ISBLANK(ZwRuB!O20),\"0\",IF(ZwRuB!O20>ZwRuB!Q20,3,IF(ZwRuB!O20=ZwRuB!Q20,1,0)))","v":1},{"$f":"IF(ISBLANK(ZwRuB!Q20),\"0\",IF(ZwRuB!Q20>ZwRuB!O20,3,IF(ZwRuB!Q20=ZwRuB!O20,1,0)))","v":1},{"$f":"IF(ISBLANK(ZwRuB!O20),0,1)","v":1},{"$f":"IF(ISBLANK(ZwRuB!Q20),0,1)","v":1}]
[null,{"$f":"Platzzuordnung!A26","v":23},{"$f":"IF(Vorgaben!C$1=24,Platzzuordnung!S21,IF(Vorgaben!C$1=30,Platzzuordnung!S21,IF(Vorgaben!C$1=36,Platzzuordnung!S21,Platzzuordnung!D26)))","v":"10:02:00"},{"$f":"Platzzuordnung!C126","v":"Halbfinale"},{"$f":"$F$111","v":"Gruppe F5"},null,null,null,null,{"$f":"$F$106","v":"Gruppe B3"},null,null,null,null,{"$f":"IF(ISBLANK(ZwRuB!O21),\"\",ZwRuB!O21)","v":1},":",{"$f":"IF(ISBLANK(ZwRuB!Q21),\"\",ZwRuB!Q21)","v":1},{"$f":"VLOOKUP(B121,Platzzuordnung!$A$4:$B$110,2,FALSE)","v":2},null,null,null,null,null,null,null,null,null,null,null,null,null,null,null,null,null,null,null,null,null,null,null,null,null,null,null,null,null,null,null,null,null,null,null,{"$f":"IF(ISBLANK(ZwRuB!O21),\"0\",IF(ZwRuB!O21>ZwRuB!Q21,3,IF(ZwRuB!O21=ZwRuB!Q21,1,0)))","v":1},{"$f":"IF(ISBLANK(ZwRuB!Q21),\"0\",IF(ZwRuB!Q21>ZwRuB!O21,3,IF(ZwRuB!Q21=ZwRuB!O21,1,0)))","v":1},{"$f":"IF(ISBLANK(ZwRuB!O21),0,1)","v":1},{"$f":"IF(ISBLANK(ZwRuB!Q21),0,1)","v":1}]
[null,{"$f":"Platzzuordnung!A27","v":24},{"$f":"IF(Vorgaben!C$1=24,Platzzuordnung!S22,IF(Vorgaben!C$1=30,Platzzuordnung!S22,IF(Vorgaben!C$1=36,Platzzuordnung!S22,Platzzuordnung!D27)))","v":"10:13:00"},{"$f":"Platzzuordnung!C127","v":"Halbfinale"},{"$f":"$F$108","v":"Gruppe D8"},null,null,null,null,{"$f":"$F$110","v":"Gruppe F8"},null,null,null,null,{"$f":"IF(ISBLANK(ZwRuB!O22),\"\",ZwRuB!O22)","v":1},":",{"$f":"IF(ISBLANK(ZwRuB!Q22),\"\",ZwRuB!Q22)","v":1},{"$f":"VLOOKUP(B122,Platzzuordnung!$A$4:$B$110,2,FALSE)","v":2},null,null,null,null,null,null,null,null,null,null,null,null,null,null,null,null,null,null,null,null,null,null,null,null,null,null,null,null,null,null,null,null,null,null,null,{"$f":"IF(ISBLANK(ZwRuB!O22),\"0\",IF(ZwRuB!O22>ZwRuB!Q22,3,IF(ZwRuB!O22=ZwRuB!Q22,1,0)))","v":1},{"$f":"IF(ISBLANK(ZwRuB!Q22),\"0\",IF(ZwRuB!Q22>ZwRuB!O22,3,IF(ZwRuB!Q22=ZwRuB!O22,1,0)))","v":1},{"$f":"IF(ISBLANK(ZwRuB!O22),0,1)","v":1},{"$f":"IF(ISBLANK(ZwRuB!Q22),0,1)","v":1}]
[null,{"$f":"Platzzuordnung!A28","v":25},{"$f":"IF(Vorgaben!C$1=24,Platzzuordnung!S23,IF(Vorgaben!C$1=30,Platzzuordnung!S23,IF(Vorgaben!C$1=36,Platzzuordnung!S23,Platzzuordnung!D28)))","v":"10:24:00"},{"$f":"Platzzuordnung!C128","v":"Halbfinale"},{"$f":"$F$109","v":"Gruppe D7"},null,null,null,null,{"$f":"$F$111","v":"Gruppe F5"},null,null,null,null,{"$f":"IF(ISBLANK(ZwRuB!O23),\"\",ZwRuB!O23)","v":1},":",{"$f":"IF(ISBLANK(ZwRuB!Q23),\"\",ZwRuB!Q23)","v":0},{"$f":"VLOOKUP(B123,Platzzuordnung!$A$4:$B$110,2,FALSE)","v":2},null,null,null,null,null,null,null,null,null,null,null,null,null,null,null,null,null,null,null,null,null,null,null,null,null,null,null,null,null,null,null,null,null,null,null,{"$f":"IF(ISBLANK(ZwRuB!O23),\"0\",IF(ZwRuB!O23>ZwRuB!Q23,3,IF(ZwRuB!O23=ZwRuB!Q23,1,0)))","v":3},{"$f":"IF(ISBLANK(ZwRuB!Q23),\"0\",IF(ZwRuB!Q23>ZwRuB!O23,3,IF(ZwRuB!Q23=ZwRuB!O23,1,0)))","v":0},{"$f":"IF(ISBLANK(ZwRuB!O23),0,1)","v":1},{"$f":"IF(ISBLANK(ZwRuB!Q23),0,1)","v":1}]
[null,{"$f":"Platzzuordnung!A29","v":26},{"$f":"IF(Vorgaben!C$1=24,Platzzuordnung!S24,IF(Vorgaben!C$1=30,Platzzuordnung!S24,IF(Vorgaben!C$1=36,Platzzuordnung!S24,Platzzuordnung!D29)))","v":"10:35:00"},{"$f":"Platzzuordnung!C129","v":"Halbfinale"},{"$f":"$F$106","v":"Gruppe B3"},null,null,null,null,{"$f":"$F$110","v":"Gruppe F8"},null,null,null,null,{"$f":"IF(ISBLANK(ZwRuB!O24),\"\",ZwRuB!O24)","v":0},":",{"$f":"IF(ISBLANK(ZwRuB!Q24),\"\",ZwRuB!Q24)","v":1},{"$f":"VLOOKUP(B124,Platzzuordnung!$A$4:$B$110,2,FALSE)","v":2},null,null,null,null,null,null,null,null,null,null,null,null,null,null,null,null,null,null,null,null,null,null,null,null,null,null,null,null,null,null,null,null,null,null,null,{"$f":"IF(ISBLANK(ZwRuB!O24),\"0\",IF(ZwRuB!O24>ZwRuB!Q24,3,IF(ZwRuB!O24=ZwRuB!Q24,1,0)))","v":0},{"$f":"IF(ISBLANK(ZwRuB!Q24),\"0\",IF(ZwRuB!Q24>ZwRuB!O24,3,IF(ZwRuB!Q24=ZwRuB!O24,1,0)))","v":3},{"$f":"IF(ISBLANK(ZwRuB!O24),0,1)","v":1},{"$f":"IF(ISBLANK(ZwRuB!Q24),0,1)","v":1}]
[null,{"$f":"Platzzuordnung!A30","v":27},{"$f":"IF(Vorgaben!C$1=24,Platzzuordnung!S25,IF(Vorgaben!C$1=30,Platzzuordnung!S25,IF(Vorgaben!C$1=36,Platzzuordnung!S25,Platzzuordnung!D30)))","v":"10:46:00"},{"$f":"Platzzuordnung!C130","v":"Endrunde"},{"$f":"$F$111","v":"Gruppe F5"},null,null,null,null,{"$f":"$F$107","v":"Gruppe B1"},null,null,null,null,{"$f":"IF(ISBLANK(ZwRuB!O25),\"\",ZwRuB!O25)","v":1},":",{"$f":"IF(ISBLANK(ZwRuB!Q25),\"\",ZwRuB!Q25)","v":1},{"$f":"VLOOKUP(B125,Platzzuordnung!$A$4:$B$110,2,FALSE)","v":2},null,null,null,null,null,null,null,null,null,null,null,null,null,null,null,null,null,null,null,null,null,null,null,null,null,null,null,null,null,null,null,null,null,null,null,{"$f":"IF(ISBLANK(ZwRuB!O25),\"0\",IF(ZwRuB!O25>ZwRuB!Q25,3,IF(ZwRuB!O25=ZwRuB!Q25,1,0)))","v":1},{"$f":"IF(ISBLANK(ZwRuB!Q25),\"0\",IF(ZwRuB!Q25>ZwRuB!O25,3,IF(ZwRuB!Q25=ZwRuB!O25,1,0)))","v":1},{"$f":"IF(ISBLANK(ZwRuB!O25),0,1)","v":1},{"$f":"IF(ISBLANK(ZwRuB!Q25),0,1)","v":1}]
[null,{"$f":"Platzzuordnung!A31","v":28},{"$f":"IF(Vorgaben!C$1=24,Platzzuordnung!S26,IF(Vorgaben!C$1=30,Platzzuordnung!S26,IF(Vorgaben!C$1=36,Platzzuordnung!S26,Platzzuordnung!D31)))","v":"10:57:00"},{"$f":"Platzzuordnung!C131","v":"Endrunde"},{"$f":"$F$109","v":"Gruppe D7"},null,null,null,null,{"$f":"$F$106","v":"Gruppe B3"},null,null,null,null,{"$f":"IF(ISBLANK(ZwRuB!O26),\"\",ZwRuB!O26)","v":3},":",{"$f":"IF(ISBLANK(ZwRuB!Q26),\"\",ZwRuB!Q26)","v":0},{"$f":"VLOOKUP(B126,Platzzuordnung!$A$4:$B$110,2,FALSE)","v":2},null,null,null,null,null,null,null,null,null,null,null,null,null,null,null,null,null,null,null,null,null,null,null,null,null,null,null,null,null,null,null,null,null,null,null,{"$f":"IF(ISBLANK(ZwRuB!O26),\"0\",IF(ZwRuB!O26>ZwRuB!Q26,3,IF(ZwRuB!O26=ZwRuB!Q26,1,0)))","v":3},{"$f":"IF(ISBLANK(ZwRuB!Q26),\"0\",IF(ZwRuB!Q26>ZwRuB!O26,3,IF(ZwRuB!Q26=ZwRuB!O26,1,0)))","v":0},{"$f":"IF(ISBLANK(ZwRuB!O26),0,1)","v":1},{"$f":"IF(ISBLANK(ZwRuB!Q26),0,1)","v":1}]
[null,{"$f":"Platzzuordnung!A32","v":29},{"$f":"IF(Vorgaben!C$1=24,Platzzuordnung!S27,IF(Vorgaben!C$1=30,Platzzuordnung!S27,IF(Vorgaben!C$1=36,Platzzuordnung!S27,Platzzuordnung!D32)))","v":"11:08:00"},{"$f":"Platzzuordnung!C132","v":"Endrunde"},{"$f":"$F$108","v":"Gruppe D8"},null,null,null,null,{"$f":"$F$111","v":"Gruppe F5"},null,null,null,null,{"$f":"IF(ISBLANK(ZwRuB!O27),\"\",ZwRuB!O27)","v":1},":",{"$f":"IF(ISBLANK(ZwRuB!Q27),\"\",ZwRuB!Q27)","v":1},{"$f":"VLOOKUP(B127,Platzzuordnung!$A$4:$B$110,2,FALSE)","v":2},null,null,null,null,null,null,null,null,null,null,null,null,null,null,null,null,null,null,null,null,null,null,null,null,null,null,null,null,null,null,null,null,null,null,null,{"$f":"IF(ISBLANK(ZwRuB!O27),\"0\",IF(ZwRuB!O27>ZwRuB!Q27,3,IF(ZwRuB!O27=ZwRuB!Q27,1,0)))","v":1},{"$f":"IF(ISBLANK(ZwRuB!Q27),\"0\",IF(ZwRuB!Q27>ZwRuB!O27,3,IF(ZwRuB!Q27=ZwRuB!O27,1,0)))","v":1},{"$f":"IF(ISBLANK(ZwRuB!O27),0,1)","v":1},{"$f":"IF(ISBLANK(ZwRuB!Q27),0,1)","v":1}]
[null,{"$f":"Platzzuordnung!A33","v":30},{"$f":"IF(Vorgaben!C$1=24,Platzzuordnung!S28,IF(Vorgaben!C$1=30,Platzzuordnung!S28,IF(Vorgaben!C$1=36,Platzzuordnung!S28,Platzzuordnung!D33)))","v":"11:19:00"},{"$f":"Platzzuordnung!C133","v":"Endrunde"},{"$f":"$F$107","v":"Gruppe B1"},null,null,null,null,{"$f":"$F$109","v":"Gruppe D7"},null,null,null,null,{"$f":"IF(ISBLANK(ZwRuB!O28),\"\",ZwRuB!O28)","v":1},":",{"$f":"IF(ISBLANK(ZwRuB!Q28),\"\",ZwRuB!Q28)","v":1},{"$f":"VLOOKUP(B128,Platzzuordnung!$A$4:$B$110,2,FALSE)","v":2},null,null,null,null,null,null,null,null,null,null,null,null,null,null,null,null,null,null,null,null,null,null,null,null,null,null,null,null,null,null,null,null,null,null,null,{"$f":"IF(ISBLANK(ZwRuB!O28),\"0\",IF(ZwRuB!O28>ZwRuB!Q28,3,IF(ZwRuB!O28=ZwRuB!Q28,1,0)))","v":1},{"$f":"IF(ISBLANK(ZwRuB!Q28),\"0\",IF(ZwRuB!Q28>ZwRuB!O28,3,IF(ZwRuB!Q28=ZwRuB!O28,1,0)))","v":1},{"$f":"IF(ISBLANK(ZwRuB!O28),0,1)","v":1},{"$f":"IF(ISBLANK(ZwRuB!Q28),0,1)","v":1}]
[null,null,null,null,null,null,null,null,null,null,null,null,null,null,null,null,null,null,null,null,null,null,null,null,null,null,null,null,null,null,null,null,null,null,null,null,null,null,null,null,null,null,null,null,null,null,null,null,null,null,null,null,null,null,null,{"$f":"IF(BD131=\"Min. 3 Teams identisch.  HANDSORTIERUNG!\",BD131,IF(BD131=\"ACHTUNG! Direkter Vergleich war unentschieden!\",BD131,BD130))","v":"ACHTUNG: Direkter Vergleich erfolgreich durchlaufen!"}]
[null,null,null,null,null,null,null,null,null,null,null,null,null,null,null,null,null,null,null,null,null,null,null,null,null,null,null,null,null,null,null,null,null,null,null,null,null,null,null,null,null,null,null,null,null,null,null,null,null,null,null,null,null,null,null,{"$f":"IF(AND(EXACT(BF133,BF134),EXACT(BG133,BG134),EXACT(BI133,BI134)),\"ACHTUNG: Direkter Vergleich erfolgreich durchlaufen!\",IF(AND(EXACT(BF134,BF135),EXACT(BG134,BG135),EXACT(BI134,BI135)),\"ACHTUNG: Direkter Vergleich erfolgreich durchlaufen!\",IF(AND(EXACT(BF135,BF136),EXACT(BG135,BG136),EXACT(BI135,BI136)),\"ACHTUNG: Direkter Vergleich erfolgreich durchlaufen!\",IF(AND(EXACT(BF136,BF137),EXACT(BG136,BG137),EXACT(BI136,BI137)),\"ACHTUNG: Direkter Vergleich erfolgreich durchlaufen!\",IF(AND(EXACT(BF137,BF138),EXACT(BG137,BG138),EXACT(BI137,BI138)),\"ACHTUNG: Direkter Vergleich erfolgreich durchlaufen!\",\"\")))))","v":"ACHTUNG: Direkter Vergleich erfolgreich durchlaufen!"}]
[null,"Tabelle",null,null,null,null,null,null,"Spiele",null,"Punkte",null,"Differenz",null,"Tore",null,null,null,null,null,null,null,null,null,null,null,null,null,null,null,null,null,null,null,null,null,null,null,null,null,null,null,null,null,null,null,null,null,null,null,null,null,null,null,null,{"$f":"IF(OR(BS133=3,BS134=3,BS135=3,BS136=3,BS137=3,BS138=3),\"Min. 3 Teams identisch.  HANDSORTIERUNG!\",IF(OR(BR133=\"ACHTUNG! Direkter Vergleich war unentschieden!\",BR134=\"ACHTUNG! Direkter Vergleich war unentschieden!\",BR135=\"ACHTUNG! Direkter Vergleich war unentschieden!\",BR136=\"ACHTUNG! Direkter Vergleich war unentschieden!\",BR137=\"ACHTUNG! Direkter Vergleich war unentschieden!\",BR138=\"ACHTUNG! Direkter Vergleich war unentschieden!\"),\"ACHTUNG! Direkter Vergleich war unentschieden!\",\"\"))","v":""}]
[null,1,{"$f":"BD133","v":"Gruppe D7"},null,null,null,null,null,{"$f":"BE133","v":5},null,{"$f":"BF133","v":9},null,{"$f":"BI133","v":4},null,{"$f":"BG133","v":7},":",{"$f":"BH133","v":3},null,null,null,null,null,null,null,null,null,null,null,null,null,null,null,null,null,null,null,null,null,null,null,null,null,null,null,null,null,null,null,null,null,null,null,null,null,null,"Mannschaft","Spiele","Punkte","Tore+","Tore-","Diff"]
[null,2,{"$f":"BD134","v":"Gruppe F8"},null,null,null,null,null,{"$f":"BE134","v":5},null,{"$f":"BF134","v":7},null,{"$f":"BI134","v":1},null,{"$f":"BG134","v":6},":",{"$f":"BH134","v":5},null,null,null,null,null,null,null,null,null,null,null,null,null,null,null,null,null,null,null,null,null,null,null,null,null,null,null,null,null,null,null,null,null,null,null,null,null,{"$f":"INDEX('ZR Gruppeneinteilung'!$F$3:$G$8,MATCH(BD133,'ZR Gruppeneinteilung'!$F$3:$F$8,0),2)","v":0},{"$f":"F$109","v":"Gruppe D7"},{"$f":"SUMIF($E$114:$I$128,$BD133,$BD$114:$BD$128)+SUMIF($J$114:$N$128,$BD133,$BE$114:$BE$128)","v":5},{"$f":"SUMIF($E$114:$I$128,$BD133,$BB$114:$BB$128)+SUMIF($J$114:$N$128,$BD133,$BC$114:$BC$128)","v":9},{"$f":"SUMIF($E$114:$I$128,$BD133,$O$114:$O$128)+SUMIF($J$114:$N$128,$BD133,Q$114:$Q$128)","v":7},{"$f":"SUMIF($E$114:$I$128,$BD133,$Q$114:$Q$128)+SUMIF($J$114:$N$128,$BD133,$O$114:$O$128)","v":3},{"$f":"BG133-BH133","v":4},{"$f":"BL133","v":0},null,{"$f":"IF(BN133>BO134,10,IF(BN133<BO134,-10,0))","v":0},null,{"$f":"IF(ISNA(INDEX(BB$114:BB$128,MATCH(BD133&BD134,E$114:E$128&J$114:J$128,0))),INDEX(BC$114:BC$128,MATCH(BD134&BD133,E$114:E$128&J$114:J$128,0)),INDEX(BB$114:BB$128,MATCH(BD133&BD134,E$114:E$128&J$114:J$128,0)))","v":1},null,{"$f":"IF(AND(EXACT(BF133,BF134),EXACT(BG133,BG134),EXACT(BI133,BI134),EXACT(BN133,BO134)),\"ACHTUNG! Direkter Vergleich war unentschieden!\",IF(AND(EXACT(BF133,BF134),EXACT(BG133,BG134),EXACT(BI133,BI134)),1,2))","v":2},null,{"$f":"IF(OR(BP133=\"ACHTUNG! Direkter Vergleich war unentschieden!\",BQ133=\"ACHTUNG! Direkter Vergleich war unentschieden!\"),\"ACHTUNG! Direkter Vergleich war unentschieden!\",\"\")","v":""},{"$f":"IF(OR(AND(EXACT(BE133,BE134),EXACT(BF133,BF134),EXACT(BI133,BI134),EXACT(BE133,BE135),EXACT(BF133,BF135),EXACT(BI133,BI135)),AND(EXACT(BE133,BE134),EXACT(BF133,BF134),EXACT(BI133,BI134),EXACT(BE133,BE132),EXACT(BF133,BF132),EXACT(BI133,BI132))*AND(EXACT(BE133,BE131),EXACT(BF133,BF131),EXACT(BI133,BI131),EXACT(BE133,BE132),EXACT(BF133,BF132),EXACT(BI133,BI132))),3,1)","v":1}]
[null,3,"Gruppe B3",null,null,null,null,null,5,null,7,null,1,null,6,":",5,null,null,null,null,null,null,null,null,null,null,null,null,null,null,null,null,null,null,null,null,null,null,null,null,null,null,null,null,null,null,null,null,null,null,null,null,null,{"$f":"INDEX('ZR Gruppeneinteilung'!$F$3:$G$8,MATCH(BD134,'ZR Gruppeneinteilung'!$F$3:$F$8,0),2)","v":0},{"$f":"F$110","v":"Gruppe F8"},5,7,{"$f":"SUMIF($E$114:$I$128,$BD134,$O$114:$O$128)+SUMIF($J$114:$N$128,$BD134,Q$114:$Q$128)","v":6},5,1,{"$f":"BL134","v":0},{"$f":"BM134","v":10},{"$f":"IF(BN133<BO134,10,IF(BN133>BO134,-10,0))","v":0},{"$f":"IF(BN134>BO135,10,IF(BN134<BO135,-10,0))","v":10},{"$f":"IF(ISNA(INDEX(BB$114:BB$128,MATCH(BD134&BD135,E$114:E$128&J$114:J$128,0))),INDEX(BC$114:BC$128,MATCH(BD135&BD134,E$114:E$128&J$114:J$128,0)),INDEX(BB$114:BB$128,MATCH(BD134&BD135,E$114:E$128&J$114:J$128,0)))","v":3},{"$f":"IF(ISNA(INDEX(BB$114:BB$128,MATCH(BD134&BD133,E$114:E$128&J$114:J$128,0))),INDEX(BC$114:BC$128,MATCH(BD133&BD134,E$114:E$128&J$114:J$128,0)),INDEX(BB$114:BB$128,MATCH(BD134&BD133,E$114:E$128&J$114:J$128,0)))","v":1},1,{"$f":"IF(AND(EXACT(BF133,BF134),EXACT(BG133,BG134),EXACT(BI133,BI134),EXACT(BO134,BN133)),\"ACHTUNG! Direkter Vergleich war unentschieden!\",IF(AND(EXACT(BF133,BF134),EXACT(BG133,BG134),EXACT(BI133,BI134)),1,2))","v":2},"",1]
[null,4,"Gruppe B1",null,null,null,null,null,5,null,6,null,1,null,5,":",4,null,null,null,null,null,null,null,null,null,null,null,null,null,null,null,null,null,null,null,null,null,null,null,null,null,null,null,null,null,null,null,null,null,null,null,null,null,{"$f":"INDEX('ZR Gruppeneinteilung'!$F$3:$G$8,MATCH(BD135,'ZR Gruppeneinteilung'!$F$3:$F$8,0),2)","v":0},{"$f":"F$106","v":"Gruppe B3"},5,7,{"$f":"SUMIF($E$114:$I$128,$BD135,$O$114:$O$128)+SUMIF($J$114:$N$128,$BD135,Q$114:$Q$128)","v":6},5,1,{"$f":"BL135","v":-10},10,{"$f":"IF(BN134<BO135,10,IF(BN134>BO135,-10,0))","v":-10},{"$f":"IF(BN135>BO136,10,IF(BN135<BO136,-10,0))","v":10},{"$f":"IF(ISNA(INDEX(BB$114:BB$128,MATCH(BD135&BD136,E$114:E$128&J$114:J$128,0))),INDEX(BC$114:BC$128,MATCH(BD136&BD135,E$114:E$128&J$114:J$128,0)),INDEX(BB$114:BB$128,MATCH(BD135&BD136,E$114:E$128&J$114:J$128,0)))","v":3},{"$f":"IF(ISNA(INDEX(BB$114:BB$128,MATCH(BD135&BD134,E$114:E$128&J$114:J$128,0))),INDEX(BC$114:BC$128,MATCH(BD134&BD135,E$114:E$128&J$114:J$128,0)),INDEX(BB$114:BB$128,MATCH(BD135&BD134,E$114:E$128&J$114:J$128,0)))","v":0},2,{"$f":"IF(AND(EXACT(BF134,BF135),EXACT(BG134,BG135),EXACT(BI134,BI135),EXACT(BO135,BN134)),\"ACHTUNG! Direkter Vergleich war unentschieden!\",IF(AND(EXACT(BF134,BF135),EXACT(BG134,BG135),EXACT(BI134,BI135)),1,2))","v":1},"",{"$f":"IF(OR(AND(EXACT(BE135,BE136),EXACT(BF135,BF136),EXACT(BI135,BI136),EXACT(BE135,BE137),EXACT(BF135,BF137),EXACT(BI135,BI137)),AND(EXACT(BE135,BE136),EXACT(BF135,BF136),EXACT(BI135,BI136),EXACT(BE135,BE134),EXACT(BF135,BF134),EXACT(BI135,BI134))*AND(EXACT(BE135,BE133),EXACT(BF135,BF133),EXACT(BI135,BI133),EXACT(BE135,BE134),EXACT(BF135,BF134),EXACT(BI135,BI134))),3,1)","v":1}]
[null,5,"Gruppe F5",null,null,null,null,null,5,null,4,null,-1,null,5,":",6,null,null,null,null,null,null,null,null,null,null,null,null,null,null,null,null,null,null,null,null,null,null,null,null,null,null,null,null,null,null,null,null,null,null,null,null,null,{"$f":"INDEX('ZR Gruppeneinteilung'!$F$3:$G$8,MATCH(BD136,'ZR Gruppeneinteilung'!$F$3:$F$8,0),2)","v":0},{"$f":"F$107","v":"Gruppe B1"},5,6,{"$f":"SUMIF($E$114:$I$128,$BD136,$O$114:$O$128)+SUMIF($J$114:$N$128,$BD136,Q$114:$Q$128)","v":5},4,1,{"$f":"BL136","v":-10},-10,{"$f":"IF(BN135<BO136,10,IF(BN135>BO136,-10,0))","v":-10},{"$f":"IF(BN135<BO136,10,IF(BN135>BO136,-10,0))","v":-10},{"$f":"IF(ISNA(INDEX(BB$114:BB$128,MATCH(BD136&BD137,E$114:E$128&J$114:J$128,0))),INDEX(BC$114:BC$128,MATCH(BD137&BD136,E$114:E$128&J$114:J$128,0)),INDEX(BB$114:BB$128,MATCH(BD136&BD137,E$114:E$128&J$114:J$128,0)))","v":1},{"$f":"IF(ISNA(INDEX(BB$114:BB$128,MATCH(BD136&BD135,E$114:E$128&J$114:J$128,0))),INDEX(BC$114:BC$128,MATCH(BD135&BD136,E$114:E$128&J$114:J$128,0)),INDEX(BB$114:BB$128,MATCH(BD136&BD135,E$114:E$128&J$114:J$128,0)))","v":0},2,2,"",{"$f":"IF(OR(AND(EXACT(BE136,BE137),EXACT(BF136,BF137),EXACT(BI136,BI137),EXACT(BE136,BE138),EXACT(BF136,BF138),EXACT(BI136,BI138)),AND(EXACT(BE136,BE137),EXACT(BF136,BF137),EXACT(BI136,BI137),EXACT(BE136,BE135),EXACT(BF136,BF135),EXACT(BI136,BI135))*AND(EXACT(BE136,BE134),EXACT(BF136,BF134),EXACT(BI136,BI134),EXACT(BE136,BE135),EXACT(BF136,BF135),EXACT(BI136,BI135))),3,1)","v":1}]
[null,6,"Gruppe D8",null,null,null,null,null,5,null,3,null,-6,null,3,":",9,null,null,null,null,null,null,null,null,null,null,null,null,null,null,null,null,null,null,null,null,null,null,null,null,null,null,null,null,null,null,null,null,null,null,null,null,null,{"$f":"INDEX('ZR Gruppeneinteilung'!$F$3:$G$8,MATCH(BD137,'ZR Gruppeneinteilung'!$F$3:$F$8,0),2)","v":0},{"$f":"F$111","v":"Gruppe F5"},5,4,{"$f":"SUMIF($E$114:$I$128,$BD137,$O$114:$O$128)+SUMIF($J$114:$N$128,$BD137,Q$114:$Q$128)","v":5},6,-1,0,0,{"$f":"IF(BN136<BO137,10,IF(BN136>BO137,-10,0))","v":0},{"$f":"IF(BN137>BO138,10,IF(BN137<BO138,-10,0))","v":0},{"$f":"IF(ISNA(INDEX(BB$114:BB$128,MATCH(BD137&BD138,E$114:E$128&J$114:J$128,0))),INDEX(BC$114:BC$128,MATCH(BD138&BD137,E$114:E$128&J$114:J$128,0)),INDEX(BB$114:BB$128,MATCH(BD137&BD138,E$114:E$128&J$114:J$128,0)))","v":1},{"$f":"IF(ISNA(INDEX(BB$114:BB$128,MATCH(BD137&BD136,E$114:E$128&J$114:J$128,0))),INDEX(BC$114:BC$128,MATCH(BD136&BD137,E$114:E$128&J$114:J$128,0)),INDEX(BB$114:BB$128,MATCH(BD137&BD136,E$114:E$128&J$114:J$128,0)))","v":1},{"$f":"IF(AND(EXACT(BF137,BF138),EXACT(BG137,BG138),EXACT(BI137,BI138),EXACT(BN137,BO138)),\"ACHTUNG! Direkter Vergleich war unentschieden!\",IF(AND(EXACT(BF137,BF138),EXACT(BG137,BG138),EXACT(BI137,BI138)),1,2))","v":2},2,"",1]
[null,null,null,null,null,null,null,null,null,null,null,null,null,null,null,null,null,null,null,null,null,null,null,null,null,null,null,null,null,null,null,null,null,null,null,null,null,null,null,null,null,null,null,null,null,null,null,null,null,null,null,null,null,null,{"$f":"INDEX('ZR Gruppeneinteilung'!$F$3:$G$8,MATCH(BD138,'ZR Gruppeneinteilung'!$F$3:$F$8,0),2)","v":0},{"$f":"F$108","v":"Gruppe D8"},5,3,{"$f":"SUMIF($E$114:$I$128,$BD138,$O$114:$O$128)+SUMIF($J$114:$N$128,$BD138,Q$114:$Q$128)","v":3},9,-6,0,0,{"$f":"IF(BN137<BO138,10,IF(BN137>BO138,-10,0))","v":0},{"$f":"IF(BN137<BO138,10,IF(BN137>BO138,-10,0))","v":0},null,{"$f":"IF(ISNA(INDEX(BB$114:BB$128,MATCH(BD138&BD137,E$114:E$128&J$114:J$128,0))),INDEX(BC$114:BC$128,MATCH(BD137&BD138,E$114:E$128&J$114:J$128,0)),INDEX(BB$114:BB$128,MATCH(BD138&BD137,E$114:E$128&J$114:J$128,0)))","v":1},null,2,"",1]
[]
[]
[]
[]
[]
[]
[]
[]
[]
[]
[]
[]
[]
[]
[]
[]
[]
[]
[]
[]
[]
[]
[]
[]
[]
[]
[]
[]
[]
[]
[]
[]
[]
[]
[]
[]
[]
[]
[]
[]
[]
[]
[]
[]
[]
[]
[]
[]
[]
[]
[]
[]
[]
[]
[]
[]
[]
[]
[]
[]
[]
[]
[null,"Platzierungsspiele"]
[null,"13-18"]
[null,null,"Beginn:",null,{"$f":"Vorgaben!G4","v":"08:45:00"},"Uhr","Spielzeit:",null,{"$f":"Vorgaben!G5","v":1},"x",{"$f":"Vorgaben!G6","v":6.9444444444444441E-3},"min.","Pause:",null,{"$f":"Vorgaben!G7","v":6.9444444444444447E-4},"Min."]
[null,null,null,null,null,null,null,null,null,null,null,null,null,"Halbzeit:",{"$f":"IF(Vorgaben!G5>1,Vorgaben!G8,0)","v":0},"Min."]
[null,null,null,null,"Mannschaften:"]
[null,null,null,null,"1.",{"$f":"'GR Platzierungsspiele VR'!C4","v":"Gruppe A2"}]
[null,null,null,null,"2.",{"$f":"'GR Platzierungsspiele VR'!C5","v":"Gruppe B6"}]
[null,null,null,null,"3.",{"$f":"'GR Platzierungsspiele VR'!C6","v":"Gruppe C4"}]
[null,null,null,null,"4.",{"$f":"'GR Platzierungsspiele VR'!C7","v":"Gruppe D2"}]
[null,null,null,null,"5.",{"$f":"'GR Platzierungsspiele VR'!C8","v":"Gruppe E7"}]
[null,null,null,null,"6.",{"$f":"'GR Platzierungsspiele VR'!C9","v":"Gruppe F6"}]
[]
[null,"Nr.","Beginn",null,"Mannschaft1",null,null,null,null,"Mannschaft2",null,null,null,null,"Ergebnis",null,null,"Platz",null,null,null,null,null,null,null,null,null,null,null,null,null,null,null,null,null,null,null,null,null,null,null,null,null,null,null,null,null,null,null,null,null,null,null,"Punkte"]
[null,{"$f":"Platzzuordnung!A34","v":31},{"$f":"IF(Vorgaben!C$1=24,Platzzuordnung!S14,IF(Vorgaben!C$1=30,Platzzuordnung!S14,IF(Vorgaben!C$1=36,Platzzuordnung!S14,Platzzuordnung!D34)))","v":"08:45:00"},{"$f":"Platzzuordnung!C219","v":"00:00:00"},{"$f":"$F$206","v":"Gruppe A2"},null,null,null,null,{"$f":"$F$207","v":"Gruppe B6"},null,null,null,null,{"$f":"IF(ISBLANK('PlSp13-18'!O14),\"\",'PlSp13-18'!O14)","v":1},":",{"$f":"IF(ISBLANK('PlSp13-18'!Q14),\"\",'PlSp13-18'!Q14)","v":1},{"$f":"VLOOKUP(B214,Platzzuordnung!$A$4:$B$110,2,FALSE)","v":3},null,null,null,null,null,null,null,null,null,null,null,null,null,null,null,null,null,null,null,null,null,null,null,null,null,null,null,null,null,null,null,null,null,null,null,{"$f":"IF(ISBLANK('PlSp13-18'!O14),\"0\",IF('PlSp13-18'!O14>'PlSp13-18'!Q14,3,IF('PlSp13-18'!O14='PlSp13-18'!Q14,1,0)))","v":1},{"$f":"IF(ISBLANK('PlSp13-18'!Q14),\"0\",IF('PlSp13-18'!Q14>'PlSp13-18'!O14,3,IF('PlSp13-18'!Q14='PlSp13-18'!O14,1,0)))","v":1},{"$f":"IF(ISBLANK('PlSp13-18'!O14),0,1)","v":1},{"$f":"IF(ISBLANK('PlSp13-18'!Q14),0,1)","v":1}]
[null,{"$f":"Platzzuordnung!A35","v":32},{"$f":"IF(Vorgaben!C$1=24,Platzzuordnung!S15,IF(Vorgaben!C$1=30,Platzzuordnung!S15,IF(Vorgaben!C$1=36,Platzzuordnung!S15,Platzzuordnung!D35)))","v":"09:07:00"},{"$f":"Platzzuordnung!C220","v":"00:00:00"},{"$f":"$F$208","v":"Gruppe C4"},null,null,null,null,{"$f":"$F$209","v":"Gruppe D2"},null,null,null,null,{"$f":"IF(ISBLANK('PlSp13-18'!O15),\"\",'PlSp13-18'!O15)","v":1},":",{"$f":"IF(ISBLANK('PlSp13-18'!Q15),\"\",'PlSp13-18'!Q15)","v":1},{"$f":"VLOOKUP(B215,Platzzuordnung!$A$4:$B$110,2,FALSE)","v":3},null,null,null,null,null,null,null,null,null,null,null,null,null,null,null,null,null,null,null,null,null,null,null,null,null,null,null,null,null,null,null,null,null,null,null,{"$f":"IF(ISBLANK('PlSp13-18'!O15),\"0\",IF('PlSp13-18'!O15>'PlSp13-18'!Q15,3,IF('PlSp13-18'!O15='PlSp13-18'!Q15,1,0)))","v":1},{"$f":"IF(ISBLANK('PlSp13-18'!Q15),\"0\",IF('PlSp13-18'!Q15>'PlSp13-18'!O15,3,IF('PlSp13-18'!Q15='PlSp13-18'!O15,1,0)))","v":1},{"$f":"IF(ISBLANK('PlSp13-18'!O15),0,1)","v":1},{"$f":"IF(ISBLANK('PlSp13-18'!Q15),0,1)","v":1}]
[null,{"$f":"Platzzuordnung!A36","v":33},{"$f":"IF(Vorgaben!C$1=24,Platzzuordnung!S16,IF(Vorgaben!C$1=30,Platzzuordnung!S16,IF(Vorgaben!C$1=36,Platzzuordnung!S16,Platzzuordnung!D36)))","v":"09:18:00"},{"$f":"Platzzuordnung!C221","v":"00:00:00"},{"$f":"$F$210","v":"Gruppe E7"},null,null,null,null,{"$f":"$F$211","v":"Gruppe F6"},null,null,null,null,{"$f":"IF(ISBLANK('PlSp13-18'!O16),\"\",'PlSp13-18'!O16)","v":1},":",{"$f":"IF(ISBLANK('PlSp13-18'!Q16),\"\",'PlSp13-18'!Q16)","v":1},{"$f":"VLOOKUP(B216,Platzzuordnung!$A$4:$B$110,2,FALSE)","v":3},null,null,null,null,null,null,null,null,null,null,null,null,null,null,null,null,null,null,null,null,null,null,null,null,null,null,null,null,null,null,null,null,null,null,null,{"$f":"IF(ISBLANK('PlSp13-18'!O16),\"0\",IF('PlSp13-18'!O16>'PlSp13-18'!Q16,3,IF('PlSp13-18'!O16='PlSp13-18'!Q16,1,0)))","v":1},{"$f":"IF(ISBLANK('PlSp13-18'!Q16),\"0\",IF('PlSp13-18'!Q16>'PlSp13-18'!O16,3,IF('PlSp13-18'!Q16='PlSp13-18'!O16,1,0)))","v":1},{"$f":"IF(ISBLANK('PlSp13-18'!O16),0,1)","v":1},{"$f":"IF(ISBLANK('PlSp13-18'!Q16),0,1)","v":1}]
[null,{"$f":"Platzzuordnung!A37","v":34},{"$f":"IF(Vorgaben!C$1=24,Platzzuordnung!S17,IF(Vorgaben!C$1=30,Platzzuordnung!S17,IF(Vorgaben!C$1=36,Platzzuordnung!S17,Platzzuordnung!D37)))","v":"09:40:00"},{"$f":"Platzzuordnung!C222","v":"00:00:00"},{"$f":"$F$207","v":"Gruppe B6"},null,null,null,null,{"$f":"$F$208","v":"Gruppe C4"},null,null,null,null,{"$f":"IF(ISBLANK('PlSp13-18'!O17),\"\",'PlSp13-18'!O17)","v":1},":",{"$f":"IF(ISBLANK('PlSp13-18'!Q17),\"\",'PlSp13-18'!Q17)","v":1},{"$f":"VLOOKUP(B217,Platzzuordnung!$A$4:$B$110,2,FALSE)","v":3},null,null,null,null,null,null,null,null,null,null,null,null,null,null,null,null,null,null,null,null,null,null,null,null,null,null,null,null,null,null,null,null,null,null,null,{"$f":"IF(ISBLANK('PlSp13-18'!O17),\"0\",IF('PlSp13-18'!O17>'PlSp13-18'!Q17,3,IF('PlSp13-18'!O17='PlSp13-18'!Q17,1,0)))","v":1},{"$f":"IF(ISBLANK('PlSp13-18'!Q17),\"0\",IF('PlSp13-18'!Q17>'PlSp13-18'!O17,3,IF('PlSp13-18'!Q17='PlSp13-18'!O17,1,0)))","v":1},{"$f":"IF(ISBLANK('PlSp13-18'!O17),0,1)","v":1},{"$f":"IF(ISBLANK('PlSp13-18'!Q17),0,1)","v":1}]
[null,{"$f":"Platzzuordnung!A38","v":35},{"$f":"IF(Vorgaben!C$1=24,Platzzuordnung!S18,IF(Vorgaben!C$1=30,Platzzuordnung!S18,IF(Vorgaben!C$1=36,Platzzuordnung!S18,Platzzuordnung!D38)))","v":"09:51:00"},{"$f":"Platzzuordnung!C223","v":"00:00:00"},{"$f":"$F$209","v":"Gruppe D2"},null,null,null,null,{"$f":"$F$210","v":"Gruppe E7"},null,null,null,null,{"$f":"IF(ISBLANK('PlSp13-18'!O18),\"\",'PlSp13-18'!O18)","v":1},":",{"$f":"IF(ISBLANK('PlSp13-18'!Q18),\"\",'PlSp13-18'!Q18)","v":1},{"$f":"VLOOKUP(B218,Platzzuordnung!$A$4:$B$110,2,FALSE)","v":3},null,null,null,null,null,null,null,null,null,null,null,null,null,null,null,null,null,null,null,null,null,null,null,null,null,null,null,null,null,null,null,null,null,null,null,{"$f":"IF(ISBLANK('PlSp13-18'!O18),\"0\",IF('PlSp13-18'!O18>'PlSp13-18'!Q18,3,IF('PlSp13-18'!O18='PlSp13-18'!Q18,1,0)))","v":1},{"$f":"IF(ISBLANK('PlSp13-18'!Q18),\"0\",IF('PlSp13-18'!Q18>'PlSp13-18'!O18,3,IF('PlSp13-18'!Q18='PlSp13-18'!O18,1,0)))","v":1},{"$f":"IF(ISBLANK('PlSp13-18'!O18),0,1)","v":1},{"$f":"IF(ISBLANK('PlSp13-18'!Q18),0,1)","v":1}]
[null,{"$f":"Platzzuordnung!A39","v":36},{"$f":"IF(Vorgaben!C$1=24,Platzzuordnung!S19,IF(Vorgaben!C$1=30,Platzzuordnung!S19,IF(Vorgaben!C$1=36,Platzzuordnung!S19,Platzzuordnung!D39)))","v":"10:13:00"},{"$f":"Platzzuordnung!C224","v":"00:00:00"},{"$f":"$F$206","v":"Gruppe A2"},null,null,null,null,{"$f":"$F$208","v":"Gruppe C4"},null,null,null,null,{"$f":"IF(ISBLANK('PlSp13-18'!O19),\"\",'PlSp13-18'!O19)","v":1},":",{"$f":"IF(ISBLANK('PlSp13-18'!Q19),\"\",'PlSp13-18'!Q19)","v":1},{"$f":"VLOOKUP(B219,Platzzuordnung!$A$4:$B$110,2,FALSE)","v":3},null,null,null,null,null,null,null,null,null,null,null,null,null,null,null,null,null,null,null,null,null,null,null,null,null,null,null,null,null,null,null,null,null,null,null,{"$f":"IF(ISBLANK('PlSp13-18'!O19),\"0\",IF('PlSp13-18'!O19>'PlSp13-18'!Q19,3,IF('PlSp13-18'!O19='PlSp13-18'!Q19,1,0)))","v":1},{"$f":"IF(ISBLANK('PlSp13-18'!Q19),\"0\",IF('PlSp13-18'!Q19>'PlSp13-18'!O19,3,IF('PlSp13-18'!Q19='PlSp13-18'!O19,1,0)))","v":1},{"$f":"IF(ISBLANK('PlSp13-18'!O19),0,1)","v":1},{"$f":"IF(ISBLANK('PlSp13-18'!Q19),0,1)","v":1}]
[null,{"$f":"Platzzuordnung!A40","v":37},{"$f":"IF(Vorgaben!C$1=24,Platzzuordnung!S20,IF(Vorgaben!C$1=30,Platzzuordnung!S20,IF(Vorgaben!C$1=36,Platzzuordnung!S20,Platzzuordnung!D40)))","v":"10:24:00"},{"$f":"Platzzuordnung!C225","v":"00:00:00"},{"$f":"$F$210","v":"Gruppe E7"},null,null,null,null,{"$f":"$F$207","v":"Gruppe B6"},null,null,null,null,{"$f":"IF(ISBLANK('PlSp13-18'!O20),\"\",'PlSp13-18'!O20)","v":1},":",{"$f":"IF(ISBLANK('PlSp13-18'!Q20),\"\",'PlSp13-18'!Q20)","v":1},{"$f":"VLOOKUP(B220,Platzzuordnung!$A$4:$B$110,2,FALSE)","v":3},null,null,null,null,null,null,null,null,null,null,null,null,null,null,null,null,null,null,null,null,null,null,null,null,null,null,null,null,null,null,null,null,null,null,null,{"$f":"IF(ISBLANK('PlSp13-18'!O20),\"0\",IF('PlSp13-18'!O20>'PlSp13-18'!Q20,3,IF('PlSp13-18'!O20='PlSp13-18'!Q20,1,0)))","v":1},{"$f":"IF(ISBLANK('PlSp13-18'!Q20),\"0\",IF('PlSp13-18'!Q20>'PlSp13-18'!O20,3,IF('PlSp13-18'!Q20='PlSp13-18'!O20,1,0)))","v":1},{"$f":"IF(ISBLANK('PlSp13-18'!O20),0,1)","v":1},{"$f":"IF(ISBLANK('PlSp13-18'!Q20),0,1)","v":1}]
[null,{"$f":"Platzzuordnung!A41","v":38},{"$f":"IF(Vorgaben!C$1=24,Platzzuordnung!S21,IF(Vorgaben!C$1=30,Platzzuordnung!S21,IF(Vorgaben!C$1=36,Platzzuordnung!S21,Platzzuordnung!D41)))","v":"10:46:00"},{"$f":"Platzzuordnung!C226","v":"00:00:00"},{"$f":"$F$211","v":"Gruppe F6"},null,null,null,null,{"$f":"$F$206","v":"Gruppe A2"},null,null,null,null,{"$f":"IF(ISBLANK('PlSp13-18'!O21),\"\",'PlSp13-18'!O21)","v":1},":",{"$f":"IF(ISBLANK('PlSp13-18'!Q21),\"\",'PlSp13-18'!Q21)","v":1},{"$f":"VLOOKUP(B221,Platzzuordnung!$A$4:$B$110,2,FALSE)","v":3},null,null,null,null,null,null,null,null,null,null,null,null,null,null,null,null,null,null,null,null,null,null,null,null,null,null,null,null,null,null,null,null,null,null,null,{"$f":"IF(ISBLANK('PlSp13-18'!O21),\"0\",IF('PlSp13-18'!O21>'PlSp13-18'!Q21,3,IF('PlSp13-18'!O21='PlSp13-18'!Q21,1,0)))","v":1},{"$f":"IF(ISBLANK('PlSp13-18'!Q21),\"0\",IF('PlSp13-18'!Q21>'PlSp13-18'!O21,3,IF('PlSp13-18'!Q21='PlSp13-18'!O21,1,0)))","v":1},{"$f":"IF(ISBLANK('PlSp13-18'!O21),0,1)","v":1},{"$f":"IF(ISBLANK('PlSp13-18'!Q21),0,1)","v":1}]
[null,{"$f":"Platzzuordnung!A42","v":39},{"$f":"IF(Vorgaben!C$1=24,Platzzuordnung!S22,IF(Vorgaben!C$1=30,Platzzuordnung!S22,IF(Vorgaben!C$1=36,Platzzuordnung!S22,Platzzuordnung!D42)))","v":"10:57:00"},{"$f":"Platzzuordnung!C227","v":"00:00:00"},{"$f":"$F$208","v":"Gruppe C4"},null,null,null,null,{"$f":"$F$210","v":"Gruppe E7"},null,null,null,null,{"$f":"IF(ISBLANK('PlSp13-18'!O22),\"\",'PlSp13-18'!O22)","v":1},":",{"$f":"IF(ISBLANK('PlSp13-18'!Q22),\"\",'PlSp13-18'!Q22)","v":1},{"$f":"VLOOKUP(B222,Platzzuordnung!$A$4:$B$110,2,FALSE)","v":3},null,null,null,null,null,null,null,null,null,null,null,null,null,null,null,null,null,null,null,null,null,null,null,null,null,null,null,null,null,null,null,null,null,null,null,{"$f":"IF(ISBLANK('PlSp13-18'!O22),\"0\",IF('PlSp13-18'!O22>'PlSp13-18'!Q22,3,IF('PlSp13-18'!O22='PlSp13-18'!Q22,1,0)))","v":1},{"$f":"IF(ISBLANK('PlSp13-18'!Q22),\"0\",IF('PlSp13-18'!Q22>'PlSp13-18'!O22,3,IF('PlSp13-18'!Q22='PlSp13-18'!O22,1,0)))","v":1},{"$f":"IF(ISBLANK('PlSp13-18'!O22),0,1)","v":1},{"$f":"IF(ISBLANK('PlSp13-18'!Q22),0,1)","v":1}]
[null,{"$f":"Platzzuordnung!A43","v":40},{"$f":"IF(Vorgaben!C$1=24,Platzzuordnung!S23,IF(Vorgaben!C$1=30,Platzzuordnung!S23,IF(Vorgaben!C$1=36,Platzzuordnung!S23,Platzzuordnung!D43)))","v":"11:19:00"},{"$f":"Platzzuordnung!C228","v":"00:00:00"},{"$f":"$F$209","v":"Gruppe D2"},null,null,null,null,{"$f":"$F$211","v":"Gruppe F6"},null,null,null,null,{"$f":"IF(ISBLANK('PlSp13-18'!O23),\"\",'PlSp13-18'!O23)","v":""},":",{"$f":"IF(ISBLANK('PlSp13-18'!Q23),\"\",'PlSp13-18'!Q23)","v":""},{"$f":"VLOOKUP(B223,Platzzuordnung!$A$4:$B$110,2,FALSE)","v":3},null,null,null,null,null,null,null,null,null,null,null,null,null,null,null,null,null,null,null,null,null,null,null,null,null,null,null,null,null,null,null,null,null,null,null,{"$f":"IF(ISBLANK('PlSp13-18'!O23),\"0\",IF('PlSp13-18'!O23>'PlSp13-18'!Q23,3,IF('PlSp13-18'!O23='PlSp13-18'!Q23,1,0)))","v":"0"},{"$f":"IF(ISBLANK('PlSp13-18'!Q23),\"0\",IF('PlSp13-18'!Q23>'PlSp13-18'!O23,3,IF('PlSp13-18'!Q23='PlSp13-18'!O23,1,0)))","v":"0"},{"$f":"IF(ISBLANK('PlSp13-18'!O23),0,1)","v":0},{"$f":"IF(ISBLANK('PlSp13-18'!Q23),0,1)","v":0}]
[null,{"$f":"Platzzuordnung!A44","v":41},{"$f":"IF(Vorgaben!C$1=24,Platzzuordnung!S24,IF(Vorgaben!C$1=30,Platzzuordnung!S24,IF(Vorgaben!C$1=36,Platzzuordnung!S24,Platzzuordnung!D44)))","v":"12:15:00"},{"$f":"Platzzuordnung!C229","v":"00:00:00"},{"$f":"$F$206","v":"Gruppe A2"},null,null,null,null,{"$f":"$F$210","v":"Gruppe E7"},null,null,null,null,{"$f":"IF(ISBLANK('PlSp13-18'!O24),\"\",'PlSp13-18'!O24)","v":""},":",{"$f":"IF(ISBLANK('PlSp13-18'!Q24),\"\",'PlSp13-18'!Q24)","v":""},{"$f":"VLOOKUP(B224,Platzzuordnung!$A$4:$B$110,2,FALSE)","v":3},null,null,null,null,null,null,null,null,null,null,null,null,null,null,null,null,null,null,null,null,null,null,null,null,null,null,null,null,null,null,null,null,null,null,null,{"$f":"IF(ISBLANK('PlSp13-18'!O24),\"0\",IF('PlSp13-18'!O24>'PlSp13-18'!Q24,3,IF('PlSp13-18'!O24='PlSp13-18'!Q24,1,0)))","v":"0"},{"$f":"IF(ISBLANK('PlSp13-18'!Q24),\"0\",IF('PlSp13-18'!Q24>'PlSp13-18'!O24,3,IF('PlSp13-18'!Q24='PlSp13-18'!O24,1,0)))","v":"0"},{"$f":"IF(ISBLANK('PlSp13-18'!O24),0,1)","v":0},{"$f":"IF(ISBLANK('PlSp13-18'!Q24),0,1)","v":0}]
[null,{"$f":"Platzzuordnung!A45","v":42},{"$f":"IF(Vorgaben!C$1=24,Platzzuordnung!S25,IF(Vorgaben!C$1=30,Platzzuordnung!S25,IF(Vorgaben!C$1=36,Platzzuordnung!S25,Platzzuordnung!D45)))","v":"12:37:00"},{"$f":"Platzzuordnung!C230","v":"00:00:00"},{"$f":"$F$211","v":"Gruppe F6"},null,null,null,null,{"$f":"$F$207","v":"Gruppe B6"},null,null,null,null,{"$f":"IF(ISBLANK('PlSp13-18'!O25),\"\",'PlSp13-18'!O25)","v":""},":",{"$f":"IF(ISBLANK('PlSp13-18'!Q25),\"\",'PlSp13-18'!Q25)","v":""},{"$f":"VLOOKUP(B225,Platzzuordnung!$A$4:$B$110,2,FALSE)","v":3},null,null,null,null,null,null,null,null,null,null,null,null,null,null,null,null,null,null,null,null,null,null,null,null,null,null,null,null,null,null,null,null,null,null,null,{"$f":"IF(ISBLANK('PlSp13-18'!O25),\"0\",IF('PlSp13-18'!O25>'PlSp13-18'!Q25,3,IF('PlSp13-18'!O25='PlSp13-18'!Q25,1,0)))","v":"0"},{"$f":"IF(ISBLANK('PlSp13-18'!Q25),\"0\",IF('PlSp13-18'!Q25>'PlSp13-18'!O25,3,IF('PlSp13-18'!Q25='PlSp13-18'!O25,1,0)))","v":"0"},{"$f":"IF(ISBLANK('PlSp13-18'!O25),0,1)","v":0},{"$f":"IF(ISBLANK('PlSp13-18'!Q25),0,1)","v":0}]
[null,{"$f":"Platzzuordnung!A46","v":43},{"$f":"IF(Vorgaben!C$1=24,Platzzuordnung!S26,IF(Vorgaben!C$1=30,Platzzuordnung!S26,IF(Vorgaben!C$1=36,Platzzuordnung!S26,Platzzuordnung!D46)))","v":"12:48:00"},{"$f":"Platzzuordnung!C231","v":"00:00:00"},{"$f":"$F$209","v":"Gruppe D2"},null,null,null,null,{"$f":"$F$206","v":"Gruppe A2"},null,null,null,null,{"$f":"IF(ISBLANK('PlSp13-18'!O26),\"\",'PlSp13-18'!O26)","v":""},":",{"$f":"IF(ISBLANK('PlSp13-18'!Q26),\"\",'PlSp13-18'!Q26)","v":""},{"$f":"VLOOKUP(B226,Platzzuordnung!$A$4:$B$110,2,FALSE)","v":3},null,null,null,null,null,null,null,null,null,null,null,null,null,null,null,null,null,null,null,null,null,null,null,null,null,null,null,null,null,null,null,null,null,null,null,{"$f":"IF(ISBLANK('PlSp13-18'!O26),\"0\",IF('PlSp13-18'!O26>'PlSp13-18'!Q26,3,IF('PlSp13-18'!O26='PlSp13-18'!Q26,1,0)))","v":"0"},{"$f":"IF(ISBLANK('PlSp13-18'!Q26),\"0\",IF('PlSp13-18'!Q26>'PlSp13-18'!O26,3,IF('PlSp13-18'!Q26='PlSp13-18'!O26,1,0)))","v":"0"},{"$f":"IF(ISBLANK('PlSp13-18'!O26),0,1)","v":0},{"$f":"IF(ISBLANK('PlSp13-18'!Q26),0,1)","v":0}]
[null,{"$f":"Platzzuordnung!A47","v":44},{"$f":"IF(Vorgaben!C$1=24,Platzzuordnung!S27,IF(Vorgaben!C$1=30,Platzzuordnung!S27,IF(Vorgaben!C$1=36,Platzzuordnung!S27,Platzzuordnung!D47)))","v":"13:10:00"},{"$f":"Platzzuordnung!C232","v":"00:00:00"},{"$f":"$F$208","v":"Gruppe C4"},null,null,null,null,{"$f":"$F$211","v":"Gruppe F6"},null,null,null,null,{"$f":"IF(ISBLANK('PlSp13-18'!O27),\"\",'PlSp13-18'!O27)","v":1},":",{"$f":"IF(ISBLANK('PlSp13-18'!Q27),\"\",'PlSp13-18'!Q27)","v":0},{"$f":"VLOOKUP(B227,Platzzuordnung!$A$4:$B$110,2,FALSE)","v":3},null,null,null,null,null,null,null,null,null,null,null,null,null,null,null,null,null,null,null,null,null,null,null,null,null,null,null,null,null,null,null,null,null,null,null,{"$f":"IF(ISBLANK('PlSp13-18'!O27),\"0\",IF('PlSp13-18'!O27>'PlSp13-18'!Q27,3,IF('PlSp13-18'!O27='PlSp13-18'!Q27,1,0)))","v":3},{"$f":"IF(ISBLANK('PlSp13-18'!Q27),\"0\",IF('PlSp13-18'!Q27>'PlSp13-18'!O27,3,IF('PlSp13-18'!Q27='PlSp13-18'!O27,1,0)))","v":0},{"$f":"IF(ISBLANK('PlSp13-18'!O27),0,1)","v":1},{"$f":"IF(ISBLANK('PlSp13-18'!Q27),0,1)","v":1}]
[null,{"$f":"Platzzuordnung!A48","v":45},{"$f":"IF(Vorgaben!C$1=24,Platzzuordnung!S28,IF(Vorgaben!C$1=30,Platzzuordnung!S28,IF(Vorgaben!C$1=36,Platzzuordnung!S28,Platzzuordnung!D48)))","v":"13:21:00"},{"$f":"Platzzuordnung!C233","v":"00:00:00"},{"$f":"$F$207","v":"Gruppe B6"},null,null,null,null,{"$f":"$F$209","v":"Gruppe D2"},null,null,null,null,{"$f":"IF(ISBLANK('PlSp13-18'!O28),\"\",'PlSp13-18'!O28)","v":2},":",{"$f":"IF(ISBLANK('PlSp13-18'!Q28),\"\",'PlSp13-18'!Q28)","v":2},{"$f":"VLOOKUP(B228,Platzzuordnung!$A$4:$B$110,2,FALSE)","v":3},null,null,null,null,null,null,null,null,null,null,null,null,null,null,null,null,null,null,null,null,null,null,null,null,null,null,null,null,null,null,null,null,null,null,null,{"$f":"IF(ISBLANK('PlSp13-18'!O28),\"0\",IF('PlSp13-18'!O28>'PlSp13-18'!Q28,3,IF('PlSp13-18'!O28='PlSp13-18'!Q28,1,0)))","v":1},{"$f":"IF(ISBLANK('PlSp13-18'!Q28),\"0\",IF('PlSp13-18'!Q28>'PlSp13-18'!O28,3,IF('PlSp13-18'!Q28='PlSp13-18'!O28,1,0)))","v":1},{"$f":"IF(ISBLANK('PlSp13-18'!O28),0,1)","v":1},{"$f":"IF(ISBLANK('PlSp13-18'!Q28),0,1)","v":1}]
[null,null,null,null,null,null,null,null,null,null,null,null,null,null,null,null,null,null,null,null,null,null,null,null,null,null,null,null,null,null,null,null,null,null,null,null,null,null,null,null,null,null,null,null,null,null,null,null,null,null,null,null,null,null,null,{"$f":"IF(BD231=\"Min. 3 Teams identisch.  HANDSORTIERUNG!\",BD231,IF(BD231=\"ACHTUNG! Direkter Vergleich war unentschieden!\",BD231,BD230))","v":""}]
[null,null,null,null,null,null,null,null,null,null,null,null,null,null,null,null,null,null,null,null,null,null,null,null,null,null,null,null,null,null,null,null,null,null,null,null,null,null,null,null,null,null,null,null,null,null,null,null,null,null,null,null,null,null,null,{"$f":"IF(AND(EXACT(BF233,BF234),EXACT(BG233,BG234),EXACT(BI233,BI234)),\"ACHTUNG: Direkter Vergleich erfolgreich durchlaufen!\",IF(AND(EXACT(BF234,BF235),EXACT(BG234,BG235),EXACT(BI234,BI235)),\"ACHTUNG: Direkter Vergleich erfolgreich durchlaufen!\",IF(AND(EXACT(BF235,BF236),EXACT(BG235,BG236),EXACT(BI235,BI236)),\"ACHTUNG: Direkter Vergleich erfolgreich durchlaufen!\",IF(AND(EXACT(BF236,BF237),EXACT(BG236,BG237),EXACT(BI236,BI237)),\"ACHTUNG: Direkter Vergleich erfolgreich durchlaufen!\",IF(AND(EXACT(BF237,BF238),EXACT(BG237,BG238),EXACT(BI237,BI238)),\"ACHTUNG: Direkter Vergleich erfolgreich durchlaufen!\",\"\")))))","v":""}]
[null,"Tabelle",null,null,null,null,null,null,"Spiele",null,"Punkte",null,"Differenz",null,"Tore",null,null,null,null,null,null,null,null,null,null,null,null,null,null,null,null,null,null,null,null,null,null,null,null,null,null,null,null,null,null,null,null,null,null,null,null,null,null,null,null,{"$f":"IF(OR(BS233=3,BS234=3,BS235=3,BS236=3,BS237=3,BS238=3),\"Min. 3 Teams identisch.  HANDSORTIERUNG!\",IF(OR(BR233=\"ACHTUNG! Direkter Vergleich war unentschieden!\",BR234=\"ACHTUNG! Direkter Vergleich war unentschieden!\",BR235=\"ACHTUNG! Direkter Vergleich war unentschieden!\",BR236=\"ACHTUNG! Direkter Vergleich war unentschieden!\",BR237=\"ACHTUNG! Direkter Vergleich war unentschieden!\",BR238=\"ACHTUNG! Direkter Vergleich war unentschieden!\"),\"ACHTUNG! Direkter Vergleich war unentschieden!\",\"\"))","v":""}]
[null,1,{"$f":"BD233","v":"Gruppe C4"},null,null,null,null,null,{"$f":"BE233","v":5},null,{"$f":"BF233","v":7},null,{"$f":"BI233","v":1},null,{"$f":"BG233","v":5},":",{"$f":"BH233","v":4},null,null,null,null,null,null,null,null,null,null,null,null,null,null,null,null,null,null,null,null,null,null,null,null,null,null,null,null,null,null,null,null,null,null,null,null,null,null,"Mannschaft","Spiele","Punkte","Tore+","Tore-","Diff"]
[null,2,{"$f":"BD234","v":"Gruppe B6"},null,null,null,null,null,{"$f":"BE234","v":4},null,{"$f":"BF234","v":4},null,{"$f":"BI234","v":0},null,{"$f":"BG234","v":5},":",{"$f":"BH234","v":5},null,null,null,null,null,null,null,null,null,null,null,null,null,null,null,null,null,null,null,null,null,null,null,null,null,null,null,null,null,null,null,null,null,null,null,null,null,{"$f":"INDEX('GR Platzierungsspiele VR'!$C$4:$D$9,MATCH(BD233,'GR Platzierungsspiele VR'!$C$4:$C$9,0),2)","v":0},{"$f":"F$208","v":"Gruppe C4"},{"$f":"SUMIF($E$214:$I$228,$BD233,$BD$214:$BD$228)+SUMIF($J$214:$N$228,$BD233,$BE$214:$BE$228)","v":5},{"$f":"SUMIF($E$214:$I$228,$BD233,$BB$214:$BB$228)+SUMIF($J$214:$N$228,$BD233,$BC$214:$BC$228)","v":7},{"$f":"SUMIF($E$214:$I$228,$BD233,$O$214:$O$228)+SUMIF($J$214:$N$228,$BD233,Q$214:$Q$228)","v":5},{"$f":"SUMIF($E$214:$I$228,$BD233,$Q$214:$Q$228)+SUMIF($J$214:$N$228,$BD233,$O$214:$O$228)","v":4},{"$f":"BG233-BH233","v":1},{"$f":"BL233","v":0},null,{"$f":"IF(BN233>BO234,10,IF(BN233<BO234,-10,0))","v":0},null,{"$f":"IF(ISNA(INDEX(BB$214:BB$228,MATCH(BD233&BD234,E$214:E$228&J$214:J$228,0))),INDEX(BC$214:BC$228,MATCH(BD234&BD233,E$214:E$228&J$214:J$228,0)),INDEX(BB$214:BB$228,MATCH(BD233&BD234,E$214:E$228&J$214:J$228,0)))","v":1},null,{"$f":"IF(AND(EXACT(BF233,BF234),EXACT(BG233,BG234),EXACT(BI233,BI234),EXACT(BN233,BO234)),\"ACHTUNG! Direkter Vergleich war unentschieden!\",IF(AND(EXACT(BF233,BF234),EXACT(BG233,BG234),EXACT(BI233,BI234)),1,2))","v":2},null,{"$f":"IF(OR(BP233=\"ACHTUNG! Direkter Vergleich war unentschieden!\",BQ233=\"ACHTUNG! Direkter Vergleich war unentschieden!\"),\"ACHTUNG! Direkter Vergleich war unentschieden!\",\"\")","v":""},{"$f":"IF(OR(AND(EXACT(BE233,BE234),EXACT(BF233,BF234),EXACT(BI233,BI234),EXACT(BE233,BE235),EXACT(BF233,BF235),EXACT(BI233,BI235)),AND(EXACT(BE233,BE234),EXACT(BF233,BF234),EXACT(BI233,BI234),EXACT(BE233,BE232),EXACT(BF233,BF232),EXACT(BI233,BI232))*AND(EXACT(BE233,BE231),EXACT(BF233,BF231),EXACT(BI233,BI231),EXACT(BE233,BE232),EXACT(BF233,BF232),EXACT(BI233,BI232))),3,1)","v":1}]
[null,3,"Gruppe E7",null,null,null,null,null,4,null,4,null,0,null,4,":",4,null,null,null,null,null,null,null,null,null,null,null,null,null,null,null,null,null,null,null,null,null,null,null,null,null,null,null,null,null,null,null,null,null,null,null,null,null,{"$f":"INDEX('GR Platzierungsspiele VR'!$C$4:$D$9,MATCH(BD234,'GR Platzierungsspiele VR'!$C$4:$C$9,0),2)","v":0},{"$f":"F$207","v":"Gruppe B6"},4,4,{"$f":"SUMIF($E$214:$I$228,$BD234,$O$214:$O$228)+SUMIF($J$214:$N$228,$BD234,Q$214:$Q$228)","v":5},5,0,{"$f":"BL234","v":0},{"$f":"BM234","v":0},{"$f":"IF(BN233<BO234,10,IF(BN233>BO234,-10,0))","v":0},{"$f":"IF(BN234>BO235,10,IF(BN234<BO235,-10,0))","v":0},{"$f":"IF(ISNA(INDEX(BB$214:BB$228,MATCH(BD234&BD235,E$214:E$228&J$214:J$228,0))),INDEX(BC$214:BC$228,MATCH(BD235&BD234,E$214:E$228&J$214:J$228,0)),INDEX(BB$214:BB$228,MATCH(BD234&BD235,E$214:E$228&J$214:J$228,0)))","v":1},{"$f":"IF(ISNA(INDEX(BB$214:BB$228,MATCH(BD234&BD233,E$214:E$228&J$214:J$228,0))),INDEX(BC$214:BC$228,MATCH(BD233&BD234,E$214:E$228&J$214:J$228,0)),INDEX(BB$214:BB$228,MATCH(BD234&BD233,E$214:E$228&J$214:J$228,0)))","v":1},2,{"$f":"IF(AND(EXACT(BF233,BF234),EXACT(BG233,BG234),EXACT(BI233,BI234),EXACT(BO234,BN233)),\"ACHTUNG! Direkter Vergleich war unentschieden!\",IF(AND(EXACT(BF233,BF234),EXACT(BG233,BG234),EXACT(BI233,BI234)),1,2))","v":2},"",1]
[null,4,"Gruppe D2",null,null,null,null,null,3,null,3,null,0,null,4,":",4,null,null,null,null,null,null,null,null,null,null,null,null,null,null,null,null,null,null,null,null,null,null,null,null,null,null,null,null,null,null,null,null,null,null,null,null,null,{"$f":"INDEX('GR Platzierungsspiele VR'!$C$4:$D$9,MATCH(BD235,'GR Platzierungsspiele VR'!$C$4:$C$9,0),2)","v":0},{"$f":"F$210","v":"Gruppe E7"},4,4,{"$f":"SUMIF($E$214:$I$228,$BD235,$O$214:$O$228)+SUMIF($J$214:$N$228,$BD235,Q$214:$Q$228)","v":4},4,0,{"$f":"BL235","v":0},0,{"$f":"IF(BN234<BO235,10,IF(BN234>BO235,-10,0))","v":0},{"$f":"IF(BN235>BO236,10,IF(BN235<BO236,-10,0))","v":0},{"$f":"IF(ISNA(INDEX(BB$214:BB$228,MATCH(BD235&BD236,E$214:E$228&J$214:J$228,0))),INDEX(BC$214:BC$228,MATCH(BD236&BD235,E$214:E$228&J$214:J$228,0)),INDEX(BB$214:BB$228,MATCH(BD235&BD236,E$214:E$228&J$214:J$228,0)))","v":1},{"$f":"IF(ISNA(INDEX(BB$214:BB$228,MATCH(BD235&BD234,E$214:E$228&J$214:J$228,0))),INDEX(BC$214:BC$228,MATCH(BD234&BD235,E$214:E$228&J$214:J$228,0)),INDEX(BB$214:BB$228,MATCH(BD235&BD234,E$214:E$228&J$214:J$228,0)))","v":1},2,{"$f":"IF(AND(EXACT(BF234,BF235),EXACT(BG234,BG235),EXACT(BI234,BI235),EXACT(BO235,BN234)),\"ACHTUNG! Direkter Vergleich war unentschieden!\",IF(AND(EXACT(BF234,BF235),EXACT(BG234,BG235),EXACT(BI234,BI235)),1,2))","v":2},"",{"$f":"IF(OR(AND(EXACT(BE235,BE236),EXACT(BF235,BF236),EXACT(BI235,BI236),EXACT(BE235,BE237),EXACT(BF235,BF237),EXACT(BI235,BI237)),AND(EXACT(BE235,BE236),EXACT(BF235,BF236),EXACT(BI235,BI236),EXACT(BE235,BE234),EXACT(BF235,BF234),EXACT(BI235,BI234))*AND(EXACT(BE235,BE233),EXACT(BF235,BF233),EXACT(BI235,BI233),EXACT(BE235,BE234),EXACT(BF235,BF234),EXACT(BI235,BI234))),3,1)","v":1}]
[null,5,"Gruppe A2",null,null,null,null,null,3,null,3,null,0,null,3,":",3,null,null,null,null,null,null,null,null,null,null,null,null,null,null,null,null,null,null,null,null,null,null,null,null,null,null,null,null,null,null,null,null,null,null,null,null,null,{"$f":"INDEX('GR Platzierungsspiele VR'!$C$4:$D$9,MATCH(BD236,'GR Platzierungsspiele VR'!$C$4:$C$9,0),2)","v":0},{"$f":"F$209","v":"Gruppe D2"},3,3,{"$f":"SUMIF($E$214:$I$228,$BD236,$O$214:$O$228)+SUMIF($J$214:$N$228,$BD236,Q$214:$Q$228)","v":4},4,0,0,0,{"$f":"IF(BN235<BO236,10,IF(BN235>BO236,-10,0))","v":0},{"$f":"IF(BN235<BO236,10,IF(BN235>BO236,-10,0))","v":0},{"$f":"IF(ISNA(INDEX(BB$214:BB$228,MATCH(BD236&BD237,E$214:E$228&J$214:J$228,0))),INDEX(BC$214:BC$228,MATCH(BD237&BD236,E$214:E$228&J$214:J$228,0)),INDEX(BB$214:BB$228,MATCH(BD236&BD237,E$214:E$228&J$214:J$228,0)))","v":"0"},{"$f":"IF(ISNA(INDEX(BB$214:BB$228,MATCH(BD236&BD235,E$214:E$228&J$214:J$228,0))),INDEX(BC$214:BC$228,MATCH(BD235&BD236,E$214:E$228&J$214:J$228,0)),INDEX(BB$214:BB$228,MATCH(BD236&BD235,E$214:E$228&J$214:J$228,0)))","v":1},2,2,"",{"$f":"IF(OR(AND(EXACT(BE236,BE237),EXACT(BF236,BF237),EXACT(BI236,BI237),EXACT(BE236,BE238),EXACT(BF236,BF238),EXACT(BI236,BI238)),AND(EXACT(BE236,BE237),EXACT(BF236,BF237),EXACT(BI236,BI237),EXACT(BE236,BE235),EXACT(BF236,BF235),EXACT(BI236,BI235))*AND(EXACT(BE236,BE234),EXACT(BF236,BF234),EXACT(BI236,BI234),EXACT(BE236,BE235),EXACT(BF236,BF235),EXACT(BI236,BI235))),3,1)","v":1}]
[null,6,"Gruppe F6",null,null,null,null,null,3,null,2,null,-1,null,2,":",3,null,null,null,null,null,null,null,null,null,null,null,null,null,null,null,null,null,null,null,null,null,null,null,null,null,null,null,null,null,null,null,null,null,null,null,null,null,{"$f":"INDEX('GR Platzierungsspiele VR'!$C$4:$D$9,MATCH(BD237,'GR Platzierungsspiele VR'!$C$4:$C$9,0),2)","v":0},{"$f":"F$206","v":"Gruppe A2"},3,3,{"$f":"SUMIF($E$214:$I$228,$BD237,$O$214:$O$228)+SUMIF($J$214:$N$228,$BD237,Q$214:$Q$228)","v":3},3,0,0,0,{"$f":"IF(BN236<BO237,10,IF(BN236>BO237,-10,0))","v":0},{"$f":"IF(BN237>BO238,10,IF(BN237<BO238,-10,0))","v":0},{"$f":"IF(ISNA(INDEX(BB$214:BB$228,MATCH(BD237&BD238,E$214:E$228&J$214:J$228,0))),INDEX(BC$214:BC$228,MATCH(BD238&BD237,E$214:E$228&J$214:J$228,0)),INDEX(BB$214:BB$228,MATCH(BD237&BD238,E$214:E$228&J$214:J$228,0)))","v":1},{"$f":"IF(ISNA(INDEX(BB$214:BB$228,MATCH(BD237&BD236,E$214:E$228&J$214:J$228,0))),INDEX(BC$214:BC$228,MATCH(BD236&BD237,E$214:E$228&J$214:J$228,0)),INDEX(BB$214:BB$228,MATCH(BD237&BD236,E$214:E$228&J$214:J$228,0)))","v":"0"},{"$f":"IF(AND(EXACT(BF237,BF238),EXACT(BG237,BG238),EXACT(BI237,BI238),EXACT(BN237,BO238)),\"ACHTUNG! Direkter Vergleich war unentschieden!\",IF(AND(EXACT(BF237,BF238),EXACT(BG237,BG238),EXACT(BI237,BI238)),1,2))","v":2},2,"",1]
[null,null,null,null,null,null,null,null,null,null,null,null,null,null,null,null,null,null,null,null,null,null,null,null,null,null,null,null,null,null,null,null,null,null,null,null,null,null,null,null,null,null,null,null,null,null,null,null,null,null,null,null,null,null,{"$f":"INDEX('GR Platzierungsspiele VR'!$C$4:$D$9,MATCH(BD238,'GR Platzierungsspiele VR'!$C$4:$C$9,0),2)","v":0},{"$f":"F$211","v":"Gruppe F6"},3,2,{"$f":"SUMIF($E$214:$I$228,$BD238,$O$214:$O$228)+SUMIF($J$214:$N$228,$BD238,Q$214:$Q$228)","v":2},3,-1,0,0,{"$f":"IF(BN237<BO238,10,IF(BN237>BO238,-10,0))","v":0},{"$f":"IF(BN237<BO238,10,IF(BN237>BO238,-10,0))","v":0},null,{"$f":"IF(ISNA(INDEX(BB$214:BB$228,MATCH(BD238&BD237,E$214:E$228&J$214:J$228,0))),INDEX(BC$214:BC$228,MATCH(BD237&BD238,E$214:E$228&J$214:J$228,0)),INDEX(BB$214:BB$228,MATCH(BD238&BD237,E$214:E$228&J$214:J$228,0)))","v":1},null,2,"",1]
[]
[]
[]
[]
[]
[]
[]
[]
[]
[]
[]
[]
[]
[]
[]
[]
[]
[]
[]
[]
[]
[]
[]
[]
[]
[]
[]
[]
[]
[]
[]
[]
[]
[]
[]
[]
[]
[]
[]
[]
[]
[]
[]
[]
[]
[]
[]
[]
[]
[]
[]
[]
[]
[]
[]
[]
[]
[]
[]
[]
[]
[]
[null,"Platzierungsspiele"]
[null,"19-24"]
[null,null,"Beginn:",null,{"$f":"Vorgaben!G4","v":"08:45:00"},"Uhr","Spielzeit:",null,{"$f":"Vorgaben!G5","v":1},"x",{"$f":"Vorgaben!G6","v":6.9444444444444441E-3},"min.","Pause:",null,{"$f":"Vorgaben!G7","v":6.9444444444444447E-4},"Min."]
[null,null,null,null,null,null,null,null,null,null,null,null,null,"Halbzeit:",{"$f":"IF(Vorgaben!G5>1,Vorgaben!G8,0)","v":0},"Min."]
[null,null,null,null,"Mannschaften:"]
[null,null,null,null,"1.",{"$f":"'GR Platzierungsspiele VR'!G4","v":"Gruppe A6"}]
[null,null,null,null,"2.",{"$f":"'GR Platzierungsspiele VR'!G5","v":"Gruppe B5"}]
[null,null,null,null,"3.",{"$f":"'GR Platzierungsspiele VR'!G6","v":"Gruppe C3"}]
[null,null,null,null,"4.",{"$f":"'GR Platzierungsspiele VR'!G7","v":"Gruppe D3"}]
[null,null,null,null,"5.",{"$f":"'GR Platzierungsspiele VR'!G8","v":"Gruppe E4"}]
[null,null,null,null,"6.",{"$f":"'GR Platzierungsspiele VR'!G9","v":"Gruppe F4"}]
[]
[null,"Nr.","Beginn",null,"Mannschaft1",null,null,null,null,"Mannschaft2",null,null,null,null,"Ergebnis",null,null,"Platz",null,null,null,null,null,null,null,null,null,null,null,null,null,null,null,null,null,null,null,null,null,null,null,null,null,null,null,null,null,null,null,null,null,null,null,"Punkte"]
[null,{"$f":"Platzzuordnung!A49","v":46},{"$f":"IF(Vorgaben!C$1=24,Platzzuordnung!S14,IF(Vorgaben!C$1=30,Platzzuordnung!S14,IF(Vorgaben!C$1=36,Platzzuordnung!S14,Platzzuordnung!D49)))","v":"08:56:00"},{"$f":"Platzzuordnung!C319","v":"00:00:00"},{"$f":"$F$306","v":"Gruppe A6"},null,null,null,null,{"$f":"$F$307","v":"Gruppe B5"},null,null,null,null,{"$f":"IF(ISBLANK('PlSp19-24'!O14),\"\",'PlSp19-24'!O14)","v":1},":",{"$f":"IF(ISBLANK('PlSp19-24'!Q14),\"\",'PlSp19-24'!Q14)","v":1},{"$f":"VLOOKUP(B314,Platzzuordnung!$A$4:$B$210,2,FALSE)","v":4},null,null,null,null,null,null,null,null,null,null,null,null,null,null,null,null,null,null,null,null,null,null,null,null,null,null,null,null,null,null,null,null,null,null,null,{"$f":"IF(ISBLANK('PlSp19-24'!O14),\"0\",IF('PlSp19-24'!O14>'PlSp19-24'!Q14,3,IF('PlSp19-24'!O14='PlSp19-24'!Q14,1,0)))","v":1},{"$f":"IF(ISBLANK('PlSp19-24'!Q14),\"0\",IF('PlSp19-24'!Q14>'PlSp19-24'!O14,3,IF('PlSp19-24'!Q14='PlSp19-24'!O14,1,0)))","v":1},{"$f":"IF(ISBLANK('PlSp19-24'!O14),0,1)","v":1},{"$f":"IF(ISBLANK('PlSp19-24'!Q14),0,1)","v":1}]
[null,{"$f":"Platzzuordnung!A50","v":47},{"$f":"IF(Vorgaben!C$1=24,Platzzuordnung!S15,IF(Vorgaben!C$1=30,Platzzuordnung!S15,IF(Vorgaben!C$1=36,Platzzuordnung!S15,Platzzuordnung!D50)))","v":"09:07:00"},{"$f":"Platzzuordnung!C320","v":"00:00:00"},{"$f":"$F$308","v":"Gruppe C3"},null,null,null,null,{"$f":"$F$309","v":"Gruppe D3"},null,null,null,null,{"$f":"IF(ISBLANK('PlSp19-24'!O15),\"\",'PlSp19-24'!O15)","v":2},":",{"$f":"IF(ISBLANK('PlSp19-24'!Q15),\"\",'PlSp19-24'!Q15)","v":1},{"$f":"VLOOKUP(B315,Platzzuordnung!$A$4:$B$210,2,FALSE)","v":4},null,null,null,null,null,null,null,null,null,null,null,null,null,null,null,null,null,null,null,null,null,null,null,null,null,null,null,null,null,null,null,null,null,null,null,{"$f":"IF(ISBLANK('PlSp19-24'!O15),\"0\",IF('PlSp19-24'!O15>'PlSp19-24'!Q15,3,IF('PlSp19-24'!O15='PlSp19-24'!Q15,1,0)))","v":3},{"$f":"IF(ISBLANK('PlSp19-24'!Q15),\"0\",IF('PlSp19-24'!Q15>'PlSp19-24'!O15,3,IF('PlSp19-24'!Q15='PlSp19-24'!O15,1,0)))","v":0},{"$f":"IF(ISBLANK('PlSp19-24'!O15),0,1)","v":1},{"$f":"IF(ISBLANK('PlSp19-24'!Q15),0,1)","v":1}]
[null,{"$f":"Platzzuordnung!A51","v":48},{"$f":"IF(Vorgaben!C$1=24,Platzzuordnung!S16,IF(Vorgaben!C$1=30,Platzzuordnung!S16,IF(Vorgaben!C$1=36,Platzzuordnung!S16,Platzzuordnung!D51)))","v":"09:29:00"},{"$f":"Platzzuordnung!C321","v":"00:00:00"},{"$f":"$F$310","v":"Gruppe E4"},null,null,null,null,{"$f":"$F$311","v":"Gruppe F4"},null,null,null,null,{"$f":"IF(ISBLANK('PlSp19-24'!O16),\"\",'PlSp19-24'!O16)","v":1},":",{"$f":"IF(ISBLANK('PlSp19-24'!Q16),\"\",'PlSp19-24'!Q16)","v":1},{"$f":"VLOOKUP(B316,Platzzuordnung!$A$4:$B$210,2,FALSE)","v":4},null,null,null,null,null,null,null,null,null,null,null,null,null,null,null,null,null,null,null,null,null,null,null,null,null,null,null,null,null,null,null,null,null,null,null,{"$f":"IF(ISBLANK('PlSp19-24'!O16),\"0\",IF('PlSp19-24'!O16>'PlSp19-24'!Q16,3,IF('PlSp19-24'!O16='PlSp19-24'!Q16,1,0)))","v":1},{"$f":"IF(ISBLANK('PlSp19-24'!Q16),\"0\",IF('PlSp19-24'!Q16>'PlSp19-24'!O16,3,IF('PlSp19-24'!Q16='PlSp19-24'!O16,1,0)))","v":1},{"$f":"IF(ISBLANK('PlSp19-24'!O16),0,1)","v":1},{"$f":"IF(ISBLANK('PlSp19-24'!Q16),0,1)","v":1}]
[null,{"$f":"Platzzuordnung!A52","v":49},{"$f":"IF(Vorgaben!C$1=24,Platzzuordnung!S17,IF(Vorgaben!C$1=30,Platzzuordnung!S17,IF(Vorgaben!C$1=36,Platzzuordnung!S17,Platzzuordnung!D52)))","v":"09:40:00"},{"$f":"Platzzuordnung!C322","v":"00:00:00"},{"$f":"$F$307","v":"Gruppe B5"},null,null,null,null,{"$f":"$F$308","v":"Gruppe C3"},null,null,null,null,{"$f":"IF(ISBLANK('PlSp19-24'!O17),\"\",'PlSp19-24'!O17)","v":1},":",{"$f":"IF(ISBLANK('PlSp19-24'!Q17),\"\",'PlSp19-24'!Q17)","v":1},{"$f":"VLOOKUP(B317,Platzzuordnung!$A$4:$B$210,2,FALSE)","v":4},null,null,null,null,null,null,null,null,null,null,null,null,null,null,null,null,null,null,null,null,null,null,null,null,null,null,null,null,null,null,null,null,null,null,null,{"$f":"IF(ISBLANK('PlSp19-24'!O17),\"0\",IF('PlSp19-24'!O17>'PlSp19-24'!Q17,3,IF('PlSp19-24'!O17='PlSp19-24'!Q17,1,0)))","v":1},{"$f":"IF(ISBLANK('PlSp19-24'!Q17),\"0\",IF('PlSp19-24'!Q17>'PlSp19-24'!O17,3,IF('PlSp19-24'!Q17='PlSp19-24'!O17,1,0)))","v":1},{"$f":"IF(ISBLANK('PlSp19-24'!O17),0,1)","v":1},{"$f":"IF(ISBLANK('PlSp19-24'!Q17),0,1)","v":1}]
[null,{"$f":"Platzzuordnung!A53","v":50},{"$f":"IF(Vorgaben!C$1=24,Platzzuordnung!S18,IF(Vorgaben!C$1=30,Platzzuordnung!S18,IF(Vorgaben!C$1=36,Platzzuordnung!S18,Platzzuordnung!D53)))","v":"10:02:00"},{"$f":"Platzzuordnung!C323","v":"00:00:00"},{"$f":"$F$309","v":"Gruppe D3"},null,null,null,null,{"$f":"$F$310","v":"Gruppe E4"},null,null,null,null,{"$f":"IF(ISBLANK('PlSp19-24'!O18),\"\",'PlSp19-24'!O18)","v":2},":",{"$f":"IF(ISBLANK('PlSp19-24'!Q18),\"\",'PlSp19-24'!Q18)","v":1},{"$f":"VLOOKUP(B318,Platzzuordnung!$A$4:$B$210,2,FALSE)","v":4},null,null,null,null,null,null,null,null,null,null,null,null,null,null,null,null,null,null,null,null,null,null,null,null,null,null,null,null,null,null,null,null,null,null,null,{"$f":"IF(ISBLANK('PlSp19-24'!O18),\"0\",IF('PlSp19-24'!O18>'PlSp19-24'!Q18,3,IF('PlSp19-24'!O18='PlSp19-24'!Q18,1,0)))","v":3},{"$f":"IF(ISBLANK('PlSp19-24'!Q18),\"0\",IF('PlSp19-24'!Q18>'PlSp19-24'!O18,3,IF('PlSp19-24'!Q18='PlSp19-24'!O18,1,0)))","v":0},{"$f":"IF(ISBLANK('PlSp19-24'!O18),0,1)","v":1},{"$f":"IF(ISBLANK('PlSp19-24'!Q18),0,1)","v":1}]
[null,{"$f":"Platzzuordnung!A54","v":51},{"$f":"IF(Vorgaben!C$1=24,Platzzuordnung!S19,IF(Vorgaben!C$1=30,Platzzuordnung!S19,IF(Vorgaben!C$1=36,Platzzuordnung!S19,Platzzuordnung!D54)))","v":"10:13:00"},{"$f":"Platzzuordnung!C324","v":"00:00:00"},{"$f":"$F$306","v":"Gruppe A6"},null,null,null,null,{"$f":"$F$308","v":"Gruppe C3"},null,null,null,null,{"$f":"IF(ISBLANK('PlSp19-24'!O19),\"\",'PlSp19-24'!O19)","v":1},":",{"$f":"IF(ISBLANK('PlSp19-24'!Q19),\"\",'PlSp19-24'!Q19)","v":1},{"$f":"VLOOKUP(B319,Platzzuordnung!$A$4:$B$210,2,FALSE)","v":4},null,null,null,null,null,null,null,null,null,null,null,null,null,null,null,null,null,null,null,null,null,null,null,null,null,null,null,null,null,null,null,null,null,null,null,{"$f":"IF(ISBLANK('PlSp19-24'!O19),\"0\",IF('PlSp19-24'!O19>'PlSp19-24'!Q19,3,IF('PlSp19-24'!O19='PlSp19-24'!Q19,1,0)))","v":1},{"$f":"IF(ISBLANK('PlSp19-24'!Q19),\"0\",IF('PlSp19-24'!Q19>'PlSp19-24'!O19,3,IF('PlSp19-24'!Q19='PlSp19-24'!O19,1,0)))","v":1},{"$f":"IF(ISBLANK('PlSp19-24'!O19),0,1)","v":1},{"$f":"IF(ISBLANK('PlSp19-24'!Q19),0,1)","v":1}]
[null,{"$f":"Platzzuordnung!A55","v":52},{"$f":"IF(Vorgaben!C$1=24,Platzzuordnung!S20,IF(Vorgaben!C$1=30,Platzzuordnung!S20,IF(Vorgaben!C$1=36,Platzzuordnung!S20,Platzzuordnung!D55)))","v":"10:35:00"},{"$f":"Platzzuordnung!C325","v":"00:00:00"},{"$f":"$F$310","v":"Gruppe E4"},null,null,null,null,{"$f":"$F$307","v":"Gruppe B5"},null,null,null,null,{"$f":"IF(ISBLANK('PlSp19-24'!O20),\"\",'PlSp19-24'!O20)","v":1},":",{"$f":"IF(ISBLANK('PlSp19-24'!Q20),\"\",'PlSp19-24'!Q20)","v":1},{"$f":"VLOOKUP(B320,Platzzuordnung!$A$4:$B$210,2,FALSE)","v":4},null,null,null,null,null,null,null,null,null,null,null,null,null,null,null,null,null,null,null,null,null,null,null,null,null,null,null,null,null,null,null,null,null,null,null,{"$f":"IF(ISBLANK('PlSp19-24'!O20),\"0\",IF('PlSp19-24'!O20>'PlSp19-24'!Q20,3,IF('PlSp19-24'!O20='PlSp19-24'!Q20,1,0)))","v":1},{"$f":"IF(ISBLANK('PlSp19-24'!Q20),\"0\",IF('PlSp19-24'!Q20>'PlSp19-24'!O20,3,IF('PlSp19-24'!Q20='PlSp19-24'!O20,1,0)))","v":1},{"$f":"IF(ISBLANK('PlSp19-24'!O20),0,1)","v":1},{"$f":"IF(ISBLANK('PlSp19-24'!Q20),0,1)","v":1}]
[null,{"$f":"Platzzuordnung!A56","v":53},{"$f":"IF(Vorgaben!C$1=24,Platzzuordnung!S21,IF(Vorgaben!C$1=30,Platzzuordnung!S21,IF(Vorgaben!C$1=36,Platzzuordnung!S21,Platzzuordnung!D56)))","v":"10:46:00"},{"$f":"Platzzuordnung!C326","v":"00:00:00"},{"$f":"$F$311","v":"Gruppe F4"},null,null,null,null,{"$f":"$F$306","v":"Gruppe A6"},null,null,null,null,{"$f":"IF(ISBLANK('PlSp19-24'!O21),\"\",'PlSp19-24'!O21)","v":1},":",{"$f":"IF(ISBLANK('PlSp19-24'!Q21),\"\",'PlSp19-24'!Q21)","v":1},{"$f":"VLOOKUP(B321,Platzzuordnung!$A$4:$B$210,2,FALSE)","v":4},null,null,null,null,null,null,null,null,null,null,null,null,null,null,null,null,null,null,null,null,null,null,null,null,null,null,null,null,null,null,null,null,null,null,null,{"$f":"IF(ISBLANK('PlSp19-24'!O21),\"0\",IF('PlSp19-24'!O21>'PlSp19-24'!Q21,3,IF('PlSp19-24'!O21='PlSp19-24'!Q21,1,0)))","v":1},{"$f":"IF(ISBLANK('PlSp19-24'!Q21),\"0\",IF('PlSp19-24'!Q21>'PlSp19-24'!O21,3,IF('PlSp19-24'!Q21='PlSp19-24'!O21,1,0)))","v":1},{"$f":"IF(ISBLANK('PlSp19-24'!O21),0,1)","v":1},{"$f":"IF(ISBLANK('PlSp19-24'!Q21),0,1)","v":1}]
[null,{"$f":"Platzzuordnung!A57","v":54},{"$f":"IF(Vorgaben!C$1=24,Platzzuordnung!S22,IF(Vorgaben!C$1=30,Platzzuordnung!S22,IF(Vorgaben!C$1=36,Platzzuordnung!S22,Platzzuordnung!D57)))","v":"11:08:00"},{"$f":"Platzzuordnung!C327","v":"00:00:00"},{"$f":"$F$308","v":"Gruppe C3"},null,null,null,null,{"$f":"$F$310","v":"Gruppe E4"},null,null,null,null,{"$f":"IF(ISBLANK('PlSp19-24'!O22),\"\",'PlSp19-24'!O22)","v":1},":",{"$f":"IF(ISBLANK('PlSp19-24'!Q22),\"\",'PlSp19-24'!Q22)","v":2},{"$f":"VLOOKUP(B322,Platzzuordnung!$A$4:$B$210,2,FALSE)","v":4},null,null,null,null,null,null,null,null,null,null,null,null,null,null,null,null,null,null,null,null,null,null,null,null,null,null,null,null,null,null,null,null,null,null,null,{"$f":"IF(ISBLANK('PlSp19-24'!O22),\"0\",IF('PlSp19-24'!O22>'PlSp19-24'!Q22,3,IF('PlSp19-24'!O22='PlSp19-24'!Q22,1,0)))","v":0},{"$f":"IF(ISBLANK('PlSp19-24'!Q22),\"0\",IF('PlSp19-24'!Q22>'PlSp19-24'!O22,3,IF('PlSp19-24'!Q22='PlSp19-24'!O22,1,0)))","v":3},{"$f":"IF(ISBLANK('PlSp19-24'!O22),0,1)","v":1},{"$f":"IF(ISBLANK('PlSp19-24'!Q22),0,1)","v":1}]
[null,{"$f":"Platzzuordnung!A58","v":55},{"$f":"IF(Vorgaben!C$1=24,Platzzuordnung!S23,IF(Vorgaben!C$1=30,Platzzuordnung!S23,IF(Vorgaben!C$1=36,Platzzuordnung!S23,Platzzuordnung!D58)))","v":"11:19:00"},{"$f":"Platzzuordnung!C328","v":"00:00:00"},{"$f":"$F$309","v":"Gruppe D3"},null,null,null,null,{"$f":"$F$311","v":"Gruppe F4"},null,null,null,null,{"$f":"IF(ISBLANK('PlSp19-24'!O23),\"\",'PlSp19-24'!O23)","v":1},":",{"$f":"IF(ISBLANK('PlSp19-24'!Q23),\"\",'PlSp19-24'!Q23)","v":1},{"$f":"VLOOKUP(B323,Platzzuordnung!$A$4:$B$210,2,FALSE)","v":4},null,null,null,null,null,null,null,null,null,null,null,null,null,null,null,null,null,null,null,null,null,null,null,null,null,null,null,null,null,null,null,null,null,null,null,{"$f":"IF(ISBLANK('PlSp19-24'!O23),\"0\",IF('PlSp19-24'!O23>'PlSp19-24'!Q23,3,IF('PlSp19-24'!O23='PlSp19-24'!Q23,1,0)))","v":1},{"$f":"IF(ISBLANK('PlSp19-24'!Q23),\"0\",IF('PlSp19-24'!Q23>'PlSp19-24'!O23,3,IF('PlSp19-24'!Q23='PlSp19-24'!O23,1,0)))","v":1},{"$f":"IF(ISBLANK('PlSp19-24'!O23),0,1)","v":1},{"$f":"IF(ISBLANK('PlSp19-24'!Q23),0,1)","v":1}]
[null,{"$f":"Platzzuordnung!A59","v":56},{"$f":"IF(Vorgaben!C$1=24,Platzzuordnung!S24,IF(Vorgaben!C$1=30,Platzzuordnung!S24,IF(Vorgaben!C$1=36,Platzzuordnung!S24,Platzzuordnung!D59)))","v":"12:26:00"},{"$f":"Platzzuordnung!C329","v":"00:00:00"},{"$f":"$F$306","v":"Gruppe A6"},null,null,null,null,{"$f":"$F$310","v":"Gruppe E4"},null,null,null,null,{"$f":"IF(ISBLANK('PlSp19-24'!O24),\"\",'PlSp19-24'!O24)","v":1},":",{"$f":"IF(ISBLANK('PlSp19-24'!Q24),\"\",'PlSp19-24'!Q24)","v":1},{"$f":"VLOOKUP(B324,Platzzuordnung!$A$4:$B$210,2,FALSE)","v":4},null,null,null,null,null,null,null,null,null,null,null,null,null,null,null,null,null,null,null,null,null,null,null,null,null,null,null,null,null,null,null,null,null,null,null,{"$f":"IF(ISBLANK('PlSp19-24'!O24),\"0\",IF('PlSp19-24'!O24>'PlSp19-24'!Q24,3,IF('PlSp19-24'!O24='PlSp19-24'!Q24,1,0)))","v":1},{"$f":"IF(ISBLANK('PlSp19-24'!Q24),\"0\",IF('PlSp19-24'!Q24>'PlSp19-24'!O24,3,IF('PlSp19-24'!Q24='PlSp19-24'!O24,1,0)))","v":1},{"$f":"IF(ISBLANK('PlSp19-24'!O24),0,1)","v":1},{"$f":"IF(ISBLANK('PlSp19-24'!Q24),0,1)","v":1}]
[null,{"$f":"Platzzuordnung!A60","v":57},{"$f":"IF(Vorgaben!C$1=24,Platzzuordnung!S25,IF(Vorgaben!C$1=30,Platzzuordnung!S25,IF(Vorgaben!C$1=36,Platzzuordnung!S25,Platzzuordnung!D60)))","v":"12:37:00"},{"$f":"Platzzuordnung!C330","v":"00:00:00"},{"$f":"$F$311","v":"Gruppe F4"},null,null,null,null,{"$f":"$F$307","v":"Gruppe B5"},null,null,null,null,{"$f":"IF(ISBLANK('PlSp19-24'!O25),\"\",'PlSp19-24'!O25)","v":1},":",{"$f":"IF(ISBLANK('PlSp19-24'!Q25),\"\",'PlSp19-24'!Q25)","v":1},{"$f":"VLOOKUP(B325,Platzzuordnung!$A$4:$B$210,2,FALSE)","v":4},null,null,null,null,null,null,null,null,null,null,null,null,null,null,null,null,null,null,null,null,null,null,null,null,null,null,null,null,null,null,null,null,null,null,null,{"$f":"IF(ISBLANK('PlSp19-24'!O25),\"0\",IF('PlSp19-24'!O25>'PlSp19-24'!Q25,3,IF('PlSp19-24'!O25='PlSp19-24'!Q25,1,0)))","v":1},{"$f":"IF(ISBLANK('PlSp19-24'!Q25),\"0\",IF('PlSp19-24'!Q25>'PlSp19-24'!O25,3,IF('PlSp19-24'!Q25='PlSp19-24'!O25,1,0)))","v":1},{"$f":"IF(ISBLANK('PlSp19-24'!O25),0,1)","v":1},{"$f":"IF(ISBLANK('PlSp19-24'!Q25),0,1)","v":1}]
[null,{"$f":"Platzzuordnung!A61","v":58},{"$f":"IF(Vorgaben!C$1=24,Platzzuordnung!S26,IF(Vorgaben!C$1=30,Platzzuordnung!S26,IF(Vorgaben!C$1=36,Platzzuordnung!S26,Platzzuordnung!D61)))","v":"12:59:00"},{"$f":"Platzzuordnung!C331","v":"00:00:00"},{"$f":"$F$309","v":"Gruppe D3"},null,null,null,null,{"$f":"$F$306","v":"Gruppe A6"},null,null,null,null,{"$f":"IF(ISBLANK('PlSp19-24'!O26),\"\",'PlSp19-24'!O26)","v":1},":",{"$f":"IF(ISBLANK('PlSp19-24'!Q26),\"\",'PlSp19-24'!Q26)","v":1},{"$f":"VLOOKUP(B326,Platzzuordnung!$A$4:$B$210,2,FALSE)","v":4},null,null,null,null,null,null,null,null,null,null,null,null,null,null,null,null,null,null,null,null,null,null,null,null,null,null,null,null,null,null,null,null,null,null,null,{"$f":"IF(ISBLANK('PlSp19-24'!O26),\"0\",IF('PlSp19-24'!O26>'PlSp19-24'!Q26,3,IF('PlSp19-24'!O26='PlSp19-24'!Q26,1,0)))","v":1},{"$f":"IF(ISBLANK('PlSp19-24'!Q26),\"0\",IF('PlSp19-24'!Q26>'PlSp19-24'!O26,3,IF('PlSp19-24'!Q26='PlSp19-24'!O26,1,0)))","v":1},{"$f":"IF(ISBLANK('PlSp19-24'!O26),0,1)","v":1},{"$f":"IF(ISBLANK('PlSp19-24'!Q26),0,1)","v":1}]
[null,{"$f":"Platzzuordnung!A62","v":59},{"$f":"IF(Vorgaben!C$1=24,Platzzuordnung!S27,IF(Vorgaben!C$1=30,Platzzuordnung!S27,IF(Vorgaben!C$1=36,Platzzuordnung!S27,Platzzuordnung!D62)))","v":"13:10:00"},{"$f":"Platzzuordnung!C332","v":"00:00:00"},{"$f":"$F$308","v":"Gruppe C3"},null,null,null,null,{"$f":"$F$311","v":"Gruppe F4"},null,null,null,null,{"$f":"IF(ISBLANK('PlSp19-24'!O27),\"\",'PlSp19-24'!O27)","v":1},":",{"$f":"IF(ISBLANK('PlSp19-24'!Q27),\"\",'PlSp19-24'!Q27)","v":1},{"$f":"VLOOKUP(B327,Platzzuordnung!$A$4:$B$210,2,FALSE)","v":4},null,null,null,null,null,null,null,null,null,null,null,null,null,null,null,null,null,null,null,null,null,null,null,null,null,null,null,null,null,null,null,null,null,null,null,{"$f":"IF(ISBLANK('PlSp19-24'!O27),\"0\",IF('PlSp19-24'!O27>'PlSp19-24'!Q27,3,IF('PlSp19-24'!O27='PlSp19-24'!Q27,1,0)))","v":1},{"$f":"IF(ISBLANK('PlSp19-24'!Q27),\"0\",IF('PlSp19-24'!Q27>'PlSp19-24'!O27,3,IF('PlSp19-24'!Q27='PlSp19-24'!O27,1,0)))","v":1},{"$f":"IF(ISBLANK('PlSp19-24'!O27),0,1)","v":1},{"$f":"IF(ISBLANK('PlSp19-24'!Q27),0,1)","v":1}]
[null,{"$f":"Platzzuordnung!A63","v":60},{"$f":"IF(Vorgaben!C$1=24,Platzzuordnung!S28,IF(Vorgaben!C$1=30,Platzzuordnung!S28,IF(Vorgaben!C$1=36,Platzzuordnung!S28,Platzzuordnung!D63)))","v":"13:21:00"},{"$f":"Platzzuordnung!C333","v":"00:00:00"},{"$f":"$F$307","v":"Gruppe B5"},null,null,null,null,{"$f":"$F$309","v":"Gruppe D3"},null,null,null,null,{"$f":"IF(ISBLANK('PlSp19-24'!O28),\"\",'PlSp19-24'!O28)","v":1},":",{"$f":"IF(ISBLANK('PlSp19-24'!Q28),\"\",'PlSp19-24'!Q28)","v":1},{"$f":"VLOOKUP(B328,Platzzuordnung!$A$4:$B$210,2,FALSE)","v":4},null,null,null,null,null,null,null,null,null,null,null,null,null,null,null,null,null,null,null,null,null,null,null,null,null,null,null,null,null,null,null,null,null,null,null,{"$f":"IF(ISBLANK('PlSp19-24'!O28),\"0\",IF('PlSp19-24'!O28>'PlSp19-24'!Q28,3,IF('PlSp19-24'!O28='PlSp19-24'!Q28,1,0)))","v":1},{"$f":"IF(ISBLANK('PlSp19-24'!Q28),\"0\",IF('PlSp19-24'!Q28>'PlSp19-24'!O28,3,IF('PlSp19-24'!Q28='PlSp19-24'!O28,1,0)))","v":1},{"$f":"IF(ISBLANK('PlSp19-24'!O28),0,1)","v":1},{"$f":"IF(ISBLANK('PlSp19-24'!Q28),0,1)","v":1}]
[null,null,null,null,null,null,null,null,null,null,null,null,null,null,null,null,null,null,null,null,null,null,null,null,null,null,null,null,null,null,null,null,null,null,null,null,null,null,null,null,null,null,null,null,null,null,null,null,null,null,null,null,null,null,null,{"$f":"IF(BD331=\"Min. 3 Teams identisch.  HANDSORTIERUNG!\",BD331,IF(BD331=\"ACHTUNG! Direkter Vergleich war unentschieden!\",BD331,BD330))","v":"Min. 3 Teams identisch.  HANDSORTIERUNG!"}]
[null,null,null,null,null,null,null,null,null,null,null,null,null,null,null,null,null,null,null,null,null,null,null,null,null,null,null,null,null,null,null,null,null,null,null,null,null,null,null,null,null,null,null,null,null,null,null,null,null,null,null,null,null,null,null,{"$f":"IF(AND(EXACT(BF333,BF334),EXACT(BG333,BG334),EXACT(BI333,BI334)),\"ACHTUNG: Direkter Vergleich erfolgreich durchlaufen!\",IF(AND(EXACT(BF334,BF335),EXACT(BG334,BG335),EXACT(BI334,BI335)),\"ACHTUNG: Direkter Vergleich erfolgreich durchlaufen!\",IF(AND(EXACT(BF335,BF336),EXACT(BG335,BG336),EXACT(BI335,BI336)),\"ACHTUNG: Direkter Vergleich erfolgreich durchlaufen!\",IF(AND(EXACT(BF336,BF337),EXACT(BG336,BG337),EXACT(BI336,BI337)),\"ACHTUNG: Direkter Vergleich erfolgreich durchlaufen!\",IF(AND(EXACT(BF337,BF338),EXACT(BG337,BG338),EXACT(BI337,BI338)),\"ACHTUNG: Direkter Vergleich erfolgreich durchlaufen!\",\"\")))))","v":"ACHTUNG: Direkter Vergleich erfolgreich durchlaufen!"}]
[null,"Tabelle",null,null,null,null,null,null,"Spiele",null,"Punkte",null,"Differenz",null,"Tore",null,null,null,null,null,null,null,null,null,null,null,null,null,null,null,null,null,null,null,null,null,null,null,null,null,null,null,null,null,null,null,null,null,null,null,null,null,null,null,null,{"$f":"IF(OR(BS333=3,BS334=3,BS335=3,BS336=3,BS337=3,BS338=3),\"Min. 3 Teams identisch.  HANDSORTIERUNG!\",IF(OR(BR333=\"ACHTUNG! Direkter Vergleich war unentschieden!\",BR334=\"ACHTUNG! Direkter Vergleich war unentschieden!\",BR335=\"ACHTUNG! Direkter Vergleich war unentschieden!\",BR336=\"ACHTUNG! Direkter Vergleich war unentschieden!\",BR337=\"ACHTUNG! Direkter Vergleich war unentschieden!\",BR338=\"ACHTUNG! Direkter Vergleich war unentschieden!\"),\"ACHTUNG! Direkter Vergleich war unentschieden!\",\"\"))","v":"Min. 3 Teams identisch.  HANDSORTIERUNG!"}]
[null,1,{"$f":"BD333","v":"Gruppe E4"},null,null,null,null,null,{"$f":"BE333","v":5},null,{"$f":"BF333","v":6},null,{"$f":"BI333","v":0},null,{"$f":"BG333","v":6},":",{"$f":"BH333","v":6},null,null,null,null,null,null,null,null,null,null,null,null,null,null,null,null,null,null,null,null,null,null,null,null,null,null,null,null,null,null,null,null,null,null,null,null,null,null,"Mannschaft","Spiele","Punkte","Tore+","Tore-","Diff"]
[null,2,{"$f":"BD334","v":"Gruppe C3"},null,null,null,null,null,{"$f":"BE334","v":5},null,{"$f":"BF334","v":6},null,{"$f":"BI334","v":0},null,{"$f":"BG334","v":6},":",{"$f":"BH334","v":6},null,null,null,null,null,null,null,null,null,null,null,null,null,null,null,null,null,null,null,null,null,null,null,null,null,null,null,null,null,null,null,null,null,null,null,null,null,{"$f":"INDEX('GR Platzierungsspiele VR'!$G$4:$H$9,MATCH(BD333,'GR Platzierungsspiele VR'!$G$4:$G$9,0),2)","v":0},{"$f":"F$310","v":"Gruppe E4"},{"$f":"SUMIF($E$314:$I$328,$BD333,$BD$314:$BD$328)+SUMIF($J$314:$N$328,$BD333,$BE$314:$BE$328)","v":5},{"$f":"SUMIF($E$314:$I$328,$BD333,$BB$314:$BB$328)+SUMIF($J$314:$N$328,$BD333,$BC$314:$BC$328)","v":6},{"$f":"SUMIF($E$314:$I$328,$BD333,$O$314:$O$328)+SUMIF($J$314:$N$328,$BD333,Q$314:$Q$328)","v":6},{"$f":"SUMIF($E$314:$I$328,$BD333,$Q$314:$Q$328)+SUMIF($J$314:$N$328,$BD333,$O$314:$O$328)","v":6},{"$f":"BG333-BH333","v":0},{"$f":"BL333","v":10},null,{"$f":"IF(BN333>BO334,10,IF(BN333<BO334,-10,0))","v":10},null,{"$f":"IF(ISNA(INDEX(BB$314:BB$328,MATCH(BD333&BD334,E$314:E$328&J$314:J$328,0))),INDEX(BC$314:BC$328,MATCH(BD334&BD333,E$314:E$328&J$314:J$328,0)),INDEX(BB$314:BB$328,MATCH(BD333&BD334,E$314:E$328&J$314:J$328,0)))","v":3},null,{"$f":"IF(AND(EXACT(BF333,BF334),EXACT(BG333,BG334),EXACT(BI333,BI334),EXACT(BN333,BO334)),\"ACHTUNG! Direkter Vergleich war unentschieden!\",IF(AND(EXACT(BF333,BF334),EXACT(BG333,BG334),EXACT(BI333,BI334)),1,2))","v":1},null,{"$f":"IF(OR(BP333=\"ACHTUNG! Direkter Vergleich war unentschieden!\",BQ333=\"ACHTUNG! Direkter Vergleich war unentschieden!\"),\"ACHTUNG! Direkter Vergleich war unentschieden!\",\"\")","v":""},{"$f":"IF(OR(AND(EXACT(BE333,BE334),EXACT(BF333,BF334),EXACT(BI333,BI334),EXACT(BE333,BE335),EXACT(BF333,BF335),EXACT(BI333,BI335)),AND(EXACT(BE333,BE334),EXACT(BF333,BF334),EXACT(BI333,BI334),EXACT(BE333,BE332),EXACT(BF333,BF332),EXACT(BI333,BI332))*AND(EXACT(BE333,BE331),EXACT(BF333,BF331),EXACT(BI333,BI331),EXACT(BE333,BE332),EXACT(BF333,BF332),EXACT(BI333,BI332))),3,1)","v":3}]
[null,3,"Gruppe D3",null,null,null,null,null,5,null,6,null,0,null,6,":",6,null,null,null,null,null,null,null,null,null,null,null,null,null,null,null,null,null,null,null,null,null,null,null,null,null,null,null,null,null,null,null,null,null,null,null,null,null,{"$f":"INDEX('GR Platzierungsspiele VR'!$G$4:$H$9,MATCH(BD334,'GR Platzierungsspiele VR'!$G$4:$G$9,0),2)","v":0},{"$f":"F$308","v":"Gruppe C3"},5,6,{"$f":"SUMIF($E$314:$I$328,$BD334,$O$314:$O$328)+SUMIF($J$314:$N$328,$BD334,Q$314:$Q$328)","v":6},6,0,{"$f":"BL334","v":-10},{"$f":"BM334","v":10},{"$f":"IF(BN333<BO334,10,IF(BN333>BO334,-10,0))","v":-10},{"$f":"IF(BN334>BO335,10,IF(BN334<BO335,-10,0))","v":10},{"$f":"IF(ISNA(INDEX(BB$314:BB$328,MATCH(BD334&BD335,E$314:E$328&J$314:J$328,0))),INDEX(BC$314:BC$328,MATCH(BD335&BD334,E$314:E$328&J$314:J$328,0)),INDEX(BB$314:BB$328,MATCH(BD334&BD335,E$314:E$328&J$314:J$328,0)))","v":3},{"$f":"IF(ISNA(INDEX(BB$314:BB$328,MATCH(BD334&BD333,E$314:E$328&J$314:J$328,0))),INDEX(BC$314:BC$328,MATCH(BD333&BD334,E$314:E$328&J$314:J$328,0)),INDEX(BB$314:BB$328,MATCH(BD334&BD333,E$314:E$328&J$314:J$328,0)))","v":0},1,{"$f":"IF(AND(EXACT(BF333,BF334),EXACT(BG333,BG334),EXACT(BI333,BI334),EXACT(BO334,BN333)),\"ACHTUNG! Direkter Vergleich war unentschieden!\",IF(AND(EXACT(BF333,BF334),EXACT(BG333,BG334),EXACT(BI333,BI334)),1,2))","v":1},"",1]
[null,4,"Gruppe A6",null,null,null,null,null,5,null,5,null,0,null,5,":",5,null,null,null,null,null,null,null,null,null,null,null,null,null,null,null,null,null,null,null,null,null,null,null,null,null,null,null,null,null,null,null,null,null,null,null,null,null,{"$f":"INDEX('GR Platzierungsspiele VR'!$G$4:$H$9,MATCH(BD335,'GR Platzierungsspiele VR'!$G$4:$G$9,0),2)","v":0},{"$f":"F$309","v":"Gruppe D3"},5,6,{"$f":"SUMIF($E$314:$I$328,$BD335,$O$314:$O$328)+SUMIF($J$314:$N$328,$BD335,Q$314:$Q$328)","v":6},6,0,{"$f":"BL335","v":-10},0,{"$f":"IF(BN334<BO335,10,IF(BN334>BO335,-10,0))","v":-10},{"$f":"IF(BN335>BO336,10,IF(BN335<BO336,-10,0))","v":0},{"$f":"IF(ISNA(INDEX(BB$314:BB$328,MATCH(BD335&BD336,E$314:E$328&J$314:J$328,0))),INDEX(BC$314:BC$328,MATCH(BD336&BD335,E$314:E$328&J$314:J$328,0)),INDEX(BB$314:BB$328,MATCH(BD335&BD336,E$314:E$328&J$314:J$328,0)))","v":1},{"$f":"IF(ISNA(INDEX(BB$314:BB$328,MATCH(BD335&BD334,E$314:E$328&J$314:J$328,0))),INDEX(BC$314:BC$328,MATCH(BD334&BD335,E$314:E$328&J$314:J$328,0)),INDEX(BB$314:BB$328,MATCH(BD335&BD334,E$314:E$328&J$314:J$328,0)))","v":0},2,{"$f":"IF(AND(EXACT(BF334,BF335),EXACT(BG334,BG335),EXACT(BI334,BI335),EXACT(BO335,BN334)),\"ACHTUNG! Direkter Vergleich war unentschieden!\",IF(AND(EXACT(BF334,BF335),EXACT(BG334,BG335),EXACT(BI334,BI335)),1,2))","v":1},"",{"$f":"IF(OR(AND(EXACT(BE335,BE336),EXACT(BF335,BF336),EXACT(BI335,BI336),EXACT(BE335,BE337),EXACT(BF335,BF337),EXACT(BI335,BI337)),AND(EXACT(BE335,BE336),EXACT(BF335,BF336),EXACT(BI335,BI336),EXACT(BE335,BE334),EXACT(BF335,BF334),EXACT(BI335,BI334))*AND(EXACT(BE335,BE333),EXACT(BF335,BF333),EXACT(BI335,BI333),EXACT(BE335,BE334),EXACT(BF335,BF334),EXACT(BI335,BI334))),3,1)","v":1}]
[null,5,"Gruppe B5",null,null,null,null,null,5,null,5,null,0,null,5,":",5,null,null,null,null,null,null,null,null,null,null,null,null,null,null,null,null,null,null,null,null,null,null,null,null,null,null,null,null,null,null,null,null,null,null,null,null,null,{"$f":"INDEX('GR Platzierungsspiele VR'!$G$4:$H$9,MATCH(BD336,'GR Platzierungsspiele VR'!$G$4:$G$9,0),2)","v":0},{"$f":"F$306","v":"Gruppe A6"},5,5,{"$f":"SUMIF($E$314:$I$328,$BD336,$O$314:$O$328)+SUMIF($J$314:$N$328,$BD336,Q$314:$Q$328)","v":5},5,0,{"$f":"BL336","v":0},0,{"$f":"IF(BN335<BO336,10,IF(BN335>BO336,-10,0))","v":0},{"$f":"IF(BN335<BO336,10,IF(BN335>BO336,-10,0))","v":0},{"$f":"IF(ISNA(INDEX(BB$314:BB$328,MATCH(BD336&BD337,E$314:E$328&J$314:J$328,0))),INDEX(BC$314:BC$328,MATCH(BD337&BD336,E$314:E$328&J$314:J$328,0)),INDEX(BB$314:BB$328,MATCH(BD336&BD337,E$314:E$328&J$314:J$328,0)))","v":1},{"$f":"IF(ISNA(INDEX(BB$314:BB$328,MATCH(BD336&BD335,E$314:E$328&J$314:J$328,0))),INDEX(BC$314:BC$328,MATCH(BD335&BD336,E$314:E$328&J$314:J$328,0)),INDEX(BB$314:BB$328,MATCH(BD336&BD335,E$314:E$328&J$314:J$328,0)))","v":1},"ACHTUNG! Direkter Vergleich war unentschieden!",2,"ACHTUNG! Direkter Vergleich war unentschieden!",{"$f":"IF(OR(AND(EXACT(BE336,BE337),EXACT(BF336,BF337),EXACT(BI336,BI337),EXACT(BE336,BE338),EXACT(BF336,BF338),EXACT(BI336,BI338)),AND(EXACT(BE336,BE337),EXACT(BF336,BF337),EXACT(BI336,BI337),EXACT(BE336,BE335),EXACT(BF336,BF335),EXACT(BI336,BI335))*AND(EXACT(BE336,BE334),EXACT(BF336,BF334),EXACT(BI336,BI334),EXACT(BE336,BE335),EXACT(BF336,BF335),EXACT(BI336,BI335))),3,1)","v":3}]
[null,6,"Gruppe F4",null,null,null,null,null,5,null,5,null,0,null,5,":",5,null,null,null,null,null,null,null,null,null,null,null,null,null,null,null,null,null,null,null,null,null,null,null,null,null,null,null,null,null,null,null,null,null,null,null,null,null,{"$f":"INDEX('GR Platzierungsspiele VR'!$G$4:$H$9,MATCH(BD337,'GR Platzierungsspiele VR'!$G$4:$G$9,0),2)","v":0},{"$f":"F$307","v":"Gruppe B5"},5,5,{"$f":"SUMIF($E$314:$I$328,$BD337,$O$314:$O$328)+SUMIF($J$314:$N$328,$BD337,Q$314:$Q$328)","v":5},5,0,0,0,{"$f":"IF(BN336<BO337,10,IF(BN336>BO337,-10,0))","v":0},{"$f":"IF(BN337>BO338,10,IF(BN337<BO338,-10,0))","v":0},{"$f":"IF(ISNA(INDEX(BB$314:BB$328,MATCH(BD337&BD338,E$314:E$328&J$314:J$328,0))),INDEX(BC$314:BC$328,MATCH(BD338&BD337,E$314:E$328&J$314:J$328,0)),INDEX(BB$314:BB$328,MATCH(BD337&BD338,E$314:E$328&J$314:J$328,0)))","v":1},{"$f":"IF(ISNA(INDEX(BB$314:BB$328,MATCH(BD337&BD336,E$314:E$328&J$314:J$328,0))),INDEX(BC$314:BC$328,MATCH(BD336&BD337,E$314:E$328&J$314:J$328,0)),INDEX(BB$314:BB$328,MATCH(BD337&BD336,E$314:E$328&J$314:J$328,0)))","v":1},{"$f":"IF(AND(EXACT(BF337,BF338),EXACT(BG337,BG338),EXACT(BI337,BI338),EXACT(BN337,BO338)),\"ACHTUNG! Direkter Vergleich war unentschieden!\",IF(AND(EXACT(BF337,BF338),EXACT(BG337,BG338),EXACT(BI337,BI338)),1,2))","v":"ACHTUNG! Direkter Vergleich war unentschieden!"},"ACHTUNG! Direkter Vergleich war unentschieden!","ACHTUNG! Direkter Vergleich war unentschieden!",1]
[null,null,null,null,null,null,null,null,null,null,null,null,null,null,null,null,null,null,null,null,null,null,null,null,null,null,null,null,null,null,null,null,null,null,null,null,null,null,null,null,null,null,null,null,null,null,null,null,null,null,null,null,null,null,{"$f":"INDEX('GR Platzierungsspiele VR'!$G$4:$H$9,MATCH(BD338,'GR Platzierungsspiele VR'!$G$4:$G$9,0),2)","v":0},{"$f":"F$311","v":"Gruppe F4"},5,5,{"$f":"SUMIF($E$314:$I$328,$BD338,$O$314:$O$328)+SUMIF($J$314:$N$328,$BD338,Q$314:$Q$328)","v":5},5,0,0,0,{"$f":"IF(BN337<BO338,10,IF(BN337>BO338,-10,0))","v":0},{"$f":"IF(BN337<BO338,10,IF(BN337>BO338,-10,0))","v":0},null,{"$f":"IF(ISNA(INDEX(BB$314:BB$328,MATCH(BD338&BD337,E$314:E$328&J$314:J$328,0))),INDEX(BC$314:BC$328,MATCH(BD337&BD338,E$314:E$328&J$314:J$328,0)),INDEX(BB$314:BB$328,MATCH(BD338&BD337,E$314:E$328&J$314:J$328,0)))","v":1},null,"ACHTUNG! Direkter Vergleich war unentschieden!","ACHTUNG! Direkter Vergleich war unentschieden!",1]
[null,null,null,null,null,null,null,null,null,null,null,null,null,null,null,null,null,null,null,null,null,null,null,null,null,null,null,null,null,null,null,null,null,null,null,null,null,null,null,null,null,null,null,null,null,null,null,null,null,null,null,null,null,null,null,null,{"$f":"SUMIF($E$314:$I$328,$BD339,$BD$314:$BD$328)+SUMIF($J$314:$N$328,$BD339,$BE$314:$BE$328)","v":0},{"$f":"SUMIF($E$314:$I$328,$BD339,$BB$314:$BB$328)+SUMIF($J$314:$N$328,$BD339,$BC$314:$BC$328)","v":0},{"$f":"SUMIF($E$314:$I$328,$BD339,$O$314:$O$328)+SUMIF($J$314:$N$328,$BD339,Q$314:$Q$328)","v":0},{"$f":"SUMIF($E$314:$I$328,$BD339,$Q$314:$Q$328)+SUMIF($J$314:$N$328,$BD339,$O$314:$O$328)","v":0},null,null,null,null,null,null,{"$f":"IF(ISNA(INDEX(BB$314:BB$328,MATCH(BD339&BD338,E$314:E$328&J$314:J$328,0))),INDEX(BC$314:BC$328,MATCH(BD338&BD339,E$314:E$328&J$314:J$328,0)),INDEX(BB$314:BB$328,MATCH(BD339&BD338,E$314:E$328&J$314:J$328,0)))","v":{"$error":"#N/A"}}]
[null,null,null,null,null,null,null,null,null,null,null,null,null,null,null,null,null,null,null,null,null,null,null,null,null,null,null,null,null,null,null,null,null,null,null,null,null,null,null,null,null,null,null,null,null,null,null,null,null,null,null,null,null,null,null,null,0,0,{"$f":"SUMIF($E$314:$I$328,$BD340,$O$314:$O$328)+SUMIF($J$314:$N$328,$BD340,Q$314:$Q$328)","v":0},0,null,null,null,null,null,null,{"$f":"IF(ISNA(INDEX(BB$314:BB$328,MATCH(BD340&BD339,E$314:E$328&J$314:J$328,0))),INDEX(BC$314:BC$328,MATCH(BD339&BD340,E$314:E$328&J$314:J$328,0)),INDEX(BB$314:BB$328,MATCH(BD340&BD339,E$314:E$328&J$314:J$328,0)))","v":{"$error":"#N/A"}}]
[null,null,null,null,null,null,null,null,null,null,null,null,null,null,null,null,null,null,null,null,null,null,null,null,null,null,null,null,null,null,null,null,null,null,null,null,null,null,null,null,null,null,null,null,null,null,null,null,null,null,null,null,null,null,null,null,0,0,{"$f":"SUMIF($E$314:$I$328,$BD341,$O$314:$O$328)+SUMIF($J$314:$N$328,$BD341,Q$314:$Q$328)","v":0},0,null,null,null,null,null,null,{"$f":"IF(ISNA(INDEX(BB$314:BB$328,MATCH(BD341&BD340,E$314:E$328&J$314:J$328,0))),INDEX(BC$314:BC$328,MATCH(BD340&BD341,E$314:E$328&J$314:J$328,0)),INDEX(BB$314:BB$328,MATCH(BD341&BD340,E$314:E$328&J$314:J$328,0)))","v":{"$error":"#N/A"}}]
[null,null,null,null,null,null,null,null,null,null,null,null,null,null,null,null,null,null,null,null,null,null,null,null,null,null,null,null,null,null,null,null,null,null,null,null,null,null,null,null,null,null,null,null,null,null,null,null,null,null,null,null,null,null,null,null,0,0,{"$f":"SUMIF($E$314:$I$328,$BD342,$O$314:$O$328)+SUMIF($J$314:$N$328,$BD342,Q$314:$Q$328)","v":0},0,null,null,null,null,null,null,{"$f":"IF(ISNA(INDEX(BB$314:BB$328,MATCH(BD342&BD341,E$314:E$328&J$314:J$328,0))),INDEX(BC$314:BC$328,MATCH(BD341&BD342,E$314:E$328&J$314:J$328,0)),INDEX(BB$314:BB$328,MATCH(BD342&BD341,E$314:E$328&J$314:J$328,0)))","v":{"$error":"#N/A"}}]
[null,null,null,null,null,null,null,null,null,null,null,null,null,null,null,null,null,null,null,null,null,null,null,null,null,null,null,null,null,null,null,null,null,null,null,null,null,null,null,null,null,null,null,null,null,null,null,null,null,null,null,null,null,null,null,null,0,0,{"$f":"SUMIF($E$314:$I$328,$BD343,$O$314:$O$328)+SUMIF($J$314:$N$328,$BD343,Q$314:$Q$328)","v":0},0,null,null,null,null,null,null,{"$f":"IF(ISNA(INDEX(BB$314:BB$328,MATCH(BD343&BD342,E$314:E$328&J$314:J$328,0))),INDEX(BC$314:BC$328,MATCH(BD342&BD343,E$314:E$328&J$314:J$328,0)),INDEX(BB$314:BB$328,MATCH(BD343&BD342,E$314:E$328&J$314:J$328,0)))","v":{"$error":"#N/A"}}]
[null,null,null,null,null,null,null,null,null,null,null,null,null,null,null,null,null,null,null,null,null,null,null,null,null,null,null,null,null,null,null,null,null,null,null,null,null,null,null,null,null,null,null,null,null,null,null,null,null,null,null,null,null,null,null,null,0,0,{"$f":"SUMIF($E$314:$I$328,$BD344,$O$314:$O$328)+SUMIF($J$314:$N$328,$BD344,Q$314:$Q$328)","v":0},0,null,null,null,null,null,null,{"$f":"IF(ISNA(INDEX(BB$314:BB$328,MATCH(BD344&BD343,E$314:E$328&J$314:J$328,0))),INDEX(BC$314:BC$328,MATCH(BD343&BD344,E$314:E$328&J$314:J$328,0)),INDEX(BB$314:BB$328,MATCH(BD344&BD343,E$314:E$328&J$314:J$328,0)))","v":{"$error":"#N/A"}}]
[null,null,null,null,null,null,null,null,null,null,null,null,null,null,null,null,null,null,null,null,null,null,null,null,null,null,null,null,null,null,null,null,null,null,null,null,null,null,null,null,null,null,null,null,null,null,null,null,null,null,null,null,null,null,null,null,0,0,{"$f":"SUMIF($E$314:$I$328,$BD345,$O$314:$O$328)+SUMIF($J$314:$N$328,$BD345,Q$314:$Q$328)","v":0},0,null,null,null,null,null,null,{"$f":"IF(ISNA(INDEX(BB$314:BB$328,MATCH(BD345&BD344,E$314:E$328&J$314:J$328,0))),INDEX(BC$314:BC$328,MATCH(BD344&BD345,E$314:E$328&J$314:J$328,0)),INDEX(BB$314:BB$328,MATCH(BD345&BD344,E$314:E$328&J$314:J$328,0)))","v":{"$error":"#N/A"}}]
[null,null,null,null,null,null,null,null,null,null,null,null,null,null,null,null,null,null,null,null,null,null,null,null,null,null,null,null,null,null,null,null,null,null,null,null,null,null,null,null,null,null,null,null,null,null,null,null,null,null,null,null,null,null,null,null,0,0,{"$f":"SUMIF($E$314:$I$328,$BD346,$O$314:$O$328)+SUMIF($J$314:$N$328,$BD346,Q$314:$Q$328)","v":0},0,null,null,null,null,null,null,{"$f":"IF(ISNA(INDEX(BB$314:BB$328,MATCH(BD346&BD345,E$314:E$328&J$314:J$328,0))),INDEX(BC$314:BC$328,MATCH(BD345&BD346,E$314:E$328&J$314:J$328,0)),INDEX(BB$314:BB$328,MATCH(BD346&BD345,E$314:E$328&J$314:J$328,0)))","v":{"$error":"#N/A"}}]
[null,null,null,null,null,null,null,null,null,null,null,null,null,null,null,null,null,null,null,null,null,null,null,null,null,null,null,null,null,null,null,null,null,null,null,null,null,null,null,null,null,null,null,null,null,null,null,null,null,null,null,null,null,null,null,null,0,0,{"$f":"SUMIF($E$314:$I$328,$BD347,$O$314:$O$328)+SUMIF($J$314:$N$328,$BD347,Q$314:$Q$328)","v":0},0,null,null,null,null,null,null,{"$f":"IF(ISNA(INDEX(BB$314:BB$328,MATCH(BD347&BD346,E$314:E$328&J$314:J$328,0))),INDEX(BC$314:BC$328,MATCH(BD346&BD347,E$314:E$328&J$314:J$328,0)),INDEX(BB$314:BB$328,MATCH(BD347&BD346,E$314:E$328&J$314:J$328,0)))","v":{"$error":"#N/A"}}]
[null,null,null,null,null,null,null,null,null,null,null,null,null,null,null,null,null,null,null,null,null,null,null,null,null,null,null,null,null,null,null,null,null,null,null,null,null,null,null,null,null,null,null,null,null,null,null,null,null,null,null,null,null,null,null,null,0,0,{"$f":"SUMIF($E$314:$I$328,$BD348,$O$314:$O$328)+SUMIF($J$314:$N$328,$BD348,Q$314:$Q$328)","v":0},0,null,null,null,null,null,null,{"$f":"IF(ISNA(INDEX(BB$314:BB$328,MATCH(BD348&BD347,E$314:E$328&J$314:J$328,0))),INDEX(BC$314:BC$328,MATCH(BD347&BD348,E$314:E$328&J$314:J$328,0)),INDEX(BB$314:BB$328,MATCH(BD348&BD347,E$314:E$328&J$314:J$328,0)))","v":{"$error":"#N/A"}}]
[null,null,null,null,null,null,null,null,null,null,null,null,null,null,null,null,null,null,null,null,null,null,null,null,null,null,null,null,null,null,null,null,null,null,null,null,null,null,null,null,null,null,null,null,null,null,null,null,null,null,null,null,null,null,null,null,0,0,{"$f":"SUMIF($E$314:$I$328,$BD349,$O$314:$O$328)+SUMIF($J$314:$N$328,$BD349,Q$314:$Q$328)","v":0},0,null,null,null,null,null,null,{"$f":"IF(ISNA(INDEX(BB$314:BB$328,MATCH(BD349&BD348,E$314:E$328&J$314:J$328,0))),INDEX(BC$314:BC$328,MATCH(BD348&BD349,E$314:E$328&J$314:J$328,0)),INDEX(BB$314:BB$328,MATCH(BD349&BD348,E$314:E$328&J$314:J$328,0)))","v":{"$error":"#N/A"}}]
[null,null,null,null,null,null,null,null,null,null,null,null,null,null,null,null,null,null,null,null,null,null,null,null,null,null,null,null,null,null,null,null,null,null,null,null,null,null,null,null,null,null,null,null,null,null,null,null,null,null,null,null,null,null,null,null,0,0,{"$f":"SUMIF($E$314:$I$328,$BD350,$O$314:$O$328)+SUMIF($J$314:$N$328,$BD350,Q$314:$Q$328)","v":0},0,null,null,null,null,null,null,{"$f":"IF(ISNA(INDEX(BB$314:BB$328,MATCH(BD350&BD349,E$314:E$328&J$314:J$328,0))),INDEX(BC$314:BC$328,MATCH(BD349&BD350,E$314:E$328&J$314:J$328,0)),INDEX(BB$314:BB$328,MATCH(BD350&BD349,E$314:E$328&J$314:J$328,0)))","v":{"$error":"#N/A"}}]
[null,null,null,null,null,null,null,null,null,null,null,null,null,null,null,null,null,null,null,null,null,null,null,null,null,null,null,null,null,null,null,null,null,null,null,null,null,null,null,null,null,null,null,null,null,null,null,null,null,null,null,null,null,null,null,null,0,0,{"$f":"SUMIF($E$314:$I$328,$BD351,$O$314:$O$328)+SUMIF($J$314:$N$328,$BD351,Q$314:$Q$328)","v":0},0,null,null,null,null,null,null,{"$f":"IF(ISNA(INDEX(BB$314:BB$328,MATCH(BD351&BD350,E$314:E$328&J$314:J$328,0))),INDEX(BC$314:BC$328,MATCH(BD350&BD351,E$314:E$328&J$314:J$328,0)),INDEX(BB$314:BB$328,MATCH(BD351&BD350,E$314:E$328&J$314:J$328,0)))","v":{"$error":"#N/A"}}]
[null,null,null,null,null,null,null,null,null,null,null,null,null,null,null,null,null,null,null,null,null,null,null,null,null,null,null,null,null,null,null,null,null,null,null,null,null,null,null,null,null,null,null,null,null,null,null,null,null,null,null,null,null,null,null,null,0,0,{"$f":"SUMIF($E$314:$I$328,$BD352,$O$314:$O$328)+SUMIF($J$314:$N$328,$BD352,Q$314:$Q$328)","v":0},0,null,null,null,null,null,null,{"$f":"IF(ISNA(INDEX(BB$314:BB$328,MATCH(BD352&BD351,E$314:E$328&J$314:J$328,0))),INDEX(BC$314:BC$328,MATCH(BD351&BD352,E$314:E$328&J$314:J$328,0)),INDEX(BB$314:BB$328,MATCH(BD352&BD351,E$314:E$328&J$314:J$328,0)))","v":{"$error":"#N/A"}}]
[null,null,null,null,null,null,null,null,null,null,null,null,null,null,null,null,null,null,null,null,null,null,null,null,null,null,null,null,null,null,null,null,null,null,null,null,null,null,null,null,null,null,null,null,null,null,null,null,null,null,null,null,null,null,null,null,0,0,{"$f":"SUMIF($E$314:$I$328,$BD353,$O$314:$O$328)+SUMIF($J$314:$N$328,$BD353,Q$314:$Q$328)","v":0},0,null,null,null,null,null,null,{"$f":"IF(ISNA(INDEX(BB$314:BB$328,MATCH(BD353&BD352,E$314:E$328&J$314:J$328,0))),INDEX(BC$314:BC$328,MATCH(BD352&BD353,E$314:E$328&J$314:J$328,0)),INDEX(BB$314:BB$328,MATCH(BD353&BD352,E$314:E$328&J$314:J$328,0)))","v":{"$error":"#N/A"}}]
[null,null,null,null,null,null,null,null,null,null,null,null,null,null,null,null,null,null,null,null,null,null,null,null,null,null,null,null,null,null,null,null,null,null,null,null,null,null,null,null,null,null,null,null,null,null,null,null,null,null,null,null,null,null,null,null,0,0,{"$f":"SUMIF($E$314:$I$328,$BD354,$O$314:$O$328)+SUMIF($J$314:$N$328,$BD354,Q$314:$Q$328)","v":0},0,null,null,null,null,null,null,{"$f":"IF(ISNA(INDEX(BB$314:BB$328,MATCH(BD354&BD353,E$314:E$328&J$314:J$328,0))),INDEX(BC$314:BC$328,MATCH(BD353&BD354,E$314:E$328&J$314:J$328,0)),INDEX(BB$314:BB$328,MATCH(BD354&BD353,E$314:E$328&J$314:J$328,0)))","v":{"$error":"#N/A"}}]
[null,null,null,null,null,null,null,null,null,null,null,null,null,null,null,null,null,null,null,null,null,null,null,null,null,null,null,null,null,null,null,null,null,null,null,null,null,null,null,null,null,null,null,null,null,null,null,null,null,null,null,null,null,null,null,null,0,0,{"$f":"SUMIF($E$314:$I$328,$BD355,$O$314:$O$328)+SUMIF($J$314:$N$328,$BD355,Q$314:$Q$328)","v":0},0,null,null,null,null,null,null,{"$f":"IF(ISNA(INDEX(BB$314:BB$328,MATCH(BD355&BD354,E$314:E$328&J$314:J$328,0))),INDEX(BC$314:BC$328,MATCH(BD354&BD355,E$314:E$328&J$314:J$328,0)),INDEX(BB$314:BB$328,MATCH(BD355&BD354,E$314:E$328&J$314:J$328,0)))","v":{"$error":"#N/A"}}]
[null,null,null,null,null,null,null,null,null,null,null,null,null,null,null,null,null,null,null,null,null,null,null,null,null,null,null,null,null,null,null,null,null,null,null,null,null,null,null,null,null,null,null,null,null,null,null,null,null,null,null,null,null,null,null,null,0,0,{"$f":"SUMIF($E$314:$I$328,$BD356,$O$314:$O$328)+SUMIF($J$314:$N$328,$BD356,Q$314:$Q$328)","v":0},0,null,null,null,null,null,null,{"$f":"IF(ISNA(INDEX(BB$314:BB$328,MATCH(BD356&BD355,E$314:E$328&J$314:J$328,0))),INDEX(BC$314:BC$328,MATCH(BD355&BD356,E$314:E$328&J$314:J$328,0)),INDEX(BB$314:BB$328,MATCH(BD356&BD355,E$314:E$328&J$314:J$328,0)))","v":{"$error":"#N/A"}}]
[null,null,null,null,null,null,null,null,null,null,null,null,null,null,null,null,null,null,null,null,null,null,null,null,null,null,null,null,null,null,null,null,null,null,null,null,null,null,null,null,null,null,null,null,null,null,null,null,null,null,null,null,null,null,null,null,0,0,{"$f":"SUMIF($E$314:$I$328,$BD357,$O$314:$O$328)+SUMIF($J$314:$N$328,$BD357,Q$314:$Q$328)","v":0},0,null,null,null,null,null,null,{"$f":"IF(ISNA(INDEX(BB$314:BB$328,MATCH(BD357&BD356,E$314:E$328&J$314:J$328,0))),INDEX(BC$314:BC$328,MATCH(BD356&BD357,E$314:E$328&J$314:J$328,0)),INDEX(BB$314:BB$328,MATCH(BD357&BD356,E$314:E$328&J$314:J$328,0)))","v":{"$error":"#N/A"}}]
[null,null,null,null,null,null,null,null,null,null,null,null,null,null,null,null,null,null,null,null,null,null,null,null,null,null,null,null,null,null,null,null,null,null,null,null,null,null,null,null,null,null,null,null,null,null,null,null,null,null,null,null,null,null,null,null,0,0,{"$f":"SUMIF($E$314:$I$328,$BD358,$O$314:$O$328)+SUMIF($J$314:$N$328,$BD358,Q$314:$Q$328)","v":0},0,null,null,null,null,null,null,{"$f":"IF(ISNA(INDEX(BB$314:BB$328,MATCH(BD358&BD357,E$314:E$328&J$314:J$328,0))),INDEX(BC$314:BC$328,MATCH(BD357&BD358,E$314:E$328&J$314:J$328,0)),INDEX(BB$314:BB$328,MATCH(BD358&BD357,E$314:E$328&J$314:J$328,0)))","v":{"$error":"#N/A"}}]
[null,null,null,null,null,null,null,null,null,null,null,null,null,null,null,null,null,null,null,null,null,null,null,null,null,null,null,null,null,null,null,null,null,null,null,null,null,null,null,null,null,null,null,null,null,null,null,null,null,null,null,null,null,null,null,null,0,0,{"$f":"SUMIF($E$314:$I$328,$BD359,$O$314:$O$328)+SUMIF($J$314:$N$328,$BD359,Q$314:$Q$328)","v":0},0,null,null,null,null,null,null,{"$f":"IF(ISNA(INDEX(BB$314:BB$328,MATCH(BD359&BD358,E$314:E$328&J$314:J$328,0))),INDEX(BC$314:BC$328,MATCH(BD358&BD359,E$314:E$328&J$314:J$328,0)),INDEX(BB$314:BB$328,MATCH(BD359&BD358,E$314:E$328&J$314:J$328,0)))","v":{"$error":"#N/A"}}]
[null,null,null,null,null,null,null,null,null,null,null,null,null,null,null,null,null,null,null,null,null,null,null,null,null,null,null,null,null,null,null,null,null,null,null,null,null,null,null,null,null,null,null,null,null,null,null,null,null,null,null,null,null,null,null,null,0,0,{"$f":"SUMIF($E$314:$I$328,$BD360,$O$314:$O$328)+SUMIF($J$314:$N$328,$BD360,Q$314:$Q$328)","v":0},0,null,null,null,null,null,null,{"$f":"IF(ISNA(INDEX(BB$314:BB$328,MATCH(BD360&BD359,E$314:E$328&J$314:J$328,0))),INDEX(BC$314:BC$328,MATCH(BD359&BD360,E$314:E$328&J$314:J$328,0)),INDEX(BB$314:BB$328,MATCH(BD360&BD359,E$314:E$328&J$314:J$328,0)))","v":{"$error":"#N/A"}}]
[null,null,null,null,null,null,null,null,null,null,null,null,null,null,null,null,null,null,null,null,null,null,null,null,null,null,null,null,null,null,null,null,null,null,null,null,null,null,null,null,null,null,null,null,null,null,null,null,null,null,null,null,null,null,null,null,0,0,{"$f":"SUMIF($E$314:$I$328,$BD361,$O$314:$O$328)+SUMIF($J$314:$N$328,$BD361,Q$314:$Q$328)","v":0},0,null,null,null,null,null,null,{"$f":"IF(ISNA(INDEX(BB$314:BB$328,MATCH(BD361&BD360,E$314:E$328&J$314:J$328,0))),INDEX(BC$314:BC$328,MATCH(BD360&BD361,E$314:E$328&J$314:J$328,0)),INDEX(BB$314:BB$328,MATCH(BD361&BD360,E$314:E$328&J$314:J$328,0)))","v":{"$error":"#N/A"}}]
[null,null,null,null,null,null,null,null,null,null,null,null,null,null,null,null,null,null,null,null,null,null,null,null,null,null,null,null,null,null,null,null,null,null,null,null,null,null,null,null,null,null,null,null,null,null,null,null,null,null,null,null,null,null,null,null,0,0,{"$f":"SUMIF($E$314:$I$328,$BD362,$O$314:$O$328)+SUMIF($J$314:$N$328,$BD362,Q$314:$Q$328)","v":0},0,null,null,null,null,null,null,{"$f":"IF(ISNA(INDEX(BB$314:BB$328,MATCH(BD362&BD361,E$314:E$328&J$314:J$328,0))),INDEX(BC$314:BC$328,MATCH(BD361&BD362,E$314:E$328&J$314:J$328,0)),INDEX(BB$314:BB$328,MATCH(BD362&BD361,E$314:E$328&J$314:J$328,0)))","v":{"$error":"#N/A"}}]
[null,null,null,null,null,null,null,null,null,null,null,null,null,null,null,null,null,null,null,null,null,null,null,null,null,null,null,null,null,null,null,null,null,null,null,null,null,null,null,null,null,null,null,null,null,null,null,null,null,null,null,null,null,null,null,null,0,0,{"$f":"SUMIF($E$314:$I$328,$BD363,$O$314:$O$328)+SUMIF($J$314:$N$328,$BD363,Q$314:$Q$328)","v":0},0,null,null,null,null,null,null,{"$f":"IF(ISNA(INDEX(BB$314:BB$328,MATCH(BD363&BD362,E$314:E$328&J$314:J$328,0))),INDEX(BC$314:BC$328,MATCH(BD362&BD363,E$314:E$328&J$314:J$328,0)),INDEX(BB$314:BB$328,MATCH(BD363&BD362,E$314:E$328&J$314:J$328,0)))","v":{"$error":"#N/A"}}]
[null,null,null,null,null,null,null,null,null,null,null,null,null,null,null,null,null,null,null,null,null,null,null,null,null,null,null,null,null,null,null,null,null,null,null,null,null,null,null,null,null,null,null,null,null,null,null,null,null,null,null,null,null,null,null,null,0,0,{"$f":"SUMIF($E$314:$I$328,$BD364,$O$314:$O$328)+SUMIF($J$314:$N$328,$BD364,Q$314:$Q$328)","v":0},0,null,null,null,null,null,null,{"$f":"IF(ISNA(INDEX(BB$314:BB$328,MATCH(BD364&BD363,E$314:E$328&J$314:J$328,0))),INDEX(BC$314:BC$328,MATCH(BD363&BD364,E$314:E$328&J$314:J$328,0)),INDEX(BB$314:BB$328,MATCH(BD364&BD363,E$314:E$328&J$314:J$328,0)))","v":{"$error":"#N/A"}}]
[null,null,null,null,null,null,null,null,null,null,null,null,null,null,null,null,null,null,null,null,null,null,null,null,null,null,null,null,null,null,null,null,null,null,null,null,null,null,null,null,null,null,null,null,null,null,null,null,null,null,null,null,null,null,null,null,0,0,{"$f":"SUMIF($E$314:$I$328,$BD365,$O$314:$O$328)+SUMIF($J$314:$N$328,$BD365,Q$314:$Q$328)","v":0},0,null,null,null,null,null,null,{"$f":"IF(ISNA(INDEX(BB$314:BB$328,MATCH(BD365&BD364,E$314:E$328&J$314:J$328,0))),INDEX(BC$314:BC$328,MATCH(BD364&BD365,E$314:E$328&J$314:J$328,0)),INDEX(BB$314:BB$328,MATCH(BD365&BD364,E$314:E$328&J$314:J$328,0)))","v":{"$error":"#N/A"}}]
[null,null,null,null,null,null,null,null,null,null,null,null,null,null,null,null,null,null,null,null,null,null,null,null,null,null,null,null,null,null,null,null,null,null,null,null,null,null,null,null,null,null,null,null,null,null,null,null,null,null,null,null,null,null,null,null,0,0,{"$f":"SUMIF($E$314:$I$328,$BD366,$O$314:$O$328)+SUMIF($J$314:$N$328,$BD366,Q$314:$Q$328)","v":0},0,null,null,null,null,null,null,{"$f":"IF(ISNA(INDEX(BB$314:BB$328,MATCH(BD366&BD365,E$314:E$328&J$314:J$328,0))),INDEX(BC$314:BC$328,MATCH(BD365&BD366,E$314:E$328&J$314:J$328,0)),INDEX(BB$314:BB$328,MATCH(BD366&BD365,E$314:E$328&J$314:J$328,0)))","v":{"$error":"#N/A"}}]
[null,null,null,null,null,null,null,null,null,null,null,null,null,null,null,null,null,null,null,null,null,null,null,null,null,null,null,null,null,null,null,null,null,null,null,null,null,null,null,null,null,null,null,null,null,null,null,null,null,null,null,null,null,null,null,null,0,0,{"$f":"SUMIF($E$314:$I$328,$BD367,$O$314:$O$328)+SUMIF($J$314:$N$328,$BD367,Q$314:$Q$328)","v":0},0,null,null,null,null,null,null,{"$f":"IF(ISNA(INDEX(BB$314:BB$328,MATCH(BD367&BD366,E$314:E$328&J$314:J$328,0))),INDEX(BC$314:BC$328,MATCH(BD366&BD367,E$314:E$328&J$314:J$328,0)),INDEX(BB$314:BB$328,MATCH(BD367&BD366,E$314:E$328&J$314:J$328,0)))","v":{"$error":"#N/A"}}]
[null,null,null,null,null,null,null,null,null,null,null,null,null,null,null,null,null,null,null,null,null,null,null,null,null,null,null,null,null,null,null,null,null,null,null,null,null,null,null,null,null,null,null,null,null,null,null,null,null,null,null,null,null,null,null,null,0,0,{"$f":"SUMIF($E$314:$I$328,$BD368,$O$314:$O$328)+SUMIF($J$314:$N$328,$BD368,Q$314:$Q$328)","v":0},0,null,null,null,null,null,null,{"$f":"IF(ISNA(INDEX(BB$314:BB$328,MATCH(BD368&BD367,E$314:E$328&J$314:J$328,0))),INDEX(BC$314:BC$328,MATCH(BD367&BD368,E$314:E$328&J$314:J$328,0)),INDEX(BB$314:BB$328,MATCH(BD368&BD367,E$314:E$328&J$314:J$328,0)))","v":{"$error":"#N/A"}}]
[null,null,null,null,null,null,null,null,null,null,null,null,null,null,null,null,null,null,null,null,null,null,null,null,null,null,null,null,null,null,null,null,null,null,null,null,null,null,null,null,null,null,null,null,null,null,null,null,null,null,null,null,null,null,null,null,0,0,{"$f":"SUMIF($E$314:$I$328,$BD369,$O$314:$O$328)+SUMIF($J$314:$N$328,$BD369,Q$314:$Q$328)","v":0},0,null,null,null,null,null,null,{"$f":"IF(ISNA(INDEX(BB$314:BB$328,MATCH(BD369&BD368,E$314:E$328&J$314:J$328,0))),INDEX(BC$314:BC$328,MATCH(BD368&BD369,E$314:E$328&J$314:J$328,0)),INDEX(BB$314:BB$328,MATCH(BD369&BD368,E$314:E$328&J$314:J$328,0)))","v":{"$error":"#N/A"}}]
[null,null,null,null,null,null,null,null,null,null,null,null,null,null,null,null,null,null,null,null,null,null,null,null,null,null,null,null,null,null,null,null,null,null,null,null,null,null,null,null,null,null,null,null,null,null,null,null,null,null,null,null,null,null,null,null,0,0,{"$f":"SUMIF($E$314:$I$328,$BD370,$O$314:$O$328)+SUMIF($J$314:$N$328,$BD370,Q$314:$Q$328)","v":0},0,null,null,null,null,null,null,{"$f":"IF(ISNA(INDEX(BB$314:BB$328,MATCH(BD370&BD369,E$314:E$328&J$314:J$328,0))),INDEX(BC$314:BC$328,MATCH(BD369&BD370,E$314:E$328&J$314:J$328,0)),INDEX(BB$314:BB$328,MATCH(BD370&BD369,E$314:E$328&J$314:J$328,0)))","v":{"$error":"#N/A"}}]
[null,null,null,null,null,null,null,null,null,null,null,null,null,null,null,null,null,null,null,null,null,null,null,null,null,null,null,null,null,null,null,null,null,null,null,null,null,null,null,null,null,null,null,null,null,null,null,null,null,null,null,null,null,null,null,null,0,0,{"$f":"SUMIF($E$314:$I$328,$BD371,$O$314:$O$328)+SUMIF($J$314:$N$328,$BD371,Q$314:$Q$328)","v":0},0,null,null,null,null,null,null,{"$f":"IF(ISNA(INDEX(BB$314:BB$328,MATCH(BD371&BD370,E$314:E$328&J$314:J$328,0))),INDEX(BC$314:BC$328,MATCH(BD370&BD371,E$314:E$328&J$314:J$328,0)),INDEX(BB$314:BB$328,MATCH(BD371&BD370,E$314:E$328&J$314:J$328,0)))","v":{"$error":"#N/A"}}]
[null,null,null,null,null,null,null,null,null,null,null,null,null,null,null,null,null,null,null,null,null,null,null,null,null,null,null,null,null,null,null,null,null,null,null,null,null,null,null,null,null,null,null,null,null,null,null,null,null,null,null,null,null,null,null,null,0,0,{"$f":"SUMIF($E$314:$I$328,$BD372,$O$314:$O$328)+SUMIF($J$314:$N$328,$BD372,Q$314:$Q$328)","v":0},0,null,null,null,null,null,null,{"$f":"IF(ISNA(INDEX(BB$314:BB$328,MATCH(BD372&BD371,E$314:E$328&J$314:J$328,0))),INDEX(BC$314:BC$328,MATCH(BD371&BD372,E$314:E$328&J$314:J$328,0)),INDEX(BB$314:BB$328,MATCH(BD372&BD371,E$314:E$328&J$314:J$328,0)))","v":{"$error":"#N/A"}}]
[null,null,null,null,null,null,null,null,null,null,null,null,null,null,null,null,null,null,null,null,null,null,null,null,null,null,null,null,null,null,null,null,null,null,null,null,null,null,null,null,null,null,null,null,null,null,null,null,null,null,null,null,null,null,null,null,0,0,{"$f":"SUMIF($E$314:$I$328,$BD373,$O$314:$O$328)+SUMIF($J$314:$N$328,$BD373,Q$314:$Q$328)","v":0},0,null,null,null,null,null,null,{"$f":"IF(ISNA(INDEX(BB$314:BB$328,MATCH(BD373&BD372,E$314:E$328&J$314:J$328,0))),INDEX(BC$314:BC$328,MATCH(BD372&BD373,E$314:E$328&J$314:J$328,0)),INDEX(BB$314:BB$328,MATCH(BD373&BD372,E$314:E$328&J$314:J$328,0)))","v":{"$error":"#N/A"}}]
[null,null,null,null,null,null,null,null,null,null,null,null,null,null,null,null,null,null,null,null,null,null,null,null,null,null,null,null,null,null,null,null,null,null,null,null,null,null,null,null,null,null,null,null,null,null,null,null,null,null,null,null,null,null,null,null,0,0,{"$f":"SUMIF($E$314:$I$328,$BD374,$O$314:$O$328)+SUMIF($J$314:$N$328,$BD374,Q$314:$Q$328)","v":0},0,null,null,null,null,null,null,{"$f":"IF(ISNA(INDEX(BB$314:BB$328,MATCH(BD374&BD373,E$314:E$328&J$314:J$328,0))),INDEX(BC$314:BC$328,MATCH(BD373&BD374,E$314:E$328&J$314:J$328,0)),INDEX(BB$314:BB$328,MATCH(BD374&BD373,E$314:E$328&J$314:J$328,0)))","v":{"$error":"#N/A"}}]
[null,null,null,null,null,null,null,null,null,null,null,null,null,null,null,null,null,null,null,null,null,null,null,null,null,null,null,null,null,null,null,null,null,null,null,null,null,null,null,null,null,null,null,null,null,null,null,null,null,null,null,null,null,null,null,null,0,0,{"$f":"SUMIF($E$314:$I$328,$BD375,$O$314:$O$328)+SUMIF($J$314:$N$328,$BD375,Q$314:$Q$328)","v":0},0,null,null,null,null,null,null,{"$f":"IF(ISNA(INDEX(BB$314:BB$328,MATCH(BD375&BD374,E$314:E$328&J$314:J$328,0))),INDEX(BC$314:BC$328,MATCH(BD374&BD375,E$314:E$328&J$314:J$328,0)),INDEX(BB$314:BB$328,MATCH(BD375&BD374,E$314:E$328&J$314:J$328,0)))","v":{"$error":"#N/A"}}]
[null,null,null,null,null,null,null,null,null,null,null,null,null,null,null,null,null,null,null,null,null,null,null,null,null,null,null,null,null,null,null,null,null,null,null,null,null,null,null,null,null,null,null,null,null,null,null,null,null,null,null,null,null,null,null,null,0,0,{"$f":"SUMIF($E$314:$I$328,$BD376,$O$314:$O$328)+SUMIF($J$314:$N$328,$BD376,Q$314:$Q$328)","v":0},0,null,null,null,null,null,null,{"$f":"IF(ISNA(INDEX(BB$314:BB$328,MATCH(BD376&BD375,E$314:E$328&J$314:J$328,0))),INDEX(BC$314:BC$328,MATCH(BD375&BD376,E$314:E$328&J$314:J$328,0)),INDEX(BB$314:BB$328,MATCH(BD376&BD375,E$314:E$328&J$314:J$328,0)))","v":{"$error":"#N/A"}}]
[null,null,null,null,null,null,null,null,null,null,null,null,null,null,null,null,null,null,null,null,null,null,null,null,null,null,null,null,null,null,null,null,null,null,null,null,null,null,null,null,null,null,null,null,null,null,null,null,null,null,null,null,null,null,null,null,0,0,{"$f":"SUMIF($E$314:$I$328,$BD377,$O$314:$O$328)+SUMIF($J$314:$N$328,$BD377,Q$314:$Q$328)","v":0},0,null,null,null,null,null,null,{"$f":"IF(ISNA(INDEX(BB$314:BB$328,MATCH(BD377&BD376,E$314:E$328&J$314:J$328,0))),INDEX(BC$314:BC$328,MATCH(BD376&BD377,E$314:E$328&J$314:J$328,0)),INDEX(BB$314:BB$328,MATCH(BD377&BD376,E$314:E$328&J$314:J$328,0)))","v":{"$error":"#N/A"}}]
[null,null,null,null,null,null,null,null,null,null,null,null,null,null,null,null,null,null,null,null,null,null,null,null,null,null,null,null,null,null,null,null,null,null,null,null,null,null,null,null,null,null,null,null,null,null,null,null,null,null,null,null,null,null,null,null,0,0,{"$f":"SUMIF($E$314:$I$328,$BD378,$O$314:$O$328)+SUMIF($J$314:$N$328,$BD378,Q$314:$Q$328)","v":0},0,null,null,null,null,null,null,{"$f":"IF(ISNA(INDEX(BB$314:BB$328,MATCH(BD378&BD377,E$314:E$328&J$314:J$328,0))),INDEX(BC$314:BC$328,MATCH(BD377&BD378,E$314:E$328&J$314:J$328,0)),INDEX(BB$314:BB$328,MATCH(BD378&BD377,E$314:E$328&J$314:J$328,0)))","v":{"$error":"#N/A"}}]
[null,null,null,null,null,null,null,null,null,null,null,null,null,null,null,null,null,null,null,null,null,null,null,null,null,null,null,null,null,null,null,null,null,null,null,null,null,null,null,null,null,null,null,null,null,null,null,null,null,null,null,null,null,null,null,null,0,0,{"$f":"SUMIF($E$314:$I$328,$BD379,$O$314:$O$328)+SUMIF($J$314:$N$328,$BD379,Q$314:$Q$328)","v":0},0,null,null,null,null,null,null,{"$f":"IF(ISNA(INDEX(BB$314:BB$328,MATCH(BD379&BD378,E$314:E$328&J$314:J$328,0))),INDEX(BC$314:BC$328,MATCH(BD378&BD379,E$314:E$328&J$314:J$328,0)),INDEX(BB$314:BB$328,MATCH(BD379&BD378,E$314:E$328&J$314:J$328,0)))","v":{"$error":"#N/A"}}]
[null,null,null,null,null,null,null,null,null,null,null,null,null,null,null,null,null,null,null,null,null,null,null,null,null,null,null,null,null,null,null,null,null,null,null,null,null,null,null,null,null,null,null,null,null,null,null,null,null,null,null,null,null,null,null,null,0,0,{"$f":"SUMIF($E$314:$I$328,$BD380,$O$314:$O$328)+SUMIF($J$314:$N$328,$BD380,Q$314:$Q$328)","v":0},0,null,null,null,null,null,null,{"$f":"IF(ISNA(INDEX(BB$314:BB$328,MATCH(BD380&BD379,E$314:E$328&J$314:J$328,0))),INDEX(BC$314:BC$328,MATCH(BD379&BD380,E$314:E$328&J$314:J$328,0)),INDEX(BB$314:BB$328,MATCH(BD380&BD379,E$314:E$328&J$314:J$328,0)))","v":{"$error":"#N/A"}}]
[null,null,null,null,null,null,null,null,null,null,null,null,null,null,null,null,null,null,null,null,null,null,null,null,null,null,null,null,null,null,null,null,null,null,null,null,null,null,null,null,null,null,null,null,null,null,null,null,null,null,null,null,null,null,null,null,0,0,{"$f":"SUMIF($E$314:$I$328,$BD381,$O$314:$O$328)+SUMIF($J$314:$N$328,$BD381,Q$314:$Q$328)","v":0},0,null,null,null,null,null,null,{"$f":"IF(ISNA(INDEX(BB$314:BB$328,MATCH(BD381&BD380,E$314:E$328&J$314:J$328,0))),INDEX(BC$314:BC$328,MATCH(BD380&BD381,E$314:E$328&J$314:J$328,0)),INDEX(BB$314:BB$328,MATCH(BD381&BD380,E$314:E$328&J$314:J$328,0)))","v":{"$error":"#N/A"}}]
[null,null,null,null,null,null,null,null,null,null,null,null,null,null,null,null,null,null,null,null,null,null,null,null,null,null,null,null,null,null,null,null,null,null,null,null,null,null,null,null,null,null,null,null,null,null,null,null,null,null,null,null,null,null,null,null,0,0,{"$f":"SUMIF($E$314:$I$328,$BD382,$O$314:$O$328)+SUMIF($J$314:$N$328,$BD382,Q$314:$Q$328)","v":0},0,null,null,null,null,null,null,{"$f":"IF(ISNA(INDEX(BB$314:BB$328,MATCH(BD382&BD381,E$314:E$328&J$314:J$328,0))),INDEX(BC$314:BC$328,MATCH(BD381&BD382,E$314:E$328&J$314:J$328,0)),INDEX(BB$314:BB$328,MATCH(BD382&BD381,E$314:E$328&J$314:J$328,0)))","v":{"$error":"#N/A"}}]
[null,null,null,null,null,null,null,null,null,null,null,null,null,null,null,null,null,null,null,null,null,null,null,null,null,null,null,null,null,null,null,null,null,null,null,null,null,null,null,null,null,null,null,null,null,null,null,null,null,null,null,null,null,null,null,null,0,0,{"$f":"SUMIF($E$314:$I$328,$BD383,$O$314:$O$328)+SUMIF($J$314:$N$328,$BD383,Q$314:$Q$328)","v":0},0,null,null,null,null,null,null,{"$f":"IF(ISNA(INDEX(BB$314:BB$328,MATCH(BD383&BD382,E$314:E$328&J$314:J$328,0))),INDEX(BC$314:BC$328,MATCH(BD382&BD383,E$314:E$328&J$314:J$328,0)),INDEX(BB$314:BB$328,MATCH(BD383&BD382,E$314:E$328&J$314:J$328,0)))","v":{"$error":"#N/A"}}]
[null,null,null,null,null,null,null,null,null,null,null,null,null,null,null,null,null,null,null,null,null,null,null,null,null,null,null,null,null,null,null,null,null,null,null,null,null,null,null,null,null,null,null,null,null,null,null,null,null,null,null,null,null,null,null,null,0,0,{"$f":"SUMIF($E$314:$I$328,$BD384,$O$314:$O$328)+SUMIF($J$314:$N$328,$BD384,Q$314:$Q$328)","v":0},0,null,null,null,null,null,null,{"$f":"IF(ISNA(INDEX(BB$314:BB$328,MATCH(BD384&BD383,E$314:E$328&J$314:J$328,0))),INDEX(BC$314:BC$328,MATCH(BD383&BD384,E$314:E$328&J$314:J$328,0)),INDEX(BB$314:BB$328,MATCH(BD384&BD383,E$314:E$328&J$314:J$328,0)))","v":{"$error":"#N/A"}}]
[null,null,null,null,null,null,null,null,null,null,null,null,null,null,null,null,null,null,null,null,null,null,null,null,null,null,null,null,null,null,null,null,null,null,null,null,null,null,null,null,null,null,null,null,null,null,null,null,null,null,null,null,null,null,null,null,0,0,{"$f":"SUMIF($E$314:$I$328,$BD385,$O$314:$O$328)+SUMIF($J$314:$N$328,$BD385,Q$314:$Q$328)","v":0},0,null,null,null,null,null,null,{"$f":"IF(ISNA(INDEX(BB$314:BB$328,MATCH(BD385&BD384,E$314:E$328&J$314:J$328,0))),INDEX(BC$314:BC$328,MATCH(BD384&BD385,E$314:E$328&J$314:J$328,0)),INDEX(BB$314:BB$328,MATCH(BD385&BD384,E$314:E$328&J$314:J$328,0)))","v":{"$error":"#N/A"}}]
[null,null,null,null,null,null,null,null,null,null,null,null,null,null,null,null,null,null,null,null,null,null,null,null,null,null,null,null,null,null,null,null,null,null,null,null,null,null,null,null,null,null,null,null,null,null,null,null,null,null,null,null,null,null,null,null,0,0,{"$f":"SUMIF($E$314:$I$328,$BD386,$O$314:$O$328)+SUMIF($J$314:$N$328,$BD386,Q$314:$Q$328)","v":0},0,null,null,null,null,null,null,{"$f":"IF(ISNA(INDEX(BB$314:BB$328,MATCH(BD386&BD385,E$314:E$328&J$314:J$328,0))),INDEX(BC$314:BC$328,MATCH(BD385&BD386,E$314:E$328&J$314:J$328,0)),INDEX(BB$314:BB$328,MATCH(BD386&BD385,E$314:E$328&J$314:J$328,0)))","v":{"$error":"#N/A"}}]
[null,null,null,null,null,null,null,null,null,null,null,null,null,null,null,null,null,null,null,null,null,null,null,null,null,null,null,null,null,null,null,null,null,null,null,null,null,null,null,null,null,null,null,null,null,null,null,null,null,null,null,null,null,null,null,null,0,0,{"$f":"SUMIF($E$314:$I$328,$BD387,$O$314:$O$328)+SUMIF($J$314:$N$328,$BD387,Q$314:$Q$328)","v":0},0,null,null,null,null,null,null,{"$f":"IF(ISNA(INDEX(BB$314:BB$328,MATCH(BD387&BD386,E$314:E$328&J$314:J$328,0))),INDEX(BC$314:BC$328,MATCH(BD386&BD387,E$314:E$328&J$314:J$328,0)),INDEX(BB$314:BB$328,MATCH(BD387&BD386,E$314:E$328&J$314:J$328,0)))","v":{"$error":"#N/A"}}]
[null,null,null,null,null,null,null,null,null,null,null,null,null,null,null,null,null,null,null,null,null,null,null,null,null,null,null,null,null,null,null,null,null,null,null,null,null,null,null,null,null,null,null,null,null,null,null,null,null,null,null,null,null,null,null,null,0,0,{"$f":"SUMIF($E$314:$I$328,$BD388,$O$314:$O$328)+SUMIF($J$314:$N$328,$BD388,Q$314:$Q$328)","v":0},0,null,null,null,null,null,null,{"$f":"IF(ISNA(INDEX(BB$314:BB$328,MATCH(BD388&BD387,E$314:E$328&J$314:J$328,0))),INDEX(BC$314:BC$328,MATCH(BD387&BD388,E$314:E$328&J$314:J$328,0)),INDEX(BB$314:BB$328,MATCH(BD388&BD387,E$314:E$328&J$314:J$328,0)))","v":{"$error":"#N/A"}}]
[null,null,null,null,null,null,null,null,null,null,null,null,null,null,null,null,null,null,null,null,null,null,null,null,null,null,null,null,null,null,null,null,null,null,null,null,null,null,null,null,null,null,null,null,null,null,null,null,null,null,null,null,null,null,null,null,0,0,{"$f":"SUMIF($E$314:$I$328,$BD389,$O$314:$O$328)+SUMIF($J$314:$N$328,$BD389,Q$314:$Q$328)","v":0},0,null,null,null,null,null,null,{"$f":"IF(ISNA(INDEX(BB$314:BB$328,MATCH(BD389&BD388,E$314:E$328&J$314:J$328,0))),INDEX(BC$314:BC$328,MATCH(BD388&BD389,E$314:E$328&J$314:J$328,0)),INDEX(BB$314:BB$328,MATCH(BD389&BD388,E$314:E$328&J$314:J$328,0)))","v":{"$error":"#N/A"}}]
[null,null,null,null,null,null,null,null,null,null,null,null,null,null,null,null,null,null,null,null,null,null,null,null,null,null,null,null,null,null,null,null,null,null,null,null,null,null,null,null,null,null,null,null,null,null,null,null,null,null,null,null,null,null,null,null,0,0,{"$f":"SUMIF($E$314:$I$328,$BD390,$O$314:$O$328)+SUMIF($J$314:$N$328,$BD390,Q$314:$Q$328)","v":0},0,null,null,null,null,null,null,{"$f":"IF(ISNA(INDEX(BB$314:BB$328,MATCH(BD390&BD389,E$314:E$328&J$314:J$328,0))),INDEX(BC$314:BC$328,MATCH(BD389&BD390,E$314:E$328&J$314:J$328,0)),INDEX(BB$314:BB$328,MATCH(BD390&BD389,E$314:E$328&J$314:J$328,0)))","v":{"$error":"#N/A"}}]
[null,null,null,null,null,null,null,null,null,null,null,null,null,null,null,null,null,null,null,null,null,null,null,null,null,null,null,null,null,null,null,null,null,null,null,null,null,null,null,null,null,null,null,null,null,null,null,null,null,null,null,null,null,null,null,null,0,0,{"$f":"SUMIF($E$314:$I$328,$BD391,$O$314:$O$328)+SUMIF($J$314:$N$328,$BD391,Q$314:$Q$328)","v":0},0,null,null,null,null,null,null,{"$f":"IF(ISNA(INDEX(BB$314:BB$328,MATCH(BD391&BD390,E$314:E$328&J$314:J$328,0))),INDEX(BC$314:BC$328,MATCH(BD390&BD391,E$314:E$328&J$314:J$328,0)),INDEX(BB$314:BB$328,MATCH(BD391&BD390,E$314:E$328&J$314:J$328,0)))","v":{"$error":"#N/A"}}]
[null,null,null,null,null,null,null,null,null,null,null,null,null,null,null,null,null,null,null,null,null,null,null,null,null,null,null,null,null,null,null,null,null,null,null,null,null,null,null,null,null,null,null,null,null,null,null,null,null,null,null,null,null,null,null,null,0,0,{"$f":"SUMIF($E$314:$I$328,$BD392,$O$314:$O$328)+SUMIF($J$314:$N$328,$BD392,Q$314:$Q$328)","v":0},0,null,null,null,null,null,null,{"$f":"IF(ISNA(INDEX(BB$314:BB$328,MATCH(BD392&BD391,E$314:E$328&J$314:J$328,0))),INDEX(BC$314:BC$328,MATCH(BD391&BD392,E$314:E$328&J$314:J$328,0)),INDEX(BB$314:BB$328,MATCH(BD392&BD391,E$314:E$328&J$314:J$328,0)))","v":{"$error":"#N/A"}}]
[null,null,null,null,null,null,null,null,null,null,null,null,null,null,null,null,null,null,null,null,null,null,null,null,null,null,null,null,null,null,null,null,null,null,null,null,null,null,null,null,null,null,null,null,null,null,null,null,null,null,null,null,null,null,null,null,0,0,{"$f":"SUMIF($E$314:$I$328,$BD393,$O$314:$O$328)+SUMIF($J$314:$N$328,$BD393,Q$314:$Q$328)","v":0},0,null,null,null,null,null,null,{"$f":"IF(ISNA(INDEX(BB$314:BB$328,MATCH(BD393&BD392,E$314:E$328&J$314:J$328,0))),INDEX(BC$314:BC$328,MATCH(BD392&BD393,E$314:E$328&J$314:J$328,0)),INDEX(BB$314:BB$328,MATCH(BD393&BD392,E$314:E$328&J$314:J$328,0)))","v":{"$error":"#N/A"}}]
[null,null,null,null,null,null,null,null,null,null,null,null,null,null,null,null,null,null,null,null,null,null,null,null,null,null,null,null,null,null,null,null,null,null,null,null,null,null,null,null,null,null,null,null,null,null,null,null,null,null,null,null,null,null,null,null,0,0,{"$f":"SUMIF($E$314:$I$328,$BD394,$O$314:$O$328)+SUMIF($J$314:$N$328,$BD394,Q$314:$Q$328)","v":0},0,null,null,null,null,null,null,{"$f":"IF(ISNA(INDEX(BB$314:BB$328,MATCH(BD394&BD393,E$314:E$328&J$314:J$328,0))),INDEX(BC$314:BC$328,MATCH(BD393&BD394,E$314:E$328&J$314:J$328,0)),INDEX(BB$314:BB$328,MATCH(BD394&BD393,E$314:E$328&J$314:J$328,0)))","v":{"$error":"#N/A"}}]
[null,null,null,null,null,null,null,null,null,null,null,null,null,null,null,null,null,null,null,null,null,null,null,null,null,null,null,null,null,null,null,null,null,null,null,null,null,null,null,null,null,null,null,null,null,null,null,null,null,null,null,null,null,null,null,null,0,0,{"$f":"SUMIF($E$314:$I$328,$BD395,$O$314:$O$328)+SUMIF($J$314:$N$328,$BD395,Q$314:$Q$328)","v":0},0,null,null,null,null,null,null,{"$f":"IF(ISNA(INDEX(BB$314:BB$328,MATCH(BD395&BD394,E$314:E$328&J$314:J$328,0))),INDEX(BC$314:BC$328,MATCH(BD394&BD395,E$314:E$328&J$314:J$328,0)),INDEX(BB$314:BB$328,MATCH(BD395&BD394,E$314:E$328&J$314:J$328,0)))","v":{"$error":"#N/A"}}]
[null,null,null,null,null,null,null,null,null,null,null,null,null,null,null,null,null,null,null,null,null,null,null,null,null,null,null,null,null,null,null,null,null,null,null,null,null,null,null,null,null,null,null,null,null,null,null,null,null,null,null,null,null,null,null,null,0,0,{"$f":"SUMIF($E$314:$I$328,$BD396,$O$314:$O$328)+SUMIF($J$314:$N$328,$BD396,Q$314:$Q$328)","v":0},0,null,null,null,null,null,null,{"$f":"IF(ISNA(INDEX(BB$314:BB$328,MATCH(BD396&BD395,E$314:E$328&J$314:J$328,0))),INDEX(BC$314:BC$328,MATCH(BD395&BD396,E$314:E$328&J$314:J$328,0)),INDEX(BB$314:BB$328,MATCH(BD396&BD395,E$314:E$328&J$314:J$328,0)))","v":{"$error":"#N/A"}}]
[null,null,null,null,null,null,null,null,null,null,null,null,null,null,null,null,null,null,null,null,null,null,null,null,null,null,null,null,null,null,null,null,null,null,null,null,null,null,null,null,null,null,null,null,null,null,null,null,null,null,null,null,null,null,null,null,0,0,{"$f":"SUMIF($E$314:$I$328,$BD397,$O$314:$O$328)+SUMIF($J$314:$N$328,$BD397,Q$314:$Q$328)","v":0},0,null,null,null,null,null,null,{"$f":"IF(ISNA(INDEX(BB$314:BB$328,MATCH(BD397&BD396,E$314:E$328&J$314:J$328,0))),INDEX(BC$314:BC$328,MATCH(BD396&BD397,E$314:E$328&J$314:J$328,0)),INDEX(BB$314:BB$328,MATCH(BD397&BD396,E$314:E$328&J$314:J$328,0)))","v":{"$error":"#N/A"}}]
[null,null,null,null,null,null,null,null,null,null,null,null,null,null,null,null,null,null,null,null,null,null,null,null,null,null,null,null,null,null,null,null,null,null,null,null,null,null,null,null,null,null,null,null,null,null,null,null,null,null,null,null,null,null,null,null,{"$f":"SUMIF($E$314:$I$328,$BD398,$BD$314:$BD$328)+SUMIF($J$314:$N$328,$BD398,$BE$314:$BE$328)","v":0},{"$f":"SUMIF($E$314:$I$328,$BD398,$BB$314:$BB$328)+SUMIF($J$314:$N$328,$BD398,$BC$314:$BC$328)","v":0},{"$f":"SUMIF($E$314:$I$328,$BD398,$O$314:$O$328)+SUMIF($J$314:$N$328,$BD398,Q$314:$Q$328)","v":0},{"$f":"SUMIF($E$314:$I$328,$BD398,$Q$314:$Q$328)+SUMIF($J$314:$N$328,$BD398,$O$314:$O$328)","v":0},null,null,null,null,null,null,{"$f":"IF(ISNA(INDEX(BB$314:BB$328,MATCH(BD398&BD397,E$314:E$328&J$314:J$328,0))),INDEX(BC$314:BC$328,MATCH(BD397&BD398,E$314:E$328&J$314:J$328,0)),INDEX(BB$314:BB$328,MATCH(BD398&BD397,E$314:E$328&J$314:J$328,0)))","v":{"$error":"#N/A"}}]
[null,null,null,null,null,null,null,null,null,null,null,null,null,null,null,null,null,null,null,null,null,null,null,null,null,null,null,null,null,null,null,null,null,null,null,null,null,null,null,null,null,null,null,null,null,null,null,null,null,null,null,null,null,null,null,null,0,0,{"$f":"SUMIF($E$314:$I$328,$BD399,$O$314:$O$328)+SUMIF($J$314:$N$328,$BD399,Q$314:$Q$328)","v":0},0,null,null,null,null,null,null,{"$f":"IF(ISNA(INDEX(BB$314:BB$328,MATCH(BD399&BD398,E$314:E$328&J$314:J$328,0))),INDEX(BC$314:BC$328,MATCH(BD398&BD399,E$314:E$328&J$314:J$328,0)),INDEX(BB$314:BB$328,MATCH(BD399&BD398,E$314:E$328&J$314:J$328,0)))","v":{"$error":"#N/A"}}]
[]
[null,"Platzierungsspiele"]
[null,"25-30"]
[null,null,"Beginn:",null,{"$f":"Vorgaben!G4","v":"08:45:00"},"Uhr","Spielzeit:",null,{"$f":"Vorgaben!G5","v":1},"x",{"$f":"Vorgaben!G6","v":6.9444444444444441E-3},"min.","Pause:",null,{"$f":"Vorgaben!G7","v":6.9444444444444447E-4},"Min."]
[null,null,null,null,null,null,null,null,null,null,null,null,null,"Halbzeit:",{"$f":"IF(Vorgaben!G5>1,Vorgaben!G8,0)","v":0},"Min."]
[null,null,null,null,"Mannschaften:"]
[null,null,null,null,"1.",{"$f":"'GR Platzierungsspiele VR'!C12","v":"Gruppe A3"}]
[null,null,null,null,"2.",{"$f":"'GR Platzierungsspiele VR'!C13","v":"Gruppe B7"}]
[null,null,null,null,"3.",{"$f":"'GR Platzierungsspiele VR'!C14","v":"Gruppe C7"}]
[null,null,null,null,"4.",{"$f":"'GR Platzierungsspiele VR'!C15","v":"Gruppe D4"}]
[null,null,null,null,"5.",{"$f":"'GR Platzierungsspiele VR'!C16","v":"Gruppe E1"}]
[null,null,null,null,"6.",{"$f":"'GR Platzierungsspiele VR'!C17","v":"Gruppe F3"}]
[]
[null,"Nr.","Beginn",null,"Mannschaft1",null,null,null,null,"Mannschaft2",null,null,null,null,"Ergebnis",null,null,"Platz",null,null,null,null,null,null,null,null,null,null,null,null,null,null,null,null,null,null,null,null,null,null,null,null,null,null,null,null,null,null,null,null,null,null,null,"Punkte"]
[null,{"$f":"Platzzuordnung!A64","v":61},{"$f":"IF(Vorgaben!C$1=24,Platzzuordnung!S14,IF(Vorgaben!C$1=30,Platzzuordnung!S14,IF(Vorgaben!C$1=36,Platzzuordnung!S14,Platzzuordnung!D64)))","v":"08:45:00"},{"$f":"Platzzuordnung!C419","v":"00:00:00"},{"$f":"$F$406","v":"Gruppe A3"},null,null,null,null,{"$f":"$F$407","v":"Gruppe B7"},null,null,null,null,{"$f":"IF(ISBLANK('PlSp25-30'!O14),\"\",'PlSp25-30'!O14)","v":1},":",{"$f":"IF(ISBLANK('PlSp25-30'!Q14),\"\",'PlSp25-30'!Q14)","v":2},{"$f":"VLOOKUP(B414,Platzzuordnung!$A$4:$B$210,2,FALSE)","v":5},null,null,null,null,null,null,null,null,null,null,null,null,null,null,null,null,null,null,null,null,null,null,null,null,null,null,null,null,null,null,null,null,null,null,null,{"$f":"IF(ISBLANK('PlSp25-30'!O14),\"0\",IF('PlSp25-30'!O14>'PlSp25-30'!Q14,3,IF('PlSp25-30'!O14='PlSp25-30'!Q14,1,0)))","v":0},{"$f":"IF(ISBLANK('PlSp25-30'!Q14),\"0\",IF('PlSp25-30'!Q14>'PlSp25-30'!O14,3,IF('PlSp25-30'!Q14='PlSp25-30'!O14,1,0)))","v":3},{"$f":"IF(ISBLANK('PlSp25-30'!O14),0,1)","v":1},{"$f":"IF(ISBLANK('PlSp25-30'!Q14),0,1)","v":1}]
[null,{"$f":"Platzzuordnung!A65","v":62},{"$f":"IF(Vorgaben!C$1=24,Platzzuordnung!S28,IF(Vorgaben!C$1=30,Platzzuordnung!S28,IF(Vorgaben!C$1=36,Platzzuordnung!S28,Platzzuordnung!D65)))","v":"09:07:00"},{"$f":"Platzzuordnung!C433","v":"00:00:00"},{"$f":"$F$408","v":"Gruppe C7"},null,null,null,null,{"$f":"$F$409","v":"Gruppe D4"},null,null,null,null,{"$f":"IF(ISBLANK('PlSp25-30'!O15),\"\",'PlSp25-30'!O15)","v":3},":",{"$f":"IF(ISBLANK('PlSp25-30'!Q15),\"\",'PlSp25-30'!Q15)","v":4},{"$f":"VLOOKUP(B415,Platzzuordnung!$A$4:$B$210,2,FALSE)","v":5},null,null,null,null,null,null,null,null,null,null,null,null,null,null,null,null,null,null,null,null,null,null,null,null,null,null,null,null,null,null,null,null,null,null,null,{"$f":"IF(ISBLANK('PlSp25-30'!O15),\"0\",IF('PlSp25-30'!O15>'PlSp25-30'!Q15,3,IF('PlSp25-30'!O15='PlSp25-30'!Q15,1,0)))","v":0},{"$f":"IF(ISBLANK('PlSp25-30'!Q15),\"0\",IF('PlSp25-30'!Q15>'PlSp25-30'!O15,3,IF('PlSp25-30'!Q15='PlSp25-30'!O15,1,0)))","v":3},{"$f":"IF(ISBLANK('PlSp25-30'!O15),0,1)","v":1},{"$f":"IF(ISBLANK('PlSp25-30'!Q15),0,1)","v":1}]
[null,{"$f":"Platzzuordnung!A66","v":63},{"$f":"IF(Vorgaben!C$1=24,Platzzuordnung!S15,IF(Vorgaben!C$1=30,Platzzuordnung!S15,IF(Vorgaben!C$1=36,Platzzuordnung!S15,Platzzuordnung!D66)))","v":"09:18:00"},{"$f":"Platzzuordnung!C420","v":"00:00:00"},{"$f":"$F$410","v":"Gruppe E1"},null,null,null,null,{"$f":"$F$411","v":"Gruppe F3"},null,null,null,null,{"$f":"IF(ISBLANK('PlSp25-30'!O16),\"\",'PlSp25-30'!O16)","v":5},":",{"$f":"IF(ISBLANK('PlSp25-30'!Q16),\"\",'PlSp25-30'!Q16)","v":1},{"$f":"VLOOKUP(B416,Platzzuordnung!$A$4:$B$210,2,FALSE)","v":5},null,null,null,null,null,null,null,null,null,null,null,null,null,null,null,null,null,null,null,null,null,null,null,null,null,null,null,null,null,null,null,null,null,null,null,{"$f":"IF(ISBLANK('PlSp25-30'!O16),\"0\",IF('PlSp25-30'!O16>'PlSp25-30'!Q16,3,IF('PlSp25-30'!O16='PlSp25-30'!Q16,1,0)))","v":3},{"$f":"IF(ISBLANK('PlSp25-30'!Q16),\"0\",IF('PlSp25-30'!Q16>'PlSp25-30'!O16,3,IF('PlSp25-30'!Q16='PlSp25-30'!O16,1,0)))","v":0},{"$f":"IF(ISBLANK('PlSp25-30'!O16),0,1)","v":1},{"$f":"IF(ISBLANK('PlSp25-30'!Q16),0,1)","v":1}]
[null,{"$f":"Platzzuordnung!A67","v":64},{"$f":"IF(Vorgaben!C$1=24,Platzzuordnung!S16,IF(Vorgaben!C$1=30,Platzzuordnung!S16,IF(Vorgaben!C$1=36,Platzzuordnung!S16,Platzzuordnung!D67)))","v":"09:40:00"},{"$f":"Platzzuordnung!C421","v":"00:00:00"},{"$f":"$F$407","v":"Gruppe B7"},null,null,null,null,{"$f":"$F$408","v":"Gruppe C7"},null,null,null,null,{"$f":"IF(ISBLANK('PlSp25-30'!O17),\"\",'PlSp25-30'!O17)","v":6},":",{"$f":"IF(ISBLANK('PlSp25-30'!Q17),\"\",'PlSp25-30'!Q17)","v":2},{"$f":"VLOOKUP(B417,Platzzuordnung!$A$4:$B$210,2,FALSE)","v":5},null,null,null,null,null,null,null,null,null,null,null,null,null,null,null,null,null,null,null,null,null,null,null,null,null,null,null,null,null,null,null,null,null,null,null,{"$f":"IF(ISBLANK('PlSp25-30'!O17),\"0\",IF('PlSp25-30'!O17>'PlSp25-30'!Q17,3,IF('PlSp25-30'!O17='PlSp25-30'!Q17,1,0)))","v":3},{"$f":"IF(ISBLANK('PlSp25-30'!Q17),\"0\",IF('PlSp25-30'!Q17>'PlSp25-30'!O17,3,IF('PlSp25-30'!Q17='PlSp25-30'!O17,1,0)))","v":0},{"$f":"IF(ISBLANK('PlSp25-30'!O17),0,1)","v":1},{"$f":"IF(ISBLANK('PlSp25-30'!Q17),0,1)","v":1}]
[null,{"$f":"Platzzuordnung!A68","v":65},{"$f":"IF(Vorgaben!C$1=24,Platzzuordnung!S17,IF(Vorgaben!C$1=30,Platzzuordnung!S17,IF(Vorgaben!C$1=36,Platzzuordnung!S17,Platzzuordnung!D68)))","v":"09:51:00"},{"$f":"Platzzuordnung!C422","v":"00:00:00"},{"$f":"$F$409","v":"Gruppe D4"},null,null,null,null,{"$f":"$F$410","v":"Gruppe E1"},null,null,null,null,{"$f":"IF(ISBLANK('PlSp25-30'!O18),\"\",'PlSp25-30'!O18)","v":""},":",{"$f":"IF(ISBLANK('PlSp25-30'!Q18),\"\",'PlSp25-30'!Q18)","v":""},{"$f":"VLOOKUP(B418,Platzzuordnung!$A$4:$B$210,2,FALSE)","v":5},null,null,null,null,null,null,null,null,null,null,null,null,null,null,null,null,null,null,null,null,null,null,null,null,null,null,null,null,null,null,null,null,null,null,null,{"$f":"IF(ISBLANK('PlSp25-30'!O18),\"0\",IF('PlSp25-30'!O18>'PlSp25-30'!Q18,3,IF('PlSp25-30'!O18='PlSp25-30'!Q18,1,0)))","v":"0"},{"$f":"IF(ISBLANK('PlSp25-30'!Q18),\"0\",IF('PlSp25-30'!Q18>'PlSp25-30'!O18,3,IF('PlSp25-30'!Q18='PlSp25-30'!O18,1,0)))","v":"0"},{"$f":"IF(ISBLANK('PlSp25-30'!O18),0,1)","v":0},{"$f":"IF(ISBLANK('PlSp25-30'!Q18),0,1)","v":0}]
[null,{"$f":"Platzzuordnung!A69","v":66},{"$f":"IF(Vorgaben!C$1=24,Platzzuordnung!S18,IF(Vorgaben!C$1=30,Platzzuordnung!S18,IF(Vorgaben!C$1=36,Platzzuordnung!S18,Platzzuordnung!D69)))","v":"10:13:00"},{"$f":"Platzzuordnung!C423","v":"00:00:00"},{"$f":"$F$406","v":"Gruppe A3"},null,null,null,null,{"$f":"$F$408","v":"Gruppe C7"},null,null,null,null,{"$f":"IF(ISBLANK('PlSp25-30'!O19),\"\",'PlSp25-30'!O19)","v":""},":",{"$f":"IF(ISBLANK('PlSp25-30'!Q19),\"\",'PlSp25-30'!Q19)","v":""},{"$f":"VLOOKUP(B419,Platzzuordnung!$A$4:$B$210,2,FALSE)","v":5},null,null,null,null,null,null,null,null,null,null,null,null,null,null,null,null,null,null,null,null,null,null,null,null,null,null,null,null,null,null,null,null,null,null,null,{"$f":"IF(ISBLANK('PlSp25-30'!O19),\"0\",IF('PlSp25-30'!O19>'PlSp25-30'!Q19,3,IF('PlSp25-30'!O19='PlSp25-30'!Q19,1,0)))","v":"0"},{"$f":"IF(ISBLANK('PlSp25-30'!Q19),\"0\",IF('PlSp25-30'!Q19>'PlSp25-30'!O19,3,IF('PlSp25-30'!Q19='PlSp25-30'!O19,1,0)))","v":"0"},{"$f":"IF(ISBLANK('PlSp25-30'!O19),0,1)","v":0},{"$f":"IF(ISBLANK('PlSp25-30'!Q19),0,1)","v":0}]
[null,{"$f":"Platzzuordnung!A70","v":67},{"$f":"IF(Vorgaben!C$1=24,Platzzuordnung!S19,IF(Vorgaben!C$1=30,Platzzuordnung!S19,IF(Vorgaben!C$1=36,Platzzuordnung!S19,Platzzuordnung!D70)))","v":"10:24:00"},{"$f":"Platzzuordnung!C424","v":"00:00:00"},{"$f":"$F$410","v":"Gruppe E1"},null,null,null,null,{"$f":"$F$407","v":"Gruppe B7"},null,null,null,null,{"$f":"IF(ISBLANK('PlSp25-30'!O20),\"\",'PlSp25-30'!O20)","v":""},":",{"$f":"IF(ISBLANK('PlSp25-30'!Q20),\"\",'PlSp25-30'!Q20)","v":""},{"$f":"VLOOKUP(B420,Platzzuordnung!$A$4:$B$210,2,FALSE)","v":5},null,null,null,null,null,null,null,null,null,null,null,null,null,null,null,null,null,null,null,null,null,null,null,null,null,null,null,null,null,null,null,null,null,null,null,{"$f":"IF(ISBLANK('PlSp25-30'!O20),\"0\",IF('PlSp25-30'!O20>'PlSp25-30'!Q20,3,IF('PlSp25-30'!O20='PlSp25-30'!Q20,1,0)))","v":"0"},{"$f":"IF(ISBLANK('PlSp25-30'!Q20),\"0\",IF('PlSp25-30'!Q20>'PlSp25-30'!O20,3,IF('PlSp25-30'!Q20='PlSp25-30'!O20,1,0)))","v":"0"},{"$f":"IF(ISBLANK('PlSp25-30'!O20),0,1)","v":0},{"$f":"IF(ISBLANK('PlSp25-30'!Q20),0,1)","v":0}]
[null,{"$f":"Platzzuordnung!A71","v":68},{"$f":"IF(Vorgaben!C$1=24,Platzzuordnung!S20,IF(Vorgaben!C$1=30,Platzzuordnung!S20,IF(Vorgaben!C$1=36,Platzzuordnung!S20,Platzzuordnung!D71)))","v":"10:46:00"},{"$f":"Platzzuordnung!C425","v":"00:00:00"},{"$f":"$F$411","v":"Gruppe F3"},null,null,null,null,{"$f":"$F$406","v":"Gruppe A3"},null,null,null,null,{"$f":"IF(ISBLANK('PlSp25-30'!O21),\"\",'PlSp25-30'!O21)","v":""},":",{"$f":"IF(ISBLANK('PlSp25-30'!Q21),\"\",'PlSp25-30'!Q21)","v":""},{"$f":"VLOOKUP(B421,Platzzuordnung!$A$4:$B$210,2,FALSE)","v":5},null,null,null,null,null,null,null,null,null,null,null,null,null,null,null,null,null,null,null,null,null,null,null,null,null,null,null,null,null,null,null,null,null,null,null,{"$f":"IF(ISBLANK('PlSp25-30'!O21),\"0\",IF('PlSp25-30'!O21>'PlSp25-30'!Q21,3,IF('PlSp25-30'!O21='PlSp25-30'!Q21,1,0)))","v":"0"},{"$f":"IF(ISBLANK('PlSp25-30'!Q21),\"0\",IF('PlSp25-30'!Q21>'PlSp25-30'!O21,3,IF('PlSp25-30'!Q21='PlSp25-30'!O21,1,0)))","v":"0"},{"$f":"IF(ISBLANK('PlSp25-30'!O21),0,1)","v":0},{"$f":"IF(ISBLANK('PlSp25-30'!Q21),0,1)","v":0}]
[null,{"$f":"Platzzuordnung!A72","v":69},{"$f":"IF(Vorgaben!C$1=24,Platzzuordnung!S21,IF(Vorgaben!C$1=30,Platzzuordnung!S21,IF(Vorgaben!C$1=36,Platzzuordnung!S21,Platzzuordnung!D72)))","v":"10:57:00"},{"$f":"Platzzuordnung!C426","v":"00:00:00"},{"$f":"$F$408","v":"Gruppe C7"},null,null,null,null,{"$f":"$F$410","v":"Gruppe E1"},null,null,null,null,{"$f":"IF(ISBLANK('PlSp25-30'!O22),\"\",'PlSp25-30'!O22)","v":""},":",{"$f":"IF(ISBLANK('PlSp25-30'!Q22),\"\",'PlSp25-30'!Q22)","v":""},{"$f":"VLOOKUP(B422,Platzzuordnung!$A$4:$B$210,2,FALSE)","v":5},null,null,null,null,null,null,null,null,null,null,null,null,null,null,null,null,null,null,null,null,null,null,null,null,null,null,null,null,null,null,null,null,null,null,null,{"$f":"IF(ISBLANK('PlSp25-30'!O22),\"0\",IF('PlSp25-30'!O22>'PlSp25-30'!Q22,3,IF('PlSp25-30'!O22='PlSp25-30'!Q22,1,0)))","v":"0"},{"$f":"IF(ISBLANK('PlSp25-30'!Q22),\"0\",IF('PlSp25-30'!Q22>'PlSp25-30'!O22,3,IF('PlSp25-30'!Q22='PlSp25-30'!O22,1,0)))","v":"0"},{"$f":"IF(ISBLANK('PlSp25-30'!O22),0,1)","v":0},{"$f":"IF(ISBLANK('PlSp25-30'!Q22),0,1)","v":0}]
[null,{"$f":"Platzzuordnung!A73","v":70},{"$f":"IF(Vorgaben!C$1=24,Platzzuordnung!S22,IF(Vorgaben!C$1=30,Platzzuordnung!S22,IF(Vorgaben!C$1=36,Platzzuordnung!S22,Platzzuordnung!D73)))","v":"11:19:00"},{"$f":"Platzzuordnung!C427","v":"00:00:00"},{"$f":"$F$409","v":"Gruppe D4"},null,null,null,null,{"$f":"$F$411","v":"Gruppe F3"},null,null,null,null,{"$f":"IF(ISBLANK('PlSp25-30'!O23),\"\",'PlSp25-30'!O23)","v":""},":",{"$f":"IF(ISBLANK('PlSp25-30'!Q23),\"\",'PlSp25-30'!Q23)","v":""},{"$f":"VLOOKUP(B423,Platzzuordnung!$A$4:$B$210,2,FALSE)","v":5},null,null,null,null,null,null,null,null,null,null,null,null,null,null,null,null,null,null,null,null,null,null,null,null,null,null,null,null,null,null,null,null,null,null,null,{"$f":"IF(ISBLANK('PlSp25-30'!O23),\"0\",IF('PlSp25-30'!O23>'PlSp25-30'!Q23,3,IF('PlSp25-30'!O23='PlSp25-30'!Q23,1,0)))","v":"0"},{"$f":"IF(ISBLANK('PlSp25-30'!Q23),\"0\",IF('PlSp25-30'!Q23>'PlSp25-30'!O23,3,IF('PlSp25-30'!Q23='PlSp25-30'!O23,1,0)))","v":"0"},{"$f":"IF(ISBLANK('PlSp25-30'!O23),0,1)","v":0},{"$f":"IF(ISBLANK('PlSp25-30'!Q23),0,1)","v":0}]
[null,{"$f":"Platzzuordnung!A74","v":71},{"$f":"IF(Vorgaben!C$1=24,Platzzuordnung!S23,IF(Vorgaben!C$1=30,Platzzuordnung!S23,IF(Vorgaben!C$1=36,Platzzuordnung!S23,Platzzuordnung!D74)))","v":"12:15:00"},{"$f":"Platzzuordnung!C428","v":"00:00:00"},{"$f":"$F$406","v":"Gruppe A3"},null,null,null,null,{"$f":"$F$410","v":"Gruppe E1"},null,null,null,null,{"$f":"IF(ISBLANK('PlSp25-30'!O24),\"\",'PlSp25-30'!O24)","v":""},":",{"$f":"IF(ISBLANK('PlSp25-30'!Q24),\"\",'PlSp25-30'!Q24)","v":""},{"$f":"VLOOKUP(B424,Platzzuordnung!$A$4:$B$210,2,FALSE)","v":5},null,null,null,null,null,null,null,null,null,null,null,null,null,null,null,null,null,null,null,null,null,null,null,null,null,null,null,null,null,null,null,null,null,null,null,{"$f":"IF(ISBLANK('PlSp25-30'!O24),\"0\",IF('PlSp25-30'!O24>'PlSp25-30'!Q24,3,IF('PlSp25-30'!O24='PlSp25-30'!Q24,1,0)))","v":"0"},{"$f":"IF(ISBLANK('PlSp25-30'!Q24),\"0\",IF('PlSp25-30'!Q24>'PlSp25-30'!O24,3,IF('PlSp25-30'!Q24='PlSp25-30'!O24,1,0)))","v":"0"},{"$f":"IF(ISBLANK('PlSp25-30'!O24),0,1)","v":0},{"$f":"IF(ISBLANK('PlSp25-30'!Q24),0,1)","v":0}]
[null,{"$f":"Platzzuordnung!A75","v":72},{"$f":"IF(Vorgaben!C$1=24,Platzzuordnung!S24,IF(Vorgaben!C$1=30,Platzzuordnung!S24,IF(Vorgaben!C$1=36,Platzzuordnung!S24,Platzzuordnung!D75)))","v":"12:37:00"},{"$f":"Platzzuordnung!C429","v":"00:00:00"},{"$f":"$F$411","v":"Gruppe F3"},null,null,null,null,{"$f":"$F$407","v":"Gruppe B7"},null,null,null,null,{"$f":"IF(ISBLANK('PlSp25-30'!O25),\"\",'PlSp25-30'!O25)","v":""},":",{"$f":"IF(ISBLANK('PlSp25-30'!Q25),\"\",'PlSp25-30'!Q25)","v":""},{"$f":"VLOOKUP(B425,Platzzuordnung!$A$4:$B$210,2,FALSE)","v":5},null,null,null,null,null,null,null,null,null,null,null,null,null,null,null,null,null,null,null,null,null,null,null,null,null,null,null,null,null,null,null,null,null,null,null,{"$f":"IF(ISBLANK('PlSp25-30'!O25),\"0\",IF('PlSp25-30'!O25>'PlSp25-30'!Q25,3,IF('PlSp25-30'!O25='PlSp25-30'!Q25,1,0)))","v":"0"},{"$f":"IF(ISBLANK('PlSp25-30'!Q25),\"0\",IF('PlSp25-30'!Q25>'PlSp25-30'!O25,3,IF('PlSp25-30'!Q25='PlSp25-30'!O25,1,0)))","v":"0"},{"$f":"IF(ISBLANK('PlSp25-30'!O25),0,1)","v":0},{"$f":"IF(ISBLANK('PlSp25-30'!Q25),0,1)","v":0}]
[null,{"$f":"Platzzuordnung!A76","v":73},{"$f":"IF(Vorgaben!C$1=24,Platzzuordnung!S25,IF(Vorgaben!C$1=30,Platzzuordnung!S25,IF(Vorgaben!C$1=36,Platzzuordnung!S25,Platzzuordnung!D76)))","v":"12:48:00"},{"$f":"Platzzuordnung!C430","v":"00:00:00"},{"$f":"$F$409","v":"Gruppe D4"},null,null,null,null,{"$f":"$F$406","v":"Gruppe A3"},null,null,null,null,{"$f":"IF(ISBLANK('PlSp25-30'!O26),\"\",'PlSp25-30'!O26)","v":""},":",{"$f":"IF(ISBLANK('PlSp25-30'!Q26),\"\",'PlSp25-30'!Q26)","v":""},{"$f":"VLOOKUP(B426,Platzzuordnung!$A$4:$B$210,2,FALSE)","v":5},null,null,null,null,null,null,null,null,null,null,null,null,null,null,null,null,null,null,null,null,null,null,null,null,null,null,null,null,null,null,null,null,null,null,null,{"$f":"IF(ISBLANK('PlSp25-30'!O26),\"0\",IF('PlSp25-30'!O26>'PlSp25-30'!Q26,3,IF('PlSp25-30'!O26='PlSp25-30'!Q26,1,0)))","v":"0"},{"$f":"IF(ISBLANK('PlSp25-30'!Q26),\"0\",IF('PlSp25-30'!Q26>'PlSp25-30'!O26,3,IF('PlSp25-30'!Q26='PlSp25-30'!O26,1,0)))","v":"0"},{"$f":"IF(ISBLANK('PlSp25-30'!O26),0,1)","v":0},{"$f":"IF(ISBLANK('PlSp25-30'!Q26),0,1)","v":0}]
[null,{"$f":"Platzzuordnung!A77","v":74},{"$f":"IF(Vorgaben!C$1=24,Platzzuordnung!S26,IF(Vorgaben!C$1=30,Platzzuordnung!S26,IF(Vorgaben!C$1=36,Platzzuordnung!S26,Platzzuordnung!D77)))","v":"13:10:00"},{"$f":"Platzzuordnung!C431","v":"00:00:00"},{"$f":"$F$408","v":"Gruppe C7"},null,null,null,null,{"$f":"$F$411","v":"Gruppe F3"},null,null,null,null,{"$f":"IF(ISBLANK('PlSp25-30'!O27),\"\",'PlSp25-30'!O27)","v":""},":",{"$f":"IF(ISBLANK('PlSp25-30'!Q27),\"\",'PlSp25-30'!Q27)","v":""},{"$f":"VLOOKUP(B427,Platzzuordnung!$A$4:$B$210,2,FALSE)","v":5},null,null,null,null,null,null,null,null,null,null,null,null,null,null,null,null,null,null,null,null,null,null,null,null,null,null,null,null,null,null,null,null,null,null,null,{"$f":"IF(ISBLANK('PlSp25-30'!O27),\"0\",IF('PlSp25-30'!O27>'PlSp25-30'!Q27,3,IF('PlSp25-30'!O27='PlSp25-30'!Q27,1,0)))","v":"0"},{"$f":"IF(ISBLANK('PlSp25-30'!Q27),\"0\",IF('PlSp25-30'!Q27>'PlSp25-30'!O27,3,IF('PlSp25-30'!Q27='PlSp25-30'!O27,1,0)))","v":"0"},{"$f":"IF(ISBLANK('PlSp25-30'!O27),0,1)","v":0},{"$f":"IF(ISBLANK('PlSp25-30'!Q27),0,1)","v":0}]
[null,{"$f":"Platzzuordnung!A78","v":75},{"$f":"IF(Vorgaben!C$1=24,Platzzuordnung!S27,IF(Vorgaben!C$1=30,Platzzuordnung!S27,IF(Vorgaben!C$1=36,Platzzuordnung!S27,Platzzuordnung!D78)))","v":"13:21:00"},{"$f":"Platzzuordnung!C432","v":"00:00:00"},{"$f":"$F$407","v":"Gruppe B7"},null,null,null,null,{"$f":"$F$409","v":"Gruppe D4"},null,null,null,null,{"$f":"IF(ISBLANK('PlSp25-30'!O28),\"\",'PlSp25-30'!O28)","v":""},":",{"$f":"IF(ISBLANK('PlSp25-30'!Q28),\"\",'PlSp25-30'!Q28)","v":""},{"$f":"VLOOKUP(B428,Platzzuordnung!$A$4:$B$210,2,FALSE)","v":5},null,null,null,null,null,null,null,null,null,null,null,null,null,null,null,null,null,null,null,null,null,null,null,null,null,null,null,null,null,null,null,null,null,null,null,{"$f":"IF(ISBLANK('PlSp25-30'!O28),\"0\",IF('PlSp25-30'!O28>'PlSp25-30'!Q28,3,IF('PlSp25-30'!O28='PlSp25-30'!Q28,1,0)))","v":"0"},{"$f":"IF(ISBLANK('PlSp25-30'!Q28),\"0\",IF('PlSp25-30'!Q28>'PlSp25-30'!O28,3,IF('PlSp25-30'!Q28='PlSp25-30'!O28,1,0)))","v":"0"},{"$f":"IF(ISBLANK('PlSp25-30'!O28),0,1)","v":0},{"$f":"IF(ISBLANK('PlSp25-30'!Q28),0,1)","v":0}]
[null,null,null,null,null,null,null,null,null,null,null,null,null,null,null,null,null,null,null,null,null,null,null,null,null,null,null,null,null,null,null,null,null,null,null,null,null,null,null,null,null,null,null,null,null,null,null,null,null,null,null,null,null,null,null,{"$f":"IF(BD431=\"Min. 3 Teams identisch.  HANDSORTIERUNG!\",BD431,IF(BD431=\"ACHTUNG! Direkter Vergleich war unentschieden!\",BD431,BD430))","v":""}]
[null,null,null,null,null,null,null,null,null,null,null,null,null,null,null,null,null,null,null,null,null,null,null,null,null,null,null,null,null,null,null,null,null,null,null,null,null,null,null,null,null,null,null,null,null,null,null,null,null,null,null,null,null,null,null,{"$f":"IF(AND(EXACT(BF433,BF434),EXACT(BG433,BG434),EXACT(BI433,BI434)),\"ACHTUNG: Direkter Vergleich erfolgreich durchlaufen!\",IF(AND(EXACT(BF434,BF435),EXACT(BG434,BG435),EXACT(BI434,BI435)),\"ACHTUNG: Direkter Vergleich erfolgreich durchlaufen!\",IF(AND(EXACT(BF435,BF436),EXACT(BG435,BG436),EXACT(BI435,BI436)),\"ACHTUNG: Direkter Vergleich erfolgreich durchlaufen!\",IF(AND(EXACT(BF436,BF437),EXACT(BG436,BG437),EXACT(BI436,BI437)),\"ACHTUNG: Direkter Vergleich erfolgreich durchlaufen!\",IF(AND(EXACT(BF437,BF438),EXACT(BG437,BG438),EXACT(BI437,BI438)),\"ACHTUNG: Direkter Vergleich erfolgreich durchlaufen!\",\"\")))))","v":""}]
[null,"Tabelle",null,null,null,null,null,null,"Spiele",null,"Punkte",null,"Differenz",null,"Tore",null,null,null,null,null,null,null,null,null,null,null,null,null,null,null,null,null,null,null,null,null,null,null,null,null,null,null,null,null,null,null,null,null,null,null,null,null,null,null,null,{"$f":"IF(OR(BS433=3,BS434=3,BS435=3,BS436=3,BS437=3,BS438=3),\"Min. 3 Teams identisch.  HANDSORTIERUNG!\",IF(OR(BR433=\"ACHTUNG! Direkter Vergleich war unentschieden!\",BR434=\"ACHTUNG! Direkter Vergleich war unentschieden!\",BR435=\"ACHTUNG! Direkter Vergleich war unentschieden!\",BR436=\"ACHTUNG! Direkter Vergleich war unentschieden!\",BR437=\"ACHTUNG! Direkter Vergleich war unentschieden!\",BR438=\"ACHTUNG! Direkter Vergleich war unentschieden!\"),\"ACHTUNG! Direkter Vergleich war unentschieden!\",\"\"))","v":""}]
[null,1,{"$f":"BD433","v":"Gruppe B7"},null,null,null,null,null,{"$f":"BE433","v":2},null,{"$f":"BF433","v":6},null,{"$f":"BI433","v":5},null,{"$f":"BG433","v":8},":",{"$f":"BH433","v":3},null,null,null,null,null,null,null,null,null,null,null,null,null,null,null,null,null,null,null,null,null,null,null,null,null,null,null,null,null,null,null,null,null,null,null,null,null,null,"Mannschaft","Spiele","Punkte","Tore+","Tore-","Diff"]
[null,2,{"$f":"BD434","v":"Gruppe E1"},null,null,null,null,null,{"$f":"BE434","v":1},null,{"$f":"BF434","v":3},null,{"$f":"BI434","v":4},null,{"$f":"BG434","v":5},":",{"$f":"BH434","v":1},null,null,null,null,null,null,null,null,null,null,null,null,null,null,null,null,null,null,null,null,null,null,null,null,null,null,null,null,null,null,null,null,null,null,null,null,null,{"$f":"INDEX('GR Platzierungsspiele VR'!$C$12:$D$17,MATCH(BD433,'GR Platzierungsspiele VR'!$C$12:$C$17,0),2)","v":0},{"$f":"F$407","v":"Gruppe B7"},{"$f":"SUMIF($E$414:$I$428,$BD433,$BD$414:$BD$428)+SUMIF($J$414:$N$428,$BD433,$BE$414:$BE$428)","v":2},{"$f":"SUMIF($E$414:$I$428,$BD433,$BB$414:$BB$428)+SUMIF($J$414:$N$428,$BD433,$BC$414:$BC$428)","v":6},{"$f":"SUMIF($E$414:$I$428,$BD433,$O$414:$O$428)+SUMIF($J$414:$N$428,$BD433,Q$414:$Q$428)","v":8},{"$f":"SUMIF($E$414:$I$428,$BD433,$Q$414:$Q$428)+SUMIF($J$414:$N$428,$BD433,$O$414:$O$428)","v":3},{"$f":"BG433-BH433","v":5},{"$f":"BL433","v":0},null,{"$f":"IF(BN433>BO434,10,IF(BN433<BO434,-10,0))","v":0},null,{"$f":"IF(ISNA(INDEX(BB$414:BB$428,MATCH(BD433&BD434,E$414:E$428&J$414:J$428,0))),INDEX(BC$414:BC$428,MATCH(BD434&BD433,E$414:E$428&J$414:J$428,0)),INDEX(BB$414:BB$428,MATCH(BD433&BD434,E$414:E$428&J$414:J$428,0)))","v":"0"},null,{"$f":"IF(AND(EXACT(BF433,BF434),EXACT(BG433,BG434),EXACT(BI433,BI434),EXACT(BN433,BO434)),\"ACHTUNG! Direkter Vergleich war unentschieden!\",IF(AND(EXACT(BF433,BF434),EXACT(BG433,BG434),EXACT(BI433,BI434)),1,2))","v":2},null,{"$f":"IF(OR(BP433=\"ACHTUNG! Direkter Vergleich war unentschieden!\",BQ433=\"ACHTUNG! Direkter Vergleich war unentschieden!\"),\"ACHTUNG! Direkter Vergleich war unentschieden!\",\"\")","v":""},{"$f":"IF(OR(AND(EXACT(BE433,BE434),EXACT(BF433,BF434),EXACT(BI433,BI434),EXACT(BE433,BE435),EXACT(BF433,BF435),EXACT(BI433,BI435)),AND(EXACT(BE433,BE434),EXACT(BF433,BF434),EXACT(BI433,BI434),EXACT(BE433,BE432),EXACT(BF433,BF432),EXACT(BI433,BI432))*AND(EXACT(BE433,BE431),EXACT(BF433,BF431),EXACT(BI433,BI431),EXACT(BE433,BE432),EXACT(BF433,BF432),EXACT(BI433,BI432))),3,1)","v":1}]
[null,3,"Gruppe D4",null,null,null,null,null,1,null,3,null,1,null,4,":",3,null,null,null,null,null,null,null,null,null,null,null,null,null,null,null,null,null,null,null,null,null,null,null,null,null,null,null,null,null,null,null,null,null,null,null,null,null,{"$f":"INDEX('GR Platzierungsspiele VR'!$C$12:$D$17,MATCH(BD434,'GR Platzierungsspiele VR'!$C$12:$C$17,0),2)","v":0},{"$f":"F$410","v":"Gruppe E1"},1,3,{"$f":"SUMIF($E$414:$I$428,$BD434,$O$414:$O$428)+SUMIF($J$414:$N$428,$BD434,Q$414:$Q$428)","v":5},1,4,{"$f":"BL434","v":0},{"$f":"BM434","v":0},{"$f":"IF(BN433<BO434,10,IF(BN433>BO434,-10,0))","v":0},{"$f":"IF(BN434>BO435,10,IF(BN434<BO435,-10,0))","v":0},{"$f":"IF(ISNA(INDEX(BB$414:BB$428,MATCH(BD434&BD435,E$414:E$428&J$414:J$428,0))),INDEX(BC$414:BC$428,MATCH(BD435&BD434,E$414:E$428&J$414:J$428,0)),INDEX(BB$414:BB$428,MATCH(BD434&BD435,E$414:E$428&J$414:J$428,0)))","v":"0"},{"$f":"IF(ISNA(INDEX(BB$414:BB$428,MATCH(BD434&BD433,E$414:E$428&J$414:J$428,0))),INDEX(BC$414:BC$428,MATCH(BD433&BD434,E$414:E$428&J$414:J$428,0)),INDEX(BB$414:BB$428,MATCH(BD434&BD433,E$414:E$428&J$414:J$428,0)))","v":"0"},2,{"$f":"IF(AND(EXACT(BF433,BF434),EXACT(BG433,BG434),EXACT(BI433,BI434),EXACT(BO434,BN433)),\"ACHTUNG! Direkter Vergleich war unentschieden!\",IF(AND(EXACT(BF433,BF434),EXACT(BG433,BG434),EXACT(BI433,BI434)),1,2))","v":2},"",1]
[null,4,"Gruppe A3",null,null,null,null,null,1,null,0,null,-1,null,1,":",2,null,null,null,null,null,null,null,null,null,null,null,null,null,null,null,null,null,null,null,null,null,null,null,null,null,null,null,null,null,null,null,null,null,null,null,null,null,{"$f":"INDEX('GR Platzierungsspiele VR'!$C$12:$D$17,MATCH(BD435,'GR Platzierungsspiele VR'!$C$12:$C$17,0),2)","v":0},{"$f":"F$409","v":"Gruppe D4"},1,3,{"$f":"SUMIF($E$414:$I$428,$BD435,$O$414:$O$428)+SUMIF($J$414:$N$428,$BD435,Q$414:$Q$428)","v":4},3,1,{"$f":"BL435","v":0},0,{"$f":"IF(BN434<BO435,10,IF(BN434>BO435,-10,0))","v":0},{"$f":"IF(BN435>BO436,10,IF(BN435<BO436,-10,0))","v":0},{"$f":"IF(ISNA(INDEX(BB$414:BB$428,MATCH(BD435&BD436,E$414:E$428&J$414:J$428,0))),INDEX(BC$414:BC$428,MATCH(BD436&BD435,E$414:E$428&J$414:J$428,0)),INDEX(BB$414:BB$428,MATCH(BD435&BD436,E$414:E$428&J$414:J$428,0)))","v":"0"},{"$f":"IF(ISNA(INDEX(BB$414:BB$428,MATCH(BD435&BD434,E$414:E$428&J$414:J$428,0))),INDEX(BC$414:BC$428,MATCH(BD434&BD435,E$414:E$428&J$414:J$428,0)),INDEX(BB$414:BB$428,MATCH(BD435&BD434,E$414:E$428&J$414:J$428,0)))","v":"0"},2,{"$f":"IF(AND(EXACT(BF434,BF435),EXACT(BG434,BG435),EXACT(BI434,BI435),EXACT(BO435,BN434)),\"ACHTUNG! Direkter Vergleich war unentschieden!\",IF(AND(EXACT(BF434,BF435),EXACT(BG434,BG435),EXACT(BI434,BI435)),1,2))","v":2},"",{"$f":"IF(OR(AND(EXACT(BE435,BE436),EXACT(BF435,BF436),EXACT(BI435,BI436),EXACT(BE435,BE437),EXACT(BF435,BF437),EXACT(BI435,BI437)),AND(EXACT(BE435,BE436),EXACT(BF435,BF436),EXACT(BI435,BI436),EXACT(BE435,BE434),EXACT(BF435,BF434),EXACT(BI435,BI434))*AND(EXACT(BE435,BE433),EXACT(BF435,BF433),EXACT(BI435,BI433),EXACT(BE435,BE434),EXACT(BF435,BF434),EXACT(BI435,BI434))),3,1)","v":1}]
[null,5,"Gruppe F3",null,null,null,null,null,1,null,0,null,-4,null,1,":",5,null,null,null,null,null,null,null,null,null,null,null,null,null,null,null,null,null,null,null,null,null,null,null,null,null,null,null,null,null,null,null,null,null,null,null,null,null,{"$f":"INDEX('GR Platzierungsspiele VR'!$C$12:$D$17,MATCH(BD436,'GR Platzierungsspiele VR'!$C$12:$C$17,0),2)","v":0},{"$f":"F$406","v":"Gruppe A3"},1,0,{"$f":"SUMIF($E$414:$I$428,$BD436,$O$414:$O$428)+SUMIF($J$414:$N$428,$BD436,Q$414:$Q$428)","v":1},2,-1,{"$f":"BL436","v":0},0,{"$f":"IF(BN435<BO436,10,IF(BN435>BO436,-10,0))","v":0},{"$f":"IF(BN435<BO436,10,IF(BN435>BO436,-10,0))","v":0},{"$f":"IF(ISNA(INDEX(BB$414:BB$428,MATCH(BD436&BD437,E$414:E$428&J$414:J$428,0))),INDEX(BC$414:BC$428,MATCH(BD437&BD436,E$414:E$428&J$414:J$428,0)),INDEX(BB$414:BB$428,MATCH(BD436&BD437,E$414:E$428&J$414:J$428,0)))","v":"0"},{"$f":"IF(ISNA(INDEX(BB$414:BB$428,MATCH(BD436&BD435,E$414:E$428&J$414:J$428,0))),INDEX(BC$414:BC$428,MATCH(BD435&BD436,E$414:E$428&J$414:J$428,0)),INDEX(BB$414:BB$428,MATCH(BD436&BD435,E$414:E$428&J$414:J$428,0)))","v":"0"},2,2,"",{"$f":"IF(OR(AND(EXACT(BE436,BE437),EXACT(BF436,BF437),EXACT(BI436,BI437),EXACT(BE436,BE438),EXACT(BF436,BF438),EXACT(BI436,BI438)),AND(EXACT(BE436,BE437),EXACT(BF436,BF437),EXACT(BI436,BI437),EXACT(BE436,BE435),EXACT(BF436,BF435),EXACT(BI436,BI435))*AND(EXACT(BE436,BE434),EXACT(BF436,BF434),EXACT(BI436,BI434),EXACT(BE436,BE435),EXACT(BF436,BF435),EXACT(BI436,BI435))),3,1)","v":1}]
[null,6,"Gruppe C7",null,null,null,null,null,2,null,0,null,-5,null,5,":",10,null,null,null,null,null,null,null,null,null,null,null,null,null,null,null,null,null,null,null,null,null,null,null,null,null,null,null,null,null,null,null,null,null,null,null,null,null,{"$f":"INDEX('GR Platzierungsspiele VR'!$C$12:$D$17,MATCH(BD437,'GR Platzierungsspiele VR'!$C$12:$C$17,0),2)","v":0},{"$f":"F$411","v":"Gruppe F3"},1,0,{"$f":"SUMIF($E$414:$I$428,$BD437,$O$414:$O$428)+SUMIF($J$414:$N$428,$BD437,Q$414:$Q$428)","v":1},5,-4,{"$f":"BL437","v":0},0,{"$f":"IF(BN436<BO437,10,IF(BN436>BO437,-10,0))","v":0},{"$f":"IF(BN437>BO438,10,IF(BN437<BO438,-10,0))","v":0},{"$f":"IF(ISNA(INDEX(BB$414:BB$428,MATCH(BD437&BD438,E$414:E$428&J$414:J$428,0))),INDEX(BC$414:BC$428,MATCH(BD438&BD437,E$414:E$428&J$414:J$428,0)),INDEX(BB$414:BB$428,MATCH(BD437&BD438,E$414:E$428&J$414:J$428,0)))","v":"0"},{"$f":"IF(ISNA(INDEX(BB$414:BB$428,MATCH(BD437&BD436,E$414:E$428&J$414:J$428,0))),INDEX(BC$414:BC$428,MATCH(BD436&BD437,E$414:E$428&J$414:J$428,0)),INDEX(BB$414:BB$428,MATCH(BD437&BD436,E$414:E$428&J$414:J$428,0)))","v":"0"},{"$f":"IF(AND(EXACT(BF437,BF438),EXACT(BG437,BG438),EXACT(BI437,BI438),EXACT(BN437,BO438)),\"ACHTUNG! Direkter Vergleich war unentschieden!\",IF(AND(EXACT(BF437,BF438),EXACT(BG437,BG438),EXACT(BI437,BI438)),1,2))","v":2},2,"",1]
[null,null,null,null,null,null,null,null,null,null,null,null,null,null,null,null,null,null,null,null,null,null,null,null,null,null,null,null,null,null,null,null,null,null,null,null,null,null,null,null,null,null,null,null,null,null,null,null,null,null,null,null,null,null,{"$f":"INDEX('GR Platzierungsspiele VR'!$C$12:$D$17,MATCH(BD438,'GR Platzierungsspiele VR'!$C$12:$C$17,0),2)","v":0},{"$f":"F$408","v":"Gruppe C7"},2,0,{"$f":"SUMIF($E$414:$I$428,$BD438,$O$414:$O$428)+SUMIF($J$414:$N$428,$BD438,Q$414:$Q$428)","v":5},10,-5,0,0,{"$f":"IF(BN437<BO438,10,IF(BN437>BO438,-10,0))","v":0},{"$f":"IF(BN437<BO438,10,IF(BN437>BO438,-10,0))","v":0},null,{"$f":"IF(ISNA(INDEX(BB$414:BB$428,MATCH(BD438&BD437,E$414:E$428&J$414:J$428,0))),INDEX(BC$414:BC$428,MATCH(BD437&BD438,E$414:E$428&J$414:J$428,0)),INDEX(BB$414:BB$428,MATCH(BD438&BD437,E$414:E$428&J$414:J$428,0)))","v":"0"},null,2,"",1]
[]
[]
[]
[]
[]
[]
[]
[]
[]
[]
[]
[]
[]
[]
[]
[]
[]
[]
[]
[]
[]
[]
[]
[]
[]
[]
[]
[]
[]
[]
[]
[]
[]
[]
[]
[]
[]
[]
[]
[]
[]
[]
[]
[]
[]
[]
[]
[]
[]
[]
[]
[]
[]
[]
[]
[]
[]
[]
[]
[]
[]
[]
[null,"Platzierungsspiele"]
[null,"31-36"]
[null,null,"Beginn:",null,{"$f":"Vorgaben!G4","v":"08:45:00"},"Uhr","Spielzeit:",null,{"$f":"Vorgaben!G5","v":1},"x",{"$f":"Vorgaben!G6","v":6.9444444444444441E-3},"min.","Pause:",null,{"$f":"Vorgaben!G7","v":6.9444444444444447E-4},"Min."]
[null,null,null,null,null,null,null,null,null,null,null,null,null,"Halbzeit:",{"$f":"IF(Vorgaben!G5>1,Vorgaben!G8,0)","v":0},"Min."]
[null,null,null,null,"Mannschaften:"]
[null,null,null,null,"1.",{"$f":"'GR Platzierungsspiele VR'!G12","v":"Gruppe A8"}]
[null,null,null,null,"2.",{"$f":"'GR Platzierungsspiele VR'!G13","v":"Gruppe B8"}]
[null,null,null,null,"3.",{"$f":"'GR Platzierungsspiele VR'!G14","v":"Gruppe C2"}]
[null,null,null,null,"4.",{"$f":"'GR Platzierungsspiele VR'!G15","v":"Gruppe D1"}]
[null,null,null,null,"5.",{"$f":"'GR Platzierungsspiele VR'!G16","v":"Gruppe E6"}]
[null,null,null,null,"6.",{"$f":"'GR Platzierungsspiele VR'!G17","v":"Gruppe F2"}]
[]
[null,"Nr.","Beginn",null,"Mannschaft1",null,null,null,null,"Mannschaft2",null,null,null,null,"Ergebnis",null,null,"Platz",null,null,null,null,null,null,null,null,null,null,null,null,null,null,null,null,null,null,null,null,null,null,null,null,null,null,null,null,null,null,null,null,null,null,null,"Punkte"]
[null,{"$f":"Platzzuordnung!A79","v":76},{"$f":"IF(Vorgaben!C$1=24,Platzzuordnung!S14,IF(Vorgaben!C$1=30,Platzzuordnung!S14,IF(Vorgaben!C$1=36,Platzzuordnung!S14,Platzzuordnung!D79)))","v":"08:56:00"},{"$f":"Platzzuordnung!C519","v":"00:00:00"},{"$f":"$F$506","v":"Gruppe A8"},null,null,null,null,{"$f":"$F$507","v":"Gruppe B8"},null,null,null,null,{"$f":"IF(ISBLANK('PlSp31-36'!O14),\"\",'PlSp31-36'!O14)","v":2},":",{"$f":"IF(ISBLANK('PlSp31-36'!O14),\"\",'PlSp31-36'!Q14)","v":3},{"$f":"VLOOKUP(B514,Platzzuordnung!$A$4:$B$210,2,FALSE)","v":6},null,null,null,null,null,null,null,null,null,null,null,null,null,null,null,null,null,null,null,null,null,null,null,null,null,null,null,null,null,null,null,null,null,null,null,{"$f":"IF(ISBLANK('PlSp31-36'!O14),\"0\",IF('PlSp31-36'!O14>'PlSp31-36'!Q14,3,IF('PlSp31-36'!O14='PlSp31-36'!Q14,1,0)))","v":0},{"$f":"IF(ISBLANK('PlSp31-36'!Q14),\"0\",IF('PlSp31-36'!Q14>'PlSp31-36'!O14,3,IF('PlSp31-36'!Q14='PlSp31-36'!O14,1,0)))","v":3},{"$f":"IF(ISBLANK('PlSp31-36'!O14),0,1)","v":1},{"$f":"IF(ISBLANK('PlSp31-36'!Q14),0,1)","v":1}]
[null,{"$f":"Platzzuordnung!A80","v":77},{"$f":"IF(Vorgaben!C$1=24,Platzzuordnung!S15,IF(Vorgaben!C$1=30,Platzzuordnung!S15,IF(Vorgaben!C$1=36,Platzzuordnung!S15,Platzzuordnung!D80)))","v":"09:07:00"},{"$f":"Platzzuordnung!C520","v":"00:00:00"},{"$f":"$F$508","v":"Gruppe C2"},null,null,null,null,{"$f":"$F$509","v":"Gruppe D1"},null,null,null,null,{"$f":"IF(ISBLANK('PlSp31-36'!O15),\"\",'PlSp31-36'!O15)","v":""},":",{"$f":"IF(ISBLANK('PlSp31-36'!O15),\"\",'PlSp31-36'!Q15)","v":""},{"$f":"VLOOKUP(B515,Platzzuordnung!$A$4:$B$210,2,FALSE)","v":6},null,null,null,null,null,null,null,null,null,null,null,null,null,null,null,null,null,null,null,null,null,null,null,null,null,null,null,null,null,null,null,null,null,null,null,{"$f":"IF(ISBLANK('PlSp31-36'!O15),\"0\",IF('PlSp31-36'!O15>'PlSp31-36'!Q15,3,IF('PlSp31-36'!O15='PlSp31-36'!Q15,1,0)))","v":"0"},{"$f":"IF(ISBLANK('PlSp31-36'!Q15),\"0\",IF('PlSp31-36'!Q15>'PlSp31-36'!O15,3,IF('PlSp31-36'!Q15='PlSp31-36'!O15,1,0)))","v":"0"},{"$f":"IF(ISBLANK('PlSp31-36'!O15),0,1)","v":0},{"$f":"IF(ISBLANK('PlSp31-36'!Q15),0,1)","v":0}]
[null,{"$f":"Platzzuordnung!A81","v":78},{"$f":"IF(Vorgaben!C$1=24,Platzzuordnung!S16,IF(Vorgaben!C$1=30,Platzzuordnung!S16,IF(Vorgaben!C$1=36,Platzzuordnung!S16,Platzzuordnung!D81)))","v":"09:29:00"},{"$f":"Platzzuordnung!C521","v":"00:00:00"},{"$f":"$F$510","v":"Gruppe E6"},null,null,null,null,{"$f":"$F$511","v":"Gruppe F2"},null,null,null,null,{"$f":"IF(ISBLANK('PlSp31-36'!O16),\"\",'PlSp31-36'!O16)","v":""},":",{"$f":"IF(ISBLANK('PlSp31-36'!O16),\"\",'PlSp31-36'!Q16)","v":""},{"$f":"VLOOKUP(B516,Platzzuordnung!$A$4:$B$210,2,FALSE)","v":6},null,null,null,null,null,null,null,null,null,null,null,null,null,null,null,null,null,null,null,null,null,null,null,null,null,null,null,null,null,null,null,null,null,null,null,{"$f":"IF(ISBLANK('PlSp31-36'!O16),\"0\",IF('PlSp31-36'!O16>'PlSp31-36'!Q16,3,IF('PlSp31-36'!O16='PlSp31-36'!Q16,1,0)))","v":"0"},{"$f":"IF(ISBLANK('PlSp31-36'!Q16),\"0\",IF('PlSp31-36'!Q16>'PlSp31-36'!O16,3,IF('PlSp31-36'!Q16='PlSp31-36'!O16,1,0)))","v":"0"},{"$f":"IF(ISBLANK('PlSp31-36'!O16),0,1)","v":0},{"$f":"IF(ISBLANK('PlSp31-36'!Q16),0,1)","v":0}]
[null,{"$f":"Platzzuordnung!A82","v":79},{"$f":"IF(Vorgaben!C$1=24,Platzzuordnung!S17,IF(Vorgaben!C$1=30,Platzzuordnung!S17,IF(Vorgaben!C$1=36,Platzzuordnung!S17,Platzzuordnung!D82)))","v":"09:40:00"},{"$f":"Platzzuordnung!C522","v":"00:00:00"},{"$f":"$F$507","v":"Gruppe B8"},null,null,null,null,{"$f":"$F$508","v":"Gruppe C2"},null,null,null,null,{"$f":"IF(ISBLANK('PlSp31-36'!O17),\"\",'PlSp31-36'!O17)","v":""},":",{"$f":"IF(ISBLANK('PlSp31-36'!O17),\"\",'PlSp31-36'!Q17)","v":""},{"$f":"VLOOKUP(B517,Platzzuordnung!$A$4:$B$210,2,FALSE)","v":6},null,null,null,null,null,null,null,null,null,null,null,null,null,null,null,null,null,null,null,null,null,null,null,null,null,null,null,null,null,null,null,null,null,null,null,{"$f":"IF(ISBLANK('PlSp31-36'!O17),\"0\",IF('PlSp31-36'!O17>'PlSp31-36'!Q17,3,IF('PlSp31-36'!O17='PlSp31-36'!Q17,1,0)))","v":"0"},{"$f":"IF(ISBLANK('PlSp31-36'!Q17),\"0\",IF('PlSp31-36'!Q17>'PlSp31-36'!O17,3,IF('PlSp31-36'!Q17='PlSp31-36'!O17,1,0)))","v":"0"},{"$f":"IF(ISBLANK('PlSp31-36'!O17),0,1)","v":0},{"$f":"IF(ISBLANK('PlSp31-36'!Q17),0,1)","v":0}]
[null,{"$f":"Platzzuordnung!A83","v":80},{"$f":"IF(Vorgaben!C$1=24,Platzzuordnung!S18,IF(Vorgaben!C$1=30,Platzzuordnung!S18,IF(Vorgaben!C$1=36,Platzzuordnung!S18,Platzzuordnung!D83)))","v":"10:02:00"},{"$f":"Platzzuordnung!C523","v":"00:00:00"},{"$f":"$F$509","v":"Gruppe D1"},null,null,null,null,{"$f":"$F$510","v":"Gruppe E6"},null,null,null,null,{"$f":"IF(ISBLANK('PlSp31-36'!O18),\"\",'PlSp31-36'!O18)","v":""},":",{"$f":"IF(ISBLANK('PlSp31-36'!O18),\"\",'PlSp31-36'!Q18)","v":""},{"$f":"VLOOKUP(B518,Platzzuordnung!$A$4:$B$210,2,FALSE)","v":6},null,null,null,null,null,null,null,null,null,null,null,null,null,null,null,null,null,null,null,null,null,null,null,null,null,null,null,null,null,null,null,null,null,null,null,{"$f":"IF(ISBLANK('PlSp31-36'!O18),\"0\",IF('PlSp31-36'!O18>'PlSp31-36'!Q18,3,IF('PlSp31-36'!O18='PlSp31-36'!Q18,1,0)))","v":"0"},{"$f":"IF(ISBLANK('PlSp31-36'!Q18),\"0\",IF('PlSp31-36'!Q18>'PlSp31-36'!O18,3,IF('PlSp31-36'!Q18='PlSp31-36'!O18,1,0)))","v":"0"},{"$f":"IF(ISBLANK('PlSp31-36'!O18),0,1)","v":0},{"$f":"IF(ISBLANK('PlSp31-36'!Q18),0,1)","v":0}]
[null,{"$f":"Platzzuordnung!A84","v":81},{"$f":"IF(Vorgaben!C$1=24,Platzzuordnung!S19,IF(Vorgaben!C$1=30,Platzzuordnung!S19,IF(Vorgaben!C$1=36,Platzzuordnung!S19,Platzzuordnung!D84)))","v":"10:13:00"},{"$f":"Platzzuordnung!C524","v":"00:00:00"},{"$f":"$F$506","v":"Gruppe A8"},null,null,null,null,{"$f":"$F$508","v":"Gruppe C2"},null,null,null,null,{"$f":"IF(ISBLANK('PlSp31-36'!O19),\"\",'PlSp31-36'!O19)","v":""},":",{"$f":"IF(ISBLANK('PlSp31-36'!O19),\"\",'PlSp31-36'!Q19)","v":""},{"$f":"VLOOKUP(B519,Platzzuordnung!$A$4:$B$210,2,FALSE)","v":6},null,null,null,null,null,null,null,null,null,null,null,null,null,null,null,null,null,null,null,null,null,null,null,null,null,null,null,null,null,null,null,null,null,null,null,{"$f":"IF(ISBLANK('PlSp31-36'!O19),\"0\",IF('PlSp31-36'!O19>'PlSp31-36'!Q19,3,IF('PlSp31-36'!O19='PlSp31-36'!Q19,1,0)))","v":"0"},{"$f":"IF(ISBLANK('PlSp31-36'!Q19),\"0\",IF('PlSp31-36'!Q19>'PlSp31-36'!O19,3,IF('PlSp31-36'!Q19='PlSp31-36'!O19,1,0)))","v":"0"},{"$f":"IF(ISBLANK('PlSp31-36'!O19),0,1)","v":0},{"$f":"IF(ISBLANK('PlSp31-36'!Q19),0,1)","v":0}]
[null,{"$f":"Platzzuordnung!A85","v":82},{"$f":"IF(Vorgaben!C$1=24,Platzzuordnung!S20,IF(Vorgaben!C$1=30,Platzzuordnung!S20,IF(Vorgaben!C$1=36,Platzzuordnung!S20,Platzzuordnung!D85)))","v":"10:35:00"},{"$f":"Platzzuordnung!C525","v":"00:00:00"},{"$f":"$F$510","v":"Gruppe E6"},null,null,null,null,{"$f":"$F$507","v":"Gruppe B8"},null,null,null,null,{"$f":"IF(ISBLANK('PlSp31-36'!O20),\"\",'PlSp31-36'!O20)","v":""},":",{"$f":"IF(ISBLANK('PlSp31-36'!O20),\"\",'PlSp31-36'!Q20)","v":""},{"$f":"VLOOKUP(B520,Platzzuordnung!$A$4:$B$210,2,FALSE)","v":6},null,null,null,null,null,null,null,null,null,null,null,null,null,null,null,null,null,null,null,null,null,null,null,null,null,null,null,null,null,null,null,null,null,null,null,{"$f":"IF(ISBLANK('PlSp31-36'!O20),\"0\",IF('PlSp31-36'!O20>'PlSp31-36'!Q20,3,IF('PlSp31-36'!O20='PlSp31-36'!Q20,1,0)))","v":"0"},{"$f":"IF(ISBLANK('PlSp31-36'!Q20),\"0\",IF('PlSp31-36'!Q20>'PlSp31-36'!O20,3,IF('PlSp31-36'!Q20='PlSp31-36'!O20,1,0)))","v":"0"},{"$f":"IF(ISBLANK('PlSp31-36'!O20),0,1)","v":0},{"$f":"IF(ISBLANK('PlSp31-36'!Q20),0,1)","v":0}]
[null,{"$f":"Platzzuordnung!A86","v":83},{"$f":"IF(Vorgaben!C$1=24,Platzzuordnung!S21,IF(Vorgaben!C$1=30,Platzzuordnung!S21,IF(Vorgaben!C$1=36,Platzzuordnung!S21,Platzzuordnung!D86)))","v":"10:46:00"},{"$f":"Platzzuordnung!C526","v":"00:00:00"},{"$f":"$F$511","v":"Gruppe F2"},null,null,null,null,{"$f":"$F$506","v":"Gruppe A8"},null,null,null,null,{"$f":"IF(ISBLANK('PlSp31-36'!O21),\"\",'PlSp31-36'!O21)","v":""},":",{"$f":"IF(ISBLANK('PlSp31-36'!O21),\"\",'PlSp31-36'!Q21)","v":""},{"$f":"VLOOKUP(B521,Platzzuordnung!$A$4:$B$210,2,FALSE)","v":6},null,null,null,null,null,null,null,null,null,null,null,null,null,null,null,null,null,null,null,null,null,null,null,null,null,null,null,null,null,null,null,null,null,null,null,{"$f":"IF(ISBLANK('PlSp31-36'!O21),\"0\",IF('PlSp31-36'!O21>'PlSp31-36'!Q21,3,IF('PlSp31-36'!O21='PlSp31-36'!Q21,1,0)))","v":"0"},{"$f":"IF(ISBLANK('PlSp31-36'!Q21),\"0\",IF('PlSp31-36'!Q21>'PlSp31-36'!O21,3,IF('PlSp31-36'!Q21='PlSp31-36'!O21,1,0)))","v":"0"},{"$f":"IF(ISBLANK('PlSp31-36'!O21),0,1)","v":0},{"$f":"IF(ISBLANK('PlSp31-36'!Q21),0,1)","v":0}]
[null,{"$f":"Platzzuordnung!A87","v":84},{"$f":"IF(Vorgaben!C$1=24,Platzzuordnung!S22,IF(Vorgaben!C$1=30,Platzzuordnung!S22,IF(Vorgaben!C$1=36,Platzzuordnung!S22,Platzzuordnung!D87)))","v":"11:08:00"},{"$f":"Platzzuordnung!C527","v":"00:00:00"},{"$f":"$F$508","v":"Gruppe C2"},null,null,null,null,{"$f":"$F$510","v":"Gruppe E6"},null,null,null,null,{"$f":"IF(ISBLANK('PlSp31-36'!O22),\"\",'PlSp31-36'!O22)","v":""},":",{"$f":"IF(ISBLANK('PlSp31-36'!O22),\"\",'PlSp31-36'!Q22)","v":""},{"$f":"VLOOKUP(B522,Platzzuordnung!$A$4:$B$210,2,FALSE)","v":6},null,null,null,null,null,null,null,null,null,null,null,null,null,null,null,null,null,null,null,null,null,null,null,null,null,null,null,null,null,null,null,null,null,null,null,{"$f":"IF(ISBLANK('PlSp31-36'!O22),\"0\",IF('PlSp31-36'!O22>'PlSp31-36'!Q22,3,IF('PlSp31-36'!O22='PlSp31-36'!Q22,1,0)))","v":"0"},{"$f":"IF(ISBLANK('PlSp31-36'!Q22),\"0\",IF('PlSp31-36'!Q22>'PlSp31-36'!O22,3,IF('PlSp31-36'!Q22='PlSp31-36'!O22,1,0)))","v":"0"},{"$f":"IF(ISBLANK('PlSp31-36'!O22),0,1)","v":0},{"$f":"IF(ISBLANK('PlSp31-36'!Q22),0,1)","v":0}]
[null,{"$f":"Platzzuordnung!A88","v":85},{"$f":"IF(Vorgaben!C$1=24,Platzzuordnung!S23,IF(Vorgaben!C$1=30,Platzzuordnung!S23,IF(Vorgaben!C$1=36,Platzzuordnung!S23,Platzzuordnung!D88)))","v":"11:19:00"},{"$f":"Platzzuordnung!C528","v":"00:00:00"},{"$f":"$F$509","v":"Gruppe D1"},null,null,null,null,{"$f":"$F$511","v":"Gruppe F2"},null,null,null,null,{"$f":"IF(ISBLANK('PlSp31-36'!O23),\"\",'PlSp31-36'!O23)","v":""},":",{"$f":"IF(ISBLANK('PlSp31-36'!O23),\"\",'PlSp31-36'!Q23)","v":""},{"$f":"VLOOKUP(B523,Platzzuordnung!$A$4:$B$210,2,FALSE)","v":6},null,null,null,null,null,null,null,null,null,null,null,null,null,null,null,null,null,null,null,null,null,null,null,null,null,null,null,null,null,null,null,null,null,null,null,{"$f":"IF(ISBLANK('PlSp31-36'!O23),\"0\",IF('PlSp31-36'!O23>'PlSp31-36'!Q23,3,IF('PlSp31-36'!O23='PlSp31-36'!Q23,1,0)))","v":"0"},{"$f":"IF(ISBLANK('PlSp31-36'!Q23),\"0\",IF('PlSp31-36'!Q23>'PlSp31-36'!O23,3,IF('PlSp31-36'!Q23='PlSp31-36'!O23,1,0)))","v":"0"},{"$f":"IF(ISBLANK('PlSp31-36'!O23),0,1)","v":0},{"$f":"IF(ISBLANK('PlSp31-36'!Q23),0,1)","v":0}]
[null,{"$f":"Platzzuordnung!A89","v":86},{"$f":"IF(Vorgaben!C$1=24,Platzzuordnung!S24,IF(Vorgaben!C$1=30,Platzzuordnung!S24,IF(Vorgaben!C$1=36,Platzzuordnung!S24,Platzzuordnung!D89)))","v":"12:26:00"},{"$f":"Platzzuordnung!C529","v":"00:00:00"},{"$f":"$F$506","v":"Gruppe A8"},null,null,null,null,{"$f":"$F$510","v":"Gruppe E6"},null,null,null,null,{"$f":"IF(ISBLANK('PlSp31-36'!O24),\"\",'PlSp31-36'!O24)","v":""},":",{"$f":"IF(ISBLANK('PlSp31-36'!O24),\"\",'PlSp31-36'!Q24)","v":""},{"$f":"VLOOKUP(B524,Platzzuordnung!$A$4:$B$210,2,FALSE)","v":6},null,null,null,null,null,null,null,null,null,null,null,null,null,null,null,null,null,null,null,null,null,null,null,null,null,null,null,null,null,null,null,null,null,null,null,{"$f":"IF(ISBLANK('PlSp31-36'!O24),\"0\",IF('PlSp31-36'!O24>'PlSp31-36'!Q24,3,IF('PlSp31-36'!O24='PlSp31-36'!Q24,1,0)))","v":"0"},{"$f":"IF(ISBLANK('PlSp31-36'!Q24),\"0\",IF('PlSp31-36'!Q24>'PlSp31-36'!O24,3,IF('PlSp31-36'!Q24='PlSp31-36'!O24,1,0)))","v":"0"},{"$f":"IF(ISBLANK('PlSp31-36'!O24),0,1)","v":0},{"$f":"IF(ISBLANK('PlSp31-36'!Q24),0,1)","v":0}]
[null,{"$f":"Platzzuordnung!A90","v":87},{"$f":"IF(Vorgaben!C$1=24,Platzzuordnung!S25,IF(Vorgaben!C$1=30,Platzzuordnung!S25,IF(Vorgaben!C$1=36,Platzzuordnung!S25,Platzzuordnung!D90)))","v":"12:37:00"},{"$f":"Platzzuordnung!C530","v":"00:00:00"},{"$f":"$F$511","v":"Gruppe F2"},null,null,null,null,{"$f":"$F$507","v":"Gruppe B8"},null,null,null,null,{"$f":"IF(ISBLANK('PlSp31-36'!O25),\"\",'PlSp31-36'!O25)","v":""},":",{"$f":"IF(ISBLANK('PlSp31-36'!O25),\"\",'PlSp31-36'!Q25)","v":""},{"$f":"VLOOKUP(B525,Platzzuordnung!$A$4:$B$210,2,FALSE)","v":6},null,null,null,null,null,null,null,null,null,null,null,null,null,null,null,null,null,null,null,null,null,null,null,null,null,null,null,null,null,null,null,null,null,null,null,{"$f":"IF(ISBLANK('PlSp31-36'!O25),\"0\",IF('PlSp31-36'!O25>'PlSp31-36'!Q25,3,IF('PlSp31-36'!O25='PlSp31-36'!Q25,1,0)))","v":"0"},{"$f":"IF(ISBLANK('PlSp31-36'!Q25),\"0\",IF('PlSp31-36'!Q25>'PlSp31-36'!O25,3,IF('PlSp31-36'!Q25='PlSp31-36'!O25,1,0)))","v":"0"},{"$f":"IF(ISBLANK('PlSp31-36'!O25),0,1)","v":0},{"$f":"IF(ISBLANK('PlSp31-36'!Q25),0,1)","v":0}]
[null,{"$f":"Platzzuordnung!A91","v":88},{"$f":"IF(Vorgaben!C$1=24,Platzzuordnung!S26,IF(Vorgaben!C$1=30,Platzzuordnung!S26,IF(Vorgaben!C$1=36,Platzzuordnung!S26,Platzzuordnung!D91)))","v":"12:59:00"},{"$f":"Platzzuordnung!C531","v":"00:00:00"},{"$f":"$F$509","v":"Gruppe D1"},null,null,null,null,{"$f":"$F$506","v":"Gruppe A8"},null,null,null,null,{"$f":"IF(ISBLANK('PlSp31-36'!O26),\"\",'PlSp31-36'!O26)","v":""},":",{"$f":"IF(ISBLANK('PlSp31-36'!O26),\"\",'PlSp31-36'!Q26)","v":""},{"$f":"VLOOKUP(B526,Platzzuordnung!$A$4:$B$210,2,FALSE)","v":6},null,null,null,null,null,null,null,null,null,null,null,null,null,null,null,null,null,null,null,null,null,null,null,null,null,null,null,null,null,null,null,null,null,null,null,{"$f":"IF(ISBLANK('PlSp31-36'!O26),\"0\",IF('PlSp31-36'!O26>'PlSp31-36'!Q26,3,IF('PlSp31-36'!O26='PlSp31-36'!Q26,1,0)))","v":"0"},{"$f":"IF(ISBLANK('PlSp31-36'!Q26),\"0\",IF('PlSp31-36'!Q26>'PlSp31-36'!O26,3,IF('PlSp31-36'!Q26='PlSp31-36'!O26,1,0)))","v":"0"},{"$f":"IF(ISBLANK('PlSp31-36'!O26),0,1)","v":0},{"$f":"IF(ISBLANK('PlSp31-36'!Q26),0,1)","v":0}]
[null,{"$f":"Platzzuordnung!A92","v":89},{"$f":"IF(Vorgaben!C$1=24,Platzzuordnung!S27,IF(Vorgaben!C$1=30,Platzzuordnung!S27,IF(Vorgaben!C$1=36,Platzzuordnung!S27,Platzzuordnung!D92)))","v":"13:10:00"},{"$f":"Platzzuordnung!C532","v":"00:00:00"},{"$f":"$F$508","v":"Gruppe C2"},null,null,null,null,{"$f":"$F$511","v":"Gruppe F2"},null,null,null,null,{"$f":"IF(ISBLANK('PlSp31-36'!O27),\"\",'PlSp31-36'!O27)","v":""},":",{"$f":"IF(ISBLANK('PlSp31-36'!O27),\"\",'PlSp31-36'!Q27)","v":""},{"$f":"VLOOKUP(B527,Platzzuordnung!$A$4:$B$210,2,FALSE)","v":6},null,null,null,null,null,null,null,null,null,null,null,null,null,null,null,null,null,null,null,null,null,null,null,null,null,null,null,null,null,null,null,null,null,null,null,{"$f":"IF(ISBLANK('PlSp31-36'!O27),\"0\",IF('PlSp31-36'!O27>'PlSp31-36'!Q27,3,IF('PlSp31-36'!O27='PlSp31-36'!Q27,1,0)))","v":"0"},{"$f":"IF(ISBLANK('PlSp31-36'!Q27),\"0\",IF('PlSp31-36'!Q27>'PlSp31-36'!O27,3,IF('PlSp31-36'!Q27='PlSp31-36'!O27,1,0)))","v":"0"},{"$f":"IF(ISBLANK('PlSp31-36'!O27),0,1)","v":0},{"$f":"IF(ISBLANK('PlSp31-36'!Q27),0,1)","v":0}]
[null,{"$f":"Platzzuordnung!A93","v":90},{"$f":"IF(Vorgaben!C$1=24,Platzzuordnung!S28,IF(Vorgaben!C$1=30,Platzzuordnung!S28,IF(Vorgaben!C$1=36,Platzzuordnung!S28,Platzzuordnung!D93)))","v":"13:21:00"},{"$f":"Platzzuordnung!C533","v":"00:00:00"},{"$f":"$F$507","v":"Gruppe B8"},null,null,null,null,{"$f":"$F$509","v":"Gruppe D1"},null,null,null,null,{"$f":"IF(ISBLANK('PlSp31-36'!O28),\"\",'PlSp31-36'!O28)","v":""},":",{"$f":"IF(ISBLANK('PlSp31-36'!O28),\"\",'PlSp31-36'!Q28)","v":""},{"$f":"VLOOKUP(B528,Platzzuordnung!$A$4:$B$210,2,FALSE)","v":6},null,null,null,null,null,null,null,null,null,null,null,null,null,null,null,null,null,null,null,null,null,null,null,null,null,null,null,null,null,null,null,null,null,null,null,{"$f":"IF(ISBLANK('PlSp31-36'!O28),\"0\",IF('PlSp31-36'!O28>'PlSp31-36'!Q28,3,IF('PlSp31-36'!O28='PlSp31-36'!Q28,1,0)))","v":"0"},{"$f":"IF(ISBLANK('PlSp31-36'!Q28),\"0\",IF('PlSp31-36'!Q28>'PlSp31-36'!O28,3,IF('PlSp31-36'!Q28='PlSp31-36'!O28,1,0)))","v":"0"},{"$f":"IF(ISBLANK('PlSp31-36'!O28),0,1)","v":0},{"$f":"IF(ISBLANK('PlSp31-36'!Q28),0,1)","v":0}]
[null,null,null,null,null,null,null,null,null,null,null,null,null,null,null,null,null,null,null,null,null,null,null,null,null,null,null,null,null,null,null,null,null,null,null,null,null,null,null,null,null,null,null,null,null,null,null,null,null,null,null,null,null,null,null,{"$f":"IF(BD531=\"Min. 3 Teams identisch.  HANDSORTIERUNG!\",BD531,IF(BD531=\"ACHTUNG! Direkter Vergleich war unentschieden!\",BD531,BD530))","v":"Min. 3 Teams identisch.  HANDSORTIERUNG!"}]
[null,null,null,null,null,null,null,null,null,null,null,null,null,null,null,null,null,null,null,null,null,null,null,null,null,null,null,null,null,null,null,null,null,null,null,null,null,null,null,null,null,null,null,null,null,null,null,null,null,null,null,null,null,null,null,{"$f":"IF(AND(EXACT(BF533,BF534),EXACT(BG533,BG534),EXACT(BI533,BI534)),\"ACHTUNG: Direkter Vergleich erfolgreich durchlaufen!\",IF(AND(EXACT(BF534,BF535),EXACT(BG534,BG535),EXACT(BI534,BI535)),\"ACHTUNG: Direkter Vergleich erfolgreich durchlaufen!\",IF(AND(EXACT(BF535,BF536),EXACT(BG535,BG536),EXACT(BI535,BI536)),\"ACHTUNG: Direkter Vergleich erfolgreich durchlaufen!\",IF(AND(EXACT(BF536,BF537),EXACT(BG536,BG537),EXACT(BI536,BI537)),\"ACHTUNG: Direkter Vergleich erfolgreich durchlaufen!\",IF(AND(EXACT(BF537,BF538),EXACT(BG537,BG538),EXACT(BI537,BI538)),\"ACHTUNG: Direkter Vergleich erfolgreich durchlaufen!\",\"\")))))","v":"ACHTUNG: Direkter Vergleich erfolgreich durchlaufen!"}]
[null,"Tabelle",null,null,null,null,null,null,"Spiele",null,"Punkte",null,"Differenz",null,"Tore",null,null,null,null,null,null,null,null,null,null,null,null,null,null,null,null,null,null,null,null,null,null,null,null,null,null,null,null,null,null,null,null,null,null,null,null,null,null,null,null,{"$f":"IF(OR(BS533=3,BS534=3,BS535=3,BS536=3,BS537=3,BS538=3),\"Min. 3 Teams identisch.  HANDSORTIERUNG!\",IF(OR(BR533=\"ACHTUNG! Direkter Vergleich war unentschieden!\",BR534=\"ACHTUNG! Direkter Vergleich war unentschieden!\",BR535=\"ACHTUNG! Direkter Vergleich war unentschieden!\",BR536=\"ACHTUNG! Direkter Vergleich war unentschieden!\",BR537=\"ACHTUNG! Direkter Vergleich war unentschieden!\",BR538=\"ACHTUNG! Direkter Vergleich war unentschieden!\"),\"ACHTUNG! Direkter Vergleich war unentschieden!\",\"\"))","v":"Min. 3 Teams identisch.  HANDSORTIERUNG!"}]
[null,1,{"$f":"BD533","v":"Gruppe B8"},null,null,null,null,null,{"$f":"BE533","v":1},null,{"$f":"BF533","v":3},null,{"$f":"BI533","v":1},null,{"$f":"BG533","v":3},":",{"$f":"BH533","v":2},null,null,null,null,null,null,null,null,null,null,null,null,null,null,null,null,null,null,null,null,null,null,null,null,null,null,null,null,null,null,null,null,null,null,null,null,null,null,"Mannschaft","Spiele","Punkte","Tore+","Tore-","Diff"]
[null,2,{"$f":"BD534","v":"Gruppe E6"},null,null,null,null,null,{"$f":"BE534","v":0},null,{"$f":"BF534","v":0},null,{"$f":"BI534","v":0},null,{"$f":"BG534","v":0},":",{"$f":"BH534","v":0},null,null,null,null,null,null,null,null,null,null,null,null,null,null,null,null,null,null,null,null,null,null,null,null,null,null,null,null,null,null,null,null,null,null,null,null,null,{"$f":"INDEX('GR Platzierungsspiele VR'!$G$12:$H$17,MATCH(BD533,'GR Platzierungsspiele VR'!$G$12:$G$17,0),2)","v":0},{"$f":"F$507","v":"Gruppe B8"},{"$f":"SUMIF($E$514:$I$528,$BD533,$BD$514:$BD$528)+SUMIF($J$514:$N$528,$BD533,$BE$514:$BE$528)","v":1},{"$f":"SUMIF($E$514:$I$528,$BD533,$BB$514:$BB$528)+SUMIF($J$514:$N$528,$BD533,$BC$514:$BC$528)","v":3},{"$f":"SUMIF($E$514:$I$528,$BD533,$O$514:$O$528)+SUMIF($J$514:$N$528,$BD533,Q$514:$Q$528)","v":3},{"$f":"SUMIF($E$514:$I$528,$BD533,$Q$514:$Q$528)+SUMIF($J$514:$N$528,$BD533,$O$514:$O$528)","v":2},{"$f":"BG533-BH533","v":1},{"$f":"BL533","v":0},null,{"$f":"IF(BN533>BO534,10,IF(BN533<BO534,-10,0))","v":0},null,{"$f":"IF(ISNA(INDEX(BB$514:BB$528,MATCH(BD533&BD534,E$514:E$528&J$514:J$528,0))),INDEX(BC$514:BC$528,MATCH(BD534&BD533,E$514:E$528&J$514:J$528,0)),INDEX(BB$514:BB$528,MATCH(BD533&BD534,E$514:E$528&J$514:J$528,0)))","v":"0"},null,{"$f":"IF(AND(EXACT(BF533,BF534),EXACT(BG533,BG534),EXACT(BI533,BI534),EXACT(BN533,BO534)),\"ACHTUNG! Direkter Vergleich war unentschieden!\",IF(AND(EXACT(BF533,BF534),EXACT(BG533,BG534),EXACT(BI533,BI534)),1,2))","v":2},null,{"$f":"IF(OR(BP533=\"ACHTUNG! Direkter Vergleich war unentschieden!\",BQ533=\"ACHTUNG! Direkter Vergleich war unentschieden!\"),\"ACHTUNG! Direkter Vergleich war unentschieden!\",\"\")","v":""},{"$f":"IF(OR(AND(EXACT(BE533,BE534),EXACT(BF533,BF534),EXACT(BI533,BI534),EXACT(BE533,BE535),EXACT(BF533,BF535),EXACT(BI533,BI535)),AND(EXACT(BE533,BE534),EXACT(BF533,BF534),EXACT(BI533,BI534),EXACT(BE533,BE532),EXACT(BF533,BF532),EXACT(BI533,BI532))*AND(EXACT(BE533,BE531),EXACT(BF533,BF531),EXACT(BI533,BI531),EXACT(BE533,BE532),EXACT(BF533,BF532),EXACT(BI533,BI532))),3,1)","v":1}]
[null,3,"Gruppe C2",null,null,null,null,null,0,null,0,null,0,null,0,":",0,null,null,null,null,null,null,null,null,null,null,null,null,null,null,null,null,null,null,null,null,null,null,null,null,null,null,null,null,null,null,null,null,null,null,null,null,null,{"$f":"INDEX('GR Platzierungsspiele VR'!$G$12:$H$17,MATCH(BD534,'GR Platzierungsspiele VR'!$G$12:$G$17,0),2)","v":0},{"$f":"F$510","v":"Gruppe E6"},0,0,{"$f":"SUMIF($E$514:$I$528,$BD534,$O$514:$O$528)+SUMIF($J$514:$N$528,$BD534,Q$514:$Q$528)","v":0},0,0,{"$f":"BL534","v":0},{"$f":"BM534","v":0},{"$f":"IF(BN533<BO534,10,IF(BN533>BO534,-10,0))","v":0},{"$f":"IF(BN534>BO535,10,IF(BN534<BO535,-10,0))","v":0},{"$f":"IF(ISNA(INDEX(BB$514:BB$528,MATCH(BD534&BD535,E$514:E$528&J$514:J$528,0))),INDEX(BC$514:BC$528,MATCH(BD535&BD534,E$514:E$528&J$514:J$528,0)),INDEX(BB$514:BB$528,MATCH(BD534&BD535,E$514:E$528&J$514:J$528,0)))","v":"0"},{"$f":"IF(ISNA(INDEX(BB$514:BB$528,MATCH(BD534&BD533,E$514:E$528&J$514:J$528,0))),INDEX(BC$514:BC$528,MATCH(BD533&BD534,E$514:E$528&J$514:J$528,0)),INDEX(BB$514:BB$528,MATCH(BD534&BD533,E$514:E$528&J$514:J$528,0)))","v":"0"},"ACHTUNG! Direkter Vergleich war unentschieden!",{"$f":"IF(AND(EXACT(BF533,BF534),EXACT(BG533,BG534),EXACT(BI533,BI534),EXACT(BO534,BN533)),\"ACHTUNG! Direkter Vergleich war unentschieden!\",IF(AND(EXACT(BF533,BF534),EXACT(BG533,BG534),EXACT(BI533,BI534)),1,2))","v":2},"ACHTUNG! Direkter Vergleich war unentschieden!",3]
[null,4,"Gruppe D1",null,null,null,null,null,0,null,0,null,0,null,0,":",0,null,null,null,null,null,null,null,null,null,null,null,null,null,null,null,null,null,null,null,null,null,null,null,null,null,null,null,null,null,null,null,null,null,null,null,null,null,{"$f":"INDEX('GR Platzierungsspiele VR'!$G$12:$H$17,MATCH(BD535,'GR Platzierungsspiele VR'!$G$12:$G$17,0),2)","v":0},{"$f":"F$508","v":"Gruppe C2"},0,0,{"$f":"SUMIF($E$514:$I$528,$BD535,$O$514:$O$528)+SUMIF($J$514:$N$528,$BD535,Q$514:$Q$528)","v":0},0,0,{"$f":"BL535","v":0},0,{"$f":"IF(BN534<BO535,10,IF(BN534>BO535,-10,0))","v":0},{"$f":"IF(BN535>BO536,10,IF(BN535<BO536,-10,0))","v":0},{"$f":"IF(ISNA(INDEX(BB$514:BB$528,MATCH(BD535&BD536,E$514:E$528&J$514:J$528,0))),INDEX(BC$514:BC$528,MATCH(BD536&BD535,E$514:E$528&J$514:J$528,0)),INDEX(BB$514:BB$528,MATCH(BD535&BD536,E$514:E$528&J$514:J$528,0)))","v":"0"},{"$f":"IF(ISNA(INDEX(BB$514:BB$528,MATCH(BD535&BD534,E$514:E$528&J$514:J$528,0))),INDEX(BC$514:BC$528,MATCH(BD534&BD535,E$514:E$528&J$514:J$528,0)),INDEX(BB$514:BB$528,MATCH(BD535&BD534,E$514:E$528&J$514:J$528,0)))","v":"0"},"ACHTUNG! Direkter Vergleich war unentschieden!",{"$f":"IF(AND(EXACT(BF534,BF535),EXACT(BG534,BG535),EXACT(BI534,BI535),EXACT(BO535,BN534)),\"ACHTUNG! Direkter Vergleich war unentschieden!\",IF(AND(EXACT(BF534,BF535),EXACT(BG534,BG535),EXACT(BI534,BI535)),1,2))","v":"ACHTUNG! Direkter Vergleich war unentschieden!"},"ACHTUNG! Direkter Vergleich war unentschieden!",{"$f":"IF(OR(AND(EXACT(BE535,BE536),EXACT(BF535,BF536),EXACT(BI535,BI536),EXACT(BE535,BE537),EXACT(BF535,BF537),EXACT(BI535,BI537)),AND(EXACT(BE535,BE536),EXACT(BF535,BF536),EXACT(BI535,BI536),EXACT(BE535,BE534),EXACT(BF535,BF534),EXACT(BI535,BI534))*AND(EXACT(BE535,BE533),EXACT(BF535,BF533),EXACT(BI535,BI533),EXACT(BE535,BE534),EXACT(BF535,BF534),EXACT(BI535,BI534))),3,1)","v":3}]
[null,5,"Gruppe F2",null,null,null,null,null,0,null,0,null,0,null,0,":",0,null,null,null,null,null,null,null,null,null,null,null,null,null,null,null,null,null,null,null,null,null,null,null,null,null,null,null,null,null,null,null,null,null,null,null,null,null,{"$f":"INDEX('GR Platzierungsspiele VR'!$G$12:$H$17,MATCH(BD536,'GR Platzierungsspiele VR'!$G$12:$G$17,0),2)","v":0},{"$f":"F$509","v":"Gruppe D1"},0,0,{"$f":"SUMIF($E$514:$I$528,$BD536,$O$514:$O$528)+SUMIF($J$514:$N$528,$BD536,Q$514:$Q$528)","v":0},0,0,0,0,{"$f":"IF(BN535<BO536,10,IF(BN535>BO536,-10,0))","v":0},{"$f":"IF(BN535<BO536,10,IF(BN535>BO536,-10,0))","v":0},{"$f":"IF(ISNA(INDEX(BB$514:BB$528,MATCH(BD536&BD537,E$514:E$528&J$514:J$528,0))),INDEX(BC$514:BC$528,MATCH(BD537&BD536,E$514:E$528&J$514:J$528,0)),INDEX(BB$514:BB$528,MATCH(BD536&BD537,E$514:E$528&J$514:J$528,0)))","v":"0"},{"$f":"IF(ISNA(INDEX(BB$514:BB$528,MATCH(BD536&BD535,E$514:E$528&J$514:J$528,0))),INDEX(BC$514:BC$528,MATCH(BD535&BD536,E$514:E$528&J$514:J$528,0)),INDEX(BB$514:BB$528,MATCH(BD536&BD535,E$514:E$528&J$514:J$528,0)))","v":"0"},"ACHTUNG! Direkter Vergleich war unentschieden!","ACHTUNG! Direkter Vergleich war unentschieden!","ACHTUNG! Direkter Vergleich war unentschieden!",{"$f":"IF(OR(AND(EXACT(BE536,BE537),EXACT(BF536,BF537),EXACT(BI536,BI537),EXACT(BE536,BE538),EXACT(BF536,BF538),EXACT(BI536,BI538)),AND(EXACT(BE536,BE537),EXACT(BF536,BF537),EXACT(BI536,BI537),EXACT(BE536,BE535),EXACT(BF536,BF535),EXACT(BI536,BI535))*AND(EXACT(BE536,BE534),EXACT(BF536,BF534),EXACT(BI536,BI534),EXACT(BE536,BE535),EXACT(BF536,BF535),EXACT(BI536,BI535))),3,1)","v":3}]
[null,6,"Gruppe A8",null,null,null,null,null,1,null,0,null,-1,null,2,":",3,null,null,null,null,null,null,null,null,null,null,null,null,null,null,null,null,null,null,null,null,null,null,null,null,null,null,null,null,null,null,null,null,null,null,null,null,null,{"$f":"INDEX('GR Platzierungsspiele VR'!$G$12:$H$17,MATCH(BD537,'GR Platzierungsspiele VR'!$G$12:$G$17,0),2)","v":0},{"$f":"F$511","v":"Gruppe F2"},0,0,{"$f":"SUMIF($E$514:$I$528,$BD537,$O$514:$O$528)+SUMIF($J$514:$N$528,$BD537,Q$514:$Q$528)","v":0},0,0,0,0,{"$f":"IF(BN536<BO537,10,IF(BN536>BO537,-10,0))","v":0},{"$f":"IF(BN537>BO538,10,IF(BN537<BO538,-10,0))","v":0},{"$f":"IF(ISNA(INDEX(BB$514:BB$528,MATCH(BD537&BD538,E$514:E$528&J$514:J$528,0))),INDEX(BC$514:BC$528,MATCH(BD538&BD537,E$514:E$528&J$514:J$528,0)),INDEX(BB$514:BB$528,MATCH(BD537&BD538,E$514:E$528&J$514:J$528,0)))","v":"0"},{"$f":"IF(ISNA(INDEX(BB$514:BB$528,MATCH(BD537&BD536,E$514:E$528&J$514:J$528,0))),INDEX(BC$514:BC$528,MATCH(BD536&BD537,E$514:E$528&J$514:J$528,0)),INDEX(BB$514:BB$528,MATCH(BD537&BD536,E$514:E$528&J$514:J$528,0)))","v":"0"},{"$f":"IF(AND(EXACT(BF537,BF538),EXACT(BG537,BG538),EXACT(BI537,BI538),EXACT(BN537,BO538)),\"ACHTUNG! Direkter Vergleich war unentschieden!\",IF(AND(EXACT(BF537,BF538),EXACT(BG537,BG538),EXACT(BI537,BI538)),1,2))","v":2},"ACHTUNG! Direkter Vergleich war unentschieden!","ACHTUNG! Direkter Vergleich war unentschieden!",1]
[null,null,null,null,null,null,null,null,null,null,null,null,null,null,null,null,null,null,null,null,null,null,null,null,null,null,null,null,null,null,null,null,null,null,null,null,null,null,null,null,null,null,null,null,null,null,null,null,null,null,null,null,null,null,{"$f":"INDEX('GR Platzierungsspiele VR'!$G$12:$H$17,MATCH(BD538,'GR Platzierungsspiele VR'!$G$12:$G$17,0),2)","v":0},{"$f":"F$506","v":"Gruppe A8"},1,0,{"$f":"SUMIF($E$514:$I$528,$BD538,$O$514:$O$528)+SUMIF($J$514:$N$528,$BD538,Q$514:$Q$528)","v":2},3,-1,0,0,{"$f":"IF(BN537<BO538,10,IF(BN537>BO538,-10,0))","v":0},{"$f":"IF(BN537<BO538,10,IF(BN537>BO538,-10,0))","v":0},null,{"$f":"IF(ISNA(INDEX(BB$514:BB$528,MATCH(BD538&BD537,E$514:E$528&J$514:J$528,0))),INDEX(BC$514:BC$528,MATCH(BD537&BD538,E$514:E$528&J$514:J$528,0)),INDEX(BB$514:BB$528,MATCH(BD538&BD537,E$514:E$528&J$514:J$528,0)))","v":"0"},null,2,"",1]
[]
[]
[]
[]
[]
[]
[]
[]
[]
[]
[]
[]
[]
[]
[]
[]
[]
[]
[]
[]
[]
[]
[]
[]
[]
[]
[]
[]
[]
[]
[]
[]
[]
[]
[]
[]
[]
[]
[]
[]
[]
[]
[]
[]
[]
[]
[]
[]
[]
[]
[]
[]
[]
[]
[]
[]
[]
[]
[]
[]
[]
[]
[null,"Platzierungsspiele"]
[null,"37-42"]
[null,null,"Beginn:",null,{"$f":"Vorgaben!G4","v":"08:45:00"},"Uhr","Spielzeit:",null,{"$f":"Vorgaben!G5","v":1},"x",{"$f":"Vorgaben!G6","v":6.9444444444444441E-3},"min.","Pause:",null,{"$f":"Vorgaben!G7","v":6.9444444444444447E-4},"Min."]
[null,null,null,null,null,null,null,null,null,null,null,null,null,"Halbzeit:",{"$f":"IF(Vorgaben!G5>1,Vorgaben!G8,0)","v":0},"Min."]
[null,null,null,null,"Mannschaften:"]
[null,null,null,null,"1.",{"$f":"'GR Platzierungsspiele VR'!C20","v":"Gruppe A5"}]
[null,null,null,null,"2.",{"$f":"'GR Platzierungsspiele VR'!C21","v":"Gruppe B4"}]
[null,null,null,null,"3.",{"$f":"'GR Platzierungsspiele VR'!C22","v":"Gruppe C1"}]
[null,null,null,null,"4.",{"$f":"'GR Platzierungsspiele VR'!C23","v":"Gruppe D5"}]
[null,null,null,null,"5.",{"$f":"'GR Platzierungsspiele VR'!C24","v":"Gruppe E5"}]
[null,null,null,null,"6.",{"$f":"'GR Platzierungsspiele VR'!C25","v":"Gruppe F1"}]
[]
[null,"Nr.","Beginn",null,"Mannschaft1",null,null,null,null,"Mannschaft2",null,null,null,null,"Ergebnis",null,null,"Platz",null,null,null,null,null,null,null,null,null,null,null,null,null,null,null,null,null,null,null,null,null,null,null,null,null,null,null,null,null,null,null,null,null,null,null,"Punkte"]
[null,{"$f":"Platzzuordnung!A94","v":91},{"$f":"IF(Vorgaben!C$1=24,Platzzuordnung!S14,IF(Vorgaben!C$1=30,Platzzuordnung!S14,IF(Vorgaben!C$1=36,Platzzuordnung!S14,Platzzuordnung!D94)))","v":"08:45:00"},{"$f":"Platzzuordnung!C619","v":"00:00:00"},{"$f":"$F$606","v":"Gruppe A5"},null,null,null,null,{"$f":"$F$607","v":"Gruppe B4"},null,null,null,null,{"$f":"IF(ISBLANK('PlSp37-42'!O14),\"\",'PlSp37-42'!O14)","v":1},":",{"$f":"IF(ISBLANK('PlSp37-42'!O14),\"\",'PlSp37-42'!Q14)","v":0},{"$f":"VLOOKUP(B614,Platzzuordnung!$A$4:B710,2,FALSE)","v":4},null,null,null,null,null,null,null,null,null,null,null,null,null,null,null,null,null,null,null,null,null,null,null,null,null,null,null,null,null,null,null,null,null,null,null,{"$f":"IF(ISBLANK('PlSp37-42'!O14),\"0\",IF('PlSp37-42'!O14>'PlSp37-42'!Q14,3,IF('PlSp37-42'!O14='PlSp37-42'!Q14,1,0)))","v":3},{"$f":"IF(ISBLANK('PlSp37-42'!Q14),\"0\",IF('PlSp37-42'!Q14>'PlSp37-42'!O14,3,IF('PlSp37-42'!Q14='PlSp37-42'!O14,1,0)))","v":0},{"$f":"IF(ISBLANK('PlSp37-42'!O14),0,1)","v":1},{"$f":"IF(ISBLANK('PlSp37-42'!Q14),0,1)","v":1}]
[null,{"$f":"Platzzuordnung!A95","v":92},{"$f":"IF(Vorgaben!C$1=24,Platzzuordnung!S15,IF(Vorgaben!C$1=30,Platzzuordnung!S15,IF(Vorgaben!C$1=36,Platzzuordnung!S15,Platzzuordnung!D95)))","v":"08:56:00"},{"$f":"Platzzuordnung!C620","v":"00:00:00"},{"$f":"$F$608","v":"Gruppe C1"},null,null,null,null,{"$f":"$F$609","v":"Gruppe D5"},null,null,null,null,{"$f":"IF(ISBLANK('PlSp37-42'!O15),\"\",'PlSp37-42'!O15)","v":2},":",{"$f":"IF(ISBLANK('PlSp37-42'!O15),\"\",'PlSp37-42'!Q15)","v":3},{"$f":"VLOOKUP(B615,Platzzuordnung!$A$4:B711,2,FALSE)","v":3},null,null,null,null,null,null,null,null,null,null,null,null,null,null,null,null,null,null,null,null,null,null,null,null,null,null,null,null,null,null,null,null,null,null,null,{"$f":"IF(ISBLANK('PlSp37-42'!O15),\"0\",IF('PlSp37-42'!O15>'PlSp37-42'!Q15,3,IF('PlSp37-42'!O15='PlSp37-42'!Q15,1,0)))","v":0},{"$f":"IF(ISBLANK('PlSp37-42'!Q15),\"0\",IF('PlSp37-42'!Q15>'PlSp37-42'!O15,3,IF('PlSp37-42'!Q15='PlSp37-42'!O15,1,0)))","v":3},{"$f":"IF(ISBLANK('PlSp37-42'!O15),0,1)","v":1},{"$f":"IF(ISBLANK('PlSp37-42'!Q15),0,1)","v":1}]
[null,{"$f":"Platzzuordnung!A96","v":93},{"$f":"IF(Vorgaben!C$1=24,Platzzuordnung!S16,IF(Vorgaben!C$1=30,Platzzuordnung!S16,IF(Vorgaben!C$1=36,Platzzuordnung!S16,Platzzuordnung!D96)))","v":"09:18:00"},{"$f":"Platzzuordnung!C621","v":"00:00:00"},{"$f":"$F$610","v":"Gruppe E5"},null,null,null,null,{"$f":"$F$611","v":"Gruppe F1"},null,null,null,null,{"$f":"IF(ISBLANK('PlSp37-42'!O16),\"\",'PlSp37-42'!O16)","v":""},":",{"$f":"IF(ISBLANK('PlSp37-42'!O16),\"\",'PlSp37-42'!Q16)","v":""},{"$f":"VLOOKUP(B616,Platzzuordnung!$A$4:B712,2,FALSE)","v":4},null,null,null,null,null,null,null,null,null,null,null,null,null,null,null,null,null,null,null,null,null,null,null,null,null,null,null,null,null,null,null,null,null,null,null,{"$f":"IF(ISBLANK('PlSp37-42'!O16),\"0\",IF('PlSp37-42'!O16>'PlSp37-42'!Q16,3,IF('PlSp37-42'!O16='PlSp37-42'!Q16,1,0)))","v":"0"},{"$f":"IF(ISBLANK('PlSp37-42'!Q16),\"0\",IF('PlSp37-42'!Q16>'PlSp37-42'!O16,3,IF('PlSp37-42'!Q16='PlSp37-42'!O16,1,0)))","v":"0"},{"$f":"IF(ISBLANK('PlSp37-42'!O16),0,1)","v":0},{"$f":"IF(ISBLANK('PlSp37-42'!Q16),0,1)","v":0}]
[null,{"$f":"Platzzuordnung!A97","v":94},{"$f":"IF(Vorgaben!C$1=24,Platzzuordnung!S17,IF(Vorgaben!C$1=30,Platzzuordnung!S17,IF(Vorgaben!C$1=36,Platzzuordnung!S17,Platzzuordnung!D97)))","v":"09:29:00"},{"$f":"Platzzuordnung!C622","v":"00:00:00"},{"$f":"$F$607","v":"Gruppe B4"},null,null,null,null,{"$f":"$F$608","v":"Gruppe C1"},null,null,null,null,{"$f":"IF(ISBLANK('PlSp37-42'!O17),\"\",'PlSp37-42'!O17)","v":""},":",{"$f":"IF(ISBLANK('PlSp37-42'!O17),\"\",'PlSp37-42'!Q17)","v":""},{"$f":"VLOOKUP(B617,Platzzuordnung!$A$4:B713,2,FALSE)","v":3},null,null,null,null,null,null,null,null,null,null,null,null,null,null,null,null,null,null,null,null,null,null,null,null,null,null,null,null,null,null,null,null,null,null,null,{"$f":"IF(ISBLANK('PlSp37-42'!O17),\"0\",IF('PlSp37-42'!O17>'PlSp37-42'!Q17,3,IF('PlSp37-42'!O17='PlSp37-42'!Q17,1,0)))","v":"0"},{"$f":"IF(ISBLANK('PlSp37-42'!Q17),\"0\",IF('PlSp37-42'!Q17>'PlSp37-42'!O17,3,IF('PlSp37-42'!Q17='PlSp37-42'!O17,1,0)))","v":"0"},{"$f":"IF(ISBLANK('PlSp37-42'!O17),0,1)","v":0},{"$f":"IF(ISBLANK('PlSp37-42'!Q17),0,1)","v":0}]
[null,{"$f":"Platzzuordnung!A98","v":95},{"$f":"IF(Vorgaben!C$1=24,Platzzuordnung!S18,IF(Vorgaben!C$1=30,Platzzuordnung!S18,IF(Vorgaben!C$1=36,Platzzuordnung!S18,Platzzuordnung!D98)))","v":"09:51:00"},{"$f":"Platzzuordnung!C623","v":"00:00:00"},{"$f":"$F$609","v":"Gruppe D5"},null,null,null,null,{"$f":"$F$610","v":"Gruppe E5"},null,null,null,null,{"$f":"IF(ISBLANK('PlSp37-42'!O18),\"\",'PlSp37-42'!O18)","v":""},":",{"$f":"IF(ISBLANK('PlSp37-42'!O18),\"\",'PlSp37-42'!Q18)","v":""},{"$f":"VLOOKUP(B618,Platzzuordnung!$A$4:B714,2,FALSE)","v":4},null,null,null,null,null,null,null,null,null,null,null,null,null,null,null,null,null,null,null,null,null,null,null,null,null,null,null,null,null,null,null,null,null,null,null,{"$f":"IF(ISBLANK('PlSp37-42'!O18),\"0\",IF('PlSp37-42'!O18>'PlSp37-42'!Q18,3,IF('PlSp37-42'!O18='PlSp37-42'!Q18,1,0)))","v":"0"},{"$f":"IF(ISBLANK('PlSp37-42'!Q18),\"0\",IF('PlSp37-42'!Q18>'PlSp37-42'!O18,3,IF('PlSp37-42'!Q18='PlSp37-42'!O18,1,0)))","v":"0"},{"$f":"IF(ISBLANK('PlSp37-42'!O18),0,1)","v":0},{"$f":"IF(ISBLANK('PlSp37-42'!Q18),0,1)","v":0}]
[null,{"$f":"Platzzuordnung!A99","v":96},{"$f":"IF(Vorgaben!C$1=24,Platzzuordnung!S19,IF(Vorgaben!C$1=30,Platzzuordnung!S19,IF(Vorgaben!C$1=36,Platzzuordnung!S19,Platzzuordnung!D99)))","v":"10:02:00"},{"$f":"Platzzuordnung!C624","v":"00:00:00"},{"$f":"$F$606","v":"Gruppe A5"},null,null,null,null,{"$f":"$F$608","v":"Gruppe C1"},null,null,null,null,{"$f":"IF(ISBLANK('PlSp37-42'!O19),\"\",'PlSp37-42'!O19)","v":""},":",{"$f":"IF(ISBLANK('PlSp37-42'!O19),\"\",'PlSp37-42'!Q19)","v":""},{"$f":"VLOOKUP(B619,Platzzuordnung!$A$4:B715,2,FALSE)","v":3},null,null,null,null,null,null,null,null,null,null,null,null,null,null,null,null,null,null,null,null,null,null,null,null,null,null,null,null,null,null,null,null,null,null,null,{"$f":"IF(ISBLANK('PlSp37-42'!O19),\"0\",IF('PlSp37-42'!O19>'PlSp37-42'!Q19,3,IF('PlSp37-42'!O19='PlSp37-42'!Q19,1,0)))","v":"0"},{"$f":"IF(ISBLANK('PlSp37-42'!Q19),\"0\",IF('PlSp37-42'!Q19>'PlSp37-42'!O19,3,IF('PlSp37-42'!Q19='PlSp37-42'!O19,1,0)))","v":"0"},{"$f":"IF(ISBLANK('PlSp37-42'!O19),0,1)","v":0},{"$f":"IF(ISBLANK('PlSp37-42'!Q19),0,1)","v":0}]
[null,{"$f":"Platzzuordnung!A100","v":97},{"$f":"IF(Vorgaben!C$1=24,Platzzuordnung!S20,IF(Vorgaben!C$1=30,Platzzuordnung!S20,IF(Vorgaben!C$1=36,Platzzuordnung!S20,Platzzuordnung!D100)))","v":"10:24:00"},{"$f":"Platzzuordnung!C625","v":"00:00:00"},{"$f":"$F$610","v":"Gruppe E5"},null,null,null,null,{"$f":"$F$607","v":"Gruppe B4"},null,null,null,null,{"$f":"IF(ISBLANK('PlSp37-42'!O20),\"\",'PlSp37-42'!O20)","v":""},":",{"$f":"IF(ISBLANK('PlSp37-42'!O20),\"\",'PlSp37-42'!Q20)","v":""},{"$f":"VLOOKUP(B620,Platzzuordnung!$A$4:B716,2,FALSE)","v":4},null,null,null,null,null,null,null,null,null,null,null,null,null,null,null,null,null,null,null,null,null,null,null,null,null,null,null,null,null,null,null,null,null,null,null,{"$f":"IF(ISBLANK('PlSp37-42'!O20),\"0\",IF('PlSp37-42'!O20>'PlSp37-42'!Q20,3,IF('PlSp37-42'!O20='PlSp37-42'!Q20,1,0)))","v":"0"},{"$f":"IF(ISBLANK('PlSp37-42'!Q20),\"0\",IF('PlSp37-42'!Q20>'PlSp37-42'!O20,3,IF('PlSp37-42'!Q20='PlSp37-42'!O20,1,0)))","v":"0"},{"$f":"IF(ISBLANK('PlSp37-42'!O20),0,1)","v":0},{"$f":"IF(ISBLANK('PlSp37-42'!Q20),0,1)","v":0}]
[null,{"$f":"Platzzuordnung!A101","v":98},{"$f":"IF(Vorgaben!C$1=24,Platzzuordnung!S21,IF(Vorgaben!C$1=30,Platzzuordnung!S21,IF(Vorgaben!C$1=36,Platzzuordnung!S21,Platzzuordnung!D101)))","v":"10:35:00"},{"$f":"Platzzuordnung!C626","v":"00:00:00"},{"$f":"$F$611","v":"Gruppe F1"},null,null,null,null,{"$f":"$F$606","v":"Gruppe A5"},null,null,null,null,{"$f":"IF(ISBLANK('PlSp37-42'!O21),\"\",'PlSp37-42'!O21)","v":""},":",{"$f":"IF(ISBLANK('PlSp37-42'!O21),\"\",'PlSp37-42'!Q21)","v":""},{"$f":"VLOOKUP(B621,Platzzuordnung!$A$4:B717,2,FALSE)","v":3},null,null,null,null,null,null,null,null,null,null,null,null,null,null,null,null,null,null,null,null,null,null,null,null,null,null,null,null,null,null,null,null,null,null,null,{"$f":"IF(ISBLANK('PlSp37-42'!O21),\"0\",IF('PlSp37-42'!O21>'PlSp37-42'!Q21,3,IF('PlSp37-42'!O21='PlSp37-42'!Q21,1,0)))","v":"0"},{"$f":"IF(ISBLANK('PlSp37-42'!Q21),\"0\",IF('PlSp37-42'!Q21>'PlSp37-42'!O21,3,IF('PlSp37-42'!Q21='PlSp37-42'!O21,1,0)))","v":"0"},{"$f":"IF(ISBLANK('PlSp37-42'!O21),0,1)","v":0},{"$f":"IF(ISBLANK('PlSp37-42'!Q21),0,1)","v":0}]
[null,{"$f":"Platzzuordnung!A102","v":99},{"$f":"IF(Vorgaben!C$1=24,Platzzuordnung!S22,IF(Vorgaben!C$1=30,Platzzuordnung!S22,IF(Vorgaben!C$1=36,Platzzuordnung!S22,Platzzuordnung!D102)))","v":"10:57:00"},{"$f":"Platzzuordnung!C627","v":"00:00:00"},{"$f":"$F$608","v":"Gruppe C1"},null,null,null,null,{"$f":"$F$610","v":"Gruppe E5"},null,null,null,null,{"$f":"IF(ISBLANK('PlSp37-42'!O22),\"\",'PlSp37-42'!O22)","v":""},":",{"$f":"IF(ISBLANK('PlSp37-42'!O22),\"\",'PlSp37-42'!Q22)","v":""},{"$f":"VLOOKUP(B622,Platzzuordnung!$A$4:B718,2,FALSE)","v":4},null,null,null,null,null,null,null,null,null,null,null,null,null,null,null,null,null,null,null,null,null,null,null,null,null,null,null,null,null,null,null,null,null,null,null,{"$f":"IF(ISBLANK('PlSp37-42'!O22),\"0\",IF('PlSp37-42'!O22>'PlSp37-42'!Q22,3,IF('PlSp37-42'!O22='PlSp37-42'!Q22,1,0)))","v":"0"},{"$f":"IF(ISBLANK('PlSp37-42'!Q22),\"0\",IF('PlSp37-42'!Q22>'PlSp37-42'!O22,3,IF('PlSp37-42'!Q22='PlSp37-42'!O22,1,0)))","v":"0"},{"$f":"IF(ISBLANK('PlSp37-42'!O22),0,1)","v":0},{"$f":"IF(ISBLANK('PlSp37-42'!Q22),0,1)","v":0}]
[null,{"$f":"Platzzuordnung!A103","v":100},{"$f":"IF(Vorgaben!C$1=24,Platzzuordnung!S23,IF(Vorgaben!C$1=30,Platzzuordnung!S23,IF(Vorgaben!C$1=36,Platzzuordnung!S23,Platzzuordnung!D103)))","v":"11:08:00"},{"$f":"Platzzuordnung!C628","v":"00:00:00"},{"$f":"$F$609","v":"Gruppe D5"},null,null,null,null,{"$f":"$F$611","v":"Gruppe F1"},null,null,null,null,{"$f":"IF(ISBLANK('PlSp37-42'!O23),\"\",'PlSp37-42'!O23)","v":""},":",{"$f":"IF(ISBLANK('PlSp37-42'!O23),\"\",'PlSp37-42'!Q23)","v":""},{"$f":"VLOOKUP(B623,Platzzuordnung!$A$4:B719,2,FALSE)","v":3},null,null,null,null,null,null,null,null,null,null,null,null,null,null,null,null,null,null,null,null,null,null,null,null,null,null,null,null,null,null,null,null,null,null,null,{"$f":"IF(ISBLANK('PlSp37-42'!O23),\"0\",IF('PlSp37-42'!O23>'PlSp37-42'!Q23,3,IF('PlSp37-42'!O23='PlSp37-42'!Q23,1,0)))","v":"0"},{"$f":"IF(ISBLANK('PlSp37-42'!Q23),\"0\",IF('PlSp37-42'!Q23>'PlSp37-42'!O23,3,IF('PlSp37-42'!Q23='PlSp37-42'!O23,1,0)))","v":"0"},{"$f":"IF(ISBLANK('PlSp37-42'!O23),0,1)","v":0},{"$f":"IF(ISBLANK('PlSp37-42'!Q23),0,1)","v":0}]
[null,{"$f":"Platzzuordnung!A104","v":101},{"$f":"IF(Vorgaben!C$1=24,Platzzuordnung!S24,IF(Vorgaben!C$1=30,Platzzuordnung!S24,IF(Vorgaben!C$1=36,Platzzuordnung!S24,Platzzuordnung!D104)))","v":"12:15:00"},{"$f":"Platzzuordnung!C629","v":"00:00:00"},{"$f":"$F$606","v":"Gruppe A5"},null,null,null,null,{"$f":"$F$610","v":"Gruppe E5"},null,null,null,null,{"$f":"IF(ISBLANK('PlSp37-42'!O24),\"\",'PlSp37-42'!O24)","v":""},":",{"$f":"IF(ISBLANK('PlSp37-42'!O24),\"\",'PlSp37-42'!Q24)","v":""},{"$f":"VLOOKUP(B624,Platzzuordnung!$A$4:B720,2,FALSE)","v":4},null,null,null,null,null,null,null,null,null,null,null,null,null,null,null,null,null,null,null,null,null,null,null,null,null,null,null,null,null,null,null,null,null,null,null,{"$f":"IF(ISBLANK('PlSp37-42'!O24),\"0\",IF('PlSp37-42'!O24>'PlSp37-42'!Q24,3,IF('PlSp37-42'!O24='PlSp37-42'!Q24,1,0)))","v":"0"},{"$f":"IF(ISBLANK('PlSp37-42'!Q24),\"0\",IF('PlSp37-42'!Q24>'PlSp37-42'!O24,3,IF('PlSp37-42'!Q24='PlSp37-42'!O24,1,0)))","v":"0"},{"$f":"IF(ISBLANK('PlSp37-42'!O24),0,1)","v":0},{"$f":"IF(ISBLANK('PlSp37-42'!Q24),0,1)","v":0}]
[null,{"$f":"Platzzuordnung!A105","v":102},{"$f":"IF(Vorgaben!C$1=24,Platzzuordnung!S25,IF(Vorgaben!C$1=30,Platzzuordnung!S25,IF(Vorgaben!C$1=36,Platzzuordnung!S25,Platzzuordnung!D105)))","v":"12:26:00"},{"$f":"Platzzuordnung!C630","v":"00:00:00"},{"$f":"$F$611","v":"Gruppe F1"},null,null,null,null,{"$f":"$F$607","v":"Gruppe B4"},null,null,null,null,{"$f":"IF(ISBLANK('PlSp37-42'!O25),\"\",'PlSp37-42'!O25)","v":4},":",{"$f":"IF(ISBLANK('PlSp37-42'!O25),\"\",'PlSp37-42'!Q25)","v":5},{"$f":"VLOOKUP(B625,Platzzuordnung!$A$4:B721,2,FALSE)","v":3},null,null,null,null,null,null,null,null,null,null,null,null,null,null,null,null,null,null,null,null,null,null,null,null,null,null,null,null,null,null,null,null,null,null,null,{"$f":"IF(ISBLANK('PlSp37-42'!O25),\"0\",IF('PlSp37-42'!O25>'PlSp37-42'!Q25,3,IF('PlSp37-42'!O25='PlSp37-42'!Q25,1,0)))","v":0},{"$f":"IF(ISBLANK('PlSp37-42'!Q25),\"0\",IF('PlSp37-42'!Q25>'PlSp37-42'!O25,3,IF('PlSp37-42'!Q25='PlSp37-42'!O25,1,0)))","v":3},{"$f":"IF(ISBLANK('PlSp37-42'!O25),0,1)","v":1},{"$f":"IF(ISBLANK('PlSp37-42'!Q25),0,1)","v":1}]
[null,{"$f":"Platzzuordnung!A106","v":103},{"$f":"IF(Vorgaben!C$1=24,Platzzuordnung!S26,IF(Vorgaben!C$1=30,Platzzuordnung!S26,IF(Vorgaben!C$1=36,Platzzuordnung!S26,Platzzuordnung!D106)))","v":"12:48:00"},{"$f":"Platzzuordnung!C631","v":"00:00:00"},{"$f":"$F$609","v":"Gruppe D5"},null,null,null,null,{"$f":"$F$606","v":"Gruppe A5"},null,null,null,null,{"$f":"IF(ISBLANK('PlSp37-42'!O26),\"\",'PlSp37-42'!O26)","v":4},":",{"$f":"IF(ISBLANK('PlSp37-42'!O26),\"\",'PlSp37-42'!Q26)","v":4},{"$f":"VLOOKUP(B626,Platzzuordnung!$A$4:B722,2,FALSE)","v":4},null,null,null,null,null,null,null,null,null,null,null,null,null,null,null,null,null,null,null,null,null,null,null,null,null,null,null,null,null,null,null,null,null,null,null,{"$f":"IF(ISBLANK('PlSp37-42'!O26),\"0\",IF('PlSp37-42'!O26>'PlSp37-42'!Q26,3,IF('PlSp37-42'!O26='PlSp37-42'!Q26,1,0)))","v":1},{"$f":"IF(ISBLANK('PlSp37-42'!Q26),\"0\",IF('PlSp37-42'!Q26>'PlSp37-42'!O26,3,IF('PlSp37-42'!Q26='PlSp37-42'!O26,1,0)))","v":1},{"$f":"IF(ISBLANK('PlSp37-42'!O26),0,1)","v":1},{"$f":"IF(ISBLANK('PlSp37-42'!Q26),0,1)","v":1}]
[null,{"$f":"Platzzuordnung!A107","v":104},{"$f":"IF(Vorgaben!C$1=24,Platzzuordnung!S27,IF(Vorgaben!C$1=30,Platzzuordnung!S27,IF(Vorgaben!C$1=36,Platzzuordnung!S27,Platzzuordnung!D107)))","v":"12:59:00"},{"$f":"Platzzuordnung!C632","v":"00:00:00"},{"$f":"$F$608","v":"Gruppe C1"},null,null,null,null,{"$f":"$F$611","v":"Gruppe F1"},null,null,null,null,{"$f":"IF(ISBLANK('PlSp37-42'!O27),\"\",'PlSp37-42'!O27)","v":""},":",{"$f":"IF(ISBLANK('PlSp37-42'!O27),\"\",'PlSp37-42'!Q27)","v":""},{"$f":"VLOOKUP(B627,Platzzuordnung!$A$4:B723,2,FALSE)","v":3},null,null,null,null,null,null,null,null,null,null,null,null,null,null,null,null,null,null,null,null,null,null,null,null,null,null,null,null,null,null,null,null,null,null,null,{"$f":"IF(ISBLANK('PlSp37-42'!O27),\"0\",IF('PlSp37-42'!O27>'PlSp37-42'!Q27,3,IF('PlSp37-42'!O27='PlSp37-42'!Q27,1,0)))","v":"0"},{"$f":"IF(ISBLANK('PlSp37-42'!Q27),\"0\",IF('PlSp37-42'!Q27>'PlSp37-42'!O27,3,IF('PlSp37-42'!Q27='PlSp37-42'!O27,1,0)))","v":"0"},{"$f":"IF(ISBLANK('PlSp37-42'!O27),0,1)","v":0},{"$f":"IF(ISBLANK('PlSp37-42'!Q27),0,1)","v":0}]
[null,{"$f":"Platzzuordnung!A108","v":105},{"$f":"IF(Vorgaben!C$1=24,Platzzuordnung!S28,IF(Vorgaben!C$1=30,Platzzuordnung!S28,IF(Vorgaben!C$1=36,Platzzuordnung!S28,Platzzuordnung!D108)))","v":"13:21:00"},{"$f":"Platzzuordnung!C633","v":"00:00:00"},{"$f":"$F$607","v":"Gruppe B4"},null,null,null,null,{"$f":"$F$609","v":"Gruppe D5"},null,null,null,null,{"$f":"IF(ISBLANK('PlSp37-42'!O28),\"\",'PlSp37-42'!O28)","v":""},":",{"$f":"IF(ISBLANK('PlSp37-42'!O28),\"\",'PlSp37-42'!Q28)","v":""},{"$f":"VLOOKUP(B628,Platzzuordnung!$A$4:B724,2,FALSE)","v":1},null,null,null,null,null,null,null,null,null,null,null,null,null,null,null,null,null,null,null,null,null,null,null,null,null,null,null,null,null,null,null,null,null,null,null,{"$f":"IF(ISBLANK('PlSp37-42'!O28),\"0\",IF('PlSp37-42'!O28>'PlSp37-42'!Q28,3,IF('PlSp37-42'!O28='PlSp37-42'!Q28,1,0)))","v":"0"},{"$f":"IF(ISBLANK('PlSp37-42'!Q28),\"0\",IF('PlSp37-42'!Q28>'PlSp37-42'!O28,3,IF('PlSp37-42'!Q28='PlSp37-42'!O28,1,0)))","v":"0"},{"$f":"IF(ISBLANK('PlSp37-42'!O28),0,1)","v":0},{"$f":"IF(ISBLANK('PlSp37-42'!Q28),0,1)","v":0}]
[null,null,null,null,null,null,null,null,null,null,null,null,null,null,null,null,null,null,null,null,null,null,null,null,null,null,null,null,null,null,null,null,null,null,null,null,null,null,null,null,null,null,null,null,null,null,null,null,null,null,null,null,null,null,null,{"$f":"IF(BD631=\"Min. 3 Teams identisch.  HANDSORTIERUNG!\",BD631,IF(BD631=\"ACHTUNG! Direkter Vergleich war unentschieden!\",BD631,BD630))","v":""}]
[null,null,null,null,null,null,null,null,null,null,null,null,null,null,null,null,null,null,null,null,null,null,null,null,null,null,null,null,null,null,null,null,null,null,null,null,null,null,null,null,null,null,null,null,null,null,null,null,null,null,null,null,null,null,null,{"$f":"IF(AND(EXACT(BF633,BF634),EXACT(BG633,BG634),EXACT(BI633,BI634)),\"ACHTUNG: Direkter Vergleich erfolgreich durchlaufen!\",IF(AND(EXACT(BF634,BF635),EXACT(BG634,BG635),EXACT(BI634,BI635)),\"ACHTUNG: Direkter Vergleich erfolgreich durchlaufen!\",IF(AND(EXACT(BF635,BF636),EXACT(BG635,BG636),EXACT(BI635,BI636)),\"ACHTUNG: Direkter Vergleich erfolgreich durchlaufen!\",IF(AND(EXACT(BF636,BF637),EXACT(BG636,BG637),EXACT(BI636,BI637)),\"ACHTUNG: Direkter Vergleich erfolgreich durchlaufen!\",IF(AND(EXACT(BF637,BF638),EXACT(BG637,BG638),EXACT(BI637,BI638)),\"ACHTUNG: Direkter Vergleich erfolgreich durchlaufen!\",\"\")))))","v":""}]
[null,"Tabelle",null,null,null,null,null,null,"Spiele",null,"Punkte",null,"Differenz",null,"Tore",null,null,null,null,null,null,null,null,null,null,null,null,null,null,null,null,null,null,null,null,null,null,null,null,null,null,null,null,null,null,null,null,null,null,null,null,null,null,null,null,{"$f":"IF(OR(BS633=3,BS634=3,BS635=3,BS636=3,BS637=3,BS638=3),\"Min. 3 Teams identisch.  HANDSORTIERUNG!\",IF(OR(BR633=\"ACHTUNG! Direkter Vergleich war unentschieden!\",BR634=\"ACHTUNG! Direkter Vergleich war unentschieden!\",BR635=\"ACHTUNG! Direkter Vergleich war unentschieden!\",BR636=\"ACHTUNG! Direkter Vergleich war unentschieden!\",BR637=\"ACHTUNG! Direkter Vergleich war unentschieden!\",BR638=\"ACHTUNG! Direkter Vergleich war unentschieden!\"),\"ACHTUNG! Direkter Vergleich war unentschieden!\",\"\"))","v":""}]
[null,1,{"$f":"BD633","v":"Gruppe D5"},null,null,null,null,null,{"$f":"BE633","v":2},null,{"$f":"BF633","v":4},null,{"$f":"BI633","v":1},null,{"$f":"BG633","v":7},":",{"$f":"BH633","v":6},null,null,null,null,null,null,null,null,null,null,null,null,null,null,null,null,null,null,null,null,null,null,null,null,null,null,null,null,null,null,null,null,null,null,null,null,null,null,"Mannschaft","Spiele","Punkte","Tore+","Tore-","Diff"]
[null,2,{"$f":"BD634","v":"Gruppe A5"},null,null,null,null,null,{"$f":"BE634","v":2},null,{"$f":"BF634","v":4},null,{"$f":"BI634","v":1},null,{"$f":"BG634","v":5},":",{"$f":"BH634","v":4},null,null,null,null,null,null,null,null,null,null,null,null,null,null,null,null,null,null,null,null,null,null,null,null,null,null,null,null,null,null,null,null,null,null,null,null,null,{"$f":"INDEX('GR Platzierungsspiele VR'!$C$20:$D$25,MATCH(BD633,'GR Platzierungsspiele VR'!$C$20:$C$25,0),2)","v":0},{"$f":"F$609","v":"Gruppe D5"},{"$f":"SUMIF($E$614:$I$628,$BD633,$BD$614:$BD$628)+SUMIF($J$614:$N$628,$BD633,$BE$614:$BE$628)","v":2},{"$f":"SUMIF($E$614:$I$628,$BD633,$BB$614:$BB$628)+SUMIF($J$614:$N$628,$BD633,$BC$614:$BC$628)","v":4},{"$f":"SUMIF($E$614:$I$628,$BD633,$O$614:$O$628)+SUMIF($J$614:$N$628,$BD633,Q$614:$Q$628)","v":7},{"$f":"SUMIF($E$614:$I$628,$BD633,$Q$614:$Q$628)+SUMIF($J$614:$N$628,$BD633,$O$614:$O$628)","v":6},{"$f":"BG633-BH633","v":1},{"$f":"BL633","v":0},null,{"$f":"IF(BN633>BO634,10,IF(BN633<BO634,-10,0))","v":0},null,{"$f":"IF(ISNA(INDEX(BB$614:BB$628,MATCH(BD633&BD634,E$614:E$628&J$614:J$628,0))),INDEX(BC$614:BC$628,MATCH(BD634&BD633,E$614:E$628&J$614:J$628,0)),INDEX(BB$614:BB$628,MATCH(BD633&BD634,E$614:E$628&J$614:J$628,0)))","v":1},null,{"$f":"IF(AND(EXACT(BF633,BF634),EXACT(BG633,BG634),EXACT(BI633,BI634),EXACT(BN633,BO634)),\"ACHTUNG! Direkter Vergleich war unentschieden!\",IF(AND(EXACT(BF633,BF634),EXACT(BG633,BG634),EXACT(BI633,BI634)),1,2))","v":2},null,{"$f":"IF(OR(BP633=\"ACHTUNG! Direkter Vergleich war unentschieden!\",BQ633=\"ACHTUNG! Direkter Vergleich war unentschieden!\"),\"ACHTUNG! Direkter Vergleich war unentschieden!\",\"\")","v":""},{"$f":"IF(OR(AND(EXACT(BE633,BE634),EXACT(BF633,BF634),EXACT(BI633,BI634),EXACT(BE633,BE635),EXACT(BF633,BF635),EXACT(BI633,BI635)),AND(EXACT(BE633,BE634),EXACT(BF633,BF634),EXACT(BI633,BI634),EXACT(BE633,BE632),EXACT(BF633,BF632),EXACT(BI633,BI632))*AND(EXACT(BE633,BE631),EXACT(BF633,BF631),EXACT(BI633,BI631),EXACT(BE633,BE632),EXACT(BF633,BF632),EXACT(BI633,BI632))),3,1)","v":1}]
[null,3,"Gruppe B4",null,null,null,null,null,2,null,3,null,0,null,5,":",5,null,null,null,null,null,null,null,null,null,null,null,null,null,null,null,null,null,null,null,null,null,null,null,null,null,null,null,null,null,null,null,null,null,null,null,null,null,{"$f":"INDEX('GR Platzierungsspiele VR'!$C$20:$D$25,MATCH(BD634,'GR Platzierungsspiele VR'!$C$20:$C$25,0),2)","v":0},{"$f":"F$606","v":"Gruppe A5"},2,4,{"$f":"SUMIF($E$614:$I$628,$BD634,$O$614:$O$628)+SUMIF($J$614:$N$628,$BD634,Q$614:$Q$628)","v":5},4,1,{"$f":"BL634","v":0},{"$f":"BM634","v":10},{"$f":"IF(BN633<BO634,10,IF(BN633>BO634,-10,0))","v":0},{"$f":"IF(BN634>BO635,10,IF(BN634<BO635,-10,0))","v":10},{"$f":"IF(ISNA(INDEX(BB$614:BB$628,MATCH(BD634&BD635,E$614:E$628&J$614:J$628,0))),INDEX(BC$614:BC$628,MATCH(BD635&BD634,E$614:E$628&J$614:J$628,0)),INDEX(BB$614:BB$628,MATCH(BD634&BD635,E$614:E$628&J$614:J$628,0)))","v":3},{"$f":"IF(ISNA(INDEX(BB$614:BB$628,MATCH(BD634&BD633,E$614:E$628&J$614:J$628,0))),INDEX(BC$614:BC$628,MATCH(BD633&BD634,E$614:E$628&J$614:J$628,0)),INDEX(BB$614:BB$628,MATCH(BD634&BD633,E$614:E$628&J$614:J$628,0)))","v":1},2,{"$f":"IF(AND(EXACT(BF633,BF634),EXACT(BG633,BG634),EXACT(BI633,BI634),EXACT(BO634,BN633)),\"ACHTUNG! Direkter Vergleich war unentschieden!\",IF(AND(EXACT(BF633,BF634),EXACT(BG633,BG634),EXACT(BI633,BI634)),1,2))","v":2},"",1]
[null,4,"Gruppe E5",null,null,null,null,null,0,null,0,null,0,null,0,":",0,null,null,null,null,null,null,null,null,null,null,null,null,null,null,null,null,null,null,null,null,null,null,null,null,null,null,null,null,null,null,null,null,null,null,null,null,null,{"$f":"INDEX('GR Platzierungsspiele VR'!$C$20:$D$25,MATCH(BD635,'GR Platzierungsspiele VR'!$C$20:$C$25,0),2)","v":0},{"$f":"F$607","v":"Gruppe B4"},2,3,{"$f":"SUMIF($E$614:$I$628,$BD635,$O$614:$O$628)+SUMIF($J$614:$N$628,$BD635,Q$614:$Q$628)","v":5},5,0,{"$f":"BL635","v":-10},0,{"$f":"IF(BN634<BO635,10,IF(BN634>BO635,-10,0))","v":-10},{"$f":"IF(BN635>BO636,10,IF(BN635<BO636,-10,0))","v":0},{"$f":"IF(ISNA(INDEX(BB$614:BB$628,MATCH(BD635&BD636,E$614:E$628&J$614:J$628,0))),INDEX(BC$614:BC$628,MATCH(BD636&BD635,E$614:E$628&J$614:J$628,0)),INDEX(BB$614:BB$628,MATCH(BD635&BD636,E$614:E$628&J$614:J$628,0)))","v":"0"},{"$f":"IF(ISNA(INDEX(BB$614:BB$628,MATCH(BD635&BD634,E$614:E$628&J$614:J$628,0))),INDEX(BC$614:BC$628,MATCH(BD634&BD635,E$614:E$628&J$614:J$628,0)),INDEX(BB$614:BB$628,MATCH(BD635&BD634,E$614:E$628&J$614:J$628,0)))","v":0},2,{"$f":"IF(AND(EXACT(BF634,BF635),EXACT(BG634,BG635),EXACT(BI634,BI635),EXACT(BO635,BN634)),\"ACHTUNG! Direkter Vergleich war unentschieden!\",IF(AND(EXACT(BF634,BF635),EXACT(BG634,BG635),EXACT(BI634,BI635)),1,2))","v":2},"",{"$f":"IF(OR(AND(EXACT(BE635,BE636),EXACT(BF635,BF636),EXACT(BI635,BI636),EXACT(BE635,BE637),EXACT(BF635,BF637),EXACT(BI635,BI637)),AND(EXACT(BE635,BE636),EXACT(BF635,BF636),EXACT(BI635,BI636),EXACT(BE635,BE634),EXACT(BF635,BF634),EXACT(BI635,BI634))*AND(EXACT(BE635,BE633),EXACT(BF635,BF633),EXACT(BI635,BI633),EXACT(BE635,BE634),EXACT(BF635,BF634),EXACT(BI635,BI634))),3,1)","v":1}]
[null,5,"Gruppe F1",null,null,null,null,null,1,null,0,null,-1,null,4,":",5,null,null,null,null,null,null,null,null,null,null,null,null,null,null,null,null,null,null,null,null,null,null,null,null,null,null,null,null,null,null,null,null,null,null,null,null,null,{"$f":"INDEX('GR Platzierungsspiele VR'!$C$20:$D$25,MATCH(BD636,'GR Platzierungsspiele VR'!$C$20:$C$25,0),2)","v":0},{"$f":"F$610","v":"Gruppe E5"},0,0,{"$f":"SUMIF($E$614:$I$628,$BD636,$O$614:$O$628)+SUMIF($J$614:$N$628,$BD636,Q$614:$Q$628)","v":0},0,0,0,0,{"$f":"IF(BN635<BO636,10,IF(BN635>BO636,-10,0))","v":0},{"$f":"IF(BN635<BO636,10,IF(BN635>BO636,-10,0))","v":0},{"$f":"IF(ISNA(INDEX(BB$614:BB$628,MATCH(BD636&BD637,E$614:E$628&J$614:J$628,0))),INDEX(BC$614:BC$628,MATCH(BD637&BD636,E$614:E$628&J$614:J$628,0)),INDEX(BB$614:BB$628,MATCH(BD636&BD637,E$614:E$628&J$614:J$628,0)))","v":"0"},{"$f":"IF(ISNA(INDEX(BB$614:BB$628,MATCH(BD636&BD635,E$614:E$628&J$614:J$628,0))),INDEX(BC$614:BC$628,MATCH(BD635&BD636,E$614:E$628&J$614:J$628,0)),INDEX(BB$614:BB$628,MATCH(BD636&BD635,E$614:E$628&J$614:J$628,0)))","v":"0"},2,2,"",{"$f":"IF(OR(AND(EXACT(BE636,BE637),EXACT(BF636,BF637),EXACT(BI636,BI637),EXACT(BE636,BE638),EXACT(BF636,BF638),EXACT(BI636,BI638)),AND(EXACT(BE636,BE637),EXACT(BF636,BF637),EXACT(BI636,BI637),EXACT(BE636,BE635),EXACT(BF636,BF635),EXACT(BI636,BI635))*AND(EXACT(BE636,BE634),EXACT(BF636,BF634),EXACT(BI636,BI634),EXACT(BE636,BE635),EXACT(BF636,BF635),EXACT(BI636,BI635))),3,1)","v":1}]
[null,6,"Gruppe C1",null,null,null,null,null,1,null,0,null,-1,null,2,":",3,null,null,null,null,null,null,null,null,null,null,null,null,null,null,null,null,null,null,null,null,null,null,null,null,null,null,null,null,null,null,null,null,null,null,null,null,null,{"$f":"INDEX('GR Platzierungsspiele VR'!$C$20:$D$25,MATCH(BD637,'GR Platzierungsspiele VR'!$C$20:$C$25,0),2)","v":0},{"$f":"F$611","v":"Gruppe F1"},1,0,{"$f":"SUMIF($E$614:$I$628,$BD637,$O$614:$O$628)+SUMIF($J$614:$N$628,$BD637,Q$614:$Q$628)","v":4},5,-1,0,0,{"$f":"IF(BN636<BO637,10,IF(BN636>BO637,-10,0))","v":0},{"$f":"IF(BN637>BO638,10,IF(BN637<BO638,-10,0))","v":0},{"$f":"IF(ISNA(INDEX(BB$614:BB$628,MATCH(BD637&BD638,E$614:E$628&J$614:J$628,0))),INDEX(BC$614:BC$628,MATCH(BD638&BD637,E$614:E$628&J$614:J$628,0)),INDEX(BB$614:BB$628,MATCH(BD637&BD638,E$614:E$628&J$614:J$628,0)))","v":"0"},{"$f":"IF(ISNA(INDEX(BB$614:BB$628,MATCH(BD637&BD636,E$614:E$628&J$614:J$628,0))),INDEX(BC$614:BC$628,MATCH(BD636&BD637,E$614:E$628&J$614:J$628,0)),INDEX(BB$614:BB$628,MATCH(BD637&BD636,E$614:E$628&J$614:J$628,0)))","v":"0"},{"$f":"IF(AND(EXACT(BF637,BF638),EXACT(BG637,BG638),EXACT(BI637,BI638),EXACT(BN637,BO638)),\"ACHTUNG! Direkter Vergleich war unentschieden!\",IF(AND(EXACT(BF637,BF638),EXACT(BG637,BG638),EXACT(BI637,BI638)),1,2))","v":2},2,"",1]
[null,null,null,null,null,null,null,null,null,null,null,null,null,null,null,null,null,null,null,null,null,null,null,null,null,null,null,null,null,null,null,null,null,null,null,null,null,null,null,null,null,null,null,null,null,null,null,null,null,null,null,null,null,null,{"$f":"INDEX('GR Platzierungsspiele VR'!$C$20:$D$25,MATCH(BD638,'GR Platzierungsspiele VR'!$C$20:$C$25,0),2)","v":0},{"$f":"F$608","v":"Gruppe C1"},1,0,{"$f":"SUMIF($E$614:$I$628,$BD638,$O$614:$O$628)+SUMIF($J$614:$N$628,$BD638,Q$614:$Q$628)","v":2},3,-1,0,0,{"$f":"IF(BN637<BO638,10,IF(BN637>BO638,-10,0))","v":0},{"$f":"IF(BN637<BO638,10,IF(BN637>BO638,-10,0))","v":0},null,{"$f":"IF(ISNA(INDEX(BB$614:BB$628,MATCH(BD638&BD637,E$614:E$628&J$614:J$628,0))),INDEX(BC$614:BC$628,MATCH(BD637&BD638,E$614:E$628&J$614:J$628,0)),INDEX(BB$614:BB$628,MATCH(BD638&BD637,E$614:E$628&J$614:J$628,0)))","v":"0"},null,2,"",1]
[]
[]
[]
[]
[]
[]
[]
[]
[]
[]
[]
[]
[]
[]
[]
[]
[]
[]
[]
[]
[]
[]
[]
[]
[]
[]
[]
[]
[]
[]
[]
[]
[]
[]
[]
[]
[]
[]
[]
[]
[]
[]
[]
[]
[]
[]
[]
[]
[]
[]
[]
[]
[]
[]
[]
[]
[]
[]
[]
[]
[]
[]
[null,"Platzierungsspiele"]
[null,"43-48"]
[null,null,"Beginn:",null,{"$f":"Vorgaben!G4","v":"08:45:00"},"Uhr","Spielzeit:",null,{"$f":"Vorgaben!G5","v":1},"x",{"$f":"Vorgaben!G6","v":6.9444444444444441E-3},"min.","Pause:",null,{"$f":"Vorgaben!G7","v":6.9444444444444447E-4},"Min."]
[null,null,null,null,null,null,null,null,null,null,null,null,null,"Halbzeit:",{"$f":"IF(Vorgaben!G5>1,Vorgaben!G8,0)","v":0},"Min."]
[null,null,null,null,"Mannschaften:"]
[null,null,null,null,"1.",{"$f":"'GR Platzierungsspiele VR'!G20","v":"Gruppe A1"}]
[null,null,null,null,"2.",{"$f":"'GR Platzierungsspiele VR'!G21","v":"Gruppe B2"}]
[null,null,null,null,"3.",{"$f":"'GR Platzierungsspiele VR'!G22","v":"Gruppe C6"}]
[null,null,null,null,"4.",{"$f":"'GR Platzierungsspiele VR'!G23","v":"Gruppe D6"}]
[null,null,null,null,"5.",{"$f":"'GR Platzierungsspiele VR'!G24","v":"Gruppe E8"}]
[null,null,null,null,"6.",{"$f":"'GR Platzierungsspiele VR'!G25","v":"Gruppe F7"}]
[]
[null,"Nr.","Beginn",null,"Mannschaft1",null,null,null,null,"Mannschaft2",null,null,null,null,"Ergebnis",null,null,"Platz",null,null,null,null,null,null,null,null,null,null,null,null,null,null,null,null,null,null,null,null,null,null,null,null,null,null,null,null,null,null,null,null,null,null,null,"Punkte"]
[null,{"$f":"Platzzuordnung!A109","v":106},{"$f":"IF(Vorgaben!C$1=24,Platzzuordnung!S14,IF(Vorgaben!C$1=30,Platzzuordnung!S14,IF(Vorgaben!C$1=36,Platzzuordnung!S14,Platzzuordnung!D109)))","v":"08:45:00"},{"$f":"Platzzuordnung!C719","v":"00:00:00"},{"$f":"$F$706","v":"Gruppe A1"},null,null,null,null,{"$f":"$F$707","v":"Gruppe B2"},null,null,null,null,{"$f":"IF(ISBLANK('PlSp43-48'!O14),\"\",'PlSp43-48'!O14)","v":1},":",{"$f":"IF(ISBLANK('PlSp43-48'!O14),\"\",'PlSp43-48'!Q14)","v":0},{"$f":"VLOOKUP(B714,Platzzuordnung!$A$4:B810,2,FALSE)","v":6},null,null,null,null,null,null,null,null,null,null,null,null,null,null,null,null,null,null,null,null,null,null,null,null,null,null,null,null,null,null,null,null,null,null,null,{"$f":"IF(ISBLANK('PlSp43-48'!O14),\"0\",IF('PlSp43-48'!O14>'PlSp43-48'!Q14,3,IF('PlSp43-48'!O14='PlSp43-48'!Q14,1,0)))","v":3},{"$f":"IF(ISBLANK('PlSp43-48'!Q14),\"0\",IF('PlSp43-48'!Q14>'PlSp43-48'!O14,3,IF('PlSp43-48'!Q14='PlSp43-48'!O14,1,0)))","v":0},{"$f":"IF(ISBLANK('PlSp43-48'!O14),0,1)","v":1},{"$f":"IF(ISBLANK('PlSp43-48'!Q14),0,1)","v":1}]
[null,{"$f":"Platzzuordnung!A110","v":107},{"$f":"IF(Vorgaben!C$1=24,Platzzuordnung!S15,IF(Vorgaben!C$1=30,Platzzuordnung!S15,IF(Vorgaben!C$1=36,Platzzuordnung!S15,Platzzuordnung!D110)))","v":"08:56:00"},{"$f":"Platzzuordnung!C720","v":"00:00:00"},{"$f":"$F$708","v":"Gruppe C6"},null,null,null,null,{"$f":"$F$709","v":"Gruppe D6"},null,null,null,null,{"$f":"IF(ISBLANK('PlSp43-48'!O15),\"\",'PlSp43-48'!O15)","v":1},":",{"$f":"IF(ISBLANK('PlSp43-48'!O15),\"\",'PlSp43-48'!Q15)","v":1},{"$f":"VLOOKUP(B715,Platzzuordnung!$A$4:B811,2,FALSE)","v":5},null,null,null,null,null,null,null,null,null,null,null,null,null,null,null,null,null,null,null,null,null,null,null,null,null,null,null,null,null,null,null,null,null,null,null,{"$f":"IF(ISBLANK('PlSp43-48'!O15),\"0\",IF('PlSp43-48'!O15>'PlSp43-48'!Q15,3,IF('PlSp43-48'!O15='PlSp43-48'!Q15,1,0)))","v":1},{"$f":"IF(ISBLANK('PlSp43-48'!Q15),\"0\",IF('PlSp43-48'!Q15>'PlSp43-48'!O15,3,IF('PlSp43-48'!Q15='PlSp43-48'!O15,1,0)))","v":1},{"$f":"IF(ISBLANK('PlSp43-48'!O15),0,1)","v":1},{"$f":"IF(ISBLANK('PlSp43-48'!Q15),0,1)","v":1}]
[null,{"$f":"Platzzuordnung!A111","v":108},{"$f":"IF(Vorgaben!C$1=24,Platzzuordnung!S16,IF(Vorgaben!C$1=30,Platzzuordnung!S16,IF(Vorgaben!C$1=36,Platzzuordnung!S16,Platzzuordnung!D111)))","v":"09:18:00"},{"$f":"Platzzuordnung!C721","v":"00:00:00"},{"$f":"$F$710","v":"Gruppe E8"},null,null,null,null,{"$f":"$F$711","v":"Gruppe F7"},null,null,null,null,{"$f":"IF(ISBLANK('PlSp43-48'!O16),\"\",'PlSp43-48'!O16)","v":2},":",{"$f":"IF(ISBLANK('PlSp43-48'!O16),\"\",'PlSp43-48'!Q16)","v":2},{"$f":"VLOOKUP(B716,Platzzuordnung!$A$4:B812,2,FALSE)","v":6},null,null,null,null,null,null,null,null,null,null,null,null,null,null,null,null,null,null,null,null,null,null,null,null,null,null,null,null,null,null,null,null,null,null,null,{"$f":"IF(ISBLANK('PlSp43-48'!O16),\"0\",IF('PlSp43-48'!O16>'PlSp43-48'!Q16,3,IF('PlSp43-48'!O16='PlSp43-48'!Q16,1,0)))","v":1},{"$f":"IF(ISBLANK('PlSp43-48'!Q16),\"0\",IF('PlSp43-48'!Q16>'PlSp43-48'!O16,3,IF('PlSp43-48'!Q16='PlSp43-48'!O16,1,0)))","v":1},{"$f":"IF(ISBLANK('PlSp43-48'!O16),0,1)","v":1},{"$f":"IF(ISBLANK('PlSp43-48'!Q16),0,1)","v":1}]
[null,{"$f":"Platzzuordnung!A112","v":109},{"$f":"IF(Vorgaben!C$1=24,Platzzuordnung!S17,IF(Vorgaben!C$1=30,Platzzuordnung!S17,IF(Vorgaben!C$1=36,Platzzuordnung!S17,Platzzuordnung!D112)))","v":"09:29:00"},{"$f":"Platzzuordnung!C722","v":"00:00:00"},{"$f":"$F$707","v":"Gruppe B2"},null,null,null,null,{"$f":"$F$708","v":"Gruppe C6"},null,null,null,null,{"$f":"IF(ISBLANK('PlSp43-48'!O17),\"\",'PlSp43-48'!O17)","v":2},":",{"$f":"IF(ISBLANK('PlSp43-48'!O17),\"\",'PlSp43-48'!Q17)","v":0},{"$f":"VLOOKUP(B717,Platzzuordnung!$A$4:B813,2,FALSE)","v":5},null,null,null,null,null,null,null,null,null,null,null,null,null,null,null,null,null,null,null,null,null,null,null,null,null,null,null,null,null,null,null,null,null,null,null,{"$f":"IF(ISBLANK('PlSp43-48'!O17),\"0\",IF('PlSp43-48'!O17>'PlSp43-48'!Q17,3,IF('PlSp43-48'!O17='PlSp43-48'!Q17,1,0)))","v":3},{"$f":"IF(ISBLANK('PlSp43-48'!Q17),\"0\",IF('PlSp43-48'!Q17>'PlSp43-48'!O17,3,IF('PlSp43-48'!Q17='PlSp43-48'!O17,1,0)))","v":0},{"$f":"IF(ISBLANK('PlSp43-48'!O17),0,1)","v":1},{"$f":"IF(ISBLANK('PlSp43-48'!Q17),0,1)","v":1}]
[null,{"$f":"Platzzuordnung!A113","v":110},{"$f":"IF(Vorgaben!C$1=24,Platzzuordnung!S18,IF(Vorgaben!C$1=30,Platzzuordnung!S18,IF(Vorgaben!C$1=36,Platzzuordnung!S18,Platzzuordnung!D113)))","v":"09:51:00"},{"$f":"Platzzuordnung!C723","v":"00:00:00"},{"$f":"$F$709","v":"Gruppe D6"},null,null,null,null,{"$f":"$F$710","v":"Gruppe E8"},null,null,null,null,{"$f":"IF(ISBLANK('PlSp43-48'!O18),\"\",'PlSp43-48'!O18)","v":1},":",{"$f":"IF(ISBLANK('PlSp43-48'!O18),\"\",'PlSp43-48'!Q18)","v":1},{"$f":"VLOOKUP(B718,Platzzuordnung!$A$4:B814,2,FALSE)","v":6},null,null,null,null,null,null,null,null,null,null,null,null,null,null,null,null,null,null,null,null,null,null,null,null,null,null,null,null,null,null,null,null,null,null,null,{"$f":"IF(ISBLANK('PlSp43-48'!O18),\"0\",IF('PlSp43-48'!O18>'PlSp43-48'!Q18,3,IF('PlSp43-48'!O18='PlSp43-48'!Q18,1,0)))","v":1},{"$f":"IF(ISBLANK('PlSp43-48'!Q18),\"0\",IF('PlSp43-48'!Q18>'PlSp43-48'!O18,3,IF('PlSp43-48'!Q18='PlSp43-48'!O18,1,0)))","v":1},{"$f":"IF(ISBLANK('PlSp43-48'!O18),0,1)","v":1},{"$f":"IF(ISBLANK('PlSp43-48'!Q18),0,1)","v":1}]
[null,{"$f":"Platzzuordnung!A114","v":111},{"$f":"IF(Vorgaben!C$1=24,Platzzuordnung!S19,IF(Vorgaben!C$1=30,Platzzuordnung!S19,IF(Vorgaben!C$1=36,Platzzuordnung!S19,Platzzuordnung!D114)))","v":"10:02:00"},{"$f":"Platzzuordnung!C724","v":"00:00:00"},{"$f":"$F$706","v":"Gruppe A1"},null,null,null,null,{"$f":"$F$708","v":"Gruppe C6"},null,null,null,null,{"$f":"IF(ISBLANK('PlSp43-48'!O19),\"\",'PlSp43-48'!O19)","v":4},":",{"$f":"IF(ISBLANK('PlSp43-48'!O19),\"\",'PlSp43-48'!Q19)","v":0},{"$f":"VLOOKUP(B719,Platzzuordnung!$A$4:B815,2,FALSE)","v":5},null,null,null,null,null,null,null,null,null,null,null,null,null,null,null,null,null,null,null,null,null,null,null,null,null,null,null,null,null,null,null,null,null,null,null,{"$f":"IF(ISBLANK('PlSp43-48'!O19),\"0\",IF('PlSp43-48'!O19>'PlSp43-48'!Q19,3,IF('PlSp43-48'!O19='PlSp43-48'!Q19,1,0)))","v":3},{"$f":"IF(ISBLANK('PlSp43-48'!Q19),\"0\",IF('PlSp43-48'!Q19>'PlSp43-48'!O19,3,IF('PlSp43-48'!Q19='PlSp43-48'!O19,1,0)))","v":0},{"$f":"IF(ISBLANK('PlSp43-48'!O19),0,1)","v":1},{"$f":"IF(ISBLANK('PlSp43-48'!Q19),0,1)","v":1}]
[null,{"$f":"Platzzuordnung!A115","v":112},{"$f":"IF(Vorgaben!C$1=24,Platzzuordnung!S20,IF(Vorgaben!C$1=30,Platzzuordnung!S20,IF(Vorgaben!C$1=36,Platzzuordnung!S20,Platzzuordnung!D115)))","v":"10:24:00"},{"$f":"Platzzuordnung!C725","v":"00:00:00"},{"$f":"$F$710","v":"Gruppe E8"},null,null,null,null,{"$f":"$F$707","v":"Gruppe B2"},null,null,null,null,{"$f":"IF(ISBLANK('PlSp43-48'!O20),\"\",'PlSp43-48'!O20)","v":1},":",{"$f":"IF(ISBLANK('PlSp43-48'!O20),\"\",'PlSp43-48'!Q20)","v":1},{"$f":"VLOOKUP(B720,Platzzuordnung!$A$4:B816,2,FALSE)","v":6},null,null,null,null,null,null,null,null,null,null,null,null,null,null,null,null,null,null,null,null,null,null,null,null,null,null,null,null,null,null,null,null,null,null,null,{"$f":"IF(ISBLANK('PlSp43-48'!O20),\"0\",IF('PlSp43-48'!O20>'PlSp43-48'!Q20,3,IF('PlSp43-48'!O20='PlSp43-48'!Q20,1,0)))","v":1},{"$f":"IF(ISBLANK('PlSp43-48'!Q20),\"0\",IF('PlSp43-48'!Q20>'PlSp43-48'!O20,3,IF('PlSp43-48'!Q20='PlSp43-48'!O20,1,0)))","v":1},{"$f":"IF(ISBLANK('PlSp43-48'!O20),0,1)","v":1},{"$f":"IF(ISBLANK('PlSp43-48'!Q20),0,1)","v":1}]
[null,{"$f":"Platzzuordnung!A116","v":113},{"$f":"IF(Vorgaben!C$1=24,Platzzuordnung!S21,IF(Vorgaben!C$1=30,Platzzuordnung!S21,IF(Vorgaben!C$1=36,Platzzuordnung!S21,Platzzuordnung!D116)))","v":"10:35:00"},{"$f":"Platzzuordnung!C726","v":"00:00:00"},{"$f":"$F$711","v":"Gruppe F7"},null,null,null,null,{"$f":"$F$706","v":"Gruppe A1"},null,null,null,null,{"$f":"IF(ISBLANK('PlSp43-48'!O21),\"\",'PlSp43-48'!O21)","v":1},":",{"$f":"IF(ISBLANK('PlSp43-48'!O21),\"\",'PlSp43-48'!Q21)","v":1},{"$f":"VLOOKUP(B721,Platzzuordnung!$A$4:B817,2,FALSE)","v":5},null,null,null,null,null,null,null,null,null,null,null,null,null,null,null,null,null,null,null,null,null,null,null,null,null,null,null,null,null,null,null,null,null,null,null,{"$f":"IF(ISBLANK('PlSp43-48'!O21),\"0\",IF('PlSp43-48'!O21>'PlSp43-48'!Q21,3,IF('PlSp43-48'!O21='PlSp43-48'!Q21,1,0)))","v":1},{"$f":"IF(ISBLANK('PlSp43-48'!Q21),\"0\",IF('PlSp43-48'!Q21>'PlSp43-48'!O21,3,IF('PlSp43-48'!Q21='PlSp43-48'!O21,1,0)))","v":1},{"$f":"IF(ISBLANK('PlSp43-48'!O21),0,1)","v":1},{"$f":"IF(ISBLANK('PlSp43-48'!Q21),0,1)","v":1}]
[null,{"$f":"Platzzuordnung!A117","v":114},{"$f":"IF(Vorgaben!C$1=24,Platzzuordnung!S22,IF(Vorgaben!C$1=30,Platzzuordnung!S22,IF(Vorgaben!C$1=36,Platzzuordnung!S22,Platzzuordnung!D117)))","v":"10:57:00"},{"$f":"Platzzuordnung!C727","v":"00:00:00"},{"$f":"$F$708","v":"Gruppe C6"},null,null,null,null,{"$f":"$F$710","v":"Gruppe E8"},null,null,null,null,{"$f":"IF(ISBLANK('PlSp43-48'!O22),\"\",'PlSp43-48'!O22)","v":1},":",{"$f":"IF(ISBLANK('PlSp43-48'!O22),\"\",'PlSp43-48'!Q22)","v":1},{"$f":"VLOOKUP(B722,Platzzuordnung!$A$4:B818,2,FALSE)","v":6},null,null,null,null,null,null,null,null,null,null,null,null,null,null,null,null,null,null,null,null,null,null,null,null,null,null,null,null,null,null,null,null,null,null,null,{"$f":"IF(ISBLANK('PlSp43-48'!O22),\"0\",IF('PlSp43-48'!O22>'PlSp43-48'!Q22,3,IF('PlSp43-48'!O22='PlSp43-48'!Q22,1,0)))","v":1},{"$f":"IF(ISBLANK('PlSp43-48'!Q22),\"0\",IF('PlSp43-48'!Q22>'PlSp43-48'!O22,3,IF('PlSp43-48'!Q22='PlSp43-48'!O22,1,0)))","v":1},{"$f":"IF(ISBLANK('PlSp43-48'!O22),0,1)","v":1},{"$f":"IF(ISBLANK('PlSp43-48'!Q22),0,1)","v":1}]
[null,{"$f":"Platzzuordnung!A118","v":115},{"$f":"IF(Vorgaben!C$1=24,Platzzuordnung!S23,IF(Vorgaben!C$1=30,Platzzuordnung!S23,IF(Vorgaben!C$1=36,Platzzuordnung!S23,Platzzuordnung!D118)))","v":"11:08:00"},{"$f":"Platzzuordnung!C728","v":"00:00:00"},{"$f":"$F$709","v":"Gruppe D6"},null,null,null,null,{"$f":"$F$711","v":"Gruppe F7"},null,null,null,null,{"$f":"IF(ISBLANK('PlSp43-48'!O23),\"\",'PlSp43-48'!O23)","v":1},":",{"$f":"IF(ISBLANK('PlSp43-48'!O23),\"\",'PlSp43-48'!Q23)","v":0},{"$f":"VLOOKUP(B723,Platzzuordnung!$A$4:B819,2,FALSE)","v":5},null,null,null,null,null,null,null,null,null,null,null,null,null,null,null,null,null,null,null,null,null,null,null,null,null,null,null,null,null,null,null,null,null,null,null,{"$f":"IF(ISBLANK('PlSp43-48'!O23),\"0\",IF('PlSp43-48'!O23>'PlSp43-48'!Q23,3,IF('PlSp43-48'!O23='PlSp43-48'!Q23,1,0)))","v":3},{"$f":"IF(ISBLANK('PlSp43-48'!Q23),\"0\",IF('PlSp43-48'!Q23>'PlSp43-48'!O23,3,IF('PlSp43-48'!Q23='PlSp43-48'!O23,1,0)))","v":0},{"$f":"IF(ISBLANK('PlSp43-48'!O23),0,1)","v":1},{"$f":"IF(ISBLANK('PlSp43-48'!Q23),0,1)","v":1}]
[null,{"$f":"Platzzuordnung!A119","v":116},{"$f":"IF(Vorgaben!C$1=24,Platzzuordnung!S24,IF(Vorgaben!C$1=30,Platzzuordnung!S24,IF(Vorgaben!C$1=36,Platzzuordnung!S24,Platzzuordnung!D119)))","v":"12:15:00"},{"$f":"Platzzuordnung!C729","v":"00:00:00"},{"$f":"$F$706","v":"Gruppe A1"},null,null,null,null,{"$f":"$F$710","v":"Gruppe E8"},null,null,null,null,{"$f":"IF(ISBLANK('PlSp43-48'!O24),\"\",'PlSp43-48'!O24)","v":0},":",{"$f":"IF(ISBLANK('PlSp43-48'!O24),\"\",'PlSp43-48'!Q24)","v":1},{"$f":"VLOOKUP(B724,Platzzuordnung!$A$4:B820,2,FALSE)","v":6},null,null,null,null,null,null,null,null,null,null,null,null,null,null,null,null,null,null,null,null,null,null,null,null,null,null,null,null,null,null,null,null,null,null,null,{"$f":"IF(ISBLANK('PlSp43-48'!O24),\"0\",IF('PlSp43-48'!O24>'PlSp43-48'!Q24,3,IF('PlSp43-48'!O24='PlSp43-48'!Q24,1,0)))","v":0},{"$f":"IF(ISBLANK('PlSp43-48'!Q24),\"0\",IF('PlSp43-48'!Q24>'PlSp43-48'!O24,3,IF('PlSp43-48'!Q24='PlSp43-48'!O24,1,0)))","v":3},{"$f":"IF(ISBLANK('PlSp43-48'!O24),0,1)","v":1},{"$f":"IF(ISBLANK('PlSp43-48'!Q24),0,1)","v":1}]
[null,{"$f":"Platzzuordnung!A120","v":117},{"$f":"IF(Vorgaben!C$1=24,Platzzuordnung!S25,IF(Vorgaben!C$1=30,Platzzuordnung!S25,IF(Vorgaben!C$1=36,Platzzuordnung!S25,Platzzuordnung!D120)))","v":"12:26:00"},{"$f":"Platzzuordnung!C730","v":"00:00:00"},{"$f":"$F$711","v":"Gruppe F7"},null,null,null,null,{"$f":"$F$707","v":"Gruppe B2"},null,null,null,null,{"$f":"IF(ISBLANK('PlSp43-48'!O25),\"\",'PlSp43-48'!O25)","v":1},":",{"$f":"IF(ISBLANK('PlSp43-48'!O25),\"\",'PlSp43-48'!Q25)","v":1},{"$f":"VLOOKUP(B725,Platzzuordnung!$A$4:B821,2,FALSE)","v":5},null,null,null,null,null,null,null,null,null,null,null,null,null,null,null,null,null,null,null,null,null,null,null,null,null,null,null,null,null,null,null,null,null,null,null,{"$f":"IF(ISBLANK('PlSp43-48'!O25),\"0\",IF('PlSp43-48'!O25>'PlSp43-48'!Q25,3,IF('PlSp43-48'!O25='PlSp43-48'!Q25,1,0)))","v":1},{"$f":"IF(ISBLANK('PlSp43-48'!Q25),\"0\",IF('PlSp43-48'!Q25>'PlSp43-48'!O25,3,IF('PlSp43-48'!Q25='PlSp43-48'!O25,1,0)))","v":1},{"$f":"IF(ISBLANK('PlSp43-48'!O25),0,1)","v":1},{"$f":"IF(ISBLANK('PlSp43-48'!Q25),0,1)","v":1}]
[null,{"$f":"Platzzuordnung!A121","v":118},{"$f":"IF(Vorgaben!C$1=24,Platzzuordnung!S26,IF(Vorgaben!C$1=30,Platzzuordnung!S26,IF(Vorgaben!C$1=36,Platzzuordnung!S26,Platzzuordnung!D121)))","v":"12:48:00"},{"$f":"Platzzuordnung!C731","v":"00:00:00"},{"$f":"$F$709","v":"Gruppe D6"},null,null,null,null,{"$f":"$F$706","v":"Gruppe A1"},null,null,null,null,{"$f":"IF(ISBLANK('PlSp43-48'!O26),\"\",'PlSp43-48'!O26)","v":3},":",{"$f":"IF(ISBLANK('PlSp43-48'!O26),\"\",'PlSp43-48'!Q26)","v":0},{"$f":"VLOOKUP(B726,Platzzuordnung!$A$4:B822,2,FALSE)","v":6},null,null,null,null,null,null,null,null,null,null,null,null,null,null,null,null,null,null,null,null,null,null,null,null,null,null,null,null,null,null,null,null,null,null,null,{"$f":"IF(ISBLANK('PlSp43-48'!O26),\"0\",IF('PlSp43-48'!O26>'PlSp43-48'!Q26,3,IF('PlSp43-48'!O26='PlSp43-48'!Q26,1,0)))","v":3},{"$f":"IF(ISBLANK('PlSp43-48'!Q26),\"0\",IF('PlSp43-48'!Q26>'PlSp43-48'!O26,3,IF('PlSp43-48'!Q26='PlSp43-48'!O26,1,0)))","v":0},{"$f":"IF(ISBLANK('PlSp43-48'!O26),0,1)","v":1},{"$f":"IF(ISBLANK('PlSp43-48'!Q26),0,1)","v":1}]
[null,{"$f":"Platzzuordnung!A122","v":119},{"$f":"IF(Vorgaben!C$1=24,Platzzuordnung!S27,IF(Vorgaben!C$1=30,Platzzuordnung!S27,IF(Vorgaben!C$1=36,Platzzuordnung!S27,Platzzuordnung!D122)))","v":"12:59:00"},{"$f":"Platzzuordnung!C732","v":"00:00:00"},{"$f":"$F$708","v":"Gruppe C6"},null,null,null,null,{"$f":"$F$711","v":"Gruppe F7"},null,null,null,null,{"$f":"IF(ISBLANK('PlSp43-48'!O27),\"\",'PlSp43-48'!O27)","v":1},":",{"$f":"IF(ISBLANK('PlSp43-48'!O27),\"\",'PlSp43-48'!Q27)","v":1},{"$f":"VLOOKUP(B727,Platzzuordnung!$A$4:B823,2,FALSE)","v":5},null,null,null,null,null,null,null,null,null,null,null,null,null,null,null,null,null,null,null,null,null,null,null,null,null,null,null,null,null,null,null,null,null,null,null,{"$f":"IF(ISBLANK('PlSp43-48'!O27),\"0\",IF('PlSp43-48'!O27>'PlSp43-48'!Q27,3,IF('PlSp43-48'!O27='PlSp43-48'!Q27,1,0)))","v":1},{"$f":"IF(ISBLANK('PlSp43-48'!Q27),\"0\",IF('PlSp43-48'!Q27>'PlSp43-48'!O27,3,IF('PlSp43-48'!Q27='PlSp43-48'!O27,1,0)))","v":1},{"$f":"IF(ISBLANK('PlSp43-48'!O27),0,1)","v":1},{"$f":"IF(ISBLANK('PlSp43-48'!Q27),0,1)","v":1}]
[null,{"$f":"Platzzuordnung!A123","v":120},{"$f":"IF(Vorgaben!C$1=24,Platzzuordnung!S28,IF(Vorgaben!C$1=30,Platzzuordnung!S28,IF(Vorgaben!C$1=36,Platzzuordnung!S28,Platzzuordnung!D123)))","v":"13:21:00"},{"$f":"Platzzuordnung!C733","v":"00:00:00"},{"$f":"$F$707","v":"Gruppe B2"},null,null,null,null,{"$f":"$F$709","v":"Gruppe D6"},null,null,null,null,{"$f":"IF(ISBLANK('PlSp43-48'!O28),\"\",'PlSp43-48'!O28)","v":1},":",{"$f":"IF(ISBLANK('PlSp43-48'!O28),\"\",'PlSp43-48'!Q28)","v":1},{"$f":"VLOOKUP(B728,Platzzuordnung!$A$4:B824,2,FALSE)","v":2},null,null,null,null,null,null,null,null,null,null,null,null,null,null,null,null,null,null,null,null,null,null,null,null,null,null,null,null,null,null,null,null,null,null,null,{"$f":"IF(ISBLANK('PlSp43-48'!O28),\"0\",IF('PlSp43-48'!O28>'PlSp43-48'!Q28,3,IF('PlSp43-48'!O28='PlSp43-48'!Q28,1,0)))","v":1},{"$f":"IF(ISBLANK('PlSp43-48'!Q28),\"0\",IF('PlSp43-48'!Q28>'PlSp43-48'!O28,3,IF('PlSp43-48'!Q28='PlSp43-48'!O28,1,0)))","v":1},{"$f":"IF(ISBLANK('PlSp43-48'!O28),0,1)","v":1},{"$f":"IF(ISBLANK('PlSp43-48'!Q28),0,1)","v":1}]
[null,null,null,null,null,null,null,null,null,null,null,null,null,null,null,null,null,null,null,null,null,null,null,null,null,null,null,null,null,null,null,null,null,null,null,null,null,null,null,null,null,null,null,null,null,null,null,null,null,null,null,null,null,null,null,{"$f":"IF(BD731=\"Min. 3 Teams identisch.  HANDSORTIERUNG!\",BD731,IF(BD731=\"ACHTUNG! Direkter Vergleich war unentschieden!\",BD731,BD730))","v":"ACHTUNG: Direkter Vergleich erfolgreich durchlaufen!"}]
[null,null,null,null,null,null,null,null,null,null,null,null,null,null,null,null,null,null,null,null,null,null,null,null,null,null,null,null,null,null,null,null,null,null,null,null,null,null,null,null,null,null,null,null,null,null,null,null,null,null,null,null,null,null,null,{"$f":"IF(AND(EXACT(BF733,BF734),EXACT(BG733,BG734),EXACT(BI733,BI734)),\"ACHTUNG: Direkter Vergleich erfolgreich durchlaufen!\",IF(AND(EXACT(BF734,BF735),EXACT(BG734,BG735),EXACT(BI734,BI735)),\"ACHTUNG: Direkter Vergleich erfolgreich durchlaufen!\",IF(AND(EXACT(BF735,BF736),EXACT(BG735,BG736),EXACT(BI735,BI736)),\"ACHTUNG: Direkter Vergleich erfolgreich durchlaufen!\",IF(AND(EXACT(BF736,BF737),EXACT(BG736,BG737),EXACT(BI736,BI737)),\"ACHTUNG: Direkter Vergleich erfolgreich durchlaufen!\",IF(AND(EXACT(BF737,BF738),EXACT(BG737,BG738),EXACT(BI737,BI738)),\"ACHTUNG: Direkter Vergleich erfolgreich durchlaufen!\",\"\")))))","v":"ACHTUNG: Direkter Vergleich erfolgreich durchlaufen!"}]
[null,"Tabelle",null,null,null,null,null,null,"Spiele",null,"Punkte",null,"Differenz",null,"Tore",null,null,null,null,null,null,null,null,null,null,null,null,null,null,null,null,null,null,null,null,null,null,null,null,null,null,null,null,null,null,null,null,null,null,null,null,null,null,null,null,{"$f":"IF(OR(BS733=3,BS734=3,BS735=3,BS736=3,BS737=3,BS738=3),\"Min. 3 Teams identisch.  HANDSORTIERUNG!\",IF(OR(BR733=\"ACHTUNG! Direkter Vergleich war unentschieden!\",BR734=\"ACHTUNG! Direkter Vergleich war unentschieden!\",BR735=\"ACHTUNG! Direkter Vergleich war unentschieden!\",BR736=\"ACHTUNG! Direkter Vergleich war unentschieden!\",BR737=\"ACHTUNG! Direkter Vergleich war unentschieden!\",BR738=\"ACHTUNG! Direkter Vergleich war unentschieden!\"),\"ACHTUNG! Direkter Vergleich war unentschieden!\",\"\"))","v":""}]
[null,1,{"$f":"BD733","v":"Gruppe D6"},null,null,null,null,null,{"$f":"BE733","v":5},null,{"$f":"BF733","v":9},null,{"$f":"BI733","v":4},null,{"$f":"BG733","v":7},":",{"$f":"BH733","v":3},null,null,null,null,null,null,null,null,null,null,null,null,null,null,null,null,null,null,null,null,null,null,null,null,null,null,null,null,null,null,null,null,null,null,null,null,null,null,"Mannschaft","Spiele","Punkte","Tore+","Tore-","Diff"]
[null,2,{"$f":"BD734","v":"Gruppe A1"},null,null,null,null,null,{"$f":"BE734","v":5},null,{"$f":"BF734","v":7},null,{"$f":"BI734","v":1},null,{"$f":"BG734","v":6},":",{"$f":"BH734","v":5},null,null,null,null,null,null,null,null,null,null,null,null,null,null,null,null,null,null,null,null,null,null,null,null,null,null,null,null,null,null,null,null,null,null,null,null,null,{"$f":"INDEX('GR Platzierungsspiele VR'!$G$20:$H$25,MATCH(BD733,'GR Platzierungsspiele VR'!$G$20:$G$25,0),2)","v":0},{"$f":"F$709","v":"Gruppe D6"},{"$f":"SUMIF($E$714:$I$728,$BD733,$BD$714:$BD$728)+SUMIF($J$714:$N$728,$BD733,$BE$714:$BE$728)","v":5},{"$f":"SUMIF($E$714:$I$728,$BD733,$BB$714:$BB$728)+SUMIF($J$714:$N$728,$BD733,$BC$714:$BC$728)","v":9},{"$f":"SUMIF($E$714:$I$728,$BD733,$O$714:$O$728)+SUMIF($J$714:$N$728,$BD733,Q$714:$Q$728)","v":7},{"$f":"SUMIF($E$714:$I$728,$BD733,$Q$714:$Q$728)+SUMIF($J$714:$N$728,$BD733,$O$714:$O$728)","v":3},{"$f":"BG733-BH733","v":4},{"$f":"BL733","v":10},null,{"$f":"IF(BN733>BO734,10,IF(BN733<BO734,-10,0))","v":10},null,{"$f":"IF(ISNA(INDEX(BB$714:BB$728,MATCH(BD733&BD734,E$714:E$728&J$714:J$728,0))),INDEX(BC$714:BC$728,MATCH(BD734&BD733,E$714:E$728&J$714:J$728,0)),INDEX(BB$714:BB$728,MATCH(BD733&BD734,E$714:E$728&J$714:J$728,0)))","v":3},null,{"$f":"IF(AND(EXACT(BF733,BF734),EXACT(BG733,BG734),EXACT(BI733,BI734),EXACT(BN733,BO734)),\"ACHTUNG! Direkter Vergleich war unentschieden!\",IF(AND(EXACT(BF733,BF734),EXACT(BG733,BG734),EXACT(BI733,BI734)),1,2))","v":2},null,{"$f":"IF(OR(BP733=\"ACHTUNG! Direkter Vergleich war unentschieden!\",BQ733=\"ACHTUNG! Direkter Vergleich war unentschieden!\"),\"ACHTUNG! Direkter Vergleich war unentschieden!\",\"\")","v":""},{"$f":"IF(OR(AND(EXACT(BE733,BE734),EXACT(BF733,BF734),EXACT(BI733,BI734),EXACT(BE733,BE735),EXACT(BF733,BF735),EXACT(BI733,BI735)),AND(EXACT(BE733,BE734),EXACT(BF733,BF734),EXACT(BI733,BI734),EXACT(BE733,BE732),EXACT(BF733,BF732),EXACT(BI733,BI732))*AND(EXACT(BE733,BE731),EXACT(BF733,BF731),EXACT(BI733,BI731),EXACT(BE733,BE732),EXACT(BF733,BF732),EXACT(BI733,BI732))),3,1)","v":1}]
[null,3,"Gruppe E8",null,null,null,null,null,5,null,7,null,1,null,6,":",5,null,null,null,null,null,null,null,null,null,null,null,null,null,null,null,null,null,null,null,null,null,null,null,null,null,null,null,null,null,null,null,null,null,null,null,null,null,{"$f":"INDEX('GR Platzierungsspiele VR'!$G$20:$H$25,MATCH(BD734,'GR Platzierungsspiele VR'!$G$20:$G$25,0),2)","v":0},{"$f":"F$706","v":"Gruppe A1"},5,7,{"$f":"SUMIF($E$714:$I$728,$BD734,$O$714:$O$728)+SUMIF($J$714:$N$728,$BD734,Q$714:$Q$728)","v":6},5,1,{"$f":"BL734","v":-10},{"$f":"BM734","v":-10},{"$f":"IF(BN733<BO734,10,IF(BN733>BO734,-10,0))","v":-10},{"$f":"IF(BN734>BO735,10,IF(BN734<BO735,-10,0))","v":-10},{"$f":"IF(ISNA(INDEX(BB$714:BB$728,MATCH(BD734&BD735,E$714:E$728&J$714:J$728,0))),INDEX(BC$714:BC$728,MATCH(BD735&BD734,E$714:E$728&J$714:J$728,0)),INDEX(BB$714:BB$728,MATCH(BD734&BD735,E$714:E$728&J$714:J$728,0)))","v":0},{"$f":"IF(ISNA(INDEX(BB$714:BB$728,MATCH(BD734&BD733,E$714:E$728&J$714:J$728,0))),INDEX(BC$714:BC$728,MATCH(BD733&BD734,E$714:E$728&J$714:J$728,0)),INDEX(BB$714:BB$728,MATCH(BD734&BD733,E$714:E$728&J$714:J$728,0)))","v":0},1,{"$f":"IF(AND(EXACT(BF733,BF734),EXACT(BG733,BG734),EXACT(BI733,BI734),EXACT(BO734,BN733)),\"ACHTUNG! Direkter Vergleich war unentschieden!\",IF(AND(EXACT(BF733,BF734),EXACT(BG733,BG734),EXACT(BI733,BI734)),1,2))","v":2},"",1]
[null,4,"Gruppe B2",null,null,null,null,null,5,null,6,null,1,null,5,":",4,null,null,null,null,null,null,null,null,null,null,null,null,null,null,null,null,null,null,null,null,null,null,null,null,null,null,null,null,null,null,null,null,null,null,null,null,null,{"$f":"INDEX('GR Platzierungsspiele VR'!$G$20:$H$25,MATCH(BD735,'GR Platzierungsspiele VR'!$G$20:$G$25,0),2)","v":0},{"$f":"F$710","v":"Gruppe E8"},5,7,{"$f":"SUMIF($E$714:$I$728,$BD735,$O$714:$O$728)+SUMIF($J$714:$N$728,$BD735,Q$714:$Q$728)","v":6},5,1,{"$f":"BL735","v":10},0,{"$f":"IF(BN734<BO735,10,IF(BN734>BO735,-10,0))","v":10},{"$f":"IF(BN735>BO736,10,IF(BN735<BO736,-10,0))","v":0},{"$f":"IF(ISNA(INDEX(BB$714:BB$728,MATCH(BD735&BD736,E$714:E$728&J$714:J$728,0))),INDEX(BC$714:BC$728,MATCH(BD736&BD735,E$714:E$728&J$714:J$728,0)),INDEX(BB$714:BB$728,MATCH(BD735&BD736,E$714:E$728&J$714:J$728,0)))","v":1},{"$f":"IF(ISNA(INDEX(BB$714:BB$728,MATCH(BD735&BD734,E$714:E$728&J$714:J$728,0))),INDEX(BC$714:BC$728,MATCH(BD734&BD735,E$714:E$728&J$714:J$728,0)),INDEX(BB$714:BB$728,MATCH(BD735&BD734,E$714:E$728&J$714:J$728,0)))","v":3},2,{"$f":"IF(AND(EXACT(BF734,BF735),EXACT(BG734,BG735),EXACT(BI734,BI735),EXACT(BO735,BN734)),\"ACHTUNG! Direkter Vergleich war unentschieden!\",IF(AND(EXACT(BF734,BF735),EXACT(BG734,BG735),EXACT(BI734,BI735)),1,2))","v":1},"",{"$f":"IF(OR(AND(EXACT(BE735,BE736),EXACT(BF735,BF736),EXACT(BI735,BI736),EXACT(BE735,BE737),EXACT(BF735,BF737),EXACT(BI735,BI737)),AND(EXACT(BE735,BE736),EXACT(BF735,BF736),EXACT(BI735,BI736),EXACT(BE735,BE734),EXACT(BF735,BF734),EXACT(BI735,BI734))*AND(EXACT(BE735,BE733),EXACT(BF735,BF733),EXACT(BI735,BI733),EXACT(BE735,BE734),EXACT(BF735,BF734),EXACT(BI735,BI734))),3,1)","v":1}]
[null,5,"Gruppe F7",null,null,null,null,null,5,null,4,null,-1,null,5,":",6,null,null,null,null,null,null,null,null,null,null,null,null,null,null,null,null,null,null,null,null,null,null,null,null,null,null,null,null,null,null,null,null,null,null,null,null,null,{"$f":"INDEX('GR Platzierungsspiele VR'!$G$20:$H$25,MATCH(BD736,'GR Platzierungsspiele VR'!$G$20:$G$25,0),2)","v":0},{"$f":"F$707","v":"Gruppe B2"},5,6,{"$f":"SUMIF($E$714:$I$728,$BD736,$O$714:$O$728)+SUMIF($J$714:$N$728,$BD736,Q$714:$Q$728)","v":5},4,1,0,0,{"$f":"IF(BN735<BO736,10,IF(BN735>BO736,-10,0))","v":0},{"$f":"IF(BN735<BO736,10,IF(BN735>BO736,-10,0))","v":0},{"$f":"IF(ISNA(INDEX(BB$714:BB$728,MATCH(BD736&BD737,E$714:E$728&J$714:J$728,0))),INDEX(BC$714:BC$728,MATCH(BD737&BD736,E$714:E$728&J$714:J$728,0)),INDEX(BB$714:BB$728,MATCH(BD736&BD737,E$714:E$728&J$714:J$728,0)))","v":1},{"$f":"IF(ISNA(INDEX(BB$714:BB$728,MATCH(BD736&BD735,E$714:E$728&J$714:J$728,0))),INDEX(BC$714:BC$728,MATCH(BD735&BD736,E$714:E$728&J$714:J$728,0)),INDEX(BB$714:BB$728,MATCH(BD736&BD735,E$714:E$728&J$714:J$728,0)))","v":1},2,2,"",{"$f":"IF(OR(AND(EXACT(BE736,BE737),EXACT(BF736,BF737),EXACT(BI736,BI737),EXACT(BE736,BE738),EXACT(BF736,BF738),EXACT(BI736,BI738)),AND(EXACT(BE736,BE737),EXACT(BF736,BF737),EXACT(BI736,BI737),EXACT(BE736,BE735),EXACT(BF736,BF735),EXACT(BI736,BI735))*AND(EXACT(BE736,BE734),EXACT(BF736,BF734),EXACT(BI736,BI734),EXACT(BE736,BE735),EXACT(BF736,BF735),EXACT(BI736,BI735))),3,1)","v":1}]
[null,6,"Gruppe C6",null,null,null,null,null,5,null,3,null,-6,null,3,":",9,null,null,null,null,null,null,null,null,null,null,null,null,null,null,null,null,null,null,null,null,null,null,null,null,null,null,null,null,null,null,null,null,null,null,null,null,null,{"$f":"INDEX('GR Platzierungsspiele VR'!$G$20:$H$25,MATCH(BD737,'GR Platzierungsspiele VR'!$G$20:$G$25,0),2)","v":0},{"$f":"F$711","v":"Gruppe F7"},5,4,{"$f":"SUMIF($E$714:$I$728,$BD737,$O$714:$O$728)+SUMIF($J$714:$N$728,$BD737,Q$714:$Q$728)","v":5},6,-1,0,0,{"$f":"IF(BN736<BO737,10,IF(BN736>BO737,-10,0))","v":0},{"$f":"IF(BN737>BO738,10,IF(BN737<BO738,-10,0))","v":0},{"$f":"IF(ISNA(INDEX(BB$714:BB$728,MATCH(BD737&BD738,E$714:E$728&J$714:J$728,0))),INDEX(BC$714:BC$728,MATCH(BD738&BD737,E$714:E$728&J$714:J$728,0)),INDEX(BB$714:BB$728,MATCH(BD737&BD738,E$714:E$728&J$714:J$728,0)))","v":1},{"$f":"IF(ISNA(INDEX(BB$714:BB$728,MATCH(BD737&BD736,E$714:E$728&J$714:J$728,0))),INDEX(BC$714:BC$728,MATCH(BD736&BD737,E$714:E$728&J$714:J$728,0)),INDEX(BB$714:BB$728,MATCH(BD737&BD736,E$714:E$728&J$714:J$728,0)))","v":1},{"$f":"IF(AND(EXACT(BF737,BF738),EXACT(BG737,BG738),EXACT(BI737,BI738),EXACT(BN737,BO738)),\"ACHTUNG! Direkter Vergleich war unentschieden!\",IF(AND(EXACT(BF737,BF738),EXACT(BG737,BG738),EXACT(BI737,BI738)),1,2))","v":2},2,"",1]
[null,null,null,null,null,null,null,null,null,null,null,null,null,null,null,null,null,null,null,null,null,null,null,null,null,null,null,null,null,null,null,null,null,null,null,null,null,null,null,null,null,null,null,null,null,null,null,null,null,null,null,null,null,null,{"$f":"INDEX('GR Platzierungsspiele VR'!$G$20:$H$25,MATCH(BD738,'GR Platzierungsspiele VR'!$G$20:$G$25,0),2)","v":0},{"$f":"F$708","v":"Gruppe C6"},5,3,{"$f":"SUMIF($E$714:$I$728,$BD738,$O$714:$O$728)+SUMIF($J$714:$N$728,$BD738,Q$714:$Q$728)","v":3},9,-6,0,0,{"$f":"IF(BN737<BO738,10,IF(BN737>BO738,-10,0))","v":0},{"$f":"IF(BN737<BO738,10,IF(BN737>BO738,-10,0))","v":0},null,{"$f":"IF(ISNA(INDEX(BB$714:BB$728,MATCH(BD738&BD737,E$714:E$728&J$714:J$728,0))),INDEX(BC$714:BC$728,MATCH(BD737&BD738,E$714:E$728&J$714:J$728,0)),INDEX(BB$714:BB$728,MATCH(BD738&BD737,E$714:E$728&J$714:J$728,0)))","v":1},null,2,"",1]
[null,null,null,null,null,null,null,null,null,null,null,null,null,null,null,null,null,null,null,null,null,null,null,null,null,null,null,null,null,null,null,null,null,null,null,null,null,null,null,null,null,null,null,null,null,null,null,null,null,null,null,null,null,null,{"$f":"INDEX('GR Platzierungsspiele VR'!$G$20:$H$25,MATCH(BD739,'GR Platzierungsspiele VR'!$G$20:$G$25,0),2)","v":{"$error":"#N/A"}}]
[null,null,null,null,null,null,null,null,null,null,null,null,null,null,null,null,null,null,null,null,null,null,null,null,null,null,null,null,null,null,null,null,null,null,null,null,null,null,null,null,null,null,null,null,null,null,null,null,null,null,null,null,null,null,{"$f":"INDEX('GR Platzierungsspiele VR'!$G$20:$H$25,MATCH(BD740,'GR Platzierungsspiele VR'!$G$20:$G$25,0),2)","v":{"$error":"#N/A"}}]
[null,null,null,null,null,null,null,null,null,null,null,null,null,null,null,null,null,null,null,null,null,null,null,null,null,null,null,null,null,null,null,null,null,null,null,null,null,null,null,null,null,null,null,null,null,null,null,null,null,null,null,null,null,null,{"$f":"INDEX('GR Platzierungsspiele VR'!$G$20:$H$25,MATCH(BD741,'GR Platzierungsspiele VR'!$G$20:$G$25,0),2)","v":{"$error":"#N/A"}}]
[null,null,null,null,null,null,null,null,null,null,null,null,null,null,null,null,null,null,null,null,null,null,null,null,null,null,null,null,null,null,null,null,null,null,null,null,null,null,null,null,null,null,null,null,null,null,null,null,null,null,null,null,null,null,{"$f":"INDEX('GR Platzierungsspiele VR'!$G$20:$H$25,MATCH(BD742,'GR Platzierungsspiele VR'!$G$20:$G$25,0),2)","v":{"$error":"#N/A"}}]
[null,null,null,null,null,null,null,null,null,null,null,null,null,null,null,null,null,null,null,null,null,null,null,null,null,null,null,null,null,null,null,null,null,null,null,null,null,null,null,null,null,null,null,null,null,null,null,null,null,null,null,null,null,null,{"$f":"INDEX('GR Platzierungsspiele VR'!$G$20:$H$25,MATCH(BD743,'GR Platzierungsspiele VR'!$G$20:$G$25,0),2)","v":{"$error":"#N/A"}}]
[null,null,null,null,null,null,null,null,null,null,null,null,null,null,null,null,null,null,null,null,null,null,null,null,null,null,null,null,null,null,null,null,null,null,null,null,null,null,null,null,null,null,null,null,null,null,null,null,null,null,null,null,null,null,{"$f":"INDEX('GR Platzierungsspiele VR'!$G$20:$H$25,MATCH(BD744,'GR Platzierungsspiele VR'!$G$20:$G$25,0),2)","v":{"$error":"#N/A"}}]
[null,null,null,null,null,null,null,null,null,null,null,null,null,null,null,null,null,null,null,null,null,null,null,null,null,null,null,null,null,null,null,null,null,null,null,null,null,null,null,null,null,null,null,null,null,null,null,null,null,null,null,null,null,null,{"$f":"INDEX('GR Platzierungsspiele VR'!$G$20:$H$25,MATCH(BD745,'GR Platzierungsspiele VR'!$G$20:$G$25,0),2)","v":{"$error":"#N/A"}}]
[null,null,null,null,null,null,null,null,null,null,null,null,null,null,null,null,null,null,null,null,null,null,null,null,null,null,null,null,null,null,null,null,null,null,null,null,null,null,null,null,null,null,null,null,null,null,null,null,null,null,null,null,null,null,{"$f":"INDEX('GR Platzierungsspiele VR'!$G$20:$H$25,MATCH(BD746,'GR Platzierungsspiele VR'!$G$20:$G$25,0),2)","v":{"$error":"#N/A"}}]
[null,null,null,null,null,null,null,null,null,null,null,null,null,null,null,null,null,null,null,null,null,null,null,null,null,null,null,null,null,null,null,null,null,null,null,null,null,null,null,null,null,null,null,null,null,null,null,null,null,null,null,null,null,null,{"$f":"INDEX('GR Platzierungsspiele VR'!$G$20:$H$25,MATCH(BD747,'GR Platzierungsspiele VR'!$G$20:$G$25,0),2)","v":{"$error":"#N/A"}}]
[null,null,null,null,null,null,null,null,null,null,null,null,null,null,null,null,null,null,null,null,null,null,null,null,null,null,null,null,null,null,null,null,null,null,null,null,null,null,null,null,null,null,null,null,null,null,null,null,null,null,null,null,null,null,{"$f":"INDEX('GR Platzierungsspiele VR'!$G$20:$H$25,MATCH(BD748,'GR Platzierungsspiele VR'!$G$20:$G$25,0),2)","v":{"$error":"#N/A"}}]
[null,null,null,null,null,null,null,null,null,null,null,null,null,null,null,null,null,null,null,null,null,null,null,null,null,null,null,null,null,null,null,null,null,null,null,null,null,null,null,null,null,null,null,null,null,null,null,null,null,null,null,null,null,null,{"$f":"INDEX('GR Platzierungsspiele VR'!$G$20:$H$25,MATCH(BD749,'GR Platzierungsspiele VR'!$G$20:$G$25,0),2)","v":{"$error":"#N/A"}}]
[null,null,null,null,null,null,null,null,null,null,null,null,null,null,null,null,null,null,null,null,null,null,null,null,null,null,null,null,null,null,null,null,null,null,null,null,null,null,null,null,null,null,null,null,null,null,null,null,null,null,null,null,null,null,{"$f":"INDEX('GR Platzierungsspiele VR'!$G$20:$H$25,MATCH(BD750,'GR Platzierungsspiele VR'!$G$20:$G$25,0),2)","v":{"$error":"#N/A"}}]
[null,null,null,null,null,null,null,null,null,null,null,null,null,null,null,null,null,null,null,null,null,null,null,null,null,null,null,null,null,null,null,null,null,null,null,null,null,null,null,null,null,null,null,null,null,null,null,null,null,null,null,null,null,null,{"$f":"INDEX('GR Platzierungsspiele VR'!$G$20:$H$25,MATCH(BD751,'GR Platzierungsspiele VR'!$G$20:$G$25,0),2)","v":{"$error":"#N/A"}}]
[null,null,null,null,null,null,null,null,null,null,null,null,null,null,null,null,null,null,null,null,null,null,null,null,null,null,null,null,null,null,null,null,null,null,null,null,null,null,null,null,null,null,null,null,null,null,null,null,null,null,null,null,null,null,{"$f":"INDEX('GR Platzierungsspiele VR'!$G$20:$H$25,MATCH(BD752,'GR Platzierungsspiele VR'!$G$20:$G$25,0),2)","v":{"$error":"#N/A"}}]
[null,null,null,null,null,null,null,null,null,null,null,null,null,null,null,null,null,null,null,null,null,null,null,null,null,null,null,null,null,null,null,null,null,null,null,null,null,null,null,null,null,null,null,null,null,null,null,null,null,null,null,null,null,null,{"$f":"INDEX('GR Platzierungsspiele VR'!$G$20:$H$25,MATCH(BD753,'GR Platzierungsspiele VR'!$G$20:$G$25,0),2)","v":{"$error":"#N/A"}}]
[null,null,null,null,null,null,null,null,null,null,null,null,null,null,null,null,null,null,null,null,null,null,null,null,null,null,null,null,null,null,null,null,null,null,null,null,null,null,null,null,null,null,null,null,null,null,null,null,null,null,null,null,null,null,{"$f":"INDEX('GR Platzierungsspiele VR'!$G$20:$H$25,MATCH(BD754,'GR Platzierungsspiele VR'!$G$20:$G$25,0),2)","v":{"$error":"#N/A"}}]
[null,null,null,null,null,null,null,null,null,null,null,null,null,null,null,null,null,null,null,null,null,null,null,null,null,null,null,null,null,null,null,null,null,null,null,null,null,null,null,null,null,null,null,null,null,null,null,null,null,null,null,null,null,null,{"$f":"INDEX('GR Platzierungsspiele VR'!$G$20:$H$25,MATCH(BD755,'GR Platzierungsspiele VR'!$G$20:$G$25,0),2)","v":{"$error":"#N/A"}}]
[null,null,null,null,null,null,null,null,null,null,null,null,null,null,null,null,null,null,null,null,null,null,null,null,null,null,null,null,null,null,null,null,null,null,null,null,null,null,null,null,null,null,null,null,null,null,null,null,null,null,null,null,null,null,{"$f":"INDEX('GR Platzierungsspiele VR'!$G$20:$H$25,MATCH(BD756,'GR Platzierungsspiele VR'!$G$20:$G$25,0),2)","v":{"$error":"#N/A"}}]
[null,null,null,null,null,null,null,null,null,null,null,null,null,null,null,null,null,null,null,null,null,null,null,null,null,null,null,null,null,null,null,null,null,null,null,null,null,null,null,null,null,null,null,null,null,null,null,null,null,null,null,null,null,null,{"$f":"INDEX('GR Platzierungsspiele VR'!$G$20:$H$25,MATCH(BD757,'GR Platzierungsspiele VR'!$G$20:$G$25,0),2)","v":{"$error":"#N/A"}}]
[null,null,null,null,null,null,null,null,null,null,null,null,null,null,null,null,null,null,null,null,null,null,null,null,null,null,null,null,null,null,null,null,null,null,null,null,null,null,null,null,null,null,null,null,null,null,null,null,null,null,null,null,null,null,{"$f":"INDEX('GR Platzierungsspiele VR'!$G$20:$H$25,MATCH(BD758,'GR Platzierungsspiele VR'!$G$20:$G$25,0),2)","v":{"$error":"#N/A"}}]
[null,null,null,null,null,null,null,null,null,null,null,null,null,null,null,null,null,null,null,null,null,null,null,null,null,null,null,null,null,null,null,null,null,null,null,null,null,null,null,null,null,null,null,null,null,null,null,null,null,null,null,null,null,null,{"$f":"INDEX('GR Platzierungsspiele VR'!$G$20:$H$25,MATCH(BD759,'GR Platzierungsspiele VR'!$G$20:$G$25,0),2)","v":{"$error":"#N/A"}}]
[null,null,null,null,null,null,null,null,null,null,null,null,null,null,null,null,null,null,null,null,null,null,null,null,null,null,null,null,null,null,null,null,null,null,null,null,null,null,null,null,null,null,null,null,null,null,null,null,null,null,null,null,null,null,{"$f":"INDEX('GR Platzierungsspiele VR'!$G$20:$H$25,MATCH(BD760,'GR Platzierungsspiele VR'!$G$20:$G$25,0),2)","v":{"$error":"#N/A"}}]
[null,null,null,null,null,null,null,null,null,null,null,null,null,null,null,null,null,null,null,null,null,null,null,null,null,null,null,null,null,null,null,null,null,null,null,null,null,null,null,null,null,null,null,null,null,null,null,null,null,null,null,null,null,null,{"$f":"INDEX('GR Platzierungsspiele VR'!$G$20:$H$25,MATCH(BD761,'GR Platzierungsspiele VR'!$G$20:$G$25,0),2)","v":{"$error":"#N/A"}}]
[null,null,null,null,null,null,null,null,null,null,null,null,null,null,null,null,null,null,null,null,null,null,null,null,null,null,null,null,null,null,null,null,null,null,null,null,null,null,null,null,null,null,null,null,null,null,null,null,null,null,null,null,null,null,{"$f":"INDEX('GR Platzierungsspiele VR'!$G$20:$H$25,MATCH(BD762,'GR Platzierungsspiele VR'!$G$20:$G$25,0),2)","v":{"$error":"#N/A"}}]
[null,null,null,null,null,null,null,null,null,null,null,null,null,null,null,null,null,null,null,null,null,null,null,null,null,null,null,null,null,null,null,null,null,null,null,null,null,null,null,null,null,null,null,null,null,null,null,null,null,null,null,null,null,null,{"$f":"INDEX('GR Platzierungsspiele VR'!$G$20:$H$25,MATCH(BD763,'GR Platzierungsspiele VR'!$G$20:$G$25,0),2)","v":{"$error":"#N/A"}}]
[null,null,null,null,null,null,null,null,null,null,null,null,null,null,null,null,null,null,null,null,null,null,null,null,null,null,null,null,null,null,null,null,null,null,null,null,null,null,null,null,null,null,null,null,null,null,null,null,null,null,null,null,null,null,{"$f":"INDEX('GR Platzierungsspiele VR'!$G$20:$H$25,MATCH(BD764,'GR Platzierungsspiele VR'!$G$20:$G$25,0),2)","v":{"$error":"#N/A"}}]
[null,null,null,null,null,null,null,null,null,null,null,null,null,null,null,null,null,null,null,null,null,null,null,null,null,null,null,null,null,null,null,null,null,null,null,null,null,null,null,null,null,null,null,null,null,null,null,null,null,null,null,null,null,null,{"$f":"INDEX('GR Platzierungsspiele VR'!$G$20:$H$25,MATCH(BD765,'GR Platzierungsspiele VR'!$G$20:$G$25,0),2)","v":{"$error":"#N/A"}}]
[null,null,null,null,null,null,null,null,null,null,null,null,null,null,null,null,null,null,null,null,null,null,null,null,null,null,null,null,null,null,null,null,null,null,null,null,null,null,null,null,null,null,null,null,null,null,null,null,null,null,null,null,null,null,{"$f":"INDEX('GR Platzierungsspiele VR'!$G$20:$H$25,MATCH(BD766,'GR Platzierungsspiele VR'!$G$20:$G$25,0),2)","v":{"$error":"#N/A"}}]
[null,null,null,null,null,null,null,null,null,null,null,null,null,null,null,null,null,null,null,null,null,null,null,null,null,null,null,null,null,null,null,null,null,null,null,null,null,null,null,null,null,null,null,null,null,null,null,null,null,null,null,null,null,null,{"$f":"INDEX('GR Platzierungsspiele VR'!$G$20:$H$25,MATCH(BD767,'GR Platzierungsspiele VR'!$G$20:$G$25,0),2)","v":{"$error":"#N/A"}}]
[null,null,null,null,null,null,null,null,null,null,null,null,null,null,null,null,null,null,null,null,null,null,null,null,null,null,null,null,null,null,null,null,null,null,null,null,null,null,null,null,null,null,null,null,null,null,null,null,null,null,null,null,null,null,{"$f":"INDEX('GR Platzierungsspiele VR'!$G$20:$H$25,MATCH(BD768,'GR Platzierungsspiele VR'!$G$20:$G$25,0),2)","v":{"$error":"#N/A"}}]
[null,null,null,null,null,null,null,null,null,null,null,null,null,null,null,null,null,null,null,null,null,null,null,null,null,null,null,null,null,null,null,null,null,null,null,null,null,null,null,null,null,null,null,null,null,null,null,null,null,null,null,null,null,null,{"$f":"INDEX('GR Platzierungsspiele VR'!$G$20:$H$25,MATCH(BD769,'GR Platzierungsspiele VR'!$G$20:$G$25,0),2)","v":{"$error":"#N/A"}}]
[null,null,null,null,null,null,null,null,null,null,null,null,null,null,null,null,null,null,null,null,null,null,null,null,null,null,null,null,null,null,null,null,null,null,null,null,null,null,null,null,null,null,null,null,null,null,null,null,null,null,null,null,null,null,{"$f":"INDEX('GR Platzierungsspiele VR'!$G$20:$H$25,MATCH(BD770,'GR Platzierungsspiele VR'!$G$20:$G$25,0),2)","v":{"$error":"#N/A"}}]
[null,null,null,null,null,null,null,null,null,null,null,null,null,null,null,null,null,null,null,null,null,null,null,null,null,null,null,null,null,null,null,null,null,null,null,null,null,null,null,null,null,null,null,null,null,null,null,null,null,null,null,null,null,null,{"$f":"INDEX('GR Platzierungsspiele VR'!$G$20:$H$25,MATCH(BD771,'GR Platzierungsspiele VR'!$G$20:$G$25,0),2)","v":{"$error":"#N/A"}}]
[null,null,null,null,null,null,null,null,null,null,null,null,null,null,null,null,null,null,null,null,null,null,null,null,null,null,null,null,null,null,null,null,null,null,null,null,null,null,null,null,null,null,null,null,null,null,null,null,null,null,null,null,null,null,{"$f":"INDEX('GR Platzierungsspiele VR'!$G$20:$H$25,MATCH(BD772,'GR Platzierungsspiele VR'!$G$20:$G$25,0),2)","v":{"$error":"#N/A"}}]
[null,null,null,null,null,null,null,null,null,null,null,null,null,null,null,null,null,null,null,null,null,null,null,null,null,null,null,null,null,null,null,null,null,null,null,null,null,null,null,null,null,null,null,null,null,null,null,null,null,null,null,null,null,null,{"$f":"INDEX('GR Platzierungsspiele VR'!$G$20:$H$25,MATCH(BD773,'GR Platzierungsspiele VR'!$G$20:$G$25,0),2)","v":{"$error":"#N/A"}}]
[null,null,null,null,null,null,null,null,null,null,null,null,null,null,null,null,null,null,null,null,null,null,null,null,null,null,null,null,null,null,null,null,null,null,null,null,null,null,null,null,null,null,null,null,null,null,null,null,null,null,null,null,null,null,{"$f":"INDEX('GR Platzierungsspiele VR'!$G$20:$H$25,MATCH(BD774,'GR Platzierungsspiele VR'!$G$20:$G$25,0),2)","v":{"$error":"#N/A"}}]
[null,null,null,null,null,null,null,null,null,null,null,null,null,null,null,null,null,null,null,null,null,null,null,null,null,null,null,null,null,null,null,null,null,null,null,null,null,null,null,null,null,null,null,null,null,null,null,null,null,null,null,null,null,null,{"$f":"INDEX('GR Platzierungsspiele VR'!$G$20:$H$25,MATCH(BD775,'GR Platzierungsspiele VR'!$G$20:$G$25,0),2)","v":{"$error":"#N/A"}}]
[null,null,null,null,null,null,null,null,null,null,null,null,null,null,null,null,null,null,null,null,null,null,null,null,null,null,null,null,null,null,null,null,null,null,null,null,null,null,null,null,null,null,null,null,null,null,null,null,null,null,null,null,null,null,{"$f":"INDEX('GR Platzierungsspiele VR'!$G$20:$H$25,MATCH(BD776,'GR Platzierungsspiele VR'!$G$20:$G$25,0),2)","v":{"$error":"#N/A"}}]
[null,null,null,null,null,null,null,null,null,null,null,null,null,null,null,null,null,null,null,null,null,null,null,null,null,null,null,null,null,null,null,null,null,null,null,null,null,null,null,null,null,null,null,null,null,null,null,null,null,null,null,null,null,null,{"$f":"INDEX('GR Platzierungsspiele VR'!$G$20:$H$25,MATCH(BD777,'GR Platzierungsspiele VR'!$G$20:$G$25,0),2)","v":{"$error":"#N/A"}}]
[null,null,null,null,null,null,null,null,null,null,null,null,null,null,null,null,null,null,null,null,null,null,null,null,null,null,null,null,null,null,null,null,null,null,null,null,null,null,null,null,null,null,null,null,null,null,null,null,null,null,null,null,null,null,{"$f":"INDEX('GR Platzierungsspiele VR'!$G$20:$H$25,MATCH(BD778,'GR Platzierungsspiele VR'!$G$20:$G$25,0),2)","v":{"$error":"#N/A"}}]
[null,null,null,null,null,null,null,null,null,null,null,null,null,null,null,null,null,null,null,null,null,null,null,null,null,null,null,null,null,null,null,null,null,null,null,null,null,null,null,null,null,null,null,null,null,null,null,null,null,null,null,null,null,null,{"$f":"INDEX('GR Platzierungsspiele VR'!$G$20:$H$25,MATCH(BD779,'GR Platzierungsspiele VR'!$G$20:$G$25,0),2)","v":{"$error":"#N/A"}}]
[null,null,null,null,null,null,null,null,null,null,null,null,null,null,null,null,null,null,null,null,null,null,null,null,null,null,null,null,null,null,null,null,null,null,null,null,null,null,null,null,null,null,null,null,null,null,null,null,null,null,null,null,null,null,{"$f":"INDEX('GR Platzierungsspiele VR'!$G$20:$H$25,MATCH(BD780,'GR Platzierungsspiele VR'!$G$20:$G$25,0),2)","v":{"$error":"#N/A"}}]
[null,null,null,null,null,null,null,null,null,null,null,null,null,null,null,null,null,null,null,null,null,null,null,null,null,null,null,null,null,null,null,null,null,null,null,null,null,null,null,null,null,null,null,null,null,null,null,null,null,null,null,null,null,null,{"$f":"INDEX('GR Platzierungsspiele VR'!$G$20:$H$25,MATCH(BD781,'GR Platzierungsspiele VR'!$G$20:$G$25,0),2)","v":{"$error":"#N/A"}}]
[null,null,null,null,null,null,null,null,null,null,null,null,null,null,null,null,null,null,null,null,null,null,null,null,null,null,null,null,null,null,null,null,null,null,null,null,null,null,null,null,null,null,null,null,null,null,null,null,null,null,null,null,null,null,{"$f":"INDEX('GR Platzierungsspiele VR'!$G$20:$H$25,MATCH(BD782,'GR Platzierungsspiele VR'!$G$20:$G$25,0),2)","v":{"$error":"#N/A"}}]
[null,null,null,null,null,null,null,null,null,null,null,null,null,null,null,null,null,null,null,null,null,null,null,null,null,null,null,null,null,null,null,null,null,null,null,null,null,null,null,null,null,null,null,null,null,null,null,null,null,null,null,null,null,null,{"$f":"INDEX('GR Platzierungsspiele VR'!$G$20:$H$25,MATCH(BD783,'GR Platzierungsspiele VR'!$G$20:$G$25,0),2)","v":{"$error":"#N/A"}}]
[null,null,null,null,null,null,null,null,null,null,null,null,null,null,null,null,null,null,null,null,null,null,null,null,null,null,null,null,null,null,null,null,null,null,null,null,null,null,null,null,null,null,null,null,null,null,null,null,null,null,null,null,null,null,{"$f":"INDEX('GR Platzierungsspiele VR'!$G$20:$H$25,MATCH(BD784,'GR Platzierungsspiele VR'!$G$20:$G$25,0),2)","v":{"$error":"#N/A"}}]
[null,null,null,null,null,null,null,null,null,null,null,null,null,null,null,null,null,null,null,null,null,null,null,null,null,null,null,null,null,null,null,null,null,null,null,null,null,null,null,null,null,null,null,null,null,null,null,null,null,null,null,null,null,null,{"$f":"INDEX('GR Platzierungsspiele VR'!$G$20:$H$25,MATCH(BD785,'GR Platzierungsspiele VR'!$G$20:$G$25,0),2)","v":{"$error":"#N/A"}}]
[null,null,null,null,null,null,null,null,null,null,null,null,null,null,null,null,null,null,null,null,null,null,null,null,null,null,null,null,null,null,null,null,null,null,null,null,null,null,null,null,null,null,null,null,null,null,null,null,null,null,null,null,null,null,{"$f":"INDEX('GR Platzierungsspiele VR'!$G$20:$H$25,MATCH(BD786,'GR Platzierungsspiele VR'!$G$20:$G$25,0),2)","v":{"$error":"#N/A"}}]
[null,null,null,null,null,null,null,null,null,null,null,null,null,null,null,null,null,null,null,null,null,null,null,null,null,null,null,null,null,null,null,null,null,null,null,null,null,null,null,null,null,null,null,null,null,null,null,null,null,null,null,null,null,null,{"$f":"INDEX('GR Platzierungsspiele VR'!$G$20:$H$25,MATCH(BD787,'GR Platzierungsspiele VR'!$G$20:$G$25,0),2)","v":{"$error":"#N/A"}}]
[null,null,null,null,null,null,null,null,null,null,null,null,null,null,null,null,null,null,null,null,null,null,null,null,null,null,null,null,null,null,null,null,null,null,null,null,null,null,null,null,null,null,null,null,null,null,null,null,null,null,null,null,null,null,{"$f":"INDEX('GR Platzierungsspiele VR'!$G$20:$H$25,MATCH(BD788,'GR Platzierungsspiele VR'!$G$20:$G$25,0),2)","v":{"$error":"#N/A"}}]
[null,null,null,null,null,null,null,null,null,null,null,null,null,null,null,null,null,null,null,null,null,null,null,null,null,null,null,null,null,null,null,null,null,null,null,null,null,null,null,null,null,null,null,null,null,null,null,null,null,null,null,null,null,null,{"$f":"INDEX('GR Platzierungsspiele VR'!$G$20:$H$25,MATCH(BD789,'GR Platzierungsspiele VR'!$G$20:$G$25,0),2)","v":{"$error":"#N/A"}}]
[null,null,null,null,null,null,null,null,null,null,null,null,null,null,null,null,null,null,null,null,null,null,null,null,null,null,null,null,null,null,null,null,null,null,null,null,null,null,null,null,null,null,null,null,null,null,null,null,null,null,null,null,null,null,{"$f":"INDEX('GR Platzierungsspiele VR'!$G$20:$H$25,MATCH(BD790,'GR Platzierungsspiele VR'!$G$20:$G$25,0),2)","v":{"$error":"#N/A"}}]
[null,null,null,null,null,null,null,null,null,null,null,null,null,null,null,null,null,null,null,null,null,null,null,null,null,null,null,null,null,null,null,null,null,null,null,null,null,null,null,null,null,null,null,null,null,null,null,null,null,null,null,null,null,null,{"$f":"INDEX('GR Platzierungsspiele VR'!$G$20:$H$25,MATCH(BD791,'GR Platzierungsspiele VR'!$G$20:$G$25,0),2)","v":{"$error":"#N/A"}}]
[null,null,null,null,null,null,null,null,null,null,null,null,null,null,null,null,null,null,null,null,null,null,null,null,null,null,null,null,null,null,null,null,null,null,null,null,null,null,null,null,null,null,null,null,null,null,null,null,null,null,null,null,null,null,{"$f":"INDEX('GR Platzierungsspiele VR'!$G$20:$H$25,MATCH(BD792,'GR Platzierungsspiele VR'!$G$20:$G$25,0),2)","v":{"$error":"#N/A"}}]
[null,null,null,null,null,null,null,null,null,null,null,null,null,null,null,null,null,null,null,null,null,null,null,null,null,null,null,null,null,null,null,null,null,null,null,null,null,null,null,null,null,null,null,null,null,null,null,null,null,null,null,null,null,null,{"$f":"INDEX('GR Platzierungsspiele VR'!$G$20:$H$25,MATCH(BD793,'GR Platzierungsspiele VR'!$G$20:$G$25,0),2)","v":{"$error":"#N/A"}}]
[null,null,null,null,null,null,null,null,null,null,null,null,null,null,null,null,null,null,null,null,null,null,null,null,null,null,null,null,null,null,null,null,null,null,null,null,null,null,null,null,null,null,null,null,null,null,null,null,null,null,null,null,null,null,{"$f":"INDEX('GR Platzierungsspiele VR'!$G$20:$H$25,MATCH(BD794,'GR Platzierungsspiele VR'!$G$20:$G$25,0),2)","v":{"$error":"#N/A"}}]
[null,null,null,null,null,null,null,null,null,null,null,null,null,null,null,null,null,null,null,null,null,null,null,null,null,null,null,null,null,null,null,null,null,null,null,null,null,null,null,null,null,null,null,null,null,null,null,null,null,null,null,null,null,null,{"$f":"INDEX('GR Platzierungsspiele VR'!$G$20:$H$25,MATCH(BD795,'GR Platzierungsspiele VR'!$G$20:$G$25,0),2)","v":{"$error":"#N/A"}}]
[null,null,null,null,null,null,null,null,null,null,null,null,null,null,null,null,null,null,null,null,null,null,null,null,null,null,null,null,null,null,null,null,null,null,null,null,null,null,null,null,null,null,null,null,null,null,null,null,null,null,null,null,null,null,{"$f":"INDEX('GR Platzierungsspiele VR'!$G$20:$H$25,MATCH(BD796,'GR Platzierungsspiele VR'!$G$20:$G$25,0),2)","v":{"$error":"#N/A"}}]
[null,null,null,null,null,null,null,null,null,null,null,null,null,null,null,null,null,null,null,null,null,null,null,null,null,null,null,null,null,null,null,null,null,null,null,null,null,null,null,null,null,null,null,null,null,null,null,null,null,null,null,null,null,null,{"$f":"INDEX('GR Platzierungsspiele VR'!$G$20:$H$25,MATCH(BD797,'GR Platzierungsspiele VR'!$G$20:$G$25,0),2)","v":{"$error":"#N/A"}}]
[null,null,null,null,null,null,null,null,null,null,null,null,null,null,null,null,null,null,null,null,null,null,null,null,null,null,null,null,null,null,null,null,null,null,null,null,null,null,null,null,null,null,null,null,null,null,null,null,null,null,null,null,null,null,{"$f":"INDEX('GR Platzierungsspiele VR'!$G$20:$H$25,MATCH(BD798,'GR Platzierungsspiele VR'!$G$20:$G$25,0),2)","v":{"$error":"#N/A"}}]
[null,null,null,null,null,null,null,null,null,null,null,null,null,null,null,null,null,null,null,null,null,null,null,null,null,null,null,null,null,null,null,null,null,null,null,null,null,null,null,null,null,null,null,null,null,null,null,null,null,null,null,null,null,null,{"$f":"INDEX('GR Platzierungsspiele VR'!$G$20:$H$25,MATCH(BD799,'GR Platzierungsspiele VR'!$G$20:$G$25,0),2)","v":{"$error":"#N/A"}}]
[null,null,null,null,null,null,null,null,null,null,null,null,null,null,null,null,null,null,null,null,null,null,null,null,null,null,null,null,null,null,null,null,null,null,null,null,null,null,null,null,null,null,null,null,null,null,null,null,null,null,null,null,null,null,{"$f":"INDEX('GR Platzierungsspiele VR'!$G$20:$H$25,MATCH(BD800,'GR Platzierungsspiele VR'!$G$20:$G$25,0),2)","v":{"$error":"#N/A"}}]

{"sheet":"ZR Gruppeneinteilung","index":15,"n_rows":9,"n_cols":6,"rows_kept":9,"cut":false,"hidden":false,"merged":[[1,0,1,1],[1,4,1,5],[0,1,0,5]]}
[null,{"$f":"Vorgaben!B2","v":"17. E- Jugend- Turnier"}]
["ZR Gruppe A (1. und 2. Gruppe A, C und E)",null,null,null,"ZR Gruppe B (1. und 2.Gruppe B, D und F)"]
[1,{"$f":"'Gruppe A1'!K61","v":"Gruppe A7"},null,null,1,{"$f":"'Gruppe B1'!K61","v":"Gruppe B3"}]
[2,{"$f":"'Gruppe A1'!K62","v":"Gruppe A4"},null,null,2,{"$f":"'Gruppe B1'!K62","v":"Gruppe B1"}]
[3,{"$f":"'Gruppe C1'!K61","v":"Gruppe C5"},null,null,3,{"$f":"'Gruppe D1'!K61","v":"Gruppe D8"}]
[4,{"$f":"'Gruppe C1'!K62","v":"Gruppe C8"},null,null,4,{"$f":"'Gruppe D1'!K62","v":"Gruppe D7"}]
[5,{"$f":"'Gruppe E1'!K61","v":"Gruppe E2"},null,null,5,{"$f":"'Gruppe F1'!K61","v":"Gruppe F8"}]
[6,{"$f":"'Gruppe E1'!K62","v":"Gruppe E3"},null,null,6,{"$f":"'Gruppe F1'!K62","v":"Gruppe F5"}]
[null,{"$f":"IF(Sonntag!I32<3,\"\",Sonntag!BD29)","v":"Min. 3 Teams identisch.  HANDSORTIERUNG!"},null,null,null,{"$f":"IF(Sonntag!I132<3,\"\",Sonntag!BD129)","v":"ACHTUNG: Direkter Vergleich erfolgreich durchlaufen!"}]

{"sheet":"ZwRuA","index":16,"n_rows":37,"n_cols":18,"rows_kept":37,"cut":false,"hidden":false,"merged":[[37,2,37,7],[37,8,37,9],[37,10,37,11],[37,12,37,13],[35,2,35,7],[35,8,35,9],[35,10,35,11],[35,12,35,13],[36,2,36,7],[36,8,36,9],[36,10,36,11],[36,12,36,13],[33,2,33,7],[33,8,33,9],[33,10,33,11],[33,12,33,13],[34,2,34,7],[34,8,34,9],[34,10,34,11],[34,12,34,13],[30,14,30,16],[31,2,31,7],[31,8,31,9],[31,10,31,11],[31,12,31,13],[26,2,26,3],[26,4,26,8],[26,9,26,13],[32,2,32,7],[32,8,32,9],[32,10,32,11],[32,12,32,13],[27,2,27,3],[27,4,27,8],[27,9,27,13],[30,1,30,7],[30,8,30,9],[30,10,30,11],[30,12,30,13],[24,2,24,3],[24,4,24,8],[24,9,24,13],[25,2,25,3],[25,4,25,8],[25,9,25,13],[22,2,22,3],[22,4,22,8],[22,9,22,13],[23,2,23,3],[23,4,23,8],[23,9,23,13],[20,2,20,3],[20,4,20,8],[20,9,20,13],[21,2,21,3],[21,4,21,8],[21,9,21,13],[18,2,18,3],[18,4,18,8],[18,9,18,13],[19,2,19,3],[19,4,19,8],[19,9,19,13],[16,2,16,3],[16,4,16,8],[16,9,16,13],[17,2,17,3],[17,4,17,8],[17,9,17,13],[12,14,12,16],[13,2,13,3],[13,4,13,8],[13,9,13,13],[15,2,15,3],[15,4,15,8],[15,9,15,13],[14,2,14,3],[14,4,14,8],[14,9,14,13],[7,5,7,11],[8,5,8,11],[9,5,9,11],[10,5,10,11],[12,2,12,3],[12,4,12,8],[12,9,12,13],[6,5,6,11],[0,1,0,17],[1,1,1,17],[2,12,2,13],[4,4,4,11],[5,5,5,11]]}
[null,"Zwischenrunde"]
[null,"Gruppe A"]
[null,null,"Beginn:",null,{"$f":"Vorgaben!G4","v":"08:45:00"},"Uhr","Spielzeit:",null,{"$f":"Vorgaben!G5","v":1},"x",{"$f":"Vorgaben!G6","v":6.9444444444444441E-3},"min.","Pause:",null,{"$f":"Vorgaben!G7","v":6.9444444444444447E-4},"Min."]
[null,null,null,null,null,null,null,null,null,null,null,null,null,"Halbzeit:",{"$f":"IF(Vorgaben!G5>1,Vorgaben!G8,0)","v":0},"Min."]
[null,null,null,null,"Mannschaften:"]
[null,null,null,null,"1.",{"$f":"Sonntag!F6","v":"Gruppe A7"}]
[null,null,null,null,"2.",{"$f":"Sonntag!F7","v":"Gruppe A4"}]
[null,null,null,null,"3.",{"$f":"Sonntag!F8","v":"Gruppe C5"}]
[null,null,null,null,"4.",{"$f":"Sonntag!F9","v":"Gruppe C8"}]
[null,null,null,null,"5.",{"$f":"Sonntag!F10","v":"Gruppe E2"}]
[null,null,null,null,"6.",{"$f":"Sonntag!F11","v":"Gruppe E3"}]
[]
[null,"Nr.","Beginn",null,"Mannschaft1",null,null,null,null,"Mannschaft2",null,null,null,null,"Ergebnis",null,null,"Platz"]
[null,{"$f":"Sonntag!B14","v":1},{"$f":"Sonntag!C14","v":"08:45:00"},{"$f":"Platzzuordnung!C19","v":"ZwRu2"},{"$f":"Sonntag!E14","v":"Gruppe A7"},null,null,null,null,{"$f":"Sonntag!J14","v":"Gruppe A4"},null,null,null,null,2,":",2,{"$f":"Sonntag!R14","v":1}]
[null,{"$f":"Sonntag!B15","v":2},{"$f":"Sonntag!C15","v":"08:56:00"},{"$f":"Platzzuordnung!C20","v":"ZwRu2"},{"$f":"Sonntag!E15","v":"Gruppe C5"},null,null,null,null,{"$f":"Sonntag!J15","v":"Gruppe C8"},null,null,null,null,3,":",2,{"$f":"Sonntag!R15","v":1}]
[null,{"$f":"Sonntag!B16","v":3},{"$f":"Sonntag!C16","v":"09:07:00"},{"$f":"Platzzuordnung!C21","v":"ZwRu2"},{"$f":"Sonntag!E16","v":"Gruppe E2"},null,null,null,null,{"$f":"Sonntag!J16","v":"Gruppe E3"},null,null,null,null,2,":",2,{"$f":"Sonntag!R16","v":1}]
[null,{"$f":"Sonntag!B17","v":4},{"$f":"Sonntag!C17","v":"09:18:00"},{"$f":"Platzzuordnung!C22","v":"ZwRu2"},{"$f":"Sonntag!E17","v":"Gruppe A4"},null,null,null,null,{"$f":"Sonntag!J17","v":"Gruppe C5"},null,null,null,null,2,":",2,{"$f":"Sonntag!R17","v":1}]
[null,{"$f":"Sonntag!B18","v":5},{"$f":"Sonntag!C18","v":"09:29:00"},{"$f":"Platzzuordnung!C23","v":"ZwRu2"},{"$f":"Sonntag!E18","v":"Gruppe C8"},null,null,null,null,{"$f":"Sonntag!J18","v":"Gruppe E2"},null,null,null,null,2,":",2,{"$f":"Sonntag!R18","v":1}]
[null,{"$f":"Sonntag!B19","v":6},{"$f":"Sonntag!C19","v":"09:40:00"},{"$f":"Platzzuordnung!C24","v":"ZwRu2"},{"$f":"Sonntag!E19","v":"Gruppe A7"},null,null,null,null,{"$f":"Sonntag!J19","v":"Gruppe C5"},null,null,null,null,2,":",2,{"$f":"Sonntag!R19","v":1}]
[null,{"$f":"Sonntag!B20","v":7},{"$f":"Sonntag!C20","v":"09:51:00"},{"$f":"Platzzuordnung!C25","v":"ZwRu2"},{"$f":"Sonntag!E20","v":"Gruppe E2"},null,null,null,null,{"$f":"Sonntag!J20","v":"Gruppe A4"},null,null,null,null,2,":",2,{"$f":"Sonntag!R20","v":1}]
[null,{"$f":"Sonntag!B21","v":8},{"$f":"Sonntag!C21","v":"10:02:00"},{"$f":"Platzzuordnung!C26","v":"ZwRu2"},{"$f":"Sonntag!E21","v":"Gruppe E3"},null,null,null,null,{"$f":"Sonntag!J21","v":"Gruppe A7"},null,null,null,null,2,":",2,{"$f":"Sonntag!R21","v":1}]
[null,{"$f":"Sonntag!B22","v":9},{"$f":"Sonntag!C22","v":"10:13:00"},{"$f":"Platzzuordnung!C27","v":"ZwRu2"},{"$f":"Sonntag!E22","v":"Gruppe C5"},null,null,null,null,{"$f":"Sonntag!J22","v":"Gruppe E2"},null,null,null,null,2,":",2,{"$f":"Sonntag!R22","v":1}]
[null,{"$f":"Sonntag!B23","v":10},{"$f":"Sonntag!C23","v":"10:24:00"},{"$f":"Platzzuordnung!C28","v":"ZwRu2"},{"$f":"Sonntag!E23","v":"Gruppe C8"},null,null,null,null,{"$f":"Sonntag!J23","v":"Gruppe E3"},null,null,null,null,2,":",2,{"$f":"Sonntag!R23","v":1}]
[null,{"$f":"Sonntag!B24","v":11},{"$f":"Sonntag!C24","v":"10:35:00"},{"$f":"Platzzuordnung!C29","v":"ZwRu2"},{"$f":"Sonntag!E24","v":"Gruppe A7"},null,null,null,null,{"$f":"Sonntag!J24","v":"Gruppe E2"},null,null,null,null,2,":",2,{"$f":"Sonntag!R24","v":1}]
[null,{"$f":"Sonntag!B25","v":12},{"$f":"Sonntag!C25","v":"10:46:00"},{"$f":"Platzzuordnung!C30","v":"ZwRu2"},{"$f":"Sonntag!E25","v":"Gruppe E3"},null,null,null,null,{"$f":"Sonntag!J25","v":"Gruppe A4"},null,null,null,null,2,":",2,{"$f":"Sonntag!R25","v":1}]
[null,{"$f":"Sonntag!B26","v":13},{"$f":"Sonntag!C26","v":"10:57:00"},{"$f":"Platzzuordnung!C31","v":"ZwRu2"},{"$f":"Sonntag!E26","v":"Gruppe C8"},null,null,null,null,{"$f":"Sonntag!J26","v":"Gruppe A7"},null,null,null,null,2,":",2,{"$f":"Sonntag!R26","v":1}]
[null,{"$f":"Sonntag!B27","v":14},{"$f":"Sonntag!C27","v":"11:08:00"},{"$f":"Platzzuordnung!C32","v":"ZwRu2"},{"$f":"Sonntag!E27","v":"Gruppe C5"},null,null,null,null,{"$f":"Sonntag!J27","v":"Gruppe E3"},null,null,null,null,2,":",2,{"$f":"Sonntag!R27","v":1}]
[null,{"$f":"Sonntag!B28","v":15},{"$f":"Sonntag!C28","v":"11:19:00"},{"$f":"Platzzuordnung!C33","v":"ZwRu2"},{"$f":"Sonntag!E28","v":"Gruppe A4"},null,null,null,null,{"$f":"Sonntag!J28","v":"Gruppe C8"},null,null,null,null,3,":",3,{"$f":"Sonntag!R28","v":1}]
[]
[null,{"$f":"IF(ISBLANK(O27),\"\",Sonntag!BD29)","v":"Min. 3 Teams identisch.  HANDSORTIERUNG!"}]
[null,"Tabelle",null,null,null,null,null,null,"Spiele",null,"Punkte",null,"Differenz",null,"Tore"]
[null,1,{"$f":"Sonntag!C32","v":"Gruppe C5"},null,null,null,null,null,{"$f":"Sonntag!I32","v":5},null,{"$f":"Sonntag!K32","v":7},null,{"$f":"Sonntag!M32","v":1},null,{"$f":"Sonntag!O32","v":11},":",{"$f":"Sonntag!Q32","v":10}]
[null,2,{"$f":"Sonntag!C33","v":"Gruppe A4"},null,null,null,null,null,{"$f":"Sonntag!I33","v":5},null,{"$f":"Sonntag!K33","v":5},null,{"$f":"Sonntag!M33","v":0},null,{"$f":"Sonntag!O33","v":11},":",{"$f":"Sonntag!Q33","v":11}]
[null,3,{"$f":"Sonntag!C34","v":"Gruppe A7"},null,null,null,null,null,{"$f":"Sonntag!I34","v":5},null,{"$f":"Sonntag!K34","v":5},null,{"$f":"Sonntag!M34","v":0},null,{"$f":"Sonntag!O34","v":10},":",{"$f":"Sonntag!Q34","v":10}]
[null,4,{"$f":"Sonntag!C35","v":"Gruppe E2"},null,null,null,null,null,{"$f":"Sonntag!I35","v":5},null,{"$f":"Sonntag!K35","v":5},null,{"$f":"Sonntag!M35","v":0},null,{"$f":"Sonntag!O35","v":10},":",{"$f":"Sonntag!Q35","v":10}]
[null,5,{"$f":"Sonntag!C36","v":"Gruppe E3"},null,null,null,null,null,{"$f":"Sonntag!I36","v":5},null,{"$f":"Sonntag!K36","v":5},null,{"$f":"Sonntag!M36","v":0},null,{"$f":"Sonntag!O36","v":10},":",{"$f":"Sonntag!Q36","v":10}]
[null,6,{"$f":"Sonntag!C37","v":"Gruppe C8"},null,null,null,null,null,{"$f":"Sonntag!I37","v":5},null,{"$f":"Sonntag!K37","v":4},null,{"$f":"Sonntag!M37","v":-1},null,{"$f":"Sonntag!O37","v":11},":",{"$f":"Sonntag!Q37","v":12}]

{"sheet":"ZwRuB","index":17,"n_rows":37,"n_cols":18,"rows_kept":37,"cut":false,"hidden":false,"merged":[[7,5,7,11],[0,1,0,17],[1,1,1,17],[2,12,2,13],[5,5,5,11],[6,5,6,11],[4,4,4,11],[8,5,8,11],[9,5,9,11],[10,5,10,11],[12,2,12,3],[12,4,12,8],[12,9,12,13],[12,14,12,16],[13,2,13,3],[13,4,13,8],[13,9,13,13],[14,2,14,3],[14,4,14,8],[14,9,14,13],[15,2,15,3],[15,4,15,8],[15,9,15,13],[16,2,16,3],[16,4,16,8],[16,9,16,13],[17,2,17,3],[17,4,17,8],[17,9,17,13],[18,2,18,3],[18,4,18,8],[18,9,18,13],[19,2,19,3],[19,4,19,8],[19,9,19,13],[20,2,20,3],[20,4,20,8],[20,9,20,13],[21,2,21,3],[21,4,21,8],[21,9,21,13],[22,2,22,3],[22,4,22,8],[22,9,22,13],[23,2,23,3],[23,4,23,8],[23,9,23,13],[24,2,24,3],[24,4,24,8],[24,9,24,13],[25,2,25,3],[25,4,25,8],[25,9,25,13],[26,2,26,3],[26,4,26,8],[26,9,26,13],[32,2,32,7],[32,8,32,9],[32,10,32,11],[32,12,32,13],[27,2,27,3],[27,4,27,8],[27,9,27,13],[30,1,30,7],[30,8,30,9],[30,10,30,11],[30,12,30,13],[30,14,30,16],[31,2,31,7],[31,8,31,9],[31,10,31,11],[31,12,31,13],[33,2,33,7],[33,8,33,9],[33,10,33,11],[33,12,33,13],[34,2,34,7],[34,8,34,9],[34,10,34,11],[34,12,34,13],[37,2,37,7],[37,8,37,9],[37,10,37,11],[37,12,37,13],[35,2,35,7],[35,8,35,9],[35,10,35,11],[35,12,35,13],[36,2,36,7],[36,8,36,9],[36,10,36,11],[36,12,36,13]]}
[null,"Zwischenrunde"]
[null,"Gruppe B"]
[null,null,"Beginn:",null,{"$f":"Vorgaben!G4","v":"08:45:00"},"Uhr","Spielzeit:",null,{"$f":"Vorgaben!G5","v":1},"x",{"$f":"Vorgaben!G6","v":6.9444444444444441E-3},"min.","Pause:",null,{"$f":"Vorgaben!G7","v":6.9444444444444447E-4},"Min."]
[null,null,null,null,null,null,null,null,null,null,null,null,null,"Halbzeit:",{"$f":"IF(Vorgaben!G5>1,Vorgaben!G8,0)","v":0},"Min."]
[null,null,null,null,"Mannschaften:"]
[null,null,null,null,"1.",{"$f":"Sonntag!F106","v":"Gruppe B3"}]
[null,null,null,null,"2.",{"$f":"Sonntag!F107","v":"Gruppe B1"}]
[null,null,null,null,"3.",{"$f":"Sonntag!F108","v":"Gruppe D8"}]
[null,null,null,null,"4.",{"$f":"Sonntag!F109","v":"Gruppe D7"}]
[null,null,null,null,"5.",{"$f":"Sonntag!F110","v":"Gruppe F8"}]
[null,null,null,null,"6.",{"$f":"Sonntag!F111","v":"Gruppe F5"}]
[]
[null,"Nr.","Beginn",null,"Mannschaft1",null,null,null,null,"Mannschaft2",null,null,null,null,"Ergebnis",null,null,"Platz"]
[null,{"$f":"Sonntag!B114","v":16},{"$f":"Sonntag!C114","v":"08:45:00"},{"$f":"Platzzuordnung!C19","v":"ZwRu2"},{"$f":"Sonntag!E114","v":"Gruppe B3"},null,null,null,null,{"$f":"Sonntag!J114","v":"Gruppe B1"},null,null,null,null,1,":",0,{"$f":"Sonntag!R114","v":2}]
[null,{"$f":"Sonntag!B115","v":17},{"$f":"Sonntag!C115","v":"08:56:00"},{"$f":"Platzzuordnung!C20","v":"ZwRu2"},{"$f":"Sonntag!E115","v":"Gruppe D8"},null,null,null,null,{"$f":"Sonntag!J115","v":"Gruppe D7"},null,null,null,null,1,":",1,{"$f":"Sonntag!R115","v":2}]
[null,{"$f":"Sonntag!B116","v":18},{"$f":"Sonntag!C116","v":"09:07:00"},{"$f":"Platzzuordnung!C21","v":"ZwRu2"},{"$f":"Sonntag!E116","v":"Gruppe F8"},null,null,null,null,{"$f":"Sonntag!J116","v":"Gruppe F5"},null,null,null,null,2,":",2,{"$f":"Sonntag!R116","v":2}]
[null,{"$f":"Sonntag!B117","v":19},{"$f":"Sonntag!C117","v":"09:18:00"},{"$f":"Platzzuordnung!C22","v":"ZwRu2"},{"$f":"Sonntag!E117","v":"Gruppe B1"},null,null,null,null,{"$f":"Sonntag!J117","v":"Gruppe D8"},null,null,null,null,2,":",0,{"$f":"Sonntag!R117","v":2}]
[null,{"$f":"Sonntag!B118","v":20},{"$f":"Sonntag!C118","v":"09:29:00"},{"$f":"Platzzuordnung!C23","v":"ZwRu2"},{"$f":"Sonntag!E118","v":"Gruppe D7"},null,null,null,null,{"$f":"Sonntag!J118","v":"Gruppe F8"},null,null,null,null,1,":",1,{"$f":"Sonntag!R118","v":2}]
[null,{"$f":"Sonntag!B119","v":21},{"$f":"Sonntag!C119","v":"09:40:00"},{"$f":"Platzzuordnung!C24","v":"ZwRu2"},{"$f":"Sonntag!E119","v":"Gruppe B3"},null,null,null,null,{"$f":"Sonntag!J119","v":"Gruppe D8"},null,null,null,null,4,":",0,{"$f":"Sonntag!R119","v":2}]
[null,{"$f":"Sonntag!B120","v":22},{"$f":"Sonntag!C120","v":"09:51:00"},{"$f":"Platzzuordnung!C25","v":"ZwRu2"},{"$f":"Sonntag!E120","v":"Gruppe F8"},null,null,null,null,{"$f":"Sonntag!J120","v":"Gruppe B1"},null,null,null,null,1,":",1,{"$f":"Sonntag!R120","v":2}]
[null,{"$f":"Sonntag!B121","v":23},{"$f":"Sonntag!C121","v":"10:02:00"},{"$f":"Platzzuordnung!C26","v":"ZwRu2"},{"$f":"Sonntag!E121","v":"Gruppe F5"},null,null,null,null,{"$f":"Sonntag!J121","v":"Gruppe B3"},null,null,null,null,1,":",1,{"$f":"Sonntag!R121","v":2}]
[null,{"$f":"Sonntag!B122","v":24},{"$f":"Sonntag!C122","v":"10:13:00"},{"$f":"Platzzuordnung!C27","v":"ZwRu2"},{"$f":"Sonntag!E122","v":"Gruppe D8"},null,null,null,null,{"$f":"Sonntag!J122","v":"Gruppe F8"},null,null,null,null,1,":",1,{"$f":"Sonntag!R122","v":2}]
[null,{"$f":"Sonntag!B123","v":25},{"$f":"Sonntag!C123","v":"10:24:00"},{"$f":"Platzzuordnung!C28","v":"ZwRu2"},{"$f":"Sonntag!E123","v":"Gruppe D7"},null,null,null,null,{"$f":"Sonntag!J123","v":"Gruppe F5"},null,null,null,null,1,":",0,{"$f":"Sonntag!R123","v":2}]
[null,{"$f":"Sonntag!B124","v":26},{"$f":"Sonntag!C124","v":"10:35:00"},{"$f":"Platzzuordnung!C29","v":"ZwRu2"},{"$f":"Sonntag!E124","v":"Gruppe B3"},null,null,null,null,{"$f":"Sonntag!J124","v":"Gruppe F8"},null,null,null,null,0,":",1,{"$f":"Sonntag!R124","v":2}]
[null,{"$f":"Sonntag!B125","v":27},{"$f":"Sonntag!C125","v":"10:46:00"},{"$f":"Platzzuordnung!C30","v":"ZwRu2"},{"$f":"Sonntag!E125","v":"Gruppe F5"},null,null,null,null,{"$f":"Sonntag!J125","v":"Gruppe B1"},null,null,null,null,1,":",1,{"$f":"Sonntag!R125","v":2}]
[null,{"$f":"Sonntag!B126","v":28},{"$f":"Sonntag!C126","v":"10:57:00"},{"$f":"Platzzuordnung!C31","v":"ZwRu2"},{"$f":"Sonntag!E126","v":"Gruppe D7"},null,null,null,null,{"$f":"Sonntag!J126","v":"Gruppe B3"},null,null,null,null,3,":",0,{"$f":"Sonntag!R126","v":2}]
[null,{"$f":"Sonntag!B127","v":29},{"$f":"Sonntag!C127","v":"11:08:00"},{"$f":"Platzzuordnung!C32","v":"ZwRu2"},{"$f":"Sonntag!E127","v":"Gruppe D8"},null,null,null,null,{"$f":"Sonntag!J127","v":"Gruppe F5"},null,null,null,null,1,":",1,{"$f":"Sonntag!R127","v":2}]
[null,{"$f":"Sonntag!B128","v":30},{"$f":"Sonntag!C128","v":"11:19:00"},{"$f":"Platzzuordnung!C33","v":"ZwRu2"},{"$f":"Sonntag!E128","v":"Gruppe B1"},null,null,null,null,{"$f":"Sonntag!J128","v":"Gruppe D7"},null,null,null,null,1,":",1,{"$f":"Sonntag!R128","v":2}]
[]
[null,{"$f":"IF(ISBLANK(O27),\"\",Sonntag!BD129)","v":"ACHTUNG: Direkter Vergleich erfolgreich durchlaufen!"}]
[null,"Tabelle",null,null,null,null,null,null,"Spiele",null,"Punkte",null,"Differenz",null,"Tore"]
[null,1,{"$f":"Sonntag!C132","v":"Gruppe D7"},null,null,null,null,null,{"$f":"Sonntag!I132","v":5},null,{"$f":"Sonntag!K132","v":9},null,{"$f":"Sonntag!M132","v":4},null,{"$f":"Sonntag!O132","v":7},":",{"$f":"Sonntag!Q132","v":3}]
[null,2,{"$f":"Sonntag!C133","v":"Gruppe F8"},null,null,null,null,null,{"$f":"Sonntag!I133","v":5},null,{"$f":"Sonntag!K133","v":7},null,{"$f":"Sonntag!M133","v":1},null,{"$f":"Sonntag!O133","v":6},":",{"$f":"Sonntag!Q133","v":5}]
[null,3,{"$f":"Sonntag!C134","v":"Gruppe B3"},null,null,null,null,null,{"$f":"Sonntag!I134","v":5},null,{"$f":"Sonntag!K134","v":7},null,{"$f":"Sonntag!M134","v":1},null,{"$f":"Sonntag!O134","v":6},":",{"$f":"Sonntag!Q134","v":5}]
[null,4,{"$f":"Sonntag!C135","v":"Gruppe B1"},null,null,null,null,null,{"$f":"Sonntag!I135","v":5},null,{"$f":"Sonntag!K135","v":6},null,{"$f":"Sonntag!M135","v":1},null,{"$f":"Sonntag!O135","v":5},":",{"$f":"Sonntag!Q135","v":4}]
[null,5,{"$f":"Sonntag!C136","v":"Gruppe F5"},null,null,null,null,null,{"$f":"Sonntag!I136","v":5},null,{"$f":"Sonntag!K136","v":4},null,{"$f":"Sonntag!M136","v":-1},null,{"$f":"Sonntag!O136","v":5},":",{"$f":"Sonntag!Q136","v":6}]
[null,6,{"$f":"Sonntag!C137","v":"Gruppe D8"},null,null,null,null,null,{"$f":"Sonntag!I137","v":5},null,{"$f":"Sonntag!K137","v":3},null,{"$f":"Sonntag!M137","v":-6},null,{"$f":"Sonntag!O137","v":3},":",{"$f":"Sonntag!Q137","v":9}]

{"sheet":"Halbfinale","index":18,"n_rows":63,"n_cols":15,"rows_kept":63,"cut":false,"hidden":false,"merged":[[18,1,19,1],[18,2,19,2],[18,3,19,3],[21,4,21,6],[22,1,23,1],[22,2,23,2],[22,3,23,3],[17,4,17,6],[13,4,13,6],[14,1,15,1],[14,2,15,2],[14,3,15,3],[0,4,0,7],[9,4,9,6],[10,1,11,1],[10,2,11,2],[10,3,11,3],[6,1,7,1],[6,2,7,2],[6,3,7,3],[1,4,1,6],[2,1,3,1],[2,2,3,2],[2,3,3,3],[5,4,5,6]]}
[null,null,null,null,{"$f":"Vorgaben!B2","v":"17. E- Jugend- Turnier"}]
[null,"Nr.","Platz ","Beginn","6.  Zwichenrunde Gruppe A + 5. Zwischenrunde Gruppe B",null,null,null,"Ergebnis"]
[null,121,{"$f":"Platzzuordnung!$B$129","v":2},{"$f":"Platzzuordnung!$D$124","v":"12:26:00"},{"$f":"ZwRuA!$C$37","v":"Gruppe C8"},null,{"$f":"ZwRuB!$C$36","v":"Gruppe F5"},null,":"]
[null,null,null,null,"6. ZR Gruppe A",null,"5. ZR Gruppe B"]
[]
[null,"Nr.","Platz ","Beginn","5.  Zwichenrunde Gruppe A + 6. Zwischenrunde Gruppe B",null,null,null,"Ergebnis"]
[null,122,{"$f":"Platzzuordnung!$B$128","v":1},{"$f":"Platzzuordnung!$D$125","v":"12:26:00"},{"$f":"ZwRuA!C$36","v":"Gruppe E3"},null,{"$f":"ZwRuB!$C$37","v":"Gruppe D8"},null,":"]
[null,null,null,null,"5.ZR Gruppe A",null,"6. ZR Gruppe B"]
[]
[null,"Nr.","Platz ","Beginn","4.  Zwichenrunde Gruppe A + 3. Zwischenrunde Gruppe B",null,null,null,"Ergebnis"]
[null,123,{"$f":"Platzzuordnung!$B$127","v":2},{"$f":"Platzzuordnung!$D$126","v":"12:37:00"},{"$f":"ZwRuA!$C$35","v":"Gruppe E2"},null,{"$f":"ZwRuB!$C$34","v":"Gruppe B3"},null,":"]
[null,null,null,null,"4.ZR Gruppe A",null,"3. ZR Gruppe B"]
[]
[null,"Nr.","Platz ","Beginn","3.  Zwichenrunde Gruppe A + 4. Zwischenrunde Gruppe B",null,null,null,"Ergebnis"]
[null,124,{"$f":"Platzzuordnung!$B$126","v":1},{"$f":"Platzzuordnung!$D$127","v":"12:37:00"},{"$f":"ZwRuA!$C$34","v":"Gruppe A7"},null,{"$f":"ZwRuB!$C$35","v":"Gruppe B1"},null,":"]
[null,null,null,null,"3.ZR Gruppe A",null,"4. ZR Gruppe B"]
[]
[null,"Nr.","Platz ","Beginn","2.  Zwichenrunde Gruppe A + 1. Zwischenrunde Gruppe B",null,null,null,"Ergebnis"]
[null,125,{"$f":"Platzzuordnung!$B$125","v":2},{"$f":"Platzzuordnung!$D$128","v":"12:48:00"},{"$f":"ZwRuA!$C$33","v":"Gruppe A4"},null,{"$f":"ZwRuB!$C$32","v":"Gruppe D7"},null,":"]
[null,null,null,null,"2.ZR Gruppe A",null,"1. ZR Gruppe B"]
[]
[null,"Nr.","Platz ","Beginn","1.  Zwichenrunde Gruppe A + 2. Zwischenrunde Gruppe B",null,null,null,"Ergebnis"]
[null,126,{"$f":"Platzzuordnung!$B$124","v":1},{"$f":"Platzzuordnung!$D$129","v":"12:48:00"},{"$f":"ZwRuA!$C$32","v":"Gruppe C5"},null,{"$f":"ZwRuB!$C$33","v":"Gruppe F8"},null,":",null,null,null,"Punkte","Differenz","Geschossene Tore"]
[null,null,null,null,"1.ZR Gruppe A",null,"2. ZR Gruppe B"]
[]
[null,null,null,null,null,null,null,null,null,null,null,{"$f":"#REF!","v":{"$error":"#REF!"}},{"$f":"#REF!","v":{"$error":"#REF!"}},8,{"$f":"#REF!","v":{"$error":"#REF!"}}]
[]
[]
[]
[]
[]
[]
[]
[]
[]
[]
[]
[]
[]
[null,null,null,null,"Platzierungen Endrunde",null,null,null,null,null,null,{"$f":"#REF!","v":{"$error":"#REF!"}},{"$f":"#REF!","v":{"$error":"#REF!"}},{"$f":"#REF!","v":{"$error":"#REF!"}},{"$f":"#REF!","v":{"$error":"#REF!"}}]
[null,null,null,1,{"$f":"IF(ISBLANK($J$23),\" \",IF($H$23>$J$23,$E$23,IF($J$23>$H$23,$G$23)))","v":" "},null,null,null,null,null,null,{"$f":"#REF!","v":{"$error":"#REF!"}},{"$f":"#REF!","v":{"$error":"#REF!"}},{"$f":"#REF!","v":{"$error":"#REF!"}},{"$f":"#REF!","v":{"$error":"#REF!"}}]
[null,null,null,2,{"$f":"IF(ISBLANK($J$23),\" \",IF($H$23<$J$23,$E$23,IF($J$23<$H$23,$G$23)))","v":" "}]
[null,null,null,3,{"$f":"IF(ISBLANK($J$19),\" \",IF($H$19>$J$19,$E$19,IF($J$19>$H$19,$G$19)))","v":" "}]
[null,null,null,4,{"$f":"IF(ISBLANK($J$19),\" \",IF($H$19<$J$19,$E$19,IF($J$19<$H$19,$G$19)))","v":" "}]
[null,null,null,5,{"$f":"IF(ISBLANK($J$15),\" \",IF($H$15>$J$15,$E$15,IF($J$15>$H$15,$G$15)))","v":" "}]
[null,null,null,6,{"$f":"IF(ISBLANK($J$15),\" \",IF($H$15<$J$15,$E$15,IF($J$15<$H$15,$G$15)))","v":" "}]
[null,null,null,7,{"$f":"IF(ISBLANK($J$11),\" \",IF($H$11>$J$11,$E$11,IF($J$11>$H$11,$G$11)))","v":" "}]
[null,null,null,8,{"$f":"IF(ISBLANK($J$11),\" \",IF($H$11<$J$11,$E$11,IF($J$11<$H$11,$G$11)))","v":" "}]
[null,null,null,9,{"$f":"IF(ISBLANK($J$7),\" \",IF($H$7>$J$7,$E$7,IF($J$7>$H$7,$G$7)))","v":" "}]
[null,null,null,10,{"$f":"IF(ISBLANK($J$7),\" \",IF($H$7<$J$7,$E$7,IF($J$7<$H$7,$G$7)))","v":" "}]
[null,null,null,11,{"$f":"IF(ISBLANK($J$3),\" \",IF($H$3>$J$3,$E$3,IF($J$3>$H$3,$G$3)))","v":" "}]
[null,null,null,12,{"$f":"IF(ISBLANK($J$3),\" \",IF($H$3<$J$3,$E$3,IF($J$3<$H$3,$G$3)))","v":" "}]
[]
[]
[]
[]
[null,null,null,null,null,null,{"$f":"IF(AND(EXACT(#REF!,#REF!),EXACT(#REF!,#REF!),EXACT(#REF!,#REF!)),\"ACHTUNG GLEICHHEIT in Tabellen\",IF(AND(EXACT(#REF!,#REF!),EXACT(#REF!,#REF!),EXACT(#REF!,#REF!)),\"ACHTUNG GLEICHHEIT in Tabellen\",IF(AND(EXACT(#REF!,M26),EXACT(#REF!,N26),EXACT(#REF!,O26)),\"ACHTUNG GLEICHHEIT in Tabellen\",IF(AND(EXACT(#REF!,M40),EXACT(#REF!,N40),EXACT(#REF!,O40)),\"ACHTUNG GLEICHHEIT in Tabellen\",IF(AND(EXACT(#REF!,#REF!),EXACT(#REF!,#REF!),EXACT(#REF!,#REF!)),\"ACHTUNG GLEICHHEIT in Tabellen\",IF(AND(EXACT(#REF!,#REF!),EXACT(#REF!,#REF!),EXACT(#REF!,#REF!)),\"ACHTUNG GLEICHHEIT in Tabellen\",IF(AND(EXACT(#REF!,M41),EXACT(#REF!,N41),EXACT(#REF!,O41)),\"ACHTUNG GLEICHHEIT in Tabellen\",\"\")))))))","v":{"$error":"#REF!"}}]
[null,null,null,null,null,null,{"$f":"IF(AND(EXACT(#REF!,#REF!),EXACT(#REF!,#REF!),EXACT(#REF!,#REF!)),\"ACHTUNG GLEICHHEIT in Tabellen\",IF(AND(EXACT(#REF!,M26),EXACT(#REF!,N26),EXACT(#REF!,O26)),\"ACHTUNG GLEICHHEIT in Tabellen\",IF(AND(EXACT(#REF!,M40),EXACT(#REF!,N40),EXACT(#REF!,O40)),\"ACHTUNG GLEICHHEIT in Tabellen\",IF(AND(EXACT(#REF!,#REF!),EXACT(#REF!,#REF!),EXACT(#REF!,#REF!)),\"ACHTUNG GLEICHHEIT in Tabellen\",IF(AND(EXACT(#REF!,#REF!),EXACT(#REF!,#REF!),EXACT(#REF!,#REF!)),\"ACHTUNG GLEICHHEIT in Tabellen\",IF(AND(EXACT(#REF!,M41),EXACT(#REF!,N41),EXACT(#REF!,O41)),\"ACHTUNG GLEICHHEIT in Tabellen\",\"\"))))))","v":{"$error":"#REF!"}}]
[null,null,null,null,null,null,{"$f":"IF(AND(EXACT(#REF!,M26),EXACT(#REF!,N26),EXACT(#REF!,O26)),\"ACHTUNG GLEICHHEIT in Tabellen\",IF(AND(EXACT(#REF!,M40),EXACT(#REF!,N40),EXACT(#REF!,O40)),\"ACHTUNG GLEICHHEIT in Tabellen\",IF(AND(EXACT(#REF!,#REF!),EXACT(#REF!,#REF!),EXACT(#REF!,#REF!)),\"ACHTUNG GLEICHHEIT in Tabellen\",IF(AND(EXACT(#REF!,#REF!),EXACT(#REF!,#REF!),EXACT(#REF!,#REF!)),\"ACHTUNG GLEICHHEIT in Tabellen\",IF(AND(EXACT(#REF!,M41),EXACT(#REF!,N41),EXACT(#REF!,O41)),\"ACHTUNG GLEICHHEIT in Tabellen\",\"\")))))","v":{"$error":"#REF!"}}]
[null,null,null,null,null,null,{"$f":"IF(AND(EXACT(M26,M40),EXACT(N26,N40),EXACT(O26,O40)),\"ACHTUNG GLEICHHEIT in Tabellen\",IF(AND(EXACT(M26,#REF!),EXACT(N26,#REF!),EXACT(O26,#REF!)),\"ACHTUNG GLEICHHEIT in Tabellen\",IF(AND(EXACT(M26,#REF!),EXACT(N26,#REF!),EXACT(O26,#REF!)),\"ACHTUNG GLEICHHEIT in Tabellen\",IF(AND(EXACT(M26,M41),EXACT(N26,N41),EXACT(O26,O41)),\"ACHTUNG GLEICHHEIT in Tabellen\",\"\"))))","v":{"$error":"#REF!"}}]
[null,null,null,null,null,null,{"$f":"IF(AND(EXACT(M40,#REF!),EXACT(N40,#REF!),EXACT(O40,#REF!)),\"ACHTUNG GLEICHHEIT in Tabellen\",IF(AND(EXACT(M40,#REF!),EXACT(N40,#REF!),EXACT(O40,#REF!)),\"ACHTUNG GLEICHHEIT in Tabellen\",IF(AND(EXACT(M40,M41),EXACT(N40,N41),EXACT(O40,O41)),\"ACHTUNG GLEICHHEIT in Tabellen\",\"\")))","v":{"$error":"#REF!"}}]
[null,null,null,null,null,null,{"$f":"IF(AND(EXACT(#REF!,#REF!),EXACT(#REF!,#REF!),EXACT(#REF!,#REF!)),\"ACHTUNG GLEICHHEIT in Tabellen\",IF(AND(EXACT(#REF!,M41),EXACT(#REF!,N41),EXACT(#REF!,O41)),\"ACHTUNG GLEICHHEIT in Tabellen\",\"\"))","v":{"$error":"#REF!"}}]
[null,null,null,null,null,null,{"$f":"IF(AND(EXACT(#REF!,M41),EXACT(#REF!,N41),EXACT(#REF!,O41)),\"ACHTUNG GLEICHHEIT in Tabellen\",\"\")","v":{"$error":"#REF!"}}]

{"sheet":"Endrunde","index":19,"n_rows":63,"n_cols":15,"rows_kept":63,"cut":false,"hidden":false,"merged":[[21,4,21,6],[22,1,23,1],[22,2,23,2],[22,3,23,3],[1,4,1,6],[2,1,3,1],[2,2,3,2],[2,3,3,3],[17,4,17,6],[13,4,13,6],[18,1,19,1],[18,2,19,2],[18,3,19,3],[14,1,15,1],[14,2,15,2],[14,3,15,3],[0,4,0,7],[10,3,11,3],[5,4,5,6],[6,1,7,1],[6,2,7,2],[6,3,7,3],[9,4,9,6],[10,1,11,1],[10,2,11,2]]}
[null,null,null,null,{"$f":"Vorgaben!B2","v":"17. E- Jugend- Turnier"}]
[null,"Nr.","Platz ","Beginn","Spiel um Platz 11 und 12",null,null,null,"Ergebnis"]
[null,127,{"$f":"Platzzuordnung!B$130","v":1},{"$f":"Platzzuordnung!D$130","v":"13:32:00"},{"$f":"Halbfinale!E52","v":" "},null,{"$f":"Halbfinale!E50","v":" "},null,":"]
[null,null,null,null,"Verlierer Spiel 111",null,"Verlierer Spiel 110"]
[]
[null,"Nr.","Platz ","Beginn","Spiel um Platz 9 und 10",null,null,null,"Ergebnis"]
[null,128,{"$f":"Platzzuordnung!B$131","v":2},{"$f":"Platzzuordnung!D$131","v":"13:32:00"},{"$f":"Halbfinale!E51","v":" "},null,{"$f":"Halbfinale!E49","v":" "},null,":"]
[null,null,null,null,"Sieger Spiel 111",null,"Sieger Spiel 110"]
[]
[null,"Nr.","Platz ","Beginn","Spiel um Platz 7 und 8",null,null,null,"Ergebnis"]
[null,129,{"$f":"Platzzuordnung!$B$132","v":3},{"$f":"Platzzuordnung!$D$132","v":"13:32:00"},{"$f":"Halbfinale!E48","v":" "},null,{"$f":"Halbfinale!E46","v":" "},null,":"]
[null,null,null,null,"Verlierer Spiel 109",null,"Verlierer Spiel 108"]
[]
[null,"Nr.","Platz ","Beginn","Spiel um Platz 5 und 6",null,null,null,"Ergebnis"]
[null,130,{"$f":"Platzzuordnung!$B$133","v":4},{"$f":"Platzzuordnung!$D$133","v":"13:32:00"},{"$f":"Halbfinale!E47","v":" "},null,{"$f":"Halbfinale!E45","v":" "},null,":"]
[null,null,null,null,"Sieger Spiel 109",null,"Sieger Spiel 108"]
[]
[null,"Nr.","Platz ","Beginn","Spiel um Platz 3 und 4",null,null,null,"Ergebnis"]
[null,131,{"$f":"Platzzuordnung!$B$135","v":1},{"$f":"Platzzuordnung!$D$134","v":"13:43:00"},{"$f":"Halbfinale!E44","v":" "},null,{"$f":"Halbfinale!E42","v":" "},null,":",null,"1*12min"]
[null,null,null,null,"Verlierer Spiel 107",null,"Verlierer Spiel 106"]
[null,1]
[null,"Nr.","Platz ","Beginn","Endspiel",null,null,null,"Ergebnis"]
[null,132,{"$f":"Platzzuordnung!$B$135","v":1},{"$f":"Platzzuordnung!$D$135","v":"14:05:00"},{"$f":"Halbfinale!E43","v":" "},null,{"$f":"Halbfinale!E41","v":" "},null,":",null,"2*10min ",null,"Punkte","Differenz","Geschossene Tore"]
[null,null,null,null,"Sieger Spiel 107",null,"Sieger Spiel 106",null,null,null,"3min Pause"]
[]
[null,null,null,null,null,null,null,null,null,null,null,{"$f":"#REF!","v":{"$error":"#REF!"}},{"$f":"#REF!","v":{"$error":"#REF!"}},8,{"$f":"#REF!","v":{"$error":"#REF!"}}]
[]
[]
[]
[]
[]
[]
[]
[]
[]
[]
[]
[]
[]
[null,null,null,null,"Platzierungen Endrunde",null,null,null,null,null,null,{"$f":"#REF!","v":{"$error":"#REF!"}},{"$f":"#REF!","v":{"$error":"#REF!"}},{"$f":"#REF!","v":{"$error":"#REF!"}},{"$f":"#REF!","v":{"$error":"#REF!"}}]
[null,null,null,1,{"$f":"IF(ISBLANK($J$23),\" \",IF($H$23>$J$23,$E$23,IF($J$23>$H$23,$G$23)))","v":" "},null,null,null,null,null,null,{"$f":"#REF!","v":{"$error":"#REF!"}},{"$f":"#REF!","v":{"$error":"#REF!"}},{"$f":"#REF!","v":{"$error":"#REF!"}},{"$f":"#REF!","v":{"$error":"#REF!"}}]
[null,null,null,2,{"$f":"IF(ISBLANK($J$23),\" \",IF($H$23<$J$23,$E$23,IF($J$23<$H$23,$G$23)))","v":" "}]
[null,null,null,3,{"$f":"IF(ISBLANK($J$19),\" \",IF($H$19>$J$19,$E$19,IF($J$19>$H$19,$G$19)))","v":" "}]
[null,null,null,4,{"$f":"IF(ISBLANK($J$19),\" \",IF($H$19<$J$19,$E$19,IF($J$19<$H$19,$G$19)))","v":" "}]
[null,null,null,5,{"$f":"IF(ISBLANK($J$15),\" \",IF($H$15>$J$15,$E$15,IF($J$15>$H$15,$G$15)))","v":" "}]
[null,null,null,6,{"$f":"IF(ISBLANK($J$15),\" \",IF($H$15<$J$15,$E$15,IF($J$15<$H$15,$G$15)))","v":" "}]
[null,null,null,7,{"$f":"IF(ISBLANK($J$11),\" \",IF($H$11>$J$11,$E$11,IF($J$11>$H$11,$G$11)))","v":" "}]
[null,null,null,8,{"$f":"IF(ISBLANK($J$11),\" \",IF($H$11<$J$11,$E$11,IF($J$11<$H$11,$G$11)))","v":" "}]
[null,null,null,9,{"$f":"IF(ISBLANK($J$7),\" \",IF($H$7>$J$7,$E$7,IF($J$7>$H$7,$G$7)))","v":" "}]
[null,null,null,10,{"$f":"IF(ISBLANK($J$7),\" \",IF($H$7<$J$7,$E$7,IF($J$7<$H$7,$G$7)))","v":" "}]
[null,null,null,11,{"$f":"IF(ISBLANK($J$3),\" \",IF($H$3>$J$3,$E$3,IF($J$3>$H$3,$G$3)))","v":" "}]
[null,null,null,12,{"$f":"IF(ISBLANK($J$3),\" \",IF($H$3<$J$3,$E$3,IF($J$3<$H$3,$G$3)))","v":" "}]
[]
[]
[]
[]
[null,null,null,null,null,null,{"$f":"IF(AND(EXACT(#REF!,#REF!),EXACT(#REF!,#REF!),EXACT(#REF!,#REF!)),\"ACHTUNG GLEICHHEIT in Tabellen\",IF(AND(EXACT(#REF!,#REF!),EXACT(#REF!,#REF!),EXACT(#REF!,#REF!)),\"ACHTUNG GLEICHHEIT in Tabellen\",IF(AND(EXACT(#REF!,M26),EXACT(#REF!,N26),EXACT(#REF!,O26)),\"ACHTUNG GLEICHHEIT in Tabellen\",IF(AND(EXACT(#REF!,M40),EXACT(#REF!,N40),EXACT(#REF!,O40)),\"ACHTUNG GLEICHHEIT in Tabellen\",IF(AND(EXACT(#REF!,#REF!),EXACT(#REF!,#REF!),EXACT(#REF!,#REF!)),\"ACHTUNG GLEICHHEIT in Tabellen\",IF(AND(EXACT(#REF!,#REF!),EXACT(#REF!,#REF!),EXACT(#REF!,#REF!)),\"ACHTUNG GLEICHHEIT in Tabellen\",IF(AND(EXACT(#REF!,M41),EXACT(#REF!,N41),EXACT(#REF!,O41)),\"ACHTUNG GLEICHHEIT in Tabellen\",\"\")))))))","v":{"$error":"#REF!"}}]
[null,null,null,null,null,null,{"$f":"IF(AND(EXACT(#REF!,#REF!),EXACT(#REF!,#REF!),EXACT(#REF!,#REF!)),\"ACHTUNG GLEICHHEIT in Tabellen\",IF(AND(EXACT(#REF!,M26),EXACT(#REF!,N26),EXACT(#REF!,O26)),\"ACHTUNG GLEICHHEIT in Tabellen\",IF(AND(EXACT(#REF!,M40),EXACT(#REF!,N40),EXACT(#REF!,O40)),\"ACHTUNG GLEICHHEIT in Tabellen\",IF(AND(EXACT(#REF!,#REF!),EXACT(#REF!,#REF!),EXACT(#REF!,#REF!)),\"ACHTUNG GLEICHHEIT in Tabellen\",IF(AND(EXACT(#REF!,#REF!),EXACT(#REF!,#REF!),EXACT(#REF!,#REF!)),\"ACHTUNG GLEICHHEIT in Tabellen\",IF(AND(EXACT(#REF!,M41),EXACT(#REF!,N41),EXACT(#REF!,O41)),\"ACHTUNG GLEICHHEIT in Tabellen\",\"\"))))))","v":{"$error":"#REF!"}}]
[null,null,null,null,null,null,{"$f":"IF(AND(EXACT(#REF!,M26),EXACT(#REF!,N26),EXACT(#REF!,O26)),\"ACHTUNG GLEICHHEIT in Tabellen\",IF(AND(EXACT(#REF!,M40),EXACT(#REF!,N40),EXACT(#REF!,O40)),\"ACHTUNG GLEICHHEIT in Tabellen\",IF(AND(EXACT(#REF!,#REF!),EXACT(#REF!,#REF!),EXACT(#REF!,#REF!)),\"ACHTUNG GLEICHHEIT in Tabellen\",IF(AND(EXACT(#REF!,#REF!),EXACT(#REF!,#REF!),EXACT(#REF!,#REF!)),\"ACHTUNG GLEICHHEIT in Tabellen\",IF(AND(EXACT(#REF!,M41),EXACT(#REF!,N41),EXACT(#REF!,O41)),\"ACHTUNG GLEICHHEIT in Tabellen\",\"\")))))","v":{"$error":"#REF!"}}]
[null,null,null,null,null,null,{"$f":"IF(AND(EXACT(M26,M40),EXACT(N26,N40),EXACT(O26,O40)),\"ACHTUNG GLEICHHEIT in Tabellen\",IF(AND(EXACT(M26,#REF!),EXACT(N26,#REF!),EXACT(O26,#REF!)),\"ACHTUNG GLEICHHEIT in Tabellen\",IF(AND(EXACT(M26,#REF!),EXACT(N26,#REF!),EXACT(O26,#REF!)),\"ACHTUNG GLEICHHEIT in Tabellen\",IF(AND(EXACT(M26,M41),EXACT(N26,N41),EXACT(O26,O41)),\"ACHTUNG GLEICHHEIT in Tabellen\",\"\"))))","v":{"$error":"#REF!"}}]
[null,null,null,null,null,null,{"$f":"IF(AND(EXACT(M40,#REF!),EXACT(N40,#REF!),EXACT(O40,#REF!)),\"ACHTUNG GLEICHHEIT in Tabellen\",IF(AND(EXACT(M40,#REF!),EXACT(N40,#REF!),EXACT(O40,#REF!)),\"ACHTUNG GLEICHHEIT in Tabellen\",IF(AND(EXACT(M40,M41),EXACT(N40,N41),EXACT(O40,O41)),\"ACHTUNG GLEICHHEIT in Tabellen\",\"\")))","v":{"$error":"#REF!"}}]
[null,null,null,null,null,null,{"$f":"IF(AND(EXACT(#REF!,#REF!),EXACT(#REF!,#REF!),EXACT(#REF!,#REF!)),\"ACHTUNG GLEICHHEIT in Tabellen\",IF(AND(EXACT(#REF!,M41),EXACT(#REF!,N41),EXACT(#REF!,O41)),\"ACHTUNG GLEICHHEIT in Tabellen\",\"\"))","v":{"$error":"#REF!"}}]
[null,null,null,null,null,null,{"$f":"IF(AND(EXACT(#REF!,M41),EXACT(#REF!,N41),EXACT(#REF!,O41)),\"ACHTUNG GLEICHHEIT in Tabellen\",\"\")","v":{"$error":"#REF!"}}]

{"sheet":"GR Platzierungsspiele VR","index":20,"n_rows":25,"n_cols":11,"rows_kept":25,"cut":false,"hidden":false,"merged":[[0,2,0,6],[18,1,18,2],[2,1,2,2],[2,5,2,6],[10,1,10,2],[10,5,10,6],[18,5,18,6]]}
[null,null,{"$f":"Vorgaben!B2","v":"17. E- Jugend- Turnier"}]
[null,{"$f":"IF(Sonntag!I232<3,\"\",Sonntag!BD229)","v":""},null,null,null,{"$f":"IF(Sonntag!I332<3,\"\",Sonntag!BD329)","v":"Min. 3 Teams identisch.  HANDSORTIERUNG!"}]
[null,"Spiele um Platz 13-18",null,null,null,"Spiele um Platz 19-24"]
[null,"1.",{"$f":"'Gruppe A1'!$K$63","v":"Gruppe A2"},null,null,"1.",{"$f":"'Gruppe A1'!$K$64","v":"Gruppe A6"}]
[null,"2.",{"$f":"'Gruppe B1'!$K$63","v":"Gruppe B6"},null,null,"2.",{"$f":"'Gruppe B1'!$K$64","v":"Gruppe B5"},null,null,null,{"$f":"IF(Vorgaben!C1=48,K7,IF(I146=42,K8,IF(I5<42,K9,\"\")))","v":"AF8"}]
[null,"3.",{"$f":"'Gruppe C1'!$K$63","v":"Gruppe C4"},null,null,"3.",{"$f":"'Gruppe C1'!$K$64","v":"Gruppe C3"}]
[null,"4.",{"$f":"'Gruppe D1'!$K$63","v":"Gruppe D2"},null,null,"4.",{"$f":"'Gruppe D1'!$K$64","v":"Gruppe D3"},null,null,null,{"$f":"IF(OR($K$11=\"ACHTUNG! Direkter Vergleich war unentschieden!\",$K$10=\"ACHTUNG! Direkter Vergleich war unentschieden!\",$K$12=\"ACHTUNG! Direkter Vergleich war unentschieden!\",$K$13=\"ACHTUNG! Direkter Vergleich war unentschieden!\",$K$15=\"ACHTUNG! Direkter Vergleich war unentschieden!\",$K$15=\"ACHTUNG! Direkter Vergleich war unentschieden!\",$K$16=\"ACHTUNG! Direkter Vergleich war unentschieden!\",$K$17=\"ACHTUNG! Direkter Vergleich war unentschieden!\"),\"AF8\",IF(OR($K$11=\"ACHTUNG: Direkter Vergleich erfolgreich durchlaufen!\",$K$10=\"ACHTUNG: Direkter Vergleich erfolgreich durchlaufen!\",$K$12=\"ACHTUNG: Direkter Vergleich erfolgreich durchlaufen!\",$K$13=\"ACHTUNG: Direkter Vergleich erfolgreich durchlaufen!\",$K$14=\"ACHTUNG: Direkter Vergleich erfolgreich durchlaufen!\",$K$15=\"ACHTUNG: Direkter Vergleich erfolgreich durchlaufen!\",$K$16=\"ACHTUNG: Direkter Vergleich erfolgreich durchlaufen!\",$K$17=\"ACHTUNG: Direkter Vergleich erfolgreich durchlaufen!\",$K$11=\"Direkter Vergleich/kein Ergebnis. HANDSORTIERUNG!\",$K$10=\"Direkter Vergleich/kein Ergebnis. HANDSORTIERUNG!\",$K$12=\"Direkter Vergleich/kein Ergebnis. HANDSORTIERUNG!\",$K$13=\"Direkter Vergleich/kein Ergebnis. HANDSORTIERUNG!\",$K$15=\"Direkter Vergleich/kein Ergebnis. HANDSORTIERUNG!\",$K$15=\"Direkter Vergleich/kein Ergebnis. HANDSORTIERUNG!\",$K$16=\"Direkter Vergleich/kein Ergebnis. HANDSORTIERUNG!\",$K$17=\"Direkter Vergleich/kein Ergebnis. HANDSORTIERUNG!\"),\"AF8\",IF(OR($K$11=\"ACHTUNG: Direkter Vergleich erfolgreich durchlaufen!\",$K$10=\"ACHTUNG: Direkter Vergleich erfolgreich durchlaufen!\",$K$12=\"ACHTUNG: Direkter Vergleich erfolgreich durchlaufen!\",$K$13=\"ACHTUNG: Direkter Vergleich erfolgreich durchlaufen!\",$K$14=\"ACHTUNG: Direkter Vergleich erfolgreich durchlaufen!\",$K$15=\"ACHTUNG: Direkter Vergleich erfolgreich durchlaufen!\",$K$16=\"ACHTUNG: Direkter Vergleich erfolgreich durchlaufen!\",$K$17=\"ACHTUNG: Direkter Vergleich erfolgreich durchlaufen!\"),\"AF8\",\"\")))","v":"AF8"}]
[null,"5.",{"$f":"'Gruppe E1'!$K$63","v":"Gruppe E7"},null,null,"5.",{"$f":"'Gruppe E1'!$K$64","v":"Gruppe E4"},null,null,null,{"$f":"IF(OR($K$11=\"ACHTUNG! Direkter Vergleich war unentschieden!\",$K$10=\"ACHTUNG! Direkter Vergleich war unentschieden!\",$K$12=\"ACHTUNG! Direkter Vergleich war unentschieden!\",$K$13=\"ACHTUNG! Direkter Vergleich war unentschieden!\",$K$15=\"ACHTUNG! Direkter Vergleich war unentschieden!\",$K$15=\"ACHTUNG! Direkter Vergleich war unentschieden!\",$K$16=\"ACHTUNG! Direkter Vergleich war unentschieden!\"),\"AF7\",IF(OR($K$11=\"ACHTUNG: Direkter Vergleich erfolgreich durchlaufen!\",$K$10=\"ACHTUNG: Direkter Vergleich erfolgreich durchlaufen!\",$K$12=\"ACHTUNG: Direkter Vergleich erfolgreich durchlaufen!\",$K$13=\"ACHTUNG: Direkter Vergleich erfolgreich durchlaufen!\",$K$14=\"ACHTUNG: Direkter Vergleich erfolgreich durchlaufen!\",$K$15=\"ACHTUNG: Direkter Vergleich erfolgreich durchlaufen!\",$K$16=\"ACHTUNG: Direkter Vergleich erfolgreich durchlaufen!\",$K$11=\"Direkter Vergleich/kein Ergebnis. HANDSORTIERUNG!\",$K$10=\"Direkter Vergleich/kein Ergebnis. HANDSORTIERUNG!\",$K$12=\"Direkter Vergleich/kein Ergebnis. HANDSORTIERUNG!\",$K$13=\"Direkter Vergleich/kein Ergebnis. HANDSORTIERUNG!\",$K$15=\"Direkter Vergleich/kein Ergebnis. HANDSORTIERUNG!\",$K$15=\"Direkter Vergleich/kein Ergebnis. HANDSORTIERUNG!\",$K$16=\"Direkter Vergleich/kein Ergebnis. HANDSORTIERUNG!\"),\"AF7\",IF(OR($K$11=\"ACHTUNG: Direkter Vergleich erfolgreich durchlaufen!\",$K$10=\"ACHTUNG: Direkter Vergleich erfolgreich durchlaufen!\",$K$12=\"ACHTUNG: Direkter Vergleich erfolgreich durchlaufen!\",$K$13=\"ACHTUNG: Direkter Vergleich erfolgreich durchlaufen!\",$K$14=\"ACHTUNG: Direkter Vergleich erfolgreich durchlaufen!\",$K$15=\"ACHTUNG: Direkter Vergleich erfolgreich durchlaufen!\",$K$16=\"ACHTUNG: Direkter Vergleich erfolgreich durchlaufen!\"),\"AF6\",\"\")))","v":"AF7"}]
[null,"6.",{"$f":"'Gruppe F1'!$K$63","v":"Gruppe F6"},null,null,"6.",{"$f":"'Gruppe F1'!$K$64","v":"Gruppe F4"},null,null,null,{"$f":"IF(OR($K$11=\"ACHTUNG! Direkter Vergleich war unentschieden!\",$K$10=\"ACHTUNG! Direkter Vergleich war unentschieden!\",$K$12=\"ACHTUNG! Direkter Vergleich war unentschieden!\",$K$13=\"ACHTUNG! Direkter Vergleich war unentschieden!\",$K$15=\"ACHTUNG! Direkter Vergleich war unentschieden!\",$K$15=\"ACHTUNG! Direkter Vergleich war unentschieden!\"),\"AF6\",IF(OR($K$11=\"ACHTUNG: Direkter Vergleich erfolgreich durchlaufen!\",$K$10=\"ACHTUNG: Direkter Vergleich erfolgreich durchlaufen!\",$K$12=\"ACHTUNG: Direkter Vergleich erfolgreich durchlaufen!\",$K$13=\"ACHTUNG: Direkter Vergleich erfolgreich durchlaufen!\",$K$14=\"ACHTUNG: Direkter Vergleich erfolgreich durchlaufen!\",$K$15=\"ACHTUNG: Direkter Vergleich erfolgreich durchlaufen!\",$K$11=\"Direkter Vergleich/kein Ergebnis. HANDSORTIERUNG!\",$K$10=\"Direkter Vergleich/kein Ergebnis. HANDSORTIERUNG!\",$K$12=\"Direkter Vergleich/kein Ergebnis. HANDSORTIERUNG!\",$K$13=\"Direkter Vergleich/kein Ergebnis. HANDSORTIERUNG!\",$K$15=\"Direkter Vergleich/kein Ergebnis. HANDSORTIERUNG!\",$K$15=\"Direkter Vergleich/kein Ergebnis. HANDSORTIERUNG!\"),\"AF6\",IF(OR($K$11=\"ACHTUNG: Direkter Vergleich erfolgreich durchlaufen!\",$K$10=\"ACHTUNG: Direkter Vergleich erfolgreich durchlaufen!\",$K$12=\"ACHTUNG: Direkter Vergleich erfolgreich durchlaufen!\",$K$13=\"ACHTUNG: Direkter Vergleich erfolgreich durchlaufen!\",$K$14=\"ACHTUNG: Direkter Vergleich erfolgreich durchlaufen!\",$K$15=\"ACHTUNG: Direkter Vergleich erfolgreich durchlaufen!\"),\"AF6\",\"\"))\n\n\n\n)","v":"AF6"}]
[null,{"$f":"IF(Sonntag!I432<3,\"\",Sonntag!BD429)","v":""},null,null,null,{"$f":"IF(Sonntag!I532<3,\"\",Sonntag!BD529)","v":""},null,null,null,null,{"$f":"'ZR Gruppeneinteilung'!B9","v":"Min. 3 Teams identisch.  HANDSORTIERUNG!"}]
[null,"Spiele um Platz 25-30",null,null,null,"Spiele um Platz 31-36",null,null,null,null,{"$f":"'ZR Gruppeneinteilung'!F$9","v":"ACHTUNG: Direkter Vergleich erfolgreich durchlaufen!"}]
[null,"1.",{"$f":"'Gruppe A1'!$K$65","v":"Gruppe A3"},null,null,"1.",{"$f":"'Gruppe A1'!$K$66","v":"Gruppe A8"},null,null,null,{"$f":"$B$2","v":""}]
[null,"2.",{"$f":"'Gruppe B1'!$K$65","v":"Gruppe B7"},null,null,"2.",{"$f":"'Gruppe B1'!$K$66","v":"Gruppe B8"},null,null,null,{"$f":"$F$2","v":"Min. 3 Teams identisch.  HANDSORTIERUNG!"}]
[null,"3.",{"$f":"'Gruppe C1'!$K$65","v":"Gruppe C7"},null,null,"3.",{"$f":"'Gruppe C1'!$K$66","v":"Gruppe C2"},null,null,null,{"$f":"$B$10","v":""}]
[null,"4.",{"$f":"'Gruppe D1'!$K$65","v":"Gruppe D4"},null,null,"4.",{"$f":"'Gruppe D1'!$K$66","v":"Gruppe D1"},null,null,null,{"$f":"$F$10","v":""}]
[null,"5.",{"$f":"'Gruppe E1'!$K$65","v":"Gruppe E1"},null,null,"5.",{"$f":"'Gruppe E1'!$K$66","v":"Gruppe E6"},null,null,null,{"$f":"$B$18","v":""}]
[null,"6.",{"$f":"'Gruppe F1'!$K$65","v":"Gruppe F3"},null,null,"6.",{"$f":"'Gruppe F1'!$K$66","v":"Gruppe F2"},null,null,null,{"$f":"$F$18","v":"ACHTUNG: Direkter Vergleich erfolgreich durchlaufen!"}]
[null,{"$f":"IF(Sonntag!I632<3,\"\",Sonntag!BD629)","v":""},null,null,null,{"$f":"IF(Vorgaben!C1>42,IF(Sonntag!I732<3,\"\",Sonntag!BD729),\"\")","v":"ACHTUNG: Direkter Vergleich erfolgreich durchlaufen!"}]
[null,"Spiele um Platz 37-42",null,null,null,"Spiele um Platz 43-48"]
[null,"1.",{"$f":"'Gruppe A1'!$K$67","v":"Gruppe A5"},null,null,"1.",{"$f":"'Gruppe A1'!$K$68","v":"Gruppe A1"}]
[null,"2.",{"$f":"'Gruppe B1'!$K$67","v":"Gruppe B4"},null,null,"2.",{"$f":"'Gruppe B1'!$K$68","v":"Gruppe B2"}]
[null,"3.",{"$f":"'Gruppe C1'!$K$67","v":"Gruppe C1"},null,null,"3.",{"$f":"'Gruppe C1'!$K$68","v":"Gruppe C6"}]
[null,"4.",{"$f":"'Gruppe D1'!$K$67","v":"Gruppe D5"},null,null,"4.",{"$f":"'Gruppe D1'!$K$68","v":"Gruppe D6"}]
[null,"5.",{"$f":"'Gruppe E1'!$K$67","v":"Gruppe E5"},null,null,"5.",{"$f":"'Gruppe E1'!$K$68","v":"Gruppe E8"}]
[null,"6.",{"$f":"'Gruppe F1'!$K$67","v":"Gruppe F1"},null,null,"6.",{"$f":"'Gruppe F1'!$K$68","v":"Gruppe F7"}]

{"sheet":"PlSp13-18","index":21,"n_rows":37,"n_cols":18,"rows_kept":37,"cut":false,"hidden":false,"merged":[[7,5,7,11],[0,1,0,17],[1,1,1,17],[2,12,2,13],[5,5,5,11],[6,5,6,11],[4,4,4,11],[8,5,8,11],[9,5,9,11],[10,5,10,11],[12,2,12,3],[12,4,12,8],[12,9,12,13],[12,14,12,16],[13,2,13,3],[13,4,13,8],[13,9,13,13],[14,2,14,3],[14,4,14,8],[14,9,14,13],[15,2,15,3],[15,4,15,8],[15,9,15,13],[16,2,16,3],[16,4,16,8],[16,9,16,13],[17,2,17,3],[17,4,17,8],[17,9,17,13],[18,2,18,3],[18,4,18,8],[18,9,18,13],[19,2,19,3],[19,4,19,8],[19,9,19,13],[20,2,20,3],[20,4,20,8],[20,9,20,13],[21,2,21,3],[21,4,21,8],[21,9,21,13],[22,2,22,3],[22,4,22,8],[22,9,22,13],[23,2,23,3],[23,4,23,8],[23,9,23,13],[24,2,24,3],[24,4,24,8],[24,9,24,13],[25,2,25,3],[25,4,25,8],[25,9,25,13],[26,2,26,3],[26,4,26,8],[26,9,26,13],[32,2,32,7],[32,8,32,9],[32,10,32,11],[32,12,32,13],[27,2,27,3],[27,4,27,8],[27,9,27,13],[30,1,30,7],[30,8,30,9],[30,10,30,11],[30,12,30,13],[30,14,30,16],[31,2,31,7],[31,8,31,9],[31,10,31,11],[31,12,31,13],[33,2,33,7],[33,8,33,9],[33,10,33,11],[33,12,33,13],[34,2,34,7],[34,8,34,9],[34,10,34,11],[34,12,34,13],[37,2,37,7],[37,8,37,9],[37,10,37,11],[37,12,37,13],[35,2,35,7],[35,8,35,9],[35,10,35,11],[35,12,35,13],[36,2,36,7],[36,8,36,9],[36,10,36,11],[36,12,36,13]]}
[null,"Platzierungsspiele"]
[null,"13-18"]
[null,null,"Beginn:",null,{"$f":"Vorgaben!G4","v":"08:45:00"},"Uhr","Spielzeit:",null,{"$f":"Vorgaben!G5","v":1},"x",{"$f":"Vorgaben!G6","v":6.9444444444444441E-3},"min.","Pause:",null,{"$f":"Vorgaben!G7","v":6.9444444444444447E-4},"Min."]
[null,null,null,null,null,null,null,null,null,null,null,null,null,"Halbzeit:",{"$f":"IF(Vorgaben!G5>1,Vorgaben!G8,0)","v":0},"Min."]
[null,null,null,null,"Mannschaften:"]
[null,null,null,null,"1.",{"$f":"Sonntag!F206","v":"Gruppe A2"}]
[null,null,null,null,"2.",{"$f":"Sonntag!F207","v":"Gruppe B6"}]
[null,null,null,null,"3.",{"$f":"Sonntag!F208","v":"Gruppe C4"}]
[null,null,null,null,"4.",{"$f":"Sonntag!F209","v":"Gruppe D2"}]
[null,null,null,null,"5.",{"$f":"Sonntag!F210","v":"Gruppe E7"}]
[null,null,null,null,"6.",{"$f":"Sonntag!F211","v":"Gruppe F6"}]
[]
[null,"Nr.","Beginn",null,"Mannschaft1",null,null,null,null,"Mannschaft2",null,null,null,null,"Ergebnis",null,null,"Platz"]
[null,{"$f":"Sonntag!B214","v":31},{"$f":"Sonntag!C214","v":"08:45:00"},{"$f":"Platzzuordnung!C19","v":"ZwRu2"},{"$f":"Sonntag!E214","v":"Gruppe A2"},null,null,null,null,{"$f":"Sonntag!J214","v":"Gruppe B6"},null,null,null,null,1,":",1,{"$f":"Sonntag!R214","v":3}]
[null,{"$f":"Sonntag!B215","v":32},{"$f":"Sonntag!C215","v":"09:07:00"},{"$f":"Platzzuordnung!C20","v":"ZwRu2"},{"$f":"Sonntag!E215","v":"Gruppe C4"},null,null,null,null,{"$f":"Sonntag!J215","v":"Gruppe D2"},null,null,null,null,1,":",1,{"$f":"Sonntag!R215","v":3}]
[null,{"$f":"Sonntag!B216","v":33},{"$f":"Sonntag!C216","v":"09:18:00"},{"$f":"Platzzuordnung!C21","v":"ZwRu2"},{"$f":"Sonntag!E216","v":"Gruppe E7"},null,null,null,null,{"$f":"Sonntag!J216","v":"Gruppe F6"},null,null,null,null,1,":",1,{"$f":"Sonntag!R216","v":3}]
[null,{"$f":"Sonntag!B217","v":34},{"$f":"Sonntag!C217","v":"09:40:00"},{"$f":"Platzzuordnung!C22","v":"ZwRu2"},{"$f":"Sonntag!E217","v":"Gruppe B6"},null,null,null,null,{"$f":"Sonntag!J217","v":"Gruppe C4"},null,null,null,null,1,":",1,{"$f":"Sonntag!R217","v":3}]
[null,{"$f":"Sonntag!B218","v":35},{"$f":"Sonntag!C218","v":"09:51:00"},{"$f":"Platzzuordnung!C23","v":"ZwRu2"},{"$f":"Sonntag!E218","v":"Gruppe D2"},null,null,null,null,{"$f":"Sonntag!J218","v":"Gruppe E7"},null,null,null,null,1,":",1,{"$f":"Sonntag!R218","v":3}]
[null,{"$f":"Sonntag!B219","v":36},{"$f":"Sonntag!C219","v":"10:13:00"},{"$f":"Platzzuordnung!C24","v":"ZwRu2"},{"$f":"Sonntag!E219","v":"Gruppe A2"},null,null,null,null,{"$f":"Sonntag!J219","v":"Gruppe C4"},null,null,null,null,1,":",1,{"$f":"Sonntag!R219","v":3}]
[null,{"$f":"Sonntag!B220","v":37},{"$f":"Sonntag!C220","v":"10:24:00"},{"$f":"Platzzuordnung!C25","v":"ZwRu2"},{"$f":"Sonntag!E220","v":"Gruppe E7"},null,null,null,null,{"$f":"Sonntag!J220","v":"Gruppe B6"},null,null,null,null,1,":",1,{"$f":"Sonntag!R220","v":3}]
[null,{"$f":"Sonntag!B221","v":38},{"$f":"Sonntag!C221","v":"10:46:00"},{"$f":"Platzzuordnung!C26","v":"ZwRu2"},{"$f":"Sonntag!E221","v":"Gruppe F6"},null,null,null,null,{"$f":"Sonntag!J221","v":"Gruppe A2"},null,null,null,null,1,":",1,{"$f":"Sonntag!R221","v":3}]
[null,{"$f":"Sonntag!B222","v":39},{"$f":"Sonntag!C222","v":"10:57:00"},{"$f":"Platzzuordnung!C27","v":"ZwRu2"},{"$f":"Sonntag!E222","v":"Gruppe C4"},null,null,null,null,{"$f":"Sonntag!J222","v":"Gruppe E7"},null,null,null,null,1,":",1,{"$f":"Sonntag!R222","v":3}]
[null,{"$f":"Sonntag!B223","v":40},{"$f":"Sonntag!C223","v":"11:19:00"},{"$f":"Platzzuordnung!C28","v":"ZwRu2"},{"$f":"Sonntag!E223","v":"Gruppe D2"},null,null,null,null,{"$f":"Sonntag!J223","v":"Gruppe F6"},null,null,null,null,null,":",null,{"$f":"Sonntag!R223","v":3}]
[null,{"$f":"Sonntag!B224","v":41},{"$f":"Sonntag!C224","v":"12:15:00"},{"$f":"Platzzuordnung!C29","v":"ZwRu2"},{"$f":"Sonntag!E224","v":"Gruppe A2"},null,null,null,null,{"$f":"Sonntag!J224","v":"Gruppe E7"},null,null,null,null,null,":",null,{"$f":"Sonntag!R224","v":3}]
[null,{"$f":"Sonntag!B225","v":42},{"$f":"Sonntag!C225","v":"12:37:00"},{"$f":"Platzzuordnung!C30","v":"ZwRu2"},{"$f":"Sonntag!E225","v":"Gruppe F6"},null,null,null,null,{"$f":"Sonntag!J225","v":"Gruppe B6"},null,null,null,null,null,":",null,{"$f":"Sonntag!R225","v":3}]
[null,{"$f":"Sonntag!B226","v":43},{"$f":"Sonntag!C226","v":"12:48:00"},{"$f":"Platzzuordnung!C31","v":"ZwRu2"},{"$f":"Sonntag!E226","v":"Gruppe D2"},null,null,null,null,{"$f":"Sonntag!J226","v":"Gruppe A2"},null,null,null,null,null,":",null,{"$f":"Sonntag!R226","v":3}]
[null,{"$f":"Sonntag!B227","v":44},{"$f":"Sonntag!C227","v":"13:10:00"},{"$f":"Platzzuordnung!C32","v":"ZwRu2"},{"$f":"Sonntag!E227","v":"Gruppe C4"},null,null,null,null,{"$f":"Sonntag!J227","v":"Gruppe F6"},null,null,null,null,1,".",0,{"$f":"Sonntag!R227","v":3}]
[null,{"$f":"Sonntag!B228","v":45},{"$f":"Sonntag!C228","v":"13:21:00"},{"$f":"Platzzuordnung!C33","v":"ZwRu2"},{"$f":"Sonntag!E228","v":"Gruppe B6"},null,null,null,null,{"$f":"Sonntag!J228","v":"Gruppe D2"},null,null,null,null,2,":",2,{"$f":"Sonntag!R228","v":3}]
[]
[null,{"$f":"IF(ISBLANK(O27),\"\",Sonntag!BD229)","v":""}]
[null,"Tabelle",null,null,null,null,null,null,"Spiele",null,"Punkte",null,"Differenz",null,"Tore"]
[null,1,{"$f":"Sonntag!C232","v":"Gruppe C4"},null,null,null,null,null,{"$f":"Sonntag!I232","v":5},null,{"$f":"Sonntag!K232","v":7},null,{"$f":"Sonntag!M232","v":1},null,{"$f":"Sonntag!O232","v":5},":",{"$f":"Sonntag!Q232","v":4}]
[null,2,{"$f":"Sonntag!C233","v":"Gruppe B6"},null,null,null,null,null,{"$f":"Sonntag!I233","v":4},null,{"$f":"Sonntag!K233","v":4},null,{"$f":"Sonntag!M233","v":0},null,{"$f":"Sonntag!O233","v":5},":",{"$f":"Sonntag!Q233","v":5}]
[null,3,{"$f":"Sonntag!C234","v":"Gruppe E7"},null,null,null,null,null,{"$f":"Sonntag!I234","v":4},null,{"$f":"Sonntag!K234","v":4},null,{"$f":"Sonntag!M234","v":0},null,{"$f":"Sonntag!O234","v":4},":",{"$f":"Sonntag!Q234","v":4}]
[null,4,{"$f":"Sonntag!C235","v":"Gruppe D2"},null,null,null,null,null,{"$f":"Sonntag!I235","v":3},null,{"$f":"Sonntag!K235","v":3},null,{"$f":"Sonntag!M235","v":0},null,{"$f":"Sonntag!O235","v":4},":",{"$f":"Sonntag!Q235","v":4}]
[null,5,{"$f":"Sonntag!C236","v":"Gruppe A2"},null,null,null,null,null,{"$f":"Sonntag!I236","v":3},null,{"$f":"Sonntag!K236","v":3},null,{"$f":"Sonntag!M236","v":0},null,{"$f":"Sonntag!O236","v":3},":",{"$f":"Sonntag!Q236","v":3}]
[null,6,{"$f":"Sonntag!C237","v":"Gruppe F6"},null,null,null,null,null,{"$f":"Sonntag!I237","v":3},null,{"$f":"Sonntag!K237","v":2},null,{"$f":"Sonntag!M237","v":-1},null,{"$f":"Sonntag!O237","v":2},":",{"$f":"Sonntag!Q237","v":3}]

{"sheet":"PlSp19-24","index":22,"n_rows":37,"n_cols":18,"rows_kept":37,"cut":false,"hidden":false,"merged":[[7,5,7,11],[0,1,0,17],[1,1,1,17],[2,12,2,13],[5,5,5,11],[6,5,6,11],[4,4,4,11],[8,5,8,11],[9,5,9,11],[10,5,10,11],[12,2,12,3],[12,4,12,8],[12,9,12,13],[12,14,12,16],[13,2,13,3],[13,4,13,8],[13,9,13,13],[14,2,14,3],[14,4,14,8],[14,9,14,13],[15,2,15,3],[15,4,15,8],[15,9,15,13],[16,2,16,3],[16,4,16,8],[16,9,16,13],[17,2,17,3],[17,4,17,8],[17,9,17,13],[18,2,18,3],[18,4,18,8],[18,9,18,13],[19,2,19,3],[19,4,19,8],[19,9,19,13],[20,2,20,3],[20,4,20,8],[20,9,20,13],[21,2,21,3],[21,4,21,8],[21,9,21,13],[22,2,22,3],[22,4,22,8],[22,9,22,13],[23,2,23,3],[23,4,23,8],[23,9,23,13],[24,2,24,3],[24,4,24,8],[24,9,24,13],[25,2,25,3],[25,4,25,8],[25,9,25,13],[26,2,26,3],[26,4,26,8],[26,9,26,13],[32,2,32,7],[32,8,32,9],[32,10,32,11],[32,12,32,13],[27,2,27,3],[27,4,27,8],[27,9,27,13],[30,1,30,7],[30,8,30,9],[30,10,30,11],[30,12,30,13],[30,14,30,16],[31,2,31,7],[31,8,31,9],[31,10,31,11],[31,12,31,13],[33,2,33,7],[33,8,33,9],[33,10,33,11],[33,12,33,13],[34,2,34,7],[34,8,34,9],[34,10,34,11],[34,12,34,13],[37,2,37,7],[37,8,37,9],[37,10,37,11],[37,12,37,13],[35,2,35,7],[35,8,35,9],[35,10,35,11],[35,12,35,13],[36,2,36,7],[36,8,36,9],[36,10,36,11],[36,12,36,13]]}
[null,"Platzierungsspiele"]
[null,"19-24"]
[null,null,"Beginn:",null,{"$f":"Vorgaben!G4","v":"08:45:00"},"Uhr","Spielzeit:",null,{"$f":"Vorgaben!G5","v":1},"x",{"$f":"Vorgaben!G6","v":6.9444444444444441E-3},"min.","Pause:",null,{"$f":"Vorgaben!G7","v":6.9444444444444447E-4},"Min."]
[null,null,null,null,null,null,null,null,null,null,null,null,null,"Halbzeit:",{"$f":"IF(Vorgaben!G5>1,Vorgaben!G8,0)","v":0},"Min."]
[null,null,null,null,"Mannschaften:"]
[null,null,null,null,"1.",{"$f":"Sonntag!F306","v":"Gruppe A6"}]
[null,null,null,null,"2.",{"$f":"Sonntag!F307","v":"Gruppe B5"}]
[null,null,null,null,"3.",{"$f":"Sonntag!F308","v":"Gruppe C3"}]
[null,null,null,null,"4.",{"$f":"Sonntag!F309","v":"Gruppe D3"}]
[null,null,null,null,"5.",{"$f":"Sonntag!F310","v":"Gruppe E4"}]
[null,null,null,null,"6.",{"$f":"Sonntag!F311","v":"Gruppe F4"}]
[]
[null,"Nr.","Beginn",null,"Mannschaft1",null,null,null,null,"Mannschaft2",null,null,null,null,"Ergebnis",null,null,"Platz"]
[null,{"$f":"Sonntag!B314","v":46},{"$f":"Sonntag!C314","v":"08:56:00"},{"$f":"Platzzuordnung!C49","v":"PlSp19-24"},{"$f":"Sonntag!E314","v":"Gruppe A6"},null,null,null,null,{"$f":"Sonntag!J314","v":"Gruppe B5"},null,null,null,null,1,":",1,{"$f":"Sonntag!R314","v":4}]
[null,{"$f":"Sonntag!B315","v":47},{"$f":"Sonntag!C315","v":"09:07:00"},{"$f":"Platzzuordnung!C50","v":"PlSp19-24"},{"$f":"Sonntag!E315","v":"Gruppe C3"},null,null,null,null,{"$f":"Sonntag!J315","v":"Gruppe D3"},null,null,null,null,2,":",1,{"$f":"Sonntag!R315","v":4}]
[null,{"$f":"Sonntag!B316","v":48},{"$f":"Sonntag!C316","v":"09:29:00"},{"$f":"Platzzuordnung!C51","v":"PlSp19-24"},{"$f":"Sonntag!E316","v":"Gruppe E4"},null,null,null,null,{"$f":"Sonntag!J316","v":"Gruppe F4"},null,null,null,null,1,":",1,{"$f":"Sonntag!R316","v":4}]
[null,{"$f":"Sonntag!B317","v":49},{"$f":"Sonntag!C317","v":"09:40:00"},{"$f":"Platzzuordnung!C52","v":"PlSp19-24"},{"$f":"Sonntag!E317","v":"Gruppe B5"},null,null,null,null,{"$f":"Sonntag!J317","v":"Gruppe C3"},null,null,null,null,1,":",1,{"$f":"Sonntag!R317","v":4}]
[null,{"$f":"Sonntag!B318","v":50},{"$f":"Sonntag!C318","v":"10:02:00"},{"$f":"Platzzuordnung!C53","v":"PlSp19-24"},{"$f":"Sonntag!E318","v":"Gruppe D3"},null,null,null,null,{"$f":"Sonntag!J318","v":"Gruppe E4"},null,null,null,null,2,":",1,{"$f":"Sonntag!R318","v":4}]
[null,{"$f":"Sonntag!B319","v":51},{"$f":"Sonntag!C319","v":"10:13:00"},{"$f":"Platzzuordnung!C54","v":"PlSp19-24"},{"$f":"Sonntag!E319","v":"Gruppe A6"},null,null,null,null,{"$f":"Sonntag!J319","v":"Gruppe C3"},null,null,null,null,1,":",1,{"$f":"Sonntag!R319","v":4}]
[null,{"$f":"Sonntag!B320","v":52},{"$f":"Sonntag!C320","v":"10:35:00"},{"$f":"Platzzuordnung!C55","v":"PlSp19-24"},{"$f":"Sonntag!E320","v":"Gruppe E4"},null,null,null,null,{"$f":"Sonntag!J320","v":"Gruppe B5"},null,null,null,null,1,":",1,{"$f":"Sonntag!R320","v":4}]
[null,{"$f":"Sonntag!B321","v":53},{"$f":"Sonntag!C321","v":"10:46:00"},{"$f":"Platzzuordnung!C56","v":"PlSp19-24"},{"$f":"Sonntag!E321","v":"Gruppe F4"},null,null,null,null,{"$f":"Sonntag!J321","v":"Gruppe A6"},null,null,null,null,1,":",1,{"$f":"Sonntag!R321","v":4}]
[null,{"$f":"Sonntag!B322","v":54},{"$f":"Sonntag!C322","v":"11:08:00"},{"$f":"Platzzuordnung!C57","v":"PlSp19-24"},{"$f":"Sonntag!E322","v":"Gruppe C3"},null,null,null,null,{"$f":"Sonntag!J322","v":"Gruppe E4"},null,null,null,null,1,":",2,{"$f":"Sonntag!R322","v":4}]
[null,{"$f":"Sonntag!B323","v":55},{"$f":"Sonntag!C323","v":"11:19:00"},{"$f":"Platzzuordnung!C58","v":"PlSp19-24"},{"$f":"Sonntag!E323","v":"Gruppe D3"},null,null,null,null,{"$f":"Sonntag!J323","v":"Gruppe F4"},null,null,null,null,1,":",1,{"$f":"Sonntag!R323","v":4}]
[null,{"$f":"Sonntag!B324","v":56},{"$f":"Sonntag!C324","v":"12:26:00"},{"$f":"Platzzuordnung!C59","v":"PlSp19-24"},{"$f":"Sonntag!E324","v":"Gruppe A6"},null,null,null,null,{"$f":"Sonntag!J324","v":"Gruppe E4"},null,null,null,null,1,":",1,{"$f":"Sonntag!R324","v":4}]
[null,{"$f":"Sonntag!B325","v":57},{"$f":"Sonntag!C325","v":"12:37:00"},{"$f":"Platzzuordnung!C60","v":"PlSp19-24"},{"$f":"Sonntag!E325","v":"Gruppe F4"},null,null,null,null,{"$f":"Sonntag!J325","v":"Gruppe B5"},null,null,null,null,1,":",1,{"$f":"Sonntag!R325","v":4}]
[null,{"$f":"Sonntag!B326","v":58},{"$f":"Sonntag!C326","v":"12:59:00"},{"$f":"Platzzuordnung!C61","v":"PlSp19-24"},{"$f":"Sonntag!E326","v":"Gruppe D3"},null,null,null,null,{"$f":"Sonntag!J326","v":"Gruppe A6"},null,null,null,null,1,":",1,{"$f":"Sonntag!R326","v":4}]
[null,{"$f":"Sonntag!B327","v":59},{"$f":"Sonntag!C327","v":"13:10:00"},{"$f":"Platzzuordnung!C62","v":"PlSp19-24"},{"$f":"Sonntag!E327","v":"Gruppe C3"},null,null,null,null,{"$f":"Sonntag!J327","v":"Gruppe F4"},null,null,null,null,1,":",1,{"$f":"Sonntag!R327","v":4}]
[null,{"$f":"Sonntag!B328","v":60},{"$f":"Sonntag!C328","v":"13:21:00"},{"$f":"Platzzuordnung!C63","v":"PlSp19-24"},{"$f":"Sonntag!E328","v":"Gruppe B5"},null,null,null,null,{"$f":"Sonntag!J328","v":"Gruppe D3"},null,null,null,null,1,":",1,{"$f":"Sonntag!R328","v":4}]
[]
[null,{"$f":"IF(ISBLANK(O27),\"\",Sonntag!BD329)","v":"Min. 3 Teams identisch.  HANDSORTIERUNG!"}]
[null,"Tabelle",null,null,null,null,null,null,"Spiele",null,"Punkte",null,"Differenz",null,"Tore"]
[null,1,{"$f":"Sonntag!C332","v":"Gruppe E4"},null,null,null,null,null,{"$f":"Sonntag!I332","v":5},null,{"$f":"Sonntag!K332","v":6},null,{"$f":"Sonntag!M332","v":0},null,{"$f":"Sonntag!O332","v":6},":",{"$f":"Sonntag!Q332","v":6}]
[null,2,{"$f":"Sonntag!C333","v":"Gruppe C3"},null,null,null,null,null,{"$f":"Sonntag!I333","v":5},null,{"$f":"Sonntag!K333","v":6},null,{"$f":"Sonntag!M333","v":0},null,{"$f":"Sonntag!O333","v":6},":",{"$f":"Sonntag!Q333","v":6}]
[null,3,{"$f":"Sonntag!C334","v":"Gruppe D3"},null,null,null,null,null,{"$f":"Sonntag!I334","v":5},null,{"$f":"Sonntag!K334","v":6},null,{"$f":"Sonntag!M334","v":0},null,{"$f":"Sonntag!O334","v":6},":",{"$f":"Sonntag!Q334","v":6}]
[null,4,{"$f":"Sonntag!C335","v":"Gruppe A6"},null,null,null,null,null,{"$f":"Sonntag!I335","v":5},null,{"$f":"Sonntag!K335","v":5},null,{"$f":"Sonntag!M335","v":0},null,{"$f":"Sonntag!O335","v":5},":",{"$f":"Sonntag!Q335","v":5}]
[null,5,{"$f":"Sonntag!C336","v":"Gruppe B5"},null,null,null,null,null,{"$f":"Sonntag!I336","v":5},null,{"$f":"Sonntag!K336","v":5},null,{"$f":"Sonntag!M336","v":0},null,{"$f":"Sonntag!O336","v":5},":",{"$f":"Sonntag!Q336","v":5}]
[null,6,{"$f":"Sonntag!C337","v":"Gruppe F4"},null,null,null,null,null,{"$f":"Sonntag!I337","v":5},null,{"$f":"Sonntag!K337","v":5},null,{"$f":"Sonntag!M337","v":0},null,{"$f":"Sonntag!O337","v":5},":",{"$f":"Sonntag!Q337","v":5}]

{"sheet":"PlSp25-30","index":23,"n_rows":37,"n_cols":18,"rows_kept":37,"cut":false,"hidden":false,"merged":[[7,5,7,11],[0,1,0,17],[1,1,1,17],[2,12,2,13],[5,5,5,11],[6,5,6,11],[4,4,4,11],[8,5,8,11],[9,5,9,11],[10,5,10,11],[12,2,12,3],[12,4,12,8],[12,9,12,13],[12,14,12,16],[13,2,13,3],[13,4,13,8],[13,9,13,13],[14,2,14,3],[14,4,14,8],[14,9,14,13],[15,2,15,3],[15,4,15,8],[15,9,15,13],[16,2,16,3],[16,4,16,8],[16,9,16,13],[17,2,17,3],[17,4,17,8],[17,9,17,13],[18,2,18,3],[18,4,18,8],[18,9,18,13],[19,2,19,3],[19,4,19,8],[19,9,19,13],[20,2,20,3],[20,4,20,8],[20,9,20,13],[21,2,21,3],[21,4,21,8],[21,9,21,13],[22,2,22,3],[22,4,22,8],[22,9,22,13],[23,2,23,3],[23,4,23,8],[23,9,23,13],[24,2,24,3],[24,4,24,8],[24,9,24,13],[25,2,25,3],[25,4,25,8],[25,9,25,13],[26,2,26,3],[26,4,26,8],[26,9,26,13],[32,2,32,7],[32,8,32,9],[32,10,32,11],[32,12,32,13],[27,2,27,3],[27,4,27,8],[27,9,27,13],[30,1,30,7],[30,8,30,9],[30,10,30,11],[30,12,30,13],[30,14,30,16],[31,2,31,7],[31,8,31,9],[31,10,31,11],[31,12,31,13],[33,2,33,7],[33,8,33,9],[33,10,33,11],[33,12,33,13],[34,2,34,7],[34,8,34,9],[34,10,34,11],[34,12,34,13],[37,2,37,7],[37,8,37,9],[37,10,37,11],[37,12,37,13],[35,2,35,7],[35,8,35,9],[35,10,35,11],[35,12,35,13],[36,2,36,7],[36,8,36,9],[36,10,36,11],[36,12,36,13]]}
[null,"Platzierungsspiele"]
[null,"25-30"]
[null,null,"Beginn:",null,{"$f":"Vorgaben!G4","v":"08:45:00"},"Uhr","Spielzeit:",null,{"$f":"Vorgaben!G5","v":1},"x",{"$f":"Vorgaben!G6","v":6.9444444444444441E-3},"min.","Pause:",null,{"$f":"Vorgaben!G7","v":6.9444444444444447E-4},"Min."]
[null,null,null,null,null,null,null,null,null,null,null,null,null,"Halbzeit:",{"$f":"IF(Vorgaben!G5>1,Vorgaben!G8,0)","v":0},"Min."]
[null,null,null,null,"Mannschaften:"]
[null,null,null,null,"1.",{"$f":"Sonntag!F406","v":"Gruppe A3"}]
[null,null,null,null,"2.",{"$f":"Sonntag!F407","v":"Gruppe B7"}]
[null,null,null,null,"3.",{"$f":"Sonntag!F408","v":"Gruppe C7"}]
[null,null,null,null,"4.",{"$f":"Sonntag!F409","v":"Gruppe D4"}]
[null,null,null,null,"5.",{"$f":"Sonntag!F410","v":"Gruppe E1"}]
[null,null,null,null,"6.",{"$f":"Sonntag!F411","v":"Gruppe F3"}]
[]
[null,"Nr.","Beginn",null,"Mannschaft1",null,null,null,null,"Mannschaft2",null,null,null,null,"Ergebnis",null,null,"Platz"]
[null,{"$f":"Sonntag!B414","v":61},{"$f":"Sonntag!C414","v":"08:45:00"},{"$f":"Platzzuordnung!C64","v":"PlSp25-30"},{"$f":"Sonntag!E414","v":"Gruppe A3"},null,null,null,null,{"$f":"Sonntag!J414","v":"Gruppe B7"},null,null,null,null,1,":",2,{"$f":"Sonntag!R414","v":5}]
[null,{"$f":"Sonntag!B415","v":62},{"$f":"Sonntag!C415","v":"09:07:00"},{"$f":"Platzzuordnung!C65","v":"PlSp25-30"},{"$f":"Sonntag!E415","v":"Gruppe C7"},null,null,null,null,{"$f":"Sonntag!J415","v":"Gruppe D4"},null,null,null,null,3,":",4,{"$f":"Sonntag!R415","v":5}]
[null,{"$f":"Sonntag!B416","v":63},{"$f":"Sonntag!C416","v":"09:18:00"},{"$f":"Platzzuordnung!C66","v":"PlSp25-30"},{"$f":"Sonntag!E416","v":"Gruppe E1"},null,null,null,null,{"$f":"Sonntag!J416","v":"Gruppe F3"},null,null,null,null,5,":",1,{"$f":"Sonntag!R416","v":5}]
[null,{"$f":"Sonntag!B417","v":64},{"$f":"Sonntag!C417","v":"09:40:00"},{"$f":"Platzzuordnung!C67","v":"PlSp25-30"},{"$f":"Sonntag!E417","v":"Gruppe B7"},null,null,null,null,{"$f":"Sonntag!J417","v":"Gruppe C7"},null,null,null,null,6,":",2,{"$f":"Sonntag!R417","v":5}]
[null,{"$f":"Sonntag!B418","v":65},{"$f":"Sonntag!C418","v":"09:51:00"},{"$f":"Platzzuordnung!C68","v":"PlSp25-30"},{"$f":"Sonntag!E418","v":"Gruppe D4"},null,null,null,null,{"$f":"Sonntag!J418","v":"Gruppe E1"},null,null,null,null,null,":",null,{"$f":"Sonntag!R418","v":5}]
[null,{"$f":"Sonntag!B419","v":66},{"$f":"Sonntag!C419","v":"10:13:00"},{"$f":"Platzzuordnung!C69","v":"PlSp25-30"},{"$f":"Sonntag!E419","v":"Gruppe A3"},null,null,null,null,{"$f":"Sonntag!J419","v":"Gruppe C7"},null,null,null,null,null,":",null,{"$f":"Sonntag!R419","v":5}]
[null,{"$f":"Sonntag!B420","v":67},{"$f":"Sonntag!C420","v":"10:24:00"},{"$f":"Platzzuordnung!C70","v":"PlSp25-30"},{"$f":"Sonntag!E420","v":"Gruppe E1"},null,null,null,null,{"$f":"Sonntag!J420","v":"Gruppe B7"},null,null,null,null,null,":",null,{"$f":"Sonntag!R420","v":5}]
[null,{"$f":"Sonntag!B421","v":68},{"$f":"Sonntag!C421","v":"10:46:00"},{"$f":"Platzzuordnung!C71","v":"PlSp25-30"},{"$f":"Sonntag!E421","v":"Gruppe F3"},null,null,null,null,{"$f":"Sonntag!J421","v":"Gruppe A3"},null,null,null,null,null,":",null,{"$f":"Sonntag!R421","v":5}]
[null,{"$f":"Sonntag!B422","v":69},{"$f":"Sonntag!C422","v":"10:57:00"},{"$f":"Platzzuordnung!C72","v":"PlSp25-30"},{"$f":"Sonntag!E422","v":"Gruppe C7"},null,null,null,null,{"$f":"Sonntag!J422","v":"Gruppe E1"},null,null,null,null,null,":",null,{"$f":"Sonntag!R422","v":5}]
[null,{"$f":"Sonntag!B423","v":70},{"$f":"Sonntag!C423","v":"11:19:00"},{"$f":"Platzzuordnung!C73","v":"PlSp25-30"},{"$f":"Sonntag!E423","v":"Gruppe D4"},null,null,null,null,{"$f":"Sonntag!J423","v":"Gruppe F3"},null,null,null,null,null,":",null,{"$f":"Sonntag!R423","v":5}]
[null,{"$f":"Sonntag!B424","v":71},{"$f":"Sonntag!C424","v":"12:15:00"},{"$f":"Platzzuordnung!C74","v":"PlSp25-30"},{"$f":"Sonntag!E424","v":"Gruppe A3"},null,null,null,null,{"$f":"Sonntag!J424","v":"Gruppe E1"},null,null,null,null,null,":",null,{"$f":"Sonntag!R424","v":5}]
[null,{"$f":"Sonntag!B425","v":72},{"$f":"Sonntag!C425","v":"12:37:00"},{"$f":"Platzzuordnung!C75","v":"PlSp25-30"},{"$f":"Sonntag!E425","v":"Gruppe F3"},null,null,null,null,{"$f":"Sonntag!J425","v":"Gruppe B7"},null,null,null,null,null,":",null,{"$f":"Sonntag!R425","v":5}]
[null,{"$f":"Sonntag!B426","v":73},{"$f":"Sonntag!C426","v":"12:48:00"},{"$f":"Platzzuordnung!C76","v":"PlSp25-30"},{"$f":"Sonntag!E426","v":"Gruppe D4"},null,null,null,null,{"$f":"Sonntag!J426","v":"Gruppe A3"},null,null,null,null,null,":",null,{"$f":"Sonntag!R426","v":5}]
[null,{"$f":"Sonntag!B427","v":74},{"$f":"Sonntag!C427","v":"13:10:00"},{"$f":"Platzzuordnung!C77","v":"PlSp25-30"},{"$f":"Sonntag!E427","v":"Gruppe C7"},null,null,null,null,{"$f":"Sonntag!J427","v":"Gruppe F3"},null,null,null,null,null,":",null,{"$f":"Sonntag!R427","v":5}]
[null,{"$f":"Sonntag!B428","v":75},{"$f":"Sonntag!C428","v":"13:21:00"},{"$f":"Platzzuordnung!C78","v":"PlSp25-30"},{"$f":"Sonntag!E428","v":"Gruppe B7"},null,null,null,null,{"$f":"Sonntag!J428","v":"Gruppe D4"},null,null,null,null,null,":",null,{"$f":"Sonntag!R428","v":5}]
[]
[null,{"$f":"IF(ISBLANK(O27),\"\",Sonntag!BD429)","v":""}]
[null,"Tabelle",null,null,null,null,null,null,"Spiele",null,"Punkte",null,"Differenz",null,"Tore"]
[null,{"$f":"Sonntag!B432","v":1},{"$f":"Sonntag!C432","v":"Gruppe B7"},null,null,null,null,null,{"$f":"Sonntag!I432","v":2},null,{"$f":"Sonntag!K432","v":6},null,{"$f":"Sonntag!M432","v":5},null,{"$f":"Sonntag!O432","v":8},":",{"$f":"Sonntag!Q432","v":3}]
[null,{"$f":"Sonntag!B433","v":2},{"$f":"Sonntag!C433","v":"Gruppe E1"},null,null,null,null,null,{"$f":"Sonntag!I433","v":1},null,{"$f":"Sonntag!K433","v":3},null,{"$f":"Sonntag!M433","v":4},null,{"$f":"Sonntag!O433","v":5},":",{"$f":"Sonntag!Q433","v":1}]
[null,{"$f":"Sonntag!B434","v":3},{"$f":"Sonntag!C434","v":"Gruppe D4"},null,null,null,null,null,{"$f":"Sonntag!I434","v":1},null,{"$f":"Sonntag!K434","v":3},null,{"$f":"Sonntag!M434","v":1},null,{"$f":"Sonntag!O434","v":4},":",{"$f":"Sonntag!Q434","v":3}]
[null,{"$f":"Sonntag!B435","v":4},{"$f":"Sonntag!C435","v":"Gruppe A3"},null,null,null,null,null,{"$f":"Sonntag!I435","v":1},null,{"$f":"Sonntag!K435","v":0},null,{"$f":"Sonntag!M435","v":-1},null,{"$f":"Sonntag!O435","v":1},":",{"$f":"Sonntag!Q435","v":2}]
[null,{"$f":"Sonntag!B436","v":5},{"$f":"Sonntag!C436","v":"Gruppe F3"},null,null,null,null,null,{"$f":"Sonntag!I436","v":1},null,{"$f":"Sonntag!K436","v":0},null,{"$f":"Sonntag!M436","v":-4},null,{"$f":"Sonntag!O436","v":1},":",{"$f":"Sonntag!Q436","v":5}]
[null,{"$f":"Sonntag!B437","v":6},{"$f":"Sonntag!C437","v":"Gruppe C7"},null,null,null,null,null,{"$f":"Sonntag!I437","v":2},null,{"$f":"Sonntag!K437","v":0},null,{"$f":"Sonntag!M437","v":-5},null,{"$f":"Sonntag!O437","v":5},":",{"$f":"Sonntag!Q437","v":10}]

{"sheet":"PlSp31-36","index":24,"n_rows":37,"n_cols":18,"rows_kept":37,"cut":false,"hidden":false,"merged":[[7,5,7,11],[0,1,0,17],[1,1,1,17],[2,12,2,13],[5,5,5,11],[6,5,6,11],[4,4,4,11],[8,5,8,11],[9,5,9,11],[10,5,10,11],[12,2,12,3],[12,4,12,8],[12,9,12,13],[12,14,12,16],[13,2,13,3],[13,4,13,8],[13,9,13,13],[14,2,14,3],[14,4,14,8],[14,9,14,13],[15,2,15,3],[15,4,15,8],[15,9,15,13],[16,2,16,3],[16,4,16,8],[16,9,16,13],[17,2,17,3],[17,4,17,8],[17,9,17,13],[18,2,18,3],[18,4,18,8],[18,9,18,13],[19,2,19,3],[19,4,19,8],[19,9,19,13],[20,2,20,3],[20,4,20,8],[20,9,20,13],[21,2,21,3],[21,4,21,8],[21,9,21,13],[22,2,22,3],[22,4,22,8],[22,9,22,13],[23,2,23,3],[23,4,23,8],[23,9,23,13],[24,2,24,3],[24,4,24,8],[24,9,24,13],[25,2,25,3],[25,4,25,8],[25,9,25,13],[26,2,26,3],[26,4,26,8],[26,9,26,13],[32,2,32,7],[32,8,32,9],[32,10,32,11],[32,12,32,13],[27,2,27,3],[27,4,27,8],[27,9,27,13],[30,1,30,7],[30,8,30,9],[30,10,30,11],[30,12,30,13],[30,14,30,16],[31,2,31,7],[31,8,31,9],[31,10,31,11],[31,12,31,13],[33,2,33,7],[33,8,33,9],[33,10,33,11],[33,12,33,13],[34,2,34,7],[34,8,34,9],[34,10,34,11],[34,12,34,13],[37,2,37,7],[37,8,37,9],[37,10,37,11],[37,12,37,13],[35,2,35,7],[35,8,35,9],[35,10,35,11],[35,12,35,13],[36,2,36,7],[36,8,36,9],[36,10,36,11],[36,12,36,13]]}
[null,"Platzierungsspiele"]
[null,"31-36"]
[null,null,"Beginn:",null,{"$f":"Vorgaben!G4","v":"08:45:00"},"Uhr","Spielzeit:",null,{"$f":"Vorgaben!G5","v":1},"x",{"$f":"Vorgaben!G6","v":6.9444444444444441E-3},"min.","Pause:",null,{"$f":"Vorgaben!G7","v":6.9444444444444447E-4},"Min."]
[null,null,null,null,null,null,null,null,null,null,null,null,null,"Halbzeit:",{"$f":"IF(Vorgaben!G5>1,Vorgaben!G8,0)","v":0},"Min."]
[null,null,null,null,"Mannschaften:"]
[null,null,null,null,"1.",{"$f":"Sonntag!F506","v":"Gruppe A8"}]
[null,null,null,null,"2.",{"$f":"Sonntag!F507","v":"Gruppe B8"}]
[null,null,null,null,"3.",{"$f":"Sonntag!F508","v":"Gruppe C2"}]
[null,null,null,null,"4.",{"$f":"Sonntag!F509","v":"Gruppe D1"}]
[null,null,null,null,"5.",{"$f":"Sonntag!F510","v":"Gruppe E6"}]
[null,null,null,null,"6.",{"$f":"Sonntag!F511","v":"Gruppe F2"}]
[]
[null,"Nr.","Beginn",null,"Mannschaft1",null,null,null,null,"Mannschaft2",null,null,null,null,"Ergebnis",null,null,"Platz"]
[null,{"$f":"Sonntag!B514","v":76},{"$f":"Sonntag!C514","v":"08:56:00"},{"$f":"Platzzuordnung!C79","v":"PlSp31-36"},{"$f":"Sonntag!E514","v":"Gruppe A8"},null,null,null,null,{"$f":"Sonntag!J514","v":"Gruppe B8"},null,null,null,null,2,":",3,{"$f":"Sonntag!R514","v":6}]
[null,{"$f":"Sonntag!B515","v":77},{"$f":"Sonntag!C515","v":"09:07:00"},{"$f":"Platzzuordnung!C80","v":"PlSp31-36"},{"$f":"Sonntag!E515","v":"Gruppe C2"},null,null,null,null,{"$f":"Sonntag!J515","v":"Gruppe D1"},null,null,null,null,null,":",null,{"$f":"Sonntag!R515","v":6}]
[null,{"$f":"Sonntag!B516","v":78},{"$f":"Sonntag!C516","v":"09:29:00"},{"$f":"Platzzuordnung!C81","v":"PlSp31-36"},{"$f":"Sonntag!E516","v":"Gruppe E6"},null,null,null,null,{"$f":"Sonntag!J516","v":"Gruppe F2"},null,null,null,null,null,":",null,{"$f":"Sonntag!R516","v":6}]
[null,{"$f":"Sonntag!B517","v":79},{"$f":"Sonntag!C517","v":"09:40:00"},{"$f":"Platzzuordnung!C82","v":"PlSp31-36"},{"$f":"Sonntag!E517","v":"Gruppe B8"},null,null,null,null,{"$f":"Sonntag!J517","v":"Gruppe C2"},null,null,null,null,null,":",null,{"$f":"Sonntag!R517","v":6}]
[null,{"$f":"Sonntag!B518","v":80},{"$f":"Sonntag!C518","v":"10:02:00"},{"$f":"Platzzuordnung!C83","v":"PlSp31-36"},{"$f":"Sonntag!E518","v":"Gruppe D1"},null,null,null,null,{"$f":"Sonntag!J518","v":"Gruppe E6"},null,null,null,null,null,":",null,{"$f":"Sonntag!R518","v":6}]
[null,{"$f":"Sonntag!B519","v":81},{"$f":"Sonntag!C519","v":"10:13:00"},{"$f":"Platzzuordnung!C84","v":"PlSp31-36"},{"$f":"Sonntag!E519","v":"Gruppe A8"},null,null,null,null,{"$f":"Sonntag!J519","v":"Gruppe C2"},null,null,null,null,null,":",null,{"$f":"Sonntag!R519","v":6}]
[null,{"$f":"Sonntag!B520","v":82},{"$f":"Sonntag!C520","v":"10:35:00"},{"$f":"Platzzuordnung!C85","v":"PlSp31-36"},{"$f":"Sonntag!E520","v":"Gruppe E6"},null,null,null,null,{"$f":"Sonntag!J520","v":"Gruppe B8"},null,null,null,null,null,":",null,{"$f":"Sonntag!R520","v":6}]
[null,{"$f":"Sonntag!B521","v":83},{"$f":"Sonntag!C521","v":"10:46:00"},{"$f":"Platzzuordnung!C86","v":"PlSp31-36"},{"$f":"Sonntag!E521","v":"Gruppe F2"},null,null,null,null,{"$f":"Sonntag!J521","v":"Gruppe A8"},null,null,null,null,null,":",null,{"$f":"Sonntag!R521","v":6}]
[null,{"$f":"Sonntag!B522","v":84},{"$f":"Sonntag!C522","v":"11:08:00"},{"$f":"Platzzuordnung!C87","v":"PlSp31-36"},{"$f":"Sonntag!E522","v":"Gruppe C2"},null,null,null,null,{"$f":"Sonntag!J522","v":"Gruppe E6"},null,null,null,null,null,":",null,{"$f":"Sonntag!R522","v":6}]
[null,{"$f":"Sonntag!B523","v":85},{"$f":"Sonntag!C523","v":"11:19:00"},{"$f":"Platzzuordnung!C88","v":"PlSp31-36"},{"$f":"Sonntag!E523","v":"Gruppe D1"},null,null,null,null,{"$f":"Sonntag!J523","v":"Gruppe F2"},null,null,null,null,null,":",null,{"$f":"Sonntag!R523","v":6}]
[null,{"$f":"Sonntag!B524","v":86},{"$f":"Sonntag!C524","v":"12:26:00"},{"$f":"Platzzuordnung!C89","v":"PlSp31-36"},{"$f":"Sonntag!E524","v":"Gruppe A8"},null,null,null,null,{"$f":"Sonntag!J524","v":"Gruppe E6"},null,null,null,null,null,":",null,{"$f":"Sonntag!R524","v":6}]
[null,{"$f":"Sonntag!B525","v":87},{"$f":"Sonntag!C525","v":"12:37:00"},{"$f":"Platzzuordnung!C90","v":"PlSp31-36"},{"$f":"Sonntag!E525","v":"Gruppe F2"},null,null,null,null,{"$f":"Sonntag!J525","v":"Gruppe B8"},null,null,null,null,null,":",null,{"$f":"Sonntag!R525","v":6}]
[null,{"$f":"Sonntag!B526","v":88},{"$f":"Sonntag!C526","v":"12:59:00"},{"$f":"Platzzuordnung!C91","v":"PlSp31-36"},{"$f":"Sonntag!E526","v":"Gruppe D1"},null,null,null,null,{"$f":"Sonntag!J526","v":"Gruppe A8"},null,null,null,null,null,":",null,{"$f":"Sonntag!R526","v":6}]
[null,{"$f":"Sonntag!B527","v":89},{"$f":"Sonntag!C527","v":"13:10:00"},{"$f":"Platzzuordnung!C92","v":"PlSp31-36"},{"$f":"Sonntag!E527","v":"Gruppe C2"},null,null,null,null,{"$f":"Sonntag!J527","v":"Gruppe F2"},null,null,null,null,null,":",null,{"$f":"Sonntag!R527","v":6}]
[null,{"$f":"Sonntag!B528","v":90},{"$f":"Sonntag!C528","v":"13:21:00"},{"$f":"Platzzuordnung!C93","v":"PlSp31-36"},{"$f":"Sonntag!E528","v":"Gruppe B8"},null,null,null,null,{"$f":"Sonntag!J528","v":"Gruppe D1"},null,null,null,null,null,":",null,{"$f":"Sonntag!R528","v":6}]
[]
[null,{"$f":"IF(ISBLANK(O27),\"\",Sonntag!BD529)","v":""}]
[null,"Tabelle",null,null,null,null,null,null,"Spiele",null,"Punkte",null,"Differenz",null,"Tore"]
[null,1,{"$f":"Sonntag!C532","v":"Gruppe B8"},null,null,null,null,null,{"$f":"Sonntag!I532","v":1},null,{"$f":"Sonntag!K532","v":3},null,{"$f":"Sonntag!M532","v":1},null,{"$f":"Sonntag!O532","v":3},":",{"$f":"Sonntag!Q532","v":2}]
[null,2,{"$f":"Sonntag!C533","v":"Gruppe E6"},null,null,null,null,null,{"$f":"Sonntag!I533","v":0},null,{"$f":"Sonntag!K533","v":0},null,{"$f":"Sonntag!M533","v":0},null,{"$f":"Sonntag!O533","v":0},":",{"$f":"Sonntag!Q533","v":0}]
[null,3,{"$f":"Sonntag!C534","v":"Gruppe C2"},null,null,null,null,null,{"$f":"Sonntag!I534","v":0},null,{"$f":"Sonntag!K534","v":0},null,{"$f":"Sonntag!M534","v":0},null,{"$f":"Sonntag!O534","v":0},":",{"$f":"Sonntag!Q534","v":0}]
[null,4,{"$f":"Sonntag!C535","v":"Gruppe D1"},null,null,null,null,null,{"$f":"Sonntag!I535","v":0},null,{"$f":"Sonntag!K535","v":0},null,{"$f":"Sonntag!M535","v":0},null,{"$f":"Sonntag!O535","v":0},":",{"$f":"Sonntag!Q535","v":0}]
[null,5,{"$f":"Sonntag!C536","v":"Gruppe F2"},null,null,null,null,null,{"$f":"Sonntag!I536","v":0},null,{"$f":"Sonntag!K536","v":0},null,{"$f":"Sonntag!M536","v":0},null,{"$f":"Sonntag!O536","v":0},":",{"$f":"Sonntag!Q536","v":0}]
[null,6,{"$f":"Sonntag!C537","v":"Gruppe A8"},null,null,null,null,null,{"$f":"Sonntag!I537","v":1},null,{"$f":"Sonntag!K537","v":0},null,{"$f":"Sonntag!M537","v":-1},null,{"$f":"Sonntag!O537","v":2},":",{"$f":"Sonntag!Q537","v":3}]

{"sheet":"PlSp37-42","index":25,"n_rows":37,"n_cols":18,"rows_kept":37,"cut":false,"hidden":false,"merged":[[7,5,7,11],[0,1,0,17],[1,1,1,17],[2,12,2,13],[5,5,5,11],[6,5,6,11],[4,4,4,11],[8,5,8,11],[9,5,9,11],[10,5,10,11],[12,2,12,3],[12,4,12,8],[12,9,12,13],[12,14,12,16],[13,2,13,3],[13,4,13,8],[13,9,13,13],[14,2,14,3],[14,4,14,8],[14,9,14,13],[15,2,15,3],[15,4,15,8],[15,9,15,13],[16,2,16,3],[16,4,16,8],[16,9,16,13],[17,2,17,3],[17,4,17,8],[17,9,17,13],[18,2,18,3],[18,4,18,8],[18,9,18,13],[19,2,19,3],[19,4,19,8],[19,9,19,13],[20,2,20,3],[20,4,20,8],[20,9,20,13],[21,2,21,3],[21,4,21,8],[21,9,21,13],[22,2,22,3],[22,4,22,8],[22,9,22,13],[23,2,23,3],[23,4,23,8],[23,9,23,13],[24,2,24,3],[24,4,24,8],[24,9,24,13],[25,2,25,3],[25,4,25,8],[25,9,25,13],[26,2,26,3],[26,4,26,8],[26,9,26,13],[32,2,32,7],[32,8,32,9],[32,10,32,11],[32,12,32,13],[27,2,27,3],[27,4,27,8],[27,9,27,13],[30,1,30,7],[30,8,30,9],[30,10,30,11],[30,12,30,13],[30,14,30,16],[31,2,31,7],[31,8,31,9],[31,10,31,11],[31,12,31,13],[33,2,33,7],[33,8,33,9],[33,10,33,11],[33,12,33,13],[34,2,34,7],[34,8,34,9],[34,10,34,11],[34,12,34,13],[37,2,37,7],[37,8,37,9],[37,10,37,11],[37,12,37,13],[35,2,35,7],[35,8,35,9],[35,10,35,11],[35,12,35,13],[36,2,36,7],[36,8,36,9],[36,10,36,11],[36,12,36,13]]}
[null,"Platzierungsspiele"]
[null,"37-42"]
[null,null,"Beginn:",null,{"$f":"Vorgaben!G4","v":"08:45:00"},"Uhr","Spielzeit:",null,{"$f":"Vorgaben!G5","v":1},"x",{"$f":"Vorgaben!G6","v":6.9444444444444441E-3},"min.","Pause:",null,{"$f":"Vorgaben!G7","v":6.9444444444444447E-4},"Min."]
[]
[null,null,null,null,"Mannschaften:"]
[null,null,null,null,"1.",{"$f":"Sonntag!F606","v":"Gruppe A5"}]
[null,null,null,null,"2.",{"$f":"Sonntag!F607","v":"Gruppe B4"}]
[null,null,null,null,"3.",{"$f":"Sonntag!F608","v":"Gruppe C1"}]
[null,null,null,null,"4.",{"$f":"Sonntag!F609","v":"Gruppe D5"}]
[null,null,null,null,"5.",{"$f":"Sonntag!F610","v":"Gruppe E5"}]
[null,null,null,null,"6.",{"$f":"Sonntag!F611","v":"Gruppe F1"}]
[]
[null,"Nr.","Beginn",null,"Mannschaft1",null,null,null,null,"Mannschaft2",null,null,null,null,"Ergebnis",null,null,"Platz"]
[null,{"$f":"Sonntag!B614","v":91},{"$f":"Sonntag!C614","v":"08:45:00"},{"$f":"Platzzuordnung!C94","v":"PlSp37-42"},{"$f":"Sonntag!E614","v":"Gruppe A5"},null,null,null,null,{"$f":"Sonntag!J614","v":"Gruppe B4"},null,null,null,null,1,":",0,{"$f":"Sonntag!R614","v":4}]
[null,{"$f":"Sonntag!B615","v":92},{"$f":"Sonntag!C615","v":"08:56:00"},{"$f":"Platzzuordnung!C95","v":"PlSp37-42"},{"$f":"Sonntag!E615","v":"Gruppe C1"},null,null,null,null,{"$f":"Sonntag!J615","v":"Gruppe D5"},null,null,null,null,2,":",3,{"$f":"Sonntag!R615","v":3}]
[null,{"$f":"Sonntag!B616","v":93},{"$f":"Sonntag!C616","v":"09:18:00"},{"$f":"Platzzuordnung!C96","v":"PlSp37-42"},{"$f":"Sonntag!E616","v":"Gruppe E5"},null,null,null,null,{"$f":"Sonntag!J616","v":"Gruppe F1"},null,null,null,null,null,":",null,{"$f":"Sonntag!R616","v":4}]
[null,{"$f":"Sonntag!B617","v":94},{"$f":"Sonntag!C617","v":"09:29:00"},{"$f":"Platzzuordnung!C97","v":"PlSp37-42"},{"$f":"Sonntag!E617","v":"Gruppe B4"},null,null,null,null,{"$f":"Sonntag!J617","v":"Gruppe C1"},null,null,null,null,null,":",null,{"$f":"Sonntag!R617","v":3}]
[null,{"$f":"Sonntag!B618","v":95},{"$f":"Sonntag!C618","v":"09:51:00"},{"$f":"Platzzuordnung!C98","v":"PlSp37-42"},{"$f":"Sonntag!E618","v":"Gruppe D5"},null,null,null,null,{"$f":"Sonntag!J618","v":"Gruppe E5"},null,null,null,null,null,":",null,{"$f":"Sonntag!R618","v":4}]
[null,{"$f":"Sonntag!B619","v":96},{"$f":"Sonntag!C619","v":"10:02:00"},{"$f":"Platzzuordnung!C99","v":"PlSp37-42"},{"$f":"Sonntag!E619","v":"Gruppe A5"},null,null,null,null,{"$f":"Sonntag!J619","v":"Gruppe C1"},null,null,null,null,null,":",null,{"$f":"Sonntag!R619","v":3}]
[null,{"$f":"Sonntag!B620","v":97},{"$f":"Sonntag!C620","v":"10:24:00"},{"$f":"Platzzuordnung!C100","v":"PlSp37-42"},{"$f":"Sonntag!E620","v":"Gruppe E5"},null,null,null,null,{"$f":"Sonntag!J620","v":"Gruppe B4"},null,null,null,null,null,":",null,{"$f":"Sonntag!R620","v":4}]
[null,{"$f":"Sonntag!B621","v":98},{"$f":"Sonntag!C621","v":"10:35:00"},{"$f":"Platzzuordnung!C101","v":"PlSp37-42"},{"$f":"Sonntag!E621","v":"Gruppe F1"},null,null,null,null,{"$f":"Sonntag!J621","v":"Gruppe A5"},null,null,null,null,null,":",null,{"$f":"Sonntag!R621","v":3}]
[null,{"$f":"Sonntag!B622","v":99},{"$f":"Sonntag!C622","v":"10:57:00"},{"$f":"Platzzuordnung!C102","v":"PlSp37-42"},{"$f":"Sonntag!E622","v":"Gruppe C1"},null,null,null,null,{"$f":"Sonntag!J622","v":"Gruppe E5"},null,null,null,null,null,":",null,{"$f":"Sonntag!R622","v":4}]
[null,{"$f":"Sonntag!B623","v":100},{"$f":"Sonntag!C623","v":"11:08:00"},{"$f":"Platzzuordnung!C103","v":"PlSp37-42"},{"$f":"Sonntag!E623","v":"Gruppe D5"},null,null,null,null,{"$f":"Sonntag!J623","v":"Gruppe F1"},null,null,null,null,null,":",null,{"$f":"Sonntag!R623","v":3}]
[null,{"$f":"Sonntag!B624","v":101},{"$f":"Sonntag!C624","v":"12:15:00"},{"$f":"Platzzuordnung!C104","v":"PlSp37-42"},{"$f":"Sonntag!E624","v":"Gruppe A5"},null,null,null,null,{"$f":"Sonntag!J624","v":"Gruppe E5"},null,null,null,null,null,":",null,{"$f":"Sonntag!R624","v":4}]
[null,{"$f":"Sonntag!B625","v":102},{"$f":"Sonntag!C625","v":"12:26:00"},{"$f":"Platzzuordnung!C105","v":"PlSp37-42"},{"$f":"Sonntag!E625","v":"Gruppe F1"},null,null,null,null,{"$f":"Sonntag!J625","v":"Gruppe B4"},null,null,null,null,4,":",5,{"$f":"Sonntag!R625","v":3}]
[null,{"$f":"Sonntag!B626","v":103},{"$f":"Sonntag!C626","v":"12:48:00"},{"$f":"Platzzuordnung!C106","v":"PlSp37-42"},{"$f":"Sonntag!E626","v":"Gruppe D5"},null,null,null,null,{"$f":"Sonntag!J626","v":"Gruppe A5"},null,null,null,null,4,":",4,{"$f":"Sonntag!R626","v":4}]
[null,{"$f":"Sonntag!B627","v":104},{"$f":"Sonntag!C627","v":"12:59:00"},{"$f":"Platzzuordnung!C107","v":"PlSp37-42"},{"$f":"Sonntag!E627","v":"Gruppe C1"},null,null,null,null,{"$f":"Sonntag!J627","v":"Gruppe F1"},null,null,null,null,null,":",null,{"$f":"Sonntag!R627","v":3}]
[null,{"$f":"Sonntag!B628","v":105},{"$f":"Sonntag!C628","v":"13:21:00"},{"$f":"Platzzuordnung!C108","v":"PlSp37-42"},{"$f":"Sonntag!E628","v":"Gruppe B4"},null,null,null,null,{"$f":"Sonntag!J628","v":"Gruppe D5"},null,null,null,null,null,":",null,{"$f":"Sonntag!R628","v":1}]
[]
[null,{"$f":"IF(ISBLANK(O27),\"\",Sonntag!BD629)","v":""}]
[null,"Tabelle",null,null,null,null,null,null,"Spiele",null,"Punkte",null,"Differenz",null,"Tore"]
[null,1,{"$f":"Sonntag!C632","v":"Gruppe D5"},null,null,null,null,null,{"$f":"Sonntag!I632","v":2},null,{"$f":"Sonntag!K632","v":4},null,{"$f":"Sonntag!M632","v":1},null,{"$f":"Sonntag!O632","v":7},":",{"$f":"Sonntag!Q632","v":6}]
[null,2,{"$f":"Sonntag!C633","v":"Gruppe A5"},null,null,null,null,null,{"$f":"Sonntag!I633","v":2},null,{"$f":"Sonntag!K633","v":4},null,{"$f":"Sonntag!M633","v":1},null,{"$f":"Sonntag!O633","v":5},":",{"$f":"Sonntag!Q633","v":4}]
[null,3,{"$f":"Sonntag!C634","v":"Gruppe B4"},null,null,null,null,null,{"$f":"Sonntag!I634","v":2},null,{"$f":"Sonntag!K634","v":3},null,{"$f":"Sonntag!M634","v":0},null,{"$f":"Sonntag!O634","v":5},":",{"$f":"Sonntag!Q634","v":5}]
[null,4,{"$f":"Sonntag!C635","v":"Gruppe E5"},null,null,null,null,null,{"$f":"Sonntag!I635","v":0},null,{"$f":"Sonntag!K635","v":0},null,{"$f":"Sonntag!M635","v":0},null,{"$f":"Sonntag!O635","v":0},":",{"$f":"Sonntag!Q635","v":0}]
[null,5,{"$f":"Sonntag!C636","v":"Gruppe F1"},null,null,null,null,null,{"$f":"Sonntag!I636","v":1},null,{"$f":"Sonntag!K636","v":0},null,{"$f":"Sonntag!M636","v":-1},null,{"$f":"Sonntag!O636","v":4},":",{"$f":"Sonntag!Q636","v":5}]
[null,6,{"$f":"Sonntag!C637","v":"Gruppe C1"},null,null,null,null,null,{"$f":"Sonntag!I637","v":1},null,{"$f":"Sonntag!K637","v":0},null,{"$f":"Sonntag!M637","v":-1},null,{"$f":"Sonntag!O637","v":2},":",{"$f":"Sonntag!Q637","v":3}]

{"sheet":"PlSp43-48","index":26,"n_rows":37,"n_cols":18,"rows_kept":37,"cut":false,"hidden":false,"merged":[[37,2,37,7],[37,8,37,9],[37,10,37,11],[37,12,37,13],[35,2,35,7],[35,8,35,9],[35,10,35,11],[35,12,35,13],[36,2,36,7],[36,8,36,9],[36,10,36,11],[36,12,36,13],[33,2,33,7],[33,8,33,9],[33,10,33,11],[33,12,33,13],[34,2,34,7],[34,8,34,9],[34,10,34,11],[34,12,34,13],[30,14,30,16],[31,2,31,7],[31,8,31,9],[31,10,31,11],[31,12,31,13],[32,2,32,7],[32,8,32,9],[32,10,32,11],[32,12,32,13],[27,2,27,3],[27,4,27,8],[27,9,27,13],[30,1,30,7],[30,8,30,9],[30,10,30,11],[30,12,30,13],[25,2,25,3],[25,4,25,8],[25,9,25,13],[26,2,26,3],[26,4,26,8],[26,9,26,13],[23,2,23,3],[23,4,23,8],[23,9,23,13],[24,2,24,3],[24,4,24,8],[24,9,24,13],[21,2,21,3],[21,4,21,8],[21,9,21,13],[22,2,22,3],[22,4,22,8],[22,9,22,13],[19,2,19,3],[19,4,19,8],[19,9,19,13],[20,2,20,3],[20,4,20,8],[20,9,20,13],[17,2,17,3],[17,4,17,8],[17,9,17,13],[18,2,18,3],[18,4,18,8],[18,9,18,13],[15,2,15,3],[15,4,15,8],[15,9,15,13],[16,2,16,3],[16,4,16,8],[16,9,16,13],[12,14,12,16],[12,53,12,54],[13,2,13,3],[13,4,13,8],[13,9,13,13],[14,2,14,3],[14,4,14,8],[14,9,14,13],[8,5,8,11],[9,5,9,11],[10,5,10,11],[12,2,12,3],[12,4,12,8],[12,9,12,13],[7,5,7,11],[0,1,0,17],[1,1,1,17],[2,12,2,13],[5,5,5,11],[6,5,6,11],[4,4,4,11]]}
[null,"Platzierungsspiele"]
[null,"43-48"]
[null,null,"Beginn:",null,{"$f":"Vorgaben!G4","v":"08:45:00"},"Uhr","Spielzeit:",null,{"$f":"Vorgaben!G5","v":1},"x",{"$f":"Vorgaben!G6","v":6.9444444444444441E-3},"min.","Pause:",null,{"$f":"Vorgaben!G7","v":6.9444444444444447E-4},"Min."]
[null,null,null,null,null,null,null,null,null,null,null,null,null,"Halbzeit:",{"$f":"IF(Vorgaben!G5>1,Vorgaben!G8,0)","v":0},"Min."]
[null,null,null,null,"Mannschaften:"]
[null,null,null,null,"1.",{"$f":"Sonntag!F706","v":"Gruppe A1"}]
[null,null,null,null,"2.",{"$f":"Sonntag!F707","v":"Gruppe B2"}]
[null,null,null,null,"3.",{"$f":"Sonntag!F708","v":"Gruppe C6"}]
[null,null,null,null,"4.",{"$f":"Sonntag!F709","v":"Gruppe D6"}]
[null,null,null,null,"5.",{"$f":"Sonntag!F710","v":"Gruppe E8"}]
[null,null,null,null,"6.",{"$f":"Sonntag!F711","v":"Gruppe F7"}]
[]
[null,"Nr.","Beginn",null,"Mannschaft1",null,null,null,null,"Mannschaft2",null,null,null,null,"Ergebnis",null,null,"Platz"]
[null,{"$f":"Sonntag!B714","v":106},{"$f":"Sonntag!C714","v":"08:45:00"},{"$f":"Platzzuordnung!C94","v":"PlSp37-42"},{"$f":"Sonntag!E714","v":"Gruppe A1"},null,null,null,null,{"$f":"Sonntag!J714","v":"Gruppe B2"},null,null,null,null,1,":",0,{"$f":"Sonntag!R714","v":6}]
[null,{"$f":"Sonntag!B715","v":107},{"$f":"Sonntag!C715","v":"08:56:00"},{"$f":"Platzzuordnung!C95","v":"PlSp37-42"},{"$f":"Sonntag!E715","v":"Gruppe C6"},null,null,null,null,{"$f":"Sonntag!J715","v":"Gruppe D6"},null,null,null,null,1,":",1,{"$f":"Sonntag!R715","v":5}]
[null,{"$f":"Sonntag!B716","v":108},{"$f":"Sonntag!C716","v":"09:18:00"},{"$f":"Platzzuordnung!C96","v":"PlSp37-42"},{"$f":"Sonntag!E716","v":"Gruppe E8"},null,null,null,null,{"$f":"Sonntag!J716","v":"Gruppe F7"},null,null,null,null,2,":",2,{"$f":"Sonntag!R716","v":6}]
[null,{"$f":"Sonntag!B717","v":109},{"$f":"Sonntag!C717","v":"09:29:00"},{"$f":"Platzzuordnung!C97","v":"PlSp37-42"},{"$f":"Sonntag!E717","v":"Gruppe B2"},null,null,null,null,{"$f":"Sonntag!J717","v":"Gruppe C6"},null,null,null,null,2,":",0,{"$f":"Sonntag!R717","v":5}]
[null,{"$f":"Sonntag!B718","v":110},{"$f":"Sonntag!C718","v":"09:51:00"},{"$f":"Platzzuordnung!C98","v":"PlSp37-42"},{"$f":"Sonntag!E718","v":"Gruppe D6"},null,null,null,null,{"$f":"Sonntag!J718","v":"Gruppe E8"},null,null,null,null,1,":",1,{"$f":"Sonntag!R718","v":6}]
[null,{"$f":"Sonntag!B719","v":111},{"$f":"Sonntag!C719","v":"10:02:00"},{"$f":"Platzzuordnung!C99","v":"PlSp37-42"},{"$f":"Sonntag!E719","v":"Gruppe A1"},null,null,null,null,{"$f":"Sonntag!J719","v":"Gruppe C6"},null,null,null,null,4,":",0,{"$f":"Sonntag!R719","v":5}]
[null,{"$f":"Sonntag!B720","v":112},{"$f":"Sonntag!C720","v":"10:24:00"},{"$f":"Platzzuordnung!C100","v":"PlSp37-42"},{"$f":"Sonntag!E720","v":"Gruppe E8"},null,null,null,null,{"$f":"Sonntag!J720","v":"Gruppe B2"},null,null,null,null,1,":",1,{"$f":"Sonntag!R720","v":6}]
[null,{"$f":"Sonntag!B721","v":113},{"$f":"Sonntag!C721","v":"10:35:00"},{"$f":"Platzzuordnung!C101","v":"PlSp37-42"},{"$f":"Sonntag!E721","v":"Gruppe F7"},null,null,null,null,{"$f":"Sonntag!J721","v":"Gruppe A1"},null,null,null,null,1,":",1,{"$f":"Sonntag!R721","v":5}]
[null,{"$f":"Sonntag!B722","v":114},{"$f":"Sonntag!C722","v":"10:57:00"},{"$f":"Platzzuordnung!C102","v":"PlSp37-42"},{"$f":"Sonntag!E722","v":"Gruppe C6"},null,null,null,null,{"$f":"Sonntag!J722","v":"Gruppe E8"},null,null,null,null,1,":",1,{"$f":"Sonntag!R722","v":6}]
[null,{"$f":"Sonntag!B723","v":115},{"$f":"Sonntag!C723","v":"11:08:00"},{"$f":"Platzzuordnung!C103","v":"PlSp37-42"},{"$f":"Sonntag!E723","v":"Gruppe D6"},null,null,null,null,{"$f":"Sonntag!J723","v":"Gruppe F7"},null,null,null,null,1,":",0,{"$f":"Sonntag!R723","v":5}]
[null,{"$f":"Sonntag!B724","v":116},{"$f":"Sonntag!C724","v":"12:15:00"},{"$f":"Platzzuordnung!C104","v":"PlSp37-42"},{"$f":"Sonntag!E724","v":"Gruppe A1"},null,null,null,null,{"$f":"Sonntag!J724","v":"Gruppe E8"},null,null,null,null,0,":",1,{"$f":"Sonntag!R724","v":6}]
[null,{"$f":"Sonntag!B725","v":117},{"$f":"Sonntag!C725","v":"12:26:00"},{"$f":"Platzzuordnung!C105","v":"PlSp37-42"},{"$f":"Sonntag!E725","v":"Gruppe F7"},null,null,null,null,{"$f":"Sonntag!J725","v":"Gruppe B2"},null,null,null,null,1,":",1,{"$f":"Sonntag!R725","v":5}]
[null,{"$f":"Sonntag!B726","v":118},{"$f":"Sonntag!C726","v":"12:48:00"},{"$f":"Platzzuordnung!C106","v":"PlSp37-42"},{"$f":"Sonntag!E726","v":"Gruppe D6"},null,null,null,null,{"$f":"Sonntag!J726","v":"Gruppe A1"},null,null,null,null,3,":",0,{"$f":"Sonntag!R726","v":6}]
[null,{"$f":"Sonntag!B727","v":119},{"$f":"Sonntag!C727","v":"12:59:00"},{"$f":"Platzzuordnung!C107","v":"PlSp37-42"},{"$f":"Sonntag!E727","v":"Gruppe C6"},null,null,null,null,{"$f":"Sonntag!J727","v":"Gruppe F7"},null,null,null,null,1,":",1,{"$f":"Sonntag!R727","v":5}]
[null,{"$f":"Sonntag!B728","v":120},{"$f":"Sonntag!C728","v":"13:21:00"},{"$f":"Platzzuordnung!C108","v":"PlSp37-42"},{"$f":"Sonntag!E728","v":"Gruppe B2"},null,null,null,null,{"$f":"Sonntag!J728","v":"Gruppe D6"},null,null,null,null,1,":",1,{"$f":"Sonntag!R728","v":2}]
[]
[null,{"$f":"IF(ISBLANK(O27),\"\",Sonntag!BD729)","v":"ACHTUNG: Direkter Vergleich erfolgreich durchlaufen!"}]
[null,"Tabelle",null,null,null,null,null,null,"Spiele",null,"Punkte",null,"Differenz",null,"Tore"]
[null,1,{"$f":"Sonntag!C732","v":"Gruppe D6"},null,null,null,null,null,{"$f":"Sonntag!I732","v":5},null,{"$f":"Sonntag!K732","v":9},null,{"$f":"Sonntag!M732","v":4},null,{"$f":"Sonntag!O732","v":7},":",{"$f":"Sonntag!Q732","v":3}]
[null,2,{"$f":"Sonntag!C733","v":"Gruppe A1"},null,null,null,null,null,{"$f":"Sonntag!I733","v":5},null,{"$f":"Sonntag!K733","v":7},null,{"$f":"Sonntag!M733","v":1},null,{"$f":"Sonntag!O733","v":6},":",{"$f":"Sonntag!Q733","v":5}]
[null,3,{"$f":"Sonntag!C734","v":"Gruppe E8"},null,null,null,null,null,{"$f":"Sonntag!I734","v":5},null,{"$f":"Sonntag!K734","v":7},null,{"$f":"Sonntag!M734","v":1},null,{"$f":"Sonntag!O734","v":6},":",{"$f":"Sonntag!Q734","v":5}]
[null,4,{"$f":"Sonntag!C735","v":"Gruppe B2"},null,null,null,null,null,{"$f":"Sonntag!I735","v":5},null,{"$f":"Sonntag!K735","v":6},null,{"$f":"Sonntag!M735","v":1},null,{"$f":"Sonntag!O735","v":5},":",{"$f":"Sonntag!Q735","v":4}]
[null,5,{"$f":"Sonntag!C736","v":"Gruppe F7"},null,null,null,null,null,{"$f":"Sonntag!I736","v":5},null,{"$f":"Sonntag!K736","v":4},null,{"$f":"Sonntag!M736","v":-1},null,{"$f":"Sonntag!O736","v":5},":",{"$f":"Sonntag!Q736","v":6}]
[null,6,{"$f":"Sonntag!C737","v":"Gruppe C6"},null,null,null,null,null,{"$f":"Sonntag!I737","v":5},null,{"$f":"Sonntag!K737","v":3},null,{"$f":"Sonntag!M737","v":-6},null,{"$f":"Sonntag!O737","v":3},":",{"$f":"Sonntag!Q737","v":9}]

{"sheet":"Spiele ZR_ER","index":27,"n_rows":132,"n_cols":13,"rows_kept":132,"cut":false,"hidden":false,"merged":[]}
[{"$f":"'Lauf ZRA'!G1","v":1},{"$f":"'Lauf ZRA'!B1","v":"ZRA"},{"$f":"'Lauf ZRA'!A1","v":1},{"$f":"'Lauf ZRA'!C1","v":"08:45:00"},{"$f":"'Lauf ZRA'!D1","v":"Gruppe A7"},":",{"$f":"'Lauf ZRA'!E1","v":"Gruppe A4"},"__",":","__",{"$f":"IF(AND(M1=5,B1=\"43-48\"),2,IF(AND(M1=4,OR(B1=\"37-42\")),2,IF(AND(M1=3,OR(B1=\"37-42\",B1=\"43-48\")),2,IF(AND(M1=2,OR(B1=\"37-42\",B1=\"31-36\",B1=\"43-48\")),2,IF(AND(M1=1,OR(B1=\"37-42\",B1=\"31-36\",B1=\"43-48\",B1=\"25-30\")),2,\"\")))))","v":""},null,{"$f":"IF(Vorgaben!$C$1=24,1,IF(Vorgaben!$C$1=30,2,IF(Vorgaben!$C$1=36,3,IF(Vorgaben!$C$1=36,4,IF(Vorgaben!$C$1=42,5,IF(Vorgaben!$C$1=48,6,\"\"))))))","v":6}]
[{"$f":"'Lauf ZRB'!G1","v":2},{"$f":"'Lauf ZRB'!B1","v":"ZRB"},{"$f":"'Lauf ZRB'!A1","v":16},{"$f":"'Lauf ZRB'!C1","v":"08:45:00"},{"$f":"'Lauf ZRB'!D1","v":"Gruppe B3"},":",{"$f":"'Lauf ZRB'!E1","v":"Gruppe B1"},"__",":","__",{"$f":"IF(AND(M2=5,B2=\"43-48\"),2,IF(AND(M2=4,OR(B2=\"37-42\")),2,IF(AND(M2=3,OR(B2=\"37-42\",B2=\"43-48\")),2,IF(AND(M2=2,OR(B2=\"37-42\",B2=\"31-36\",B2=\"43-48\")),2,IF(AND(M2=1,OR(B2=\"37-42\",B2=\"31-36\",B2=\"43-48\",B2=\"25-30\")),2,\"\")))))","v":""},null,{"$f":"IF(Vorgaben!$C$1=24,1,IF(Vorgaben!$C$1=30,2,IF(Vorgaben!$C$1=36,3,IF(Vorgaben!$C$1=36,4,IF(Vorgaben!$C$1=42,5,IF(Vorgaben!$C$1=48,6,\"\"))))))","v":6}]
[{"$f":"'Lauf PlSp13-18'!G1","v":3},{"$f":"'Lauf PlSp13-18'!B1","v":"13-18"},{"$f":"'Lauf PlSp13-18'!A1","v":31},{"$f":"'Lauf PlSp13-18'!C1","v":"08:45:00"},{"$f":"'Lauf PlSp13-18'!D1","v":"Gruppe A2"},":",{"$f":"'Lauf PlSp13-18'!E1","v":"Gruppe B6"},"__",":","__","",null,{"$f":"IF(Vorgaben!$C$1=24,1,IF(Vorgaben!$C$1=30,2,IF(Vorgaben!$C$1=36,3,IF(Vorgaben!$C$1=36,4,IF(Vorgaben!$C$1=42,5,IF(Vorgaben!$C$1=48,6,\"\"))))))","v":6}]
[{"$f":"'Lauf PlSp37-42'!G1","v":4},{"$f":"'Lauf PlSp37-42'!B1","v":"37-42"},{"$f":"'Lauf PlSp37-42'!A1","v":91},{"$f":"'Lauf PlSp37-42'!C1","v":"08:45:00"},{"$f":"'Lauf PlSp37-42'!D1","v":"Gruppe A5"},":",{"$f":"'Lauf PlSp37-42'!E1","v":"Gruppe B4"},"__",":","__","",null,{"$f":"IF(Vorgaben!$C$1=24,1,IF(Vorgaben!$C$1=30,2,IF(Vorgaben!$C$1=36,3,IF(Vorgaben!$C$1=36,4,IF(Vorgaben!$C$1=42,5,IF(Vorgaben!$C$1=48,6,\"\"))))))","v":6}]
[{"$f":"'Lauf PlSp25-30'!G1","v":5},{"$f":"'Lauf PlSp25-30'!B1","v":"25-30"},{"$f":"'Lauf PlSp25-30'!A1","v":61},{"$f":"'Lauf PlSp25-30'!C1","v":"08:45:00"},{"$f":"'Lauf PlSp25-30'!D1","v":"Gruppe A3"},":",{"$f":"'Lauf PlSp25-30'!E1","v":"Gruppe B7"},"__",":","__","",null,{"$f":"IF(Vorgaben!$C$1=24,1,IF(Vorgaben!$C$1=30,2,IF(Vorgaben!$C$1=36,3,IF(Vorgaben!$C$1=36,4,IF(Vorgaben!$C$1=42,5,IF(Vorgaben!$C$1=48,6,\"\"))))))","v":6}]
[{"$f":"'Lauf PlSp43-48'!G1","v":6},{"$f":"'Lauf PlSp43-48'!B1","v":"43-48"},{"$f":"'Lauf PlSp43-48'!A1","v":106},{"$f":"'Lauf PlSp43-48'!C1","v":"08:45:00"},{"$f":"'Lauf PlSp43-48'!D1","v":"Gruppe A1"},":",{"$f":"'Lauf PlSp43-48'!E1","v":"Gruppe B2"},"__",":","__","",null,{"$f":"IF(Vorgaben!$C$1=24,1,IF(Vorgaben!$C$1=30,2,IF(Vorgaben!$C$1=36,3,IF(Vorgaben!$C$1=36,4,IF(Vorgaben!$C$1=42,5,IF(Vorgaben!$C$1=48,6,\"\"))))))","v":6}]
[{"$f":"'Lauf ZRA'!G2","v":1},{"$f":"'Lauf ZRA'!B2","v":"ZRA"},{"$f":"'Lauf ZRA'!A2","v":2},{"$f":"'Lauf ZRA'!C2","v":"08:56:00"},{"$f":"'Lauf ZRA'!D2","v":"Gruppe C5"},":",{"$f":"'Lauf ZRA'!E2","v":"Gruppe C8"},"__",":","__","",null,{"$f":"IF(Vorgaben!$C$1=24,1,IF(Vorgaben!$C$1=30,2,IF(Vorgaben!$C$1=36,3,IF(Vorgaben!$C$1=36,4,IF(Vorgaben!$C$1=42,5,IF(Vorgaben!$C$1=48,6,\"\"))))))","v":6}]
[{"$f":"'Lauf ZRB'!G2","v":2},{"$f":"'Lauf ZRB'!B2","v":"ZRB"},{"$f":"'Lauf ZRB'!A2","v":17},{"$f":"'Lauf ZRB'!C2","v":"08:56:00"},{"$f":"'Lauf ZRB'!D2","v":"Gruppe D8"},":",{"$f":"'Lauf ZRB'!E2","v":"Gruppe D7"},"__",":","__","",null,{"$f":"IF(Vorgaben!$C$1=24,1,IF(Vorgaben!$C$1=30,2,IF(Vorgaben!$C$1=36,3,IF(Vorgaben!$C$1=36,4,IF(Vorgaben!$C$1=42,5,IF(Vorgaben!$C$1=48,6,\"\"))))))","v":6}]
[{"$f":"'Lauf PlSp37-42'!G2","v":3},{"$f":"'Lauf PlSp37-42'!B2","v":"37-42"},{"$f":"'Lauf PlSp37-42'!A2","v":92},{"$f":"'Lauf PlSp37-42'!C2","v":"08:56:00"},{"$f":"'Lauf PlSp37-42'!D2","v":"Gruppe C1"},":",{"$f":"'Lauf PlSp37-42'!E2","v":"Gruppe D5"},"__",":","__","",null,{"$f":"IF(Vorgaben!$C$1=24,1,IF(Vorgaben!$C$1=30,2,IF(Vorgaben!$C$1=36,3,IF(Vorgaben!$C$1=36,4,IF(Vorgaben!$C$1=42,5,IF(Vorgaben!$C$1=48,6,\"\"))))))","v":6}]
[{"$f":"'Lauf PlSp19-24'!G1","v":4},{"$f":"'Lauf PlSp19-24'!B1","v":"19-24"},{"$f":"'Lauf PlSp19-24'!A1","v":46},{"$f":"'Lauf PlSp19-24'!C1","v":"08:56:00"},{"$f":"'Lauf PlSp19-24'!D1","v":"Gruppe A6"},":",{"$f":"'Lauf PlSp19-24'!E1","v":"Gruppe B5"},"__",":","__","",null,{"$f":"IF(Vorgaben!$C$1=24,1,IF(Vorgaben!$C$1=30,2,IF(Vorgaben!$C$1=36,3,IF(Vorgaben!$C$1=36,4,IF(Vorgaben!$C$1=42,5,IF(Vorgaben!$C$1=48,6,\"\"))))))","v":6}]
[{"$f":"'Lauf PlSp43-48'!G2","v":5},{"$f":"'Lauf PlSp43-48'!B2","v":"43-48"},{"$f":"'Lauf PlSp43-48'!A2","v":107},{"$f":"'Lauf PlSp43-48'!C2","v":"08:56:00"},{"$f":"'Lauf PlSp43-48'!D2","v":"Gruppe C6"},":",{"$f":"'Lauf PlSp43-48'!E2","v":"Gruppe D6"},"__",":","__","",null,{"$f":"IF(Vorgaben!$C$1=24,1,IF(Vorgaben!$C$1=30,2,IF(Vorgaben!$C$1=36,3,IF(Vorgaben!$C$1=36,4,IF(Vorgaben!$C$1=42,5,IF(Vorgaben!$C$1=48,6,\"\"))))))","v":6}]
[{"$f":"'Lauf PlSp31-36'!G1","v":6},{"$f":"'Lauf PlSp31-36'!B1","v":"31-36"},{"$f":"'Lauf PlSp31-36'!A1","v":76},{"$f":"'Lauf PlSp31-36'!C1","v":"08:56:00"},{"$f":"'Lauf PlSp31-36'!D1","v":"Gruppe A8"},":",{"$f":"'Lauf PlSp31-36'!E1","v":"Gruppe B8"},"__",":","__","",null,{"$f":"IF(Vorgaben!$C$1=24,1,IF(Vorgaben!$C$1=30,2,IF(Vorgaben!$C$1=36,3,IF(Vorgaben!$C$1=36,4,IF(Vorgaben!$C$1=42,5,IF(Vorgaben!$C$1=48,6,\"\"))))))","v":6}]
[{"$f":"'Lauf ZRA'!G3","v":1},{"$f":"'Lauf ZRA'!B3","v":"ZRA"},{"$f":"'Lauf ZRA'!A3","v":3},{"$f":"'Lauf ZRA'!C3","v":"09:07:00"},{"$f":"'Lauf ZRA'!D3","v":"Gruppe E2"},":",{"$f":"'Lauf ZRA'!E3","v":"Gruppe E3"},"__",":","__","",null,{"$f":"IF(Vorgaben!$C$1=24,1,IF(Vorgaben!$C$1=30,2,IF(Vorgaben!$C$1=36,3,IF(Vorgaben!$C$1=36,4,IF(Vorgaben!$C$1=42,5,IF(Vorgaben!$C$1=48,6,\"\"))))))","v":6}]
[{"$f":"'Lauf ZRB'!G3","v":2},{"$f":"'Lauf ZRB'!B3","v":"ZRB"},{"$f":"'Lauf ZRB'!A3","v":18},{"$f":"'Lauf ZRB'!C3","v":"09:07:00"},{"$f":"'Lauf ZRB'!D3","v":"Gruppe F8"},":",{"$f":"'Lauf ZRB'!E3","v":"Gruppe F5"},"__",":","__","",null,{"$f":"IF(Vorgaben!$C$1=24,1,IF(Vorgaben!$C$1=30,2,IF(Vorgaben!$C$1=36,3,IF(Vorgaben!$C$1=36,4,IF(Vorgaben!$C$1=42,5,IF(Vorgaben!$C$1=48,6,\"\"))))))","v":6}]
[{"$f":"'Lauf PlSp13-18'!G2","v":3},{"$f":"'Lauf PlSp13-18'!B2","v":"13-18"},{"$f":"'Lauf PlSp13-18'!A2","v":32},{"$f":"'Lauf PlSp13-18'!C2","v":"09:07:00"},{"$f":"'Lauf PlSp13-18'!D2","v":"Gruppe C4"},":",{"$f":"'Lauf PlSp13-18'!E2","v":"Gruppe D2"},"__",":","__","",null,{"$f":"IF(Vorgaben!$C$1=24,1,IF(Vorgaben!$C$1=30,2,IF(Vorgaben!$C$1=36,3,IF(Vorgaben!$C$1=36,4,IF(Vorgaben!$C$1=42,5,IF(Vorgaben!$C$1=48,6,\"\"))))))","v":6}]
[{"$f":"'Lauf PlSp19-24'!G2","v":4},{"$f":"'Lauf PlSp19-24'!B2","v":"19-24"},{"$f":"'Lauf PlSp19-24'!A2","v":47},{"$f":"'Lauf PlSp19-24'!C2","v":"09:07:00"},{"$f":"'Lauf PlSp19-24'!D2","v":"Gruppe C3"},":",{"$f":"'Lauf PlSp19-24'!E2","v":"Gruppe D3"},"__",":","__","",null,{"$f":"IF(Vorgaben!$C$1=24,1,IF(Vorgaben!$C$1=30,2,IF(Vorgaben!$C$1=36,3,IF(Vorgaben!$C$1=36,4,IF(Vorgaben!$C$1=42,5,IF(Vorgaben!$C$1=48,6,\"\"))))))","v":6}]
[{"$f":"'Lauf PlSp25-30'!G2","v":5},{"$f":"'Lauf PlSp25-30'!B2","v":"25-30"},{"$f":"'Lauf PlSp25-30'!A2","v":62},{"$f":"'Lauf PlSp25-30'!C2","v":"09:07:00"},{"$f":"'Lauf PlSp25-30'!D2","v":"Gruppe C7"},":",{"$f":"'Lauf PlSp25-30'!E2","v":"Gruppe D4"},"__",":","__","",null,{"$f":"IF(Vorgaben!$C$1=24,1,IF(Vorgaben!$C$1=30,2,IF(Vorgaben!$C$1=36,3,IF(Vorgaben!$C$1=36,4,IF(Vorgaben!$C$1=42,5,IF(Vorgaben!$C$1=48,6,\"\"))))))","v":6}]
[{"$f":"'Lauf PlSp31-36'!G2","v":6},{"$f":"'Lauf PlSp31-36'!B2","v":"31-36"},{"$f":"'Lauf PlSp31-36'!A2","v":77},{"$f":"'Lauf PlSp31-36'!C2","v":"09:07:00"},{"$f":"'Lauf PlSp31-36'!D2","v":"Gruppe C2"},":",{"$f":"'Lauf PlSp31-36'!E2","v":"Gruppe D1"},"__",":","__","",null,{"$f":"IF(Vorgaben!$C$1=24,1,IF(Vorgaben!$C$1=30,2,IF(Vorgaben!$C$1=36,3,IF(Vorgaben!$C$1=36,4,IF(Vorgaben!$C$1=42,5,IF(Vorgaben!$C$1=48,6,\"\"))))))","v":6}]
[{"$f":"'Lauf ZRA'!G4","v":1},{"$f":"'Lauf ZRA'!B4","v":"ZRA"},{"$f":"'Lauf ZRA'!A4","v":4},{"$f":"'Lauf ZRA'!C4","v":"09:18:00"},{"$f":"'Lauf ZRA'!D4","v":"Gruppe A4"},":",{"$f":"'Lauf ZRA'!E4","v":"Gruppe C5"},"__",":","__","",null,{"$f":"IF(Vorgaben!$C$1=24,1,IF(Vorgaben!$C$1=30,2,IF(Vorgaben!$C$1=36,3,IF(Vorgaben!$C$1=36,4,IF(Vorgaben!$C$1=42,5,IF(Vorgaben!$C$1=48,6,\"\"))))))","v":6}]
[{"$f":"'Lauf ZRB'!G4","v":2},{"$f":"'Lauf ZRB'!B4","v":"ZRB"},{"$f":"'Lauf ZRB'!A4","v":19},{"$f":"'Lauf ZRB'!C4","v":"09:18:00"},{"$f":"'Lauf ZRB'!D4","v":"Gruppe B1"},":",{"$f":"'Lauf ZRB'!E4","v":"Gruppe D8"},"__",":","__","",null,{"$f":"IF(Vorgaben!$C$1=24,1,IF(Vorgaben!$C$1=30,2,IF(Vorgaben!$C$1=36,3,IF(Vorgaben!$C$1=36,4,IF(Vorgaben!$C$1=42,5,IF(Vorgaben!$C$1=48,6,\"\"))))))","v":6}]
[{"$f":"'Lauf PlSp13-18'!G3","v":3},{"$f":"'Lauf PlSp13-18'!B3","v":"13-18"},{"$f":"'Lauf PlSp13-18'!A3","v":33},{"$f":"'Lauf PlSp13-18'!C3","v":"09:18:00"},{"$f":"'Lauf PlSp13-18'!D3","v":"Gruppe E7"},":",{"$f":"'Lauf PlSp13-18'!E3","v":"Gruppe F6"},"__",":","__","",null,{"$f":"IF(Vorgaben!$C$1=24,1,IF(Vorgaben!$C$1=30,2,IF(Vorgaben!$C$1=36,3,IF(Vorgaben!$C$1=36,4,IF(Vorgaben!$C$1=42,5,IF(Vorgaben!$C$1=48,6,\"\"))))))","v":6}]
[{"$f":"'Lauf PlSp37-42'!G3","v":4},{"$f":"'Lauf PlSp37-42'!B3","v":"37-42"},{"$f":"'Lauf PlSp37-42'!A3","v":93},{"$f":"'Lauf PlSp37-42'!C3","v":"09:18:00"},{"$f":"'Lauf PlSp37-42'!D3","v":"Gruppe E5"},":",{"$f":"'Lauf PlSp37-42'!E3","v":"Gruppe F1"},"__",":","__","",null,{"$f":"IF(Vorgaben!$C$1=24,1,IF(Vorgaben!$C$1=30,2,IF(Vorgaben!$C$1=36,3,IF(Vorgaben!$C$1=36,4,IF(Vorgaben!$C$1=42,5,IF(Vorgaben!$C$1=48,6,\"\"))))))","v":6}]
[{"$f":"'Lauf PlSp25-30'!G3","v":5},{"$f":"'Lauf PlSp25-30'!B3","v":"25-30"},{"$f":"'Lauf PlSp25-30'!A3","v":63},{"$f":"'Lauf PlSp25-30'!C3","v":"09:18:00"},{"$f":"'Lauf PlSp25-30'!D3","v":"Gruppe E1"},":",{"$f":"'Lauf PlSp25-30'!E3","v":"Gruppe F3"},"__",":","__","",null,{"$f":"IF(Vorgaben!$C$1=24,1,IF(Vorgaben!$C$1=30,2,IF(Vorgaben!$C$1=36,3,IF(Vorgaben!$C$1=36,4,IF(Vorgaben!$C$1=42,5,IF(Vorgaben!$C$1=48,6,\"\"))))))","v":6}]
[{"$f":"'Lauf PlSp43-48'!G3","v":6},{"$f":"'Lauf PlSp43-48'!B3","v":"43-48"},{"$f":"'Lauf PlSp43-48'!A3","v":108},{"$f":"'Lauf PlSp43-48'!C3","v":"09:18:00"},{"$f":"'Lauf PlSp43-48'!D3","v":"Gruppe E8"},":",{"$f":"'Lauf PlSp43-48'!E3","v":"Gruppe F7"},"__",":","__","",null,{"$f":"IF(Vorgaben!$C$1=24,1,IF(Vorgaben!$C$1=30,2,IF(Vorgaben!$C$1=36,3,IF(Vorgaben!$C$1=36,4,IF(Vorgaben!$C$1=42,5,IF(Vorgaben!$C$1=48,6,\"\"))))))","v":6}]
[{"$f":"'Lauf ZRA'!G5","v":1},{"$f":"'Lauf ZRA'!B5","v":"ZRA"},{"$f":"'Lauf ZRA'!A5","v":5},{"$f":"'Lauf ZRA'!C5","v":"09:29:00"},{"$f":"'Lauf ZRA'!D5","v":"Gruppe C8"},":",{"$f":"'Lauf ZRA'!E5","v":"Gruppe E2"},"__",":","__","",null,{"$f":"IF(Vorgaben!$C$1=24,1,IF(Vorgaben!$C$1=30,2,IF(Vorgaben!$C$1=36,3,IF(Vorgaben!$C$1=36,4,IF(Vorgaben!$C$1=42,5,IF(Vorgaben!$C$1=48,6,\"\"))))))","v":6}]
[{"$f":"'Lauf ZRB'!G5","v":2},{"$f":"'Lauf ZRB'!B5","v":"ZRB"},{"$f":"'Lauf ZRB'!A5","v":20},{"$f":"'Lauf ZRB'!C5","v":"09:29:00"},{"$f":"'Lauf ZRB'!D5","v":"Gruppe D7"},":",{"$f":"'Lauf ZRB'!E5","v":"Gruppe F8"},"__",":","__","",null,{"$f":"IF(Vorgaben!$C$1=24,1,IF(Vorgaben!$C$1=30,2,IF(Vorgaben!$C$1=36,3,IF(Vorgaben!$C$1=36,4,IF(Vorgaben!$C$1=42,5,IF(Vorgaben!$C$1=48,6,\"\"))))))","v":6}]
[{"$f":"'Lauf PlSp37-42'!G4","v":3},{"$f":"'Lauf PlSp37-42'!B4","v":"37-42"},{"$f":"'Lauf PlSp37-42'!A4","v":94},{"$f":"'Lauf PlSp37-42'!C4","v":"09:29:00"},{"$f":"'Lauf PlSp37-42'!D4","v":"Gruppe B4"},":",{"$f":"'Lauf PlSp37-42'!E4","v":"Gruppe C1"},"__",":","__","",null,{"$f":"IF(Vorgaben!$C$1=24,1,IF(Vorgaben!$C$1=30,2,IF(Vorgaben!$C$1=36,3,IF(Vorgaben!$C$1=36,4,IF(Vorgaben!$C$1=42,5,IF(Vorgaben!$C$1=48,6,\"\"))))))","v":6}]
[{"$f":"'Lauf PlSp19-24'!G3","v":4},{"$f":"'Lauf PlSp19-24'!B3","v":"19-24"},{"$f":"'Lauf PlSp19-24'!A3","v":48},{"$f":"'Lauf PlSp19-24'!C3","v":"09:29:00"},{"$f":"'Lauf PlSp19-24'!D3","v":"Gruppe E4"},":",{"$f":"'Lauf PlSp19-24'!E3","v":"Gruppe F4"},"__",":","__","",null,{"$f":"IF(Vorgaben!$C$1=24,1,IF(Vorgaben!$C$1=30,2,IF(Vorgaben!$C$1=36,3,IF(Vorgaben!$C$1=36,4,IF(Vorgaben!$C$1=42,5,IF(Vorgaben!$C$1=48,6,\"\"))))))","v":6}]
[{"$f":"'Lauf PlSp43-48'!G4","v":5},{"$f":"'Lauf PlSp43-48'!B4","v":"43-48"},{"$f":"'Lauf PlSp43-48'!A4","v":109},{"$f":"'Lauf PlSp43-48'!C4","v":"09:29:00"},{"$f":"'Lauf PlSp43-48'!D4","v":"Gruppe B2"},":",{"$f":"'Lauf PlSp43-48'!E4","v":"Gruppe C6"},"__",":","__","",null,{"$f":"IF(Vorgaben!$C$1=24,1,IF(Vorgaben!$C$1=30,2,IF(Vorgaben!$C$1=36,3,IF(Vorgaben!$C$1=36,4,IF(Vorgaben!$C$1=42,5,IF(Vorgaben!$C$1=48,6,\"\"))))))","v":6}]
[{"$f":"'Lauf PlSp31-36'!G3","v":6},{"$f":"'Lauf PlSp31-36'!B3","v":"31-36"},{"$f":"'Lauf PlSp31-36'!A3","v":78},{"$f":"'Lauf PlSp31-36'!C3","v":"09:29:00"},{"$f":"'Lauf PlSp31-36'!D3","v":"Gruppe E6"},":",{"$f":"'Lauf PlSp31-36'!E3","v":"Gruppe F2"},"__",":","__","",null,{"$f":"IF(Vorgaben!$C$1=24,1,IF(Vorgaben!$C$1=30,2,IF(Vorgaben!$C$1=36,3,IF(Vorgaben!$C$1=36,4,IF(Vorgaben!$C$1=42,5,IF(Vorgaben!$C$1=48,6,\"\"))))))","v":6}]
[{"$f":"'Lauf ZRA'!G6","v":1},{"$f":"'Lauf ZRA'!B6","v":"ZRA"},{"$f":"'Lauf ZRA'!A6","v":6},{"$f":"'Lauf ZRA'!C6","v":"09:40:00"},{"$f":"'Lauf ZRA'!D6","v":"Gruppe A7"},":",{"$f":"'Lauf ZRA'!E6","v":"Gruppe C5"},"__",":","__","",null,{"$f":"IF(Vorgaben!$C$1=24,1,IF(Vorgaben!$C$1=30,2,IF(Vorgaben!$C$1=36,3,IF(Vorgaben!$C$1=36,4,IF(Vorgaben!$C$1=42,5,IF(Vorgaben!$C$1=48,6,\"\"))))))","v":6}]
[{"$f":"'Lauf ZRB'!G6","v":2},{"$f":"'Lauf ZRB'!B6","v":"ZRB"},{"$f":"'Lauf ZRB'!A6","v":21},{"$f":"'Lauf ZRB'!C6","v":"09:40:00"},{"$f":"'Lauf ZRB'!D6","v":"Gruppe B3"},":",{"$f":"'Lauf ZRB'!E6","v":"Gruppe D8"},"__",":","__","",null,{"$f":"IF(Vorgaben!$C$1=24,1,IF(Vorgaben!$C$1=30,2,IF(Vorgaben!$C$1=36,3,IF(Vorgaben!$C$1=36,4,IF(Vorgaben!$C$1=42,5,IF(Vorgaben!$C$1=48,6,\"\"))))))","v":6}]
[{"$f":"'Lauf PlSp13-18'!G4","v":3},{"$f":"'Lauf PlSp13-18'!B4","v":"13-18"},{"$f":"'Lauf PlSp13-18'!A4","v":34},{"$f":"'Lauf PlSp13-18'!C4","v":"09:40:00"},{"$f":"'Lauf PlSp13-18'!D4","v":"Gruppe B6"},":",{"$f":"'Lauf PlSp13-18'!E4","v":"Gruppe C4"},"__",":","__","",null,{"$f":"IF(Vorgaben!$C$1=24,1,IF(Vorgaben!$C$1=30,2,IF(Vorgaben!$C$1=36,3,IF(Vorgaben!$C$1=36,4,IF(Vorgaben!$C$1=42,5,IF(Vorgaben!$C$1=48,6,\"\"))))))","v":6}]
[{"$f":"'Lauf PlSp19-24'!G4","v":4},{"$f":"'Lauf PlSp19-24'!B4","v":"19-24"},{"$f":"'Lauf PlSp19-24'!A4","v":49},{"$f":"'Lauf PlSp19-24'!C4","v":"09:40:00"},{"$f":"'Lauf PlSp19-24'!D4","v":"Gruppe B5"},":",{"$f":"'Lauf PlSp19-24'!E4","v":"Gruppe C3"},"__",":","__","",null,{"$f":"IF(Vorgaben!$C$1=24,1,IF(Vorgaben!$C$1=30,2,IF(Vorgaben!$C$1=36,3,IF(Vorgaben!$C$1=36,4,IF(Vorgaben!$C$1=42,5,IF(Vorgaben!$C$1=48,6,\"\"))))))","v":6}]
[{"$f":"'Lauf PlSp25-30'!G4","v":5},{"$f":"'Lauf PlSp25-30'!B4","v":"25-30"},{"$f":"'Lauf PlSp25-30'!A4","v":64},{"$f":"'Lauf PlSp25-30'!C4","v":"09:40:00"},{"$f":"'Lauf PlSp25-30'!D4","v":"Gruppe B7"},":",{"$f":"'Lauf PlSp25-30'!E4","v":"Gruppe C7"},"__",":","__","",null,{"$f":"IF(Vorgaben!$C$1=24,1,IF(Vorgaben!$C$1=30,2,IF(Vorgaben!$C$1=36,3,IF(Vorgaben!$C$1=36,4,IF(Vorgaben!$C$1=42,5,IF(Vorgaben!$C$1=48,6,\"\"))))))","v":6}]
[{"$f":"'Lauf PlSp31-36'!G4","v":6},{"$f":"'Lauf PlSp31-36'!B4","v":"31-36"},{"$f":"'Lauf PlSp31-36'!A4","v":79},{"$f":"'Lauf PlSp31-36'!C4","v":"09:40:00"},{"$f":"'Lauf PlSp31-36'!D4","v":"Gruppe B8"},":",{"$f":"'Lauf PlSp31-36'!E4","v":"Gruppe C2"},"__",":","__","",null,{"$f":"IF(Vorgaben!$C$1=24,1,IF(Vorgaben!$C$1=30,2,IF(Vorgaben!$C$1=36,3,IF(Vorgaben!$C$1=36,4,IF(Vorgaben!$C$1=42,5,IF(Vorgaben!$C$1=48,6,\"\"))))))","v":6}]
[{"$f":"'Lauf ZRA'!G7","v":1},{"$f":"'Lauf ZRA'!B7","v":"ZRA"},{"$f":"'Lauf ZRA'!A7","v":7},{"$f":"'Lauf ZRA'!C7","v":"09:51:00"},{"$f":"'Lauf ZRA'!D7","v":"Gruppe E2"},":",{"$f":"'Lauf ZRA'!E7","v":"Gruppe A4"},"__",":","__","",null,{"$f":"IF(Vorgaben!$C$1=24,1,IF(Vorgaben!$C$1=30,2,IF(Vorgaben!$C$1=36,3,IF(Vorgaben!$C$1=36,4,IF(Vorgaben!$C$1=42,5,IF(Vorgaben!$C$1=48,6,\"\"))))))","v":6}]
[{"$f":"'Lauf ZRB'!G7","v":2},{"$f":"'Lauf ZRB'!B7","v":"ZRB"},{"$f":"'Lauf ZRB'!A7","v":22},{"$f":"'Lauf ZRB'!C7","v":"09:51:00"},{"$f":"'Lauf ZRB'!D7","v":"Gruppe F8"},":",{"$f":"'Lauf ZRB'!E7","v":"Gruppe B1"},"__",":","__","",null,{"$f":"IF(Vorgaben!$C$1=24,1,IF(Vorgaben!$C$1=30,2,IF(Vorgaben!$C$1=36,3,IF(Vorgaben!$C$1=36,4,IF(Vorgaben!$C$1=42,5,IF(Vorgaben!$C$1=48,6,\"\"))))))","v":6}]
[{"$f":"'Lauf PlSp13-18'!G5","v":3},{"$f":"'Lauf PlSp13-18'!B5","v":"13-18"},{"$f":"'Lauf PlSp13-18'!A5","v":35},{"$f":"'Lauf PlSp13-18'!C5","v":"09:51:00"},{"$f":"'Lauf PlSp13-18'!D5","v":"Gruppe D2"},":",{"$f":"'Lauf PlSp13-18'!E5","v":"Gruppe E7"},"__",":","__","",null,{"$f":"IF(Vorgaben!$C$1=24,1,IF(Vorgaben!$C$1=30,2,IF(Vorgaben!$C$1=36,3,IF(Vorgaben!$C$1=36,4,IF(Vorgaben!$C$1=42,5,IF(Vorgaben!$C$1=48,6,\"\"))))))","v":6}]
[{"$f":"'Lauf PlSp37-42'!G5","v":4},{"$f":"'Lauf PlSp37-42'!B5","v":"37-42"},{"$f":"'Lauf PlSp37-42'!A5","v":95},{"$f":"'Lauf PlSp37-42'!C5","v":"09:51:00"},{"$f":"'Lauf PlSp37-42'!D5","v":"Gruppe D5"},":",{"$f":"'Lauf PlSp37-42'!E5","v":"Gruppe E5"},"__",":","__","",null,{"$f":"IF(Vorgaben!$C$1=24,1,IF(Vorgaben!$C$1=30,2,IF(Vorgaben!$C$1=36,3,IF(Vorgaben!$C$1=36,4,IF(Vorgaben!$C$1=42,5,IF(Vorgaben!$C$1=48,6,\"\"))))))","v":6}]
[{"$f":"'Lauf PlSp25-30'!G5","v":5},{"$f":"'Lauf PlSp25-30'!B5","v":"25-30"},{"$f":"'Lauf PlSp25-30'!A5","v":65},{"$f":"'Lauf PlSp25-30'!C5","v":"09:51:00"},{"$f":"'Lauf PlSp25-30'!D5","v":"Gruppe D4"},":",{"$f":"'Lauf PlSp25-30'!E5","v":"Gruppe E1"},"__",":","__","",null,{"$f":"IF(Vorgaben!$C$1=24,1,IF(Vorgaben!$C$1=30,2,IF(Vorgaben!$C$1=36,3,IF(Vorgaben!$C$1=36,4,IF(Vorgaben!$C$1=42,5,IF(Vorgaben!$C$1=48,6,\"\"))))))","v":6}]
[{"$f":"'Lauf PlSp43-48'!G5","v":6},{"$f":"'Lauf PlSp43-48'!B5","v":"43-48"},{"$f":"'Lauf PlSp43-48'!A5","v":110},{"$f":"'Lauf PlSp43-48'!C5","v":"09:51:00"},{"$f":"'Lauf PlSp43-48'!D5","v":"Gruppe D6"},":",{"$f":"'Lauf PlSp43-48'!E5","v":"Gruppe E8"},"__",":","__","",null,{"$f":"IF(Vorgaben!$C$1=24,1,IF(Vorgaben!$C$1=30,2,IF(Vorgaben!$C$1=36,3,IF(Vorgaben!$C$1=36,4,IF(Vorgaben!$C$1=42,5,IF(Vorgaben!$C$1=48,6,\"\"))))))","v":6}]
[{"$f":"'Lauf ZRA'!G8","v":1},{"$f":"'Lauf ZRA'!B8","v":"ZRA"},{"$f":"'Lauf ZRA'!A8","v":8},{"$f":"'Lauf ZRA'!C8","v":"10:02:00"},{"$f":"'Lauf ZRA'!D8","v":"Gruppe E3"},":",{"$f":"'Lauf ZRA'!E8","v":"Gruppe A7"},"__",":","__","",null,{"$f":"IF(Vorgaben!$C$1=24,1,IF(Vorgaben!$C$1=30,2,IF(Vorgaben!$C$1=36,3,IF(Vorgaben!$C$1=36,4,IF(Vorgaben!$C$1=42,5,IF(Vorgaben!$C$1=48,6,\"\"))))))","v":6}]
[{"$f":"'Lauf ZRB'!G8","v":2},{"$f":"'Lauf ZRB'!B8","v":"ZRB"},{"$f":"'Lauf ZRB'!A8","v":23},{"$f":"'Lauf ZRB'!C8","v":"10:02:00"},{"$f":"'Lauf ZRB'!D8","v":"Gruppe F5"},":",{"$f":"'Lauf ZRB'!E8","v":"Gruppe B3"},"__",":","__","",null,{"$f":"IF(Vorgaben!$C$1=24,1,IF(Vorgaben!$C$1=30,2,IF(Vorgaben!$C$1=36,3,IF(Vorgaben!$C$1=36,4,IF(Vorgaben!$C$1=42,5,IF(Vorgaben!$C$1=48,6,\"\"))))))","v":6}]
[{"$f":"'Lauf PlSp37-42'!G6","v":3},{"$f":"'Lauf PlSp37-42'!B6","v":"37-42"},{"$f":"'Lauf PlSp37-42'!A6","v":96},{"$f":"'Lauf PlSp37-42'!C6","v":"10:02:00"},{"$f":"'Lauf PlSp37-42'!D6","v":"Gruppe A5"},":",{"$f":"'Lauf PlSp37-42'!E6","v":"Gruppe C1"},"__",":","__","",null,{"$f":"IF(Vorgaben!$C$1=24,1,IF(Vorgaben!$C$1=30,2,IF(Vorgaben!$C$1=36,3,IF(Vorgaben!$C$1=36,4,IF(Vorgaben!$C$1=42,5,IF(Vorgaben!$C$1=48,6,\"\"))))))","v":6}]
[{"$f":"'Lauf PlSp19-24'!G5","v":4},{"$f":"'Lauf PlSp19-24'!B5","v":"19-24"},{"$f":"'Lauf PlSp19-24'!A5","v":50},{"$f":"'Lauf PlSp19-24'!C5","v":"10:02:00"},{"$f":"'Lauf PlSp19-24'!D5","v":"Gruppe D3"},":",{"$f":"'Lauf PlSp19-24'!E5","v":"Gruppe E4"},"__",":","__","",null,{"$f":"IF(Vorgaben!$C$1=24,1,IF(Vorgaben!$C$1=30,2,IF(Vorgaben!$C$1=36,3,IF(Vorgaben!$C$1=36,4,IF(Vorgaben!$C$1=42,5,IF(Vorgaben!$C$1=48,6,\"\"))))))","v":6}]
[{"$f":"'Lauf PlSp43-48'!G6","v":5},{"$f":"'Lauf PlSp43-48'!B6","v":"43-48"},{"$f":"'Lauf PlSp43-48'!A6","v":111},{"$f":"'Lauf PlSp43-48'!C6","v":"10:02:00"},{"$f":"'Lauf PlSp43-48'!D6","v":"Gruppe A1"},":",{"$f":"'Lauf PlSp43-48'!E6","v":"Gruppe C6"},"__",":","__","",null,{"$f":"IF(Vorgaben!$C$1=24,1,IF(Vorgaben!$C$1=30,2,IF(Vorgaben!$C$1=36,3,IF(Vorgaben!$C$1=36,4,IF(Vorgaben!$C$1=42,5,IF(Vorgaben!$C$1=48,6,\"\"))))))","v":6}]
[{"$f":"'Lauf PlSp31-36'!G5","v":6},{"$f":"'Lauf PlSp31-36'!B5","v":"31-36"},{"$f":"'Lauf PlSp31-36'!A5","v":80},{"$f":"'Lauf PlSp31-36'!C5","v":"10:02:00"},{"$f":"'Lauf PlSp31-36'!D5","v":"Gruppe D1"},":",{"$f":"'Lauf PlSp31-36'!E5","v":"Gruppe E6"},"__",":","__","",null,{"$f":"IF(Vorgaben!$C$1=24,1,IF(Vorgaben!$C$1=30,2,IF(Vorgaben!$C$1=36,3,IF(Vorgaben!$C$1=36,4,IF(Vorgaben!$C$1=42,5,IF(Vorgaben!$C$1=48,6,\"\"))))))","v":6}]
[{"$f":"'Lauf ZRA'!G9","v":1},{"$f":"'Lauf ZRA'!B9","v":"ZRA"},{"$f":"'Lauf ZRA'!A9","v":9},{"$f":"'Lauf ZRA'!C9","v":"10:13:00"},{"$f":"'Lauf ZRA'!D9","v":"Gruppe C5"},":",{"$f":"'Lauf ZRA'!E9","v":"Gruppe E2"},"__",":","__","",null,{"$f":"IF(Vorgaben!$C$1=24,1,IF(Vorgaben!$C$1=30,2,IF(Vorgaben!$C$1=36,3,IF(Vorgaben!$C$1=36,4,IF(Vorgaben!$C$1=42,5,IF(Vorgaben!$C$1=48,6,\"\"))))))","v":6}]
[{"$f":"'Lauf ZRB'!G9","v":2},{"$f":"'Lauf ZRB'!B9","v":"ZRB"},{"$f":"'Lauf ZRB'!A9","v":24},{"$f":"'Lauf ZRB'!C9","v":"10:13:00"},{"$f":"'Lauf ZRB'!D9","v":"Gruppe D8"},":",{"$f":"'Lauf ZRB'!E9","v":"Gruppe F8"},"__",":","__","",null,{"$f":"IF(Vorgaben!$C$1=24,1,IF(Vorgaben!$C$1=30,2,IF(Vorgaben!$C$1=36,3,IF(Vorgaben!$C$1=36,4,IF(Vorgaben!$C$1=42,5,IF(Vorgaben!$C$1=48,6,\"\"))))))","v":6}]
[{"$f":"'Lauf PlSp13-18'!G6","v":3},{"$f":"'Lauf PlSp13-18'!B6","v":"13-18"},{"$f":"'Lauf PlSp13-18'!A6","v":36},{"$f":"'Lauf PlSp13-18'!C6","v":"10:13:00"},{"$f":"'Lauf PlSp13-18'!D6","v":"Gruppe A2"},":",{"$f":"'Lauf PlSp13-18'!E6","v":"Gruppe C4"},"__",":","__","",null,{"$f":"IF(Vorgaben!$C$1=24,1,IF(Vorgaben!$C$1=30,2,IF(Vorgaben!$C$1=36,3,IF(Vorgaben!$C$1=36,4,IF(Vorgaben!$C$1=42,5,IF(Vorgaben!$C$1=48,6,\"\"))))))","v":6}]
[{"$f":"'Lauf PlSp19-24'!G6","v":4},{"$f":"'Lauf PlSp19-24'!B6","v":"19-24"},{"$f":"'Lauf PlSp19-24'!A6","v":51},{"$f":"'Lauf PlSp19-24'!C6","v":"10:13:00"},{"$f":"'Lauf PlSp19-24'!D6","v":"Gruppe A6"},":",{"$f":"'Lauf PlSp19-24'!E6","v":"Gruppe C3"},"__",":","__","",null,{"$f":"IF(Vorgaben!$C$1=24,1,IF(Vorgaben!$C$1=30,2,IF(Vorgaben!$C$1=36,3,IF(Vorgaben!$C$1=36,4,IF(Vorgaben!$C$1=42,5,IF(Vorgaben!$C$1=48,6,\"\"))))))","v":6}]
[{"$f":"'Lauf PlSp25-30'!G6","v":5},{"$f":"'Lauf PlSp25-30'!B6","v":"25-30"},{"$f":"'Lauf PlSp25-30'!A6","v":66},{"$f":"'Lauf PlSp25-30'!C6","v":"10:13:00"},{"$f":"'Lauf PlSp25-30'!D6","v":"Gruppe A3"},":",{"$f":"'Lauf PlSp25-30'!E6","v":"Gruppe C7"},"__",":","__","",null,{"$f":"IF(Vorgaben!$C$1=24,1,IF(Vorgaben!$C$1=30,2,IF(Vorgaben!$C$1=36,3,IF(Vorgaben!$C$1=36,4,IF(Vorgaben!$C$1=42,5,IF(Vorgaben!$C$1=48,6,\"\"))))))","v":6}]
[{"$f":"'Lauf PlSp31-36'!G6","v":6},{"$f":"'Lauf PlSp31-36'!B6","v":"31-36"},{"$f":"'Lauf PlSp31-36'!A6","v":81},{"$f":"'Lauf PlSp31-36'!C6","v":"10:13:00"},{"$f":"'Lauf PlSp31-36'!D6","v":"Gruppe A8"},":",{"$f":"'Lauf PlSp31-36'!E6","v":"Gruppe C2"},"__",":","__","",null,{"$f":"IF(Vorgaben!$C$1=24,1,IF(Vorgaben!$C$1=30,2,IF(Vorgaben!$C$1=36,3,IF(Vorgaben!$C$1=36,4,IF(Vorgaben!$C$1=42,5,IF(Vorgaben!$C$1=48,6,\"\"))))))","v":6}]
[{"$f":"'Lauf ZRA'!G10","v":1},{"$f":"'Lauf ZRA'!B10","v":"ZRA"},{"$f":"'Lauf ZRA'!A10","v":10},{"$f":"'Lauf ZRA'!C10","v":"10:24:00"},{"$f":"'Lauf ZRA'!D10","v":"Gruppe C8"},":",{"$f":"'Lauf ZRA'!E10","v":"Gruppe E3"},"__",":","__","",null,{"$f":"IF(Vorgaben!$C$1=24,1,IF(Vorgaben!$C$1=30,2,IF(Vorgaben!$C$1=36,3,IF(Vorgaben!$C$1=36,4,IF(Vorgaben!$C$1=42,5,IF(Vorgaben!$C$1=48,6,\"\"))))))","v":6}]
[{"$f":"'Lauf ZRB'!G10","v":2},{"$f":"'Lauf ZRB'!B10","v":"ZRB"},{"$f":"'Lauf ZRB'!A10","v":25},{"$f":"'Lauf ZRB'!C10","v":"10:24:00"},{"$f":"'Lauf ZRB'!D10","v":"Gruppe D7"},":",{"$f":"'Lauf ZRB'!E10","v":"Gruppe F5"},"__",":","__","",null,{"$f":"IF(Vorgaben!$C$1=24,1,IF(Vorgaben!$C$1=30,2,IF(Vorgaben!$C$1=36,3,IF(Vorgaben!$C$1=36,4,IF(Vorgaben!$C$1=42,5,IF(Vorgaben!$C$1=48,6,\"\"))))))","v":6}]
[{"$f":"'Lauf PlSp13-18'!G7","v":3},{"$f":"'Lauf PlSp13-18'!B7","v":"13-18"},{"$f":"'Lauf PlSp13-18'!A7","v":37},{"$f":"'Lauf PlSp13-18'!C7","v":"10:24:00"},{"$f":"'Lauf PlSp13-18'!D7","v":"Gruppe E7"},":",{"$f":"'Lauf PlSp13-18'!E7","v":"Gruppe B6"},"__",":","__","",null,{"$f":"IF(Vorgaben!$C$1=24,1,IF(Vorgaben!$C$1=30,2,IF(Vorgaben!$C$1=36,3,IF(Vorgaben!$C$1=36,4,IF(Vorgaben!$C$1=42,5,IF(Vorgaben!$C$1=48,6,\"\"))))))","v":6}]
[{"$f":"'Lauf PlSp37-42'!G7","v":4},{"$f":"'Lauf PlSp37-42'!B7","v":"37-42"},{"$f":"'Lauf PlSp37-42'!A7","v":97},{"$f":"'Lauf PlSp37-42'!C7","v":"10:24:00"},{"$f":"'Lauf PlSp37-42'!D7","v":"Gruppe E5"},":",{"$f":"'Lauf PlSp37-42'!E7","v":"Gruppe B4"},"__",":","__","",null,{"$f":"IF(Vorgaben!$C$1=24,1,IF(Vorgaben!$C$1=30,2,IF(Vorgaben!$C$1=36,3,IF(Vorgaben!$C$1=36,4,IF(Vorgaben!$C$1=42,5,IF(Vorgaben!$C$1=48,6,\"\"))))))","v":6}]
[{"$f":"'Lauf PlSp25-30'!G7","v":5},{"$f":"'Lauf PlSp25-30'!B7","v":"25-30"},{"$f":"'Lauf PlSp25-30'!A7","v":67},{"$f":"'Lauf PlSp25-30'!C7","v":"10:24:00"},{"$f":"'Lauf PlSp25-30'!D7","v":"Gruppe E1"},":",{"$f":"'Lauf PlSp25-30'!E7","v":"Gruppe B7"},"__",":","__","",null,{"$f":"IF(Vorgaben!$C$1=24,1,IF(Vorgaben!$C$1=30,2,IF(Vorgaben!$C$1=36,3,IF(Vorgaben!$C$1=36,4,IF(Vorgaben!$C$1=42,5,IF(Vorgaben!$C$1=48,6,\"\"))))))","v":6}]
[{"$f":"'Lauf PlSp43-48'!G7","v":6},{"$f":"'Lauf PlSp43-48'!B7","v":"43-48"},{"$f":"'Lauf PlSp43-48'!A7","v":112},{"$f":"'Lauf PlSp43-48'!C7","v":"10:24:00"},{"$f":"'Lauf PlSp43-48'!D7","v":"Gruppe E8"},":",{"$f":"'Lauf PlSp43-48'!E7","v":"Gruppe B2"},"__",":","__","",null,{"$f":"IF(Vorgaben!$C$1=24,1,IF(Vorgaben!$C$1=30,2,IF(Vorgaben!$C$1=36,3,IF(Vorgaben!$C$1=36,4,IF(Vorgaben!$C$1=42,5,IF(Vorgaben!$C$1=48,6,\"\"))))))","v":6}]
[{"$f":"'Lauf ZRA'!G11","v":1},{"$f":"'Lauf ZRA'!B11","v":"ZRA"},{"$f":"'Lauf ZRA'!A11","v":11},{"$f":"'Lauf ZRA'!C11","v":"10:35:00"},{"$f":"'Lauf ZRA'!D11","v":"Gruppe A7"},":",{"$f":"'Lauf ZRA'!E11","v":"Gruppe E2"},"__",":","__","",null,{"$f":"IF(Vorgaben!$C$1=24,1,IF(Vorgaben!$C$1=30,2,IF(Vorgaben!$C$1=36,3,IF(Vorgaben!$C$1=36,4,IF(Vorgaben!$C$1=42,5,IF(Vorgaben!$C$1=48,6,\"\"))))))","v":6}]
[{"$f":"'Lauf ZRB'!G11","v":2},{"$f":"'Lauf ZRB'!B11","v":"ZRB"},{"$f":"'Lauf ZRB'!A11","v":26},{"$f":"'Lauf ZRB'!C11","v":"10:35:00"},{"$f":"'Lauf ZRB'!D11","v":"Gruppe B3"},":",{"$f":"'Lauf ZRB'!E11","v":"Gruppe F8"},"__",":","__","",null,{"$f":"IF(Vorgaben!$C$1=24,1,IF(Vorgaben!$C$1=30,2,IF(Vorgaben!$C$1=36,3,IF(Vorgaben!$C$1=36,4,IF(Vorgaben!$C$1=42,5,IF(Vorgaben!$C$1=48,6,\"\"))))))","v":6}]
[{"$f":"'Lauf PlSp37-42'!G8","v":3},{"$f":"'Lauf PlSp37-42'!B8","v":"37-42"},{"$f":"'Lauf PlSp37-42'!A8","v":98},{"$f":"'Lauf PlSp37-42'!C8","v":"10:35:00"},{"$f":"'Lauf PlSp37-42'!D8","v":"Gruppe F1"},":",{"$f":"'Lauf PlSp37-42'!E8","v":"Gruppe A5"},"__",":","__","",null,{"$f":"IF(Vorgaben!$C$1=24,1,IF(Vorgaben!$C$1=30,2,IF(Vorgaben!$C$1=36,3,IF(Vorgaben!$C$1=36,4,IF(Vorgaben!$C$1=42,5,IF(Vorgaben!$C$1=48,6,\"\"))))))","v":6}]
[{"$f":"'Lauf PlSp19-24'!G7","v":4},{"$f":"'Lauf PlSp19-24'!B7","v":"19-24"},{"$f":"'Lauf PlSp19-24'!A7","v":52},{"$f":"'Lauf PlSp19-24'!C7","v":"10:35:00"},{"$f":"'Lauf PlSp19-24'!D7","v":"Gruppe E4"},":",{"$f":"'Lauf PlSp19-24'!E7","v":"Gruppe B5"},"__",":","__","",null,{"$f":"IF(Vorgaben!$C$1=24,1,IF(Vorgaben!$C$1=30,2,IF(Vorgaben!$C$1=36,3,IF(Vorgaben!$C$1=36,4,IF(Vorgaben!$C$1=42,5,IF(Vorgaben!$C$1=48,6,\"\"))))))","v":6}]
[{"$f":"'Lauf PlSp43-48'!G8","v":5},{"$f":"'Lauf PlSp43-48'!B8","v":"43-48"},{"$f":"'Lauf PlSp43-48'!A8","v":113},{"$f":"'Lauf PlSp43-48'!C8","v":"10:35:00"},{"$f":"'Lauf PlSp43-48'!D8","v":"Gruppe F7"},":",{"$f":"'Lauf PlSp43-48'!E8","v":"Gruppe A1"},"__",":","__","",null,{"$f":"IF(Vorgaben!$C$1=24,1,IF(Vorgaben!$C$1=30,2,IF(Vorgaben!$C$1=36,3,IF(Vorgaben!$C$1=36,4,IF(Vorgaben!$C$1=42,5,IF(Vorgaben!$C$1=48,6,\"\"))))))","v":6}]
[{"$f":"'Lauf PlSp31-36'!G7","v":6},{"$f":"'Lauf PlSp31-36'!B7","v":"31-36"},{"$f":"'Lauf PlSp31-36'!A7","v":82},{"$f":"'Lauf PlSp31-36'!C7","v":"10:35:00"},{"$f":"'Lauf PlSp31-36'!D7","v":"Gruppe E6"},":",{"$f":"'Lauf PlSp31-36'!E7","v":"Gruppe B8"},"__",":","__",{"$f":"IF(AND(M66=5,B66=\"43-48\"),2,IF(AND(M66=4,OR(B66=\"37-42\")),2,IF(AND(M66=3,OR(B66=\"37-42\",B66=\"43-48\")),2,IF(AND(M66=2,OR(B66=\"37-42\",B66=\"31-36\",B66=\"43-48\")),2,IF(AND(M66=1,OR(B66=\"37-42\",B66=\"31-36\",B66=\"43-48\",B66=\"25-30\")),2,\"\")))))","v":""},null,{"$f":"IF(Vorgaben!$C$1=24,1,IF(Vorgaben!$C$1=30,2,IF(Vorgaben!$C$1=36,3,IF(Vorgaben!$C$1=36,4,IF(Vorgaben!$C$1=42,5,IF(Vorgaben!$C$1=48,6,\"\"))))))","v":6}]
[{"$f":"'Lauf ZRA'!G12","v":1},{"$f":"'Lauf ZRA'!B12","v":"ZRA"},{"$f":"'Lauf ZRA'!A12","v":12},{"$f":"'Lauf ZRA'!C12","v":"10:46:00"},{"$f":"'Lauf ZRA'!D12","v":"Gruppe E3"},":",{"$f":"'Lauf ZRA'!E12","v":"Gruppe A4"},"__",":","__","",null,{"$f":"IF(Vorgaben!$C$1=24,1,IF(Vorgaben!$C$1=30,2,IF(Vorgaben!$C$1=36,3,IF(Vorgaben!$C$1=36,4,IF(Vorgaben!$C$1=42,5,IF(Vorgaben!$C$1=48,6,\"\"))))))","v":6}]
[{"$f":"'Lauf ZRB'!G12","v":2},{"$f":"'Lauf ZRB'!B12","v":"ZRB"},{"$f":"'Lauf ZRB'!A12","v":27},{"$f":"'Lauf ZRB'!C12","v":"10:46:00"},{"$f":"'Lauf ZRB'!D12","v":"Gruppe F5"},":",{"$f":"'Lauf ZRB'!E12","v":"Gruppe B1"},"__",":","__","",null,{"$f":"IF(Vorgaben!$C$1=24,1,IF(Vorgaben!$C$1=30,2,IF(Vorgaben!$C$1=36,3,IF(Vorgaben!$C$1=36,4,IF(Vorgaben!$C$1=42,5,IF(Vorgaben!$C$1=48,6,\"\"))))))","v":6}]
[{"$f":"'Lauf PlSp13-18'!G8","v":3},{"$f":"'Lauf PlSp13-18'!B8","v":"13-18"},{"$f":"'Lauf PlSp13-18'!A8","v":38},{"$f":"'Lauf PlSp13-18'!C8","v":"10:46:00"},{"$f":"'Lauf PlSp13-18'!D8","v":"Gruppe F6"},":",{"$f":"'Lauf PlSp13-18'!E8","v":"Gruppe A2"},"__",":","__","",null,{"$f":"IF(Vorgaben!$C$1=24,1,IF(Vorgaben!$C$1=30,2,IF(Vorgaben!$C$1=36,3,IF(Vorgaben!$C$1=36,4,IF(Vorgaben!$C$1=42,5,IF(Vorgaben!$C$1=48,6,\"\"))))))","v":6}]
[{"$f":"'Lauf PlSp19-24'!G8","v":4},{"$f":"'Lauf PlSp19-24'!B8","v":"19-24"},{"$f":"'Lauf PlSp19-24'!A8","v":53},{"$f":"'Lauf PlSp19-24'!C8","v":"10:46:00"},{"$f":"'Lauf PlSp19-24'!D8","v":"Gruppe F4"},":",{"$f":"'Lauf PlSp19-24'!E8","v":"Gruppe A6"},"__",":","__","",null,{"$f":"IF(Vorgaben!$C$1=24,1,IF(Vorgaben!$C$1=30,2,IF(Vorgaben!$C$1=36,3,IF(Vorgaben!$C$1=36,4,IF(Vorgaben!$C$1=42,5,IF(Vorgaben!$C$1=48,6,\"\"))))))","v":6}]
[{"$f":"'Lauf PlSp25-30'!G8","v":5},{"$f":"'Lauf PlSp25-30'!B8","v":"25-30"},{"$f":"'Lauf PlSp25-30'!A8","v":68},{"$f":"'Lauf PlSp25-30'!C8","v":"10:46:00"},{"$f":"'Lauf PlSp25-30'!D8","v":"Gruppe F3"},":",{"$f":"'Lauf PlSp25-30'!E8","v":"Gruppe A3"},"__",":","__","",null,{"$f":"IF(Vorgaben!$C$1=24,1,IF(Vorgaben!$C$1=30,2,IF(Vorgaben!$C$1=36,3,IF(Vorgaben!$C$1=36,4,IF(Vorgaben!$C$1=42,5,IF(Vorgaben!$C$1=48,6,\"\"))))))","v":6}]
[{"$f":"'Lauf PlSp31-36'!G8","v":6},{"$f":"'Lauf PlSp31-36'!B8","v":"31-36"},{"$f":"'Lauf PlSp31-36'!A8","v":83},{"$f":"'Lauf PlSp31-36'!C8","v":"10:46:00"},{"$f":"'Lauf PlSp31-36'!D8","v":"Gruppe F2"},":",{"$f":"'Lauf PlSp31-36'!E8","v":"Gruppe A8"},"__",":","__","",null,{"$f":"IF(Vorgaben!$C$1=24,1,IF(Vorgaben!$C$1=30,2,IF(Vorgaben!$C$1=36,3,IF(Vorgaben!$C$1=36,4,IF(Vorgaben!$C$1=42,5,IF(Vorgaben!$C$1=48,6,\"\"))))))","v":6}]
[{"$f":"'Lauf ZRA'!G13","v":1},{"$f":"'Lauf ZRA'!B13","v":"ZRA"},{"$f":"'Lauf ZRA'!A13","v":13},{"$f":"'Lauf ZRA'!C13","v":"10:57:00"},{"$f":"'Lauf ZRA'!D13","v":"Gruppe C8"},":",{"$f":"'Lauf ZRA'!E13","v":"Gruppe A7"},"__",":","__","",null,{"$f":"IF(Vorgaben!$C$1=24,1,IF(Vorgaben!$C$1=30,2,IF(Vorgaben!$C$1=36,3,IF(Vorgaben!$C$1=36,4,IF(Vorgaben!$C$1=42,5,IF(Vorgaben!$C$1=48,6,\"\"))))))","v":6}]
[{"$f":"'Lauf ZRB'!G13","v":2},{"$f":"'Lauf ZRB'!B13","v":"ZRB"},{"$f":"'Lauf ZRB'!A13","v":28},{"$f":"'Lauf ZRB'!C13","v":"10:57:00"},{"$f":"'Lauf ZRB'!D13","v":"Gruppe D7"},":",{"$f":"'Lauf ZRB'!E13","v":"Gruppe B3"},"__",":","__","",null,{"$f":"IF(Vorgaben!$C$1=24,1,IF(Vorgaben!$C$1=30,2,IF(Vorgaben!$C$1=36,3,IF(Vorgaben!$C$1=36,4,IF(Vorgaben!$C$1=42,5,IF(Vorgaben!$C$1=48,6,\"\"))))))","v":6}]
[{"$f":"'Lauf PlSp13-18'!G9","v":3},{"$f":"'Lauf PlSp13-18'!B9","v":"13-18"},{"$f":"'Lauf PlSp13-18'!A9","v":39},{"$f":"'Lauf PlSp13-18'!C9","v":"10:57:00"},{"$f":"'Lauf PlSp13-18'!D9","v":"Gruppe C4"},":",{"$f":"'Lauf PlSp13-18'!E9","v":"Gruppe E7"},"__",":","__","",null,{"$f":"IF(Vorgaben!$C$1=24,1,IF(Vorgaben!$C$1=30,2,IF(Vorgaben!$C$1=36,3,IF(Vorgaben!$C$1=36,4,IF(Vorgaben!$C$1=42,5,IF(Vorgaben!$C$1=48,6,\"\"))))))","v":6}]
[{"$f":"'Lauf PlSp37-42'!G9","v":4},{"$f":"'Lauf PlSp37-42'!B9","v":"37-42"},{"$f":"'Lauf PlSp37-42'!A9","v":99},{"$f":"'Lauf PlSp37-42'!C9","v":"10:57:00"},{"$f":"'Lauf PlSp37-42'!D9","v":"Gruppe C1"},":",{"$f":"'Lauf PlSp37-42'!E9","v":"Gruppe E5"},"__",":","__","",null,{"$f":"IF(Vorgaben!$C$1=24,1,IF(Vorgaben!$C$1=30,2,IF(Vorgaben!$C$1=36,3,IF(Vorgaben!$C$1=36,4,IF(Vorgaben!$C$1=42,5,IF(Vorgaben!$C$1=48,6,\"\"))))))","v":6}]
[{"$f":"'Lauf PlSp25-30'!G9","v":5},{"$f":"'Lauf PlSp25-30'!B9","v":"25-30"},{"$f":"'Lauf PlSp25-30'!A9","v":69},{"$f":"'Lauf PlSp25-30'!C9","v":"10:57:00"},{"$f":"'Lauf PlSp25-30'!D9","v":"Gruppe C7"},":",{"$f":"'Lauf PlSp25-30'!E9","v":"Gruppe E1"},"__",":","__","",null,{"$f":"IF(Vorgaben!$C$1=24,1,IF(Vorgaben!$C$1=30,2,IF(Vorgaben!$C$1=36,3,IF(Vorgaben!$C$1=36,4,IF(Vorgaben!$C$1=42,5,IF(Vorgaben!$C$1=48,6,\"\"))))))","v":6}]
[{"$f":"'Lauf PlSp43-48'!G9","v":6},{"$f":"'Lauf PlSp43-48'!B9","v":"43-48"},{"$f":"'Lauf PlSp43-48'!A9","v":114},{"$f":"'Lauf PlSp43-48'!C9","v":"10:57:00"},{"$f":"'Lauf PlSp43-48'!D9","v":"Gruppe C6"},":",{"$f":"'Lauf PlSp43-48'!E9","v":"Gruppe E8"},"__",":","__","",null,{"$f":"IF(Vorgaben!$C$1=24,1,IF(Vorgaben!$C$1=30,2,IF(Vorgaben!$C$1=36,3,IF(Vorgaben!$C$1=36,4,IF(Vorgaben!$C$1=42,5,IF(Vorgaben!$C$1=48,6,\"\"))))))","v":6}]
[{"$f":"'Lauf ZRA'!G14","v":1},{"$f":"'Lauf ZRA'!B14","v":"ZRA"},{"$f":"'Lauf ZRA'!A14","v":14},{"$f":"'Lauf ZRA'!C14","v":"11:08:00"},{"$f":"'Lauf ZRA'!D14","v":"Gruppe C5"},":",{"$f":"'Lauf ZRA'!E14","v":"Gruppe E3"},"__",":","__","",null,{"$f":"IF(Vorgaben!$C$1=24,1,IF(Vorgaben!$C$1=30,2,IF(Vorgaben!$C$1=36,3,IF(Vorgaben!$C$1=36,4,IF(Vorgaben!$C$1=42,5,IF(Vorgaben!$C$1=48,6,\"\"))))))","v":6}]
[{"$f":"'Lauf ZRB'!G14","v":2},{"$f":"'Lauf ZRB'!B14","v":"ZRB"},{"$f":"'Lauf ZRB'!A14","v":29},{"$f":"'Lauf ZRB'!C14","v":"11:08:00"},{"$f":"'Lauf ZRB'!D14","v":"Gruppe D8"},":",{"$f":"'Lauf ZRB'!E14","v":"Gruppe F5"},"__",":","__","",null,{"$f":"IF(Vorgaben!$C$1=24,1,IF(Vorgaben!$C$1=30,2,IF(Vorgaben!$C$1=36,3,IF(Vorgaben!$C$1=36,4,IF(Vorgaben!$C$1=42,5,IF(Vorgaben!$C$1=48,6,\"\"))))))","v":6}]
[{"$f":"'Lauf PlSp37-42'!G10","v":3},{"$f":"'Lauf PlSp37-42'!B10","v":"37-42"},{"$f":"'Lauf PlSp37-42'!A10","v":100},{"$f":"'Lauf PlSp37-42'!C10","v":"11:08:00"},{"$f":"'Lauf PlSp37-42'!D10","v":"Gruppe D5"},":",{"$f":"'Lauf PlSp37-42'!E10","v":"Gruppe F1"},"__",":","__","",null,{"$f":"IF(Vorgaben!$C$1=24,1,IF(Vorgaben!$C$1=30,2,IF(Vorgaben!$C$1=36,3,IF(Vorgaben!$C$1=36,4,IF(Vorgaben!$C$1=42,5,IF(Vorgaben!$C$1=48,6,\"\"))))))","v":6}]
[{"$f":"'Lauf PlSp19-24'!G9","v":4},{"$f":"'Lauf PlSp19-24'!B9","v":"19-24"},{"$f":"'Lauf PlSp19-24'!A9","v":54},{"$f":"'Lauf PlSp19-24'!C9","v":"11:08:00"},{"$f":"'Lauf PlSp19-24'!D9","v":"Gruppe C3"},":",{"$f":"'Lauf PlSp19-24'!E9","v":"Gruppe E4"},"__",":","__","",null,{"$f":"IF(Vorgaben!$C$1=24,1,IF(Vorgaben!$C$1=30,2,IF(Vorgaben!$C$1=36,3,IF(Vorgaben!$C$1=36,4,IF(Vorgaben!$C$1=42,5,IF(Vorgaben!$C$1=48,6,\"\"))))))","v":6}]
[{"$f":"'Lauf PlSp43-48'!G10","v":5},{"$f":"'Lauf PlSp43-48'!B10","v":"43-48"},{"$f":"'Lauf PlSp43-48'!A10","v":115},{"$f":"'Lauf PlSp43-48'!C10","v":"11:08:00"},{"$f":"'Lauf PlSp43-48'!D10","v":"Gruppe D6"},":",{"$f":"'Lauf PlSp43-48'!E10","v":"Gruppe F7"},"__",":","__","",null,{"$f":"IF(Vorgaben!$C$1=24,1,IF(Vorgaben!$C$1=30,2,IF(Vorgaben!$C$1=36,3,IF(Vorgaben!$C$1=36,4,IF(Vorgaben!$C$1=42,5,IF(Vorgaben!$C$1=48,6,\"\"))))))","v":6}]
[{"$f":"'Lauf PlSp31-36'!G9","v":6},{"$f":"'Lauf PlSp31-36'!B9","v":"31-36"},{"$f":"'Lauf PlSp31-36'!A9","v":84},{"$f":"'Lauf PlSp31-36'!C9","v":"11:08:00"},{"$f":"'Lauf PlSp31-36'!D9","v":"Gruppe C2"},":",{"$f":"'Lauf PlSp31-36'!E9","v":"Gruppe E6"},"__",":","__","",null,{"$f":"IF(Vorgaben!$C$1=24,1,IF(Vorgaben!$C$1=30,2,IF(Vorgaben!$C$1=36,3,IF(Vorgaben!$C$1=36,4,IF(Vorgaben!$C$1=42,5,IF(Vorgaben!$C$1=48,6,\"\"))))))","v":6}]
[{"$f":"'Lauf ZRA'!G15","v":1},{"$f":"'Lauf ZRA'!B15","v":"ZRA"},{"$f":"'Lauf ZRA'!A15","v":15},{"$f":"'Lauf ZRA'!C15","v":"11:19:00"},{"$f":"'Lauf ZRA'!D15","v":"Gruppe A4"},":",{"$f":"'Lauf ZRA'!E15","v":"Gruppe C8"},"__",":","__","",null,{"$f":"IF(Vorgaben!$C$1=24,1,IF(Vorgaben!$C$1=30,2,IF(Vorgaben!$C$1=36,3,IF(Vorgaben!$C$1=36,4,IF(Vorgaben!$C$1=42,5,IF(Vorgaben!$C$1=48,6,\"\"))))))","v":6}]
[{"$f":"'Lauf ZRB'!G15","v":2},{"$f":"'Lauf ZRB'!B15","v":"ZRB"},{"$f":"'Lauf ZRB'!A15","v":30},{"$f":"'Lauf ZRB'!C15","v":"11:19:00"},{"$f":"'Lauf ZRB'!D15","v":"Gruppe B1"},":",{"$f":"'Lauf ZRB'!E15","v":"Gruppe D7"},"__",":","__","",null,{"$f":"IF(Vorgaben!$C$1=24,1,IF(Vorgaben!$C$1=30,2,IF(Vorgaben!$C$1=36,3,IF(Vorgaben!$C$1=36,4,IF(Vorgaben!$C$1=42,5,IF(Vorgaben!$C$1=48,6,\"\"))))))","v":6}]
[{"$f":"'Lauf PlSp13-18'!G10","v":3},{"$f":"'Lauf PlSp13-18'!B10","v":"13-18"},{"$f":"'Lauf PlSp13-18'!A10","v":40},{"$f":"'Lauf PlSp13-18'!C10","v":"11:19:00"},{"$f":"'Lauf PlSp13-18'!D10","v":"Gruppe D2"},":",{"$f":"'Lauf PlSp13-18'!E10","v":"Gruppe F6"},"__",":","__","",null,{"$f":"IF(Vorgaben!$C$1=24,1,IF(Vorgaben!$C$1=30,2,IF(Vorgaben!$C$1=36,3,IF(Vorgaben!$C$1=36,4,IF(Vorgaben!$C$1=42,5,IF(Vorgaben!$C$1=48,6,\"\"))))))","v":6}]
[{"$f":"'Lauf PlSp19-24'!G10","v":4},{"$f":"'Lauf PlSp19-24'!B10","v":"19-24"},{"$f":"'Lauf PlSp19-24'!A10","v":55},{"$f":"'Lauf PlSp19-24'!C10","v":"11:19:00"},{"$f":"'Lauf PlSp19-24'!D10","v":"Gruppe D3"},":",{"$f":"'Lauf PlSp19-24'!E10","v":"Gruppe F4"},"__",":","__","",null,{"$f":"IF(Vorgaben!$C$1=24,1,IF(Vorgaben!$C$1=30,2,IF(Vorgaben!$C$1=36,3,IF(Vorgaben!$C$1=36,4,IF(Vorgaben!$C$1=42,5,IF(Vorgaben!$C$1=48,6,\"\"))))))","v":6}]
[{"$f":"'Lauf PlSp25-30'!G10","v":5},{"$f":"'Lauf PlSp25-30'!B10","v":"25-30"},{"$f":"'Lauf PlSp25-30'!A10","v":70},{"$f":"'Lauf PlSp25-30'!C10","v":"11:19:00"},{"$f":"'Lauf PlSp25-30'!D10","v":"Gruppe D4"},":",{"$f":"'Lauf PlSp25-30'!E10","v":"Gruppe F3"},"__",":","__","",null,{"$f":"IF(Vorgaben!$C$1=24,1,IF(Vorgaben!$C$1=30,2,IF(Vorgaben!$C$1=36,3,IF(Vorgaben!$C$1=36,4,IF(Vorgaben!$C$1=42,5,IF(Vorgaben!$C$1=48,6,\"\"))))))","v":6}]
[{"$f":"'Lauf PlSp31-36'!G10","v":6},{"$f":"'Lauf PlSp31-36'!B10","v":"31-36"},{"$f":"'Lauf PlSp31-36'!A10","v":85},{"$f":"'Lauf PlSp31-36'!C10","v":"11:19:00"},{"$f":"'Lauf PlSp31-36'!D10","v":"Gruppe D1"},":",{"$f":"'Lauf PlSp31-36'!E10","v":"Gruppe F2"},"__",":","__","",null,{"$f":"IF(Vorgaben!$C$1=24,1,IF(Vorgaben!$C$1=30,2,IF(Vorgaben!$C$1=36,3,IF(Vorgaben!$C$1=36,4,IF(Vorgaben!$C$1=42,5,IF(Vorgaben!$C$1=48,6,\"\"))))))","v":6}]
[{"$f":"'Lauf PlSp13-18'!G11","v":3},{"$f":"'Lauf PlSp13-18'!B11","v":"13-18"},{"$f":"'Lauf PlSp13-18'!A11","v":41},{"$f":"'Lauf PlSp13-18'!C11","v":"12:15:00"},{"$f":"'Lauf PlSp13-18'!D11","v":"Gruppe A2"},":",{"$f":"'Lauf PlSp13-18'!E11","v":"Gruppe E7"},"__",":","__","",null,{"$f":"IF(Vorgaben!$C$1=24,1,IF(Vorgaben!$C$1=30,2,IF(Vorgaben!$C$1=36,3,IF(Vorgaben!$C$1=36,4,IF(Vorgaben!$C$1=42,5,IF(Vorgaben!$C$1=48,6,\"\"))))))","v":6}]
[{"$f":"'Lauf PlSp37-42'!G11","v":4},{"$f":"'Lauf PlSp37-42'!B11","v":"37-42"},{"$f":"'Lauf PlSp37-42'!A11","v":101},{"$f":"'Lauf PlSp37-42'!C11","v":"12:15:00"},{"$f":"'Lauf PlSp37-42'!D11","v":"Gruppe A5"},":",{"$f":"'Lauf PlSp37-42'!E11","v":"Gruppe E5"},"__",":","__","",null,{"$f":"IF(Vorgaben!$C$1=24,1,IF(Vorgaben!$C$1=30,2,IF(Vorgaben!$C$1=36,3,IF(Vorgaben!$C$1=36,4,IF(Vorgaben!$C$1=42,5,IF(Vorgaben!$C$1=48,6,\"\"))))))","v":6}]
[{"$f":"'Lauf PlSp25-30'!G11","v":5},{"$f":"'Lauf PlSp25-30'!B11","v":"25-30"},{"$f":"'Lauf PlSp25-30'!A11","v":71},{"$f":"'Lauf PlSp25-30'!C11","v":"12:15:00"},{"$f":"'Lauf PlSp25-30'!D11","v":"Gruppe A3"},":",{"$f":"'Lauf PlSp25-30'!E11","v":"Gruppe E1"},"__",":","__","",null,{"$f":"IF(Vorgaben!$C$1=24,1,IF(Vorgaben!$C$1=30,2,IF(Vorgaben!$C$1=36,3,IF(Vorgaben!$C$1=36,4,IF(Vorgaben!$C$1=42,5,IF(Vorgaben!$C$1=48,6,\"\"))))))","v":6}]
[{"$f":"'Lauf PlSp43-48'!G11","v":6},{"$f":"'Lauf PlSp43-48'!B11","v":"43-48"},{"$f":"'Lauf PlSp43-48'!A11","v":116},{"$f":"'Lauf PlSp43-48'!C11","v":"12:15:00"},{"$f":"'Lauf PlSp43-48'!D11","v":"Gruppe A1"},":",{"$f":"'Lauf PlSp43-48'!E11","v":"Gruppe E8"},"__",":","__","",null,{"$f":"IF(Vorgaben!$C$1=24,1,IF(Vorgaben!$C$1=30,2,IF(Vorgaben!$C$1=36,3,IF(Vorgaben!$C$1=36,4,IF(Vorgaben!$C$1=42,5,IF(Vorgaben!$C$1=48,6,\"\"))))))","v":6}]
[{"$f":"'Lauf Halbfinale'!G2","v":1},{"$f":"'Lauf Halbfinale'!B2","v":"Halbfinale"},{"$f":"'Lauf Halbfinale'!A2","v":122},{"$f":"'Lauf Halbfinale'!C2","v":"12:26:00"},"__________________________",":","__________________________","__",":","__","",null,{"$f":"IF(Vorgaben!$C$1=24,1,IF(Vorgaben!$C$1=30,2,IF(Vorgaben!$C$1=36,3,IF(Vorgaben!$C$1=36,4,IF(Vorgaben!$C$1=42,5,IF(Vorgaben!$C$1=48,6,\"\"))))))","v":6}]
[{"$f":"'Lauf Halbfinale'!G1","v":2},{"$f":"'Lauf Halbfinale'!B1","v":"Halbfinale"},{"$f":"'Lauf Halbfinale'!A1","v":121},{"$f":"'Lauf Halbfinale'!C1","v":"12:26:00"},"__________________________",":","__________________________","__",":","__","",null,{"$f":"IF(Vorgaben!$C$1=24,1,IF(Vorgaben!$C$1=30,2,IF(Vorgaben!$C$1=36,3,IF(Vorgaben!$C$1=36,4,IF(Vorgaben!$C$1=42,5,IF(Vorgaben!$C$1=48,6,\"\"))))))","v":6}]
[{"$f":"'Lauf PlSp37-42'!G12","v":3},{"$f":"'Lauf PlSp37-42'!B12","v":"37-42"},{"$f":"'Lauf PlSp37-42'!A12","v":102},{"$f":"'Lauf PlSp37-42'!C12","v":"12:26:00"},{"$f":"'Lauf PlSp37-42'!D12","v":"Gruppe F1"},":",{"$f":"'Lauf PlSp37-42'!E12","v":"Gruppe B4"},"__",":","__","",null,{"$f":"IF(Vorgaben!$C$1=24,1,IF(Vorgaben!$C$1=30,2,IF(Vorgaben!$C$1=36,3,IF(Vorgaben!$C$1=36,4,IF(Vorgaben!$C$1=42,5,IF(Vorgaben!$C$1=48,6,\"\"))))))","v":6}]
[{"$f":"'Lauf PlSp19-24'!G11","v":4},{"$f":"'Lauf PlSp19-24'!B11","v":"19-24"},{"$f":"'Lauf PlSp19-24'!A11","v":56},{"$f":"'Lauf PlSp19-24'!C11","v":"12:26:00"},{"$f":"'Lauf PlSp19-24'!D11","v":"Gruppe A6"},":",{"$f":"'Lauf PlSp19-24'!E11","v":"Gruppe E4"},"__",":","__","",null,{"$f":"IF(Vorgaben!$C$1=24,1,IF(Vorgaben!$C$1=30,2,IF(Vorgaben!$C$1=36,3,IF(Vorgaben!$C$1=36,4,IF(Vorgaben!$C$1=42,5,IF(Vorgaben!$C$1=48,6,\"\"))))))","v":6}]
[{"$f":"'Lauf PlSp43-48'!G12","v":5},{"$f":"'Lauf PlSp43-48'!B12","v":"43-48"},{"$f":"'Lauf PlSp43-48'!A12","v":117},{"$f":"'Lauf PlSp43-48'!C12","v":"12:26:00"},{"$f":"'Lauf PlSp43-48'!D12","v":"Gruppe F7"},":",{"$f":"'Lauf PlSp43-48'!E12","v":"Gruppe B2"},"__",":","__","",null,{"$f":"IF(Vorgaben!$C$1=24,1,IF(Vorgaben!$C$1=30,2,IF(Vorgaben!$C$1=36,3,IF(Vorgaben!$C$1=36,4,IF(Vorgaben!$C$1=42,5,IF(Vorgaben!$C$1=48,6,\"\"))))))","v":6}]
[{"$f":"'Lauf PlSp31-36'!G11","v":6},{"$f":"'Lauf PlSp31-36'!B11","v":"31-36"},{"$f":"'Lauf PlSp31-36'!A11","v":86},{"$f":"'Lauf PlSp31-36'!C11","v":"12:26:00"},{"$f":"'Lauf PlSp31-36'!D11","v":"Gruppe A8"},":",{"$f":"'Lauf PlSp31-36'!E11","v":"Gruppe E6"},"__",":","__","",null,{"$f":"IF(Vorgaben!$C$1=24,1,IF(Vorgaben!$C$1=30,2,IF(Vorgaben!$C$1=36,3,IF(Vorgaben!$C$1=36,4,IF(Vorgaben!$C$1=42,5,IF(Vorgaben!$C$1=48,6,\"\"))))))","v":6}]
[{"$f":"'Lauf Halbfinale'!G4","v":1},{"$f":"'Lauf Halbfinale'!B4","v":"Halbfinale"},{"$f":"'Lauf Halbfinale'!A4","v":124},{"$f":"'Lauf Halbfinale'!C4","v":"12:37:00"},"__________________________",":","__________________________","__",":","__","",null,{"$f":"IF(Vorgaben!$C$1=24,1,IF(Vorgaben!$C$1=30,2,IF(Vorgaben!$C$1=36,3,IF(Vorgaben!$C$1=36,4,IF(Vorgaben!$C$1=42,5,IF(Vorgaben!$C$1=48,6,\"\"))))))","v":6}]
[{"$f":"'Lauf Halbfinale'!G3","v":2},{"$f":"'Lauf Halbfinale'!B3","v":"Halbfinale"},{"$f":"'Lauf Halbfinale'!A3","v":123},{"$f":"'Lauf Halbfinale'!C3","v":"12:37:00"},"__________________________",":","__________________________","__",":","__","",null,{"$f":"IF(Vorgaben!$C$1=24,1,IF(Vorgaben!$C$1=30,2,IF(Vorgaben!$C$1=36,3,IF(Vorgaben!$C$1=36,4,IF(Vorgaben!$C$1=42,5,IF(Vorgaben!$C$1=48,6,\"\"))))))","v":6}]
[{"$f":"'Lauf PlSp13-18'!G12","v":3},{"$f":"'Lauf PlSp13-18'!B12","v":"13-18"},{"$f":"'Lauf PlSp13-18'!A12","v":42},{"$f":"'Lauf PlSp13-18'!C12","v":"12:37:00"},{"$f":"'Lauf PlSp13-18'!D12","v":"Gruppe F6"},":",{"$f":"'Lauf PlSp13-18'!E12","v":"Gruppe B6"},"__",":","__","",null,{"$f":"IF(Vorgaben!$C$1=24,1,IF(Vorgaben!$C$1=30,2,IF(Vorgaben!$C$1=36,3,IF(Vorgaben!$C$1=36,4,IF(Vorgaben!$C$1=42,5,IF(Vorgaben!$C$1=48,6,\"\"))))))","v":6}]
[{"$f":"'Lauf PlSp19-24'!G12","v":4},{"$f":"'Lauf PlSp19-24'!B12","v":"19-24"},{"$f":"'Lauf PlSp19-24'!A12","v":57},{"$f":"'Lauf PlSp19-24'!C12","v":"12:37:00"},{"$f":"'Lauf PlSp19-24'!D12","v":"Gruppe F4"},":",{"$f":"'Lauf PlSp19-24'!E12","v":"Gruppe B5"},"__",":","__","",null,{"$f":"IF(Vorgaben!$C$1=24,1,IF(Vorgaben!$C$1=30,2,IF(Vorgaben!$C$1=36,3,IF(Vorgaben!$C$1=36,4,IF(Vorgaben!$C$1=42,5,IF(Vorgaben!$C$1=48,6,\"\"))))))","v":6}]
[{"$f":"'Lauf PlSp25-30'!G12","v":5},{"$f":"'Lauf PlSp25-30'!B12","v":"25-30"},{"$f":"'Lauf PlSp25-30'!A12","v":72},{"$f":"'Lauf PlSp25-30'!C12","v":"12:37:00"},{"$f":"'Lauf PlSp25-30'!D12","v":"Gruppe F3"},":",{"$f":"'Lauf PlSp25-30'!E12","v":"Gruppe B7"},"__",":","__","",null,{"$f":"IF(Vorgaben!$C$1=24,1,IF(Vorgaben!$C$1=30,2,IF(Vorgaben!$C$1=36,3,IF(Vorgaben!$C$1=36,4,IF(Vorgaben!$C$1=42,5,IF(Vorgaben!$C$1=48,6,\"\"))))))","v":6}]
[{"$f":"'Lauf PlSp31-36'!G12","v":6},{"$f":"'Lauf PlSp31-36'!B12","v":"31-36"},{"$f":"'Lauf PlSp31-36'!A12","v":87},{"$f":"'Lauf PlSp31-36'!C12","v":"12:37:00"},{"$f":"'Lauf PlSp31-36'!D12","v":"Gruppe F2"},":",{"$f":"'Lauf PlSp31-36'!E12","v":"Gruppe B8"},"__",":","__","",null,{"$f":"IF(Vorgaben!$C$1=24,1,IF(Vorgaben!$C$1=30,2,IF(Vorgaben!$C$1=36,3,IF(Vorgaben!$C$1=36,4,IF(Vorgaben!$C$1=42,5,IF(Vorgaben!$C$1=48,6,\"\"))))))","v":6}]
[{"$f":"'Lauf Halbfinale'!G6","v":1},{"$f":"'Lauf Halbfinale'!B6","v":"Halbfinale"},{"$f":"'Lauf Halbfinale'!A6","v":126},{"$f":"'Lauf Halbfinale'!C6","v":"12:48:00"},"__________________________",":","__________________________","__",":","__","",null,{"$f":"IF(Vorgaben!$C$1=24,1,IF(Vorgaben!$C$1=30,2,IF(Vorgaben!$C$1=36,3,IF(Vorgaben!$C$1=36,4,IF(Vorgaben!$C$1=42,5,IF(Vorgaben!$C$1=48,6,\"\"))))))","v":6}]
[{"$f":"'Lauf Halbfinale'!G5","v":2},{"$f":"'Lauf Halbfinale'!B5","v":"Halbfinale"},{"$f":"'Lauf Halbfinale'!A5","v":125},{"$f":"'Lauf Halbfinale'!C5","v":"12:48:00"},"__________________________",":","__________________________","__",":","__","",null,{"$f":"IF(Vorgaben!$C$1=24,1,IF(Vorgaben!$C$1=30,2,IF(Vorgaben!$C$1=36,3,IF(Vorgaben!$C$1=36,4,IF(Vorgaben!$C$1=42,5,IF(Vorgaben!$C$1=48,6,\"\"))))))","v":6}]
[{"$f":"'Lauf PlSp13-18'!G13","v":3},{"$f":"'Lauf PlSp13-18'!B13","v":"13-18"},{"$f":"'Lauf PlSp13-18'!A13","v":43},{"$f":"'Lauf PlSp13-18'!C13","v":"12:48:00"},{"$f":"'Lauf PlSp13-18'!D13","v":"Gruppe D2"},":",{"$f":"'Lauf PlSp13-18'!E13","v":"Gruppe A2"},"__",":","__","",null,{"$f":"IF(Vorgaben!$C$1=24,1,IF(Vorgaben!$C$1=30,2,IF(Vorgaben!$C$1=36,3,IF(Vorgaben!$C$1=36,4,IF(Vorgaben!$C$1=42,5,IF(Vorgaben!$C$1=48,6,\"\"))))))","v":6}]
[{"$f":"'Lauf PlSp37-42'!G13","v":4},{"$f":"'Lauf PlSp37-42'!B13","v":"37-42"},{"$f":"'Lauf PlSp37-42'!A13","v":103},{"$f":"'Lauf PlSp37-42'!C13","v":"12:48:00"},{"$f":"'Lauf PlSp37-42'!D13","v":"Gruppe D5"},":",{"$f":"'Lauf PlSp37-42'!E13","v":"Gruppe A5"},"__",":","__","",null,{"$f":"IF(Vorgaben!$C$1=24,1,IF(Vorgaben!$C$1=30,2,IF(Vorgaben!$C$1=36,3,IF(Vorgaben!$C$1=36,4,IF(Vorgaben!$C$1=42,5,IF(Vorgaben!$C$1=48,6,\"\"))))))","v":6}]
[{"$f":"'Lauf PlSp25-30'!G13","v":5},{"$f":"'Lauf PlSp25-30'!B13","v":"25-30"},{"$f":"'Lauf PlSp25-30'!A13","v":73},{"$f":"'Lauf PlSp25-30'!C13","v":"12:48:00"},{"$f":"'Lauf PlSp25-30'!D13","v":"Gruppe D4"},":",{"$f":"'Lauf PlSp25-30'!E13","v":"Gruppe A3"},"__",":","__","",null,{"$f":"IF(Vorgaben!$C$1=24,1,IF(Vorgaben!$C$1=30,2,IF(Vorgaben!$C$1=36,3,IF(Vorgaben!$C$1=36,4,IF(Vorgaben!$C$1=42,5,IF(Vorgaben!$C$1=48,6,\"\"))))))","v":6}]
[{"$f":"'Lauf PlSp43-48'!G13","v":6},{"$f":"'Lauf PlSp43-48'!B13","v":"43-48"},{"$f":"'Lauf PlSp43-48'!A13","v":118},{"$f":"'Lauf PlSp43-48'!C13","v":"12:48:00"},{"$f":"'Lauf PlSp43-48'!D13","v":"Gruppe D6"},":",{"$f":"'Lauf PlSp43-48'!E13","v":"Gruppe A1"},"__",":","__","",null,{"$f":"IF(Vorgaben!$C$1=24,1,IF(Vorgaben!$C$1=30,2,IF(Vorgaben!$C$1=36,3,IF(Vorgaben!$C$1=36,4,IF(Vorgaben!$C$1=42,5,IF(Vorgaben!$C$1=48,6,\"\"))))))","v":6}]
[{"$f":"'Lauf PlSp37-42'!G14","v":3},{"$f":"'Lauf PlSp37-42'!B14","v":"37-42"},{"$f":"'Lauf PlSp37-42'!A14","v":104},{"$f":"'Lauf PlSp37-42'!C14","v":"12:59:00"},{"$f":"'Lauf PlSp37-42'!D14","v":"Gruppe C1"},":",{"$f":"'Lauf PlSp37-42'!E14","v":"Gruppe F1"},"__",":","__","",null,{"$f":"IF(Vorgaben!$C$1=24,1,IF(Vorgaben!$C$1=30,2,IF(Vorgaben!$C$1=36,3,IF(Vorgaben!$C$1=36,4,IF(Vorgaben!$C$1=42,5,IF(Vorgaben!$C$1=48,6,\"\"))))))","v":6}]
[{"$f":"'Lauf PlSp19-24'!G13","v":4},{"$f":"'Lauf PlSp19-24'!B13","v":"19-24"},{"$f":"'Lauf PlSp19-24'!A13","v":58},{"$f":"'Lauf PlSp19-24'!C13","v":"12:59:00"},{"$f":"'Lauf PlSp19-24'!D13","v":"Gruppe D3"},":",{"$f":"'Lauf PlSp19-24'!E13","v":"Gruppe A6"},"__",":","__","",null,{"$f":"IF(Vorgaben!$C$1=24,1,IF(Vorgaben!$C$1=30,2,IF(Vorgaben!$C$1=36,3,IF(Vorgaben!$C$1=36,4,IF(Vorgaben!$C$1=42,5,IF(Vorgaben!$C$1=48,6,\"\"))))))","v":6}]
[{"$f":"'Lauf PlSp43-48'!G14","v":5},{"$f":"'Lauf PlSp43-48'!B14","v":"43-48"},{"$f":"'Lauf PlSp43-48'!A14","v":119},{"$f":"'Lauf PlSp43-48'!C14","v":"12:59:00"},{"$f":"'Lauf PlSp43-48'!D14","v":"Gruppe C6"},":",{"$f":"'Lauf PlSp43-48'!E14","v":"Gruppe F7"},"__",":","__","",null,{"$f":"IF(Vorgaben!$C$1=24,1,IF(Vorgaben!$C$1=30,2,IF(Vorgaben!$C$1=36,3,IF(Vorgaben!$C$1=36,4,IF(Vorgaben!$C$1=42,5,IF(Vorgaben!$C$1=48,6,\"\"))))))","v":6}]
[{"$f":"'Lauf PlSp31-36'!G13","v":6},{"$f":"'Lauf PlSp31-36'!B13","v":"31-36"},{"$f":"'Lauf PlSp31-36'!A13","v":88},{"$f":"'Lauf PlSp31-36'!C13","v":"12:59:00"},{"$f":"'Lauf PlSp31-36'!D13","v":"Gruppe D1"},":",{"$f":"'Lauf PlSp31-36'!E13","v":"Gruppe A8"},"__",":","__","",null,{"$f":"IF(Vorgaben!$C$1=24,1,IF(Vorgaben!$C$1=30,2,IF(Vorgaben!$C$1=36,3,IF(Vorgaben!$C$1=36,4,IF(Vorgaben!$C$1=42,5,IF(Vorgaben!$C$1=48,6,\"\"))))))","v":6}]
[{"$f":"'Lauf PlSp13-18'!G14","v":3},{"$f":"'Lauf PlSp13-18'!B14","v":"13-18"},{"$f":"'Lauf PlSp13-18'!A14","v":44},{"$f":"'Lauf PlSp13-18'!C14","v":"13:10:00"},{"$f":"'Lauf PlSp13-18'!D14","v":"Gruppe C4"},":",{"$f":"'Lauf PlSp13-18'!E14","v":"Gruppe F6"},"__",":","__",""]
[{"$f":"'Lauf PlSp19-24'!G14","v":4},{"$f":"'Lauf PlSp19-24'!B14","v":"19-24"},{"$f":"'Lauf PlSp19-24'!A14","v":59},{"$f":"'Lauf PlSp19-24'!C14","v":"13:10:00"},{"$f":"'Lauf PlSp19-24'!D14","v":"Gruppe C3"},":",{"$f":"'Lauf PlSp19-24'!E14","v":"Gruppe F4"},"__",":","__",""]
[{"$f":"'Lauf PlSp25-30'!G14","v":5},{"$f":"'Lauf PlSp25-30'!B14","v":"25-30"},{"$f":"'Lauf PlSp25-30'!A14","v":74},{"$f":"'Lauf PlSp25-30'!C14","v":"13:10:00"},{"$f":"'Lauf PlSp25-30'!D14","v":"Gruppe C7"},":",{"$f":"'Lauf PlSp25-30'!E14","v":"Gruppe F3"},"__",":","__",""]
[{"$f":"'Lauf PlSp31-36'!G14","v":6},{"$f":"'Lauf PlSp31-36'!B14","v":"31-36"},{"$f":"'Lauf PlSp31-36'!A14","v":89},{"$f":"'Lauf PlSp31-36'!C14","v":"13:10:00"},{"$f":"'Lauf PlSp31-36'!D14","v":"Gruppe C2"},":",{"$f":"'Lauf PlSp31-36'!E14","v":"Gruppe F2"},"__",":","__",""]
[{"$f":"'Lauf PlSp37-42'!G15","v":1},{"$f":"'Lauf PlSp37-42'!B15","v":"37-42"},{"$f":"'Lauf PlSp37-42'!A15","v":105},{"$f":"'Lauf PlSp37-42'!C15","v":"13:21:00"},{"$f":"'Lauf PlSp37-42'!D15","v":"Gruppe B4"},":",{"$f":"'Lauf PlSp37-42'!E15","v":"Gruppe D5"},"__",":","__",""]
[{"$f":"'Lauf PlSp43-48'!G15","v":2},{"$f":"'Lauf PlSp43-48'!B15","v":"43-48"},{"$f":"'Lauf PlSp43-48'!A15","v":120},{"$f":"'Lauf PlSp43-48'!C15","v":"13:21:00"},{"$f":"'Lauf PlSp43-48'!D15","v":"Gruppe B2"},":",{"$f":"'Lauf PlSp43-48'!E15","v":"Gruppe D6"},"__",":","__",""]
[{"$f":"'Lauf PlSp13-18'!G15","v":3},{"$f":"'Lauf PlSp13-18'!B15","v":"13-18"},{"$f":"'Lauf PlSp13-18'!A15","v":45},{"$f":"'Lauf PlSp13-18'!C15","v":"13:21:00"},{"$f":"'Lauf PlSp13-18'!D15","v":"Gruppe B6"},":",{"$f":"'Lauf PlSp13-18'!E15","v":"Gruppe D2"},"__",":","__",""]
[{"$f":"'Lauf PlSp19-24'!G15","v":4},{"$f":"'Lauf PlSp19-24'!B15","v":"19-24"},{"$f":"'Lauf PlSp19-24'!A15","v":60},{"$f":"'Lauf PlSp19-24'!C15","v":"13:21:00"},{"$f":"'Lauf PlSp19-24'!D15","v":"Gruppe B5"},":",{"$f":"'Lauf PlSp19-24'!E15","v":"Gruppe D3"},"__",":","__",""]
[{"$f":"'Lauf PlSp25-30'!G15","v":5},{"$f":"'Lauf PlSp25-30'!B15","v":"25-30"},{"$f":"'Lauf PlSp25-30'!A15","v":75},{"$f":"'Lauf PlSp25-30'!C15","v":"13:21:00"},{"$f":"'Lauf PlSp25-30'!D15","v":"Gruppe B7"},":",{"$f":"'Lauf PlSp25-30'!E15","v":"Gruppe D4"},"__",":","__",""]
[{"$f":"'Lauf PlSp31-36'!G15","v":6},{"$f":"'Lauf PlSp31-36'!B15","v":"31-36"},{"$f":"'Lauf PlSp31-36'!A15","v":90},{"$f":"'Lauf PlSp31-36'!C15","v":"13:21:00"},{"$f":"'Lauf PlSp31-36'!D15","v":"Gruppe B8"},":",{"$f":"'Lauf PlSp31-36'!E15","v":"Gruppe D1"},"__",":","__",""]
[{"$f":"'Lauf Endrunde'!G1","v":1},{"$f":"'Lauf Endrunde'!B1","v":"Endrunde Pl.11"},{"$f":"'Lauf Endrunde'!A1","v":127},{"$f":"'Lauf Endrunde'!C1","v":"13:32:00"},"__________________________",null,"__________________________","__",":","__",""]
[{"$f":"'Lauf Endrunde'!G2","v":2},{"$f":"'Lauf Endrunde'!B2","v":"Endrunde Pl.9"},{"$f":"'Lauf Endrunde'!A2","v":128},{"$f":"'Lauf Endrunde'!C2","v":"13:32:00"},"__________________________",null,"__________________________","__",":","__",""]
[{"$f":"'Lauf Endrunde'!G3","v":3},{"$f":"'Lauf Endrunde'!B3","v":"Endrunde Pl.7"},{"$f":"'Lauf Endrunde'!A3","v":129},{"$f":"'Lauf Endrunde'!C3","v":"13:32:00"},"__________________________",null,"__________________________","__",":","__",""]
[{"$f":"'Lauf Endrunde'!G4","v":4},{"$f":"'Lauf Endrunde'!B4","v":"Endrunde Pl.5"},{"$f":"'Lauf Endrunde'!A4","v":130},{"$f":"'Lauf Endrunde'!C4","v":"13:32:00"},"__________________________",null,"__________________________","__",":","__",{"$f":"IF(AND(M130=5,B130=\"43-48\"),2,IF(AND(M130=4,OR(B130=\"37-42\")),2,IF(AND(M130=3,OR(B130=\"37-42\",B130=\"43-48\")),2,IF(AND(M130=2,OR(B130=\"37-42\",B130=\"31-36\",B130=\"43-48\")),2,IF(AND(M130=1,OR(B130=\"37-42\",B130=\"31-36\",B130=\"43-48\",B130=\"25-30\")),2,\"\")))))","v":""}]
[{"$f":"'Lauf Endrunde'!G5","v":1},{"$f":"'Lauf Endrunde'!B5","v":"Endrunde Pl.3"},{"$f":"'Lauf Endrunde'!A5","v":131},{"$f":"'Lauf Endrunde'!C5","v":"13:43:00"},"__________________________",null,"__________________________","__",":","__",""]
[{"$f":"'Lauf Endrunde'!G6","v":1},{"$f":"'Lauf Endrunde'!B6","v":"Finale"},{"$f":"'Lauf Endrunde'!A6","v":132},{"$f":"'Lauf Endrunde'!C6","v":"14:05:00"},"__________________________",null,"__________________________","__",":","__",""]

{"sheet":"Spiele ZR","index":28,"n_rows":132,"n_cols":14,"rows_kept":132,"cut":false,"hidden":true,"merged":[]}
[{"$f":"'Lauf ZRA'!G1","v":1},{"$f":"'Lauf ZRA'!B1","v":"ZRA"},{"$f":"'Lauf ZRA'!A1","v":1},{"$f":"'Lauf ZRA'!C1","v":"08:45:00"},{"$f":"'Lauf ZRA'!D1","v":"Gruppe A7"},":",{"$f":"'Lauf ZRA'!E1","v":"Gruppe A4"},"__",":","__",null,null,null,{"$f":"IF(Vorgaben!C1>42,'Lauf ZRA'!A1,2)","v":1}]
[{"$f":"'Lauf ZRB'!G1","v":2},{"$f":"'Lauf ZRB'!B1","v":"ZRB"},{"$f":"'Lauf ZRB'!A1","v":16},{"$f":"'Lauf ZRB'!C1","v":"08:45:00"},{"$f":"'Lauf ZRB'!D1","v":"Gruppe B3"},":",{"$f":"'Lauf ZRB'!E1","v":"Gruppe B1"},"__",":","__"]
[{"$f":"'Lauf PlSp13-18'!G1","v":3},{"$f":"'Lauf PlSp13-18'!B1","v":"13-18"},{"$f":"'Lauf PlSp13-18'!A1","v":31},{"$f":"'Lauf PlSp13-18'!C1","v":"08:45:00"},{"$f":"'Lauf PlSp13-18'!D1","v":"Gruppe A2"},":",{"$f":"'Lauf PlSp13-18'!E1","v":"Gruppe B6"},"__",":","__"]
[{"$f":"'Lauf PlSp37-42'!G1","v":4},{"$f":"'Lauf PlSp37-42'!B1","v":"37-42"},{"$f":"'Lauf PlSp37-42'!A1","v":91},{"$f":"'Lauf PlSp37-42'!C1","v":"08:45:00"},{"$f":"'Lauf PlSp37-42'!D1","v":"Gruppe A5"},":",{"$f":"'Lauf PlSp37-42'!E1","v":"Gruppe B4"},"__",":","__"]
[{"$f":"'Lauf PlSp25-30'!G1","v":5},{"$f":"'Lauf PlSp25-30'!B1","v":"25-30"},{"$f":"'Lauf PlSp25-30'!A1","v":61},{"$f":"'Lauf PlSp25-30'!C1","v":"08:45:00"},{"$f":"'Lauf PlSp25-30'!D1","v":"Gruppe A3"},":",{"$f":"'Lauf PlSp25-30'!E1","v":"Gruppe B7"},"__",":","__"]
[{"$f":"'Lauf PlSp43-48'!G1","v":6},{"$f":"'Lauf PlSp43-48'!B1","v":"43-48"},{"$f":"'Lauf PlSp43-48'!A1","v":106},{"$f":"'Lauf PlSp43-48'!C1","v":"08:45:00"},{"$f":"'Lauf PlSp43-48'!D1","v":"Gruppe A1"},":",{"$f":"'Lauf PlSp43-48'!E1","v":"Gruppe B2"},"__",":","__"]
[{"$f":"'Lauf ZRA'!G2","v":1},{"$f":"'Lauf ZRA'!B2","v":"ZRA"},{"$f":"'Lauf ZRA'!A2","v":2},{"$f":"'Lauf ZRA'!C2","v":"08:56:00"},{"$f":"'Lauf ZRA'!D2","v":"Gruppe C5"},":",{"$f":"'Lauf ZRA'!E2","v":"Gruppe C8"},"__",":","__"]
[{"$f":"'Lauf ZRB'!G2","v":2},{"$f":"'Lauf ZRB'!B2","v":"ZRB"},{"$f":"'Lauf ZRB'!A2","v":17},{"$f":"'Lauf ZRB'!C2","v":"08:56:00"},{"$f":"'Lauf ZRB'!D2","v":"Gruppe D8"},":",{"$f":"'Lauf ZRB'!E2","v":"Gruppe D7"},"__",":","__"]
[{"$f":"'Lauf PlSp37-42'!G2","v":3},{"$f":"'Lauf PlSp37-42'!B2","v":"37-42"},{"$f":"'Lauf PlSp37-42'!A2","v":92},{"$f":"'Lauf PlSp37-42'!C2","v":"08:56:00"},{"$f":"'Lauf PlSp37-42'!D2","v":"Gruppe C1"},":",{"$f":"'Lauf PlSp37-42'!E2","v":"Gruppe D5"},"__",":","__"]
[{"$f":"'Lauf PlSp19-24'!G1","v":4},{"$f":"'Lauf PlSp19-24'!B1","v":"19-24"},{"$f":"'Lauf PlSp19-24'!A1","v":46},{"$f":"'Lauf PlSp19-24'!C1","v":"08:56:00"},{"$f":"'Lauf PlSp19-24'!D1","v":"Gruppe A6"},":",{"$f":"'Lauf PlSp19-24'!E1","v":"Gruppe B5"},"__",":","__"]
[{"$f":"'Lauf PlSp43-48'!G2","v":5},{"$f":"'Lauf PlSp43-48'!B2","v":"43-48"},{"$f":"'Lauf PlSp43-48'!A2","v":107},{"$f":"'Lauf PlSp43-48'!C2","v":"08:56:00"},{"$f":"'Lauf PlSp43-48'!D2","v":"Gruppe C6"},":",{"$f":"'Lauf PlSp43-48'!E2","v":"Gruppe D6"},"__",":","__"]
[{"$f":"'Lauf PlSp31-36'!G1","v":6},{"$f":"'Lauf PlSp31-36'!B1","v":"31-36"},{"$f":"'Lauf PlSp31-36'!A1","v":76},{"$f":"'Lauf PlSp31-36'!C1","v":"08:56:00"},{"$f":"'Lauf PlSp31-36'!D1","v":"Gruppe A8"},":",{"$f":"'Lauf PlSp31-36'!E1","v":"Gruppe B8"},"__",":","__"]
[{"$f":"'Lauf ZRA'!G3","v":1},{"$f":"'Lauf ZRA'!B3","v":"ZRA"},{"$f":"'Lauf ZRA'!A3","v":3},{"$f":"'Lauf ZRA'!C3","v":"09:07:00"},{"$f":"'Lauf ZRA'!D3","v":"Gruppe E2"},":",{"$f":"'Lauf ZRA'!E3","v":"Gruppe E3"},"__",":","__"]
[{"$f":"'Lauf ZRB'!G3","v":2},{"$f":"'Lauf ZRB'!B3","v":"ZRB"},{"$f":"'Lauf ZRB'!A3","v":18},{"$f":"'Lauf ZRB'!C3","v":"09:07:00"},{"$f":"'Lauf ZRB'!D3","v":"Gruppe F8"},":",{"$f":"'Lauf ZRB'!E3","v":"Gruppe F5"},"__",":","__"]
[{"$f":"'Lauf PlSp13-18'!G2","v":3},{"$f":"'Lauf PlSp13-18'!B2","v":"13-18"},{"$f":"'Lauf PlSp13-18'!A2","v":32},{"$f":"'Lauf PlSp13-18'!C2","v":"09:07:00"},{"$f":"'Lauf PlSp13-18'!D2","v":"Gruppe C4"},":",{"$f":"'Lauf PlSp13-18'!E2","v":"Gruppe D2"},"__",":","__"]
[{"$f":"'Lauf PlSp19-24'!G2","v":4},{"$f":"'Lauf PlSp19-24'!B2","v":"19-24"},{"$f":"'Lauf PlSp19-24'!A2","v":47},{"$f":"'Lauf PlSp19-24'!C2","v":"09:07:00"},{"$f":"'Lauf PlSp19-24'!D2","v":"Gruppe C3"},":",{"$f":"'Lauf PlSp19-24'!E2","v":"Gruppe D3"},"__",":","__"]
[{"$f":"'Lauf PlSp25-30'!G2","v":5},{"$f":"'Lauf PlSp25-30'!B2","v":"25-30"},{"$f":"'Lauf PlSp25-30'!A2","v":62},{"$f":"'Lauf PlSp25-30'!C2","v":"09:07:00"},{"$f":"'Lauf PlSp25-30'!D2","v":"Gruppe C7"},":",{"$f":"'Lauf PlSp25-30'!E2","v":"Gruppe D4"},"__",":","__"]
[{"$f":"'Lauf PlSp31-36'!G2","v":6},{"$f":"'Lauf PlSp31-36'!B2","v":"31-36"},{"$f":"'Lauf PlSp31-36'!A2","v":77},{"$f":"'Lauf PlSp31-36'!C2","v":"09:07:00"},{"$f":"'Lauf PlSp31-36'!D2","v":"Gruppe C2"},":",{"$f":"'Lauf PlSp31-36'!E2","v":"Gruppe D1"},"__",":","__"]
[{"$f":"'Lauf ZRA'!G4","v":1},{"$f":"'Lauf ZRA'!B4","v":"ZRA"},{"$f":"'Lauf ZRA'!A4","v":4},{"$f":"'Lauf ZRA'!C4","v":"09:18:00"},{"$f":"'Lauf ZRA'!D4","v":"Gruppe A4"},":",{"$f":"'Lauf ZRA'!E4","v":"Gruppe C5"},"__",":","__"]
[{"$f":"'Lauf ZRB'!G4","v":2},{"$f":"'Lauf ZRB'!B4","v":"ZRB"},{"$f":"'Lauf ZRB'!A4","v":19},{"$f":"'Lauf ZRB'!C4","v":"09:18:00"},{"$f":"'Lauf ZRB'!D4","v":"Gruppe B1"},":",{"$f":"'Lauf ZRB'!E4","v":"Gruppe D8"},"__",":","__"]
[{"$f":"'Lauf PlSp13-18'!G3","v":3},{"$f":"'Lauf PlSp13-18'!B3","v":"13-18"},{"$f":"'Lauf PlSp13-18'!A3","v":33},{"$f":"'Lauf PlSp13-18'!C3","v":"09:18:00"},{"$f":"'Lauf PlSp13-18'!D3","v":"Gruppe E7"},":",{"$f":"'Lauf PlSp13-18'!E3","v":"Gruppe F6"},"__",":","__"]
[{"$f":"'Lauf PlSp37-42'!G3","v":4},{"$f":"'Lauf PlSp37-42'!B3","v":"37-42"},{"$f":"'Lauf PlSp37-42'!A3","v":93},{"$f":"'Lauf PlSp37-42'!C3","v":"09:18:00"},{"$f":"'Lauf PlSp37-42'!D3","v":"Gruppe E5"},":",{"$f":"'Lauf PlSp37-42'!E3","v":"Gruppe F1"},"__",":","__"]
[{"$f":"'Lauf PlSp25-30'!G3","v":5},{"$f":"'Lauf PlSp25-30'!B3","v":"25-30"},{"$f":"'Lauf PlSp25-30'!A3","v":63},{"$f":"'Lauf PlSp25-30'!C3","v":"09:18:00"},{"$f":"'Lauf PlSp25-30'!D3","v":"Gruppe E1"},":",{"$f":"'Lauf PlSp25-30'!E3","v":"Gruppe F3"},"__",":","__"]
[{"$f":"'Lauf PlSp43-48'!G3","v":6},{"$f":"'Lauf PlSp43-48'!B3","v":"43-48"},{"$f":"'Lauf PlSp43-48'!A3","v":108},{"$f":"'Lauf PlSp43-48'!C3","v":"09:18:00"},{"$f":"'Lauf PlSp43-48'!D3","v":"Gruppe E8"},":",{"$f":"'Lauf PlSp43-48'!E3","v":"Gruppe F7"},"__",":","__"]
[{"$f":"'Lauf ZRA'!G5","v":1},{"$f":"'Lauf ZRA'!B5","v":"ZRA"},{"$f":"'Lauf ZRA'!A5","v":5},{"$f":"'Lauf ZRA'!C5","v":"09:29:00"},{"$f":"'Lauf ZRA'!D5","v":"Gruppe C8"},":",{"$f":"'Lauf ZRA'!E5","v":"Gruppe E2"},"__",":","__"]
[{"$f":"'Lauf ZRB'!G5","v":2},{"$f":"'Lauf ZRB'!B5","v":"ZRB"},{"$f":"'Lauf ZRB'!A5","v":20},{"$f":"'Lauf ZRB'!C5","v":"09:29:00"},{"$f":"'Lauf ZRB'!D5","v":"Gruppe D7"},":",{"$f":"'Lauf ZRB'!E5","v":"Gruppe F8"},"__",":","__"]
[{"$f":"'Lauf PlSp37-42'!G4","v":3},{"$f":"'Lauf PlSp37-42'!B4","v":"37-42"},{"$f":"'Lauf PlSp37-42'!A4","v":94},{"$f":"'Lauf PlSp37-42'!C4","v":"09:29:00"},{"$f":"'Lauf PlSp37-42'!D4","v":"Gruppe B4"},":",{"$f":"'Lauf PlSp37-42'!E4","v":"Gruppe C1"},"__",":","__"]
[{"$f":"'Lauf PlSp19-24'!G3","v":4},{"$f":"'Lauf PlSp19-24'!B3","v":"19-24"},{"$f":"'Lauf PlSp19-24'!A3","v":48},{"$f":"'Lauf PlSp19-24'!C3","v":"09:29:00"},{"$f":"'Lauf PlSp19-24'!D3","v":"Gruppe E4"},":",{"$f":"'Lauf PlSp19-24'!E3","v":"Gruppe F4"},"__",":","__"]
[{"$f":"'Lauf PlSp43-48'!G4","v":5},{"$f":"'Lauf PlSp43-48'!B4","v":"43-48"},{"$f":"'Lauf PlSp43-48'!A4","v":109},{"$f":"'Lauf PlSp43-48'!C4","v":"09:29:00"},{"$f":"'Lauf PlSp43-48'!D4","v":"Gruppe B2"},":",{"$f":"'Lauf PlSp43-48'!E4","v":"Gruppe C6"},"__",":","__"]
[{"$f":"'Lauf PlSp31-36'!G3","v":6},{"$f":"'Lauf PlSp31-36'!B3","v":"31-36"},{"$f":"'Lauf PlSp31-36'!A3","v":78},{"$f":"'Lauf PlSp31-36'!C3","v":"09:29:00"},{"$f":"'Lauf PlSp31-36'!D3","v":"Gruppe E6"},":",{"$f":"'Lauf PlSp31-36'!E3","v":"Gruppe F2"},"__",":","__"]
[{"$f":"'Lauf ZRA'!G6","v":1},{"$f":"'Lauf ZRA'!B6","v":"ZRA"},{"$f":"'Lauf ZRA'!A6","v":6},{"$f":"'Lauf ZRA'!C6","v":"09:40:00"},{"$f":"'Lauf ZRA'!D6","v":"Gruppe A7"},":",{"$f":"'Lauf ZRA'!E6","v":"Gruppe C5"},"__",":","__"]
[{"$f":"'Lauf ZRB'!G6","v":2},{"$f":"'Lauf ZRB'!B6","v":"ZRB"},{"$f":"'Lauf ZRB'!A6","v":21},{"$f":"'Lauf ZRB'!C6","v":"09:40:00"},{"$f":"'Lauf ZRB'!D6","v":"Gruppe B3"},":",{"$f":"'Lauf ZRB'!E6","v":"Gruppe D8"},"__",":","__"]
[{"$f":"'Lauf PlSp13-18'!G4","v":3},{"$f":"'Lauf PlSp13-18'!B4","v":"13-18"},{"$f":"'Lauf PlSp13-18'!A4","v":34},{"$f":"'Lauf PlSp13-18'!C4","v":"09:40:00"},{"$f":"'Lauf PlSp13-18'!D4","v":"Gruppe B6"},":",{"$f":"'Lauf PlSp13-18'!E4","v":"Gruppe C4"},"__",":","__"]
[{"$f":"'Lauf PlSp19-24'!G4","v":4},{"$f":"'Lauf PlSp19-24'!B4","v":"19-24"},{"$f":"'Lauf PlSp19-24'!A4","v":49},{"$f":"'Lauf PlSp19-24'!C4","v":"09:40:00"},{"$f":"'Lauf PlSp19-24'!D4","v":"Gruppe B5"},":",{"$f":"'Lauf PlSp19-24'!E4","v":"Gruppe C3"},"__",":","__"]
[{"$f":"'Lauf PlSp25-30'!G4","v":5},{"$f":"'Lauf PlSp25-30'!B4","v":"25-30"},{"$f":"'Lauf PlSp25-30'!A4","v":64},{"$f":"'Lauf PlSp25-30'!C4","v":"09:40:00"},{"$f":"'Lauf PlSp25-30'!D4","v":"Gruppe B7"},":",{"$f":"'Lauf PlSp25-30'!E4","v":"Gruppe C7"},"__",":","__"]
[{"$f":"'Lauf PlSp31-36'!G4","v":6},{"$f":"'Lauf PlSp31-36'!B4","v":"31-36"},{"$f":"'Lauf PlSp31-36'!A4","v":79},{"$f":"'Lauf PlSp31-36'!C4","v":"09:40:00"},{"$f":"'Lauf PlSp31-36'!D4","v":"Gruppe B8"},":",{"$f":"'Lauf PlSp31-36'!E4","v":"Gruppe C2"},"__",":","__"]
[{"$f":"'Lauf ZRA'!G7","v":1},{"$f":"'Lauf ZRA'!B7","v":"ZRA"},{"$f":"'Lauf ZRA'!A7","v":7},{"$f":"'Lauf ZRA'!C7","v":"09:51:00"},{"$f":"'Lauf ZRA'!D7","v":"Gruppe E2"},":",{"$f":"'Lauf ZRA'!E7","v":"Gruppe A4"},"__",":","__"]
[{"$f":"'Lauf ZRB'!G7","v":2},{"$f":"'Lauf ZRB'!B7","v":"ZRB"},{"$f":"'Lauf ZRB'!A7","v":22},{"$f":"'Lauf ZRB'!C7","v":"09:51:00"},{"$f":"'Lauf ZRB'!D7","v":"Gruppe F8"},":",{"$f":"'Lauf ZRB'!E7","v":"Gruppe B1"},"__",":","__"]
[{"$f":"'Lauf PlSp13-18'!G5","v":3},{"$f":"'Lauf PlSp13-18'!B5","v":"13-18"},{"$f":"'Lauf PlSp13-18'!A5","v":35},{"$f":"'Lauf PlSp13-18'!C5","v":"09:51:00"},{"$f":"'Lauf PlSp13-18'!D5","v":"Gruppe D2"},":",{"$f":"'Lauf PlSp13-18'!E5","v":"Gruppe E7"},"__",":","__"]
[{"$f":"'Lauf PlSp37-42'!G5","v":4},{"$f":"'Lauf PlSp37-42'!B5","v":"37-42"},{"$f":"'Lauf PlSp37-42'!A5","v":95},{"$f":"'Lauf PlSp37-42'!C5","v":"09:51:00"},{"$f":"'Lauf PlSp37-42'!D5","v":"Gruppe D5"},":",{"$f":"'Lauf PlSp37-42'!E5","v":"Gruppe E5"},"__",":","__"]
[{"$f":"'Lauf PlSp25-30'!G5","v":5},{"$f":"'Lauf PlSp25-30'!B5","v":"25-30"},{"$f":"'Lauf PlSp25-30'!A5","v":65},{"$f":"'Lauf PlSp25-30'!C5","v":"09:51:00"},{"$f":"'Lauf PlSp25-30'!D5","v":"Gruppe D4"},":",{"$f":"'Lauf PlSp25-30'!E5","v":"Gruppe E1"},"__",":","__"]
[{"$f":"'Lauf PlSp43-48'!G5","v":6},{"$f":"'Lauf PlSp43-48'!B5","v":"43-48"},{"$f":"'Lauf PlSp43-48'!A5","v":110},{"$f":"'Lauf PlSp43-48'!C5","v":"09:51:00"},{"$f":"'Lauf PlSp43-48'!D5","v":"Gruppe D6"},":",{"$f":"'Lauf PlSp43-48'!E5","v":"Gruppe E8"},"__",":","__"]
[{"$f":"'Lauf ZRA'!G8","v":1},{"$f":"'Lauf ZRA'!B8","v":"ZRA"},{"$f":"'Lauf ZRA'!A8","v":8},{"$f":"'Lauf ZRA'!C8","v":"10:02:00"},{"$f":"'Lauf ZRA'!D8","v":"Gruppe E3"},":",{"$f":"'Lauf ZRA'!E8","v":"Gruppe A7"},"__",":","__"]
[{"$f":"'Lauf ZRB'!G8","v":2},{"$f":"'Lauf ZRB'!B8","v":"ZRB"},{"$f":"'Lauf ZRB'!A8","v":23},{"$f":"'Lauf ZRB'!C8","v":"10:02:00"},{"$f":"'Lauf ZRB'!D8","v":"Gruppe F5"},":",{"$f":"'Lauf ZRB'!E8","v":"Gruppe B3"},"__",":","__"]
[{"$f":"'Lauf PlSp37-42'!G6","v":3},{"$f":"'Lauf PlSp37-42'!B6","v":"37-42"},{"$f":"'Lauf PlSp37-42'!A6","v":96},{"$f":"'Lauf PlSp37-42'!C6","v":"10:02:00"},{"$f":"'Lauf PlSp37-42'!D6","v":"Gruppe A5"},":",{"$f":"'Lauf PlSp37-42'!E6","v":"Gruppe C1"},"__",":","__"]
[{"$f":"'Lauf PlSp19-24'!G5","v":4},{"$f":"'Lauf PlSp19-24'!B5","v":"19-24"},{"$f":"'Lauf PlSp19-24'!A5","v":50},{"$f":"'Lauf PlSp19-24'!C5","v":"10:02:00"},{"$f":"'Lauf PlSp19-24'!D5","v":"Gruppe D3"},":",{"$f":"'Lauf PlSp19-24'!E5","v":"Gruppe E4"},"__",":","__"]
[{"$f":"'Lauf PlSp43-48'!G6","v":5},{"$f":"'Lauf PlSp43-48'!B6","v":"43-48"},{"$f":"'Lauf PlSp43-48'!A6","v":111},{"$f":"'Lauf PlSp43-48'!C6","v":"10:02:00"},{"$f":"'Lauf PlSp43-48'!D6","v":"Gruppe A1"},":",{"$f":"'Lauf PlSp43-48'!E6","v":"Gruppe C6"},"__",":","__"]
[{"$f":"'Lauf PlSp31-36'!G5","v":6},{"$f":"'Lauf PlSp31-36'!B5","v":"31-36"},{"$f":"'Lauf PlSp31-36'!A5","v":80},{"$f":"'Lauf PlSp31-36'!C5","v":"10:02:00"},{"$f":"'Lauf PlSp31-36'!D5","v":"Gruppe D1"},":",{"$f":"'Lauf PlSp31-36'!E5","v":"Gruppe E6"},"__",":","__"]
[{"$f":"'Lauf ZRA'!G9","v":1},{"$f":"'Lauf ZRA'!B9","v":"ZRA"},{"$f":"'Lauf ZRA'!A9","v":9},{"$f":"'Lauf ZRA'!C9","v":"10:13:00"},{"$f":"'Lauf ZRA'!D9","v":"Gruppe C5"},":",{"$f":"'Lauf ZRA'!E9","v":"Gruppe E2"},"__",":","__"]
[{"$f":"'Lauf ZRB'!G9","v":2},{"$f":"'Lauf ZRB'!B9","v":"ZRB"},{"$f":"'Lauf ZRB'!A9","v":24},{"$f":"'Lauf ZRB'!C9","v":"10:13:00"},{"$f":"'Lauf ZRB'!D9","v":"Gruppe D8"},":",{"$f":"'Lauf ZRB'!E9","v":"Gruppe F8"},"__",":","__"]
[{"$f":"'Lauf PlSp13-18'!G6","v":3},{"$f":"'Lauf PlSp13-18'!B6","v":"13-18"},{"$f":"'Lauf PlSp13-18'!A6","v":36},{"$f":"'Lauf PlSp13-18'!C6","v":"10:13:00"},{"$f":"'Lauf PlSp13-18'!D6","v":"Gruppe A2"},":",{"$f":"'Lauf PlSp13-18'!E6","v":"Gruppe C4"},"__",":","__"]
[{"$f":"'Lauf PlSp19-24'!G6","v":4},{"$f":"'Lauf PlSp19-24'!B6","v":"19-24"},{"$f":"'Lauf PlSp19-24'!A6","v":51},{"$f":"'Lauf PlSp19-24'!C6","v":"10:13:00"},{"$f":"'Lauf PlSp19-24'!D6","v":"Gruppe A6"},":",{"$f":"'Lauf PlSp19-24'!E6","v":"Gruppe C3"},"__",":","__"]
[{"$f":"'Lauf PlSp25-30'!G6","v":5},{"$f":"'Lauf PlSp25-30'!B6","v":"25-30"},{"$f":"'Lauf PlSp25-30'!A6","v":66},{"$f":"'Lauf PlSp25-30'!C6","v":"10:13:00"},{"$f":"'Lauf PlSp25-30'!D6","v":"Gruppe A3"},":",{"$f":"'Lauf PlSp25-30'!E6","v":"Gruppe C7"},"__",":","__"]
[{"$f":"'Lauf PlSp31-36'!G6","v":6},{"$f":"'Lauf PlSp31-36'!B6","v":"31-36"},{"$f":"'Lauf PlSp31-36'!A6","v":81},{"$f":"'Lauf PlSp31-36'!C6","v":"10:13:00"},{"$f":"'Lauf PlSp31-36'!D6","v":"Gruppe A8"},":",{"$f":"'Lauf PlSp31-36'!E6","v":"Gruppe C2"},"__",":","__"]
[{"$f":"'Lauf ZRA'!G10","v":1},{"$f":"'Lauf ZRA'!B10","v":"ZRA"},{"$f":"'Lauf ZRA'!A10","v":10},{"$f":"'Lauf ZRA'!C10","v":"10:24:00"},{"$f":"'Lauf ZRA'!D10","v":"Gruppe C8"},":",{"$f":"'Lauf ZRA'!E10","v":"Gruppe E3"},"__",":","__"]
[{"$f":"'Lauf ZRB'!G10","v":2},{"$f":"'Lauf ZRB'!B10","v":"ZRB"},{"$f":"'Lauf ZRB'!A10","v":25},{"$f":"'Lauf ZRB'!C10","v":"10:24:00"},{"$f":"'Lauf ZRB'!D10","v":"Gruppe D7"},":",{"$f":"'Lauf ZRB'!E10","v":"Gruppe F5"},"__",":","__"]
[{"$f":"'Lauf PlSp13-18'!G7","v":3},{"$f":"'Lauf PlSp13-18'!B7","v":"13-18"},{"$f":"'Lauf PlSp13-18'!A7","v":37},{"$f":"'Lauf PlSp13-18'!C7","v":"10:24:00"},{"$f":"'Lauf PlSp13-18'!D7","v":"Gruppe E7"},":",{"$f":"'Lauf PlSp13-18'!E7","v":"Gruppe B6"},"__",":","__"]
[{"$f":"'Lauf PlSp37-42'!G7","v":4},{"$f":"'Lauf PlSp37-42'!B7","v":"37-42"},{"$f":"'Lauf PlSp37-42'!A7","v":97},{"$f":"'Lauf PlSp37-42'!C7","v":"10:24:00"},{"$f":"'Lauf PlSp37-42'!D7","v":"Gruppe E5"},":",{"$f":"'Lauf PlSp37-42'!E7","v":"Gruppe B4"},"__",":","__"]
[{"$f":"'Lauf PlSp25-30'!G7","v":5},{"$f":"'Lauf PlSp25-30'!B7","v":"25-30"},{"$f":"'Lauf PlSp25-30'!A7","v":67},{"$f":"'Lauf PlSp25-30'!C7","v":"10:24:00"},{"$f":"'Lauf PlSp25-30'!D7","v":"Gruppe E1"},":",{"$f":"'Lauf PlSp25-30'!E7","v":"Gruppe B7"},"__",":","__"]
[{"$f":"'Lauf PlSp43-48'!G7","v":6},{"$f":"'Lauf PlSp43-48'!B7","v":"43-48"},{"$f":"'Lauf PlSp43-48'!A7","v":112},{"$f":"'Lauf PlSp43-48'!C7","v":"10:24:00"},{"$f":"'Lauf PlSp43-48'!D7","v":"Gruppe E8"},":",{"$f":"'Lauf PlSp43-48'!E7","v":"Gruppe B2"},"__",":","__"]
[{"$f":"'Lauf ZRA'!G11","v":1},{"$f":"'Lauf ZRA'!B11","v":"ZRA"},{"$f":"'Lauf ZRA'!A11","v":11},{"$f":"'Lauf ZRA'!C11","v":"10:35:00"},{"$f":"'Lauf ZRA'!D11","v":"Gruppe A7"},":",{"$f":"'Lauf ZRA'!E11","v":"Gruppe E2"},"__",":","__"]
[{"$f":"'Lauf ZRB'!G11","v":2},{"$f":"'Lauf ZRB'!B11","v":"ZRB"},{"$f":"'Lauf ZRB'!A11","v":26},{"$f":"'Lauf ZRB'!C11","v":"10:35:00"},{"$f":"'Lauf ZRB'!D11","v":"Gruppe B3"},":",{"$f":"'Lauf ZRB'!E11","v":"Gruppe F8"},"__",":","__"]
[{"$f":"'Lauf PlSp37-42'!G8","v":3},{"$f":"'Lauf PlSp37-42'!B8","v":"37-42"},{"$f":"'Lauf PlSp37-42'!A8","v":98},{"$f":"'Lauf PlSp37-42'!C8","v":"10:35:00"},{"$f":"'Lauf PlSp37-42'!D8","v":"Gruppe F1"},":",{"$f":"'Lauf PlSp37-42'!E8","v":"Gruppe A5"},"__",":","__"]
[{"$f":"'Lauf PlSp19-24'!G7","v":4},{"$f":"'Lauf PlSp19-24'!B7","v":"19-24"},{"$f":"'Lauf PlSp19-24'!A7","v":52},{"$f":"'Lauf PlSp19-24'!C7","v":"10:35:00"},{"$f":"'Lauf PlSp19-24'!D7","v":"Gruppe E4"},":",{"$f":"'Lauf PlSp19-24'!E7","v":"Gruppe B5"},"__",":","__"]
[{"$f":"'Lauf PlSp43-48'!G8","v":5},{"$f":"'Lauf PlSp43-48'!B8","v":"43-48"},{"$f":"'Lauf PlSp43-48'!A8","v":113},{"$f":"'Lauf PlSp43-48'!C8","v":"10:35:00"},{"$f":"'Lauf PlSp43-48'!D8","v":"Gruppe F7"},":",{"$f":"'Lauf PlSp43-48'!E8","v":"Gruppe A1"},"__",":","__"]
[{"$f":"'Lauf PlSp31-36'!G7","v":6},{"$f":"'Lauf PlSp31-36'!B7","v":"31-36"},{"$f":"'Lauf PlSp31-36'!A7","v":82},{"$f":"'Lauf PlSp31-36'!C7","v":"10:35:00"},{"$f":"'Lauf PlSp31-36'!D7","v":"Gruppe E6"},":",{"$f":"'Lauf PlSp31-36'!E7","v":"Gruppe B8"},"__",":","__"]
[{"$f":"'Lauf ZRA'!G12","v":1},{"$f":"'Lauf ZRA'!B12","v":"ZRA"},{"$f":"'Lauf ZRA'!A12","v":12},{"$f":"'Lauf ZRA'!C12","v":"10:46:00"},{"$f":"'Lauf ZRA'!D12","v":"Gruppe E3"},":",{"$f":"'Lauf ZRA'!E12","v":"Gruppe A4"},"__",":","__"]
[{"$f":"'Lauf ZRB'!G12","v":2},{"$f":"'Lauf ZRB'!B12","v":"ZRB"},{"$f":"'Lauf ZRB'!A12","v":27},{"$f":"'Lauf ZRB'!C12","v":"10:46:00"},{"$f":"'Lauf ZRB'!D12","v":"Gruppe F5"},":",{"$f":"'Lauf ZRB'!E12","v":"Gruppe B1"},"__",":","__"]
[{"$f":"'Lauf PlSp13-18'!G8","v":3},{"$f":"'Lauf PlSp13-18'!B8","v":"13-18"},{"$f":"'Lauf PlSp13-18'!A8","v":38},{"$f":"'Lauf PlSp13-18'!C8","v":"10:46:00"},{"$f":"'Lauf PlSp13-18'!D8","v":"Gruppe F6"},":",{"$f":"'Lauf PlSp13-18'!E8","v":"Gruppe A2"},"__",":","__"]
[{"$f":"'Lauf PlSp19-24'!G8","v":4},{"$f":"'Lauf PlSp19-24'!B8","v":"19-24"},{"$f":"'Lauf PlSp19-24'!A8","v":53},{"$f":"'Lauf PlSp19-24'!C8","v":"10:46:00"},{"$f":"'Lauf PlSp19-24'!D8","v":"Gruppe F4"},":",{"$f":"'Lauf PlSp19-24'!E8","v":"Gruppe A6"},"__",":","__"]
[{"$f":"'Lauf PlSp25-30'!G8","v":5},{"$f":"'Lauf PlSp25-30'!B8","v":"25-30"},{"$f":"'Lauf PlSp25-30'!A8","v":68},{"$f":"'Lauf PlSp25-30'!C8","v":"10:46:00"},{"$f":"'Lauf PlSp25-30'!D8","v":"Gruppe F3"},":",{"$f":"'Lauf PlSp25-30'!E8","v":"Gruppe A3"},"__",":","__"]
[{"$f":"'Lauf PlSp31-36'!G8","v":6},{"$f":"'Lauf PlSp31-36'!B8","v":"31-36"},{"$f":"'Lauf PlSp31-36'!A8","v":83},{"$f":"'Lauf PlSp31-36'!C8","v":"10:46:00"},{"$f":"'Lauf PlSp31-36'!D8","v":"Gruppe F2"},":",{"$f":"'Lauf PlSp31-36'!E8","v":"Gruppe A8"},"__",":","__"]
[{"$f":"'Lauf ZRA'!G13","v":1},{"$f":"'Lauf ZRA'!B13","v":"ZRA"},{"$f":"'Lauf ZRA'!A13","v":13},{"$f":"'Lauf ZRA'!C13","v":"10:57:00"},{"$f":"'Lauf ZRA'!D13","v":"Gruppe C8"},":",{"$f":"'Lauf ZRA'!E13","v":"Gruppe A7"},"__",":","__"]
[{"$f":"'Lauf ZRB'!G13","v":2},{"$f":"'Lauf ZRB'!B13","v":"ZRB"},{"$f":"'Lauf ZRB'!A13","v":28},{"$f":"'Lauf ZRB'!C13","v":"10:57:00"},{"$f":"'Lauf ZRB'!D13","v":"Gruppe D7"},":",{"$f":"'Lauf ZRB'!E13","v":"Gruppe B3"},"__",":","__"]
[{"$f":"'Lauf PlSp13-18'!G9","v":3},{"$f":"'Lauf PlSp13-18'!B9","v":"13-18"},{"$f":"'Lauf PlSp13-18'!A9","v":39},{"$f":"'Lauf PlSp13-18'!C9","v":"10:57:00"},{"$f":"'Lauf PlSp13-18'!D9","v":"Gruppe C4"},":",{"$f":"'Lauf PlSp13-18'!E9","v":"Gruppe E7"},"__",":","__"]
[{"$f":"'Lauf PlSp37-42'!G9","v":4},{"$f":"'Lauf PlSp37-42'!B9","v":"37-42"},{"$f":"'Lauf PlSp37-42'!A9","v":99},{"$f":"'Lauf PlSp37-42'!C9","v":"10:57:00"},{"$f":"'Lauf PlSp37-42'!D9","v":"Gruppe C1"},":",{"$f":"'Lauf PlSp37-42'!E9","v":"Gruppe E5"},"__",":","__"]
[{"$f":"'Lauf PlSp25-30'!G9","v":5},{"$f":"'Lauf PlSp25-30'!B9","v":"25-30"},{"$f":"'Lauf PlSp25-30'!A9","v":69},{"$f":"'Lauf PlSp25-30'!C9","v":"10:57:00"},{"$f":"'Lauf PlSp25-30'!D9","v":"Gruppe C7"},":",{"$f":"'Lauf PlSp25-30'!E9","v":"Gruppe E1"},"__",":","__"]
[{"$f":"'Lauf PlSp43-48'!G9","v":6},{"$f":"'Lauf PlSp43-48'!B9","v":"43-48"},{"$f":"'Lauf PlSp43-48'!A9","v":114},{"$f":"'Lauf PlSp43-48'!C9","v":"10:57:00"},{"$f":"'Lauf PlSp43-48'!D9","v":"Gruppe C6"},":",{"$f":"'Lauf PlSp43-48'!E9","v":"Gruppe E8"},"__",":","__"]
[{"$f":"'Lauf ZRA'!G14","v":1},{"$f":"'Lauf ZRA'!B14","v":"ZRA"},{"$f":"'Lauf ZRA'!A14","v":14},{"$f":"'Lauf ZRA'!C14","v":"11:08:00"},{"$f":"'Lauf ZRA'!D14","v":"Gruppe C5"},":",{"$f":"'Lauf ZRA'!E14","v":"Gruppe E3"},"__",":","__"]
[{"$f":"'Lauf ZRB'!G14","v":2},{"$f":"'Lauf ZRB'!B14","v":"ZRB"},{"$f":"'Lauf ZRB'!A14","v":29},{"$f":"'Lauf ZRB'!C14","v":"11:08:00"},{"$f":"'Lauf ZRB'!D14","v":"Gruppe D8"},":",{"$f":"'Lauf ZRB'!E14","v":"Gruppe F5"},"__",":","__"]
[{"$f":"'Lauf PlSp37-42'!G10","v":3},{"$f":"'Lauf PlSp37-42'!B10","v":"37-42"},{"$f":"'Lauf PlSp37-42'!A10","v":100},{"$f":"'Lauf PlSp37-42'!C10","v":"11:08:00"},{"$f":"'Lauf PlSp37-42'!D10","v":"Gruppe D5"},":",{"$f":"'Lauf PlSp37-42'!E10","v":"Gruppe F1"},"__",":","__"]
[{"$f":"'Lauf PlSp19-24'!G9","v":4},{"$f":"'Lauf PlSp19-24'!B9","v":"19-24"},{"$f":"'Lauf PlSp19-24'!A9","v":54},{"$f":"'Lauf PlSp19-24'!C9","v":"11:08:00"},{"$f":"'Lauf PlSp19-24'!D9","v":"Gruppe C3"},":",{"$f":"'Lauf PlSp19-24'!E9","v":"Gruppe E4"},"__",":","__"]
[{"$f":"'Lauf PlSp43-48'!G10","v":5},{"$f":"'Lauf PlSp43-48'!B10","v":"43-48"},{"$f":"'Lauf PlSp43-48'!A10","v":115},{"$f":"'Lauf PlSp43-48'!C10","v":"11:08:00"},{"$f":"'Lauf PlSp43-48'!D10","v":"Gruppe D6"},":",{"$f":"'Lauf PlSp43-48'!E10","v":"Gruppe F7"},"__",":","__"]
[{"$f":"'Lauf PlSp31-36'!G9","v":6},{"$f":"'Lauf PlSp31-36'!B9","v":"31-36"},{"$f":"'Lauf PlSp31-36'!A9","v":84},{"$f":"'Lauf PlSp31-36'!C9","v":"11:08:00"},{"$f":"'Lauf PlSp31-36'!D9","v":"Gruppe C2"},":",{"$f":"'Lauf PlSp31-36'!E9","v":"Gruppe E6"},"__",":","__"]
[{"$f":"'Lauf ZRA'!G15","v":1},{"$f":"'Lauf ZRA'!B15","v":"ZRA"},{"$f":"'Lauf ZRA'!A15","v":15},{"$f":"'Lauf ZRA'!C15","v":"11:19:00"},{"$f":"'Lauf ZRA'!D15","v":"Gruppe A4"},":",{"$f":"'Lauf ZRA'!E15","v":"Gruppe C8"},"__",":","__"]
[{"$f":"'Lauf ZRB'!G15","v":2},{"$f":"'Lauf ZRB'!B15","v":"ZRB"},{"$f":"'Lauf ZRB'!A15","v":30},{"$f":"'Lauf ZRB'!C15","v":"11:19:00"},{"$f":"'Lauf ZRB'!D15","v":"Gruppe B1"},":",{"$f":"'Lauf ZRB'!E15","v":"Gruppe D7"},"__",":","__"]
[{"$f":"'Lauf PlSp13-18'!G10","v":3},{"$f":"'Lauf PlSp13-18'!B10","v":"13-18"},{"$f":"'Lauf PlSp13-18'!A10","v":40},{"$f":"'Lauf PlSp13-18'!C10","v":"11:19:00"},{"$f":"'Lauf PlSp13-18'!D10","v":"Gruppe D2"},":",{"$f":"'Lauf PlSp13-18'!E10","v":"Gruppe F6"},"__",":","__"]
[{"$f":"'Lauf PlSp19-24'!G10","v":4},{"$f":"'Lauf PlSp19-24'!B10","v":"19-24"},{"$f":"'Lauf PlSp19-24'!A10","v":55},{"$f":"'Lauf PlSp19-24'!C10","v":"11:19:00"},{"$f":"'Lauf PlSp19-24'!D10","v":"Gruppe D3"},":",{"$f":"'Lauf PlSp19-24'!E10","v":"Gruppe F4"},"__",":","__"]
[{"$f":"'Lauf PlSp25-30'!G10","v":5},{"$f":"'Lauf PlSp25-30'!B10","v":"25-30"},{"$f":"'Lauf PlSp25-30'!A10","v":70},{"$f":"'Lauf PlSp25-30'!C10","v":"11:19:00"},{"$f":"'Lauf PlSp25-30'!D10","v":"Gruppe D4"},":",{"$f":"'Lauf PlSp25-30'!E10","v":"Gruppe F3"},"__",":","__"]
[{"$f":"'Lauf PlSp31-36'!G10","v":6},{"$f":"'Lauf PlSp31-36'!B10","v":"31-36"},{"$f":"'Lauf PlSp31-36'!A10","v":85},{"$f":"'Lauf PlSp31-36'!C10","v":"11:19:00"},{"$f":"'Lauf PlSp31-36'!D10","v":"Gruppe D1"},":",{"$f":"'Lauf PlSp31-36'!E10","v":"Gruppe F2"},"__",":","__"]
[{"$f":"'Lauf PlSp13-18'!G11","v":3},{"$f":"'Lauf PlSp13-18'!B11","v":"13-18"},{"$f":"'Lauf PlSp13-18'!A11","v":41},{"$f":"'Lauf PlSp13-18'!C11","v":"12:15:00"},{"$f":"'Lauf PlSp13-18'!D11","v":"Gruppe A2"},":",{"$f":"'Lauf PlSp13-18'!E11","v":"Gruppe E7"},"__",":","__"]
[{"$f":"'Lauf PlSp37-42'!G11","v":4},{"$f":"'Lauf PlSp37-42'!B11","v":"37-42"},{"$f":"'Lauf PlSp37-42'!A11","v":101},{"$f":"'Lauf PlSp37-42'!C11","v":"12:15:00"},{"$f":"'Lauf PlSp37-42'!D11","v":"Gruppe A5"},":",{"$f":"'Lauf PlSp37-42'!E11","v":"Gruppe E5"},"__",":","__"]
[{"$f":"'Lauf PlSp25-30'!G11","v":5},{"$f":"'Lauf PlSp25-30'!B11","v":"25-30"},{"$f":"'Lauf PlSp25-30'!A11","v":71},{"$f":"'Lauf PlSp25-30'!C11","v":"12:15:00"},{"$f":"'Lauf PlSp25-30'!D11","v":"Gruppe A3"},":",{"$f":"'Lauf PlSp25-30'!E11","v":"Gruppe E1"},"__",":","__"]
[{"$f":"'Lauf PlSp43-48'!G11","v":6},{"$f":"'Lauf PlSp43-48'!B11","v":"43-48"},{"$f":"'Lauf PlSp43-48'!A11","v":116},{"$f":"'Lauf PlSp43-48'!C11","v":"12:15:00"},{"$f":"'Lauf PlSp43-48'!D11","v":"Gruppe A1"},":",{"$f":"'Lauf PlSp43-48'!E11","v":"Gruppe E8"},"__",":","__"]
[{"$f":"'Lauf Halbfinale'!G2","v":1},{"$f":"'Lauf Halbfinale'!B2","v":"Halbfinale"},{"$f":"'Lauf Halbfinale'!A2","v":122},{"$f":"'Lauf Halbfinale'!C2","v":"12:26:00"},"__________________________",":","__________________________","__",":","__"]
[{"$f":"'Lauf Halbfinale'!G1","v":2},{"$f":"'Lauf Halbfinale'!B1","v":"Halbfinale"},{"$f":"'Lauf Halbfinale'!A1","v":121},{"$f":"'Lauf Halbfinale'!C1","v":"12:26:00"},"__________________________",":","__________________________","__",":","__"]
[{"$f":"'Lauf PlSp37-42'!G12","v":3},{"$f":"'Lauf PlSp37-42'!B12","v":"37-42"},{"$f":"'Lauf PlSp37-42'!A12","v":102},{"$f":"'Lauf PlSp37-42'!C12","v":"12:26:00"},{"$f":"'Lauf PlSp37-42'!D12","v":"Gruppe F1"},":",{"$f":"'Lauf PlSp37-42'!E12","v":"Gruppe B4"},"__",":","__"]
[{"$f":"'Lauf PlSp19-24'!G11","v":4},{"$f":"'Lauf PlSp19-24'!B11","v":"19-24"},{"$f":"'Lauf PlSp19-24'!A11","v":56},{"$f":"'Lauf PlSp19-24'!C11","v":"12:26:00"},{"$f":"'Lauf PlSp19-24'!D11","v":"Gruppe A6"},":",{"$f":"'Lauf PlSp19-24'!E11","v":"Gruppe E4"},"__",":","__"]
[{"$f":"'Lauf PlSp43-48'!G12","v":5},{"$f":"'Lauf PlSp43-48'!B12","v":"43-48"},{"$f":"'Lauf PlSp43-48'!A12","v":117},{"$f":"'Lauf PlSp43-48'!C12","v":"12:26:00"},{"$f":"'Lauf PlSp43-48'!D12","v":"Gruppe F7"},":",{"$f":"'Lauf PlSp43-48'!E12","v":"Gruppe B2"},"__",":","__"]
[{"$f":"'Lauf PlSp31-36'!G11","v":6},{"$f":"'Lauf PlSp31-36'!B11","v":"31-36"},{"$f":"'Lauf PlSp31-36'!A11","v":86},{"$f":"'Lauf PlSp31-36'!C11","v":"12:26:00"},{"$f":"'Lauf PlSp31-36'!D11","v":"Gruppe A8"},":",{"$f":"'Lauf PlSp31-36'!E11","v":"Gruppe E6"},"__",":","__"]
[{"$f":"'Lauf Halbfinale'!G4","v":1},{"$f":"'Lauf Halbfinale'!B4","v":"Halbfinale"},{"$f":"'Lauf Halbfinale'!A4","v":124},{"$f":"'Lauf Halbfinale'!C4","v":"12:37:00"},"__________________________",":","__________________________","__",":","__"]
[{"$f":"'Lauf Halbfinale'!G3","v":2},{"$f":"'Lauf Halbfinale'!B3","v":"Halbfinale"},{"$f":"'Lauf Halbfinale'!A3","v":123},{"$f":"'Lauf Halbfinale'!C3","v":"12:37:00"},"__________________________",":","__________________________","__",":","__"]
[{"$f":"'Lauf PlSp13-18'!G12","v":3},{"$f":"'Lauf PlSp13-18'!B12","v":"13-18"},{"$f":"'Lauf PlSp13-18'!A12","v":42},{"$f":"'Lauf PlSp13-18'!C12","v":"12:37:00"},{"$f":"'Lauf PlSp13-18'!D12","v":"Gruppe F6"},":",{"$f":"'Lauf PlSp13-18'!E12","v":"Gruppe B6"},"__",":","__"]
[{"$f":"'Lauf PlSp19-24'!G12","v":4},{"$f":"'Lauf PlSp19-24'!B12","v":"19-24"},{"$f":"'Lauf PlSp19-24'!A12","v":57},{"$f":"'Lauf PlSp19-24'!C12","v":"12:37:00"},{"$f":"'Lauf PlSp19-24'!D12","v":"Gruppe F4"},":",{"$f":"'Lauf PlSp19-24'!E12","v":"Gruppe B5"},"__",":","__"]
[{"$f":"'Lauf PlSp25-30'!G12","v":5},{"$f":"'Lauf PlSp25-30'!B12","v":"25-30"},{"$f":"'Lauf PlSp25-30'!A12","v":72},{"$f":"'Lauf PlSp25-30'!C12","v":"12:37:00"},{"$f":"'Lauf PlSp25-30'!D12","v":"Gruppe F3"},":",{"$f":"'Lauf PlSp25-30'!E12","v":"Gruppe B7"},"__",":","__"]
[{"$f":"'Lauf PlSp31-36'!G12","v":6},{"$f":"'Lauf PlSp31-36'!B12","v":"31-36"},{"$f":"'Lauf PlSp31-36'!A12","v":87},{"$f":"'Lauf PlSp31-36'!C12","v":"12:37:00"},{"$f":"'Lauf PlSp31-36'!D12","v":"Gruppe F2"},":",{"$f":"'Lauf PlSp31-36'!E12","v":"Gruppe B8"},"__",":","__"]
[{"$f":"'Lauf Halbfinale'!G6","v":1},{"$f":"'Lauf Halbfinale'!B6","v":"Halbfinale"},{"$f":"'Lauf Halbfinale'!A6","v":126},{"$f":"'Lauf Halbfinale'!C6","v":"12:48:00"},"__________________________",":","__________________________","__",":","__"]
[{"$f":"'Lauf Halbfinale'!G5","v":2},{"$f":"'Lauf Halbfinale'!B5","v":"Halbfinale"},{"$f":"'Lauf Halbfinale'!A5","v":125},{"$f":"'Lauf Halbfinale'!C5","v":"12:48:00"},"__________________________",":","__________________________","__",":","__"]
[{"$f":"'Lauf PlSp13-18'!G13","v":3},{"$f":"'Lauf PlSp13-18'!B13","v":"13-18"},{"$f":"'Lauf PlSp13-18'!A13","v":43},{"$f":"'Lauf PlSp13-18'!C13","v":"12:48:00"},{"$f":"'Lauf PlSp13-18'!D13","v":"Gruppe D2"},":",{"$f":"'Lauf PlSp13-18'!E13","v":"Gruppe A2"},"__",":","__"]
[{"$f":"'Lauf PlSp37-42'!G13","v":4},{"$f":"'Lauf PlSp37-42'!B13","v":"37-42"},{"$f":"'Lauf PlSp37-42'!A13","v":103},{"$f":"'Lauf PlSp37-42'!C13","v":"12:48:00"},{"$f":"'Lauf PlSp37-42'!D13","v":"Gruppe D5"},":",{"$f":"'Lauf PlSp37-42'!E13","v":"Gruppe A5"},"__",":","__"]
[{"$f":"'Lauf PlSp25-30'!G13","v":5},{"$f":"'Lauf PlSp25-30'!B13","v":"25-30"},{"$f":"'Lauf PlSp25-30'!A13","v":73},{"$f":"'Lauf PlSp25-30'!C13","v":"12:48:00"},{"$f":"'Lauf PlSp25-30'!D13","v":"Gruppe D4"},":",{"$f":"'Lauf PlSp25-30'!E13","v":"Gruppe A3"},"__",":","__"]
[{"$f":"'Lauf PlSp43-48'!G13","v":6},{"$f":"'Lauf PlSp43-48'!B13","v":"43-48"},{"$f":"'Lauf PlSp43-48'!A13","v":118},{"$f":"'Lauf PlSp43-48'!C13","v":"12:48:00"},{"$f":"'Lauf PlSp43-48'!D13","v":"Gruppe D6"},":",{"$f":"'Lauf PlSp43-48'!E13","v":"Gruppe A1"},"__",":","__"]
[{"$f":"'Lauf PlSp37-42'!G14","v":3},{"$f":"'Lauf PlSp37-42'!B14","v":"37-42"},{"$f":"'Lauf PlSp37-42'!A14","v":104},{"$f":"'Lauf PlSp37-42'!C14","v":"12:59:00"},{"$f":"'Lauf PlSp37-42'!D14","v":"Gruppe C1"},":",{"$f":"'Lauf PlSp37-42'!E14","v":"Gruppe F1"},"__",":","__"]
[{"$f":"'Lauf PlSp19-24'!G13","v":4},{"$f":"'Lauf PlSp19-24'!B13","v":"19-24"},{"$f":"'Lauf PlSp19-24'!A13","v":58},{"$f":"'Lauf PlSp19-24'!C13","v":"12:59:00"},{"$f":"'Lauf PlSp19-24'!D13","v":"Gruppe D3"},":",{"$f":"'Lauf PlSp19-24'!E13","v":"Gruppe A6"},"__",":","__"]
[{"$f":"'Lauf PlSp43-48'!G14","v":5},{"$f":"'Lauf PlSp43-48'!B14","v":"43-48"},{"$f":"'Lauf PlSp43-48'!A14","v":119},{"$f":"'Lauf PlSp43-48'!C14","v":"12:59:00"},{"$f":"'Lauf PlSp43-48'!D14","v":"Gruppe C6"},":",{"$f":"'Lauf PlSp43-48'!E14","v":"Gruppe F7"},"__",":","__"]
[{"$f":"'Lauf PlSp31-36'!G13","v":6},{"$f":"'Lauf PlSp31-36'!B13","v":"31-36"},{"$f":"'Lauf PlSp31-36'!A13","v":88},{"$f":"'Lauf PlSp31-36'!C13","v":"12:59:00"},{"$f":"'Lauf PlSp31-36'!D13","v":"Gruppe D1"},":",{"$f":"'Lauf PlSp31-36'!E13","v":"Gruppe A8"},"__",":","__"]
[{"$f":"'Lauf PlSp13-18'!G14","v":3},{"$f":"'Lauf PlSp13-18'!B14","v":"13-18"},{"$f":"'Lauf PlSp13-18'!A14","v":44},{"$f":"'Lauf PlSp13-18'!C14","v":"13:10:00"},{"$f":"'Lauf PlSp13-18'!D14","v":"Gruppe C4"},":",{"$f":"'Lauf PlSp13-18'!E14","v":"Gruppe F6"},"__",":","__"]
[{"$f":"'Lauf PlSp19-24'!G14","v":4},{"$f":"'Lauf PlSp19-24'!B14","v":"19-24"},{"$f":"'Lauf PlSp19-24'!A14","v":59},{"$f":"'Lauf PlSp19-24'!C14","v":"13:10:00"},{"$f":"'Lauf PlSp19-24'!D14","v":"Gruppe C3"},":",{"$f":"'Lauf PlSp19-24'!E14","v":"Gruppe F4"},"__",":","__"]
[{"$f":"'Lauf PlSp25-30'!G14","v":5},{"$f":"'Lauf PlSp25-30'!B14","v":"25-30"},{"$f":"'Lauf PlSp25-30'!A14","v":74},{"$f":"'Lauf PlSp25-30'!C14","v":"13:10:00"},{"$f":"'Lauf PlSp25-30'!D14","v":"Gruppe C7"},":",{"$f":"'Lauf PlSp25-30'!E14","v":"Gruppe F3"},"__",":","__"]
[{"$f":"'Lauf PlSp31-36'!G14","v":6},{"$f":"'Lauf PlSp31-36'!B14","v":"31-36"},{"$f":"'Lauf PlSp31-36'!A14","v":89},{"$f":"'Lauf PlSp31-36'!C14","v":"13:10:00"},{"$f":"'Lauf PlSp31-36'!D14","v":"Gruppe C2"},":",{"$f":"'Lauf PlSp31-36'!E14","v":"Gruppe F2"},"__",":","__"]
[{"$f":"'Lauf PlSp37-42'!G15","v":1},{"$f":"'Lauf PlSp37-42'!B15","v":"37-42"},{"$f":"'Lauf PlSp37-42'!A15","v":105},{"$f":"'Lauf PlSp37-42'!C15","v":"13:21:00"},{"$f":"'Lauf PlSp37-42'!D15","v":"Gruppe B4"},":",{"$f":"'Lauf PlSp37-42'!E15","v":"Gruppe D5"},"__",":","__"]
[{"$f":"'Lauf PlSp43-48'!G15","v":2},{"$f":"'Lauf PlSp43-48'!B15","v":"43-48"},{"$f":"'Lauf PlSp43-48'!A15","v":120},{"$f":"'Lauf PlSp43-48'!C15","v":"13:21:00"},{"$f":"'Lauf PlSp43-48'!D15","v":"Gruppe B2"},":",{"$f":"'Lauf PlSp43-48'!E15","v":"Gruppe D6"},"__",":","__"]
[{"$f":"'Lauf PlSp13-18'!G15","v":3},{"$f":"'Lauf PlSp13-18'!B15","v":"13-18"},{"$f":"'Lauf PlSp13-18'!A15","v":45},{"$f":"'Lauf PlSp13-18'!C15","v":"13:21:00"},{"$f":"'Lauf PlSp13-18'!D15","v":"Gruppe B6"},":",{"$f":"'Lauf PlSp13-18'!E15","v":"Gruppe D2"},"__",":","__"]
[{"$f":"'Lauf PlSp19-24'!G15","v":4},{"$f":"'Lauf PlSp19-24'!B15","v":"19-24"},{"$f":"'Lauf PlSp19-24'!A15","v":60},{"$f":"'Lauf PlSp19-24'!C15","v":"13:21:00"},{"$f":"'Lauf PlSp19-24'!D15","v":"Gruppe B5"},":",{"$f":"'Lauf PlSp19-24'!E15","v":"Gruppe D3"},"__",":","__"]
[{"$f":"'Lauf PlSp25-30'!G15","v":5},{"$f":"'Lauf PlSp25-30'!B15","v":"25-30"},{"$f":"'Lauf PlSp25-30'!A15","v":75},{"$f":"'Lauf PlSp25-30'!C15","v":"13:21:00"},{"$f":"'Lauf PlSp25-30'!D15","v":"Gruppe B7"},":",{"$f":"'Lauf PlSp25-30'!E15","v":"Gruppe D4"},"__",":","__"]
[{"$f":"'Lauf PlSp31-36'!G15","v":6},{"$f":"'Lauf PlSp31-36'!B15","v":"31-36"},{"$f":"'Lauf PlSp31-36'!A15","v":90},{"$f":"'Lauf PlSp31-36'!C15","v":"13:21:00"},{"$f":"'Lauf PlSp31-36'!D15","v":"Gruppe B8"},":",{"$f":"'Lauf PlSp31-36'!E15","v":"Gruppe D1"},"__",":","__"]
[{"$f":"'Lauf Endrunde'!G1","v":1},{"$f":"'Lauf Endrunde'!B1","v":"Endrunde Pl.11"},{"$f":"'Lauf Endrunde'!A1","v":127},{"$f":"'Lauf Endrunde'!C1","v":"13:32:00"},"__________________________",null,"__________________________","__",":","__"]
[{"$f":"'Lauf Endrunde'!G2","v":2},{"$f":"'Lauf Endrunde'!B2","v":"Endrunde Pl.9"},{"$f":"'Lauf Endrunde'!A2","v":128},{"$f":"'Lauf Endrunde'!C2","v":"13:32:00"},"__________________________",null,"__________________________","__",":","__"]
[{"$f":"'Lauf Endrunde'!G3","v":3},{"$f":"'Lauf Endrunde'!B3","v":"Endrunde Pl.7"},{"$f":"'Lauf Endrunde'!A3","v":129},{"$f":"'Lauf Endrunde'!C3","v":"13:32:00"},"__________________________",null,"__________________________","__",":","__"]
[{"$f":"'Lauf Endrunde'!G4","v":4},{"$f":"'Lauf Endrunde'!B4","v":"Endrunde Pl.5"},{"$f":"'Lauf Endrunde'!A4","v":130},{"$f":"'Lauf Endrunde'!C4","v":"13:32:00"},"__________________________",null,"__________________________","__",":","__"]
[{"$f":"'Lauf Endrunde'!G5","v":1},{"$f":"'Lauf Endrunde'!B5","v":"Endrunde Pl.3"},{"$f":"'Lauf Endrunde'!A5","v":131},{"$f":"'Lauf Endrunde'!C5","v":"13:43:00"},"__________________________",null,"__________________________","__",":","__"]
[{"$f":"'Lauf Endrunde'!G6","v":1},{"$f":"'Lauf Endrunde'!B6","v":"Finale"},{"$f":"'Lauf Endrunde'!A6","v":132},{"$f":"'Lauf Endrunde'!C6","v":"14:05:00"},"__________________________",null,"__________________________","__",":","__"]

{"sheet":"Spiele VR","index":29,"n_rows":168,"n_cols":10,"rows_kept":168,"cut":false,"hidden":false,"merged":[]}
[{"$f":"'Lauf GA'!G1","v":1},{"$f":"'Lauf GA'!B1","v":"A"},{"$f":"'Lauf GA'!A1","v":1},{"$f":"'Lauf GA'!C1","v":"14:15:00"},{"$f":"'Lauf GA'!D1","v":"Gruppe A1"},":",{"$f":"'Lauf GA'!E1","v":"Gruppe A2"},"__",":","__"]
[{"$f":"'Lauf GB'!G1","v":2},{"$f":"'Lauf GB'!B1","v":"B"},{"$f":"'Lauf GB'!A1","v":1},{"$f":"'Lauf GB'!C1","v":"14:15:00"},{"$f":"'Lauf GB'!D1","v":"Gruppe B1"},":",{"$f":"'Lauf GB'!E1","v":"Gruppe B2"},"__",":","__"]
[{"$f":"'Lauf GC'!G1","v":3},{"$f":"'Lauf GC'!B1","v":"C"},{"$f":"'Lauf GC'!A1","v":1},{"$f":"'Lauf GC'!C1","v":"14:15:00"},{"$f":"'Lauf GC'!D1","v":"Gruppe C1"},":",{"$f":"'Lauf GC'!E1","v":"Gruppe C2"},"__",":","__"]
[{"$f":"'Lauf GD'!G1","v":4},{"$f":"'Lauf GD'!B1","v":"D"},{"$f":"'Lauf GD'!A1","v":1},{"$f":"'Lauf GD'!C1","v":"14:15:00"},{"$f":"'Lauf GD'!D1","v":"Gruppe D1"},":",{"$f":"'Lauf GD'!E1","v":"Gruppe D2"},"__",":","__"]
[{"$f":"'Lauf GE'!G1","v":5},{"$f":"'Lauf GE'!B1","v":"E"},{"$f":"'Lauf GE'!A1","v":1},{"$f":"'Lauf GE'!C1","v":"14:15:00"},{"$f":"'Lauf GE'!D1","v":"Gruppe E1"},":",{"$f":"'Lauf GE'!E1","v":"Gruppe E2"},"__",":","__"]
[{"$f":"'Lauf GF'!G1","v":6},{"$f":"'Lauf GF'!B1","v":"F"},{"$f":"'Lauf GF'!A1","v":1},{"$f":"'Lauf GF'!C1","v":"14:15:00"},{"$f":"'Lauf GF'!D1","v":"Gruppe F1"},":",{"$f":"'Lauf GF'!E1","v":"Gruppe F2"},"__",":","__"]
[{"$f":"'Lauf GA'!G2","v":1},{"$f":"'Lauf GA'!B2","v":"A"},{"$f":"'Lauf GA'!A2","v":2},{"$f":"'Lauf GA'!C2","v":"14:25:00"},{"$f":"'Lauf GA'!D2","v":"Gruppe A3"},":",{"$f":"'Lauf GA'!E2","v":"Gruppe A4"},"__",":","__"]
[{"$f":"'Lauf GB'!G2","v":2},{"$f":"'Lauf GB'!B2","v":"B"},{"$f":"'Lauf GB'!A2","v":2},{"$f":"'Lauf GB'!C2","v":"14:25:00"},{"$f":"'Lauf GB'!D2","v":"Gruppe B3"},":",{"$f":"'Lauf GB'!E2","v":"Gruppe B4"},"__",":","__"]
[{"$f":"'Lauf GC'!G2","v":3},{"$f":"'Lauf GC'!B2","v":"C"},{"$f":"'Lauf GC'!A2","v":2},{"$f":"'Lauf GC'!C2","v":"14:25:00"},{"$f":"'Lauf GC'!D2","v":"Gruppe C3"},":",{"$f":"'Lauf GC'!E2","v":"Gruppe C4"},"__",":","__"]
[{"$f":"'Lauf GD'!G2","v":4},{"$f":"'Lauf GD'!B2","v":"D"},{"$f":"'Lauf GD'!A2","v":2},{"$f":"'Lauf GD'!C2","v":"14:25:00"},{"$f":"'Lauf GD'!D2","v":"Gruppe D3"},":",{"$f":"'Lauf GD'!E2","v":"Gruppe D4"},"__",":","__"]
[{"$f":"'Lauf GE'!G2","v":5},{"$f":"'Lauf GE'!B2","v":"E"},{"$f":"'Lauf GE'!A2","v":2},{"$f":"'Lauf GE'!C2","v":"14:25:00"},{"$f":"'Lauf GE'!D2","v":"Gruppe E3"},":",{"$f":"'Lauf GE'!E2","v":"Gruppe E4"},"__",":","__"]
[{"$f":"'Lauf GF'!G2","v":6},{"$f":"'Lauf GF'!B2","v":"F"},{"$f":"'Lauf GF'!A2","v":2},{"$f":"'Lauf GF'!C2","v":"14:25:00"},{"$f":"'Lauf GF'!D2","v":"Gruppe F3"},":",{"$f":"'Lauf GF'!E2","v":"Gruppe F4"},"__",":","__"]
[{"$f":"'Lauf GA'!G3","v":1},{"$f":"'Lauf GA'!B3","v":"A"},{"$f":"'Lauf GA'!A3","v":3},{"$f":"'Lauf GA'!C3","v":"14:35:00"},{"$f":"'Lauf GA'!D3","v":"Gruppe A5"},":",{"$f":"'Lauf GA'!E3","v":"Gruppe A6"},"__",":","__"]
[{"$f":"'Lauf GB'!G3","v":2},{"$f":"'Lauf GB'!B3","v":"B"},{"$f":"'Lauf GB'!A3","v":3},{"$f":"'Lauf GB'!C3","v":"14:35:00"},{"$f":"'Lauf GB'!D3","v":"Gruppe B5"},":",{"$f":"'Lauf GB'!E3","v":"Gruppe B6"},"__",":","__"]
[{"$f":"'Lauf GC'!G3","v":3},{"$f":"'Lauf GC'!B3","v":"C"},{"$f":"'Lauf GC'!A3","v":3},{"$f":"'Lauf GC'!C3","v":"14:35:00"},{"$f":"'Lauf GC'!D3","v":"Gruppe C5"},":",{"$f":"'Lauf GC'!E3","v":"Gruppe C6"},"__",":","__"]
[{"$f":"'Lauf GD'!G3","v":4},{"$f":"'Lauf GD'!B3","v":"D"},{"$f":"'Lauf GD'!A3","v":3},{"$f":"'Lauf GD'!C3","v":"14:35:00"},{"$f":"'Lauf GD'!D3","v":"Gruppe D5"},":",{"$f":"'Lauf GD'!E3","v":"Gruppe D6"},"__",":","__"]
[{"$f":"'Lauf GE'!G3","v":5},{"$f":"'Lauf GE'!B3","v":"E"},{"$f":"'Lauf GE'!A3","v":3},{"$f":"'Lauf GE'!C3","v":"14:35:00"},{"$f":"'Lauf GE'!D3","v":"Gruppe E5"},":",{"$f":"'Lauf GE'!E3","v":"Gruppe E6"},"__",":","__"]
[{"$f":"'Lauf GF'!G3","v":6},{"$f":"'Lauf GF'!B3","v":"F"},{"$f":"'Lauf GF'!A3","v":3},{"$f":"'Lauf GF'!C3","v":"14:35:00"},{"$f":"'Lauf GF'!D3","v":"Gruppe F5"},":",{"$f":"'Lauf GF'!E3","v":"Gruppe F6"},"__",":","__"]
[{"$f":"'Lauf GA'!G4","v":1},{"$f":"'Lauf GA'!B4","v":"A"},{"$f":"'Lauf GA'!A4","v":4},{"$f":"'Lauf GA'!C4","v":"14:45:00"},{"$f":"'Lauf GA'!D4","v":"Gruppe A7"},":",{"$f":"'Lauf GA'!E4","v":"Gruppe A8"},"__",":","__"]
[{"$f":"'Lauf GB'!G4","v":2},{"$f":"'Lauf GB'!B4","v":"B"},{"$f":"'Lauf GB'!A4","v":4},{"$f":"'Lauf GB'!C4","v":"14:45:00"},{"$f":"'Lauf GB'!D4","v":"Gruppe B7"},":",{"$f":"'Lauf GB'!E4","v":"Gruppe B8"},"__",":","__"]
[{"$f":"'Lauf GC'!G4","v":3},{"$f":"'Lauf GC'!B4","v":"C"},{"$f":"'Lauf GC'!A4","v":4},{"$f":"'Lauf GC'!C4","v":"14:45:00"},{"$f":"'Lauf GC'!D4","v":"Gruppe C7"},":",{"$f":"'Lauf GC'!E4","v":"Gruppe C8"},"__",":","__"]
[{"$f":"'Lauf GD'!G4","v":4},{"$f":"'Lauf GD'!B4","v":"D"},{"$f":"'Lauf GD'!A4","v":4},{"$f":"'Lauf GD'!C4","v":"14:45:00"},{"$f":"'Lauf GD'!D4","v":"Gruppe D7"},":",{"$f":"'Lauf GD'!E4","v":"Gruppe D8"},"__",":","__"]
[{"$f":"'Lauf GE'!G4","v":5},{"$f":"'Lauf GE'!B4","v":"E"},{"$f":"'Lauf GE'!A4","v":4},{"$f":"'Lauf GE'!C4","v":"14:45:00"},{"$f":"'Lauf GE'!D4","v":"Gruppe E7"},":",{"$f":"'Lauf GE'!E4","v":"Gruppe E8"},"__",":","__"]
[{"$f":"'Lauf GF'!G4","v":6},{"$f":"'Lauf GF'!B4","v":"F"},{"$f":"'Lauf GF'!A4","v":4},{"$f":"'Lauf GF'!C4","v":"14:45:00"},{"$f":"'Lauf GF'!D4","v":"Gruppe F7"},":",{"$f":"'Lauf GF'!E4","v":"Gruppe F8"},"__",":","__"]
[{"$f":"'Lauf GA'!G5","v":1},{"$f":"'Lauf GA'!B5","v":"A"},{"$f":"'Lauf GA'!A5","v":5},{"$f":"'Lauf GA'!C5","v":"14:55:00"},{"$f":"'Lauf GA'!D5","v":"Gruppe A4"},":",{"$f":"'Lauf GA'!E5","v":"Gruppe A1"},"__",":","__"]
[{"$f":"'Lauf GB'!G5","v":2},{"$f":"'Lauf GB'!B5","v":"B"},{"$f":"'Lauf GB'!A5","v":5},{"$f":"'Lauf GB'!C5","v":"14:55:00"},{"$f":"'Lauf GB'!D5","v":"Gruppe B4"},":",{"$f":"'Lauf GB'!E5","v":"Gruppe B1"},"__",":","__"]
[{"$f":"'Lauf GC'!G5","v":3},{"$f":"'Lauf GC'!B5","v":"C"},{"$f":"'Lauf GC'!A5","v":5},{"$f":"'Lauf GC'!C5","v":"14:55:00"},{"$f":"'Lauf GC'!D5","v":"Gruppe C4"},":",{"$f":"'Lauf GC'!E5","v":"Gruppe C1"},"__",":","__"]
[{"$f":"'Lauf GD'!G5","v":4},{"$f":"'Lauf GD'!B5","v":"D"},{"$f":"'Lauf GD'!A5","v":5},{"$f":"'Lauf GD'!C5","v":"14:55:00"},{"$f":"'Lauf GD'!D5","v":"Gruppe D4"},":",{"$f":"'Lauf GD'!E5","v":"Gruppe D1"},"__",":","__"]
[{"$f":"'Lauf GE'!G5","v":5},{"$f":"'Lauf GE'!B5","v":"E"},{"$f":"'Lauf GE'!A5","v":5},{"$f":"'Lauf GE'!C5","v":"14:55:00"},{"$f":"'Lauf GE'!D5","v":"Gruppe E4"},":",{"$f":"'Lauf GE'!E5","v":"Gruppe E1"},"__",":","__"]
[{"$f":"'Lauf GF'!G5","v":6},{"$f":"'Lauf GF'!B5","v":"F"},{"$f":"'Lauf GF'!A5","v":5},{"$f":"'Lauf GF'!C5","v":"14:55:00"},{"$f":"'Lauf GF'!D5","v":"Gruppe F4"},":",{"$f":"'Lauf GF'!E5","v":"Gruppe F1"},"__",":","__"]
[{"$f":"'Lauf GA'!G6","v":1},{"$f":"'Lauf GA'!B6","v":"A"},{"$f":"'Lauf GA'!A6","v":6},{"$f":"'Lauf GA'!C6","v":"15:05:00"},{"$f":"'Lauf GA'!D6","v":"Gruppe A2"},":",{"$f":"'Lauf GA'!E6","v":"Gruppe A3"},"__",":","__"]
[{"$f":"'Lauf GB'!G6","v":2},{"$f":"'Lauf GB'!B6","v":"B"},{"$f":"'Lauf GB'!A6","v":6},{"$f":"'Lauf GB'!C6","v":"15:05:00"},{"$f":"'Lauf GB'!D6","v":"Gruppe B2"},":",{"$f":"'Lauf GB'!E6","v":"Gruppe B3"},"__",":","__"]
[{"$f":"'Lauf GC'!G6","v":3},{"$f":"'Lauf GC'!B6","v":"C"},{"$f":"'Lauf GC'!A6","v":6},{"$f":"'Lauf GC'!C6","v":"15:05:00"},{"$f":"'Lauf GC'!D6","v":"Gruppe C2"},":",{"$f":"'Lauf GC'!E6","v":"Gruppe C3"},"__",":","__"]
[{"$f":"'Lauf GD'!G6","v":4},{"$f":"'Lauf GD'!B6","v":"D"},{"$f":"'Lauf GD'!A6","v":6},{"$f":"'Lauf GD'!C6","v":"15:05:00"},{"$f":"'Lauf GD'!D6","v":"Gruppe D2"},":",{"$f":"'Lauf GD'!E6","v":"Gruppe D3"},"__",":","__"]
[{"$f":"'Lauf GE'!G6","v":5},{"$f":"'Lauf GE'!B6","v":"E"},{"$f":"'Lauf GE'!A6","v":6},{"$f":"'Lauf GE'!C6","v":"15:05:00"},{"$f":"'Lauf GE'!D6","v":"Gruppe E2"},":",{"$f":"'Lauf GE'!E6","v":"Gruppe E3"},"__",":","__"]
[{"$f":"'Lauf GF'!G6","v":6},{"$f":"'Lauf GF'!B6","v":"F"},{"$f":"'Lauf GF'!A6","v":6},{"$f":"'Lauf GF'!C6","v":"15:05:00"},{"$f":"'Lauf GF'!D6","v":"Gruppe F2"},":",{"$f":"'Lauf GF'!E6","v":"Gruppe F3"},"__",":","__"]
[{"$f":"'Lauf GA'!G7","v":1},{"$f":"'Lauf GA'!B7","v":"A"},{"$f":"'Lauf GA'!A7","v":7},{"$f":"'Lauf GA'!C7","v":"15:15:00"},{"$f":"'Lauf GA'!D7","v":"Gruppe A8"},":",{"$f":"'Lauf GA'!E7","v":"Gruppe A5"},"__",":","__"]
[{"$f":"'Lauf GB'!G7","v":2},{"$f":"'Lauf GB'!B7","v":"B"},{"$f":"'Lauf GB'!A7","v":7},{"$f":"'Lauf GB'!C7","v":"15:15:00"},{"$f":"'Lauf GB'!D7","v":"Gruppe B8"},":",{"$f":"'Lauf GB'!E7","v":"Gruppe B5"},"__",":","__"]
[{"$f":"'Lauf GC'!G7","v":3},{"$f":"'Lauf GC'!B7","v":"C"},{"$f":"'Lauf GC'!A7","v":7},{"$f":"'Lauf GC'!C7","v":"15:15:00"},{"$f":"'Lauf GC'!D7","v":"Gruppe C8"},":",{"$f":"'Lauf GC'!E7","v":"Gruppe C5"},"__",":","__"]
[{"$f":"'Lauf GD'!G7","v":4},{"$f":"'Lauf GD'!B7","v":"D"},{"$f":"'Lauf GD'!A7","v":7},{"$f":"'Lauf GD'!C7","v":"15:15:00"},{"$f":"'Lauf GD'!D7","v":"Gruppe D8"},":",{"$f":"'Lauf GD'!E7","v":"Gruppe D5"},"__",":","__"]
[{"$f":"'Lauf GE'!G7","v":5},{"$f":"'Lauf GE'!B7","v":"E"},{"$f":"'Lauf GE'!A7","v":7},{"$f":"'Lauf GE'!C7","v":"15:15:00"},{"$f":"'Lauf GE'!D7","v":"Gruppe E8"},":",{"$f":"'Lauf GE'!E7","v":"Gruppe E5"},"__",":","__"]
[{"$f":"'Lauf GF'!G7","v":6},{"$f":"'Lauf GF'!B7","v":"F"},{"$f":"'Lauf GF'!A7","v":7},{"$f":"'Lauf GF'!C7","v":"15:15:00"},{"$f":"'Lauf GF'!D7","v":"Gruppe F8"},":",{"$f":"'Lauf GF'!E7","v":"Gruppe F5"},"__",":","__"]
[{"$f":"'Lauf GA'!G8","v":1},{"$f":"'Lauf GA'!B8","v":"A"},{"$f":"'Lauf GA'!A8","v":8},{"$f":"'Lauf GA'!C8","v":"15:25:00"},{"$f":"'Lauf GA'!D8","v":"Gruppe A6"},":",{"$f":"'Lauf GA'!E8","v":"Gruppe A7"},"__",":","__"]
[{"$f":"'Lauf GB'!G8","v":2},{"$f":"'Lauf GB'!B8","v":"B"},{"$f":"'Lauf GB'!A8","v":8},{"$f":"'Lauf GB'!C8","v":"15:25:00"},{"$f":"'Lauf GB'!D8","v":"Gruppe B6"},":",{"$f":"'Lauf GB'!E8","v":"Gruppe B7"},"__",":","__"]
[{"$f":"'Lauf GC'!G8","v":3},{"$f":"'Lauf GC'!B8","v":"C"},{"$f":"'Lauf GC'!A8","v":8},{"$f":"'Lauf GC'!C8","v":"15:25:00"},{"$f":"'Lauf GC'!D8","v":"Gruppe C6"},":",{"$f":"'Lauf GC'!E8","v":"Gruppe C7"},"__",":","__"]
[{"$f":"'Lauf GD'!G8","v":4},{"$f":"'Lauf GD'!B8","v":"D"},{"$f":"'Lauf GD'!A8","v":8},{"$f":"'Lauf GD'!C8","v":"15:25:00"},{"$f":"'Lauf GD'!D8","v":"Gruppe D6"},":",{"$f":"'Lauf GD'!E8","v":"Gruppe D7"},"__",":","__"]
[{"$f":"'Lauf GE'!G8","v":5},{"$f":"'Lauf GE'!B8","v":"E"},{"$f":"'Lauf GE'!A8","v":8},{"$f":"'Lauf GE'!C8","v":"15:25:00"},{"$f":"'Lauf GE'!D8","v":"Gruppe E6"},":",{"$f":"'Lauf GE'!E8","v":"Gruppe E7"},"__",":","__"]
[{"$f":"'Lauf GF'!G8","v":6},{"$f":"'Lauf GF'!B8","v":"F"},{"$f":"'Lauf GF'!A8","v":8},{"$f":"'Lauf GF'!C8","v":"15:25:00"},{"$f":"'Lauf GF'!D8","v":"Gruppe F6"},":",{"$f":"'Lauf GF'!E8","v":"Gruppe F7"},"__",":","__"]
[{"$f":"'Lauf GA'!G9","v":1},{"$f":"'Lauf GA'!B9","v":"A"},{"$f":"'Lauf GA'!A9","v":9},{"$f":"'Lauf GA'!C9","v":"15:35:00"},{"$f":"'Lauf GA'!D9","v":"Gruppe A5"},":",{"$f":"'Lauf GA'!E9","v":"Gruppe A4"},"__",":","__"]
[{"$f":"'Lauf GB'!G9","v":2},{"$f":"'Lauf GB'!B9","v":"B"},{"$f":"'Lauf GB'!A9","v":9},{"$f":"'Lauf GB'!C9","v":"15:35:00"},{"$f":"'Lauf GB'!D9","v":"Gruppe B5"},":",{"$f":"'Lauf GB'!E9","v":"Gruppe B4"},"__",":","__"]
[{"$f":"'Lauf GC'!G9","v":3},{"$f":"'Lauf GC'!B9","v":"C"},{"$f":"'Lauf GC'!A9","v":9},{"$f":"'Lauf GC'!C9","v":"15:35:00"},{"$f":"'Lauf GC'!D9","v":"Gruppe C5"},":",{"$f":"'Lauf GC'!E9","v":"Gruppe C4"},"__",":","__"]
[{"$f":"'Lauf GD'!G9","v":4},{"$f":"'Lauf GD'!B9","v":"D"},{"$f":"'Lauf GD'!A9","v":9},{"$f":"'Lauf GD'!C9","v":"15:35:00"},{"$f":"'Lauf GD'!D9","v":"Gruppe D5"},":",{"$f":"'Lauf GD'!E9","v":"Gruppe D4"},"__",":","__"]
[{"$f":"'Lauf GE'!G9","v":5},{"$f":"'Lauf GE'!B9","v":"E"},{"$f":"'Lauf GE'!A9","v":9},{"$f":"'Lauf GE'!C9","v":"15:35:00"},{"$f":"'Lauf GE'!D9","v":"Gruppe E5"},":",{"$f":"'Lauf GE'!E9","v":"Gruppe E4"},"__",":","__"]
[{"$f":"'Lauf GF'!G9","v":6},{"$f":"'Lauf GF'!B9","v":"F"},{"$f":"'Lauf GF'!A9","v":9},{"$f":"'Lauf GF'!C9","v":"15:35:00"},{"$f":"'Lauf GF'!D9","v":"Gruppe F5"},":",{"$f":"'Lauf GF'!E9","v":"Gruppe F4"},"__",":","__"]
[{"$f":"'Lauf GA'!G10","v":1},{"$f":"'Lauf GA'!B10","v":"A"},{"$f":"'Lauf GA'!A10","v":10},{"$f":"'Lauf GA'!C10","v":"15:45:00"},{"$f":"'Lauf GA'!D10","v":"Gruppe A1"},":",{"$f":"'Lauf GA'!E10","v":"Gruppe A3"},"__",":","__"]
[{"$f":"'Lauf GB'!G10","v":2},{"$f":"'Lauf GB'!B10","v":"B"},{"$f":"'Lauf GB'!A10","v":10},{"$f":"'Lauf GB'!C10","v":"15:45:00"},{"$f":"'Lauf GB'!D10","v":"Gruppe B1"},":",{"$f":"'Lauf GB'!E10","v":"Gruppe B3"},"__",":","__"]
[{"$f":"'Lauf GC'!G10","v":3},{"$f":"'Lauf GC'!B10","v":"C"},{"$f":"'Lauf GC'!A10","v":10},{"$f":"'Lauf GC'!C10","v":"15:45:00"},{"$f":"'Lauf GC'!D10","v":"Gruppe C1"},":",{"$f":"'Lauf GC'!E10","v":"Gruppe C3"},"__",":","__"]
[{"$f":"'Lauf GD'!G10","v":4},{"$f":"'Lauf GD'!B10","v":"D"},{"$f":"'Lauf GD'!A10","v":10},{"$f":"'Lauf GD'!C10","v":"15:45:00"},{"$f":"'Lauf GD'!D10","v":"Gruppe D1"},":",{"$f":"'Lauf GD'!E10","v":"Gruppe D3"},"__",":","__"]
[{"$f":"'Lauf GE'!G10","v":5},{"$f":"'Lauf GE'!B10","v":"E"},{"$f":"'Lauf GE'!A10","v":10},{"$f":"'Lauf GE'!C10","v":"15:45:00"},{"$f":"'Lauf GE'!D10","v":"Gruppe E1"},":",{"$f":"'Lauf GE'!E10","v":"Gruppe E3"},"__",":","__"]
[{"$f":"'Lauf GF'!G10","v":6},{"$f":"'Lauf GF'!B10","v":"F"},{"$f":"'Lauf GF'!A10","v":10},{"$f":"'Lauf GF'!C10","v":"15:45:00"},{"$f":"'Lauf GF'!D10","v":"Gruppe F1"},":",{"$f":"'Lauf GF'!E10","v":"Gruppe F3"},"__",":","__"]
[{"$f":"'Lauf GA'!G11","v":1},{"$f":"'Lauf GA'!B11","v":"A"},{"$f":"'Lauf GA'!A11","v":11},{"$f":"'Lauf GA'!C11","v":"15:55:00"},{"$f":"'Lauf GA'!D11","v":"Gruppe A2"},":",{"$f":"'Lauf GA'!E11","v":"Gruppe A7"},"__",":","__"]
[{"$f":"'Lauf GB'!G11","v":2},{"$f":"'Lauf GB'!B11","v":"B"},{"$f":"'Lauf GB'!A11","v":11},{"$f":"'Lauf GB'!C11","v":"15:55:00"},{"$f":"'Lauf GB'!D11","v":"Gruppe B2"},":",{"$f":"'Lauf GB'!E11","v":"Gruppe B7"},"__",":","__"]
[{"$f":"'Lauf GC'!G11","v":3},{"$f":"'Lauf GC'!B11","v":"C"},{"$f":"'Lauf GC'!A11","v":11},{"$f":"'Lauf GC'!C11","v":"15:55:00"},{"$f":"'Lauf GC'!D11","v":"Gruppe C2"},":",{"$f":"'Lauf GC'!E11","v":"Gruppe C7"},"__",":","__"]
[{"$f":"'Lauf GD'!G11","v":4},{"$f":"'Lauf GD'!B11","v":"D"},{"$f":"'Lauf GD'!A11","v":11},{"$f":"'Lauf GD'!C11","v":"15:55:00"},{"$f":"'Lauf GD'!D11","v":"Gruppe D2"},":",{"$f":"'Lauf GD'!E11","v":"Gruppe D7"},"__",":","__"]
[{"$f":"'Lauf GE'!G11","v":5},{"$f":"'Lauf GE'!B11","v":"E"},{"$f":"'Lauf GE'!A11","v":11},{"$f":"'Lauf GE'!C11","v":"15:55:00"},{"$f":"'Lauf GE'!D11","v":"Gruppe E2"},":",{"$f":"'Lauf GE'!E11","v":"Gruppe E7"},"__",":","__"]
[{"$f":"'Lauf GF'!G11","v":6},{"$f":"'Lauf GF'!B11","v":"F"},{"$f":"'Lauf GF'!A11","v":11},{"$f":"'Lauf GF'!C11","v":"15:55:00"},{"$f":"'Lauf GF'!D11","v":"Gruppe F2"},":",{"$f":"'Lauf GF'!E11","v":"Gruppe F7"},"__",":","__"]
[{"$f":"'Lauf GA'!G12","v":1},{"$f":"'Lauf GA'!B12","v":"A"},{"$f":"'Lauf GA'!A12","v":12},{"$f":"'Lauf GA'!C12","v":"16:05:00"},{"$f":"'Lauf GA'!D12","v":"Gruppe A6"},":",{"$f":"'Lauf GA'!E12","v":"Gruppe A8"},"__",":","__"]
[{"$f":"'Lauf GB'!G12","v":2},{"$f":"'Lauf GB'!B12","v":"B"},{"$f":"'Lauf GB'!A12","v":12},{"$f":"'Lauf GB'!C12","v":"16:05:00"},{"$f":"'Lauf GB'!D12","v":"Gruppe B6"},":",{"$f":"'Lauf GB'!E12","v":"Gruppe B8"},"__",":","__"]
[{"$f":"'Lauf GC'!G12","v":3},{"$f":"'Lauf GC'!B12","v":"C"},{"$f":"'Lauf GC'!A12","v":12},{"$f":"'Lauf GC'!C12","v":"16:05:00"},{"$f":"'Lauf GC'!D12","v":"Gruppe C6"},":",{"$f":"'Lauf GC'!E12","v":"Gruppe C8"},"__",":","__"]
[{"$f":"'Lauf GD'!G12","v":4},{"$f":"'Lauf GD'!B12","v":"D"},{"$f":"'Lauf GD'!A12","v":12},{"$f":"'Lauf GD'!C12","v":"16:05:00"},{"$f":"'Lauf GD'!D12","v":"Gruppe D6"},":",{"$f":"'Lauf GD'!E12","v":"Gruppe D8"},"__",":","__"]
[{"$f":"'Lauf GE'!G12","v":5},{"$f":"'Lauf GE'!B12","v":"E"},{"$f":"'Lauf GE'!A12","v":12},{"$f":"'Lauf GE'!C12","v":"16:05:00"},{"$f":"'Lauf GE'!D12","v":"Gruppe E6"},":",{"$f":"'Lauf GE'!E12","v":"Gruppe E8"},"__",":","__"]
[{"$f":"'Lauf GF'!G12","v":6},{"$f":"'Lauf GF'!B12","v":"F"},{"$f":"'Lauf GF'!A12","v":12},{"$f":"'Lauf GF'!C12","v":"16:05:00"},{"$f":"'Lauf GF'!D12","v":"Gruppe F6"},":",{"$f":"'Lauf GF'!E12","v":"Gruppe F8"},"__",":","__"]
[{"$f":"'Lauf GA'!G13","v":1},{"$f":"'Lauf GA'!B13","v":"A"},{"$f":"'Lauf GA'!A13","v":13},{"$f":"'Lauf GA'!C13","v":"16:15:00"},{"$f":"'Lauf GA'!D13","v":"Gruppe A4"},":",{"$f":"'Lauf GA'!E13","v":"Gruppe A2"},"__",":","__"]
[{"$f":"'Lauf GB'!G13","v":2},{"$f":"'Lauf GB'!B13","v":"B"},{"$f":"'Lauf GB'!A13","v":13},{"$f":"'Lauf GB'!C13","v":"16:15:00"},{"$f":"'Lauf GB'!D13","v":"Gruppe B4"},":",{"$f":"'Lauf GB'!E13","v":"Gruppe B2"},"__",":","__"]
[{"$f":"'Lauf GC'!G13","v":3},{"$f":"'Lauf GC'!B13","v":"C"},{"$f":"'Lauf GC'!A13","v":13},{"$f":"'Lauf GC'!C13","v":"16:15:00"},{"$f":"'Lauf GC'!D13","v":"Gruppe C4"},":",{"$f":"'Lauf GC'!E13","v":"Gruppe C2"},"__",":","__"]
[{"$f":"'Lauf GD'!G13","v":4},{"$f":"'Lauf GD'!B13","v":"D"},{"$f":"'Lauf GD'!A13","v":13},{"$f":"'Lauf GD'!C13","v":"16:15:00"},{"$f":"'Lauf GD'!D13","v":"Gruppe D4"},":",{"$f":"'Lauf GD'!E13","v":"Gruppe D2"},"__",":","__"]
[{"$f":"'Lauf GE'!G13","v":5},{"$f":"'Lauf GE'!B13","v":"E"},{"$f":"'Lauf GE'!A13","v":13},{"$f":"'Lauf GE'!C13","v":"16:15:00"},{"$f":"'Lauf GE'!D13","v":"Gruppe E4"},":",{"$f":"'Lauf GE'!E13","v":"Gruppe E2"},"__",":","__"]
[{"$f":"'Lauf GF'!G13","v":6},{"$f":"'Lauf GF'!B13","v":"F"},{"$f":"'Lauf GF'!A13","v":13},{"$f":"'Lauf GF'!C13","v":"16:15:00"},{"$f":"'Lauf GF'!D13","v":"Gruppe F4"},":",{"$f":"'Lauf GF'!E13","v":"Gruppe F2"},"__",":","__"]
[{"$f":"'Lauf GA'!G14","v":1},{"$f":"'Lauf GA'!B14","v":"A"},{"$f":"'Lauf GA'!A14","v":14},{"$f":"'Lauf GA'!C14","v":"16:25:00"},{"$f":"'Lauf GA'!D14","v":"Gruppe A7"},":",{"$f":"'Lauf GA'!E14","v":"Gruppe A5"},"__",":","__"]
[{"$f":"'Lauf GB'!G14","v":2},{"$f":"'Lauf GB'!B14","v":"B"},{"$f":"'Lauf GB'!A14","v":14},{"$f":"'Lauf GB'!C14","v":"16:25:00"},{"$f":"'Lauf GB'!D14","v":"Gruppe B7"},":",{"$f":"'Lauf GB'!E14","v":"Gruppe B5"},"__",":","__"]
[{"$f":"'Lauf GC'!G14","v":3},{"$f":"'Lauf GC'!B14","v":"C"},{"$f":"'Lauf GC'!A14","v":14},{"$f":"'Lauf GC'!C14","v":"16:25:00"},{"$f":"'Lauf GC'!D14","v":"Gruppe C7"},":",{"$f":"'Lauf GC'!E14","v":"Gruppe C5"},"__",":","__"]
[{"$f":"'Lauf GD'!G14","v":4},{"$f":"'Lauf GD'!B14","v":"D"},{"$f":"'Lauf GD'!A14","v":14},{"$f":"'Lauf GD'!C14","v":"16:25:00"},{"$f":"'Lauf GD'!D14","v":"Gruppe D7"},":",{"$f":"'Lauf GD'!E14","v":"Gruppe D5"},"__",":","__"]
[{"$f":"'Lauf GE'!G14","v":5},{"$f":"'Lauf GE'!B14","v":"E"},{"$f":"'Lauf GE'!A14","v":14},{"$f":"'Lauf GE'!C14","v":"16:25:00"},{"$f":"'Lauf GE'!D14","v":"Gruppe E7"},":",{"$f":"'Lauf GE'!E14","v":"Gruppe E5"},"__",":","__"]
[{"$f":"'Lauf GF'!G14","v":6},{"$f":"'Lauf GF'!B14","v":"F"},{"$f":"'Lauf GF'!A14","v":14},{"$f":"'Lauf GF'!C14","v":"16:25:00"},{"$f":"'Lauf GF'!D14","v":"Gruppe F7"},":",{"$f":"'Lauf GF'!E14","v":"Gruppe F5"},"__",":","__"]
[{"$f":"'Lauf GA'!G15","v":1},{"$f":"'Lauf GA'!B15","v":"A"},{"$f":"'Lauf GA'!A15","v":15},{"$f":"'Lauf GA'!C15","v":"16:35:00"},{"$f":"'Lauf GA'!D15","v":"Gruppe A8"},":",{"$f":"'Lauf GA'!E15","v":"Gruppe A1"},"__",":","__"]
[{"$f":"'Lauf GB'!G15","v":2},{"$f":"'Lauf GB'!B15","v":"B"},{"$f":"'Lauf GB'!A15","v":15},{"$f":"'Lauf GB'!C15","v":"16:35:00"},{"$f":"'Lauf GB'!D15","v":"Gruppe B8"},":",{"$f":"'Lauf GB'!E15","v":"Gruppe B1"},"__",":","__"]
[{"$f":"'Lauf GC'!G15","v":3},{"$f":"'Lauf GC'!B15","v":"C"},{"$f":"'Lauf GC'!A15","v":15},{"$f":"'Lauf GC'!C15","v":"16:35:00"},{"$f":"'Lauf GC'!D15","v":"Gruppe C8"},":",{"$f":"'Lauf GC'!E15","v":"Gruppe C1"},"__",":","__"]
[{"$f":"'Lauf GD'!G15","v":4},{"$f":"'Lauf GD'!B15","v":"D"},{"$f":"'Lauf GD'!A15","v":15},{"$f":"'Lauf GD'!C15","v":"16:35:00"},{"$f":"'Lauf GD'!D15","v":"Gruppe D8"},":",{"$f":"'Lauf GD'!E15","v":"Gruppe D1"},"__",":","__"]
[{"$f":"'Lauf GE'!G15","v":5},{"$f":"'Lauf GE'!B15","v":"E"},{"$f":"'Lauf GE'!A15","v":15},{"$f":"'Lauf GE'!C15","v":"16:35:00"},{"$f":"'Lauf GE'!D15","v":"Gruppe E8"},":",{"$f":"'Lauf GE'!E15","v":"Gruppe E1"},"__",":","__"]
[{"$f":"'Lauf GF'!G15","v":6},{"$f":"'Lauf GF'!B15","v":"F"},{"$f":"'Lauf GF'!A15","v":15},{"$f":"'Lauf GF'!C15","v":"16:35:00"},{"$f":"'Lauf GF'!D15","v":"Gruppe F8"},":",{"$f":"'Lauf GF'!E15","v":"Gruppe F1"},"__",":","__"]
[{"$f":"'Lauf GA'!G16","v":1},{"$f":"'Lauf GA'!B16","v":"A"},{"$f":"'Lauf GA'!A16","v":16},{"$f":"'Lauf GA'!C16","v":"16:45:00"},{"$f":"'Lauf GA'!D16","v":"Gruppe A3"},":",{"$f":"'Lauf GA'!E16","v":"Gruppe A6"},"__",":","__"]
[{"$f":"'Lauf GB'!G16","v":2},{"$f":"'Lauf GB'!B16","v":"B"},{"$f":"'Lauf GB'!A16","v":16},{"$f":"'Lauf GB'!C16","v":"16:45:00"},{"$f":"'Lauf GB'!D16","v":"Gruppe B3"},":",{"$f":"'Lauf GB'!E16","v":"Gruppe B6"},"__",":","__"]
[{"$f":"'Lauf GC'!G16","v":3},{"$f":"'Lauf GC'!B16","v":"C"},{"$f":"'Lauf GC'!A16","v":16},{"$f":"'Lauf GC'!C16","v":"16:45:00"},{"$f":"'Lauf GC'!D16","v":"Gruppe C3"},":",{"$f":"'Lauf GC'!E16","v":"Gruppe C6"},"__",":","__"]
[{"$f":"'Lauf GD'!G16","v":4},{"$f":"'Lauf GD'!B16","v":"D"},{"$f":"'Lauf GD'!A16","v":16},{"$f":"'Lauf GD'!C16","v":"16:45:00"},{"$f":"'Lauf GD'!D16","v":"Gruppe D3"},":",{"$f":"'Lauf GD'!E16","v":"Gruppe D6"},"__",":","__"]
[{"$f":"'Lauf GE'!G16","v":5},{"$f":"'Lauf GE'!B16","v":"E"},{"$f":"'Lauf GE'!A16","v":16},{"$f":"'Lauf GE'!C16","v":"16:45:00"},{"$f":"'Lauf GE'!D16","v":"Gruppe E3"},":",{"$f":"'Lauf GE'!E16","v":"Gruppe E6"},"__",":","__"]
[{"$f":"'Lauf GF'!G16","v":6},{"$f":"'Lauf GF'!B16","v":"F"},{"$f":"'Lauf GF'!A16","v":16},{"$f":"'Lauf GF'!C16","v":"16:45:00"},{"$f":"'Lauf GF'!D16","v":"Gruppe F3"},":",{"$f":"'Lauf GF'!E16","v":"Gruppe F6"},"__",":","__"]
[{"$f":"'Lauf GA'!G17","v":1},{"$f":"'Lauf GA'!B17","v":"A"},{"$f":"'Lauf GA'!A17","v":17},{"$f":"'Lauf GA'!C17","v":"16:55:00"},{"$f":"'Lauf GA'!D17","v":"Gruppe A4"},":",{"$f":"'Lauf GA'!E17","v":"Gruppe A7"},"__",":","__"]
[{"$f":"'Lauf GB'!G17","v":2},{"$f":"'Lauf GB'!B17","v":"B"},{"$f":"'Lauf GB'!A17","v":17},{"$f":"'Lauf GB'!C17","v":"16:55:00"},{"$f":"'Lauf GB'!D17","v":"Gruppe B4"},":",{"$f":"'Lauf GB'!E17","v":"Gruppe B7"},"__",":","__"]
[{"$f":"'Lauf GC'!G17","v":3},{"$f":"'Lauf GC'!B17","v":"C"},{"$f":"'Lauf GC'!A17","v":17},{"$f":"'Lauf GC'!C17","v":"16:55:00"},{"$f":"'Lauf GC'!D17","v":"Gruppe C4"},":",{"$f":"'Lauf GC'!E17","v":"Gruppe C7"},"__",":","__"]
[{"$f":"'Lauf GD'!G17","v":4},{"$f":"'Lauf GD'!B17","v":"D"},{"$f":"'Lauf GD'!A17","v":17},{"$f":"'Lauf GD'!C17","v":"16:55:00"},{"$f":"'Lauf GD'!D17","v":"Gruppe D4"},":",{"$f":"'Lauf GD'!E17","v":"Gruppe D7"},"__",":","__"]
[{"$f":"'Lauf GE'!G17","v":5},{"$f":"'Lauf GE'!B17","v":"E"},{"$f":"'Lauf GE'!A17","v":17},{"$f":"'Lauf GE'!C17","v":"16:55:00"},{"$f":"'Lauf GE'!D17","v":"Gruppe E4"},":",{"$f":"'Lauf GE'!E17","v":"Gruppe E7"},"__",":","__"]
[{"$f":"'Lauf GF'!G17","v":6},{"$f":"'Lauf GF'!B17","v":"F"},{"$f":"'Lauf GF'!A17","v":17},{"$f":"'Lauf GF'!C17","v":"16:55:00"},{"$f":"'Lauf GF'!D17","v":"Gruppe F4"},":",{"$f":"'Lauf GF'!E17","v":"Gruppe F7"},"__",":","__"]
[{"$f":"'Lauf GA'!G18","v":1},{"$f":"'Lauf GA'!B18","v":"A"},{"$f":"'Lauf GA'!A18","v":18},{"$f":"'Lauf GA'!C18","v":"17:05:00"},{"$f":"'Lauf GA'!D18","v":"Gruppe A2"},":",{"$f":"'Lauf GA'!E18","v":"Gruppe A8"},"__",":","__"]
[{"$f":"'Lauf GB'!G18","v":2},{"$f":"'Lauf GB'!B18","v":"B"},{"$f":"'Lauf GB'!A18","v":18},{"$f":"'Lauf GB'!C18","v":"17:05:00"},{"$f":"'Lauf GB'!D18","v":"Gruppe B2"},":",{"$f":"'Lauf GB'!E18","v":"Gruppe B8"},"__",":","__"]
[{"$f":"'Lauf GC'!G18","v":3},{"$f":"'Lauf GC'!B18","v":"C"},{"$f":"'Lauf GC'!A18","v":18},{"$f":"'Lauf GC'!C18","v":"17:05:00"},{"$f":"'Lauf GC'!D18","v":"Gruppe C2"},":",{"$f":"'Lauf GC'!E18","v":"Gruppe C8"},"__",":","__"]
[{"$f":"'Lauf GD'!G18","v":4},{"$f":"'Lauf GD'!B18","v":"D"},{"$f":"'Lauf GD'!A18","v":18},{"$f":"'Lauf GD'!C18","v":"17:05:00"},{"$f":"'Lauf GD'!D18","v":"Gruppe D2"},":",{"$f":"'Lauf GD'!E18","v":"Gruppe D8"},"__",":","__"]
[{"$f":"'Lauf GE'!G18","v":5},{"$f":"'Lauf GE'!B18","v":"E"},{"$f":"'Lauf GE'!A18","v":18},{"$f":"'Lauf GE'!C18","v":"17:05:00"},{"$f":"'Lauf GE'!D18","v":"Gruppe E2"},":",{"$f":"'Lauf GE'!E18","v":"Gruppe E8"},"__",":","__"]
[{"$f":"'Lauf GF'!G18","v":6},{"$f":"'Lauf GF'!B18","v":"F"},{"$f":"'Lauf GF'!A18","v":18},{"$f":"'Lauf GF'!C18","v":"17:05:00"},{"$f":"'Lauf GF'!D18","v":"Gruppe F2"},":",{"$f":"'Lauf GF'!E18","v":"Gruppe F8"},"__",":","__"]
[{"$f":"'Lauf GA'!G19","v":1},{"$f":"'Lauf GA'!B19","v":"A"},{"$f":"'Lauf GA'!A19","v":19},{"$f":"'Lauf GA'!C19","v":"17:15:00"},{"$f":"'Lauf GA'!D19","v":"Gruppe A1"},":",{"$f":"'Lauf GA'!E19","v":"Gruppe A6"},"__",":","__"]
[{"$f":"'Lauf GB'!G19","v":2},{"$f":"'Lauf GB'!B19","v":"B"},{"$f":"'Lauf GB'!A19","v":19},{"$f":"'Lauf GB'!C19","v":"17:15:00"},{"$f":"'Lauf GB'!D19","v":"Gruppe B1"},":",{"$f":"'Lauf GB'!E19","v":"Gruppe B6"},"__",":","__"]
[{"$f":"'Lauf GC'!G19","v":3},{"$f":"'Lauf GC'!B19","v":"C"},{"$f":"'Lauf GC'!A19","v":19},{"$f":"'Lauf GC'!C19","v":"17:15:00"},{"$f":"'Lauf GC'!D19","v":"Gruppe C1"},":",{"$f":"'Lauf GC'!E19","v":"Gruppe C6"},"__",":","__"]
[{"$f":"'Lauf GD'!G19","v":4},{"$f":"'Lauf GD'!B19","v":"D"},{"$f":"'Lauf GD'!A19","v":19},{"$f":"'Lauf GD'!C19","v":"17:15:00"},{"$f":"'Lauf GD'!D19","v":"Gruppe D1"},":",{"$f":"'Lauf GD'!E19","v":"Gruppe D6"},"__",":","__"]
[{"$f":"'Lauf GE'!G19","v":5},{"$f":"'Lauf GE'!B19","v":"E"},{"$f":"'Lauf GE'!A19","v":19},{"$f":"'Lauf GE'!C19","v":"17:15:00"},{"$f":"'Lauf GE'!D19","v":"Gruppe E1"},":",{"$f":"'Lauf GE'!E19","v":"Gruppe E6"},"__",":","__"]
[{"$f":"'Lauf GF'!G19","v":6},{"$f":"'Lauf GF'!B19","v":"F"},{"$f":"'Lauf GF'!A19","v":19},{"$f":"'Lauf GF'!C19","v":"17:15:00"},{"$f":"'Lauf GF'!D19","v":"Gruppe F1"},":",{"$f":"'Lauf GF'!E19","v":"Gruppe F6"},"__",":","__"]
[{"$f":"'Lauf GA'!G20","v":1},{"$f":"'Lauf GA'!B20","v":"A"},{"$f":"'Lauf GA'!A20","v":20},{"$f":"'Lauf GA'!C20","v":"17:25:00"},{"$f":"'Lauf GA'!D20","v":"Gruppe A5"},":",{"$f":"'Lauf GA'!E20","v":"Gruppe A3"},"__",":","__"]
[{"$f":"'Lauf GB'!G20","v":2},{"$f":"'Lauf GB'!B20","v":"B"},{"$f":"'Lauf GB'!A20","v":20},{"$f":"'Lauf GB'!C20","v":"17:25:00"},{"$f":"'Lauf GB'!D20","v":"Gruppe B5"},":",{"$f":"'Lauf GB'!E20","v":"Gruppe B3"},"__",":","__"]
[{"$f":"'Lauf GC'!G20","v":3},{"$f":"'Lauf GC'!B20","v":"C"},{"$f":"'Lauf GC'!A20","v":20},{"$f":"'Lauf GC'!C20","v":"17:25:00"},{"$f":"'Lauf GC'!D20","v":"Gruppe C5"},":",{"$f":"'Lauf GC'!E20","v":"Gruppe C3"},"__",":","__"]
[{"$f":"'Lauf GD'!G20","v":4},{"$f":"'Lauf GD'!B20","v":"D"},{"$f":"'Lauf GD'!A20","v":20},{"$f":"'Lauf GD'!C20","v":"17:25:00"},{"$f":"'Lauf GD'!D20","v":"Gruppe D5"},":",{"$f":"'Lauf GD'!E20","v":"Gruppe D3"},"__",":","__"]
[{"$f":"'Lauf GE'!G20","v":5},{"$f":"'Lauf GE'!B20","v":"E"},{"$f":"'Lauf GE'!A20","v":20},{"$f":"'Lauf GE'!C20","v":"17:25:00"},{"$f":"'Lauf GE'!D20","v":"Gruppe E5"},":",{"$f":"'Lauf GE'!E20","v":"Gruppe E3"},"__",":","__"]
[{"$f":"'Lauf GF'!G20","v":6},{"$f":"'Lauf GF'!B20","v":"F"},{"$f":"'Lauf GF'!A20","v":20},{"$f":"'Lauf GF'!C20","v":"17:25:00"},{"$f":"'Lauf GF'!D20","v":"Gruppe F5"},":",{"$f":"'Lauf GF'!E20","v":"Gruppe F3"},"__",":","__"]
[{"$f":"'Lauf GA'!G21","v":1},{"$f":"'Lauf GA'!B21","v":"A"},{"$f":"'Lauf GA'!A21","v":21},{"$f":"'Lauf GA'!C21","v":"17:35:00"},{"$f":"'Lauf GA'!D21","v":"Gruppe A8"},":",{"$f":"'Lauf GA'!E21","v":"Gruppe A4"},"__",":","__"]
[{"$f":"'Lauf GB'!G21","v":2},{"$f":"'Lauf GB'!B21","v":"B"},{"$f":"'Lauf GB'!A21","v":21},{"$f":"'Lauf GB'!C21","v":"17:35:00"},{"$f":"'Lauf GB'!D21","v":"Gruppe B8"},":",{"$f":"'Lauf GB'!E21","v":"Gruppe B4"},"__",":","__"]
[{"$f":"'Lauf GC'!G21","v":3},{"$f":"'Lauf GC'!B21","v":"C"},{"$f":"'Lauf GC'!A21","v":21},{"$f":"'Lauf GC'!C21","v":"17:35:00"},{"$f":"'Lauf GC'!D21","v":"Gruppe C8"},":",{"$f":"'Lauf GC'!E21","v":"Gruppe C4"},"__",":","__"]
[{"$f":"'Lauf GD'!G21","v":4},{"$f":"'Lauf GD'!B21","v":"D"},{"$f":"'Lauf GD'!A21","v":21},{"$f":"'Lauf GD'!C21","v":"17:35:00"},{"$f":"'Lauf GD'!D21","v":"Gruppe D8"},":",{"$f":"'Lauf GD'!E21","v":"Gruppe D4"},"__",":","__"]
[{"$f":"'Lauf GE'!G21","v":5},{"$f":"'Lauf GE'!B21","v":"E"},{"$f":"'Lauf GE'!A21","v":21},{"$f":"'Lauf GE'!C21","v":"17:35:00"},{"$f":"'Lauf GE'!D21","v":"Gruppe E8"},":",{"$f":"'Lauf GE'!E21","v":"Gruppe E4"},"__",":","__"]
[{"$f":"'Lauf GF'!G21","v":6},{"$f":"'Lauf GF'!B21","v":"F"},{"$f":"'Lauf GF'!A21","v":21},{"$f":"'Lauf GF'!C21","v":"17:35:00"},{"$f":"'Lauf GF'!D21","v":"Gruppe F8"},":",{"$f":"'Lauf GF'!E21","v":"Gruppe F4"},"__",":","__"]
[{"$f":"'Lauf GA'!G22","v":1},{"$f":"'Lauf GA'!B22","v":"A"},{"$f":"'Lauf GA'!A22","v":22},{"$f":"'Lauf GA'!C22","v":"17:45:00"},{"$f":"'Lauf GA'!D22","v":"Gruppe A6"},":",{"$f":"'Lauf GA'!E22","v":"Gruppe A2"},"__",":","__"]
[{"$f":"'Lauf GB'!G22","v":2},{"$f":"'Lauf GB'!B22","v":"B"},{"$f":"'Lauf GB'!A22","v":22},{"$f":"'Lauf GB'!C22","v":"17:45:00"},{"$f":"'Lauf GB'!D22","v":"Gruppe B6"},":",{"$f":"'Lauf GB'!E22","v":"Gruppe B2"},"__",":","__"]
[{"$f":"'Lauf GC'!G22","v":3},{"$f":"'Lauf GC'!B22","v":"C"},{"$f":"'Lauf GC'!A22","v":22},{"$f":"'Lauf GC'!C22","v":"17:45:00"},{"$f":"'Lauf GC'!D22","v":"Gruppe C6"},":",{"$f":"'Lauf GC'!E22","v":"Gruppe C2"},"__",":","__"]
[{"$f":"'Lauf GD'!G22","v":4},{"$f":"'Lauf GD'!B22","v":"D"},{"$f":"'Lauf GD'!A22","v":22},{"$f":"'Lauf GD'!C22","v":"17:45:00"},{"$f":"'Lauf GD'!D22","v":"Gruppe D6"},":",{"$f":"'Lauf GD'!E22","v":"Gruppe D2"},"__",":","__"]
[{"$f":"'Lauf GE'!G22","v":5},{"$f":"'Lauf GE'!B22","v":"E"},{"$f":"'Lauf GE'!A22","v":22},{"$f":"'Lauf GE'!C22","v":"17:45:00"},{"$f":"'Lauf GE'!D22","v":"Gruppe E6"},":",{"$f":"'Lauf GE'!E22","v":"Gruppe E2"},"__",":","__"]
[{"$f":"'Lauf GF'!G22","v":6},{"$f":"'Lauf GF'!B22","v":"F"},{"$f":"'Lauf GF'!A22","v":22},{"$f":"'Lauf GF'!C22","v":"17:45:00"},{"$f":"'Lauf GF'!D22","v":"Gruppe F6"},":",{"$f":"'Lauf GF'!E22","v":"Gruppe F2"},"__",":","__"]
[{"$f":"'Lauf GA'!G23","v":1},{"$f":"'Lauf GA'!B23","v":"A"},{"$f":"'Lauf GA'!A23","v":23},{"$f":"'Lauf GA'!C23","v":"17:55:00"},{"$f":"'Lauf GA'!D23","v":"Gruppe A7"},":",{"$f":"'Lauf GA'!E23","v":"Gruppe A3"},"__",":","__"]
[{"$f":"'Lauf GB'!G23","v":2},{"$f":"'Lauf GB'!B23","v":"B"},{"$f":"'Lauf GB'!A23","v":23},{"$f":"'Lauf GB'!C23","v":"17:55:00"},{"$f":"'Lauf GB'!D23","v":"Gruppe B7"},":",{"$f":"'Lauf GB'!E23","v":"Gruppe B3"},"__",":","__"]
[{"$f":"'Lauf GC'!G23","v":3},{"$f":"'Lauf GC'!B23","v":"C"},{"$f":"'Lauf GC'!A23","v":23},{"$f":"'Lauf GC'!C23","v":"17:55:00"},{"$f":"'Lauf GC'!D23","v":"Gruppe C7"},":",{"$f":"'Lauf GC'!E23","v":"Gruppe C3"},"__",":","__"]
[{"$f":"'Lauf GD'!G23","v":4},{"$f":"'Lauf GD'!B23","v":"D"},{"$f":"'Lauf GD'!A23","v":23},{"$f":"'Lauf GD'!C23","v":"17:55:00"},{"$f":"'Lauf GD'!D23","v":"Gruppe D7"},":",{"$f":"'Lauf GD'!E23","v":"Gruppe D3"},"__",":","__"]
[{"$f":"'Lauf GE'!G23","v":5},{"$f":"'Lauf GE'!B23","v":"E"},{"$f":"'Lauf GE'!A23","v":23},{"$f":"'Lauf GE'!C23","v":"17:55:00"},{"$f":"'Lauf GE'!D23","v":"Gruppe E7"},":",{"$f":"'Lauf GE'!E23","v":"Gruppe E3"},"__",":","__"]
[{"$f":"'Lauf GF'!G23","v":6},{"$f":"'Lauf GF'!B23","v":"F"},{"$f":"'Lauf GF'!A23","v":23},{"$f":"'Lauf GF'!C23","v":"17:55:00"},{"$f":"'Lauf GF'!D23","v":"Gruppe F7"},":",{"$f":"'Lauf GF'!E23","v":"Gruppe F3"},"__",":","__"]
[{"$f":"'Lauf GA'!G24","v":1},{"$f":"'Lauf GA'!B24","v":"A"},{"$f":"'Lauf GA'!A24","v":24},{"$f":"'Lauf GA'!C24","v":"18:05:00"},{"$f":"'Lauf GA'!D24","v":"Gruppe A5"},":",{"$f":"'Lauf GA'!E24","v":"Gruppe A1"},"__",":","__"]
[{"$f":"'Lauf GB'!G24","v":2},{"$f":"'Lauf GB'!B24","v":"B"},{"$f":"'Lauf GB'!A24","v":24},{"$f":"'Lauf GB'!C24","v":"18:05:00"},{"$f":"'Lauf GB'!D24","v":"Gruppe B5"},":",{"$f":"'Lauf GB'!E24","v":"Gruppe B1"},"__",":","__"]
[{"$f":"'Lauf GC'!G24","v":3},{"$f":"'Lauf GC'!B24","v":"C"},{"$f":"'Lauf GC'!A24","v":24},{"$f":"'Lauf GC'!C24","v":"18:05:00"},{"$f":"'Lauf GC'!D24","v":"Gruppe C5"},":",{"$f":"'Lauf GC'!E24","v":"Gruppe C1"},"__",":","__"]
[{"$f":"'Lauf GD'!G24","v":4},{"$f":"'Lauf GD'!B24","v":"D"},{"$f":"'Lauf GD'!A24","v":24},{"$f":"'Lauf GD'!C24","v":"18:05:00"},{"$f":"'Lauf GD'!D24","v":"Gruppe D5"},":",{"$f":"'Lauf GD'!E24","v":"Gruppe D1"},"__",":","__"]
[{"$f":"'Lauf GE'!G24","v":5},{"$f":"'Lauf GE'!B24","v":"E"},{"$f":"'Lauf GE'!A24","v":24},{"$f":"'Lauf GE'!C24","v":"18:05:00"},{"$f":"'Lauf GE'!D24","v":"Gruppe E5"},":",{"$f":"'Lauf GE'!E24","v":"Gruppe E1"},"__",":","__"]
[{"$f":"'Lauf GF'!G24","v":6},{"$f":"'Lauf GF'!B24","v":"F"},{"$f":"'Lauf GF'!A24","v":24},{"$f":"'Lauf GF'!C24","v":"18:05:00"},{"$f":"'Lauf GF'!D24","v":"Gruppe F5"},":",{"$f":"'Lauf GF'!E24","v":"Gruppe F1"},"__",":","__"]
[{"$f":"'Lauf GA'!G25","v":1},{"$f":"'Lauf GA'!B25","v":"A"},{"$f":"'Lauf GA'!A25","v":25},{"$f":"'Lauf GA'!C25","v":"18:15:00"},{"$f":"'Lauf GA'!D25","v":"Gruppe A4"},":",{"$f":"'Lauf GA'!E25","v":"Gruppe A6"},"__",":","__"]
[{"$f":"'Lauf GB'!G25","v":2},{"$f":"'Lauf GB'!B25","v":"B"},{"$f":"'Lauf GB'!A25","v":25},{"$f":"'Lauf GB'!C25","v":"18:15:00"},{"$f":"'Lauf GB'!D25","v":"Gruppe B4"},":",{"$f":"'Lauf GB'!E25","v":"Gruppe B6"},"__",":","__"]
[{"$f":"'Lauf GC'!G25","v":3},{"$f":"'Lauf GC'!B25","v":"C"},{"$f":"'Lauf GC'!A25","v":25},{"$f":"'Lauf GC'!C25","v":"18:15:00"},{"$f":"'Lauf GC'!D25","v":"Gruppe C4"},":",{"$f":"'Lauf GC'!E25","v":"Gruppe C6"},"__",":","__"]
[{"$f":"'Lauf GD'!G25","v":4},{"$f":"'Lauf GD'!B25","v":"D"},{"$f":"'Lauf GD'!A25","v":25},{"$f":"'Lauf GD'!C25","v":"18:15:00"},{"$f":"'Lauf GD'!D25","v":"Gruppe D4"},":",{"$f":"'Lauf GD'!E25","v":"Gruppe D6"},"__",":","__"]
[{"$f":"'Lauf GE'!G25","v":5},{"$f":"'Lauf GE'!B25","v":"E"},{"$f":"'Lauf GE'!A25","v":25},{"$f":"'Lauf GE'!C25","v":"18:15:00"},{"$f":"'Lauf GE'!D25","v":"Gruppe E4"},":",{"$f":"'Lauf GE'!E25","v":"Gruppe E6"},"__",":","__"]
[{"$f":"'Lauf GF'!G25","v":6},{"$f":"'Lauf GF'!B25","v":"F"},{"$f":"'Lauf GF'!A25","v":25},{"$f":"'Lauf GF'!C25","v":"18:15:00"},{"$f":"'Lauf GF'!D25","v":"Gruppe F4"},":",{"$f":"'Lauf GF'!E25","v":"Gruppe F6"},"__",":","__"]
[{"$f":"'Lauf GA'!G26","v":1},{"$f":"'Lauf GA'!B26","v":"A"},{"$f":"'Lauf GA'!A26","v":26},{"$f":"'Lauf GA'!C26","v":"18:25:00"},{"$f":"'Lauf GA'!D26","v":"Gruppe A3"},":",{"$f":"'Lauf GA'!E26","v":"Gruppe A8"},"__",":","__"]
[{"$f":"'Lauf GB'!G26","v":2},{"$f":"'Lauf GB'!B26","v":"B"},{"$f":"'Lauf GB'!A26","v":26},{"$f":"'Lauf GB'!C26","v":"18:25:00"},{"$f":"'Lauf GB'!D26","v":"Gruppe B3"},":",{"$f":"'Lauf GB'!E26","v":"Gruppe B8"},"__",":","__"]
[{"$f":"'Lauf GC'!G26","v":3},{"$f":"'Lauf GC'!B26","v":"C"},{"$f":"'Lauf GC'!A26","v":26},{"$f":"'Lauf GC'!C26","v":"18:25:00"},{"$f":"'Lauf GC'!D26","v":"Gruppe C3"},":",{"$f":"'Lauf GC'!E26","v":"Gruppe C8"},"__",":","__"]
[{"$f":"'Lauf GD'!G26","v":4},{"$f":"'Lauf GD'!B26","v":"D"},{"$f":"'Lauf GD'!A26","v":26},{"$f":"'Lauf GD'!C26","v":"18:25:00"},{"$f":"'Lauf GD'!D26","v":"Gruppe D3"},":",{"$f":"'Lauf GD'!E26","v":"Gruppe D8"},"__",":","__"]
[{"$f":"'Lauf GE'!G26","v":5},{"$f":"'Lauf GE'!B26","v":"E"},{"$f":"'Lauf GE'!A26","v":26},{"$f":"'Lauf GE'!C26","v":"18:25:00"},{"$f":"'Lauf GE'!D26","v":"Gruppe E3"},":",{"$f":"'Lauf GE'!E26","v":"Gruppe E8"},"__",":","__"]
[{"$f":"'Lauf GF'!G26","v":6},{"$f":"'Lauf GF'!B26","v":"F"},{"$f":"'Lauf GF'!A26","v":26},{"$f":"'Lauf GF'!C26","v":"18:25:00"},{"$f":"'Lauf GF'!D26","v":"Gruppe F3"},":",{"$f":"'Lauf GF'!E26","v":"Gruppe F8"},"__",":","__"]
[{"$f":"'Lauf GA'!G27","v":1},{"$f":"'Lauf GA'!B27","v":"A"},{"$f":"'Lauf GA'!A27","v":27},{"$f":"'Lauf GA'!C27","v":"18:35:00"},{"$f":"'Lauf GA'!D27","v":"Gruppe A2"},":",{"$f":"'Lauf GA'!E27","v":"Gruppe A5"},"__",":","__"]
[{"$f":"'Lauf GB'!G27","v":2},{"$f":"'Lauf GB'!B27","v":"B"},{"$f":"'Lauf GB'!A27","v":27},{"$f":"'Lauf GB'!C27","v":"18:35:00"},{"$f":"'Lauf GB'!D27","v":"Gruppe B2"},":",{"$f":"'Lauf GB'!E27","v":"Gruppe B5"},"__",":","__"]
[{"$f":"'Lauf GC'!G27","v":3},{"$f":"'Lauf GC'!B27","v":"C"},{"$f":"'Lauf GC'!A27","v":27},{"$f":"'Lauf GC'!C27","v":"18:35:00"},{"$f":"'Lauf GC'!D27","v":"Gruppe C2"},":",{"$f":"'Lauf GC'!E27","v":"Gruppe C5"},"__",":","__"]
[{"$f":"'Lauf GD'!G27","v":4},{"$f":"'Lauf GD'!B27","v":"D"},{"$f":"'Lauf GD'!A27","v":27},{"$f":"'Lauf GD'!C27","v":"18:35:00"},{"$f":"'Lauf GD'!D27","v":"Gruppe D2"},":",{"$f":"'Lauf GD'!E27","v":"Gruppe D5"},"__",":","__"]
[{"$f":"'Lauf GE'!G27","v":5},{"$f":"'Lauf GE'!B27","v":"E"},{"$f":"'Lauf GE'!A27","v":27},{"$f":"'Lauf GE'!C27","v":"18:35:00"},{"$f":"'Lauf GE'!D27","v":"Gruppe E2"},":",{"$f":"'Lauf GE'!E27","v":"Gruppe E5"},"__",":","__"]
[{"$f":"'Lauf GF'!G27","v":6},{"$f":"'Lauf GF'!B27","v":"F"},{"$f":"'Lauf GF'!A27","v":27},{"$f":"'Lauf GF'!C27","v":"18:35:00"},{"$f":"'Lauf GF'!D27","v":"Gruppe F2"},":",{"$f":"'Lauf GF'!E27","v":"Gruppe F5"},"__",":","__"]
[{"$f":"'Lauf GA'!G28","v":1},{"$f":"'Lauf GA'!B28","v":"A"},{"$f":"'Lauf GA'!A28","v":28},{"$f":"'Lauf GA'!C28","v":"18:45:00"},{"$f":"'Lauf GA'!D28","v":"Gruppe A1"},":",{"$f":"'Lauf GA'!E28","v":"Gruppe A7"},"__",":","__"]
[{"$f":"'Lauf GB'!G28","v":2},{"$f":"'Lauf GB'!B28","v":"B"},{"$f":"'Lauf GB'!A28","v":28},{"$f":"'Lauf GB'!C28","v":"18:45:00"},{"$f":"'Lauf GB'!D28","v":"Gruppe B1"},":",{"$f":"'Lauf GB'!E28","v":"Gruppe B7"},"__",":","__"]
[{"$f":"'Lauf GC'!G28","v":3},{"$f":"'Lauf GC'!B28","v":"C"},{"$f":"'Lauf GC'!A28","v":28},{"$f":"'Lauf GC'!C28","v":"18:45:00"},{"$f":"'Lauf GC'!D28","v":"Gruppe C1"},":",{"$f":"'Lauf GC'!E28","v":"Gruppe C7"},"__",":","__"]
[{"$f":"'Lauf GD'!G28","v":4},{"$f":"'Lauf GD'!B28","v":"D"},{"$f":"'Lauf GD'!A28","v":28},{"$f":"'Lauf GD'!C28","v":"18:45:00"},{"$f":"'Lauf GD'!D28","v":"Gruppe D1"},":",{"$f":"'Lauf GD'!E28","v":"Gruppe D7"},"__",":","__"]
[{"$f":"'Lauf GE'!G28","v":5},{"$f":"'Lauf GE'!B28","v":"E"},{"$f":"'Lauf GE'!A28","v":28},{"$f":"'Lauf GE'!C28","v":"18:45:00"},{"$f":"'Lauf GE'!D28","v":"Gruppe E1"},":",{"$f":"'Lauf GE'!E28","v":"Gruppe E7"},"__",":","__"]
[{"$f":"'Lauf GF'!G28","v":6},{"$f":"'Lauf GF'!B28","v":"F"},{"$f":"'Lauf GF'!A28","v":28},{"$f":"'Lauf GF'!C28","v":"18:45:00"},{"$f":"'Lauf GF'!D28","v":"Gruppe F1"},":",{"$f":"'Lauf GF'!E28","v":"Gruppe F7"},"__",":","__"]

{"sheet":"Platzierungen gesamt","index":30,"n_rows":54,"n_cols":3,"rows_kept":54,"cut":false,"hidden":true,"merged":[]}
[]
["Platz","Teilnehmer","Bild"]
[4,{"$f":"Endrunde!E43","v":" "},{"$f":"IF(B3=\"\",\"\",VLOOKUP(B3,Vorgaben!J$19:K$66,2,FALSE))","v":{"$error":"#N/A"}}]
[3,{"$f":"Endrunde!E44","v":" "},{"$f":"IF(B4=\"\",\"\",VLOOKUP(B4,Vorgaben!J$19:K$66,2,FALSE))","v":{"$error":"#N/A"}}]
[2,{"$f":"Endrunde!E41","v":" "},{"$f":"IF(B5=\"\",\"\",VLOOKUP(B5,Vorgaben!J$19:K$66,2,FALSE))","v":{"$error":"#N/A"}}]
[1,{"$f":"Endrunde!E42","v":" "},{"$f":"IF(B6=\"\",\"\",VLOOKUP(B6,Vorgaben!J$19:K$66,2,FALSE))","v":{"$error":"#N/A"}}]
[1,{"$f":"Endrunde!E41","v":" "},{"$f":"IF(B7=\"\",\"\",VLOOKUP(B7,Vorgaben!J$19:K$66,2,FALSE))","v":{"$error":"#N/A"}}]
[2,{"$f":"Endrunde!E42","v":" "},{"$f":"IF(B8=\"\",\"\",VLOOKUP(B8,Vorgaben!J$19:K$66,2,FALSE))","v":{"$error":"#N/A"}}]
[3,{"$f":"Endrunde!E43","v":" "},{"$f":"IF(B9=\"\",\"\",VLOOKUP(B9,Vorgaben!J$19:K$66,2,FALSE))","v":{"$error":"#N/A"}}]
[4,{"$f":"Endrunde!E44","v":" "},{"$f":"IF(B10=\"\",\"\",VLOOKUP(B10,Vorgaben!J$19:K$66,2,FALSE))","v":{"$error":"#N/A"}}]
[5,{"$f":"Endrunde!E45","v":" "},{"$f":"IF(B11=\"\",\"\",VLOOKUP(B11,Vorgaben!J$19:K$66,2,FALSE))","v":{"$error":"#N/A"}}]
[6,{"$f":"Endrunde!E46","v":" "},{"$f":"IF(B12=\"\",\"\",VLOOKUP(B12,Vorgaben!J$19:K$66,2,FALSE))","v":{"$error":"#N/A"}}]
[7,{"$f":"Endrunde!E47","v":" "},{"$f":"IF(B13=\"\",\"\",VLOOKUP(B13,Vorgaben!J$19:K$66,2,FALSE))","v":{"$error":"#N/A"}}]
[8,{"$f":"Endrunde!E48","v":" "},{"$f":"IF(B14=\"\",\"\",VLOOKUP(B14,Vorgaben!J$19:K$66,2,FALSE))","v":{"$error":"#N/A"}}]
[9,{"$f":"Endrunde!E49","v":" "},{"$f":"IF(B15=\"\",\"\",VLOOKUP(B15,Vorgaben!J$19:K$66,2,FALSE))","v":{"$error":"#N/A"}}]
[10,{"$f":"Endrunde!E50","v":" "},{"$f":"IF(B16=\"\",\"\",VLOOKUP(B16,Vorgaben!J$19:K$66,2,FALSE))","v":{"$error":"#N/A"}}]
[11,{"$f":"Endrunde!E51","v":" "},{"$f":"IF(B17=\"\",\"\",VLOOKUP(B17,Vorgaben!J$19:K$66,2,FALSE))","v":{"$error":"#N/A"}}]
[12,{"$f":"Endrunde!E52","v":" "},{"$f":"IF(B18=\"\",\"\",VLOOKUP(B18,Vorgaben!J$19:K$66,2,FALSE))","v":{"$error":"#N/A"}}]
[13,{"$f":"'PlSp13-18'!C32","v":"Gruppe C4"},{"$f":"IF(B19=\"\",\"\",VLOOKUP(B19,Vorgaben!J$19:K$66,2,FALSE))","v":"C:\\Mannschaftsbilder_Urkunde\\_28.jpg"}]
[14,{"$f":"'PlSp13-18'!C33","v":"Gruppe B6"},{"$f":"IF(B20=\"\",\"\",VLOOKUP(B20,Vorgaben!J$19:K$66,2,FALSE))","v":"C:\\Mannschaftsbilder_Urkunde\\_7.jpg"}]
[15,{"$f":"'PlSp13-18'!C34","v":"Gruppe E7"},{"$f":"IF(B21=\"\",\"\",VLOOKUP(B21,Vorgaben!J$19:K$66,2,FALSE))","v":"C:\\Mannschaftsbilder_Urkunde\\kein_bild.jpg"}]
[16,{"$f":"'PlSp13-18'!C35","v":"Gruppe D2"},{"$f":"IF(B22=\"\",\"\",VLOOKUP(B22,Vorgaben!J$19:K$66,2,FALSE))","v":"C:\\Mannschaftsbilder_Urkunde\\_3.jpg"}]
[17,{"$f":"'PlSp13-18'!C36","v":"Gruppe A2"},{"$f":"IF(B23=\"\",\"\",VLOOKUP(B23,Vorgaben!J$19:K$66,2,FALSE))","v":"C:\\Mannschaftsbilder_Urkunde\\_11.jpg"}]
[18,{"$f":"'PlSp13-18'!C37","v":"Gruppe F6"},{"$f":"IF(B24=\"\",\"\",VLOOKUP(B24,Vorgaben!J$19:K$66,2,FALSE))","v":"C:\\Mannschaftsbilder_Urkunde\\kein_bild.jpg"}]
[19,{"$f":"'PlSp19-24'!C32","v":"Gruppe E4"},{"$f":"IF(B25=\"\",\"\",VLOOKUP(B25,Vorgaben!J$19:K$66,2,FALSE))","v":"C:\\Mannschaftsbilder_Urkunde\\kein_bild.jpg"}]
[20,{"$f":"'PlSp19-24'!C33","v":"Gruppe C3"},{"$f":"IF(B26=\"\",\"\",VLOOKUP(B26,Vorgaben!J$19:K$66,2,FALSE))","v":"C:\\Mannschaftsbilder_Urkunde\\kein_bild.jpg"}]
[21,{"$f":"'PlSp19-24'!C34","v":"Gruppe D3"},{"$f":"IF(B27=\"\",\"\",VLOOKUP(B27,Vorgaben!J$19:K$66,2,FALSE))","v":"C:\\Mannschaftsbilder_Urkunde\\_16.jpg"}]
[22,{"$f":"'PlSp19-24'!C35","v":"Gruppe A6"},{"$f":"IF(B28=\"\",\"\",VLOOKUP(B28,Vorgaben!J$19:K$66,2,FALSE))","v":"C:\\Mannschaftsbilder_Urkunde\\_12.jpg"}]
[23,{"$f":"'PlSp19-24'!C36","v":"Gruppe B5"},{"$f":"IF(B29=\"\",\"\",VLOOKUP(B29,Vorgaben!J$19:K$66,2,FALSE))","v":"C:\\Mannschaftsbilder_Urkunde\\_1.jpg"}]
[24,{"$f":"'PlSp19-24'!C37","v":"Gruppe F4"},{"$f":"IF(B30=\"\",\"\",VLOOKUP(B30,Vorgaben!J$19:K$66,2,FALSE))","v":"C:\\Mannschaftsbilder_Urkunde\\kein_bild.jpg"}]
[25,{"$f":"'PlSp25-30'!C32","v":"Gruppe B7"},{"$f":"IF(B31=\"\",\"\",VLOOKUP(B31,Vorgaben!J$19:K$66,2,FALSE))","v":"C:\\Mannschaftsbilder_Urkunde\\kein_bild.jpg"}]
[26,{"$f":"'PlSp25-30'!C33","v":"Gruppe E1"},{"$f":"IF(B32=\"\",\"\",VLOOKUP(B32,Vorgaben!J$19:K$66,2,FALSE))","v":"C:\\Mannschaftsbilder_Urkunde\\_13.jpg"}]
[27,{"$f":"'PlSp25-30'!C34","v":"Gruppe D4"},{"$f":"IF(B33=\"\",\"\",VLOOKUP(B33,Vorgaben!J$19:K$66,2,FALSE))","v":"C:\\Mannschaftsbilder_Urkunde\\_29.jpg"}]
[28,{"$f":"'PlSp25-30'!C35","v":"Gruppe A3"},{"$f":"IF(B34=\"\",\"\",VLOOKUP(B34,Vorgaben!J$19:K$66,2,FALSE))","v":"C:\\Mannschaftsbilder_Urkunde\\_20.jpg"}]
[29,{"$f":"'PlSp25-30'!C36","v":"Gruppe F3"},{"$f":"IF(B35=\"\",\"\",VLOOKUP(B35,Vorgaben!J$19:K$66,2,FALSE))","v":"C:\\Mannschaftsbilder_Urkunde\\_24.jpg"}]
[30,{"$f":"'PlSp25-30'!C37","v":"Gruppe C7"},{"$f":"IF(B36=\"\",\"\",VLOOKUP(B36,Vorgaben!J$19:K$66,2,FALSE))","v":"C:\\Mannschaftsbilder_Urkunde\\_26.jpg"}]
[31,{"$f":"'PlSp31-36'!C32","v":"Gruppe B8"},{"$f":"IF(B37=\"\",\"\",VLOOKUP(B37,Vorgaben!J$19:K$66,2,FALSE))","v":"C:\\Mannschaftsbilder_Urkunde\\_23.jpg"}]
[32,{"$f":"'PlSp31-36'!C33","v":"Gruppe E6"},{"$f":"IF(B38=\"\",\"\",VLOOKUP(B38,Vorgaben!J$19:K$66,2,FALSE))","v":"C:\\Mannschaftsbilder_Urkunde\\kein_bild.jpg"}]
[33,{"$f":"'PlSp31-36'!C34","v":"Gruppe C2"},{"$f":"IF(B39=\"\",\"\",VLOOKUP(B39,Vorgaben!J$19:K$66,2,FALSE))","v":"C:\\Mannschaftsbilder_Urkunde\\kein_bild.jpg"}]
[34,{"$f":"'PlSp31-36'!C35","v":"Gruppe D1"},{"$f":"IF(B40=\"\",\"\",VLOOKUP(B40,Vorgaben!J$19:K$66,2,FALSE))","v":"C:\\Mannschaftsbilder_Urkunde\\_27.jpg"}]
[35,{"$f":"'PlSp31-36'!C36","v":"Gruppe F2"},{"$f":"IF(B41=\"\",\"\",VLOOKUP(B41,Vorgaben!J$19:K$66,2,FALSE))","v":"C:\\Mannschaftsbilder_Urkunde\\kein_bild.jpg"}]
[36,{"$f":"'PlSp31-36'!C37","v":"Gruppe A8"},{"$f":"IF(B42=\"\",\"\",VLOOKUP(B42,Vorgaben!J$19:K$66,2,FALSE))","v":"C:\\Mannschaftsbilder_Urkunde\\_6.jpg"}]
[37,{"$f":"'PlSp37-42'!C32","v":"Gruppe D5"},{"$f":"IF(B43=\"\",\"\",VLOOKUP(B43,Vorgaben!J$19:K$66,2,FALSE))","v":"C:\\Mannschaftsbilder_Urkunde\\_10.jpg"}]
[38,{"$f":"'PlSp37-42'!C33","v":"Gruppe A5"},{"$f":"IF(B44=\"\",\"\",VLOOKUP(B44,Vorgaben!J$19:K$66,2,FALSE))","v":"C:\\Mannschaftsbilder_Urkunde\\_15.jpg"}]
[39,{"$f":"'PlSp37-42'!C34","v":"Gruppe B4"},{"$f":"IF(B45=\"\",\"\",VLOOKUP(B45,Vorgaben!J$19:K$66,2,FALSE))","v":"C:\\Mannschaftsbilder_Urkunde\\_2.jpg"}]
[40,{"$f":"'PlSp37-42'!C35","v":"Gruppe E5"},{"$f":"IF(B46=\"\",\"\",VLOOKUP(B46,Vorgaben!J$19:K$66,2,FALSE))","v":"C:\\Mannschaftsbilder_Urkunde\\kein_bild.jpg"}]
[41,{"$f":"'PlSp37-42'!C36","v":"Gruppe F1"},{"$f":"IF(B47=\"\",\"\",VLOOKUP(B47,Vorgaben!J$19:K$66,2,FALSE))","v":"C:\\Mannschaftsbilder_Urkunde\\kein_bild.jpg"}]
[42,{"$f":"'PlSp37-42'!C37","v":"Gruppe C1"},{"$f":"IF(B48=\"\",\"\",VLOOKUP(B48,Vorgaben!J$19:K$66,2,FALSE))","v":"C:\\Mannschaftsbilder_Urkunde\\_17.jpg"}]
[43,{"$f":"'PlSp43-48'!C32","v":"Gruppe D6"},{"$f":"IF(B49=\"\",\"\",VLOOKUP(B49,Vorgaben!J$19:K$66,2,FALSE))","v":"C:\\Mannschaftsbilder_Urkunde\\_21.jpg"}]
[44,{"$f":"'PlSp43-48'!C33","v":"Gruppe A1"},{"$f":"IF(B50=\"\",\"\",VLOOKUP(B50,Vorgaben!J$19:K$66,2,FALSE))","v":"C:\\Mannschaftsbilder_Urkunde\\_66.jpg"}]
[45,{"$f":"'PlSp43-48'!C34","v":"Gruppe E8"},{"$f":"IF(B51=\"\",\"\",VLOOKUP(B51,Vorgaben!J$19:K$66,2,FALSE))","v":"C:\\Mannschaftsbilder_Urkunde\\kein_bild.jpg"}]
[46,{"$f":"'PlSp43-48'!C35","v":"Gruppe B2"},{"$f":"IF(B52=\"\",\"\",VLOOKUP(B52,Vorgaben!J$19:K$66,2,FALSE))","v":"C:\\Mannschaftsbilder_Urkunde\\_19.jpg"}]
[47,{"$f":"'PlSp43-48'!C36","v":"Gruppe F7"},{"$f":"IF(B53=\"\",\"\",VLOOKUP(B53,Vorgaben!J$19:K$66,2,FALSE))","v":"C:\\Mannschaftsbilder_Urkunde\\kein_bild.jpg"}]
[48,{"$f":"'PlSp43-48'!C37","v":"Gruppe C6"},{"$f":"IF(B54=\"\",\"\",VLOOKUP(B54,Vorgaben!J$19:K$66,2,FALSE))","v":"C:\\Mannschaftsbilder_Urkunde\\_4.jpg"}]

{"sheet":"Lauf GA","index":31,"n_rows":28,"n_cols":7,"rows_kept":28,"cut":false,"hidden":true,"merged":[]}
[1,"A",{"$f":"'Gruppe A1'!D28","v":"14:15:00"},{"$f":"'Gruppe A1'!J28","v":"Gruppe A1"},{"$f":"'Gruppe A1'!AD28","v":"Gruppe A2"},"__:__",1]
[2,"A",{"$f":"'Gruppe A1'!D29","v":"14:25:00"},{"$f":"'Gruppe A1'!J29","v":"Gruppe A3"},{"$f":"'Gruppe A1'!AD29","v":"Gruppe A4"},"__:__",1]
[3,"A",{"$f":"'Gruppe A1'!D30","v":"14:35:00"},{"$f":"'Gruppe A1'!J30","v":"Gruppe A5"},{"$f":"'Gruppe A1'!AD30","v":"Gruppe A6"},"__:__",1]
[4,"A",{"$f":"'Gruppe A1'!D31","v":"14:45:00"},{"$f":"'Gruppe A1'!J31","v":"Gruppe A7"},{"$f":"'Gruppe A1'!AD31","v":"Gruppe A8"},"__:__",1]
[5,"A",{"$f":"'Gruppe A1'!D32","v":"14:55:00"},{"$f":"'Gruppe A1'!J32","v":"Gruppe A4"},{"$f":"'Gruppe A1'!AD32","v":"Gruppe A1"},"__:__",1]
[6,"A",{"$f":"'Gruppe A1'!D33","v":"15:05:00"},{"$f":"'Gruppe A1'!J33","v":"Gruppe A2"},{"$f":"'Gruppe A1'!AD33","v":"Gruppe A3"},"__:__",1]
[7,"A",{"$f":"'Gruppe A1'!D34","v":"15:15:00"},{"$f":"'Gruppe A1'!J34","v":"Gruppe A8"},{"$f":"'Gruppe A1'!AD34","v":"Gruppe A5"},"__:__",1]
[8,"A",{"$f":"'Gruppe A1'!D35","v":"15:25:00"},{"$f":"'Gruppe A1'!J35","v":"Gruppe A6"},{"$f":"'Gruppe A1'!AD35","v":"Gruppe A7"},"__:__",1]
[9,"A",{"$f":"'Gruppe A1'!D36","v":"15:35:00"},{"$f":"'Gruppe A1'!J36","v":"Gruppe A5"},{"$f":"'Gruppe A1'!AD36","v":"Gruppe A4"},"__:__",1]
[10,"A",{"$f":"'Gruppe A1'!D37","v":"15:45:00"},{"$f":"'Gruppe A1'!J37","v":"Gruppe A1"},{"$f":"'Gruppe A1'!AD37","v":"Gruppe A3"},"__:__",1]
[11,"A",{"$f":"'Gruppe A1'!D38","v":"15:55:00"},{"$f":"'Gruppe A1'!J38","v":"Gruppe A2"},{"$f":"'Gruppe A1'!AD38","v":"Gruppe A7"},"__:__",1]
[12,"A",{"$f":"'Gruppe A1'!D39","v":"16:05:00"},{"$f":"'Gruppe A1'!J39","v":"Gruppe A6"},{"$f":"'Gruppe A1'!AD39","v":"Gruppe A8"},"__:__",1]
[13,"A",{"$f":"'Gruppe A1'!D40","v":"16:15:00"},{"$f":"'Gruppe A1'!J40","v":"Gruppe A4"},{"$f":"'Gruppe A1'!AD40","v":"Gruppe A2"},"__:__",1]
[14,"A",{"$f":"'Gruppe A1'!D41","v":"16:25:00"},{"$f":"'Gruppe A1'!J41","v":"Gruppe A7"},{"$f":"'Gruppe A1'!AD41","v":"Gruppe A5"},"__:__",1]
[15,"A",{"$f":"'Gruppe A1'!D42","v":"16:35:00"},{"$f":"'Gruppe A1'!J42","v":"Gruppe A8"},{"$f":"'Gruppe A1'!AD42","v":"Gruppe A1"},"__:__",1]
[16,"A",{"$f":"'Gruppe A1'!D43","v":"16:45:00"},{"$f":"'Gruppe A1'!J43","v":"Gruppe A3"},{"$f":"'Gruppe A1'!AD43","v":"Gruppe A6"},"__:__",1]
[17,"A",{"$f":"'Gruppe A1'!D44","v":"16:55:00"},{"$f":"'Gruppe A1'!J44","v":"Gruppe A4"},{"$f":"'Gruppe A1'!AD44","v":"Gruppe A7"},"__:__",1]
[18,"A",{"$f":"'Gruppe A1'!D45","v":"17:05:00"},{"$f":"'Gruppe A1'!J45","v":"Gruppe A2"},{"$f":"'Gruppe A1'!AD45","v":"Gruppe A8"},"__:__",1]
[19,"A",{"$f":"'Gruppe A1'!D46","v":"17:15:00"},{"$f":"'Gruppe A1'!J46","v":"Gruppe A1"},{"$f":"'Gruppe A1'!AD46","v":"Gruppe A6"},"__:__",1]
[20,"A",{"$f":"'Gruppe A1'!D47","v":"17:25:00"},{"$f":"'Gruppe A1'!J47","v":"Gruppe A5"},{"$f":"'Gruppe A1'!AD47","v":"Gruppe A3"},"__:__",1]
[21,"A",{"$f":"'Gruppe A1'!D48","v":"17:35:00"},{"$f":"'Gruppe A1'!J48","v":"Gruppe A8"},{"$f":"'Gruppe A1'!AD48","v":"Gruppe A4"},"__:__",1]
[22,"A",{"$f":"'Gruppe A1'!D49","v":"17:45:00"},{"$f":"'Gruppe A1'!J49","v":"Gruppe A6"},{"$f":"'Gruppe A1'!AD49","v":"Gruppe A2"},"__:__",1]
[23,"A",{"$f":"'Gruppe A1'!D50","v":"17:55:00"},{"$f":"'Gruppe A1'!J50","v":"Gruppe A7"},{"$f":"'Gruppe A1'!AD50","v":"Gruppe A3"},"__:__",1]
[24,"A",{"$f":"'Gruppe A1'!D51","v":"18:05:00"},{"$f":"'Gruppe A1'!J51","v":"Gruppe A5"},{"$f":"'Gruppe A1'!AD51","v":"Gruppe A1"},"__:__",1]
[25,"A",{"$f":"'Gruppe A1'!D52","v":"18:15:00"},{"$f":"'Gruppe A1'!J52","v":"Gruppe A4"},{"$f":"'Gruppe A1'!AD52","v":"Gruppe A6"},"__:__",1]
[26,"A",{"$f":"'Gruppe A1'!D53","v":"18:25:00"},{"$f":"'Gruppe A1'!J53","v":"Gruppe A3"},{"$f":"'Gruppe A1'!AD53","v":"Gruppe A8"},"__:__",1]
[27,"A",{"$f":"'Gruppe A1'!D54","v":"18:35:00"},{"$f":"'Gruppe A1'!J54","v":"Gruppe A2"},{"$f":"'Gruppe A1'!AD54","v":"Gruppe A5"},"__:__",1]
[28,"A",{"$f":"'Gruppe A1'!D55","v":"18:45:00"},{"$f":"'Gruppe A1'!J55","v":"Gruppe A1"},{"$f":"'Gruppe A1'!AD55","v":"Gruppe A7"},"__:__",1]

{"sheet":"Lauf GB","index":32,"n_rows":28,"n_cols":7,"rows_kept":28,"cut":false,"hidden":true,"merged":[]}
[1,"B",{"$f":"'Gruppe B1'!D28","v":"14:15:00"},{"$f":"'Gruppe B1'!J28","v":"Gruppe B1"},{"$f":"'Gruppe B1'!AD28","v":"Gruppe B2"},"__:__",2]
[2,"B",{"$f":"'Gruppe B1'!D29","v":"14:25:00"},{"$f":"'Gruppe B1'!J29","v":"Gruppe B3"},{"$f":"'Gruppe B1'!AD29","v":"Gruppe B4"},"__:__",2]
[3,"B",{"$f":"'Gruppe B1'!D30","v":"14:35:00"},{"$f":"'Gruppe B1'!J30","v":"Gruppe B5"},{"$f":"'Gruppe B1'!AD30","v":"Gruppe B6"},"__:__",2]
[4,"B",{"$f":"'Gruppe B1'!D31","v":"14:45:00"},{"$f":"'Gruppe B1'!J31","v":"Gruppe B7"},{"$f":"'Gruppe B1'!AD31","v":"Gruppe B8"},"__:__",2]
[5,"B",{"$f":"'Gruppe B1'!D32","v":"14:55:00"},{"$f":"'Gruppe B1'!J32","v":"Gruppe B4"},{"$f":"'Gruppe B1'!AD32","v":"Gruppe B1"},"__:__",2]
[6,"B",{"$f":"'Gruppe B1'!D33","v":"15:05:00"},{"$f":"'Gruppe B1'!J33","v":"Gruppe B2"},{"$f":"'Gruppe B1'!AD33","v":"Gruppe B3"},"__:__",2]
[7,"B",{"$f":"'Gruppe B1'!D34","v":"15:15:00"},{"$f":"'Gruppe B1'!J34","v":"Gruppe B8"},{"$f":"'Gruppe B1'!AD34","v":"Gruppe B5"},"__:__",2]
[8,"B",{"$f":"'Gruppe B1'!D35","v":"15:25:00"},{"$f":"'Gruppe B1'!J35","v":"Gruppe B6"},{"$f":"'Gruppe B1'!AD35","v":"Gruppe B7"},"__:__",2]
[9,"B",{"$f":"'Gruppe B1'!D36","v":"15:35:00"},{"$f":"'Gruppe B1'!J36","v":"Gruppe B5"},{"$f":"'Gruppe B1'!AD36","v":"Gruppe B4"},"__:__",2]
[10,"B",{"$f":"'Gruppe B1'!D37","v":"15:45:00"},{"$f":"'Gruppe B1'!J37","v":"Gruppe B1"},{"$f":"'Gruppe B1'!AD37","v":"Gruppe B3"},"__:__",2]
[11,"B",{"$f":"'Gruppe B1'!D38","v":"15:55:00"},{"$f":"'Gruppe B1'!J38","v":"Gruppe B2"},{"$f":"'Gruppe B1'!AD38","v":"Gruppe B7"},"__:__",2]
[12,"B",{"$f":"'Gruppe B1'!D39","v":"16:05:00"},{"$f":"'Gruppe B1'!J39","v":"Gruppe B6"},{"$f":"'Gruppe B1'!AD39","v":"Gruppe B8"},"__:__",2]
[13,"B",{"$f":"'Gruppe B1'!D40","v":"16:15:00"},{"$f":"'Gruppe B1'!J40","v":"Gruppe B4"},{"$f":"'Gruppe B1'!AD40","v":"Gruppe B2"},"__:__",2]
[14,"B",{"$f":"'Gruppe B1'!D41","v":"16:25:00"},{"$f":"'Gruppe B1'!J41","v":"Gruppe B7"},{"$f":"'Gruppe B1'!AD41","v":"Gruppe B5"},"__:__",2]
[15,"B",{"$f":"'Gruppe B1'!D42","v":"16:35:00"},{"$f":"'Gruppe B1'!J42","v":"Gruppe B8"},{"$f":"'Gruppe B1'!AD42","v":"Gruppe B1"},"__:__",2]
[16,"B",{"$f":"'Gruppe B1'!D43","v":"16:45:00"},{"$f":"'Gruppe B1'!J43","v":"Gruppe B3"},{"$f":"'Gruppe B1'!AD43","v":"Gruppe B6"},"__:__",2]
[17,"B",{"$f":"'Gruppe B1'!D44","v":"16:55:00"},{"$f":"'Gruppe B1'!J44","v":"Gruppe B4"},{"$f":"'Gruppe B1'!AD44","v":"Gruppe B7"},"__:__",2]
[18,"B",{"$f":"'Gruppe B1'!D45","v":"17:05:00"},{"$f":"'Gruppe B1'!J45","v":"Gruppe B2"},{"$f":"'Gruppe B1'!AD45","v":"Gruppe B8"},"__:__",2]
[19,"B",{"$f":"'Gruppe B1'!D46","v":"17:15:00"},{"$f":"'Gruppe B1'!J46","v":"Gruppe B1"},{"$f":"'Gruppe B1'!AD46","v":"Gruppe B6"},"__:__",2]
[20,"B",{"$f":"'Gruppe B1'!D47","v":"17:25:00"},{"$f":"'Gruppe B1'!J47","v":"Gruppe B5"},{"$f":"'Gruppe B1'!AD47","v":"Gruppe B3"},"__:__",2]
[21,"B",{"$f":"'Gruppe B1'!D48","v":"17:35:00"},{"$f":"'Gruppe B1'!J48","v":"Gruppe B8"},{"$f":"'Gruppe B1'!AD48","v":"Gruppe B4"},"__:__",2]
[22,"B",{"$f":"'Gruppe B1'!D49","v":"17:45:00"},{"$f":"'Gruppe B1'!J49","v":"Gruppe B6"},{"$f":"'Gruppe B1'!AD49","v":"Gruppe B2"},"__:__",2]
[23,"B",{"$f":"'Gruppe B1'!D50","v":"17:55:00"},{"$f":"'Gruppe B1'!J50","v":"Gruppe B7"},{"$f":"'Gruppe B1'!AD50","v":"Gruppe B3"},"__:__",2]
[24,"B",{"$f":"'Gruppe B1'!D51","v":"18:05:00"},{"$f":"'Gruppe B1'!J51","v":"Gruppe B5"},{"$f":"'Gruppe B1'!AD51","v":"Gruppe B1"},"__:__",2]
[25,"B",{"$f":"'Gruppe B1'!D52","v":"18:15:00"},{"$f":"'Gruppe B1'!J52","v":"Gruppe B4"},{"$f":"'Gruppe B1'!AD52","v":"Gruppe B6"},"__:__",2]
[26,"B",{"$f":"'Gruppe B1'!D53","v":"18:25:00"},{"$f":"'Gruppe B1'!J53","v":"Gruppe B3"},{"$f":"'Gruppe B1'!AD53","v":"Gruppe B8"},"__:__",2]
[27,"B",{"$f":"'Gruppe B1'!D54","v":"18:35:00"},{"$f":"'Gruppe B1'!J54","v":"Gruppe B2"},{"$f":"'Gruppe B1'!AD54","v":"Gruppe B5"},"__:__",2]
[28,"B",{"$f":"'Gruppe B1'!D55","v":"18:45:00"},{"$f":"'Gruppe B1'!J55","v":"Gruppe B1"},{"$f":"'Gruppe B1'!AD55","v":"Gruppe B7"},"__:__",2]

{"sheet":"Lauf GC","index":33,"n_rows":28,"n_cols":7,"rows_kept":28,"cut":false,"hidden":true,"merged":[]}
[1,"C",{"$f":"'Gruppe C1'!D28","v":"14:15:00"},{"$f":"'Gruppe C1'!J28","v":"Gruppe C1"},{"$f":"'Gruppe C1'!AD28","v":"Gruppe C2"},"__:__",3]
[2,"C",{"$f":"'Gruppe C1'!D29","v":"14:25:00"},{"$f":"'Gruppe C1'!J29","v":"Gruppe C3"},{"$f":"'Gruppe C1'!AD29","v":"Gruppe C4"},"__:__",3]
[3,"C",{"$f":"'Gruppe C1'!D30","v":"14:35:00"},{"$f":"'Gruppe C1'!J30","v":"Gruppe C5"},{"$f":"'Gruppe C1'!AD30","v":"Gruppe C6"},"__:__",3]
[4,"C",{"$f":"'Gruppe C1'!D31","v":"14:45:00"},{"$f":"'Gruppe C1'!J31","v":"Gruppe C7"},{"$f":"'Gruppe C1'!AD31","v":"Gruppe C8"},"__:__",3]
[5,"C",{"$f":"'Gruppe C1'!D32","v":"14:55:00"},{"$f":"'Gruppe C1'!J32","v":"Gruppe C4"},{"$f":"'Gruppe C1'!AD32","v":"Gruppe C1"},"__:__",3]
[6,"C",{"$f":"'Gruppe C1'!D33","v":"15:05:00"},{"$f":"'Gruppe C1'!J33","v":"Gruppe C2"},{"$f":"'Gruppe C1'!AD33","v":"Gruppe C3"},"__:__",3]
[7,"C",{"$f":"'Gruppe C1'!D34","v":"15:15:00"},{"$f":"'Gruppe C1'!J34","v":"Gruppe C8"},{"$f":"'Gruppe C1'!AD34","v":"Gruppe C5"},"__:__",3]
[8,"C",{"$f":"'Gruppe C1'!D35","v":"15:25:00"},{"$f":"'Gruppe C1'!J35","v":"Gruppe C6"},{"$f":"'Gruppe C1'!AD35","v":"Gruppe C7"},"__:__",3]
[9,"C",{"$f":"'Gruppe C1'!D36","v":"15:35:00"},{"$f":"'Gruppe C1'!J36","v":"Gruppe C5"},{"$f":"'Gruppe C1'!AD36","v":"Gruppe C4"},"__:__",3]
[10,"C",{"$f":"'Gruppe C1'!D37","v":"15:45:00"},{"$f":"'Gruppe C1'!J37","v":"Gruppe C1"},{"$f":"'Gruppe C1'!AD37","v":"Gruppe C3"},"__:__",3]
[11,"C",{"$f":"'Gruppe C1'!D38","v":"15:55:00"},{"$f":"'Gruppe C1'!J38","v":"Gruppe C2"},{"$f":"'Gruppe C1'!AD38","v":"Gruppe C7"},"__:__",3]
[12,"C",{"$f":"'Gruppe C1'!D39","v":"16:05:00"},{"$f":"'Gruppe C1'!J39","v":"Gruppe C6"},{"$f":"'Gruppe C1'!AD39","v":"Gruppe C8"},"__:__",3]
[13,"C",{"$f":"'Gruppe C1'!D40","v":"16:15:00"},{"$f":"'Gruppe C1'!J40","v":"Gruppe C4"},{"$f":"'Gruppe C1'!AD40","v":"Gruppe C2"},"__:__",3]
[14,"C",{"$f":"'Gruppe C1'!D41","v":"16:25:00"},{"$f":"'Gruppe C1'!J41","v":"Gruppe C7"},{"$f":"'Gruppe C1'!AD41","v":"Gruppe C5"},"__:__",3]
[15,"C",{"$f":"'Gruppe C1'!D42","v":"16:35:00"},{"$f":"'Gruppe C1'!J42","v":"Gruppe C8"},{"$f":"'Gruppe C1'!AD42","v":"Gruppe C1"},"__:__",3]
[16,"C",{"$f":"'Gruppe C1'!D43","v":"16:45:00"},{"$f":"'Gruppe C1'!J43","v":"Gruppe C3"},{"$f":"'Gruppe C1'!AD43","v":"Gruppe C6"},"__:__",3]
[17,"C",{"$f":"'Gruppe C1'!D44","v":"16:55:00"},{"$f":"'Gruppe C1'!J44","v":"Gruppe C4"},{"$f":"'Gruppe C1'!AD44","v":"Gruppe C7"},"__:__",3]
[18,"C",{"$f":"'Gruppe C1'!D45","v":"17:05:00"},{"$f":"'Gruppe C1'!J45","v":"Gruppe C2"},{"$f":"'Gruppe C1'!AD45","v":"Gruppe C8"},"__:__",3]
[19,"C",{"$f":"'Gruppe C1'!D46","v":"17:15:00"},{"$f":"'Gruppe C1'!J46","v":"Gruppe C1"},{"$f":"'Gruppe C1'!AD46","v":"Gruppe C6"},"__:__",3]
[20,"C",{"$f":"'Gruppe C1'!D47","v":"17:25:00"},{"$f":"'Gruppe C1'!J47","v":"Gruppe C5"},{"$f":"'Gruppe C1'!AD47","v":"Gruppe C3"},"__:__",3]
[21,"C",{"$f":"'Gruppe C1'!D48","v":"17:35:00"},{"$f":"'Gruppe C1'!J48","v":"Gruppe C8"},{"$f":"'Gruppe C1'!AD48","v":"Gruppe C4"},"__:__",3]
[22,"C",{"$f":"'Gruppe C1'!D49","v":"17:45:00"},{"$f":"'Gruppe C1'!J49","v":"Gruppe C6"},{"$f":"'Gruppe C1'!AD49","v":"Gruppe C2"},"__:__",3]
[23,"C",{"$f":"'Gruppe C1'!D50","v":"17:55:00"},{"$f":"'Gruppe C1'!J50","v":"Gruppe C7"},{"$f":"'Gruppe C1'!AD50","v":"Gruppe C3"},"__:__",3]
[24,"C",{"$f":"'Gruppe C1'!D51","v":"18:05:00"},{"$f":"'Gruppe C1'!J51","v":"Gruppe C5"},{"$f":"'Gruppe C1'!AD51","v":"Gruppe C1"},"__:__",3]
[25,"C",{"$f":"'Gruppe C1'!D52","v":"18:15:00"},{"$f":"'Gruppe C1'!J52","v":"Gruppe C4"},{"$f":"'Gruppe C1'!AD52","v":"Gruppe C6"},"__:__",3]
[26,"C",{"$f":"'Gruppe C1'!D53","v":"18:25:00"},{"$f":"'Gruppe C1'!J53","v":"Gruppe C3"},{"$f":"'Gruppe C1'!AD53","v":"Gruppe C8"},"__:__",3]
[27,"C",{"$f":"'Gruppe C1'!D54","v":"18:35:00"},{"$f":"'Gruppe C1'!J54","v":"Gruppe C2"},{"$f":"'Gruppe C1'!AD54","v":"Gruppe C5"},"__:__",3]
[28,"C",{"$f":"'Gruppe C1'!D55","v":"18:45:00"},{"$f":"'Gruppe C1'!J55","v":"Gruppe C1"},{"$f":"'Gruppe C1'!AD55","v":"Gruppe C7"},"__:__",3]

{"sheet":"Lauf GD","index":34,"n_rows":28,"n_cols":7,"rows_kept":28,"cut":false,"hidden":true,"merged":[]}
[1,"D",{"$f":"'Gruppe D1'!D28","v":"14:15:00"},{"$f":"'Gruppe D1'!J28","v":"Gruppe D1"},{"$f":"'Gruppe D1'!AD28","v":"Gruppe D2"},"__:__",4]
[2,"D",{"$f":"'Gruppe D1'!D29","v":"14:25:00"},{"$f":"'Gruppe D1'!J29","v":"Gruppe D3"},{"$f":"'Gruppe D1'!AD29","v":"Gruppe D4"},"__:__",4]
[3,"D",{"$f":"'Gruppe D1'!D30","v":"14:35:00"},{"$f":"'Gruppe D1'!J30","v":"Gruppe D5"},{"$f":"'Gruppe D1'!AD30","v":"Gruppe D6"},"__:__",4]
[4,"D",{"$f":"'Gruppe D1'!D31","v":"14:45:00"},{"$f":"'Gruppe D1'!J31","v":"Gruppe D7"},{"$f":"'Gruppe D1'!AD31","v":"Gruppe D8"},"__:__",4]
[5,"D",{"$f":"'Gruppe D1'!D32","v":"14:55:00"},{"$f":"'Gruppe D1'!J32","v":"Gruppe D4"},{"$f":"'Gruppe D1'!AD32","v":"Gruppe D1"},"__:__",4]
[6,"D",{"$f":"'Gruppe D1'!D33","v":"15:05:00"},{"$f":"'Gruppe D1'!J33","v":"Gruppe D2"},{"$f":"'Gruppe D1'!AD33","v":"Gruppe D3"},"__:__",4]
[7,"D",{"$f":"'Gruppe D1'!D34","v":"15:15:00"},{"$f":"'Gruppe D1'!J34","v":"Gruppe D8"},{"$f":"'Gruppe D1'!AD34","v":"Gruppe D5"},"__:__",4]
[8,"D",{"$f":"'Gruppe D1'!D35","v":"15:25:00"},{"$f":"'Gruppe D1'!J35","v":"Gruppe D6"},{"$f":"'Gruppe D1'!AD35","v":"Gruppe D7"},"__:__",4]
[9,"D",{"$f":"'Gruppe D1'!D36","v":"15:35:00"},{"$f":"'Gruppe D1'!J36","v":"Gruppe D5"},{"$f":"'Gruppe D1'!AD36","v":"Gruppe D4"},"__:__",4]
[10,"D",{"$f":"'Gruppe D1'!D37","v":"15:45:00"},{"$f":"'Gruppe D1'!J37","v":"Gruppe D1"},{"$f":"'Gruppe D1'!AD37","v":"Gruppe D3"},"__:__",4]
[11,"D",{"$f":"'Gruppe D1'!D38","v":"15:55:00"},{"$f":"'Gruppe D1'!J38","v":"Gruppe D2"},{"$f":"'Gruppe D1'!AD38","v":"Gruppe D7"},"__:__",4]
[12,"D",{"$f":"'Gruppe D1'!D39","v":"16:05:00"},{"$f":"'Gruppe D1'!J39","v":"Gruppe D6"},{"$f":"'Gruppe D1'!AD39","v":"Gruppe D8"},"__:__",4]
[13,"D",{"$f":"'Gruppe D1'!D40","v":"16:15:00"},{"$f":"'Gruppe D1'!J40","v":"Gruppe D4"},{"$f":"'Gruppe D1'!AD40","v":"Gruppe D2"},"__:__",4]
[14,"D",{"$f":"'Gruppe D1'!D41","v":"16:25:00"},{"$f":"'Gruppe D1'!J41","v":"Gruppe D7"},{"$f":"'Gruppe D1'!AD41","v":"Gruppe D5"},"__:__",4]
[15,"D",{"$f":"'Gruppe D1'!D42","v":"16:35:00"},{"$f":"'Gruppe D1'!J42","v":"Gruppe D8"},{"$f":"'Gruppe D1'!AD42","v":"Gruppe D1"},"__:__",4]
[16,"D",{"$f":"'Gruppe D1'!D43","v":"16:45:00"},{"$f":"'Gruppe D1'!J43","v":"Gruppe D3"},{"$f":"'Gruppe D1'!AD43","v":"Gruppe D6"},"__:__",4]
[17,"D",{"$f":"'Gruppe D1'!D44","v":"16:55:00"},{"$f":"'Gruppe D1'!J44","v":"Gruppe D4"},{"$f":"'Gruppe D1'!AD44","v":"Gruppe D7"},"__:__",4]
[18,"D",{"$f":"'Gruppe D1'!D45","v":"17:05:00"},{"$f":"'Gruppe D1'!J45","v":"Gruppe D2"},{"$f":"'Gruppe D1'!AD45","v":"Gruppe D8"},"__:__",4]
[19,"D",{"$f":"'Gruppe D1'!D46","v":"17:15:00"},{"$f":"'Gruppe D1'!J46","v":"Gruppe D1"},{"$f":"'Gruppe D1'!AD46","v":"Gruppe D6"},"__:__",4]
[20,"D",{"$f":"'Gruppe D1'!D47","v":"17:25:00"},{"$f":"'Gruppe D1'!J47","v":"Gruppe D5"},{"$f":"'Gruppe D1'!AD47","v":"Gruppe D3"},"__:__",4]
[21,"D",{"$f":"'Gruppe D1'!D48","v":"17:35:00"},{"$f":"'Gruppe D1'!J48","v":"Gruppe D8"},{"$f":"'Gruppe D1'!AD48","v":"Gruppe D4"},"__:__",4]
[22,"D",{"$f":"'Gruppe D1'!D49","v":"17:45:00"},{"$f":"'Gruppe D1'!J49","v":"Gruppe D6"},{"$f":"'Gruppe D1'!AD49","v":"Gruppe D2"},"__:__",4]
[23,"D",{"$f":"'Gruppe D1'!D50","v":"17:55:00"},{"$f":"'Gruppe D1'!J50","v":"Gruppe D7"},{"$f":"'Gruppe D1'!AD50","v":"Gruppe D3"},"__:__",4]
[24,"D",{"$f":"'Gruppe D1'!D51","v":"18:05:00"},{"$f":"'Gruppe D1'!J51","v":"Gruppe D5"},{"$f":"'Gruppe D1'!AD51","v":"Gruppe D1"},"__:__",4]
[25,"D",{"$f":"'Gruppe D1'!D52","v":"18:15:00"},{"$f":"'Gruppe D1'!J52","v":"Gruppe D4"},{"$f":"'Gruppe D1'!AD52","v":"Gruppe D6"},"__:__",4]
[26,"D",{"$f":"'Gruppe D1'!D53","v":"18:25:00"},{"$f":"'Gruppe D1'!J53","v":"Gruppe D3"},{"$f":"'Gruppe D1'!AD53","v":"Gruppe D8"},"__:__",4]
[27,"D",{"$f":"'Gruppe D1'!D54","v":"18:35:00"},{"$f":"'Gruppe D1'!J54","v":"Gruppe D2"},{"$f":"'Gruppe D1'!AD54","v":"Gruppe D5"},"__:__",4]
[28,"D",{"$f":"'Gruppe D1'!D55","v":"18:45:00"},{"$f":"'Gruppe D1'!J55","v":"Gruppe D1"},{"$f":"'Gruppe D1'!AD55","v":"Gruppe D7"},"__:__",4]

{"sheet":"Lauf GE","index":35,"n_rows":28,"n_cols":7,"rows_kept":28,"cut":false,"hidden":true,"merged":[]}
[1,"E",{"$f":"'Gruppe E1'!D28","v":"14:15:00"},{"$f":"'Gruppe E1'!J28","v":"Gruppe E1"},{"$f":"'Gruppe E1'!AD28","v":"Gruppe E2"},"__:__",5]
[2,"E",{"$f":"'Gruppe E1'!D29","v":"14:25:00"},{"$f":"'Gruppe E1'!J29","v":"Gruppe E3"},{"$f":"'Gruppe E1'!AD29","v":"Gruppe E4"},"__:__",5]
[3,"E",{"$f":"'Gruppe E1'!D30","v":"14:35:00"},{"$f":"'Gruppe E1'!J30","v":"Gruppe E5"},{"$f":"'Gruppe E1'!AD30","v":"Gruppe E6"},"__:__",5]
[4,"E",{"$f":"'Gruppe E1'!D31","v":"14:45:00"},{"$f":"'Gruppe E1'!J31","v":"Gruppe E7"},{"$f":"'Gruppe E1'!AD31","v":"Gruppe E8"},"__:__",5]
[5,"E",{"$f":"'Gruppe E1'!D32","v":"14:55:00"},{"$f":"'Gruppe E1'!J32","v":"Gruppe E4"},{"$f":"'Gruppe E1'!AD32","v":"Gruppe E1"},"__:__",5]
[6,"E",{"$f":"'Gruppe E1'!D33","v":"15:05:00"},{"$f":"'Gruppe E1'!J33","v":"Gruppe E2"},{"$f":"'Gruppe E1'!AD33","v":"Gruppe E3"},"__:__",5]
[7,"E",{"$f":"'Gruppe E1'!D34","v":"15:15:00"},{"$f":"'Gruppe E1'!J34","v":"Gruppe E8"},{"$f":"'Gruppe E1'!AD34","v":"Gruppe E5"},"__:__",5]
[8,"E",{"$f":"'Gruppe E1'!D35","v":"15:25:00"},{"$f":"'Gruppe E1'!J35","v":"Gruppe E6"},{"$f":"'Gruppe E1'!AD35","v":"Gruppe E7"},"__:__",5]
[9,"E",{"$f":"'Gruppe E1'!D36","v":"15:35:00"},{"$f":"'Gruppe E1'!J36","v":"Gruppe E5"},{"$f":"'Gruppe E1'!AD36","v":"Gruppe E4"},"__:__",5]
[10,"E",{"$f":"'Gruppe E1'!D37","v":"15:45:00"},{"$f":"'Gruppe E1'!J37","v":"Gruppe E1"},{"$f":"'Gruppe E1'!AD37","v":"Gruppe E3"},"__:__",5]
[11,"E",{"$f":"'Gruppe E1'!D38","v":"15:55:00"},{"$f":"'Gruppe E1'!J38","v":"Gruppe E2"},{"$f":"'Gruppe E1'!AD38","v":"Gruppe E7"},"__:__",5]
[12,"E",{"$f":"'Gruppe E1'!D39","v":"16:05:00"},{"$f":"'Gruppe E1'!J39","v":"Gruppe E6"},{"$f":"'Gruppe E1'!AD39","v":"Gruppe E8"},"__:__",5]
[13,"E",{"$f":"'Gruppe E1'!D40","v":"16:15:00"},{"$f":"'Gruppe E1'!J40","v":"Gruppe E4"},{"$f":"'Gruppe E1'!AD40","v":"Gruppe E2"},"__:__",5]
[14,"E",{"$f":"'Gruppe E1'!D41","v":"16:25:00"},{"$f":"'Gruppe E1'!J41","v":"Gruppe E7"},{"$f":"'Gruppe E1'!AD41","v":"Gruppe E5"},"__:__",5]
[15,"E",{"$f":"'Gruppe E1'!D42","v":"16:35:00"},{"$f":"'Gruppe E1'!J42","v":"Gruppe E8"},{"$f":"'Gruppe E1'!AD42","v":"Gruppe E1"},"__:__",5]
[16,"E",{"$f":"'Gruppe E1'!D43","v":"16:45:00"},{"$f":"'Gruppe E1'!J43","v":"Gruppe E3"},{"$f":"'Gruppe E1'!AD43","v":"Gruppe E6"},"__:__",5]
[17,"E",{"$f":"'Gruppe E1'!D44","v":"16:55:00"},{"$f":"'Gruppe E1'!J44","v":"Gruppe E4"},{"$f":"'Gruppe E1'!AD44","v":"Gruppe E7"},"__:__",5]
[18,"E",{"$f":"'Gruppe E1'!D45","v":"17:05:00"},{"$f":"'Gruppe E1'!J45","v":"Gruppe E2"},{"$f":"'Gruppe E1'!AD45","v":"Gruppe E8"},"__:__",5]
[19,"E",{"$f":"'Gruppe E1'!D46","v":"17:15:00"},{"$f":"'Gruppe E1'!J46","v":"Gruppe E1"},{"$f":"'Gruppe E1'!AD46","v":"Gruppe E6"},"__:__",5]
[20,"E",{"$f":"'Gruppe E1'!D47","v":"17:25:00"},{"$f":"'Gruppe E1'!J47","v":"Gruppe E5"},{"$f":"'Gruppe E1'!AD47","v":"Gruppe E3"},"__:__",5]
[21,"E",{"$f":"'Gruppe E1'!D48","v":"17:35:00"},{"$f":"'Gruppe E1'!J48","v":"Gruppe E8"},{"$f":"'Gruppe E1'!AD48","v":"Gruppe E4"},"__:__",5]
[22,"E",{"$f":"'Gruppe E1'!D49","v":"17:45:00"},{"$f":"'Gruppe E1'!J49","v":"Gruppe E6"},{"$f":"'Gruppe E1'!AD49","v":"Gruppe E2"},"__:__",5]
[23,"E",{"$f":"'Gruppe E1'!D50","v":"17:55:00"},{"$f":"'Gruppe E1'!J50","v":"Gruppe E7"},{"$f":"'Gruppe E1'!AD50","v":"Gruppe E3"},"__:__",5]
[24,"E",{"$f":"'Gruppe E1'!D51","v":"18:05:00"},{"$f":"'Gruppe E1'!J51","v":"Gruppe E5"},{"$f":"'Gruppe E1'!AD51","v":"Gruppe E1"},"__:__",5]
[25,"E",{"$f":"'Gruppe E1'!D52","v":"18:15:00"},{"$f":"'Gruppe E1'!J52","v":"Gruppe E4"},{"$f":"'Gruppe E1'!AD52","v":"Gruppe E6"},"__:__",5]
[26,"E",{"$f":"'Gruppe E1'!D53","v":"18:25:00"},{"$f":"'Gruppe E1'!J53","v":"Gruppe E3"},{"$f":"'Gruppe E1'!AD53","v":"Gruppe E8"},"__:__",5]
[27,"E",{"$f":"'Gruppe E1'!D54","v":"18:35:00"},{"$f":"'Gruppe E1'!J54","v":"Gruppe E2"},{"$f":"'Gruppe E1'!AD54","v":"Gruppe E5"},"__:__",5]
[28,"E",{"$f":"'Gruppe E1'!D55","v":"18:45:00"},{"$f":"'Gruppe E1'!J55","v":"Gruppe E1"},{"$f":"'Gruppe E1'!AD55","v":"Gruppe E7"},"__:__",5]

{"sheet":"Lauf GF","index":36,"n_rows":28,"n_cols":7,"rows_kept":28,"cut":false,"hidden":true,"merged":[]}
[1,"F",{"$f":"'Gruppe F1'!D28","v":"14:15:00"},{"$f":"'Gruppe F1'!J28","v":"Gruppe F1"},{"$f":"'Gruppe F1'!AD28","v":"Gruppe F2"},"__:__",6]
[2,"F",{"$f":"'Gruppe F1'!D29","v":"14:25:00"},{"$f":"'Gruppe F1'!J29","v":"Gruppe F3"},{"$f":"'Gruppe F1'!AD29","v":"Gruppe F4"},"__:__",6]
[3,"F",{"$f":"'Gruppe F1'!D30","v":"14:35:00"},{"$f":"'Gruppe F1'!J30","v":"Gruppe F5"},{"$f":"'Gruppe F1'!AD30","v":"Gruppe F6"},"__:__",6]
[4,"F",{"$f":"'Gruppe F1'!D31","v":"14:45:00"},{"$f":"'Gruppe F1'!J31","v":"Gruppe F7"},{"$f":"'Gruppe F1'!AD31","v":"Gruppe F8"},"__:__",6]
[5,"F",{"$f":"'Gruppe F1'!D32","v":"14:55:00"},{"$f":"'Gruppe F1'!J32","v":"Gruppe F4"},{"$f":"'Gruppe F1'!AD32","v":"Gruppe F1"},"__:__",6]
[6,"F",{"$f":"'Gruppe F1'!D33","v":"15:05:00"},{"$f":"'Gruppe F1'!J33","v":"Gruppe F2"},{"$f":"'Gruppe F1'!AD33","v":"Gruppe F3"},"__:__",6]
[7,"F",{"$f":"'Gruppe F1'!D34","v":"15:15:00"},{"$f":"'Gruppe F1'!J34","v":"Gruppe F8"},{"$f":"'Gruppe F1'!AD34","v":"Gruppe F5"},"__:__",6]
[8,"F",{"$f":"'Gruppe F1'!D35","v":"15:25:00"},{"$f":"'Gruppe F1'!J35","v":"Gruppe F6"},{"$f":"'Gruppe F1'!AD35","v":"Gruppe F7"},"__:__",6]
[9,"F",{"$f":"'Gruppe F1'!D36","v":"15:35:00"},{"$f":"'Gruppe F1'!J36","v":"Gruppe F5"},{"$f":"'Gruppe F1'!AD36","v":"Gruppe F4"},"__:__",6]
[10,"F",{"$f":"'Gruppe F1'!D37","v":"15:45:00"},{"$f":"'Gruppe F1'!J37","v":"Gruppe F1"},{"$f":"'Gruppe F1'!AD37","v":"Gruppe F3"},"__:__",6]
[11,"F",{"$f":"'Gruppe F1'!D38","v":"15:55:00"},{"$f":"'Gruppe F1'!J38","v":"Gruppe F2"},{"$f":"'Gruppe F1'!AD38","v":"Gruppe F7"},"__:__",6]
[12,"F",{"$f":"'Gruppe F1'!D39","v":"16:05:00"},{"$f":"'Gruppe F1'!J39","v":"Gruppe F6"},{"$f":"'Gruppe F1'!AD39","v":"Gruppe F8"},"__:__",6]
[13,"F",{"$f":"'Gruppe F1'!D40","v":"16:15:00"},{"$f":"'Gruppe F1'!J40","v":"Gruppe F4"},{"$f":"'Gruppe F1'!AD40","v":"Gruppe F2"},"__:__",6]
[14,"F",{"$f":"'Gruppe F1'!D41","v":"16:25:00"},{"$f":"'Gruppe F1'!J41","v":"Gruppe F7"},{"$f":"'Gruppe F1'!AD41","v":"Gruppe F5"},"__:__",6]
[15,"F",{"$f":"'Gruppe F1'!D42","v":"16:35:00"},{"$f":"'Gruppe F1'!J42","v":"Gruppe F8"},{"$f":"'Gruppe F1'!AD42","v":"Gruppe F1"},"__:__",6]
[16,"F",{"$f":"'Gruppe F1'!D43","v":"16:45:00"},{"$f":"'Gruppe F1'!J43","v":"Gruppe F3"},{"$f":"'Gruppe F1'!AD43","v":"Gruppe F6"},"__:__",6]
[17,"F",{"$f":"'Gruppe F1'!D44","v":"16:55:00"},{"$f":"'Gruppe F1'!J44","v":"Gruppe F4"},{"$f":"'Gruppe F1'!AD44","v":"Gruppe F7"},"__:__",6]
[18,"F",{"$f":"'Gruppe F1'!D45","v":"17:05:00"},{"$f":"'Gruppe F1'!J45","v":"Gruppe F2"},{"$f":"'Gruppe F1'!AD45","v":"Gruppe F8"},"__:__",6]
[19,"F",{"$f":"'Gruppe F1'!D46","v":"17:15:00"},{"$f":"'Gruppe F1'!J46","v":"Gruppe F1"},{"$f":"'Gruppe F1'!AD46","v":"Gruppe F6"},"__:__",6]
[20,"F",{"$f":"'Gruppe F1'!D47","v":"17:25:00"},{"$f":"'Gruppe F1'!J47","v":"Gruppe F5"},{"$f":"'Gruppe F1'!AD47","v":"Gruppe F3"},"__:__",6]
[21,"F",{"$f":"'Gruppe F1'!D48","v":"17:35:00"},{"$f":"'Gruppe F1'!J48","v":"Gruppe F8"},{"$f":"'Gruppe F1'!AD48","v":"Gruppe F4"},"__:__",6]
[22,"F",{"$f":"'Gruppe F1'!D49","v":"17:45:00"},{"$f":"'Gruppe F1'!J49","v":"Gruppe F6"},{"$f":"'Gruppe F1'!AD49","v":"Gruppe F2"},"__:__",6]
[23,"F",{"$f":"'Gruppe F1'!D50","v":"17:55:00"},{"$f":"'Gruppe F1'!J50","v":"Gruppe F7"},{"$f":"'Gruppe F1'!AD50","v":"Gruppe F3"},"__:__",6]
[24,"F",{"$f":"'Gruppe F1'!D51","v":"18:05:00"},{"$f":"'Gruppe F1'!J51","v":"Gruppe F5"},{"$f":"'Gruppe F1'!AD51","v":"Gruppe F1"},"__:__",6]
[25,"F",{"$f":"'Gruppe F1'!D52","v":"18:15:00"},{"$f":"'Gruppe F1'!J52","v":"Gruppe F4"},{"$f":"'Gruppe F1'!AD52","v":"Gruppe F6"},"__:__",6]
[26,"F",{"$f":"'Gruppe F1'!D53","v":"18:25:00"},{"$f":"'Gruppe F1'!J53","v":"Gruppe F3"},{"$f":"'Gruppe F1'!AD53","v":"Gruppe F8"},"__:__",6]
[27,"F",{"$f":"'Gruppe F1'!D54","v":"18:35:00"},{"$f":"'Gruppe F1'!J54","v":"Gruppe F2"},{"$f":"'Gruppe F1'!AD54","v":"Gruppe F5"},"__:__",6]
[28,"F",{"$f":"'Gruppe F1'!D55","v":"18:45:00"},{"$f":"'Gruppe F1'!J55","v":"Gruppe F1"},{"$f":"'Gruppe F1'!AD55","v":"Gruppe F7"},"__:__",6]

{"sheet":"Spiele VR1","index":37,"n_rows":84,"n_cols":18,"rows_kept":84,"cut":false,"hidden":true,"merged":[]}
[{"$f":"'Lauf GA'!A$1","v":1},{"$f":"'Lauf GA'!B$1","v":"A"},{"$f":"'Lauf GA'!C$1","v":"14:15:00"},{"$f":"'Lauf GA'!D$1","v":"Gruppe A1"},":",{"$f":"'Lauf GA'!E$1","v":"Gruppe A2"},"__",":","__",{"$f":"'Lauf GA'!A$15","v":15},{"$f":"'Lauf GA'!B$15","v":"A"},{"$f":"'Lauf GA'!C$15","v":"16:35:00"},{"$f":"'Lauf GA'!D$15","v":"Gruppe A8"},":",{"$f":"'Lauf GA'!E$15","v":"Gruppe A1"},"__",":","__"]
[{"$f":"'Lauf GB'!A$1","v":1},{"$f":"'Lauf GB'!B$1","v":"B"},{"$f":"'Lauf GB'!C$1","v":"14:15:00"},{"$f":"'Lauf GB'!D$1","v":"Gruppe B1"},":",{"$f":"'Lauf GB'!E$1","v":"Gruppe B2"},"__",":","__",{"$f":"'Lauf GB'!A$15","v":15},{"$f":"'Lauf GB'!B$15","v":"B"},{"$f":"'Lauf GB'!C$15","v":"16:35:00"},{"$f":"'Lauf GB'!D$15","v":"Gruppe B8"},":",{"$f":"'Lauf GB'!E$15","v":"Gruppe B1"},"__",":","__"]
[{"$f":"'Lauf GC'!A$1","v":1},{"$f":"'Lauf GC'!B$1","v":"C"},{"$f":"'Lauf GC'!C$1","v":"14:15:00"},{"$f":"'Lauf GC'!D$1","v":"Gruppe C1"},":",{"$f":"'Lauf GC'!E$1","v":"Gruppe C2"},"__",":","__",{"$f":"'Lauf GC'!A$15","v":15},{"$f":"'Lauf GC'!B$15","v":"C"},{"$f":"'Lauf GC'!C$15","v":"16:35:00"},{"$f":"'Lauf GC'!D$15","v":"Gruppe C8"},":",{"$f":"'Lauf GC'!E$15","v":"Gruppe C1"},"__",":","__"]
[{"$f":"'Lauf GD'!A$1","v":1},{"$f":"'Lauf GD'!B$1","v":"D"},{"$f":"'Lauf GD'!C$1","v":"14:15:00"},{"$f":"'Lauf GD'!D$1","v":"Gruppe D1"},":",{"$f":"'Lauf GD'!E$1","v":"Gruppe D2"},"__",":","__",{"$f":"'Lauf GD'!A$15","v":15},{"$f":"'Lauf GD'!B$15","v":"D"},{"$f":"'Lauf GD'!C$15","v":"16:35:00"},{"$f":"'Lauf GD'!D$15","v":"Gruppe D8"},":",{"$f":"'Lauf GD'!E$15","v":"Gruppe D1"},"__",":","__"]
[{"$f":"'Lauf GE'!A$1","v":1},{"$f":"'Lauf GE'!B$1","v":"E"},{"$f":"'Lauf GE'!C$1","v":"14:15:00"},{"$f":"'Lauf GE'!D$1","v":"Gruppe E1"},":",{"$f":"'Lauf GE'!E$1","v":"Gruppe E2"},"__",":","__",{"$f":"'Lauf GE'!A$15","v":15},{"$f":"'Lauf GE'!B$15","v":"E"},{"$f":"'Lauf GE'!C$15","v":"16:35:00"},{"$f":"'Lauf GE'!D$15","v":"Gruppe E8"},":",{"$f":"'Lauf GE'!E$15","v":"Gruppe E1"},"__",":","__"]
[{"$f":"'Lauf GF'!A$1","v":1},{"$f":"'Lauf GF'!B$1","v":"F"},{"$f":"'Lauf GF'!C$1","v":"14:15:00"},{"$f":"'Lauf GF'!D$1","v":"Gruppe F1"},":",{"$f":"'Lauf GF'!E$1","v":"Gruppe F2"},"__",":","__",{"$f":"'Lauf GF'!A$15","v":15},{"$f":"'Lauf GF'!B$15","v":"F"},{"$f":"'Lauf GF'!C$15","v":"16:35:00"},{"$f":"'Lauf GF'!D$15","v":"Gruppe F8"},":",{"$f":"'Lauf GF'!E$15","v":"Gruppe F1"},"__",":","__"]
[{"$f":"'Lauf GA'!A$2","v":2},{"$f":"'Lauf GA'!B$2","v":"A"},{"$f":"'Lauf GA'!C$2","v":"14:25:00"},{"$f":"'Lauf GA'!D$2","v":"Gruppe A3"},":",{"$f":"'Lauf GA'!E$2","v":"Gruppe A4"},"__",":","__",{"$f":"'Lauf GA'!A$16","v":16},{"$f":"'Lauf GA'!B$16","v":"A"},{"$f":"'Lauf GA'!C$16","v":"16:45:00"},{"$f":"'Lauf GA'!D$16","v":"Gruppe A3"},":",{"$f":"'Lauf GA'!E$16","v":"Gruppe A6"},"__",":","__"]
[{"$f":"'Lauf GB'!A$2","v":2},{"$f":"'Lauf GB'!B$2","v":"B"},{"$f":"'Lauf GB'!C$2","v":"14:25:00"},{"$f":"'Lauf GB'!D$2","v":"Gruppe B3"},":",{"$f":"'Lauf GB'!E$2","v":"Gruppe B4"},"__",":","__",{"$f":"'Lauf GB'!A$16","v":16},{"$f":"'Lauf GB'!B$16","v":"B"},{"$f":"'Lauf GB'!C$16","v":"16:45:00"},{"$f":"'Lauf GB'!D$16","v":"Gruppe B3"},":",{"$f":"'Lauf GB'!E$16","v":"Gruppe B6"},"__",":","__"]
[{"$f":"'Lauf GC'!A$2","v":2},{"$f":"'Lauf GC'!B$2","v":"C"},{"$f":"'Lauf GC'!C$2","v":"14:25:00"},{"$f":"'Lauf GC'!D$2","v":"Gruppe C3"},":",{"$f":"'Lauf GC'!E$2","v":"Gruppe C4"},"__",":","__",{"$f":"'Lauf GC'!A$16","v":16},{"$f":"'Lauf GC'!B$16","v":"C"},{"$f":"'Lauf GC'!C$16","v":"16:45:00"},{"$f":"'Lauf GC'!D$16","v":"Gruppe C3"},":",{"$f":"'Lauf GC'!E$16","v":"Gruppe C6"},"__",":","__"]
[{"$f":"'Lauf GD'!A$2","v":2},{"$f":"'Lauf GD'!B$2","v":"D"},{"$f":"'Lauf GD'!C$2","v":"14:25:00"},{"$f":"'Lauf GD'!D$2","v":"Gruppe D3"},":",{"$f":"'Lauf GD'!E$2","v":"Gruppe D4"},"__",":","__",{"$f":"'Lauf GD'!A$16","v":16},{"$f":"'Lauf GD'!B$16","v":"D"},{"$f":"'Lauf GD'!C$16","v":"16:45:00"},{"$f":"'Lauf GD'!D$16","v":"Gruppe D3"},":",{"$f":"'Lauf GD'!E$16","v":"Gruppe D6"},"__",":","__"]
[{"$f":"'Lauf GE'!A$2","v":2},{"$f":"'Lauf GE'!B$2","v":"E"},{"$f":"'Lauf GE'!C$2","v":"14:25:00"},{"$f":"'Lauf GE'!D$2","v":"Gruppe E3"},":",{"$f":"'Lauf GE'!E$2","v":"Gruppe E4"},"__",":","__",{"$f":"'Lauf GE'!A$16","v":16},{"$f":"'Lauf GE'!B$16","v":"E"},{"$f":"'Lauf GE'!C$16","v":"16:45:00"},{"$f":"'Lauf GE'!D$16","v":"Gruppe E3"},":",{"$f":"'Lauf GE'!E$16","v":"Gruppe E6"},"__",":","__"]
[{"$f":"'Lauf GF'!A$2","v":2},{"$f":"'Lauf GF'!B$2","v":"F"},{"$f":"'Lauf GF'!C$2","v":"14:25:00"},{"$f":"'Lauf GF'!D$2","v":"Gruppe F3"},":",{"$f":"'Lauf GF'!E$2","v":"Gruppe F4"},"__",":","__",{"$f":"'Lauf GF'!A$16","v":16},{"$f":"'Lauf GF'!B$16","v":"F"},{"$f":"'Lauf GF'!C$16","v":"16:45:00"},{"$f":"'Lauf GF'!D$16","v":"Gruppe F3"},":",{"$f":"'Lauf GF'!E$16","v":"Gruppe F6"},"__",":","__"]
[{"$f":"'Lauf GA'!A$3","v":3},{"$f":"'Lauf GA'!B$3","v":"A"},{"$f":"'Lauf GA'!C$3","v":"14:35:00"},{"$f":"'Lauf GA'!D$3","v":"Gruppe A5"},":",{"$f":"'Lauf GA'!E$3","v":"Gruppe A6"},"__",":","__",{"$f":"'Lauf GA'!A$17","v":17},{"$f":"'Lauf GA'!B$17","v":"A"},{"$f":"'Lauf GA'!C$17","v":"16:55:00"},{"$f":"'Lauf GA'!D$17","v":"Gruppe A4"},":",{"$f":"'Lauf GA'!E$17","v":"Gruppe A7"},"__",":","__"]
[{"$f":"'Lauf GB'!A$3","v":3},{"$f":"'Lauf GB'!B$3","v":"B"},{"$f":"'Lauf GB'!C$3","v":"14:35:00"},{"$f":"'Lauf GB'!D$3","v":"Gruppe B5"},":",{"$f":"'Lauf GB'!E$3","v":"Gruppe B6"},"__",":","__",{"$f":"'Lauf GB'!A$17","v":17},{"$f":"'Lauf GB'!B$17","v":"B"},{"$f":"'Lauf GB'!C$17","v":"16:55:00"},{"$f":"'Lauf GB'!D$17","v":"Gruppe B4"},":",{"$f":"'Lauf GB'!E$17","v":"Gruppe B7"},"__",":","__"]
[{"$f":"'Lauf GC'!A$3","v":3},{"$f":"'Lauf GC'!B$3","v":"C"},{"$f":"'Lauf GC'!C$3","v":"14:35:00"},{"$f":"'Lauf GC'!D$3","v":"Gruppe C5"},":",{"$f":"'Lauf GC'!E$3","v":"Gruppe C6"},"__",":","__",{"$f":"'Lauf GC'!A$17","v":17},{"$f":"'Lauf GC'!B$17","v":"C"},{"$f":"'Lauf GC'!C$17","v":"16:55:00"},{"$f":"'Lauf GC'!D$17","v":"Gruppe C4"},":",{"$f":"'Lauf GC'!E$17","v":"Gruppe C7"},"__",":","__"]
[{"$f":"'Lauf GD'!A$3","v":3},{"$f":"'Lauf GD'!B$3","v":"D"},{"$f":"'Lauf GD'!C$3","v":"14:35:00"},{"$f":"'Lauf GD'!D$3","v":"Gruppe D5"},":",{"$f":"'Lauf GD'!E$3","v":"Gruppe D6"},"__",":","__",{"$f":"'Lauf GD'!A$17","v":17},{"$f":"'Lauf GD'!B$17","v":"D"},{"$f":"'Lauf GD'!C$17","v":"16:55:00"},{"$f":"'Lauf GD'!D$17","v":"Gruppe D4"},":",{"$f":"'Lauf GD'!E$17","v":"Gruppe D7"},"__",":","__"]
[{"$f":"'Lauf GE'!A$3","v":3},{"$f":"'Lauf GE'!B$3","v":"E"},{"$f":"'Lauf GE'!C$3","v":"14:35:00"},{"$f":"'Lauf GE'!D$3","v":"Gruppe E5"},":",{"$f":"'Lauf GE'!E$3","v":"Gruppe E6"},"__",":","__",{"$f":"'Lauf GE'!A$17","v":17},{"$f":"'Lauf GE'!B$17","v":"E"},{"$f":"'Lauf GE'!C$17","v":"16:55:00"},{"$f":"'Lauf GE'!D$17","v":"Gruppe E4"},":",{"$f":"'Lauf GE'!E$17","v":"Gruppe E7"},"__",":","__"]
[{"$f":"'Lauf GF'!A$3","v":3},{"$f":"'Lauf GF'!B$3","v":"F"},{"$f":"'Lauf GF'!C$3","v":"14:35:00"},{"$f":"'Lauf GF'!D$3","v":"Gruppe F5"},":",{"$f":"'Lauf GF'!E$3","v":"Gruppe F6"},"__",":","__",{"$f":"'Lauf GF'!A$17","v":17},{"$f":"'Lauf GF'!B$17","v":"F"},{"$f":"'Lauf GF'!C$17","v":"16:55:00"},{"$f":"'Lauf GF'!D$17","v":"Gruppe F4"},":",{"$f":"'Lauf GF'!E$17","v":"Gruppe F7"},"__",":","__"]
[{"$f":"'Lauf GA'!A$4","v":4},{"$f":"'Lauf GA'!B$4","v":"A"},{"$f":"'Lauf GA'!C$4","v":"14:45:00"},{"$f":"'Lauf GA'!D$4","v":"Gruppe A7"},":",{"$f":"'Lauf GA'!E$4","v":"Gruppe A8"},"__",":","__",{"$f":"'Lauf GA'!A$18","v":18},{"$f":"'Lauf GA'!B$18","v":"A"},{"$f":"'Lauf GA'!C$18","v":"17:05:00"},{"$f":"'Lauf GA'!D$18","v":"Gruppe A2"},":",{"$f":"'Lauf GA'!E$18","v":"Gruppe A8"},"__",":","__"]
[{"$f":"'Lauf GB'!A$4","v":4},{"$f":"'Lauf GB'!B$4","v":"B"},{"$f":"'Lauf GB'!C$4","v":"14:45:00"},{"$f":"'Lauf GB'!D$4","v":"Gruppe B7"},":",{"$f":"'Lauf GB'!E$4","v":"Gruppe B8"},"__",":","__",{"$f":"'Lauf GB'!A$18","v":18},{"$f":"'Lauf GB'!B$18","v":"B"},{"$f":"'Lauf GB'!C$18","v":"17:05:00"},{"$f":"'Lauf GB'!D$18","v":"Gruppe B2"},":",{"$f":"'Lauf GB'!E$18","v":"Gruppe B8"},"__",":","__"]
[{"$f":"'Lauf GC'!A$4","v":4},{"$f":"'Lauf GC'!B$4","v":"C"},{"$f":"'Lauf GC'!C$4","v":"14:45:00"},{"$f":"'Lauf GC'!D$4","v":"Gruppe C7"},":",{"$f":"'Lauf GC'!E$4","v":"Gruppe C8"},"__",":","__",{"$f":"'Lauf GC'!A$18","v":18},{"$f":"'Lauf GC'!B$18","v":"C"},{"$f":"'Lauf GC'!C$18","v":"17:05:00"},{"$f":"'Lauf GC'!D$18","v":"Gruppe C2"},":",{"$f":"'Lauf GC'!E$18","v":"Gruppe C8"},"__",":","__"]
[{"$f":"'Lauf GD'!A$4","v":4},{"$f":"'Lauf GD'!B$4","v":"D"},{"$f":"'Lauf GD'!C$4","v":"14:45:00"},{"$f":"'Lauf GD'!D$4","v":"Gruppe D7"},":",{"$f":"'Lauf GD'!E$4","v":"Gruppe D8"},"__",":","__",{"$f":"'Lauf GD'!A$18","v":18},{"$f":"'Lauf GD'!B$18","v":"D"},{"$f":"'Lauf GD'!C$18","v":"17:05:00"},{"$f":"'Lauf GD'!D$18","v":"Gruppe D2"},":",{"$f":"'Lauf GD'!E$18","v":"Gruppe D8"},"__",":","__"]
[{"$f":"'Lauf GE'!A$4","v":4},{"$f":"'Lauf GE'!B$4","v":"E"},{"$f":"'Lauf GE'!C$4","v":"14:45:00"},{"$f":"'Lauf GE'!D$4","v":"Gruppe E7"},":",{"$f":"'Lauf GE'!E$4","v":"Gruppe E8"},"__",":","__",{"$f":"'Lauf GE'!A$18","v":18},{"$f":"'Lauf GE'!B$18","v":"E"},{"$f":"'Lauf GE'!C$18","v":"17:05:00"},{"$f":"'Lauf GE'!D$18","v":"Gruppe E2"},":",{"$f":"'Lauf GE'!E$18","v":"Gruppe E8"},"__",":","__"]
[{"$f":"'Lauf GF'!A$4","v":4},{"$f":"'Lauf GF'!B$4","v":"F"},{"$f":"'Lauf GF'!C$4","v":"14:45:00"},{"$f":"'Lauf GF'!D$4","v":"Gruppe F7"},":",{"$f":"'Lauf GF'!E$4","v":"Gruppe F8"},"__",":","__",{"$f":"'Lauf GF'!A$18","v":18},{"$f":"'Lauf GF'!B$18","v":"F"},{"$f":"'Lauf GF'!C$18","v":"17:05:00"},{"$f":"'Lauf GF'!D$18","v":"Gruppe F2"},":",{"$f":"'Lauf GF'!E$18","v":"Gruppe F8"},"__",":","__"]
[{"$f":"'Lauf GA'!A$5","v":5},{"$f":"'Lauf GA'!B$5","v":"A"},{"$f":"'Lauf GA'!C$5","v":"14:55:00"},{"$f":"'Lauf GA'!D$5","v":"Gruppe A4"},":",{"$f":"'Lauf GA'!E$5","v":"Gruppe A1"},"__",":","__",{"$f":"'Lauf GA'!A$19","v":19},{"$f":"'Lauf GA'!B$19","v":"A"},{"$f":"'Lauf GA'!C$19","v":"17:15:00"},{"$f":"'Lauf GA'!D$19","v":"Gruppe A1"},":",{"$f":"'Lauf GA'!E$19","v":"Gruppe A6"},"__",":","__"]
[{"$f":"'Lauf GB'!A$5","v":5},{"$f":"'Lauf GB'!B$5","v":"B"},{"$f":"'Lauf GB'!C$5","v":"14:55:00"},{"$f":"'Lauf GB'!D$5","v":"Gruppe B4"},":",{"$f":"'Lauf GB'!E$5","v":"Gruppe B1"},"__",":","__",{"$f":"'Lauf GB'!A$19","v":19},{"$f":"'Lauf GB'!B$19","v":"B"},{"$f":"'Lauf GB'!C$19","v":"17:15:00"},{"$f":"'Lauf GB'!D$19","v":"Gruppe B1"},":",{"$f":"'Lauf GB'!E$19","v":"Gruppe B6"},"__",":","__"]
[{"$f":"'Lauf GC'!A$5","v":5},{"$f":"'Lauf GC'!B$5","v":"C"},{"$f":"'Lauf GC'!C$5","v":"14:55:00"},{"$f":"'Lauf GC'!D$5","v":"Gruppe C4"},":",{"$f":"'Lauf GC'!E$5","v":"Gruppe C1"},"__",":","__",{"$f":"'Lauf GC'!A$19","v":19},{"$f":"'Lauf GC'!B$19","v":"C"},{"$f":"'Lauf GC'!C$19","v":"17:15:00"},{"$f":"'Lauf GC'!D$19","v":"Gruppe C1"},":",{"$f":"'Lauf GC'!E$19","v":"Gruppe C6"},"__",":","__"]
[{"$f":"'Lauf GD'!A$5","v":5},{"$f":"'Lauf GD'!B$5","v":"D"},{"$f":"'Lauf GD'!C$5","v":"14:55:00"},{"$f":"'Lauf GD'!D$5","v":"Gruppe D4"},":",{"$f":"'Lauf GD'!E$5","v":"Gruppe D1"},"__",":","__",{"$f":"'Lauf GD'!A$19","v":19},{"$f":"'Lauf GD'!B$19","v":"D"},{"$f":"'Lauf GD'!C$19","v":"17:15:00"},{"$f":"'Lauf GD'!D$19","v":"Gruppe D1"},":",{"$f":"'Lauf GD'!E$19","v":"Gruppe D6"},"__",":","__"]
[{"$f":"'Lauf GE'!A$5","v":5},{"$f":"'Lauf GE'!B$5","v":"E"},{"$f":"'Lauf GE'!C$5","v":"14:55:00"},{"$f":"'Lauf GE'!D$5","v":"Gruppe E4"},":",{"$f":"'Lauf GE'!E$5","v":"Gruppe E1"},"__",":","__",{"$f":"'Lauf GE'!A$19","v":19},{"$f":"'Lauf GE'!B$19","v":"E"},{"$f":"'Lauf GE'!C$19","v":"17:15:00"},{"$f":"'Lauf GE'!D$19","v":"Gruppe E1"},":",{"$f":"'Lauf GE'!E$19","v":"Gruppe E6"},"__",":","__"]
[{"$f":"'Lauf GF'!A$5","v":5},{"$f":"'Lauf GF'!B$5","v":"F"},{"$f":"'Lauf GF'!C$5","v":"14:55:00"},{"$f":"'Lauf GF'!D$5","v":"Gruppe F4"},":",{"$f":"'Lauf GF'!E$5","v":"Gruppe F1"},"__",":","__",{"$f":"'Lauf GF'!A$19","v":19},{"$f":"'Lauf GF'!B$19","v":"F"},{"$f":"'Lauf GF'!C$19","v":"17:15:00"},{"$f":"'Lauf GF'!D$19","v":"Gruppe F1"},":",{"$f":"'Lauf GF'!E$19","v":"Gruppe F6"},"__",":","__"]
[{"$f":"'Lauf GA'!A$6","v":6},{"$f":"'Lauf GA'!B$6","v":"A"},{"$f":"'Lauf GA'!C$6","v":"15:05:00"},{"$f":"'Lauf GA'!D$6","v":"Gruppe A2"},":",{"$f":"'Lauf GA'!E$6","v":"Gruppe A3"},"__",":","__",{"$f":"'Lauf GA'!A$20","v":20},{"$f":"'Lauf GA'!B$20","v":"A"},{"$f":"'Lauf GA'!C$20","v":"17:25:00"},{"$f":"'Lauf GA'!D$20","v":"Gruppe A5"},":",{"$f":"'Lauf GA'!E$20","v":"Gruppe A3"},"__",":","__"]
[{"$f":"'Lauf GB'!A$6","v":6},{"$f":"'Lauf GB'!B$6","v":"B"},{"$f":"'Lauf GB'!C$6","v":"15:05:00"},{"$f":"'Lauf GB'!D$6","v":"Gruppe B2"},":",{"$f":"'Lauf GB'!E$6","v":"Gruppe B3"},"__",":","__",{"$f":"'Lauf GB'!A$20","v":20},{"$f":"'Lauf GB'!B$20","v":"B"},{"$f":"'Lauf GB'!C$20","v":"17:25:00"},{"$f":"'Lauf GB'!D$20","v":"Gruppe B5"},":",{"$f":"'Lauf GB'!E$20","v":"Gruppe B3"},"__",":","__"]
[{"$f":"'Lauf GC'!A$6","v":6},{"$f":"'Lauf GC'!B$6","v":"C"},{"$f":"'Lauf GC'!C$6","v":"15:05:00"},{"$f":"'Lauf GC'!D$6","v":"Gruppe C2"},":",{"$f":"'Lauf GC'!E$6","v":"Gruppe C3"},"__",":","__",{"$f":"'Lauf GC'!A$20","v":20},{"$f":"'Lauf GC'!B$20","v":"C"},{"$f":"'Lauf GC'!C$20","v":"17:25:00"},{"$f":"'Lauf GC'!D$20","v":"Gruppe C5"},":",{"$f":"'Lauf GC'!E$20","v":"Gruppe C3"},"__",":","__"]
[{"$f":"'Lauf GD'!A$6","v":6},{"$f":"'Lauf GD'!B$6","v":"D"},{"$f":"'Lauf GD'!C$6","v":"15:05:00"},{"$f":"'Lauf GD'!D$6","v":"Gruppe D2"},":",{"$f":"'Lauf GD'!E$6","v":"Gruppe D3"},"__",":","__",{"$f":"'Lauf GD'!A$20","v":20},{"$f":"'Lauf GD'!B$20","v":"D"},{"$f":"'Lauf GD'!C$20","v":"17:25:00"},{"$f":"'Lauf GD'!D$20","v":"Gruppe D5"},":",{"$f":"'Lauf GD'!E$20","v":"Gruppe D3"},"__",":","__"]
[{"$f":"'Lauf GE'!A$6","v":6},{"$f":"'Lauf GE'!B$6","v":"E"},{"$f":"'Lauf GE'!C$6","v":"15:05:00"},{"$f":"'Lauf GE'!D$6","v":"Gruppe E2"},":",{"$f":"'Lauf GE'!E$6","v":"Gruppe E3"},"__",":","__",{"$f":"'Lauf GE'!A$20","v":20},{"$f":"'Lauf GE'!B$20","v":"E"},{"$f":"'Lauf GE'!C$20","v":"17:25:00"},{"$f":"'Lauf GE'!D$20","v":"Gruppe E5"},":",{"$f":"'Lauf GE'!E$20","v":"Gruppe E3"},"__",":","__"]
[{"$f":"'Lauf GF'!A$6","v":6},{"$f":"'Lauf GF'!B$6","v":"F"},{"$f":"'Lauf GF'!C$6","v":"15:05:00"},{"$f":"'Lauf GF'!D$6","v":"Gruppe F2"},":",{"$f":"'Lauf GF'!E$6","v":"Gruppe F3"},"__",":","__",{"$f":"'Lauf GF'!A$20","v":20},{"$f":"'Lauf GF'!B$20","v":"F"},{"$f":"'Lauf GF'!C$20","v":"17:25:00"},{"$f":"'Lauf GF'!D$20","v":"Gruppe F5"},":",{"$f":"'Lauf GF'!E$20","v":"Gruppe F3"},"__",":","__"]
[{"$f":"'Lauf GA'!A$7","v":7},{"$f":"'Lauf GA'!B$7","v":"A"},{"$f":"'Lauf GA'!C$7","v":"15:15:00"},{"$f":"'Lauf GA'!D$7","v":"Gruppe A8"},":",{"$f":"'Lauf GA'!E$7","v":"Gruppe A5"},"__",":","__",{"$f":"'Lauf GA'!A$21","v":21},{"$f":"'Lauf GA'!B$21","v":"A"},{"$f":"'Lauf GA'!C$21","v":"17:35:00"},{"$f":"'Lauf GA'!D$21","v":"Gruppe A8"},":",{"$f":"'Lauf GA'!E$21","v":"Gruppe A4"},"__",":","__"]
[{"$f":"'Lauf GB'!A$7","v":7},{"$f":"'Lauf GB'!B$7","v":"B"},{"$f":"'Lauf GB'!C$7","v":"15:15:00"},{"$f":"'Lauf GB'!D$7","v":"Gruppe B8"},":",{"$f":"'Lauf GB'!E$7","v":"Gruppe B5"},"__",":","__",{"$f":"'Lauf GB'!A$21","v":21},{"$f":"'Lauf GB'!B$21","v":"B"},{"$f":"'Lauf GB'!C$21","v":"17:35:00"},{"$f":"'Lauf GB'!D$21","v":"Gruppe B8"},":",{"$f":"'Lauf GB'!E$21","v":"Gruppe B4"},"__",":","__"]
[{"$f":"'Lauf GC'!A$7","v":7},{"$f":"'Lauf GC'!B$7","v":"C"},{"$f":"'Lauf GC'!C$7","v":"15:15:00"},{"$f":"'Lauf GC'!D$7","v":"Gruppe C8"},":",{"$f":"'Lauf GC'!E$7","v":"Gruppe C5"},"__",":","__",{"$f":"'Lauf GC'!A$21","v":21},{"$f":"'Lauf GC'!B$21","v":"C"},{"$f":"'Lauf GC'!C$21","v":"17:35:00"},{"$f":"'Lauf GC'!D$21","v":"Gruppe C8"},":",{"$f":"'Lauf GC'!E$21","v":"Gruppe C4"},"__",":","__"]
[{"$f":"'Lauf GD'!A$7","v":7},{"$f":"'Lauf GD'!B$7","v":"D"},{"$f":"'Lauf GD'!C$7","v":"15:15:00"},{"$f":"'Lauf GD'!D$7","v":"Gruppe D8"},":",{"$f":"'Lauf GD'!E$7","v":"Gruppe D5"},"__",":","__",{"$f":"'Lauf GD'!A$21","v":21},{"$f":"'Lauf GD'!B$21","v":"D"},{"$f":"'Lauf GD'!C$21","v":"17:35:00"},{"$f":"'Lauf GD'!D$21","v":"Gruppe D8"},":",{"$f":"'Lauf GD'!E$21","v":"Gruppe D4"},"__",":","__"]
[{"$f":"'Lauf GE'!A$7","v":7},{"$f":"'Lauf GE'!B$7","v":"E"},{"$f":"'Lauf GE'!C$7","v":"15:15:00"},{"$f":"'Lauf GE'!D$7","v":"Gruppe E8"},":",{"$f":"'Lauf GE'!E$7","v":"Gruppe E5"},"__",":","__",{"$f":"'Lauf GE'!A$21","v":21},{"$f":"'Lauf GE'!B$21","v":"E"},{"$f":"'Lauf GE'!C$21","v":"17:35:00"},{"$f":"'Lauf GE'!D$21","v":"Gruppe E8"},":",{"$f":"'Lauf GE'!E$21","v":"Gruppe E4"},"__",":","__"]
[{"$f":"'Lauf GF'!A$7","v":7},{"$f":"'Lauf GF'!B$7","v":"F"},{"$f":"'Lauf GF'!C$7","v":"15:15:00"},{"$f":"'Lauf GF'!D$7","v":"Gruppe F8"},":",{"$f":"'Lauf GF'!E$7","v":"Gruppe F5"},"__",":","__",{"$f":"'Lauf GF'!A$21","v":21},{"$f":"'Lauf GF'!B$21","v":"F"},{"$f":"'Lauf GF'!C$21","v":"17:35:00"},{"$f":"'Lauf GF'!D$21","v":"Gruppe F8"},":",{"$f":"'Lauf GF'!E$21","v":"Gruppe F4"},"__",":","__"]
[{"$f":"'Lauf GA'!A$8","v":8},{"$f":"'Lauf GA'!B$8","v":"A"},{"$f":"'Lauf GA'!C$8","v":"15:25:00"},{"$f":"'Lauf GA'!D$8","v":"Gruppe A6"},":",{"$f":"'Lauf GA'!E$8","v":"Gruppe A7"},"__",":","__"]
[{"$f":"'Lauf GB'!A$8","v":8},{"$f":"'Lauf GB'!B$8","v":"B"},{"$f":"'Lauf GB'!C$8","v":"15:25:00"},{"$f":"'Lauf GB'!D$8","v":"Gruppe B6"},":",{"$f":"'Lauf GB'!E$8","v":"Gruppe B7"},"__",":","__"]
[{"$f":"'Lauf GC'!A$8","v":8},{"$f":"'Lauf GC'!B$8","v":"C"},{"$f":"'Lauf GC'!C$8","v":"15:25:00"},{"$f":"'Lauf GC'!D$8","v":"Gruppe C6"},":",{"$f":"'Lauf GC'!E$8","v":"Gruppe C7"},"__",":","__"]
[{"$f":"'Lauf GD'!A$8","v":8},{"$f":"'Lauf GD'!B$8","v":"D"},{"$f":"'Lauf GD'!C$8","v":"15:25:00"},{"$f":"'Lauf GD'!D$8","v":"Gruppe D6"},":",{"$f":"'Lauf GD'!E$8","v":"Gruppe D7"},"__",":","__"]
[{"$f":"'Lauf GE'!A$8","v":8},{"$f":"'Lauf GE'!B$8","v":"E"},{"$f":"'Lauf GE'!C$8","v":"15:25:00"},{"$f":"'Lauf GE'!D$8","v":"Gruppe E6"},":",{"$f":"'Lauf GE'!E$8","v":"Gruppe E7"},"__",":","__"]
[{"$f":"'Lauf GF'!A$8","v":8},{"$f":"'Lauf GF'!B$8","v":"F"},{"$f":"'Lauf GF'!C$8","v":"15:25:00"},{"$f":"'Lauf GF'!D$8","v":"Gruppe F6"},":",{"$f":"'Lauf GF'!E$8","v":"Gruppe F7"},"__",":","__"]
[{"$f":"'Lauf GA'!A$9","v":9},{"$f":"'Lauf GA'!B$9","v":"A"},{"$f":"'Lauf GA'!C$9","v":"15:35:00"},{"$f":"'Lauf GA'!D$9","v":"Gruppe A5"},":",{"$f":"'Lauf GA'!E$9","v":"Gruppe A4"},"__",":","__"]
[{"$f":"'Lauf GB'!A$9","v":9},{"$f":"'Lauf GB'!B$9","v":"B"},{"$f":"'Lauf GB'!C$9","v":"15:35:00"},{"$f":"'Lauf GB'!D$9","v":"Gruppe B5"},":",{"$f":"'Lauf GB'!E$9","v":"Gruppe B4"},"__",":","__"]
[{"$f":"'Lauf GC'!A$9","v":9},{"$f":"'Lauf GC'!B$9","v":"C"},{"$f":"'Lauf GC'!C$9","v":"15:35:00"},{"$f":"'Lauf GC'!D$9","v":"Gruppe C5"},":",{"$f":"'Lauf GC'!E$9","v":"Gruppe C4"},"__",":","__"]
[{"$f":"'Lauf GD'!A$9","v":9},{"$f":"'Lauf GD'!B$9","v":"D"},{"$f":"'Lauf GD'!C$9","v":"15:35:00"},{"$f":"'Lauf GD'!D$9","v":"Gruppe D5"},":",{"$f":"'Lauf GD'!E$9","v":"Gruppe D4"},"__",":","__"]
[{"$f":"'Lauf GE'!A$9","v":9},{"$f":"'Lauf GE'!B$9","v":"E"},{"$f":"'Lauf GE'!C$9","v":"15:35:00"},{"$f":"'Lauf GE'!D$9","v":"Gruppe E5"},":",{"$f":"'Lauf GE'!E$9","v":"Gruppe E4"},"__",":","__"]
[{"$f":"'Lauf GF'!A$9","v":9},{"$f":"'Lauf GF'!B$9","v":"F"},{"$f":"'Lauf GF'!C$9","v":"15:35:00"},{"$f":"'Lauf GF'!D$9","v":"Gruppe F5"},":",{"$f":"'Lauf GF'!E$9","v":"Gruppe F4"},"__",":","__"]
[{"$f":"'Lauf GA'!A$10","v":10},{"$f":"'Lauf GA'!B$10","v":"A"},{"$f":"'Lauf GA'!C$10","v":"15:45:00"},{"$f":"'Lauf GA'!D$10","v":"Gruppe A1"},":",{"$f":"'Lauf GA'!E$10","v":"Gruppe A3"},"__",":","__"]
[{"$f":"'Lauf GB'!A$10","v":10},{"$f":"'Lauf GB'!B$10","v":"B"},{"$f":"'Lauf GB'!C$10","v":"15:45:00"},{"$f":"'Lauf GB'!D$10","v":"Gruppe B1"},":",{"$f":"'Lauf GB'!E$10","v":"Gruppe B3"},"__",":","__"]
[{"$f":"'Lauf GC'!A$10","v":10},{"$f":"'Lauf GC'!B$10","v":"C"},{"$f":"'Lauf GC'!C$10","v":"15:45:00"},{"$f":"'Lauf GC'!D$10","v":"Gruppe C1"},":",{"$f":"'Lauf GC'!E$10","v":"Gruppe C3"},"__",":","__"]
[{"$f":"'Lauf GD'!A$10","v":10},{"$f":"'Lauf GD'!B$10","v":"D"},{"$f":"'Lauf GD'!C$10","v":"15:45:00"},{"$f":"'Lauf GD'!D$10","v":"Gruppe D1"},":",{"$f":"'Lauf GD'!E$10","v":"Gruppe D3"},"__",":","__"]
[{"$f":"'Lauf GE'!A$10","v":10},{"$f":"'Lauf GE'!B$10","v":"E"},{"$f":"'Lauf GE'!C$10","v":"15:45:00"},{"$f":"'Lauf GE'!D$10","v":"Gruppe E1"},":",{"$f":"'Lauf GE'!E$10","v":"Gruppe E3"},"__",":","__"]
[{"$f":"'Lauf GF'!A$10","v":10},{"$f":"'Lauf GF'!B$10","v":"F"},{"$f":"'Lauf GF'!C$10","v":"15:45:00"},{"$f":"'Lauf GF'!D$10","v":"Gruppe F1"},":",{"$f":"'Lauf GF'!E$10","v":"Gruppe F3"},"__",":","__"]
[{"$f":"'Lauf GA'!A$11","v":11},{"$f":"'Lauf GA'!B$11","v":"A"},{"$f":"'Lauf GA'!C$11","v":"15:55:00"},{"$f":"'Lauf GA'!D$11","v":"Gruppe A2"},":",{"$f":"'Lauf GA'!E$11","v":"Gruppe A7"},"__",":","__"]
[{"$f":"'Lauf GB'!A$11","v":11},{"$f":"'Lauf GB'!B$11","v":"B"},{"$f":"'Lauf GB'!C$11","v":"15:55:00"},{"$f":"'Lauf GB'!D$11","v":"Gruppe B2"},":",{"$f":"'Lauf GB'!E$11","v":"Gruppe B7"},"__",":","__"]
[{"$f":"'Lauf GC'!A$11","v":11},{"$f":"'Lauf GC'!B$11","v":"C"},{"$f":"'Lauf GC'!C$11","v":"15:55:00"},{"$f":"'Lauf GC'!D$11","v":"Gruppe C2"},":",{"$f":"'Lauf GC'!E$11","v":"Gruppe C7"},"__",":","__"]
[{"$f":"'Lauf GD'!A$11","v":11},{"$f":"'Lauf GD'!B$11","v":"D"},{"$f":"'Lauf GD'!C$11","v":"15:55:00"},{"$f":"'Lauf GD'!D$11","v":"Gruppe D2"},":",{"$f":"'Lauf GD'!E$11","v":"Gruppe D7"},"__",":","__"]
[{"$f":"'Lauf GE'!A$11","v":11},{"$f":"'Lauf GE'!B$11","v":"E"},{"$f":"'Lauf GE'!C$11","v":"15:55:00"},{"$f":"'Lauf GE'!D$11","v":"Gruppe E2"},":",{"$f":"'Lauf GE'!E$11","v":"Gruppe E7"},"__",":","__"]
[{"$f":"'Lauf GF'!A$11","v":11},{"$f":"'Lauf GF'!B$11","v":"F"},{"$f":"'Lauf GF'!C$11","v":"15:55:00"},{"$f":"'Lauf GF'!D$11","v":"Gruppe F2"},":",{"$f":"'Lauf GF'!E$11","v":"Gruppe F7"},"__",":","__"]
[{"$f":"'Lauf GA'!A$12","v":12},{"$f":"'Lauf GA'!B$12","v":"A"},{"$f":"'Lauf GA'!C$12","v":"16:05:00"},{"$f":"'Lauf GA'!D$12","v":"Gruppe A6"},":",{"$f":"'Lauf GA'!E$12","v":"Gruppe A8"},"__",":","__"]
[{"$f":"'Lauf GB'!A$12","v":12},{"$f":"'Lauf GB'!B$12","v":"B"},{"$f":"'Lauf GB'!C$12","v":"16:05:00"},{"$f":"'Lauf GB'!D$12","v":"Gruppe B6"},":",{"$f":"'Lauf GB'!E$12","v":"Gruppe B8"},"__",":","__"]
[{"$f":"'Lauf GC'!A$12","v":12},{"$f":"'Lauf GC'!B$12","v":"C"},{"$f":"'Lauf GC'!C$12","v":"16:05:00"},{"$f":"'Lauf GC'!D$12","v":"Gruppe C6"},":",{"$f":"'Lauf GC'!E$12","v":"Gruppe C8"},"__",":","__"]
[{"$f":"'Lauf GD'!A$12","v":12},{"$f":"'Lauf GD'!B$12","v":"D"},{"$f":"'Lauf GD'!C$12","v":"16:05:00"},{"$f":"'Lauf GD'!D$12","v":"Gruppe D6"},":",{"$f":"'Lauf GD'!E$12","v":"Gruppe D8"},"__",":","__"]
[{"$f":"'Lauf GE'!A$12","v":12},{"$f":"'Lauf GE'!B$12","v":"E"},{"$f":"'Lauf GE'!C$12","v":"16:05:00"},{"$f":"'Lauf GE'!D$12","v":"Gruppe E6"},":",{"$f":"'Lauf GE'!E$12","v":"Gruppe E8"},"__",":","__"]
[{"$f":"'Lauf GF'!A$12","v":12},{"$f":"'Lauf GF'!B$12","v":"F"},{"$f":"'Lauf GF'!C$12","v":"16:05:00"},{"$f":"'Lauf GF'!D$12","v":"Gruppe F6"},":",{"$f":"'Lauf GF'!E$12","v":"Gruppe F8"},"__",":","__"]
[{"$f":"'Lauf GA'!A$13","v":13},{"$f":"'Lauf GA'!B$13","v":"A"},{"$f":"'Lauf GA'!C$13","v":"16:15:00"},{"$f":"'Lauf GA'!D$13","v":"Gruppe A4"},":",{"$f":"'Lauf GA'!E$13","v":"Gruppe A2"},"__",":","__"]
[{"$f":"'Lauf GB'!A$13","v":13},{"$f":"'Lauf GB'!B$13","v":"B"},{"$f":"'Lauf GB'!C$13","v":"16:15:00"},{"$f":"'Lauf GB'!D$13","v":"Gruppe B4"},":",{"$f":"'Lauf GB'!E$13","v":"Gruppe B2"},"__",":","__"]
[{"$f":"'Lauf GC'!A$13","v":13},{"$f":"'Lauf GC'!B$13","v":"C"},{"$f":"'Lauf GC'!C$13","v":"16:15:00"},{"$f":"'Lauf GC'!D$13","v":"Gruppe C4"},":",{"$f":"'Lauf GC'!E$13","v":"Gruppe C2"},"__",":","__"]
[{"$f":"'Lauf GD'!A$13","v":13},{"$f":"'Lauf GD'!B$13","v":"D"},{"$f":"'Lauf GD'!C$13","v":"16:15:00"},{"$f":"'Lauf GD'!D$13","v":"Gruppe D4"},":",{"$f":"'Lauf GD'!E$13","v":"Gruppe D2"},"__",":","__"]
[{"$f":"'Lauf GE'!A$13","v":13},{"$f":"'Lauf GE'!B$13","v":"E"},{"$f":"'Lauf GE'!C$13","v":"16:15:00"},{"$f":"'Lauf GE'!D$13","v":"Gruppe E4"},":",{"$f":"'Lauf GE'!E$13","v":"Gruppe E2"},"__",":","__"]
[{"$f":"'Lauf GF'!A$13","v":13},{"$f":"'Lauf GF'!B$13","v":"F"},{"$f":"'Lauf GF'!C$13","v":"16:15:00"},{"$f":"'Lauf GF'!D$13","v":"Gruppe F4"},":",{"$f":"'Lauf GF'!E$13","v":"Gruppe F2"},"__",":","__"]
[{"$f":"'Lauf GA'!A$14","v":14},{"$f":"'Lauf GA'!B$14","v":"A"},{"$f":"'Lauf GA'!C$14","v":"16:25:00"},{"$f":"'Lauf GA'!D$14","v":"Gruppe A7"},":",{"$f":"'Lauf GA'!E$14","v":"Gruppe A5"},"__",":","__"]
[{"$f":"'Lauf GB'!A$14","v":14},{"$f":"'Lauf GB'!B$14","v":"B"},{"$f":"'Lauf GB'!C$14","v":"16:25:00"},{"$f":"'Lauf GB'!D$14","v":"Gruppe B7"},":",{"$f":"'Lauf GB'!E$14","v":"Gruppe B5"},"__",":","__"]
[{"$f":"'Lauf GC'!A$14","v":14},{"$f":"'Lauf GC'!B$14","v":"C"},{"$f":"'Lauf GC'!C$14","v":"16:25:00"},{"$f":"'Lauf GC'!D$14","v":"Gruppe C7"},":",{"$f":"'Lauf GC'!E$14","v":"Gruppe C5"},"__",":","__"]
[{"$f":"'Lauf GD'!A$14","v":14},{"$f":"'Lauf GD'!B$14","v":"D"},{"$f":"'Lauf GD'!C$14","v":"16:25:00"},{"$f":"'Lauf GD'!D$14","v":"Gruppe D7"},":",{"$f":"'Lauf GD'!E$14","v":"Gruppe D5"},"__",":","__"]
[{"$f":"'Lauf GE'!A$14","v":14},{"$f":"'Lauf GE'!B$14","v":"E"},{"$f":"'Lauf GE'!C$14","v":"16:25:00"},{"$f":"'Lauf GE'!D$14","v":"Gruppe E7"},":",{"$f":"'Lauf GE'!E$14","v":"Gruppe E5"},"__",":","__"]
[{"$f":"'Lauf GF'!A$14","v":14},{"$f":"'Lauf GF'!B$14","v":"F"},{"$f":"'Lauf GF'!C$14","v":"16:25:00"},{"$f":"'Lauf GF'!D$14","v":"Gruppe F7"},":",{"$f":"'Lauf GF'!E$14","v":"Gruppe F5"},"__",":","__"]

{"sheet":"Lauf ZRA","index":38,"n_rows":15,"n_cols":7,"rows_kept":15,"cut":false,"hidden":true,"merged":[]}
[{"$f":"ZwRuA!B14","v":1},"ZRA",{"$f":"ZwRuA!C14","v":"08:45:00"},{"$f":"ZwRuA!E14","v":"Gruppe A7"},{"$f":"ZwRuA!J14","v":"Gruppe A4"},"__:__",{"$f":"ZwRuA!R14","v":1}]
[{"$f":"ZwRuA!B15","v":2},"ZRA",{"$f":"ZwRuA!C15","v":"08:56:00"},{"$f":"ZwRuA!E15","v":"Gruppe C5"},{"$f":"ZwRuA!J15","v":"Gruppe C8"},"__:__",{"$f":"ZwRuA!R15","v":1}]
[{"$f":"ZwRuA!B16","v":3},"ZRA",{"$f":"ZwRuA!C16","v":"09:07:00"},{"$f":"ZwRuA!E16","v":"Gruppe E2"},{"$f":"ZwRuA!J16","v":"Gruppe E3"},"__:__",{"$f":"ZwRuA!R16","v":1}]
[{"$f":"ZwRuA!B17","v":4},"ZRA",{"$f":"ZwRuA!C17","v":"09:18:00"},{"$f":"ZwRuA!E17","v":"Gruppe A4"},{"$f":"ZwRuA!J17","v":"Gruppe C5"},"__:__",{"$f":"ZwRuA!R17","v":1}]
[{"$f":"ZwRuA!B18","v":5},"ZRA",{"$f":"ZwRuA!C18","v":"09:29:00"},{"$f":"ZwRuA!E18","v":"Gruppe C8"},{"$f":"ZwRuA!J18","v":"Gruppe E2"},"__:__",{"$f":"ZwRuA!R18","v":1}]
[{"$f":"ZwRuA!B19","v":6},"ZRA",{"$f":"ZwRuA!C19","v":"09:40:00"},{"$f":"ZwRuA!E19","v":"Gruppe A7"},{"$f":"ZwRuA!J19","v":"Gruppe C5"},"__:__",{"$f":"ZwRuA!R19","v":1}]
[{"$f":"ZwRuA!B20","v":7},"ZRA",{"$f":"ZwRuA!C20","v":"09:51:00"},{"$f":"ZwRuA!E20","v":"Gruppe E2"},{"$f":"ZwRuA!J20","v":"Gruppe A4"},"__:__",{"$f":"ZwRuA!R20","v":1}]
[{"$f":"ZwRuA!B21","v":8},"ZRA",{"$f":"ZwRuA!C21","v":"10:02:00"},{"$f":"ZwRuA!E21","v":"Gruppe E3"},{"$f":"ZwRuA!J21","v":"Gruppe A7"},"__:__",{"$f":"ZwRuA!R21","v":1}]
[{"$f":"ZwRuA!B22","v":9},"ZRA",{"$f":"ZwRuA!C22","v":"10:13:00"},{"$f":"ZwRuA!E22","v":"Gruppe C5"},{"$f":"ZwRuA!J22","v":"Gruppe E2"},"__:__",{"$f":"ZwRuA!R22","v":1}]
[{"$f":"ZwRuA!B23","v":10},"ZRA",{"$f":"ZwRuA!C23","v":"10:24:00"},{"$f":"ZwRuA!E23","v":"Gruppe C8"},{"$f":"ZwRuA!J23","v":"Gruppe E3"},"__:__",{"$f":"ZwRuA!R23","v":1}]
[{"$f":"ZwRuA!B24","v":11},"ZRA",{"$f":"ZwRuA!C24","v":"10:35:00"},{"$f":"ZwRuA!E24","v":"Gruppe A7"},{"$f":"ZwRuA!J24","v":"Gruppe E2"},"__:__",{"$f":"ZwRuA!R24","v":1}]
[{"$f":"ZwRuA!B25","v":12},"ZRA",{"$f":"ZwRuA!C25","v":"10:46:00"},{"$f":"ZwRuA!E25","v":"Gruppe E3"},{"$f":"ZwRuA!J25","v":"Gruppe A4"},"__:__",{"$f":"ZwRuA!R25","v":1}]
[{"$f":"ZwRuA!B26","v":13},"ZRA",{"$f":"ZwRuA!C26","v":"10:57:00"},{"$f":"ZwRuA!E26","v":"Gruppe C8"},{"$f":"ZwRuA!J26","v":"Gruppe A7"},"__:__",{"$f":"ZwRuA!R26","v":1}]
[{"$f":"ZwRuA!B27","v":14},"ZRA",{"$f":"ZwRuA!C27","v":"11:08:00"},{"$f":"ZwRuA!E27","v":"Gruppe C5"},{"$f":"ZwRuA!J27","v":"Gruppe E3"},"__:__",{"$f":"ZwRuA!R27","v":1}]
[{"$f":"ZwRuA!B28","v":15},"ZRA",{"$f":"ZwRuA!C28","v":"11:19:00"},{"$f":"ZwRuA!E28","v":"Gruppe A4"},{"$f":"ZwRuA!J28","v":"Gruppe C8"},"__:__",{"$f":"ZwRuA!R28","v":1}]

{"sheet":"Lauf ZRB","index":39,"n_rows":15,"n_cols":7,"rows_kept":15,"cut":false,"hidden":true,"merged":[]}
[{"$f":"ZwRuB!B14","v":16},"ZRB",{"$f":"ZwRuB!C14","v":"08:45:00"},{"$f":"ZwRuB!E14","v":"Gruppe B3"},{"$f":"ZwRuB!J14","v":"Gruppe B1"},"__:__",{"$f":"ZwRuB!R14","v":2}]
[{"$f":"ZwRuB!B15","v":17},"ZRB",{"$f":"ZwRuB!C15","v":"08:56:00"},{"$f":"ZwRuB!E15","v":"Gruppe D8"},{"$f":"ZwRuB!J15","v":"Gruppe D7"},"__:__",{"$f":"ZwRuB!R15","v":2}]
[{"$f":"ZwRuB!B16","v":18},"ZRB",{"$f":"ZwRuB!C16","v":"09:07:00"},{"$f":"ZwRuB!E16","v":"Gruppe F8"},{"$f":"ZwRuB!J16","v":"Gruppe F5"},"__:__",{"$f":"ZwRuB!R16","v":2}]
[{"$f":"ZwRuB!B17","v":19},"ZRB",{"$f":"ZwRuB!C17","v":"09:18:00"},{"$f":"ZwRuB!E17","v":"Gruppe B1"},{"$f":"ZwRuB!J17","v":"Gruppe D8"},"__:__",{"$f":"ZwRuB!R17","v":2}]
[{"$f":"ZwRuB!B18","v":20},"ZRB",{"$f":"ZwRuB!C18","v":"09:29:00"},{"$f":"ZwRuB!E18","v":"Gruppe D7"},{"$f":"ZwRuB!J18","v":"Gruppe F8"},"__:__",{"$f":"ZwRuB!R18","v":2}]
[{"$f":"ZwRuB!B19","v":21},"ZRB",{"$f":"ZwRuB!C19","v":"09:40:00"},{"$f":"ZwRuB!E19","v":"Gruppe B3"},{"$f":"ZwRuB!J19","v":"Gruppe D8"},"__:__",{"$f":"ZwRuB!R19","v":2}]
[{"$f":"ZwRuB!B20","v":22},"ZRB",{"$f":"ZwRuB!C20","v":"09:51:00"},{"$f":"ZwRuB!E20","v":"Gruppe F8"},{"$f":"ZwRuB!J20","v":"Gruppe B1"},"__:__",{"$f":"ZwRuB!R20","v":2}]
[{"$f":"ZwRuB!B21","v":23},"ZRB",{"$f":"ZwRuB!C21","v":"10:02:00"},{"$f":"ZwRuB!E21","v":"Gruppe F5"},{"$f":"ZwRuB!J21","v":"Gruppe B3"},"__:__",{"$f":"ZwRuB!R21","v":2}]
[{"$f":"ZwRuB!B22","v":24},"ZRB",{"$f":"ZwRuB!C22","v":"10:13:00"},{"$f":"ZwRuB!E22","v":"Gruppe D8"},{"$f":"ZwRuB!J22","v":"Gruppe F8"},"__:__",{"$f":"ZwRuB!R22","v":2}]
[{"$f":"ZwRuB!B23","v":25},"ZRB",{"$f":"ZwRuB!C23","v":"10:24:00"},{"$f":"ZwRuB!E23","v":"Gruppe D7"},{"$f":"ZwRuB!J23","v":"Gruppe F5"},"__:__",{"$f":"ZwRuB!R23","v":2}]
[{"$f":"ZwRuB!B24","v":26},"ZRB",{"$f":"ZwRuB!C24","v":"10:35:00"},{"$f":"ZwRuB!E24","v":"Gruppe B3"},{"$f":"ZwRuB!J24","v":"Gruppe F8"},"__:__",{"$f":"ZwRuB!R24","v":2}]
[{"$f":"ZwRuB!B25","v":27},"ZRB",{"$f":"ZwRuB!C25","v":"10:46:00"},{"$f":"ZwRuB!E25","v":"Gruppe F5"},{"$f":"ZwRuB!J25","v":"Gruppe B1"},"__:__",{"$f":"ZwRuB!R25","v":2}]
[{"$f":"ZwRuB!B26","v":28},"ZRB",{"$f":"ZwRuB!C26","v":"10:57:00"},{"$f":"ZwRuB!E26","v":"Gruppe D7"},{"$f":"ZwRuB!J26","v":"Gruppe B3"},"__:__",{"$f":"ZwRuB!R26","v":2}]
[{"$f":"ZwRuB!B27","v":29},"ZRB",{"$f":"ZwRuB!C27","v":"11:08:00"},{"$f":"ZwRuB!E27","v":"Gruppe D8"},{"$f":"ZwRuB!J27","v":"Gruppe F5"},"__:__",{"$f":"ZwRuB!R27","v":2}]
[{"$f":"ZwRuB!B28","v":30},"ZRB",{"$f":"ZwRuB!C28","v":"11:19:00"},{"$f":"ZwRuB!E28","v":"Gruppe B1"},{"$f":"ZwRuB!J28","v":"Gruppe D7"},"__:__",{"$f":"ZwRuB!R28","v":2}]

{"sheet":"Lauf Halbfinale","index":40,"n_rows":6,"n_cols":7,"rows_kept":6,"cut":false,"hidden":true,"merged":[]}
[{"$f":"Halbfinale!B3","v":121},"Halbfinale",{"$f":"Halbfinale!D3","v":"12:26:00"},{"$f":"Halbfinale!E3","v":"Gruppe C8"},{"$f":"Halbfinale!G3","v":"Gruppe F5"},"__:__",{"$f":"Halbfinale!C3","v":2}]
[{"$f":"Halbfinale!B7","v":122},"Halbfinale",{"$f":"Halbfinale!D7","v":"12:26:00"},{"$f":"Halbfinale!E7","v":"Gruppe E3"},{"$f":"Halbfinale!G7","v":"Gruppe D8"},"__:__",{"$f":"Halbfinale!C7","v":1}]
[{"$f":"Halbfinale!B11","v":123},"Halbfinale",{"$f":"Halbfinale!D11","v":"12:37:00"},{"$f":"Halbfinale!E11","v":"Gruppe E2"},{"$f":"Halbfinale!G11","v":"Gruppe B3"},"__:__",{"$f":"Halbfinale!C11","v":2}]
[{"$f":"Halbfinale!B15","v":124},"Halbfinale",{"$f":"Halbfinale!D15","v":"12:37:00"},{"$f":"Halbfinale!E15","v":"Gruppe A7"},{"$f":"Halbfinale!G15","v":"Gruppe B1"},"__:__",{"$f":"Halbfinale!C15","v":1}]
[{"$f":"Halbfinale!B19","v":125},"Halbfinale",{"$f":"Halbfinale!D19","v":"12:48:00"},{"$f":"Halbfinale!E19","v":"Gruppe A4"},{"$f":"Halbfinale!G19","v":"Gruppe D7"},"__:__",{"$f":"Halbfinale!C19","v":2}]
[{"$f":"Halbfinale!B23","v":126},"Halbfinale",{"$f":"Halbfinale!D23","v":"12:48:00"},{"$f":"Halbfinale!E23","v":"Gruppe C5"},{"$f":"Halbfinale!G23","v":"Gruppe F8"},"__:__",{"$f":"Halbfinale!C23","v":1}]

{"sheet":"Lauf Endrunde","index":41,"n_rows":6,"n_cols":7,"rows_kept":6,"cut":false,"hidden":true,"merged":[]}
[{"$f":"Endrunde!B3","v":127},"Endrunde Pl.11",{"$f":"Endrunde!D3","v":"13:32:00"},{"$f":"Endrunde!E3","v":" "},{"$f":"Endrunde!G3","v":" "},"__:__",{"$f":"Endrunde!C3","v":1}]
[{"$f":"Endrunde!B7","v":128},"Endrunde Pl.9",{"$f":"Endrunde!D7","v":"13:32:00"},{"$f":"Endrunde!E7","v":" "},{"$f":"Endrunde!G7","v":" "},"__:__",{"$f":"Endrunde!C7","v":2}]
[{"$f":"Endrunde!B11","v":129},"Endrunde Pl.7",{"$f":"Endrunde!D11","v":"13:32:00"},{"$f":"Endrunde!E11","v":" "},{"$f":"Endrunde!G11","v":" "},"__:__",{"$f":"Endrunde!C11","v":3}]
[{"$f":"Endrunde!B15","v":130},"Endrunde Pl.5",{"$f":"Endrunde!D15","v":"13:32:00"},{"$f":"Endrunde!E15","v":" "},{"$f":"Endrunde!G15","v":" "},"__:__",{"$f":"Endrunde!C15","v":4}]
[{"$f":"Endrunde!B19","v":131},"Endrunde Pl.3",{"$f":"Endrunde!D19","v":"13:43:00"},{"$f":"Endrunde!E19","v":" "},{"$f":"Endrunde!G19","v":" "},"__:__",{"$f":"Endrunde!C19","v":1}]
[{"$f":"Endrunde!B23","v":132},"Finale",{"$f":"Endrunde!D23","v":"14:05:00"},{"$f":"Endrunde!E23","v":" "},{"$f":"Endrunde!G23","v":" "},"__:__",{"$f":"Endrunde!C23","v":1}]

{"sheet":"Lauf PlSp13-18","index":42,"n_rows":15,"n_cols":7,"rows_kept":15,"cut":false,"hidden":true,"merged":[]}
[{"$f":"'PlSp13-18'!B14","v":31},"13-18",{"$f":"'PlSp13-18'!C14","v":"08:45:00"},{"$f":"'PlSp13-18'!E14","v":"Gruppe A2"},{"$f":"'PlSp13-18'!J14","v":"Gruppe B6"},"__:__",{"$f":"'PlSp13-18'!R14","v":3}]
[{"$f":"'PlSp13-18'!B15","v":32},"13-18",{"$f":"'PlSp13-18'!C15","v":"09:07:00"},{"$f":"'PlSp13-18'!E15","v":"Gruppe C4"},{"$f":"'PlSp13-18'!J15","v":"Gruppe D2"},"__:__",{"$f":"'PlSp13-18'!R15","v":3}]
[{"$f":"'PlSp13-18'!B16","v":33},"13-18",{"$f":"'PlSp13-18'!C16","v":"09:18:00"},{"$f":"'PlSp13-18'!E16","v":"Gruppe E7"},{"$f":"'PlSp13-18'!J16","v":"Gruppe F6"},"__:__",{"$f":"'PlSp13-18'!R16","v":3}]
[{"$f":"'PlSp13-18'!B17","v":34},"13-18",{"$f":"'PlSp13-18'!C17","v":"09:40:00"},{"$f":"'PlSp13-18'!E17","v":"Gruppe B6"},{"$f":"'PlSp13-18'!J17","v":"Gruppe C4"},"__:__",{"$f":"'PlSp13-18'!R17","v":3}]
[{"$f":"'PlSp13-18'!B18","v":35},"13-18",{"$f":"'PlSp13-18'!C18","v":"09:51:00"},{"$f":"'PlSp13-18'!E18","v":"Gruppe D2"},{"$f":"'PlSp13-18'!J18","v":"Gruppe E7"},"__:__",{"$f":"'PlSp13-18'!R18","v":3}]
[{"$f":"'PlSp13-18'!B19","v":36},"13-18",{"$f":"'PlSp13-18'!C19","v":"10:13:00"},{"$f":"'PlSp13-18'!E19","v":"Gruppe A2"},{"$f":"'PlSp13-18'!J19","v":"Gruppe C4"},"__:__",{"$f":"'PlSp13-18'!R19","v":3}]
[{"$f":"'PlSp13-18'!B20","v":37},"13-18",{"$f":"'PlSp13-18'!C20","v":"10:24:00"},{"$f":"'PlSp13-18'!E20","v":"Gruppe E7"},{"$f":"'PlSp13-18'!J20","v":"Gruppe B6"},"__:__",{"$f":"'PlSp13-18'!R20","v":3}]
[{"$f":"'PlSp13-18'!B21","v":38},"13-18",{"$f":"'PlSp13-18'!C21","v":"10:46:00"},{"$f":"'PlSp13-18'!E21","v":"Gruppe F6"},{"$f":"'PlSp13-18'!J21","v":"Gruppe A2"},"__:__",{"$f":"'PlSp13-18'!R21","v":3}]
[{"$f":"'PlSp13-18'!B22","v":39},"13-18",{"$f":"'PlSp13-18'!C22","v":"10:57:00"},{"$f":"'PlSp13-18'!E22","v":"Gruppe C4"},{"$f":"'PlSp13-18'!J22","v":"Gruppe E7"},"__:__",{"$f":"'PlSp13-18'!R22","v":3}]
[{"$f":"'PlSp13-18'!B23","v":40},"13-18",{"$f":"'PlSp13-18'!C23","v":"11:19:00"},{"$f":"'PlSp13-18'!E23","v":"Gruppe D2"},{"$f":"'PlSp13-18'!J23","v":"Gruppe F6"},"__:__",{"$f":"'PlSp13-18'!R23","v":3}]
[{"$f":"'PlSp13-18'!B24","v":41},"13-18",{"$f":"'PlSp13-18'!C24","v":"12:15:00"},{"$f":"'PlSp13-18'!E24","v":"Gruppe A2"},{"$f":"'PlSp13-18'!J24","v":"Gruppe E7"},"__:__",{"$f":"'PlSp13-18'!R24","v":3}]
[{"$f":"'PlSp13-18'!B25","v":42},"13-18",{"$f":"'PlSp13-18'!C25","v":"12:37:00"},{"$f":"'PlSp13-18'!E25","v":"Gruppe F6"},{"$f":"'PlSp13-18'!J25","v":"Gruppe B6"},"__:__",{"$f":"'PlSp13-18'!R25","v":3}]
[{"$f":"'PlSp13-18'!B26","v":43},"13-18",{"$f":"'PlSp13-18'!C26","v":"12:48:00"},{"$f":"'PlSp13-18'!E26","v":"Gruppe D2"},{"$f":"'PlSp13-18'!J26","v":"Gruppe A2"},"__:__",{"$f":"'PlSp13-18'!R26","v":3}]
[{"$f":"'PlSp13-18'!B27","v":44},"13-18",{"$f":"'PlSp13-18'!C27","v":"13:10:00"},{"$f":"'PlSp13-18'!E27","v":"Gruppe C4"},{"$f":"'PlSp13-18'!J27","v":"Gruppe F6"},"__:__",{"$f":"'PlSp13-18'!R27","v":3}]
[{"$f":"'PlSp13-18'!B28","v":45},"13-18",{"$f":"'PlSp13-18'!C28","v":"13:21:00"},{"$f":"'PlSp13-18'!E28","v":"Gruppe B6"},{"$f":"'PlSp13-18'!J28","v":"Gruppe D2"},"__:__",{"$f":"'PlSp13-18'!R28","v":3}]

{"sheet":"Lauf PlSp19-24","index":43,"n_rows":15,"n_cols":7,"rows_kept":15,"cut":false,"hidden":true,"merged":[]}
[{"$f":"'PlSp19-24'!B14","v":46},"19-24",{"$f":"'PlSp19-24'!C14","v":"08:56:00"},{"$f":"'PlSp19-24'!E14","v":"Gruppe A6"},{"$f":"'PlSp19-24'!J14","v":"Gruppe B5"},"__:__",{"$f":"'PlSp19-24'!R14","v":4}]
[{"$f":"'PlSp19-24'!B15","v":47},"19-24",{"$f":"'PlSp19-24'!C15","v":"09:07:00"},{"$f":"'PlSp19-24'!E15","v":"Gruppe C3"},{"$f":"'PlSp19-24'!J15","v":"Gruppe D3"},"__:__",{"$f":"'PlSp19-24'!R15","v":4}]
[{"$f":"'PlSp19-24'!B16","v":48},"19-24",{"$f":"'PlSp19-24'!C16","v":"09:29:00"},{"$f":"'PlSp19-24'!E16","v":"Gruppe E4"},{"$f":"'PlSp19-24'!J16","v":"Gruppe F4"},"__:__",{"$f":"'PlSp19-24'!R16","v":4}]
[{"$f":"'PlSp19-24'!B17","v":49},"19-24",{"$f":"'PlSp19-24'!C17","v":"09:40:00"},{"$f":"'PlSp19-24'!E17","v":"Gruppe B5"},{"$f":"'PlSp19-24'!J17","v":"Gruppe C3"},"__:__",{"$f":"'PlSp19-24'!R17","v":4}]
[{"$f":"'PlSp19-24'!B18","v":50},"19-24",{"$f":"'PlSp19-24'!C18","v":"10:02:00"},{"$f":"'PlSp19-24'!E18","v":"Gruppe D3"},{"$f":"'PlSp19-24'!J18","v":"Gruppe E4"},"__:__",{"$f":"'PlSp19-24'!R18","v":4}]
[{"$f":"'PlSp19-24'!B19","v":51},"19-24",{"$f":"'PlSp19-24'!C19","v":"10:13:00"},{"$f":"'PlSp19-24'!E19","v":"Gruppe A6"},{"$f":"'PlSp19-24'!J19","v":"Gruppe C3"},"__:__",{"$f":"'PlSp19-24'!R19","v":4}]
[{"$f":"'PlSp19-24'!B20","v":52},"19-24",{"$f":"'PlSp19-24'!C20","v":"10:35:00"},{"$f":"'PlSp19-24'!E20","v":"Gruppe E4"},{"$f":"'PlSp19-24'!J20","v":"Gruppe B5"},"__:__",{"$f":"'PlSp19-24'!R20","v":4}]
[{"$f":"'PlSp19-24'!B21","v":53},"19-24",{"$f":"'PlSp19-24'!C21","v":"10:46:00"},{"$f":"'PlSp19-24'!E21","v":"Gruppe F4"},{"$f":"'PlSp19-24'!J21","v":"Gruppe A6"},"__:__",{"$f":"'PlSp19-24'!R21","v":4}]
[{"$f":"'PlSp19-24'!B22","v":54},"19-24",{"$f":"'PlSp19-24'!C22","v":"11:08:00"},{"$f":"'PlSp19-24'!E22","v":"Gruppe C3"},{"$f":"'PlSp19-24'!J22","v":"Gruppe E4"},"__:__",{"$f":"'PlSp19-24'!R22","v":4}]
[{"$f":"'PlSp19-24'!B23","v":55},"19-24",{"$f":"'PlSp19-24'!C23","v":"11:19:00"},{"$f":"'PlSp19-24'!E23","v":"Gruppe D3"},{"$f":"'PlSp19-24'!J23","v":"Gruppe F4"},"__:__",{"$f":"'PlSp19-24'!R23","v":4}]
[{"$f":"'PlSp19-24'!B24","v":56},"19-24",{"$f":"'PlSp19-24'!C24","v":"12:26:00"},{"$f":"'PlSp19-24'!E24","v":"Gruppe A6"},{"$f":"'PlSp19-24'!J24","v":"Gruppe E4"},"__:__",{"$f":"'PlSp19-24'!R24","v":4}]
[{"$f":"'PlSp19-24'!B25","v":57},"19-24",{"$f":"'PlSp19-24'!C25","v":"12:37:00"},{"$f":"'PlSp19-24'!E25","v":"Gruppe F4"},{"$f":"'PlSp19-24'!J25","v":"Gruppe B5"},"__:__",{"$f":"'PlSp19-24'!R25","v":4}]
[{"$f":"'PlSp19-24'!B26","v":58},"19-24",{"$f":"'PlSp19-24'!C26","v":"12:59:00"},{"$f":"'PlSp19-24'!E26","v":"Gruppe D3"},{"$f":"'PlSp19-24'!J26","v":"Gruppe A6"},"__:__",{"$f":"'PlSp19-24'!R26","v":4}]
[{"$f":"'PlSp19-24'!B27","v":59},"19-24",{"$f":"'PlSp19-24'!C27","v":"13:10:00"},{"$f":"'PlSp19-24'!E27","v":"Gruppe C3"},{"$f":"'PlSp19-24'!J27","v":"Gruppe F4"},"__:__",{"$f":"'PlSp19-24'!R27","v":4}]
[{"$f":"'PlSp19-24'!B28","v":60},"19-24",{"$f":"'PlSp19-24'!C28","v":"13:21:00"},{"$f":"'PlSp19-24'!E28","v":"Gruppe B5"},{"$f":"'PlSp19-24'!J28","v":"Gruppe D3"},"__:__",{"$f":"'PlSp19-24'!R28","v":4}]

{"sheet":"Lauf PlSp25-30","index":44,"n_rows":15,"n_cols":7,"rows_kept":15,"cut":false,"hidden":true,"merged":[]}
[{"$f":"'PlSp25-30'!B14","v":61},"25-30",{"$f":"'PlSp25-30'!C14","v":"08:45:00"},{"$f":"'PlSp25-30'!E14","v":"Gruppe A3"},{"$f":"'PlSp25-30'!J14","v":"Gruppe B7"},"__:__",{"$f":"'PlSp25-30'!R14","v":5}]
[{"$f":"'PlSp25-30'!B15","v":62},"25-30",{"$f":"'PlSp25-30'!C15","v":"09:07:00"},{"$f":"'PlSp25-30'!E15","v":"Gruppe C7"},{"$f":"'PlSp25-30'!J15","v":"Gruppe D4"},"__:__",{"$f":"'PlSp25-30'!R15","v":5}]
[{"$f":"'PlSp25-30'!B16","v":63},"25-30",{"$f":"'PlSp25-30'!C16","v":"09:18:00"},{"$f":"'PlSp25-30'!E16","v":"Gruppe E1"},{"$f":"'PlSp25-30'!J16","v":"Gruppe F3"},"__:__",{"$f":"'PlSp25-30'!R16","v":5}]
[{"$f":"'PlSp25-30'!B17","v":64},"25-30",{"$f":"'PlSp25-30'!C17","v":"09:40:00"},{"$f":"'PlSp25-30'!E17","v":"Gruppe B7"},{"$f":"'PlSp25-30'!J17","v":"Gruppe C7"},"__:__",{"$f":"'PlSp25-30'!R17","v":5}]
[{"$f":"'PlSp25-30'!B18","v":65},"25-30",{"$f":"'PlSp25-30'!C18","v":"09:51:00"},{"$f":"'PlSp25-30'!E18","v":"Gruppe D4"},{"$f":"'PlSp25-30'!J18","v":"Gruppe E1"},"__:__",{"$f":"'PlSp25-30'!R18","v":5}]
[{"$f":"'PlSp25-30'!B19","v":66},"25-30",{"$f":"'PlSp25-30'!C19","v":"10:13:00"},{"$f":"'PlSp25-30'!E19","v":"Gruppe A3"},{"$f":"'PlSp25-30'!J19","v":"Gruppe C7"},"__:__",{"$f":"'PlSp25-30'!R19","v":5}]
[{"$f":"'PlSp25-30'!B20","v":67},"25-30",{"$f":"'PlSp25-30'!C20","v":"10:24:00"},{"$f":"'PlSp25-30'!E20","v":"Gruppe E1"},{"$f":"'PlSp25-30'!J20","v":"Gruppe B7"},"__:__",{"$f":"'PlSp25-30'!R20","v":5}]
[{"$f":"'PlSp25-30'!B21","v":68},"25-30",{"$f":"'PlSp25-30'!C21","v":"10:46:00"},{"$f":"'PlSp25-30'!E21","v":"Gruppe F3"},{"$f":"'PlSp25-30'!J21","v":"Gruppe A3"},"__:__",{"$f":"'PlSp25-30'!R21","v":5}]
[{"$f":"'PlSp25-30'!B22","v":69},"25-30",{"$f":"'PlSp25-30'!C22","v":"10:57:00"},{"$f":"'PlSp25-30'!E22","v":"Gruppe C7"},{"$f":"'PlSp25-30'!J22","v":"Gruppe E1"},"__:__",{"$f":"'PlSp25-30'!R22","v":5}]
[{"$f":"'PlSp25-30'!B23","v":70},"25-30",{"$f":"'PlSp25-30'!C23","v":"11:19:00"},{"$f":"'PlSp25-30'!E23","v":"Gruppe D4"},{"$f":"'PlSp25-30'!J23","v":"Gruppe F3"},"__:__",{"$f":"'PlSp25-30'!R23","v":5}]
[{"$f":"'PlSp25-30'!B24","v":71},"25-30",{"$f":"'PlSp25-30'!C24","v":"12:15:00"},{"$f":"'PlSp25-30'!E24","v":"Gruppe A3"},{"$f":"'PlSp25-30'!J24","v":"Gruppe E1"},"__:__",{"$f":"'PlSp25-30'!R24","v":5}]
[{"$f":"'PlSp25-30'!B25","v":72},"25-30",{"$f":"'PlSp25-30'!C25","v":"12:37:00"},{"$f":"'PlSp25-30'!E25","v":"Gruppe F3"},{"$f":"'PlSp25-30'!J25","v":"Gruppe B7"},"__:__",{"$f":"'PlSp25-30'!R25","v":5}]
[{"$f":"'PlSp25-30'!B26","v":73},"25-30",{"$f":"'PlSp25-30'!C26","v":"12:48:00"},{"$f":"'PlSp25-30'!E26","v":"Gruppe D4"},{"$f":"'PlSp25-30'!J26","v":"Gruppe A3"},"__:__",{"$f":"'PlSp25-30'!R26","v":5}]
[{"$f":"'PlSp25-30'!B27","v":74},"25-30",{"$f":"'PlSp25-30'!C27","v":"13:10:00"},{"$f":"'PlSp25-30'!E27","v":"Gruppe C7"},{"$f":"'PlSp25-30'!J27","v":"Gruppe F3"},"__:__",{"$f":"'PlSp25-30'!R27","v":5}]
[{"$f":"'PlSp25-30'!B28","v":75},"25-30",{"$f":"'PlSp25-30'!C28","v":"13:21:00"},{"$f":"'PlSp25-30'!E28","v":"Gruppe B7"},{"$f":"'PlSp25-30'!J28","v":"Gruppe D4"},"__:__",{"$f":"'PlSp25-30'!R28","v":5}]

{"sheet":"Lauf PlSp31-36","index":45,"n_rows":15,"n_cols":7,"rows_kept":15,"cut":false,"hidden":true,"merged":[]}
[{"$f":"'PlSp31-36'!B14","v":76},"31-36",{"$f":"'PlSp31-36'!C14","v":"08:56:00"},{"$f":"'PlSp31-36'!E14","v":"Gruppe A8"},{"$f":"'PlSp31-36'!J14","v":"Gruppe B8"},"__:__",{"$f":"'PlSp31-36'!R14","v":6}]
[{"$f":"'PlSp31-36'!B15","v":77},"31-36",{"$f":"'PlSp31-36'!C15","v":"09:07:00"},{"$f":"'PlSp31-36'!E15","v":"Gruppe C2"},{"$f":"'PlSp31-36'!J15","v":"Gruppe D1"},"__:__",{"$f":"'PlSp31-36'!R15","v":6}]
[{"$f":"'PlSp31-36'!B16","v":78},"31-36",{"$f":"'PlSp31-36'!C16","v":"09:29:00"},{"$f":"'PlSp31-36'!E16","v":"Gruppe E6"},{"$f":"'PlSp31-36'!J16","v":"Gruppe F2"},"__:__",{"$f":"'PlSp31-36'!R16","v":6}]
[{"$f":"'PlSp31-36'!B17","v":79},"31-36",{"$f":"'PlSp31-36'!C17","v":"09:40:00"},{"$f":"'PlSp31-36'!E17","v":"Gruppe B8"},{"$f":"'PlSp31-36'!J17","v":"Gruppe C2"},"__:__",{"$f":"'PlSp31-36'!R17","v":6}]
[{"$f":"'PlSp31-36'!B18","v":80},"31-36",{"$f":"'PlSp31-36'!C18","v":"10:02:00"},{"$f":"'PlSp31-36'!E18","v":"Gruppe D1"},{"$f":"'PlSp31-36'!J18","v":"Gruppe E6"},"__:__",{"$f":"'PlSp31-36'!R18","v":6}]
[{"$f":"'PlSp31-36'!B19","v":81},"31-36",{"$f":"'PlSp31-36'!C19","v":"10:13:00"},{"$f":"'PlSp31-36'!E19","v":"Gruppe A8"},{"$f":"'PlSp31-36'!J19","v":"Gruppe C2"},"__:__",{"$f":"'PlSp31-36'!R19","v":6}]
[{"$f":"'PlSp31-36'!B20","v":82},"31-36",{"$f":"'PlSp31-36'!C20","v":"10:35:00"},{"$f":"'PlSp31-36'!E20","v":"Gruppe E6"},{"$f":"'PlSp31-36'!J20","v":"Gruppe B8"},"__:__",{"$f":"'PlSp31-36'!R20","v":6}]
[{"$f":"'PlSp31-36'!B21","v":83},"31-36",{"$f":"'PlSp31-36'!C21","v":"10:46:00"},{"$f":"'PlSp31-36'!E21","v":"Gruppe F2"},{"$f":"'PlSp31-36'!J21","v":"Gruppe A8"},"__:__",{"$f":"'PlSp31-36'!R21","v":6}]
[{"$f":"'PlSp31-36'!B22","v":84},"31-36",{"$f":"'PlSp31-36'!C22","v":"11:08:00"},{"$f":"'PlSp31-36'!E22","v":"Gruppe C2"},{"$f":"'PlSp31-36'!J22","v":"Gruppe E6"},"__:__",{"$f":"'PlSp31-36'!R22","v":6}]
[{"$f":"'PlSp31-36'!B23","v":85},"31-36",{"$f":"'PlSp31-36'!C23","v":"11:19:00"},{"$f":"'PlSp31-36'!E23","v":"Gruppe D1"},{"$f":"'PlSp31-36'!J23","v":"Gruppe F2"},"__:__",{"$f":"'PlSp31-36'!R23","v":6}]
[{"$f":"'PlSp31-36'!B24","v":86},"31-36",{"$f":"'PlSp31-36'!C24","v":"12:26:00"},{"$f":"'PlSp31-36'!E24","v":"Gruppe A8"},{"$f":"'PlSp31-36'!J24","v":"Gruppe E6"},"__:__",{"$f":"'PlSp31-36'!R24","v":6}]
[{"$f":"'PlSp31-36'!B25","v":87},"31-36",{"$f":"'PlSp31-36'!C25","v":"12:37:00"},{"$f":"'PlSp31-36'!E25","v":"Gruppe F2"},{"$f":"'PlSp31-36'!J25","v":"Gruppe B8"},"__:__",{"$f":"'PlSp31-36'!R25","v":6}]
[{"$f":"'PlSp31-36'!B26","v":88},"31-36",{"$f":"'PlSp31-36'!C26","v":"12:59:00"},{"$f":"'PlSp31-36'!E26","v":"Gruppe D1"},{"$f":"'PlSp31-36'!J26","v":"Gruppe A8"},"__:__",{"$f":"'PlSp31-36'!R26","v":6}]
[{"$f":"'PlSp31-36'!B27","v":89},"31-36",{"$f":"'PlSp31-36'!C27","v":"13:10:00"},{"$f":"'PlSp31-36'!E27","v":"Gruppe C2"},{"$f":"'PlSp31-36'!J27","v":"Gruppe F2"},"__:__",{"$f":"'PlSp31-36'!R27","v":6}]
[{"$f":"'PlSp31-36'!B28","v":90},"31-36",{"$f":"'PlSp31-36'!C28","v":"13:21:00"},{"$f":"'PlSp31-36'!E28","v":"Gruppe B8"},{"$f":"'PlSp31-36'!J28","v":"Gruppe D1"},"__:__",{"$f":"'PlSp31-36'!R28","v":6}]

{"sheet":"Lauf PlSp37-42","index":46,"n_rows":15,"n_cols":7,"rows_kept":15,"cut":false,"hidden":true,"merged":[]}
[{"$f":"'PlSp37-42'!B14","v":91},"37-42",{"$f":"'PlSp37-42'!C14","v":"08:45:00"},{"$f":"'PlSp37-42'!E14","v":"Gruppe A5"},{"$f":"'PlSp37-42'!J14","v":"Gruppe B4"},"__:__",{"$f":"'PlSp37-42'!R14","v":4}]
[{"$f":"'PlSp37-42'!B15","v":92},"37-42",{"$f":"'PlSp37-42'!C15","v":"08:56:00"},{"$f":"'PlSp37-42'!E15","v":"Gruppe C1"},{"$f":"'PlSp37-42'!J15","v":"Gruppe D5"},"__:__",{"$f":"'PlSp37-42'!R15","v":3}]
[{"$f":"'PlSp37-42'!B16","v":93},"37-42",{"$f":"'PlSp37-42'!C16","v":"09:18:00"},{"$f":"'PlSp37-42'!E16","v":"Gruppe E5"},{"$f":"'PlSp37-42'!J16","v":"Gruppe F1"},"__:__",{"$f":"'PlSp37-42'!R16","v":4}]
[{"$f":"'PlSp37-42'!B17","v":94},"37-42",{"$f":"'PlSp37-42'!C17","v":"09:29:00"},{"$f":"'PlSp37-42'!E17","v":"Gruppe B4"},{"$f":"'PlSp37-42'!J17","v":"Gruppe C1"},"__:__",{"$f":"'PlSp37-42'!R17","v":3}]
[{"$f":"'PlSp37-42'!B18","v":95},"37-42",{"$f":"'PlSp37-42'!C18","v":"09:51:00"},{"$f":"'PlSp37-42'!E18","v":"Gruppe D5"},{"$f":"'PlSp37-42'!J18","v":"Gruppe E5"},"__:__",{"$f":"'PlSp37-42'!R18","v":4}]
[{"$f":"'PlSp37-42'!B19","v":96},"37-42",{"$f":"'PlSp37-42'!C19","v":"10:02:00"},{"$f":"'PlSp37-42'!E19","v":"Gruppe A5"},{"$f":"'PlSp37-42'!J19","v":"Gruppe C1"},"__:__",{"$f":"'PlSp37-42'!R19","v":3}]
[{"$f":"'PlSp37-42'!B20","v":97},"37-42",{"$f":"'PlSp37-42'!C20","v":"10:24:00"},{"$f":"'PlSp37-42'!E20","v":"Gruppe E5"},{"$f":"'PlSp37-42'!J20","v":"Gruppe B4"},"__:__",{"$f":"'PlSp37-42'!R20","v":4}]
[{"$f":"'PlSp37-42'!B21","v":98},"37-42",{"$f":"'PlSp37-42'!C21","v":"10:35:00"},{"$f":"'PlSp37-42'!E21","v":"Gruppe F1"},{"$f":"'PlSp37-42'!J21","v":"Gruppe A5"},"__:__",{"$f":"'PlSp37-42'!R21","v":3}]
[{"$f":"'PlSp37-42'!B22","v":99},"37-42",{"$f":"'PlSp37-42'!C22","v":"10:57:00"},{"$f":"'PlSp37-42'!E22","v":"Gruppe C1"},{"$f":"'PlSp37-42'!J22","v":"Gruppe E5"},"__:__",{"$f":"'PlSp37-42'!R22","v":4}]
[{"$f":"'PlSp37-42'!B23","v":100},"37-42",{"$f":"'PlSp37-42'!C23","v":"11:08:00"},{"$f":"'PlSp37-42'!E23","v":"Gruppe D5"},{"$f":"'PlSp37-42'!J23","v":"Gruppe F1"},"__:__",{"$f":"'PlSp37-42'!R23","v":3}]
[{"$f":"'PlSp37-42'!B24","v":101},"37-42",{"$f":"'PlSp37-42'!C24","v":"12:15:00"},{"$f":"'PlSp37-42'!E24","v":"Gruppe A5"},{"$f":"'PlSp37-42'!J24","v":"Gruppe E5"},"__:__",{"$f":"'PlSp37-42'!R24","v":4}]
[{"$f":"'PlSp37-42'!B25","v":102},"37-42",{"$f":"'PlSp37-42'!C25","v":"12:26:00"},{"$f":"'PlSp37-42'!E25","v":"Gruppe F1"},{"$f":"'PlSp37-42'!J25","v":"Gruppe B4"},"__:__",{"$f":"'PlSp37-42'!R25","v":3}]
[{"$f":"'PlSp37-42'!B26","v":103},"37-42",{"$f":"'PlSp37-42'!C26","v":"12:48:00"},{"$f":"'PlSp37-42'!E26","v":"Gruppe D5"},{"$f":"'PlSp37-42'!J26","v":"Gruppe A5"},"__:__",{"$f":"'PlSp37-42'!R26","v":4}]
[{"$f":"'PlSp37-42'!B27","v":104},"37-42",{"$f":"'PlSp37-42'!C27","v":"12:59:00"},{"$f":"'PlSp37-42'!E27","v":"Gruppe C1"},{"$f":"'PlSp37-42'!J27","v":"Gruppe F1"},"__:__",{"$f":"'PlSp37-42'!R27","v":3}]
[{"$f":"'PlSp37-42'!B28","v":105},"37-42",{"$f":"'PlSp37-42'!C28","v":"13:21:00"},{"$f":"'PlSp37-42'!E28","v":"Gruppe B4"},{"$f":"'PlSp37-42'!J28","v":"Gruppe D5"},"__:__",{"$f":"'PlSp37-42'!R28","v":1}]

{"sheet":"Lauf PlSp43-48","index":47,"n_rows":15,"n_cols":7,"rows_kept":15,"cut":false,"hidden":true,"merged":[]}
[{"$f":"'PlSp43-48'!B14","v":106},"43-48",{"$f":"'PlSp43-48'!C14","v":"08:45:00"},{"$f":"'PlSp43-48'!E14","v":"Gruppe A1"},{"$f":"'PlSp43-48'!J14","v":"Gruppe B2"},"__:__",{"$f":"'PlSp43-48'!R14","v":6}]
[{"$f":"'PlSp43-48'!B15","v":107},"43-48",{"$f":"'PlSp43-48'!C15","v":"08:56:00"},{"$f":"'PlSp43-48'!E15","v":"Gruppe C6"},{"$f":"'PlSp43-48'!J15","v":"Gruppe D6"},"__:__",{"$f":"'PlSp43-48'!R15","v":5}]
[{"$f":"'PlSp43-48'!B16","v":108},"43-48",{"$f":"'PlSp43-48'!C16","v":"09:18:00"},{"$f":"'PlSp43-48'!E16","v":"Gruppe E8"},{"$f":"'PlSp43-48'!J16","v":"Gruppe F7"},"__:__",{"$f":"'PlSp43-48'!R16","v":6}]
[{"$f":"'PlSp43-48'!B17","v":109},"43-48",{"$f":"'PlSp43-48'!C17","v":"09:29:00"},{"$f":"'PlSp43-48'!E17","v":"Gruppe B2"},{"$f":"'PlSp43-48'!J17","v":"Gruppe C6"},"__:__",{"$f":"'PlSp43-48'!R17","v":5}]
[{"$f":"'PlSp43-48'!B18","v":110},"43-48",{"$f":"'PlSp43-48'!C18","v":"09:51:00"},{"$f":"'PlSp43-48'!E18","v":"Gruppe D6"},{"$f":"'PlSp43-48'!J18","v":"Gruppe E8"},"__:__",{"$f":"'PlSp43-48'!R18","v":6}]
[{"$f":"'PlSp43-48'!B19","v":111},"43-48",{"$f":"'PlSp43-48'!C19","v":"10:02:00"},{"$f":"'PlSp43-48'!E19","v":"Gruppe A1"},{"$f":"'PlSp43-48'!J19","v":"Gruppe C6"},"__:__",{"$f":"'PlSp43-48'!R19","v":5}]
[{"$f":"'PlSp43-48'!B20","v":112},"43-48",{"$f":"'PlSp43-48'!C20","v":"10:24:00"},{"$f":"'PlSp43-48'!E20","v":"Gruppe E8"},{"$f":"'PlSp43-48'!J20","v":"Gruppe B2"},"__:__",{"$f":"'PlSp43-48'!R20","v":6}]
[{"$f":"'PlSp43-48'!B21","v":113},"43-48",{"$f":"'PlSp43-48'!C21","v":"10:35:00"},{"$f":"'PlSp43-48'!E21","v":"Gruppe F7"},{"$f":"'PlSp43-48'!J21","v":"Gruppe A1"},"__:__",{"$f":"'PlSp43-48'!R21","v":5}]
[{"$f":"'PlSp43-48'!B22","v":114},"43-48",{"$f":"'PlSp43-48'!C22","v":"10:57:00"},{"$f":"'PlSp43-48'!E22","v":"Gruppe C6"},{"$f":"'PlSp43-48'!J22","v":"Gruppe E8"},"__:__",{"$f":"'PlSp43-48'!R22","v":6}]
[{"$f":"'PlSp43-48'!B23","v":115},"43-48",{"$f":"'PlSp43-48'!C23","v":"11:08:00"},{"$f":"'PlSp43-48'!E23","v":"Gruppe D6"},{"$f":"'PlSp43-48'!J23","v":"Gruppe F7"},"__:__",{"$f":"'PlSp43-48'!R23","v":5}]
[{"$f":"'PlSp43-48'!B24","v":116},"43-48",{"$f":"'PlSp43-48'!C24","v":"12:15:00"},{"$f":"'PlSp43-48'!E24","v":"Gruppe A1"},{"$f":"'PlSp43-48'!J24","v":"Gruppe E8"},"__:__",{"$f":"'PlSp43-48'!R24","v":6}]
[{"$f":"'PlSp43-48'!B25","v":117},"43-48",{"$f":"'PlSp43-48'!C25","v":"12:26:00"},{"$f":"'PlSp43-48'!E25","v":"Gruppe F7"},{"$f":"'PlSp43-48'!J25","v":"Gruppe B2"},"__:__",{"$f":"'PlSp43-48'!R25","v":5}]
[{"$f":"'PlSp43-48'!B26","v":118},"43-48",{"$f":"'PlSp43-48'!C26","v":"12:48:00"},{"$f":"'PlSp43-48'!E26","v":"Gruppe D6"},{"$f":"'PlSp43-48'!J26","v":"Gruppe A1"},"__:__",{"$f":"'PlSp43-48'!R26","v":6}]
[{"$f":"'PlSp43-48'!B27","v":119},"43-48",{"$f":"'PlSp43-48'!C27","v":"12:59:00"},{"$f":"'PlSp43-48'!E27","v":"Gruppe C6"},{"$f":"'PlSp43-48'!J27","v":"Gruppe F7"},"__:__",{"$f":"'PlSp43-48'!R27","v":5}]
[{"$f":"'PlSp43-48'!B28","v":120},"43-48",{"$f":"'PlSp43-48'!C28","v":"13:21:00"},{"$f":"'PlSp43-48'!E28","v":"Gruppe B2"},{"$f":"'PlSp43-48'!J28","v":"Gruppe D6"},"__:__",{"$f":"'PlSp43-48'!R28","v":2}]

{"sheet":"Spiele ZR1","index":48,"n_rows":69,"n_cols":19,"rows_kept":69,"cut":false,"hidden":true,"merged":[[84,7,84,11],[79,7,79,11],[80,7,80,11],[81,7,81,11],[82,7,82,11],[83,7,83,11],[85,7,85,11],[86,7,86,11],[87,7,87,11],[94,7,94,11],[95,7,95,11]]}
[{"$f":"Platzzuordnung!BA4","v":1},{"$f":"Platzzuordnung!BC4","v":"ZwRu1"},{"$f":"Platzzuordnung!BD4","v":"09:00:00"},{"$f":"Platzzuordnung!BB4","v":1},{"$f":"Platzzuordnung!BE4","v":"JSG Harderberg/Kloster Oesede 2"},{"$f":"Platzzuordnung!BF4","v":"VfL \"Fortuna\" Veenhusen 1"},"__",":","__",{"$f":"Platzzuordnung!BA70","v":12},{"$f":"Platzzuordnung!BB70","v":1},{"$f":"Platzzuordnung!BC70","v":"ZwRu1"},{"$f":"Platzzuordnung!BD70","v":"11:12:00"},{"$f":"Platzzuordnung!BB70","v":1},{"$f":"Platzzuordnung!BE70","v":"JSG Riede/Emtinghausen EE"},{"$f":"Platzzuordnung!BF70","v":"VfL \"Fortuna\" Veenhusen 1"},"__",":","__"]
[{"$f":"Platzzuordnung!BA5","v":16},{"$f":"Platzzuordnung!BC5","v":"ZwRu2"},{"$f":"Platzzuordnung!BD5","v":"09:00:00"},{"$f":"Platzzuordnung!BB5","v":2},{"$f":"Platzzuordnung!BE5","v":"TuS Eversten 1"},{"$f":"Platzzuordnung!BF5","v":"VfL \"Fortuna\" Veenhusen 2"},"__",":","__",{"$f":"Platzzuordnung!BA71","v":27},{"$f":"Platzzuordnung!BB71","v":2},{"$f":"Platzzuordnung!BC71","v":"ZwRu2"},{"$f":"Platzzuordnung!BD71","v":"11:12:00"},{"$f":"Platzzuordnung!BB71","v":2},{"$f":"Platzzuordnung!BE71","v":"vv BeilenFF"},{"$f":"Platzzuordnung!BF71","v":"VfL \"Fortuna\" Veenhusen 2"},"__",":","__"]
[{"$f":"Platzzuordnung!BA6","v":31},{"$f":"Platzzuordnung!BC6","v":"PlSp13-18"},{"$f":"Platzzuordnung!BD6","v":"09:00:00"},{"$f":"Platzzuordnung!BB6","v":3},{"$f":"Platzzuordnung!BE6","v":"SV Ostfrisia Moordorf"},{"$f":"Platzzuordnung!BF6","v":"VfB 1928 Wilden"},"__",":","__",{"$f":"Platzzuordnung!BA72","v":101},{"$f":"Platzzuordnung!BB72","v":3},{"$f":"Platzzuordnung!BC72","v":"PlSp37-42"},{"$f":"Platzzuordnung!BD72","v":"11:12:00"},{"$f":"Platzzuordnung!BB72","v":3},{"$f":"Platzzuordnung!BE72","v":"Test Team A"},{"$f":"Platzzuordnung!BF72","v":"SV Warsingsfehn EE"},"__",":","__"]
[{"$f":"Platzzuordnung!BA7","v":46},{"$f":"Platzzuordnung!BC7","v":"PlSp19-24"},{"$f":"Platzzuordnung!BD7","v":"09:00:00"},{"$f":"Platzzuordnung!BB7","v":4},{"$f":"Platzzuordnung!BE7","v":"VfL Viktoria Flachsmeer"},{"$f":"Platzzuordnung!BF7","v":"VfL Weiße Elf Nordhorn"},"__",":","__",{"$f":"Platzzuordnung!BA73","v":55},{"$f":"Platzzuordnung!BB73","v":4},{"$f":"Platzzuordnung!BC73","v":"PlSp19-24"},{"$f":"Platzzuordnung!BD73","v":"11:12:00"},{"$f":"Platzzuordnung!BB73","v":4},{"$f":"Platzzuordnung!BE73","v":"vv Beilen"},{"$f":"Platzzuordnung!BF73","v":"JSG Harderberg/Kloster Oesede 1 FF"},"__",":","__"]
[{"$f":"Platzzuordnung!BA8","v":61},{"$f":"Platzzuordnung!BC8","v":"PlSp25-30"},{"$f":"Platzzuordnung!BD8","v":"09:00:00"},{"$f":"Platzzuordnung!BB8","v":5},{"$f":"Platzzuordnung!BE8","v":"SFR Möhlenwarf"},{"$f":"Platzzuordnung!BF8","v":"JFV Leer"},"__",":","__",{"$f":"Platzzuordnung!BA74","v":69},{"$f":"Platzzuordnung!BB74","v":5},{"$f":"Platzzuordnung!BC74","v":"PlSp25-30"},{"$f":"Platzzuordnung!BD74","v":"11:12:00"},{"$f":"Platzzuordnung!BB74","v":5},{"$f":"Platzzuordnung!BE74","v":"Test"},{"$f":"Platzzuordnung!BF74","v":"Willy"},"__",":","__"]
[{"$f":"Platzzuordnung!BA9","v":76},{"$f":"Platzzuordnung!BC9","v":"PlSp31-36"},{"$f":"Platzzuordnung!BD9","v":"09:00:00"},{"$f":"Platzzuordnung!BB9","v":6},{"$f":"Platzzuordnung!BE9","v":"vv Jubbega"},{"$f":"Platzzuordnung!BF9","v":"Test Team B"},"__",":","__",{"$f":"Platzzuordnung!BA75","v":84},{"$f":"Platzzuordnung!BB75","v":6},{"$f":"Platzzuordnung!BC75","v":"PlSp31-36"},{"$f":"Platzzuordnung!BD75","v":"11:12:00"},{"$f":"Platzzuordnung!BB75","v":6},{"$f":"Platzzuordnung!BE75","v":"JVC Dedemsvaart"},{"$f":"Platzzuordnung!BF75","v":"JVC Dedemsvaart EE"},"__",":","__"]
[{"$f":"Platzzuordnung!BA10","v":2},{"$f":"Platzzuordnung!BC10","v":"ZwRu1"},{"$f":"Platzzuordnung!BD10","v":"09:12:00"},{"$f":"Platzzuordnung!BB10","v":1},{"$f":"Platzzuordnung!BE10","v":"MSG Moormerland Mädchen"},{"$f":"Platzzuordnung!BF10","v":"TuS Eversten 2"},"__",":","__",{"$f":"Platzzuordnung!BA76","v":13},{"$f":"Platzzuordnung!BB76","v":1},{"$f":"Platzzuordnung!BC76","v":"ZwRu1"},{"$f":"Platzzuordnung!BD76","v":"11:24:00"},{"$f":"Platzzuordnung!BB76","v":1},{"$f":"Platzzuordnung!BE76","v":"TuS Eversten 2"},{"$f":"Platzzuordnung!BF76","v":"JSG Harderberg/Kloster Oesede 2"},"__",":","__"]
[{"$f":"Platzzuordnung!BA11","v":17},{"$f":"Platzzuordnung!BC11","v":"ZwRu2"},{"$f":"Platzzuordnung!BD11","v":"09:12:00"},{"$f":"Platzzuordnung!BB11","v":2},{"$f":"Platzzuordnung!BE11","v":"SV Spetzerfehn"},{"$f":"Platzzuordnung!BF11","v":"TuRa Westrhauderfehn"},"__",":","__",{"$f":"Platzzuordnung!BA77","v":28},{"$f":"Platzzuordnung!BB77","v":2},{"$f":"Platzzuordnung!BC77","v":"ZwRu2"},{"$f":"Platzzuordnung!BD77","v":"11:24:00"},{"$f":"Platzzuordnung!BB77","v":2},{"$f":"Platzzuordnung!BE77","v":"TuRa Westrhauderfehn"},{"$f":"Platzzuordnung!BF77","v":"TuS Eversten 1"},"__",":","__"]
[{"$f":"Platzzuordnung!BA12","v":91},{"$f":"Platzzuordnung!BC12","v":"PlSp37-42"},{"$f":"Platzzuordnung!BD12","v":"09:12:00"},{"$f":"Platzzuordnung!BB12","v":3},{"$f":"Platzzuordnung!BE12","v":"Test Team A"},{"$f":"Platzzuordnung!BF12","v":"TuS Weener"},"__",":","__",{"$f":"Platzzuordnung!BA78","v":40},{"$f":"Platzzuordnung!BB78","v":3},{"$f":"Platzzuordnung!BC78","v":"PlSp13-18"},{"$f":"Platzzuordnung!BD78","v":"11:24:00"},{"$f":"Platzzuordnung!BB78","v":3},{"$f":"Platzzuordnung!BE78","v":"JSG Harderberg/Kloster Oesede 1"},{"$f":"Platzzuordnung!BF78","v":"TuRa Westrhauderfehn FF"},"__",":","__"]
[{"$f":"Platzzuordnung!BA13","v":47},{"$f":"Platzzuordnung!BC13","v":"PlSp19-24"},{"$f":"Platzzuordnung!BD13","v":"09:12:00"},{"$f":"Platzzuordnung!BB13","v":4},{"$f":"Platzzuordnung!BE13","v":"Blau-Weiß Papenburg"},{"$f":"Platzzuordnung!BF13","v":"vv Beilen"},"__",":","__",{"$f":"Platzzuordnung!BA79","v":102},{"$f":"Platzzuordnung!BB79","v":4},{"$f":"Platzzuordnung!BC79","v":"PlSp37-42"},{"$f":"Platzzuordnung!BD79","v":"11:24:00"},{"$f":"Platzzuordnung!BB79","v":4},{"$f":"Platzzuordnung!BE79","v":"VfL \"Fortuna\" Veenhusen 3 FF"},{"$f":"Platzzuordnung!BF79","v":"TuS Weener"},"__",":","__"]
[{"$f":"Platzzuordnung!BA14","v":62},{"$f":"Platzzuordnung!BC14","v":"PlSp25-30"},{"$f":"Platzzuordnung!BD14","v":"09:12:00"},{"$f":"Platzzuordnung!BB14","v":5},{"$f":"Platzzuordnung!BE14","v":"Test"},{"$f":"Platzzuordnung!BF14","v":"Test Team D"},"__",":","__",{"$f":"Platzzuordnung!BA80","v":70},{"$f":"Platzzuordnung!BB80","v":5},{"$f":"Platzzuordnung!BC80","v":"PlSp25-30"},{"$f":"Platzzuordnung!BD80","v":"11:24:00"},{"$f":"Platzzuordnung!BB80","v":5},{"$f":"Platzzuordnung!BE80","v":"Test Team D"},{"$f":"Platzzuordnung!BF80","v":"Ammi"},"__",":","__"]
[{"$f":"Platzzuordnung!BA15","v":77},{"$f":"Platzzuordnung!BC15","v":"PlSp31-36"},{"$f":"Platzzuordnung!BD15","v":"09:12:00"},{"$f":"Platzzuordnung!BB15","v":6},{"$f":"Platzzuordnung!BE15","v":"JVC Dedemsvaart"},{"$f":"Platzzuordnung!BF15","v":"SV Borussia Salchendorf"},"__",":","__",{"$f":"Platzzuordnung!BA81","v":85},{"$f":"Platzzuordnung!BB81","v":6},{"$f":"Platzzuordnung!BC81","v":"PlSp31-36"},{"$f":"Platzzuordnung!BD81","v":"11:24:00"},{"$f":"Platzzuordnung!BB81","v":6},{"$f":"Platzzuordnung!BE81","v":"SV Borussia Salchendorf"},{"$f":"Platzzuordnung!BF81","v":"SV Borussia Salchendorf FF"},"__",":","__"]
[{"$f":"Platzzuordnung!BA16","v":3},{"$f":"Platzzuordnung!BC16","v":"ZwRu1"},{"$f":"Platzzuordnung!BD16","v":"09:24:00"},{"$f":"Platzzuordnung!BB16","v":1},{"$f":"Platzzuordnung!BE16","v":"MSG Moormerland EE"},{"$f":"Platzzuordnung!BF16","v":"JSG Riede/Emtinghausen EE"},"__",":","__",{"$f":"Platzzuordnung!BA82","v":14},{"$f":"Platzzuordnung!BB82","v":1},{"$f":"Platzzuordnung!BC82","v":"ZwRu1"},{"$f":"Platzzuordnung!BD82","v":"11:36:00"},{"$f":"Platzzuordnung!BB82","v":1},{"$f":"Platzzuordnung!BE82","v":"MSG Moormerland Mädchen"},{"$f":"Platzzuordnung!BF82","v":"JSG Riede/Emtinghausen EE"},"__",":","__"]
[{"$f":"Platzzuordnung!BA17","v":18},{"$f":"Platzzuordnung!BC17","v":"ZwRu2"},{"$f":"Platzzuordnung!BD17","v":"09:24:00"},{"$f":"Platzzuordnung!BB17","v":2},{"$f":"Platzzuordnung!BE17","v":"SV Spetzerfehn FF"},{"$f":"Platzzuordnung!BF17","v":"vv BeilenFF"},"__",":","__",{"$f":"Platzzuordnung!BA83","v":29},{"$f":"Platzzuordnung!BB83","v":2},{"$f":"Platzzuordnung!BC83","v":"ZwRu2"},{"$f":"Platzzuordnung!BD83","v":"11:36:00"},{"$f":"Platzzuordnung!BB83","v":2},{"$f":"Platzzuordnung!BE83","v":"SV Spetzerfehn"},{"$f":"Platzzuordnung!BF83","v":"vv BeilenFF"},"__",":","__"]
[{"$f":"Platzzuordnung!BA18","v":32},{"$f":"Platzzuordnung!BC18","v":"PlSp13-18"},{"$f":"Platzzuordnung!BD18","v":"09:24:00"},{"$f":"Platzzuordnung!BB18","v":3},{"$f":"Platzzuordnung!BE18","v":"JSG Riede/Emtinghausen"},{"$f":"Platzzuordnung!BF18","v":"JSG Harderberg/Kloster Oesede 1"},"__",":","__",{"$f":"Platzzuordnung!BA84","v":41},{"$f":"Platzzuordnung!BB84","v":3},{"$f":"Platzzuordnung!BC84","v":"PlSp13-18"},{"$f":"Platzzuordnung!BD84","v":"11:36:00"},{"$f":"Platzzuordnung!BB84","v":3},{"$f":"Platzzuordnung!BE84","v":"SV Ostfrisia Moordorf"},{"$f":"Platzzuordnung!BF84","v":"Blau-Weiß Papenburg EE"},"__",":","__"]
[{"$f":"Platzzuordnung!BA19","v":92},{"$f":"Platzzuordnung!BC19","v":"PlSp37-42"},{"$f":"Platzzuordnung!BD19","v":"09:24:00"},{"$f":"Platzzuordnung!BB19","v":4},{"$f":"Platzzuordnung!BE19","v":"SV Warsingsfehn"},{"$f":"Platzzuordnung!BF19","v":"VfL \"Fortuna\" Veenhusen 3"},"__",":","__",{"$f":"Platzzuordnung!BA85","v":56},{"$f":"Platzzuordnung!BB85","v":4},{"$f":"Platzzuordnung!BC85","v":"PlSp19-24"},{"$f":"Platzzuordnung!BD85","v":"11:36:00"},{"$f":"Platzzuordnung!BB85","v":4},{"$f":"Platzzuordnung!BE85","v":"VfL Viktoria Flachsmeer"},{"$f":"Platzzuordnung!BF85","v":"TuS Eversten 2 EE"},"__",":","__"]
[{"$f":"Platzzuordnung!BA20","v":63},{"$f":"Platzzuordnung!BC20","v":"PlSp25-30"},{"$f":"Platzzuordnung!BD20","v":"09:24:00"},{"$f":"Platzzuordnung!BB20","v":5},{"$f":"Platzzuordnung!BE20","v":"Willy"},{"$f":"Platzzuordnung!BF20","v":"Ammi"},"__",":","__",{"$f":"Platzzuordnung!BA86","v":71},{"$f":"Platzzuordnung!BB86","v":5},{"$f":"Platzzuordnung!BC86","v":"PlSp25-30"},{"$f":"Platzzuordnung!BD86","v":"11:36:00"},{"$f":"Platzzuordnung!BB86","v":5},{"$f":"Platzzuordnung!BE86","v":"SFR Möhlenwarf"},{"$f":"Platzzuordnung!BF86","v":"Willy"},"__",":","__"]
[{"$f":"Platzzuordnung!BA21","v":78},{"$f":"Platzzuordnung!BC21","v":"PlSp31-36"},{"$f":"Platzzuordnung!BD21","v":"09:24:00"},{"$f":"Platzzuordnung!BB21","v":6},{"$f":"Platzzuordnung!BE21","v":"JVC Dedemsvaart EE"},{"$f":"Platzzuordnung!BF21","v":"SV Borussia Salchendorf FF"},"__",":","__",{"$f":"Platzzuordnung!BA87","v":86},{"$f":"Platzzuordnung!BB87","v":6},{"$f":"Platzzuordnung!BC87","v":"PlSp31-36"},{"$f":"Platzzuordnung!BD87","v":"11:36:00"},{"$f":"Platzzuordnung!BB87","v":6},{"$f":"Platzzuordnung!BE87","v":"vv Jubbega"},{"$f":"Platzzuordnung!BF87","v":"JVC Dedemsvaart EE"},"__",":","__"]
[{"$f":"Platzzuordnung!BA22","v":4},{"$f":"Platzzuordnung!BC22","v":"ZwRu1"},{"$f":"Platzzuordnung!BD22","v":"09:36:00"},{"$f":"Platzzuordnung!BB22","v":1},{"$f":"Platzzuordnung!BE22","v":"VfL \"Fortuna\" Veenhusen 1"},{"$f":"Platzzuordnung!BF22","v":"MSG Moormerland Mädchen"},"__",":","__",{"$f":"Platzzuordnung!BA88","v":15},{"$f":"Platzzuordnung!BB88","v":1},{"$f":"Platzzuordnung!BC88","v":"ZwRu1"},{"$f":"Platzzuordnung!BD88","v":"11:48:00"},{"$f":"Platzzuordnung!BB88","v":1},{"$f":"Platzzuordnung!BE88","v":"VfL \"Fortuna\" Veenhusen 1"},{"$f":"Platzzuordnung!BF88","v":"TuS Eversten 2"},"__",":","__"]
[{"$f":"Platzzuordnung!BA23","v":19},{"$f":"Platzzuordnung!BC23","v":"ZwRu2"},{"$f":"Platzzuordnung!BD23","v":"09:36:00"},{"$f":"Platzzuordnung!BB23","v":2},{"$f":"Platzzuordnung!BE23","v":"VfL \"Fortuna\" Veenhusen 2"},{"$f":"Platzzuordnung!BF23","v":"SV Spetzerfehn"},"__",":","__",{"$f":"Platzzuordnung!BA89","v":30},{"$f":"Platzzuordnung!BB89","v":2},{"$f":"Platzzuordnung!BC89","v":"ZwRu2"},{"$f":"Platzzuordnung!BD89","v":"11:48:00"},{"$f":"Platzzuordnung!BB89","v":2},{"$f":"Platzzuordnung!BE89","v":"VfL \"Fortuna\" Veenhusen 2"},{"$f":"Platzzuordnung!BF89","v":"TuRa Westrhauderfehn"},"__",":","__"]
[{"$f":"Platzzuordnung!BA24","v":33},{"$f":"Platzzuordnung!BC24","v":"PlSp13-18"},{"$f":"Platzzuordnung!BD24","v":"09:36:00"},{"$f":"Platzzuordnung!BB24","v":3},{"$f":"Platzzuordnung!BE24","v":"Blau-Weiß Papenburg EE"},{"$f":"Platzzuordnung!BF24","v":"TuRa Westrhauderfehn FF"},"__",":","__",{"$f":"Platzzuordnung!BA90","v":42},{"$f":"Platzzuordnung!BB90","v":3},{"$f":"Platzzuordnung!BC90","v":"PlSp13-18"},{"$f":"Platzzuordnung!BD90","v":"11:48:00"},{"$f":"Platzzuordnung!BB90","v":3},{"$f":"Platzzuordnung!BE90","v":"TuRa Westrhauderfehn FF"},{"$f":"Platzzuordnung!BF90","v":"VfB 1928 Wilden"},"__",":","__"]
[{"$f":"Platzzuordnung!BA25","v":48},{"$f":"Platzzuordnung!BC25","v":"PlSp19-24"},{"$f":"Platzzuordnung!BD25","v":"09:36:00"},{"$f":"Platzzuordnung!BB25","v":4},{"$f":"Platzzuordnung!BE25","v":"TuS Eversten 2 EE"},{"$f":"Platzzuordnung!BF25","v":"JSG Harderberg/Kloster Oesede 1 FF"},"__",":","__",{"$f":"Platzzuordnung!BA91","v":57},{"$f":"Platzzuordnung!BB91","v":4},{"$f":"Platzzuordnung!BC91","v":"PlSp19-24"},{"$f":"Platzzuordnung!BD91","v":"11:48:00"},{"$f":"Platzzuordnung!BB91","v":4},{"$f":"Platzzuordnung!BE91","v":"JSG Harderberg/Kloster Oesede 1 FF"},{"$f":"Platzzuordnung!BF91","v":"VfL Weiße Elf Nordhorn"},"__",":","__"]
[{"$f":"Platzzuordnung!BA26","v":93},{"$f":"Platzzuordnung!BC26","v":"PlSp37-42"},{"$f":"Platzzuordnung!BD26","v":"09:36:00"},{"$f":"Platzzuordnung!BB26","v":5},{"$f":"Platzzuordnung!BE26","v":"SV Warsingsfehn EE"},{"$f":"Platzzuordnung!BF26","v":"VfL \"Fortuna\" Veenhusen 3 FF"},"__",":","__",{"$f":"Platzzuordnung!BA92","v":72},{"$f":"Platzzuordnung!BB92","v":5},{"$f":"Platzzuordnung!BC92","v":"PlSp25-30"},{"$f":"Platzzuordnung!BD92","v":"11:48:00"},{"$f":"Platzzuordnung!BB92","v":5},{"$f":"Platzzuordnung!BE92","v":"Ammi"},{"$f":"Platzzuordnung!BF92","v":"JFV Leer"},"__",":","__"]
[{"$f":"Platzzuordnung!BA27","v":79},{"$f":"Platzzuordnung!BC27","v":"PlSp31-36"},{"$f":"Platzzuordnung!BD27","v":"09:36:00"},{"$f":"Platzzuordnung!BB27","v":6},{"$f":"Platzzuordnung!BE27","v":"Test Team B"},{"$f":"Platzzuordnung!BF27","v":"JVC Dedemsvaart"},"__",":","__",{"$f":"Platzzuordnung!BA93","v":103},{"$f":"Platzzuordnung!BB93","v":6},{"$f":"Platzzuordnung!BC93","v":"PlSp37-42"},{"$f":"Platzzuordnung!BD93","v":"11:48:00"},{"$f":"Platzzuordnung!BB93","v":6},{"$f":"Platzzuordnung!BE93","v":"VfL \"Fortuna\" Veenhusen 3"},{"$f":"Platzzuordnung!BF93","v":"Test Team A"},"__",":","__"]
[{"$f":"Platzzuordnung!BA28","v":5},{"$f":"Platzzuordnung!BC28","v":"ZwRu1"},{"$f":"Platzzuordnung!BD28","v":"09:48:00"},{"$f":"Platzzuordnung!BB28","v":1},{"$f":"Platzzuordnung!BE28","v":"TuS Eversten 2"},{"$f":"Platzzuordnung!BF28","v":"MSG Moormerland EE"},"__",":","__",{"$f":"Platzzuordnung!BA94","v":106},{"$f":"Platzzuordnung!BB94","v":1},{"$f":"Platzzuordnung!BC94","v":"Halbfinale"},{"$f":"Platzzuordnung!BD94","v":"13:00:00"},{"$f":"Platzzuordnung!BB94","v":1},null,null,"__",":","__"]
[{"$f":"Platzzuordnung!BA29","v":20},{"$f":"Platzzuordnung!BC29","v":"ZwRu2"},{"$f":"Platzzuordnung!BD29","v":"09:48:00"},{"$f":"Platzzuordnung!BB29","v":2},{"$f":"Platzzuordnung!BE29","v":"TuRa Westrhauderfehn"},{"$f":"Platzzuordnung!BF29","v":"SV Spetzerfehn FF"},"__",":","__",{"$f":"Platzzuordnung!BA95","v":107},{"$f":"Platzzuordnung!BB95","v":2},{"$f":"Platzzuordnung!BC95","v":"Halbfinale"},{"$f":"Platzzuordnung!BD95","v":"13:00:00"},{"$f":"Platzzuordnung!BB95","v":2},null,null,"__",":","__"]
[{"$f":"Platzzuordnung!BA30","v":34},{"$f":"Platzzuordnung!BC30","v":"PlSp13-18"},{"$f":"Platzzuordnung!BD30","v":"09:48:00"},{"$f":"Platzzuordnung!BB30","v":3},{"$f":"Platzzuordnung!BE30","v":"VfB 1928 Wilden"},{"$f":"Platzzuordnung!BF30","v":"JSG Riede/Emtinghausen"},"__",":","__",{"$f":"Platzzuordnung!BA96","v":104},{"$f":"Platzzuordnung!BB96","v":3},{"$f":"Platzzuordnung!BC96","v":"PlSp37-42"},{"$f":"Platzzuordnung!BD96","v":"13:00:00"},{"$f":"Platzzuordnung!BB96","v":3},{"$f":"Platzzuordnung!BE96","v":"SV Warsingsfehn"},{"$f":"Platzzuordnung!BF96","v":"VfL \"Fortuna\" Veenhusen 3 FF"},"__",":","__"]
[{"$f":"Platzzuordnung!BA31","v":49},{"$f":"Platzzuordnung!BC31","v":"PlSp19-24"},{"$f":"Platzzuordnung!BD31","v":"09:48:00"},{"$f":"Platzzuordnung!BB31","v":4},{"$f":"Platzzuordnung!BE31","v":"VfL Weiße Elf Nordhorn"},{"$f":"Platzzuordnung!BF31","v":"Blau-Weiß Papenburg"},"__",":","__",{"$f":"Platzzuordnung!BA97","v":58},{"$f":"Platzzuordnung!BB97","v":4},{"$f":"Platzzuordnung!BC97","v":"PlSp19-24"},{"$f":"Platzzuordnung!BD97","v":"13:00:00"},{"$f":"Platzzuordnung!BB97","v":4},{"$f":"Platzzuordnung!BE97","v":"vv Beilen"},{"$f":"Platzzuordnung!BF97","v":"VfL Viktoria Flachsmeer"},"__",":","__"]
[{"$f":"Platzzuordnung!BA32","v":64},{"$f":"Platzzuordnung!BC32","v":"PlSp25-30"},{"$f":"Platzzuordnung!BD32","v":"09:48:00"},{"$f":"Platzzuordnung!BB32","v":5},{"$f":"Platzzuordnung!BE32","v":"JFV Leer"},{"$f":"Platzzuordnung!BF32","v":"Test"},"__",":","__",{"$f":"Platzzuordnung!BA98","v":73},{"$f":"Platzzuordnung!BB98","v":5},{"$f":"Platzzuordnung!BC98","v":"PlSp25-30"},{"$f":"Platzzuordnung!BD98","v":"13:00:00"},{"$f":"Platzzuordnung!BB98","v":5},{"$f":"Platzzuordnung!BE98","v":"Test Team D"},{"$f":"Platzzuordnung!BF98","v":"SFR Möhlenwarf"},"__",":","__"]
[{"$f":"Platzzuordnung!BA33","v":94},{"$f":"Platzzuordnung!BC33","v":"PlSp37-42"},{"$f":"Platzzuordnung!BD33","v":"09:48:00"},{"$f":"Platzzuordnung!BB33","v":6},{"$f":"Platzzuordnung!BE33","v":"TuS Weener"},{"$f":"Platzzuordnung!BF33","v":"SV Warsingsfehn"},"__",":","__",{"$f":"Platzzuordnung!BA99","v":87},{"$f":"Platzzuordnung!BB99","v":6},{"$f":"Platzzuordnung!BC99","v":"PlSp31-36"},{"$f":"Platzzuordnung!BD99","v":"13:00:00"},{"$f":"Platzzuordnung!BB99","v":6},{"$f":"Platzzuordnung!BE99","v":"SV Borussia Salchendorf FF"},{"$f":"Platzzuordnung!BF99","v":"Test Team B"},"__",":","__"]
[{"$f":"Platzzuordnung!BA34","v":6},{"$f":"Platzzuordnung!BC34","v":"ZwRu1"},{"$f":"Platzzuordnung!BD34","v":"10:00:00"},{"$f":"Platzzuordnung!BB34","v":1},{"$f":"Platzzuordnung!BE34","v":"JSG Harderberg/Kloster Oesede 2"},{"$f":"Platzzuordnung!BF34","v":"MSG Moormerland Mädchen"},"__",":","__",{"$f":"Platzzuordnung!BA100","v":108},{"$f":"Platzzuordnung!BB100","v":1},"Halbfinale",{"$f":"Platzzuordnung!BD100","v":"13:12:00"},{"$f":"Platzzuordnung!BB100","v":1},null,null,"__",":","__"]
[{"$f":"Platzzuordnung!BA35","v":21},{"$f":"Platzzuordnung!BC35","v":"ZwRu2"},{"$f":"Platzzuordnung!BD35","v":"10:00:00"},{"$f":"Platzzuordnung!BB35","v":2},{"$f":"Platzzuordnung!BE35","v":"TuS Eversten 1"},{"$f":"Platzzuordnung!BF35","v":"SV Spetzerfehn"},"__",":","__",{"$f":"Platzzuordnung!BA101","v":109},{"$f":"Platzzuordnung!BB101","v":2},"Halbfinale",{"$f":"Platzzuordnung!BD101","v":"13:12:00"},{"$f":"Platzzuordnung!BB101","v":2},null,null,"__",":","__"]
[{"$f":"Platzzuordnung!BA36","v":35},{"$f":"Platzzuordnung!BC36","v":"PlSp13-18"},{"$f":"Platzzuordnung!BD36","v":"10:00:00"},{"$f":"Platzzuordnung!BB36","v":3},{"$f":"Platzzuordnung!BE36","v":"JSG Harderberg/Kloster Oesede 1"},{"$f":"Platzzuordnung!BF36","v":"Blau-Weiß Papenburg EE"},"__",":","__",{"$f":"Platzzuordnung!BA102","v":43},{"$f":"Platzzuordnung!BB102","v":3},{"$f":"Platzzuordnung!BC102","v":"PlSp13-18"},{"$f":"Platzzuordnung!BD102","v":"13:12:00"},{"$f":"Platzzuordnung!BB102","v":3},{"$f":"Platzzuordnung!BE102","v":"JSG Harderberg/Kloster Oesede 1"},{"$f":"Platzzuordnung!BF102","v":"SV Ostfrisia Moordorf"},"__",":","__"]
[{"$f":"Platzzuordnung!BA37","v":95},{"$f":"Platzzuordnung!BC37","v":"PlSp37-42"},{"$f":"Platzzuordnung!BD37","v":"10:00:00"},{"$f":"Platzzuordnung!BB37","v":4},{"$f":"Platzzuordnung!BE37","v":"VfL \"Fortuna\" Veenhusen 3"},{"$f":"Platzzuordnung!BF37","v":"SV Warsingsfehn EE"},"__",":","__",{"$f":"Platzzuordnung!BA103","v":105},{"$f":"Platzzuordnung!BB103","v":4},{"$f":"Platzzuordnung!BC103","v":"PlSp37-42"},{"$f":"Platzzuordnung!BD103","v":"13:12:00"},{"$f":"Platzzuordnung!BB103","v":4},{"$f":"Platzzuordnung!BE103","v":"TuS Weener"},{"$f":"Platzzuordnung!BF103","v":"VfL \"Fortuna\" Veenhusen 3"},"__",":","__"]
[{"$f":"Platzzuordnung!BA38","v":65},{"$f":"Platzzuordnung!BC38","v":"PlSp25-30"},{"$f":"Platzzuordnung!BD38","v":"10:00:00"},{"$f":"Platzzuordnung!BB38","v":5},{"$f":"Platzzuordnung!BE38","v":"Test Team D"},{"$f":"Platzzuordnung!BF38","v":"Willy"},"__",":","__",{"$f":"Platzzuordnung!BA104","v":74},{"$f":"Platzzuordnung!BB104","v":5},{"$f":"Platzzuordnung!BC104","v":"PlSp25-30"},{"$f":"Platzzuordnung!BD104","v":"13:12:00"},{"$f":"Platzzuordnung!BB104","v":5},{"$f":"Platzzuordnung!BE104","v":"Test"},{"$f":"Platzzuordnung!BF104","v":"Ammi"},"__",":","__"]
[{"$f":"Platzzuordnung!BA39","v":80},{"$f":"Platzzuordnung!BC39","v":"PlSp31-36"},{"$f":"Platzzuordnung!BD39","v":"10:00:00"},{"$f":"Platzzuordnung!BB39","v":6},{"$f":"Platzzuordnung!BE39","v":"SV Borussia Salchendorf"},{"$f":"Platzzuordnung!BF39","v":"JVC Dedemsvaart EE"},"__",":","__",{"$f":"Platzzuordnung!BA105","v":88},{"$f":"Platzzuordnung!BB105","v":6},{"$f":"Platzzuordnung!BC105","v":"PlSp31-36"},{"$f":"Platzzuordnung!BD105","v":"13:12:00"},{"$f":"Platzzuordnung!BB105","v":6},{"$f":"Platzzuordnung!BE105","v":"SV Borussia Salchendorf"},{"$f":"Platzzuordnung!BF105","v":"vv Jubbega"},"__",":","__"]
[{"$f":"Platzzuordnung!BA40","v":7},{"$f":"Platzzuordnung!BC40","v":"ZwRu1"},{"$f":"Platzzuordnung!BD40","v":"10:12:00"},{"$f":"Platzzuordnung!BB40","v":1},{"$f":"Platzzuordnung!BE40","v":"MSG Moormerland EE"},{"$f":"Platzzuordnung!BF40","v":"VfL \"Fortuna\" Veenhusen 1"},"__",":","__",{"$f":"Platzzuordnung!BA106","v":110},{"$f":"Platzzuordnung!BB106","v":1},"Halbfinale",{"$f":"Platzzuordnung!BD106","v":"13:24:00"},{"$f":"Platzzuordnung!BB106","v":1},null,null,"__",":","__"]
[{"$f":"Platzzuordnung!BA41","v":22},{"$f":"Platzzuordnung!BC41","v":"ZwRu2"},{"$f":"Platzzuordnung!BD41","v":"10:12:00"},{"$f":"Platzzuordnung!BB41","v":2},{"$f":"Platzzuordnung!BE41","v":"SV Spetzerfehn FF"},{"$f":"Platzzuordnung!BF41","v":"VfL \"Fortuna\" Veenhusen 2"},"__",":","__",{"$f":"Platzzuordnung!BA107","v":111},{"$f":"Platzzuordnung!BB107","v":2},"Halbfinale",{"$f":"Platzzuordnung!BD107","v":"13:24:00"},{"$f":"Platzzuordnung!BB107","v":2},null,null,"__",":","__"]
[{"$f":"Platzzuordnung!BA42","v":36},{"$f":"Platzzuordnung!BC42","v":"PlSp13-18"},{"$f":"Platzzuordnung!BD42","v":"10:12:00"},{"$f":"Platzzuordnung!BB42","v":3},{"$f":"Platzzuordnung!BE42","v":"SV Ostfrisia Moordorf"},{"$f":"Platzzuordnung!BF42","v":"JSG Riede/Emtinghausen"},"__",":","__",{"$f":"Platzzuordnung!BA108","v":44},{"$f":"Platzzuordnung!BB108","v":3},{"$f":"Platzzuordnung!BC108","v":"PlSp13-18"},{"$f":"Platzzuordnung!BD108","v":"13:24:00"},{"$f":"Platzzuordnung!BB108","v":3},{"$f":"Platzzuordnung!BE108","v":"JSG Riede/Emtinghausen"},{"$f":"Platzzuordnung!BF108","v":"TuRa Westrhauderfehn FF"},"__",":","__"]
[{"$f":"Platzzuordnung!BA43","v":50},{"$f":"Platzzuordnung!BC43","v":"PlSp19-24"},{"$f":"Platzzuordnung!BD43","v":"10:12:00"},{"$f":"Platzzuordnung!BB43","v":4},{"$f":"Platzzuordnung!BE43","v":"vv Beilen"},{"$f":"Platzzuordnung!BF43","v":"TuS Eversten 2 EE"},"__",":","__",{"$f":"Platzzuordnung!BA109","v":59},{"$f":"Platzzuordnung!BB109","v":4},{"$f":"Platzzuordnung!BC109","v":"PlSp19-24"},{"$f":"Platzzuordnung!BD109","v":"13:24:00"},{"$f":"Platzzuordnung!BB109","v":4},{"$f":"Platzzuordnung!BE109","v":"Blau-Weiß Papenburg"},{"$f":"Platzzuordnung!BF109","v":"JSG Harderberg/Kloster Oesede 1 FF"},"__",":","__"]
[{"$f":"Platzzuordnung!BA44","v":96},{"$f":"Platzzuordnung!BC44","v":"PlSp37-42"},{"$f":"Platzzuordnung!BD44","v":"10:12:00"},{"$f":"Platzzuordnung!BB44","v":5},{"$f":"Platzzuordnung!BE44","v":"Test Team A"},{"$f":"Platzzuordnung!BF44","v":"SV Warsingsfehn"},"__",":","__",{"$f":"Platzzuordnung!BA110","v":75},{"$f":"Platzzuordnung!BB110","v":5},{"$f":"Platzzuordnung!BC110","v":"PlSp25-30"},{"$f":"Platzzuordnung!BD110","v":"13:24:00"},{"$f":"Platzzuordnung!BB110","v":5},{"$f":"Platzzuordnung!BE110","v":"JFV Leer"},{"$f":"Platzzuordnung!BF110","v":"Test Team D"},"__",":","__"]
[{"$f":"Platzzuordnung!BA45","v":81},{"$f":"Platzzuordnung!BC45","v":"PlSp31-36"},{"$f":"Platzzuordnung!BD45","v":"10:12:00"},{"$f":"Platzzuordnung!BB45","v":6},{"$f":"Platzzuordnung!BE45","v":"vv Jubbega"},{"$f":"Platzzuordnung!BF45","v":"JVC Dedemsvaart"},"__",":","__",{"$f":"Platzzuordnung!BA111","v":89},{"$f":"Platzzuordnung!BB111","v":6},{"$f":"Platzzuordnung!BC111","v":"PlSp31-36"},{"$f":"Platzzuordnung!BD111","v":"13:24:00"},{"$f":"Platzzuordnung!BB111","v":6},{"$f":"Platzzuordnung!BE111","v":"JVC Dedemsvaart"},{"$f":"Platzzuordnung!BF111","v":"SV Borussia Salchendorf FF"},"__",":","__"]
[{"$f":"Platzzuordnung!BA46","v":8},{"$f":"Platzzuordnung!BC46","v":"ZwRu1"},{"$f":"Platzzuordnung!BD46","v":"10:24:00"},{"$f":"Platzzuordnung!BB46","v":1},{"$f":"Platzzuordnung!BE46","v":"JSG Riede/Emtinghausen EE"},{"$f":"Platzzuordnung!BF46","v":"JSG Harderberg/Kloster Oesede 2"},"__",":","__",{"$f":"Platzzuordnung!BA112","v":45},{"$f":"Platzzuordnung!BB112","v":3},{"$f":"Platzzuordnung!BC112","v":"PlSp13-18"},{"$f":"Platzzuordnung!BD112","v":"13:36:00"},{"$f":"Platzzuordnung!BB112","v":3},{"$f":"Platzzuordnung!BE112","v":"VfB 1928 Wilden"},{"$f":"Platzzuordnung!BF112","v":"JSG Harderberg/Kloster Oesede 1"}]
[{"$f":"Platzzuordnung!BA47","v":23},{"$f":"Platzzuordnung!BC47","v":"ZwRu2"},{"$f":"Platzzuordnung!BD47","v":"10:24:00"},{"$f":"Platzzuordnung!BB47","v":2},{"$f":"Platzzuordnung!BE47","v":"vv BeilenFF"},{"$f":"Platzzuordnung!BF47","v":"TuS Eversten 1"},"__",":","__",{"$f":"Platzzuordnung!BA113","v":60},{"$f":"Platzzuordnung!BB113","v":4},{"$f":"Platzzuordnung!BC113","v":"PlSp19-24"},{"$f":"Platzzuordnung!BD113","v":"13:36:00"},{"$f":"Platzzuordnung!BB113","v":4},{"$f":"Platzzuordnung!BE113","v":"VfL Weiße Elf Nordhorn"},{"$f":"Platzzuordnung!BF113","v":"vv Beilen"}]
[{"$f":"Platzzuordnung!BA48","v":37},{"$f":"Platzzuordnung!BC48","v":"PlSp13-18"},{"$f":"Platzzuordnung!BD48","v":"10:24:00"},{"$f":"Platzzuordnung!BB48","v":3},{"$f":"Platzzuordnung!BE48","v":"Blau-Weiß Papenburg EE"},{"$f":"Platzzuordnung!BF48","v":"VfB 1928 Wilden"},"__",":","__",{"$f":"Platzzuordnung!BA114","v":90},{"$f":"Platzzuordnung!BB114","v":6},{"$f":"Platzzuordnung!BC114","v":"PlSp31-36"},{"$f":"Platzzuordnung!BD114","v":"13:36:00"},{"$f":"Platzzuordnung!BB114","v":6},{"$f":"Platzzuordnung!BE114","v":"Test Team B"},{"$f":"Platzzuordnung!BF114","v":"SV Borussia Salchendorf"}]
[{"$f":"Platzzuordnung!BA49","v":51},{"$f":"Platzzuordnung!BC49","v":"PlSp19-24"},{"$f":"Platzzuordnung!BD49","v":"10:24:00"},{"$f":"Platzzuordnung!BB49","v":4},{"$f":"Platzzuordnung!BE49","v":"VfL Viktoria Flachsmeer"},{"$f":"Platzzuordnung!BF49","v":"Blau-Weiß Papenburg"},"__",":","__",{"$f":"Platzzuordnung!BA115","v":112},{"$f":"Platzzuordnung!BB115","v":1},"Platz 11",{"$f":"Platzzuordnung!BD115","v":"13:48:00"},{"$f":"Platzzuordnung!BB115","v":1}]
[{"$f":"Platzzuordnung!BA50","v":66},{"$f":"Platzzuordnung!BC50","v":"PlSp25-30"},{"$f":"Platzzuordnung!BD50","v":"10:24:00"},{"$f":"Platzzuordnung!BB50","v":5},{"$f":"Platzzuordnung!BE50","v":"SFR Möhlenwarf"},{"$f":"Platzzuordnung!BF50","v":"Test"},"__",":","__",{"$f":"Platzzuordnung!BA116","v":113},{"$f":"Platzzuordnung!BB116","v":2},"Platz 9",{"$f":"Platzzuordnung!BD116","v":"13:48:00"},{"$f":"Platzzuordnung!BB116","v":2}]
[{"$f":"Platzzuordnung!BA51","v":97},{"$f":"Platzzuordnung!BC51","v":"PlSp37-42"},{"$f":"Platzzuordnung!BD51","v":"10:24:00"},{"$f":"Platzzuordnung!BB51","v":6},{"$f":"Platzzuordnung!BE51","v":"SV Warsingsfehn EE"},{"$f":"Platzzuordnung!BF51","v":"TuS Weener"},"__",":","__",{"$f":"Platzzuordnung!BA117","v":114},{"$f":"Platzzuordnung!BB117","v":3},"Platz 7",{"$f":"Platzzuordnung!BD117","v":"13:48:00"},{"$f":"Platzzuordnung!BB117","v":3}]
[{"$f":"Platzzuordnung!BA52","v":9},{"$f":"Platzzuordnung!BC52","v":"ZwRu1"},{"$f":"Platzzuordnung!BD52","v":"10:36:00"},{"$f":"Platzzuordnung!BB52","v":1},{"$f":"Platzzuordnung!BE52","v":"MSG Moormerland Mädchen"},{"$f":"Platzzuordnung!BF52","v":"MSG Moormerland EE"},"__",":","__",{"$f":"Platzzuordnung!BA118","v":115},{"$f":"Platzzuordnung!BB118","v":4},"Platz 5",{"$f":"Platzzuordnung!BD118","v":"13:48:00"},{"$f":"Platzzuordnung!BB118","v":4}]
[{"$f":"Platzzuordnung!BA53","v":24},{"$f":"Platzzuordnung!BC53","v":"ZwRu2"},{"$f":"Platzzuordnung!BD53","v":"10:36:00"},{"$f":"Platzzuordnung!BB53","v":2},{"$f":"Platzzuordnung!BE53","v":"SV Spetzerfehn"},{"$f":"Platzzuordnung!BF53","v":"SV Spetzerfehn FF"},"__",":","__",{"$f":"Platzzuordnung!BA119","v":116},{"$f":"Platzzuordnung!BB119","v":1},"Platz 3",{"$f":"Platzzuordnung!BD119","v":"14:00:00"},{"$f":"Platzzuordnung!BB119","v":1}]
[{"$f":"Platzzuordnung!BA54","v":98},{"$f":"Platzzuordnung!BC54","v":"PlSp37-42"},{"$f":"Platzzuordnung!BD54","v":"10:36:00"},{"$f":"Platzzuordnung!BB54","v":3},{"$f":"Platzzuordnung!BE54","v":"VfL \"Fortuna\" Veenhusen 3 FF"},{"$f":"Platzzuordnung!BF54","v":"Test Team A"},"__",":","__",{"$f":"Platzzuordnung!BA120","v":117},{"$f":"Platzzuordnung!BB120","v":1},"Finale",{"$f":"Platzzuordnung!BD120","v":"14:30:00"},{"$f":"Platzzuordnung!BB120","v":1}]
[{"$f":"Platzzuordnung!BA55","v":52},{"$f":"Platzzuordnung!BC55","v":"PlSp19-24"},{"$f":"Platzzuordnung!BD55","v":"10:36:00"},{"$f":"Platzzuordnung!BB55","v":4},{"$f":"Platzzuordnung!BE55","v":"TuS Eversten 2 EE"},{"$f":"Platzzuordnung!BF55","v":"VfL Weiße Elf Nordhorn"},"__",":","__"]
[{"$f":"Platzzuordnung!BA56","v":67},{"$f":"Platzzuordnung!BC56","v":"PlSp25-30"},{"$f":"Platzzuordnung!BD56","v":"10:36:00"},{"$f":"Platzzuordnung!BB56","v":5},{"$f":"Platzzuordnung!BE56","v":"Willy"},{"$f":"Platzzuordnung!BF56","v":"JFV Leer"},"__",":","__"]
[{"$f":"Platzzuordnung!BA57","v":82},{"$f":"Platzzuordnung!BC57","v":"PlSp31-36"},{"$f":"Platzzuordnung!BD57","v":"10:36:00"},{"$f":"Platzzuordnung!BB57","v":6},{"$f":"Platzzuordnung!BE57","v":"JVC Dedemsvaart EE"},{"$f":"Platzzuordnung!BF57","v":"Test Team B"},"__",":","__"]
[{"$f":"Platzzuordnung!BA58","v":10},{"$f":"Platzzuordnung!BC58","v":"ZwRu1"},{"$f":"Platzzuordnung!BD58","v":"10:48:00"},{"$f":"Platzzuordnung!BB58","v":1},{"$f":"Platzzuordnung!BE58","v":"TuS Eversten 2"},{"$f":"Platzzuordnung!BF58","v":"JSG Riede/Emtinghausen EE"},"__",":","__"]
[{"$f":"Platzzuordnung!BA59","v":25},{"$f":"Platzzuordnung!BC59","v":"ZwRu2"},{"$f":"Platzzuordnung!BD59","v":"10:48:00"},{"$f":"Platzzuordnung!BB59","v":2},{"$f":"Platzzuordnung!BE59","v":"TuRa Westrhauderfehn"},{"$f":"Platzzuordnung!BF59","v":"vv BeilenFF"},"__",":","__"]
[{"$f":"Platzzuordnung!BA60","v":38},{"$f":"Platzzuordnung!BC60","v":"PlSp13-18"},{"$f":"Platzzuordnung!BD60","v":"10:48:00"},{"$f":"Platzzuordnung!BB60","v":3},{"$f":"Platzzuordnung!BE60","v":"TuRa Westrhauderfehn FF"},{"$f":"Platzzuordnung!BF60","v":"SV Ostfrisia Moordorf"},"__",":","__"]
[{"$f":"Platzzuordnung!BA61","v":53},{"$f":"Platzzuordnung!BC61","v":"PlSp19-24"},{"$f":"Platzzuordnung!BD61","v":"10:48:00"},{"$f":"Platzzuordnung!BB61","v":4},{"$f":"Platzzuordnung!BE61","v":"JSG Harderberg/Kloster Oesede 1 FF"},{"$f":"Platzzuordnung!BF61","v":"VfL Viktoria Flachsmeer"},"__",":","__"]
[{"$f":"Platzzuordnung!BA62","v":99},{"$f":"Platzzuordnung!BC62","v":"PlSp37-42"},{"$f":"Platzzuordnung!BD62","v":"10:48:00"},{"$f":"Platzzuordnung!BB62","v":5},{"$f":"Platzzuordnung!BE62","v":"SV Warsingsfehn"},{"$f":"Platzzuordnung!BF62","v":"SV Warsingsfehn EE"},"__",":","__"]
[{"$f":"Platzzuordnung!BA63","v":83},{"$f":"Platzzuordnung!BC63","v":"PlSp31-36"},{"$f":"Platzzuordnung!BD63","v":"10:48:00"},{"$f":"Platzzuordnung!BB63","v":6},{"$f":"Platzzuordnung!BE63","v":"SV Borussia Salchendorf FF"},{"$f":"Platzzuordnung!BF63","v":"vv Jubbega"},"__",":","__"]
[{"$f":"Platzzuordnung!BA64","v":11},{"$f":"Platzzuordnung!BC64","v":"ZwRu1"},{"$f":"Platzzuordnung!BD64","v":"11:00:00"},{"$f":"Platzzuordnung!BB64","v":1},{"$f":"Platzzuordnung!BE64","v":"JSG Harderberg/Kloster Oesede 2"},{"$f":"Platzzuordnung!BF64","v":"MSG Moormerland EE"},"__",":","__"]
[{"$f":"Platzzuordnung!BA65","v":26},{"$f":"Platzzuordnung!BC65","v":"ZwRu2"},{"$f":"Platzzuordnung!BD65","v":"11:00:00"},{"$f":"Platzzuordnung!BB65","v":2},{"$f":"Platzzuordnung!BE65","v":"TuS Eversten 1"},{"$f":"Platzzuordnung!BF65","v":"SV Spetzerfehn FF"},"__",":","__"]
[{"$f":"Platzzuordnung!BA66","v":39},{"$f":"Platzzuordnung!BC66","v":"PlSp13-18"},{"$f":"Platzzuordnung!BD66","v":"11:00:00"},{"$f":"Platzzuordnung!BB66","v":3},{"$f":"Platzzuordnung!BE66","v":"JSG Riede/Emtinghausen"},{"$f":"Platzzuordnung!BF66","v":"Blau-Weiß Papenburg EE"},"__",":","__"]
[{"$f":"Platzzuordnung!BA67","v":54},{"$f":"Platzzuordnung!BC67","v":"PlSp19-24"},{"$f":"Platzzuordnung!BD67","v":"11:00:00"},{"$f":"Platzzuordnung!BB67","v":4},{"$f":"Platzzuordnung!BE67","v":"Blau-Weiß Papenburg"},{"$f":"Platzzuordnung!BF67","v":"TuS Eversten 2 EE"},"__",":","__"]
[{"$f":"Platzzuordnung!BA68","v":68},{"$f":"Platzzuordnung!BC68","v":"PlSp25-30"},{"$f":"Platzzuordnung!BD68","v":"11:00:00"},{"$f":"Platzzuordnung!BB68","v":5},{"$f":"Platzzuordnung!BE68","v":"Ammi"},{"$f":"Platzzuordnung!BF68","v":"SFR Möhlenwarf"},"__",":","__"]
[{"$f":"Platzzuordnung!BA69","v":100},{"$f":"Platzzuordnung!BC69","v":"PlSp37-42"},{"$f":"Platzzuordnung!BD69","v":"11:00:00"},{"$f":"Platzzuordnung!BB69","v":6},{"$f":"Platzzuordnung!BE69","v":"VfL \"Fortuna\" Veenhusen 3"},{"$f":"Platzzuordnung!BF69","v":"VfL \"Fortuna\" Veenhusen 3 FF"},"__",":","__"]
[null,null,null,null,null,null,"__",":","__"]
[null,null,null,null,null,null,"__",":","__"]
[null,null,null,null,null,null,"__",":","__"]

{"sheet":"Tabelle1","index":49,"n_rows":0,"n_cols":0,"rows_kept":0,"cut":false,"hidden":true,"merged":[]}

{"sheet":"exportva","index":50,"n_rows":29,"n_cols":31,"rows_kept":29,"cut":false,"hidden":true,"merged":[]}
["Datum","Zeit","Saison","Verband","Mannschaftsart_Key","Mannschaftsart","Spielklasse_Key","Spielklasse","Spielgebiet_Key","Spielgebiet","Rahmenspielplan","Staffel_Nr","Staffel","Staffelkennung","Staffelleiter","Spieldatum","Anstoss","Wochentag","Spieltag","Schluesseltag","Spielkennung","Heim Mannschaft","Gast Mannschaft","freigegeben","Spielstaette","Spielleitung","1. Assistent","2. Assistent","Verlegt_Wochentag","Verlegt_Datum","Verlegt_Uhrzeit"]
[{"$f":"IF(B2=0,\"\",Vorgaben!C$3)","v":"2014-06-28"},{"$f":"'Gruppe A1'!D28","v":"14:15:00"},null,null,null,null,null,null,null,null,null,null,null,null,null,{"$f":"A2","v":"2014-06-28"},{"$f":"B2","v":"14:15:00"},null,1,null,{"$f":"'Gruppe A1'!B28","v":1},{"$f":"'Gruppe A1'!J28","v":"Gruppe A1"},{"$f":"'Gruppe A1'!AD28","v":"Gruppe A2"}]
[{"$f":"IF(B3=0,\"\",Vorgaben!C$3)","v":"2014-06-28"},{"$f":"'Gruppe A1'!D29","v":"14:25:00"},null,null,null,null,null,null,null,null,null,null,null,null,null,{"$f":"A3","v":"2014-06-28"},{"$f":"B3","v":"14:25:00"},null,1,null,{"$f":"'Gruppe A1'!B29","v":2},{"$f":"'Gruppe A1'!J29","v":"Gruppe A3"},{"$f":"'Gruppe A1'!AD29","v":"Gruppe A4"}]
[{"$f":"IF(B4=0,\"\",Vorgaben!C$3)","v":"2014-06-28"},{"$f":"'Gruppe A1'!D30","v":"14:35:00"},null,null,null,null,null,null,null,null,null,null,null,null,null,"2014-06-28","14:35:00",null,1,null,{"$f":"'Gruppe A1'!B30","v":3},{"$f":"'Gruppe A1'!J30","v":"Gruppe A5"},{"$f":"'Gruppe A1'!AD30","v":"Gruppe A6"}]
[{"$f":"IF(B5=0,\"\",Vorgaben!C$3)","v":"2014-06-28"},{"$f":"'Gruppe A1'!D31","v":"14:45:00"},null,null,null,null,null,null,null,null,null,null,null,null,null,"2014-06-28","14:45:00",null,1,null,{"$f":"'Gruppe A1'!B31","v":4},{"$f":"'Gruppe A1'!J31","v":"Gruppe A7"},{"$f":"'Gruppe A1'!AD31","v":"Gruppe A8"}]
[{"$f":"IF(B6=0,\"\",Vorgaben!C$3)","v":"2014-06-28"},{"$f":"'Gruppe A1'!D32","v":"14:55:00"},null,null,null,null,null,null,null,null,null,null,null,null,null,"2014-06-28","14:55:00",null,1,null,{"$f":"'Gruppe A1'!B32","v":5},{"$f":"'Gruppe A1'!J32","v":"Gruppe A4"},{"$f":"'Gruppe A1'!AD32","v":"Gruppe A1"}]
[{"$f":"IF(B7=0,\"\",Vorgaben!C$3)","v":"2014-06-28"},{"$f":"'Gruppe A1'!D33","v":"15:05:00"},null,null,null,null,null,null,null,null,null,null,null,null,null,"2014-06-28","15:05:00",null,1,null,{"$f":"'Gruppe A1'!B33","v":6},{"$f":"'Gruppe A1'!J33","v":"Gruppe A2"},{"$f":"'Gruppe A1'!AD33","v":"Gruppe A3"}]
[{"$f":"IF(B8=0,\"\",Vorgaben!C$3)","v":"2014-06-28"},{"$f":"'Gruppe A1'!D34","v":"15:15:00"},null,null,null,null,null,null,null,null,null,null,null,null,null,"2014-06-28","15:15:00",null,1,null,{"$f":"'Gruppe A1'!B34","v":7},{"$f":"'Gruppe A1'!J34","v":"Gruppe A8"},{"$f":"'Gruppe A1'!AD34","v":"Gruppe A5"}]
[{"$f":"IF(B9=0,\"\",Vorgaben!C$3)","v":"2014-06-28"},{"$f":"'Gruppe A1'!D35","v":"15:25:00"},null,null,null,null,null,null,null,null,null,null,null,null,null,"2014-06-28","15:25:00",null,1,null,{"$f":"'Gruppe A1'!B35","v":8},{"$f":"'Gruppe A1'!J35","v":"Gruppe A6"},{"$f":"'Gruppe A1'!AD35","v":"Gruppe A7"}]
[{"$f":"IF(B10=0,\"\",Vorgaben!C$3)","v":"2014-06-28"},{"$f":"'Gruppe A1'!D36","v":"15:35:00"},null,null,null,null,null,null,null,null,null,null,null,null,null,"2014-06-28","15:35:00",null,1,null,{"$f":"'Gruppe A1'!B36","v":9},{"$f":"'Gruppe A1'!J36","v":"Gruppe A5"},{"$f":"'Gruppe A1'!AD36","v":"Gruppe A4"}]
[{"$f":"IF(B11=0,\"\",Vorgaben!C$3)","v":"2014-06-28"},{"$f":"'Gruppe A1'!D37","v":"15:45:00"},null,null,null,null,null,null,null,null,null,null,null,null,null,"2014-06-28","15:45:00",null,1,null,{"$f":"'Gruppe A1'!B37","v":10},{"$f":"'Gruppe A1'!J37","v":"Gruppe A1"},{"$f":"'Gruppe A1'!AD37","v":"Gruppe A3"}]
[{"$f":"IF(B12=0,\"\",Vorgaben!C$3)","v":"2014-06-28"},{"$f":"'Gruppe A1'!D38","v":"15:55:00"},null,null,null,null,null,null,null,null,null,null,null,null,null,"2014-06-28","15:55:00",null,1,null,{"$f":"'Gruppe A1'!B38","v":11},{"$f":"'Gruppe A1'!J38","v":"Gruppe A2"},{"$f":"'Gruppe A1'!AD38","v":"Gruppe A7"}]
[{"$f":"IF(B13=0,\"\",Vorgaben!C$3)","v":"2014-06-28"},{"$f":"'Gruppe A1'!D39","v":"16:05:00"},null,null,null,null,null,null,null,null,null,null,null,null,null,"2014-06-28","16:05:00",null,1,null,{"$f":"'Gruppe A1'!B39","v":12},{"$f":"'Gruppe A1'!J39","v":"Gruppe A6"},{"$f":"'Gruppe A1'!AD39","v":"Gruppe A8"}]
[{"$f":"IF(B14=0,\"\",Vorgaben!C$3)","v":"2014-06-28"},{"$f":"'Gruppe A1'!D40","v":"16:15:00"},null,null,null,null,null,null,null,null,null,null,null,null,null,"2014-06-28","16:15:00",null,1,null,{"$f":"'Gruppe A1'!B40","v":13},{"$f":"'Gruppe A1'!J40","v":"Gruppe A4"},{"$f":"'Gruppe A1'!AD40","v":"Gruppe A2"}]
[{"$f":"IF(B15=0,\"\",Vorgaben!C$3)","v":"2014-06-28"},{"$f":"'Gruppe A1'!D41","v":"16:25:00"},null,null,null,null,null,null,null,null,null,null,null,null,null,"2014-06-28","16:25:00",null,1,null,{"$f":"'Gruppe A1'!B41","v":14},{"$f":"'Gruppe A1'!J41","v":"Gruppe A7"},{"$f":"'Gruppe A1'!AD41","v":"Gruppe A5"}]
[{"$f":"IF(B16=0,\"\",Vorgaben!C$3)","v":"2014-06-28"},{"$f":"'Gruppe A1'!D42","v":"16:35:00"},null,null,null,null,null,null,null,null,null,null,null,null,null,"2014-06-28","16:35:00",null,1,null,{"$f":"'Gruppe A1'!B42","v":15},{"$f":"'Gruppe A1'!J42","v":"Gruppe A8"},{"$f":"'Gruppe A1'!AD42","v":"Gruppe A1"}]
[{"$f":"IF(Vorgaben!$C$1<37,\"\",IF(B17=0,\"\",Vorgaben!C$3))","v":"2014-06-28"},{"$f":"IF(Vorgaben!$C$1<37,\"\",'Gruppe A1'!D43)","v":"16:45:00"},null,null,null,null,null,null,null,null,null,null,null,null,null,"2014-06-28","16:45:00",null,{"$f":"IF(Vorgaben!$C$1<37,\"\",1)","v":1},null,{"$f":"IF(Vorgaben!$C$1<37,\"\",'Gruppe A1'!B43)","v":16},{"$f":"IF(Vorgaben!$C$1<37,\"\",'Gruppe A1'!J43)","v":"Gruppe A3"},{"$f":"IF(Vorgaben!$C$1<37,\"\",'Gruppe A1'!AD43)","v":"Gruppe A6"}]
[{"$f":"IF(Vorgaben!$C$1<37,\"\",IF(B18=0,\"\",Vorgaben!C$3))","v":"2014-06-28"},{"$f":"IF(Vorgaben!$C$1<37,\"\",'Gruppe A1'!D44)","v":"16:55:00"},null,null,null,null,null,null,null,null,null,null,null,null,null,"2014-06-28","16:55:00",null,{"$f":"IF(Vorgaben!$C$1<37,\"\",1)","v":1},null,{"$f":"IF(Vorgaben!$C$1<37,\"\",'Gruppe A1'!B44)","v":17},{"$f":"IF(Vorgaben!$C$1<37,\"\",'Gruppe A1'!J44)","v":"Gruppe A4"},{"$f":"IF(Vorgaben!$C$1<37,\"\",'Gruppe A1'!AD44)","v":"Gruppe A7"}]
[{"$f":"IF(Vorgaben!$C$1<37,\"\",IF(B19=0,\"\",Vorgaben!C$3))","v":"2014-06-28"},{"$f":"IF(Vorgaben!$C$1<37,\"\",'Gruppe A1'!D45)","v":"17:05:00"},null,null,null,null,null,null,null,null,null,null,null,null,null,"2014-06-28","17:05:00",null,{"$f":"IF(Vorgaben!$C$1<37,\"\",1)","v":1},null,{"$f":"IF(Vorgaben!$C$1<37,\"\",'Gruppe A1'!B45)","v":18},{"$f":"IF(Vorgaben!$C$1<37,\"\",'Gruppe A1'!J45)","v":"Gruppe A2"},{"$f":"IF(Vorgaben!$C$1<37,\"\",'Gruppe A1'!AD45)","v":"Gruppe A8"}]
[{"$f":"IF(Vorgaben!$C$1<37,\"\",IF(B20=0,\"\",Vorgaben!C$3))","v":"2014-06-28"},{"$f":"IF(Vorgaben!$C$1<37,\"\",'Gruppe A1'!D46)","v":"17:15:00"},null,null,null,null,null,null,null,null,null,null,null,null,null,"2014-06-28","17:15:00",null,{"$f":"IF(Vorgaben!$C$1<37,\"\",1)","v":1},null,{"$f":"IF(Vorgaben!$C$1<37,\"\",'Gruppe A1'!B46)","v":19},{"$f":"IF(Vorgaben!$C$1<37,\"\",'Gruppe A1'!J46)","v":"Gruppe A1"},{"$f":"IF(Vorgaben!$C$1<37,\"\",'Gruppe A1'!AD46)","v":"Gruppe A6"}]
[{"$f":"IF(Vorgaben!$C$1<37,\"\",IF(B21=0,\"\",Vorgaben!C$3))","v":"2014-06-28"},{"$f":"IF(Vorgaben!$C$1<37,\"\",'Gruppe A1'!D47)","v":"17:25:00"},null,null,null,null,null,null,null,null,null,null,null,null,null,"2014-06-28","17:25:00",null,{"$f":"IF(Vorgaben!$C$1<37,\"\",1)","v":1},null,{"$f":"IF(Vorgaben!$C$1<37,\"\",'Gruppe A1'!B47)","v":20},{"$f":"IF(Vorgaben!$C$1<37,\"\",'Gruppe A1'!J47)","v":"Gruppe A5"},{"$f":"IF(Vorgaben!$C$1<37,\"\",'Gruppe A1'!AD47)","v":"Gruppe A3"}]
[{"$f":"IF(Vorgaben!$C$1<37,\"\",IF(B22=0,\"\",Vorgaben!C$3))","v":"2014-06-28"},{"$f":"IF(Vorgaben!$C$1<37,\"\",'Gruppe A1'!D48)","v":"17:35:00"},null,null,null,null,null,null,null,null,null,null,null,null,null,"2014-06-28","17:35:00",null,{"$f":"IF(Vorgaben!$C$1<37,\"\",1)","v":1},null,{"$f":"IF(Vorgaben!$C$1<37,\"\",'Gruppe A1'!B48)","v":21},{"$f":"IF(Vorgaben!$C$1<37,\"\",'Gruppe A1'!J48)","v":"Gruppe A8"},{"$f":"IF(Vorgaben!$C$1<37,\"\",'Gruppe A1'!AD48)","v":"Gruppe A4"}]
[{"$f":"IF(Vorgaben!$C$1<37,\"\",IF(Vorgaben!$C$1=42,\"\",IF(B23=0,\"\",Vorgaben!C$3)))","v":"2014-06-28"},{"$f":"IF(Vorgaben!$C$1<37,\"\",IF(Vorgaben!$C$1=42,\"\",'Gruppe A1'!D49))","v":"17:45:00"},null,null,null,null,null,null,null,null,null,null,null,null,null,"2014-06-28","17:45:00",null,{"$f":"IF(Vorgaben!$C$1<37,\"\",IF(Vorgaben!$C$1=42,\"\",1))","v":1},null,{"$f":"IF(Vorgaben!$C$1<37,\"\",IF(Vorgaben!$C$1=42,\"\",'Gruppe A1'!B49))","v":22},{"$f":"IF(Vorgaben!$C$1<37,\"\",IF(Vorgaben!$C$1=42,\"\",'Gruppe A1'!J49))","v":"Gruppe A6"},{"$f":"IF(Vorgaben!$C$1<37,\"\",IF(Vorgaben!$C$1=42,\"\",'Gruppe A1'!AD49))","v":"Gruppe A2"}]
[{"$f":"IF(Vorgaben!$C$1<37,\"\",IF(Vorgaben!$C$1=42,\"\",IF(B24=0,\"\",Vorgaben!C$3)))","v":"2014-06-28"},{"$f":"IF(Vorgaben!$C$1<37,\"\",IF(Vorgaben!$C$1=42,\"\",'Gruppe A1'!D50))","v":"17:55:00"},null,null,null,null,null,null,null,null,null,null,null,null,null,"2014-06-28","17:55:00",null,{"$f":"IF(Vorgaben!$C$1<37,\"\",IF(Vorgaben!$C$1=42,\"\",1))","v":1},null,{"$f":"IF(Vorgaben!$C$1<37,\"\",IF(Vorgaben!$C$1=42,\"\",'Gruppe A1'!B50))","v":23},{"$f":"IF(Vorgaben!$C$1<37,\"\",IF(Vorgaben!$C$1=42,\"\",'Gruppe A1'!J50))","v":"Gruppe A7"},{"$f":"IF(Vorgaben!$C$1<37,\"\",IF(Vorgaben!$C$1=42,\"\",'Gruppe A1'!AD50))","v":"Gruppe A3"}]
[{"$f":"IF(Vorgaben!$C$1<37,\"\",IF(Vorgaben!$C$1=42,\"\",IF(B25=0,\"\",Vorgaben!C$3)))","v":"2014-06-28"},{"$f":"IF(Vorgaben!$C$1<37,\"\",IF(Vorgaben!$C$1=42,\"\",'Gruppe A1'!D51))","v":"18:05:00"},null,null,null,null,null,null,null,null,null,null,null,null,null,"2014-06-28","18:05:00",null,{"$f":"IF(Vorgaben!$C$1<37,\"\",IF(Vorgaben!$C$1=42,\"\",1))","v":1},null,{"$f":"IF(Vorgaben!$C$1<37,\"\",IF(Vorgaben!$C$1=42,\"\",'Gruppe A1'!B51))","v":24},{"$f":"IF(Vorgaben!$C$1<37,\"\",IF(Vorgaben!$C$1=42,\"\",'Gruppe A1'!J51))","v":"Gruppe A5"},{"$f":"IF(Vorgaben!$C$1<37,\"\",IF(Vorgaben!$C$1=42,\"\",'Gruppe A1'!AD51))","v":"Gruppe A1"}]
[{"$f":"IF(Vorgaben!$C$1<37,\"\",IF(Vorgaben!$C$1=42,\"\",IF(B26=0,\"\",Vorgaben!C$3)))","v":"2014-06-28"},{"$f":"IF(Vorgaben!$C$1<37,\"\",IF(Vorgaben!$C$1=42,\"\",'Gruppe A1'!D52))","v":"18:15:00"},null,null,null,null,null,null,null,null,null,null,null,null,null,"2014-06-28","18:15:00",null,{"$f":"IF(Vorgaben!$C$1<37,\"\",IF(Vorgaben!$C$1=42,\"\",1))","v":1},null,{"$f":"IF(Vorgaben!$C$1<37,\"\",IF(Vorgaben!$C$1=42,\"\",'Gruppe A1'!B52))","v":25},{"$f":"IF(Vorgaben!$C$1<37,\"\",IF(Vorgaben!$C$1=42,\"\",'Gruppe A1'!J52))","v":"Gruppe A4"},{"$f":"IF(Vorgaben!$C$1<37,\"\",IF(Vorgaben!$C$1=42,\"\",'Gruppe A1'!AD52))","v":"Gruppe A6"}]
[{"$f":"IF(Vorgaben!$C$1<37,\"\",IF(Vorgaben!$C$1=42,\"\",IF(B27=0,\"\",Vorgaben!C$3)))","v":"2014-06-28"},{"$f":"IF(Vorgaben!$C$1<37,\"\",IF(Vorgaben!$C$1=42,\"\",'Gruppe A1'!D53))","v":"18:25:00"},null,null,null,null,null,null,null,null,null,null,null,null,null,"2014-06-28","18:25:00",null,{"$f":"IF(Vorgaben!$C$1<37,\"\",IF(Vorgaben!$C$1=42,\"\",1))","v":1},null,{"$f":"IF(Vorgaben!$C$1<37,\"\",IF(Vorgaben!$C$1=42,\"\",'Gruppe A1'!B53))","v":26},{"$f":"IF(Vorgaben!$C$1<37,\"\",IF(Vorgaben!$C$1=42,\"\",'Gruppe A1'!J53))","v":"Gruppe A3"},{"$f":"IF(Vorgaben!$C$1<37,\"\",IF(Vorgaben!$C$1=42,\"\",'Gruppe A1'!AD53))","v":"Gruppe A8"}]
[{"$f":"IF(Vorgaben!$C$1<37,\"\",IF(Vorgaben!$C$1=42,\"\",IF(B28=0,\"\",Vorgaben!C$3)))","v":"2014-06-28"},{"$f":"IF(Vorgaben!$C$1<37,\"\",IF(Vorgaben!$C$1=42,\"\",'Gruppe A1'!D54))","v":"18:35:00"},null,null,null,null,null,null,null,null,null,null,null,null,null,"2014-06-28","18:35:00",null,{"$f":"IF(Vorgaben!$C$1<37,\"\",IF(Vorgaben!$C$1=42,\"\",1))","v":1},null,{"$f":"IF(Vorgaben!$C$1<37,\"\",IF(Vorgaben!$C$1=42,\"\",'Gruppe A1'!B54))","v":27},{"$f":"IF(Vorgaben!$C$1<37,\"\",IF(Vorgaben!$C$1=42,\"\",'Gruppe A1'!J54))","v":"Gruppe A2"},{"$f":"IF(Vorgaben!$C$1<37,\"\",IF(Vorgaben!$C$1=42,\"\",'Gruppe A1'!AD54))","v":"Gruppe A5"}]
[{"$f":"IF(Vorgaben!$C$1<37,\"\",IF(Vorgaben!$C$1=42,\"\",IF(B29=0,\"\",Vorgaben!C$3)))","v":"2014-06-28"},{"$f":"IF(Vorgaben!$C$1<37,\"\",IF(Vorgaben!$C$1=42,\"\",'Gruppe A1'!D55))","v":"18:45:00"},null,null,null,null,null,null,null,null,null,null,null,null,null,"2014-06-28","18:45:00",null,{"$f":"IF(Vorgaben!$C$1<37,\"\",IF(Vorgaben!$C$1=42,\"\",1))","v":1},null,{"$f":"IF(Vorgaben!$C$1<37,\"\",IF(Vorgaben!$C$1=42,\"\",'Gruppe A1'!B55))","v":28},{"$f":"IF(Vorgaben!$C$1<37,\"\",IF(Vorgaben!$C$1=42,\"\",'Gruppe A1'!J55))","v":"Gruppe A1"},{"$f":"IF(Vorgaben!$C$1<37,\"\",IF(Vorgaben!$C$1=42,\"\",'Gruppe A1'!AD55))","v":"Gruppe A7"}]

{"sheet":"exportvb","index":51,"n_rows":29,"n_cols":31,"rows_kept":29,"cut":false,"hidden":true,"merged":[]}
["Datum","Zeit","Saison","Verband","Mannschaftsart_Key","Mannschaftsart","Spielklasse_Key","Spielklasse","Spielgebiet_Key","Spielgebiet","Rahmenspielplan","Staffel_Nr","Staffel","Staffelkennung","Staffelleiter","Spieldatum","Anstoss","Wochentag","Spieltag","Schluesseltag","Spielkennung","Heim Mannschaft","Gast Mannschaft","freigegeben","Spielstaette","Spielleitung","1. Assistent","2. Assistent","Verlegt_Wochentag","Verlegt_Datum","Verlegt_Uhrzeit"]
[{"$f":"IF(B2=0,\"\",Vorgaben!C$3)","v":"2014-06-28"},{"$f":"'Gruppe B1'!D28","v":"14:15:00"},null,null,null,null,null,null,null,null,null,null,null,null,null,{"$f":"A2","v":"2014-06-28"},{"$f":"B2","v":"14:15:00"},null,1,null,{"$f":"'Gruppe B1'!B28","v":1},{"$f":"'Gruppe B1'!J28","v":"Gruppe B1"},{"$f":"'Gruppe B1'!AD28","v":"Gruppe B2"}]
[{"$f":"IF(B3=0,\"\",Vorgaben!C$3)","v":"2014-06-28"},{"$f":"'Gruppe B1'!D29","v":"14:25:00"},null,null,null,null,null,null,null,null,null,null,null,null,null,{"$f":"A3","v":"2014-06-28"},"14:25:00",null,1,null,{"$f":"'Gruppe B1'!B29","v":2},{"$f":"'Gruppe B1'!J29","v":"Gruppe B3"},{"$f":"'Gruppe B1'!AD29","v":"Gruppe B4"}]
[{"$f":"IF(B4=0,\"\",Vorgaben!C$3)","v":"2014-06-28"},{"$f":"'Gruppe B1'!D30","v":"14:35:00"},null,null,null,null,null,null,null,null,null,null,null,null,null,"2014-06-28","14:35:00",null,1,null,{"$f":"'Gruppe B1'!B30","v":3},{"$f":"'Gruppe B1'!J30","v":"Gruppe B5"},{"$f":"'Gruppe B1'!AD30","v":"Gruppe B6"}]
[{"$f":"IF(B5=0,\"\",Vorgaben!C$3)","v":"2014-06-28"},{"$f":"'Gruppe B1'!D31","v":"14:45:00"},null,null,null,null,null,null,null,null,null,null,null,null,null,"2014-06-28","14:45:00",null,1,null,{"$f":"'Gruppe B1'!B31","v":4},{"$f":"'Gruppe B1'!J31","v":"Gruppe B7"},{"$f":"'Gruppe B1'!AD31","v":"Gruppe B8"}]
[{"$f":"IF(B6=0,\"\",Vorgaben!C$3)","v":"2014-06-28"},{"$f":"'Gruppe B1'!D32","v":"14:55:00"},null,null,null,null,null,null,null,null,null,null,null,null,null,"2014-06-28","14:55:00",null,1,null,{"$f":"'Gruppe B1'!B32","v":5},{"$f":"'Gruppe B1'!J32","v":"Gruppe B4"},{"$f":"'Gruppe B1'!AD32","v":"Gruppe B1"}]
[{"$f":"IF(B7=0,\"\",Vorgaben!C$3)","v":"2014-06-28"},{"$f":"'Gruppe B1'!D33","v":"15:05:00"},null,null,null,null,null,null,null,null,null,null,null,null,null,"2014-06-28","15:05:00",null,1,null,{"$f":"'Gruppe B1'!B33","v":6},{"$f":"'Gruppe B1'!J33","v":"Gruppe B2"},{"$f":"'Gruppe B1'!AD33","v":"Gruppe B3"}]
[{"$f":"IF(B8=0,\"\",Vorgaben!C$3)","v":"2014-06-28"},{"$f":"'Gruppe B1'!D34","v":"15:15:00"},null,null,null,null,null,null,null,null,null,null,null,null,null,"2014-06-28","15:15:00",null,1,null,{"$f":"'Gruppe B1'!B34","v":7},{"$f":"'Gruppe B1'!J34","v":"Gruppe B8"},{"$f":"'Gruppe B1'!AD34","v":"Gruppe B5"}]
[{"$f":"IF(B9=0,\"\",Vorgaben!C$3)","v":"2014-06-28"},{"$f":"'Gruppe B1'!D35","v":"15:25:00"},null,null,null,null,null,null,null,null,null,null,null,null,null,"2014-06-28","15:25:00",null,1,null,{"$f":"'Gruppe B1'!B35","v":8},{"$f":"'Gruppe B1'!J35","v":"Gruppe B6"},{"$f":"'Gruppe B1'!AD35","v":"Gruppe B7"}]
[{"$f":"IF(B10=0,\"\",Vorgaben!C$3)","v":"2014-06-28"},{"$f":"'Gruppe B1'!D36","v":"15:35:00"},null,null,null,null,null,null,null,null,null,null,null,null,null,"2014-06-28","15:35:00",null,1,null,{"$f":"'Gruppe B1'!B36","v":9},{"$f":"'Gruppe B1'!J36","v":"Gruppe B5"},{"$f":"'Gruppe B1'!AD36","v":"Gruppe B4"}]
[{"$f":"IF(B11=0,\"\",Vorgaben!C$3)","v":"2014-06-28"},{"$f":"'Gruppe B1'!D37","v":"15:45:00"},null,null,null,null,null,null,null,null,null,null,null,null,null,"2014-06-28","15:45:00",null,1,null,{"$f":"'Gruppe B1'!B37","v":10},{"$f":"'Gruppe B1'!J37","v":"Gruppe B1"},{"$f":"'Gruppe B1'!AD37","v":"Gruppe B3"}]
[{"$f":"IF(B12=0,\"\",Vorgaben!C$3)","v":"2014-06-28"},{"$f":"'Gruppe B1'!D38","v":"15:55:00"},null,null,null,null,null,null,null,null,null,null,null,null,null,"2014-06-28","15:55:00",null,1,null,{"$f":"'Gruppe B1'!B38","v":11},{"$f":"'Gruppe B1'!J38","v":"Gruppe B2"},{"$f":"'Gruppe B1'!AD38","v":"Gruppe B7"}]
[{"$f":"IF(B13=0,\"\",Vorgaben!C$3)","v":"2014-06-28"},{"$f":"'Gruppe B1'!D39","v":"16:05:00"},null,null,null,null,null,null,null,null,null,null,null,null,null,"2014-06-28","16:05:00",null,1,null,{"$f":"'Gruppe B1'!B39","v":12},{"$f":"'Gruppe B1'!J39","v":"Gruppe B6"},{"$f":"'Gruppe B1'!AD39","v":"Gruppe B8"}]
[{"$f":"IF(B14=0,\"\",Vorgaben!C$3)","v":"2014-06-28"},{"$f":"'Gruppe B1'!D40","v":"16:15:00"},null,null,null,null,null,null,null,null,null,null,null,null,null,"2014-06-28","16:15:00",null,1,null,{"$f":"'Gruppe B1'!B40","v":13},{"$f":"'Gruppe B1'!J40","v":"Gruppe B4"},{"$f":"'Gruppe B1'!AD40","v":"Gruppe B2"}]
[{"$f":"IF(B15=0,\"\",Vorgaben!C$3)","v":"2014-06-28"},{"$f":"'Gruppe B1'!D41","v":"16:25:00"},null,null,null,null,null,null,null,null,null,null,null,null,null,"2014-06-28","16:25:00",null,1,null,{"$f":"'Gruppe B1'!B41","v":14},{"$f":"'Gruppe B1'!J41","v":"Gruppe B7"},{"$f":"'Gruppe B1'!AD41","v":"Gruppe B5"}]
[{"$f":"IF(B16=0,\"\",Vorgaben!C$3)","v":"2014-06-28"},{"$f":"'Gruppe B1'!D42","v":"16:35:00"},null,null,null,null,null,null,null,null,null,null,null,null,null,"2014-06-28","16:35:00",null,1,null,{"$f":"'Gruppe B1'!B42","v":15},{"$f":"'Gruppe B1'!J42","v":"Gruppe B8"},{"$f":"'Gruppe B1'!AD42","v":"Gruppe B1"}]
[{"$f":"IF(Vorgaben!$C$1<37,\"\",IF(B17=0,\"\",Vorgaben!C$3))","v":"2014-06-28"},{"$f":"IF(Vorgaben!$C$1<37,\"\",'Gruppe B1'!D43)","v":"16:45:00"},null,null,null,null,null,null,null,null,null,null,null,null,null,"2014-06-28","16:45:00",null,{"$f":"IF(Vorgaben!$C$1<37,\"\",1)","v":1},null,{"$f":"IF(Vorgaben!$C$1<37,\"\",'Gruppe B1'!B43)","v":16},{"$f":"IF(Vorgaben!$C$1<37,\"\",'Gruppe B1'!J43)","v":"Gruppe B3"},{"$f":"IF(Vorgaben!$C$1<37,\"\",'Gruppe B1'!AD43)","v":"Gruppe B6"}]
[{"$f":"IF(Vorgaben!$C$1<37,\"\",IF(B18=0,\"\",Vorgaben!C$3))","v":"2014-06-28"},{"$f":"IF(Vorgaben!$C$1<37,\"\",'Gruppe B1'!D44)","v":"16:55:00"},null,null,null,null,null,null,null,null,null,null,null,null,null,"2014-06-28","16:55:00",null,{"$f":"IF(Vorgaben!$C$1<37,\"\",1)","v":1},null,{"$f":"IF(Vorgaben!$C$1<37,\"\",'Gruppe B1'!B44)","v":17},{"$f":"IF(Vorgaben!$C$1<37,\"\",'Gruppe B1'!J44)","v":"Gruppe B4"},{"$f":"IF(Vorgaben!$C$1<37,\"\",'Gruppe B1'!AD44)","v":"Gruppe B7"}]
[{"$f":"IF(Vorgaben!$C$1<37,\"\",IF(B19=0,\"\",Vorgaben!C$3))","v":"2014-06-28"},{"$f":"IF(Vorgaben!$C$1<37,\"\",'Gruppe B1'!D45)","v":"17:05:00"},null,null,null,null,null,null,null,null,null,null,null,null,null,"2014-06-28","17:05:00",null,{"$f":"IF(Vorgaben!$C$1<37,\"\",1)","v":1},null,{"$f":"IF(Vorgaben!$C$1<37,\"\",'Gruppe B1'!B45)","v":18},{"$f":"IF(Vorgaben!$C$1<37,\"\",'Gruppe B1'!J45)","v":"Gruppe B2"},{"$f":"IF(Vorgaben!$C$1<37,\"\",'Gruppe B1'!AD45)","v":"Gruppe B8"}]
[{"$f":"IF(Vorgaben!$C$1<37,\"\",IF(B20=0,\"\",Vorgaben!C$3))","v":"2014-06-28"},{"$f":"IF(Vorgaben!$C$1<37,\"\",'Gruppe B1'!D46)","v":"17:15:00"},null,null,null,null,null,null,null,null,null,null,null,null,null,"2014-06-28","17:15:00",null,{"$f":"IF(Vorgaben!$C$1<37,\"\",1)","v":1},null,{"$f":"IF(Vorgaben!$C$1<37,\"\",'Gruppe B1'!B46)","v":19},{"$f":"IF(Vorgaben!$C$1<37,\"\",'Gruppe B1'!J46)","v":"Gruppe B1"},{"$f":"IF(Vorgaben!$C$1<37,\"\",'Gruppe B1'!AD46)","v":"Gruppe B6"}]
[{"$f":"IF(Vorgaben!$C$1<37,\"\",IF(B21=0,\"\",Vorgaben!C$3))","v":"2014-06-28"},{"$f":"IF(Vorgaben!$C$1<37,\"\",'Gruppe B1'!D47)","v":"17:25:00"},null,null,null,null,null,null,null,null,null,null,null,null,null,"2014-06-28","17:25:00",null,{"$f":"IF(Vorgaben!$C$1<37,\"\",1)","v":1},null,{"$f":"IF(Vorgaben!$C$1<37,\"\",'Gruppe B1'!B47)","v":20},{"$f":"IF(Vorgaben!$C$1<37,\"\",'Gruppe B1'!J47)","v":"Gruppe B5"},{"$f":"IF(Vorgaben!$C$1<37,\"\",'Gruppe B1'!AD47)","v":"Gruppe B3"}]
[{"$f":"IF(Vorgaben!$C$1<37,\"\",IF(B22=0,\"\",Vorgaben!C$3))","v":"2014-06-28"},{"$f":"IF(Vorgaben!$C$1<37,\"\",'Gruppe B1'!D48)","v":"17:35:00"},null,null,null,null,null,null,null,null,null,null,null,null,null,"2014-06-28","17:35:00",null,{"$f":"IF(Vorgaben!$C$1<37,\"\",1)","v":1},null,{"$f":"IF(Vorgaben!$C$1<37,\"\",'Gruppe B1'!B48)","v":21},{"$f":"IF(Vorgaben!$C$1<37,\"\",'Gruppe B1'!J48)","v":"Gruppe B8"},{"$f":"IF(Vorgaben!$C$1<37,\"\",'Gruppe B1'!AD48)","v":"Gruppe B4"}]
[{"$f":"IF(Vorgaben!$C$1<37,\"\",IF(Vorgaben!$C$1=42,\"\",IF(B23=0,\"\",Vorgaben!C$3)))","v":"2014-06-28"},{"$f":"IF(Vorgaben!$C$1<37,\"\",IF(Vorgaben!$C$1=42,\"\",'Gruppe B1'!D49))","v":"17:45:00"},null,null,null,null,null,null,null,null,null,null,null,null,null,"2014-06-28","17:45:00",null,{"$f":"IF(Vorgaben!$C$1<37,\"\",IF(Vorgaben!$C$1=42,\"\",1))","v":1},null,{"$f":"IF(Vorgaben!$C$1<37,\"\",IF(Vorgaben!$C$1=42,\"\",'Gruppe B1'!B49))","v":22},{"$f":"IF(Vorgaben!$C$1<37,\"\",IF(Vorgaben!$C$1=42,\"\",'Gruppe B1'!J49))","v":"Gruppe B6"},{"$f":"IF(Vorgaben!$C$1<37,\"\",IF(Vorgaben!$C$1=42,\"\",'Gruppe B1'!AD49))","v":"Gruppe B2"}]
[{"$f":"IF(Vorgaben!$C$1<37,\"\",IF(Vorgaben!$C$1=42,\"\",IF(B24=0,\"\",Vorgaben!C$3)))","v":"2014-06-28"},{"$f":"IF(Vorgaben!$C$1<37,\"\",IF(Vorgaben!$C$1=42,\"\",'Gruppe B1'!D50))","v":"17:55:00"},null,null,null,null,null,null,null,null,null,null,null,null,null,"2014-06-28","17:55:00",null,{"$f":"IF(Vorgaben!$C$1<37,\"\",IF(Vorgaben!$C$1=42,\"\",1))","v":1},null,{"$f":"IF(Vorgaben!$C$1<37,\"\",IF(Vorgaben!$C$1=42,\"\",'Gruppe B1'!B50))","v":23},{"$f":"IF(Vorgaben!$C$1<37,\"\",IF(Vorgaben!$C$1=42,\"\",'Gruppe B1'!J50))","v":"Gruppe B7"},{"$f":"IF(Vorgaben!$C$1<37,\"\",IF(Vorgaben!$C$1=42,\"\",'Gruppe B1'!AD50))","v":"Gruppe B3"}]
[{"$f":"IF(Vorgaben!$C$1<37,\"\",IF(Vorgaben!$C$1=42,\"\",IF(B25=0,\"\",Vorgaben!C$3)))","v":"2014-06-28"},{"$f":"IF(Vorgaben!$C$1<37,\"\",IF(Vorgaben!$C$1=42,\"\",'Gruppe B1'!D51))","v":"18:05:00"},null,null,null,null,null,null,null,null,null,null,null,null,null,"2014-06-28","18:05:00",null,{"$f":"IF(Vorgaben!$C$1<37,\"\",IF(Vorgaben!$C$1=42,\"\",1))","v":1},null,{"$f":"IF(Vorgaben!$C$1<37,\"\",IF(Vorgaben!$C$1=42,\"\",'Gruppe B1'!B51))","v":24},{"$f":"IF(Vorgaben!$C$1<37,\"\",IF(Vorgaben!$C$1=42,\"\",'Gruppe B1'!J51))","v":"Gruppe B5"},{"$f":"IF(Vorgaben!$C$1<37,\"\",IF(Vorgaben!$C$1=42,\"\",'Gruppe B1'!AD51))","v":"Gruppe B1"}]
[{"$f":"IF(Vorgaben!$C$1<37,\"\",IF(Vorgaben!$C$1=42,\"\",IF(B26=0,\"\",Vorgaben!C$3)))","v":"2014-06-28"},{"$f":"IF(Vorgaben!$C$1<37,\"\",IF(Vorgaben!$C$1=42,\"\",'Gruppe B1'!D52))","v":"18:15:00"},null,null,null,null,null,null,null,null,null,null,null,null,null,"2014-06-28","18:15:00",null,{"$f":"IF(Vorgaben!$C$1<37,\"\",IF(Vorgaben!$C$1=42,\"\",1))","v":1},null,{"$f":"IF(Vorgaben!$C$1<37,\"\",IF(Vorgaben!$C$1=42,\"\",'Gruppe B1'!B52))","v":25},{"$f":"IF(Vorgaben!$C$1<37,\"\",IF(Vorgaben!$C$1=42,\"\",'Gruppe B1'!J52))","v":"Gruppe B4"},{"$f":"IF(Vorgaben!$C$1<37,\"\",IF(Vorgaben!$C$1=42,\"\",'Gruppe B1'!AD52))","v":"Gruppe B6"}]
[{"$f":"IF(Vorgaben!$C$1<37,\"\",IF(Vorgaben!$C$1=42,\"\",IF(B27=0,\"\",Vorgaben!C$3)))","v":"2014-06-28"},{"$f":"IF(Vorgaben!$C$1<37,\"\",IF(Vorgaben!$C$1=42,\"\",'Gruppe B1'!D53))","v":"18:25:00"},null,null,null,null,null,null,null,null,null,null,null,null,null,"2014-06-28","18:25:00",null,{"$f":"IF(Vorgaben!$C$1<37,\"\",IF(Vorgaben!$C$1=42,\"\",1))","v":1},null,{"$f":"IF(Vorgaben!$C$1<37,\"\",IF(Vorgaben!$C$1=42,\"\",'Gruppe B1'!B53))","v":26},{"$f":"IF(Vorgaben!$C$1<37,\"\",IF(Vorgaben!$C$1=42,\"\",'Gruppe B1'!J53))","v":"Gruppe B3"},{"$f":"IF(Vorgaben!$C$1<37,\"\",IF(Vorgaben!$C$1=42,\"\",'Gruppe B1'!AD53))","v":"Gruppe B8"}]
[{"$f":"IF(Vorgaben!$C$1<37,\"\",IF(Vorgaben!$C$1=42,\"\",IF(B28=0,\"\",Vorgaben!C$3)))","v":"2014-06-28"},{"$f":"IF(Vorgaben!$C$1<37,\"\",IF(Vorgaben!$C$1=42,\"\",'Gruppe B1'!D54))","v":"18:35:00"},null,null,null,null,null,null,null,null,null,null,null,null,null,"2014-06-28","18:35:00",null,{"$f":"IF(Vorgaben!$C$1<37,\"\",IF(Vorgaben!$C$1=42,\"\",1))","v":1},null,{"$f":"IF(Vorgaben!$C$1<37,\"\",IF(Vorgaben!$C$1=42,\"\",'Gruppe B1'!B54))","v":27},{"$f":"IF(Vorgaben!$C$1<37,\"\",IF(Vorgaben!$C$1=42,\"\",'Gruppe B1'!J54))","v":"Gruppe B2"},{"$f":"IF(Vorgaben!$C$1<37,\"\",IF(Vorgaben!$C$1=42,\"\",'Gruppe B1'!AD54))","v":"Gruppe B5"}]
[{"$f":"IF(Vorgaben!$C$1<37,\"\",IF(Vorgaben!$C$1=42,\"\",IF(B29=0,\"\",Vorgaben!C$3)))","v":"2014-06-28"},{"$f":"IF(Vorgaben!$C$1<37,\"\",IF(Vorgaben!$C$1=42,\"\",'Gruppe B1'!D55))","v":"18:45:00"},null,null,null,null,null,null,null,null,null,null,null,null,null,"2014-06-28","18:45:00",null,{"$f":"IF(Vorgaben!$C$1<37,\"\",IF(Vorgaben!$C$1=42,\"\",1))","v":1},null,{"$f":"IF(Vorgaben!$C$1<37,\"\",IF(Vorgaben!$C$1=42,\"\",'Gruppe B1'!B55))","v":28},{"$f":"IF(Vorgaben!$C$1<37,\"\",IF(Vorgaben!$C$1=42,\"\",'Gruppe B1'!J55))","v":"Gruppe B1"},{"$f":"IF(Vorgaben!$C$1<37,\"\",IF(Vorgaben!$C$1=42,\"\",'Gruppe B1'!AD55))","v":"Gruppe B7"}]

{"sheet":"exportvc","index":52,"n_rows":29,"n_cols":31,"rows_kept":29,"cut":false,"hidden":true,"merged":[]}
["Datum","Zeit","Saison","Verband","Mannschaftsart_Key","Mannschaftsart","Spielklasse_Key","Spielklasse","Spielgebiet_Key","Spielgebiet","Rahmenspielplan","Staffel_Nr","Staffel","Staffelkennung","Staffelleiter","Spieldatum","Anstoss","Wochentag","Spieltag","Schluesseltag","Spielkennung","Heim Mannschaft","Gast Mannschaft","freigegeben","Spielstaette","Spielleitung","1. Assistent","2. Assistent","Verlegt_Wochentag","Verlegt_Datum","Verlegt_Uhrzeit"]
[{"$f":"IF(B2=0,\"\",Vorgaben!C$3)","v":"2014-06-28"},{"$f":"'Gruppe C1'!D28","v":"14:15:00"},null,null,null,null,null,null,null,null,null,null,null,null,null,{"$f":"A2","v":"2014-06-28"},{"$f":"B2","v":"14:15:00"},null,1,null,{"$f":"'Gruppe C1'!B28","v":1},{"$f":"'Gruppe C1'!J28","v":"Gruppe C1"},{"$f":"'Gruppe C1'!AD28","v":"Gruppe C2"}]
[{"$f":"IF(B3=0,\"\",Vorgaben!C$3)","v":"2014-06-28"},{"$f":"'Gruppe C1'!D29","v":"14:25:00"},null,null,null,null,null,null,null,null,null,null,null,null,null,{"$f":"A3","v":"2014-06-28"},"14:25:00",null,1,null,{"$f":"'Gruppe C1'!B29","v":2},{"$f":"'Gruppe C1'!J29","v":"Gruppe C3"},{"$f":"'Gruppe C1'!AD29","v":"Gruppe C4"}]
[{"$f":"IF(B4=0,\"\",Vorgaben!C$3)","v":"2014-06-28"},{"$f":"'Gruppe C1'!D30","v":"14:35:00"},null,null,null,null,null,null,null,null,null,null,null,null,null,"2014-06-28","14:35:00",null,1,null,{"$f":"'Gruppe C1'!B30","v":3},{"$f":"'Gruppe C1'!J30","v":"Gruppe C5"},{"$f":"'Gruppe C1'!AD30","v":"Gruppe C6"}]
[{"$f":"IF(B5=0,\"\",Vorgaben!C$3)","v":"2014-06-28"},{"$f":"'Gruppe C1'!D31","v":"14:45:00"},null,null,null,null,null,null,null,null,null,null,null,null,null,"2014-06-28","14:45:00",null,1,null,{"$f":"'Gruppe C1'!B31","v":4},{"$f":"'Gruppe C1'!J31","v":"Gruppe C7"},{"$f":"'Gruppe C1'!AD31","v":"Gruppe C8"}]
[{"$f":"IF(B6=0,\"\",Vorgaben!C$3)","v":"2014-06-28"},{"$f":"'Gruppe C1'!D32","v":"14:55:00"},null,null,null,null,null,null,null,null,null,null,null,null,null,"2014-06-28","14:55:00",null,1,null,{"$f":"'Gruppe C1'!B32","v":5},{"$f":"'Gruppe C1'!J32","v":"Gruppe C4"},{"$f":"'Gruppe C1'!AD32","v":"Gruppe C1"}]
[{"$f":"IF(B7=0,\"\",Vorgaben!C$3)","v":"2014-06-28"},{"$f":"'Gruppe C1'!D33","v":"15:05:00"},null,null,null,null,null,null,null,null,null,null,null,null,null,"2014-06-28","15:05:00",null,1,null,{"$f":"'Gruppe C1'!B33","v":6},{"$f":"'Gruppe C1'!J33","v":"Gruppe C2"},{"$f":"'Gruppe C1'!AD33","v":"Gruppe C3"}]
[{"$f":"IF(B8=0,\"\",Vorgaben!C$3)","v":"2014-06-28"},{"$f":"'Gruppe C1'!D34","v":"15:15:00"},null,null,null,null,null,null,null,null,null,null,null,null,null,"2014-06-28","15:15:00",null,1,null,{"$f":"'Gruppe C1'!B34","v":7},{"$f":"'Gruppe C1'!J34","v":"Gruppe C8"},{"$f":"'Gruppe C1'!AD34","v":"Gruppe C5"}]
[{"$f":"IF(B9=0,\"\",Vorgaben!C$3)","v":"2014-06-28"},{"$f":"'Gruppe C1'!D35","v":"15:25:00"},null,null,null,null,null,null,null,null,null,null,null,null,null,"2014-06-28","15:25:00",null,1,null,{"$f":"'Gruppe C1'!B35","v":8},{"$f":"'Gruppe C1'!J35","v":"Gruppe C6"},{"$f":"'Gruppe C1'!AD35","v":"Gruppe C7"}]
[{"$f":"IF(B10=0,\"\",Vorgaben!C$3)","v":"2014-06-28"},{"$f":"'Gruppe C1'!D36","v":"15:35:00"},null,null,null,null,null,null,null,null,null,null,null,null,null,"2014-06-28","15:35:00",null,1,null,{"$f":"'Gruppe C1'!B36","v":9},{"$f":"'Gruppe C1'!J36","v":"Gruppe C5"},{"$f":"'Gruppe C1'!AD36","v":"Gruppe C4"}]
[{"$f":"IF(B11=0,\"\",Vorgaben!C$3)","v":"2014-06-28"},{"$f":"'Gruppe C1'!D37","v":"15:45:00"},null,null,null,null,null,null,null,null,null,null,null,null,null,"2014-06-28","15:45:00",null,1,null,{"$f":"'Gruppe C1'!B37","v":10},{"$f":"'Gruppe C1'!J37","v":"Gruppe C1"},{"$f":"'Gruppe C1'!AD37","v":"Gruppe C3"}]
[{"$f":"IF(B12=0,\"\",Vorgaben!C$3)","v":"2014-06-28"},{"$f":"'Gruppe C1'!D38","v":"15:55:00"},null,null,null,null,null,null,null,null,null,null,null,null,null,"2014-06-28","15:55:00",null,1,null,{"$f":"'Gruppe C1'!B38","v":11},{"$f":"'Gruppe C1'!J38","v":"Gruppe C2"},{"$f":"'Gruppe C1'!AD38","v":"Gruppe C7"}]
[{"$f":"IF(B13=0,\"\",Vorgaben!C$3)","v":"2014-06-28"},{"$f":"'Gruppe C1'!D39","v":"16:05:00"},null,null,null,null,null,null,null,null,null,null,null,null,null,"2014-06-28","16:05:00",null,1,null,{"$f":"'Gruppe C1'!B39","v":12},{"$f":"'Gruppe C1'!J39","v":"Gruppe C6"},{"$f":"'Gruppe C1'!AD39","v":"Gruppe C8"}]
[{"$f":"IF(B14=0,\"\",Vorgaben!C$3)","v":"2014-06-28"},{"$f":"'Gruppe C1'!D40","v":"16:15:00"},null,null,null,null,null,null,null,null,null,null,null,null,null,"2014-06-28","16:15:00",null,1,null,{"$f":"'Gruppe C1'!B40","v":13},{"$f":"'Gruppe C1'!J40","v":"Gruppe C4"},{"$f":"'Gruppe C1'!AD40","v":"Gruppe C2"}]
[{"$f":"IF(B15=0,\"\",Vorgaben!C$3)","v":"2014-06-28"},{"$f":"'Gruppe C1'!D41","v":"16:25:00"},null,null,null,null,null,null,null,null,null,null,null,null,null,"2014-06-28","16:25:00",null,1,null,{"$f":"'Gruppe C1'!B41","v":14},{"$f":"'Gruppe C1'!J41","v":"Gruppe C7"},{"$f":"'Gruppe C1'!AD41","v":"Gruppe C5"}]
[{"$f":"IF(B16=0,\"\",Vorgaben!C$3)","v":"2014-06-28"},{"$f":"'Gruppe C1'!D42","v":"16:35:00"},null,null,null,null,null,null,null,null,null,null,null,null,null,"2014-06-28","16:35:00",null,1,null,{"$f":"'Gruppe C1'!B42","v":15},{"$f":"'Gruppe C1'!J42","v":"Gruppe C8"},{"$f":"'Gruppe C1'!AD42","v":"Gruppe C1"}]
[{"$f":"IF(Vorgaben!$C$1<37,\"\",IF(B17=0,\"\",Vorgaben!C$3))","v":"2014-06-28"},{"$f":"IF(Vorgaben!$C$1<37,\"\",'Gruppe C1'!D43)","v":"16:45:00"},null,null,null,null,null,null,null,null,null,null,null,null,null,"2014-06-28","16:45:00",null,{"$f":"IF(Vorgaben!$C$1<37,\"\",1)","v":1},null,{"$f":"IF(Vorgaben!$C$1<37,\"\",'Gruppe C1'!B43)","v":16},{"$f":"IF(Vorgaben!$C$1<37,\"\",'Gruppe C1'!J43)","v":"Gruppe C3"},{"$f":"IF(Vorgaben!$C$1<37,\"\",'Gruppe C1'!AD43)","v":"Gruppe C6"}]
[{"$f":"IF(Vorgaben!$C$1<37,\"\",IF(B18=0,\"\",Vorgaben!C$3))","v":"2014-06-28"},{"$f":"IF(Vorgaben!$C$1<37,\"\",'Gruppe C1'!D44)","v":"16:55:00"},null,null,null,null,null,null,null,null,null,null,null,null,null,"2014-06-28","16:55:00",null,{"$f":"IF(Vorgaben!$C$1<37,\"\",1)","v":1},null,{"$f":"IF(Vorgaben!$C$1<37,\"\",'Gruppe C1'!B44)","v":17},{"$f":"IF(Vorgaben!$C$1<37,\"\",'Gruppe C1'!J44)","v":"Gruppe C4"},{"$f":"IF(Vorgaben!$C$1<37,\"\",'Gruppe C1'!AD44)","v":"Gruppe C7"}]
[{"$f":"IF(Vorgaben!$C$1<37,\"\",IF(B19=0,\"\",Vorgaben!C$3))","v":"2014-06-28"},{"$f":"IF(Vorgaben!$C$1<37,\"\",'Gruppe C1'!D45)","v":"17:05:00"},null,null,null,null,null,null,null,null,null,null,null,null,null,"2014-06-28","17:05:00",null,{"$f":"IF(Vorgaben!$C$1<37,\"\",1)","v":1},null,{"$f":"IF(Vorgaben!$C$1<37,\"\",'Gruppe C1'!B45)","v":18},{"$f":"IF(Vorgaben!$C$1<37,\"\",'Gruppe C1'!J45)","v":"Gruppe C2"},{"$f":"IF(Vorgaben!$C$1<37,\"\",'Gruppe C1'!AD45)","v":"Gruppe C8"}]
[{"$f":"IF(Vorgaben!$C$1<37,\"\",IF(B20=0,\"\",Vorgaben!C$3))","v":"2014-06-28"},{"$f":"IF(Vorgaben!$C$1<37,\"\",'Gruppe C1'!D46)","v":"17:15:00"},null,null,null,null,null,null,null,null,null,null,null,null,null,"2014-06-28","17:15:00",null,{"$f":"IF(Vorgaben!$C$1<37,\"\",1)","v":1},null,{"$f":"IF(Vorgaben!$C$1<37,\"\",'Gruppe C1'!B46)","v":19},{"$f":"IF(Vorgaben!$C$1<37,\"\",'Gruppe C1'!J46)","v":"Gruppe C1"},{"$f":"IF(Vorgaben!$C$1<37,\"\",'Gruppe C1'!AD46)","v":"Gruppe C6"}]
[{"$f":"IF(Vorgaben!$C$1<37,\"\",IF(B21=0,\"\",Vorgaben!C$3))","v":"2014-06-28"},{"$f":"IF(Vorgaben!$C$1<37,\"\",'Gruppe C1'!D47)","v":"17:25:00"},null,null,null,null,null,null,null,null,null,null,null,null,null,"2014-06-28","17:25:00",null,{"$f":"IF(Vorgaben!$C$1<37,\"\",1)","v":1},null,{"$f":"IF(Vorgaben!$C$1<37,\"\",'Gruppe C1'!B47)","v":20},{"$f":"IF(Vorgaben!$C$1<37,\"\",'Gruppe C1'!J47)","v":"Gruppe C5"},{"$f":"IF(Vorgaben!$C$1<37,\"\",'Gruppe C1'!AD47)","v":"Gruppe C3"}]
[{"$f":"IF(Vorgaben!$C$1<37,\"\",IF(B22=0,\"\",Vorgaben!C$3))","v":"2014-06-28"},{"$f":"IF(Vorgaben!$C$1<37,\"\",'Gruppe C1'!D48)","v":"17:35:00"},null,null,null,null,null,null,null,null,null,null,null,null,null,"2014-06-28","17:35:00",null,{"$f":"IF(Vorgaben!$C$1<37,\"\",1)","v":1},null,{"$f":"IF(Vorgaben!$C$1<37,\"\",'Gruppe C1'!B48)","v":21},{"$f":"IF(Vorgaben!$C$1<37,\"\",'Gruppe C1'!J48)","v":"Gruppe C8"},{"$f":"IF(Vorgaben!$C$1<37,\"\",'Gruppe C1'!AD48)","v":"Gruppe C4"}]
[{"$f":"IF(Vorgaben!$C$1<37,\"\",IF(Vorgaben!$C$1=42,\"\",IF(B23=0,\"\",Vorgaben!C$3)))","v":"2014-06-28"},{"$f":"IF(Vorgaben!$C$1<37,\"\",IF(Vorgaben!$C$1=42,\"\",'Gruppe C1'!D49))","v":"17:45:00"},null,null,null,null,null,null,null,null,null,null,null,null,null,"2014-06-28","17:45:00",null,{"$f":"IF(Vorgaben!$C$1<37,\"\",IF(Vorgaben!$C$1=42,\"\",1))","v":1},null,{"$f":"IF(Vorgaben!$C$1<37,\"\",IF(Vorgaben!$C$1=42,\"\",'Gruppe C1'!B49))","v":22},{"$f":"IF(Vorgaben!$C$1<37,\"\",IF(Vorgaben!$C$1=42,\"\",'Gruppe C1'!J49))","v":"Gruppe C6"},{"$f":"IF(Vorgaben!$C$1<37,\"\",IF(Vorgaben!$C$1=42,\"\",'Gruppe C1'!AD49))","v":"Gruppe C2"}]
[{"$f":"IF(Vorgaben!$C$1<37,\"\",IF(Vorgaben!$C$1=42,\"\",IF(B24=0,\"\",Vorgaben!C$3)))","v":"2014-06-28"},{"$f":"IF(Vorgaben!$C$1<37,\"\",IF(Vorgaben!$C$1=42,\"\",'Gruppe C1'!D50))","v":"17:55:00"},null,null,null,null,null,null,null,null,null,null,null,null,null,"2014-06-28","17:55:00",null,{"$f":"IF(Vorgaben!$C$1<37,\"\",IF(Vorgaben!$C$1=42,\"\",1))","v":1},null,{"$f":"IF(Vorgaben!$C$1<37,\"\",IF(Vorgaben!$C$1=42,\"\",'Gruppe C1'!B50))","v":23},{"$f":"IF(Vorgaben!$C$1<37,\"\",IF(Vorgaben!$C$1=42,\"\",'Gruppe C1'!J50))","v":"Gruppe C7"},{"$f":"IF(Vorgaben!$C$1<37,\"\",IF(Vorgaben!$C$1=42,\"\",'Gruppe C1'!AD50))","v":"Gruppe C3"}]
[{"$f":"IF(Vorgaben!$C$1<37,\"\",IF(Vorgaben!$C$1=42,\"\",IF(B25=0,\"\",Vorgaben!C$3)))","v":"2014-06-28"},{"$f":"IF(Vorgaben!$C$1<37,\"\",IF(Vorgaben!$C$1=42,\"\",'Gruppe C1'!D51))","v":"18:05:00"},null,null,null,null,null,null,null,null,null,null,null,null,null,"2014-06-28","18:05:00",null,{"$f":"IF(Vorgaben!$C$1<37,\"\",IF(Vorgaben!$C$1=42,\"\",1))","v":1},null,{"$f":"IF(Vorgaben!$C$1<37,\"\",IF(Vorgaben!$C$1=42,\"\",'Gruppe C1'!B51))","v":24},{"$f":"IF(Vorgaben!$C$1<37,\"\",IF(Vorgaben!$C$1=42,\"\",'Gruppe C1'!J51))","v":"Gruppe C5"},{"$f":"IF(Vorgaben!$C$1<37,\"\",IF(Vorgaben!$C$1=42,\"\",'Gruppe C1'!AD51))","v":"Gruppe C1"}]
[{"$f":"IF(Vorgaben!$C$1<37,\"\",IF(Vorgaben!$C$1=42,\"\",IF(B26=0,\"\",Vorgaben!C$3)))","v":"2014-06-28"},{"$f":"IF(Vorgaben!$C$1<37,\"\",IF(Vorgaben!$C$1=42,\"\",'Gruppe C1'!D52))","v":"18:15:00"},null,null,null,null,null,null,null,null,null,null,null,null,null,"2014-06-28","18:15:00",null,{"$f":"IF(Vorgaben!$C$1<37,\"\",IF(Vorgaben!$C$1=42,\"\",1))","v":1},null,{"$f":"IF(Vorgaben!$C$1<37,\"\",IF(Vorgaben!$C$1=42,\"\",'Gruppe C1'!B52))","v":25},{"$f":"IF(Vorgaben!$C$1<37,\"\",IF(Vorgaben!$C$1=42,\"\",'Gruppe C1'!J52))","v":"Gruppe C4"},{"$f":"IF(Vorgaben!$C$1<37,\"\",IF(Vorgaben!$C$1=42,\"\",'Gruppe C1'!AD52))","v":"Gruppe C6"}]
[{"$f":"IF(Vorgaben!$C$1<37,\"\",IF(Vorgaben!$C$1=42,\"\",IF(B27=0,\"\",Vorgaben!C$3)))","v":"2014-06-28"},{"$f":"IF(Vorgaben!$C$1<37,\"\",IF(Vorgaben!$C$1=42,\"\",'Gruppe C1'!D53))","v":"18:25:00"},null,null,null,null,null,null,null,null,null,null,null,null,null,"2014-06-28","18:25:00",null,{"$f":"IF(Vorgaben!$C$1<37,\"\",IF(Vorgaben!$C$1=42,\"\",1))","v":1},null,{"$f":"IF(Vorgaben!$C$1<37,\"\",IF(Vorgaben!$C$1=42,\"\",'Gruppe C1'!B53))","v":26},{"$f":"IF(Vorgaben!$C$1<37,\"\",IF(Vorgaben!$C$1=42,\"\",'Gruppe C1'!J53))","v":"Gruppe C3"},{"$f":"IF(Vorgaben!$C$1<37,\"\",IF(Vorgaben!$C$1=42,\"\",'Gruppe C1'!AD53))","v":"Gruppe C8"}]
[{"$f":"IF(Vorgaben!$C$1<37,\"\",IF(Vorgaben!$C$1=42,\"\",IF(B28=0,\"\",Vorgaben!C$3)))","v":"2014-06-28"},{"$f":"IF(Vorgaben!$C$1<37,\"\",IF(Vorgaben!$C$1=42,\"\",'Gruppe C1'!D54))","v":"18:35:00"},null,null,null,null,null,null,null,null,null,null,null,null,null,"2014-06-28","18:35:00",null,{"$f":"IF(Vorgaben!$C$1<37,\"\",IF(Vorgaben!$C$1=42,\"\",1))","v":1},null,{"$f":"IF(Vorgaben!$C$1<37,\"\",IF(Vorgaben!$C$1=42,\"\",'Gruppe C1'!B54))","v":27},{"$f":"IF(Vorgaben!$C$1<37,\"\",IF(Vorgaben!$C$1=42,\"\",'Gruppe C1'!J54))","v":"Gruppe C2"},{"$f":"IF(Vorgaben!$C$1<37,\"\",IF(Vorgaben!$C$1=42,\"\",'Gruppe C1'!AD54))","v":"Gruppe C5"}]
[{"$f":"IF(Vorgaben!$C$1<37,\"\",IF(Vorgaben!$C$1=42,\"\",IF(B29=0,\"\",Vorgaben!C$3)))","v":"2014-06-28"},{"$f":"IF(Vorgaben!$C$1<37,\"\",IF(Vorgaben!$C$1=42,\"\",'Gruppe C1'!D55))","v":"18:45:00"},null,null,null,null,null,null,null,null,null,null,null,null,null,"2014-06-28","18:45:00",null,{"$f":"IF(Vorgaben!$C$1<37,\"\",IF(Vorgaben!$C$1=42,\"\",1))","v":1},null,{"$f":"IF(Vorgaben!$C$1<37,\"\",IF(Vorgaben!$C$1=42,\"\",'Gruppe C1'!B55))","v":28},{"$f":"IF(Vorgaben!$C$1<37,\"\",IF(Vorgaben!$C$1=42,\"\",'Gruppe C1'!J55))","v":"Gruppe C1"},{"$f":"IF(Vorgaben!$C$1<37,\"\",IF(Vorgaben!$C$1=42,\"\",'Gruppe C1'!AD55))","v":"Gruppe C7"}]

{"sheet":"exportvd","index":53,"n_rows":29,"n_cols":31,"rows_kept":29,"cut":false,"hidden":true,"merged":[]}
["Datum","Zeit","Saison","Verband","Mannschaftsart_Key","Mannschaftsart","Spielklasse_Key","Spielklasse","Spielgebiet_Key","Spielgebiet","Rahmenspielplan","Staffel_Nr","Staffel","Staffelkennung","Staffelleiter","Spieldatum","Anstoss","Wochentag","Spieltag","Schluesseltag","Spielkennung","Heim Mannschaft","Gast Mannschaft","freigegeben","Spielstaette","Spielleitung","1. Assistent","2. Assistent","Verlegt_Wochentag","Verlegt_Datum","Verlegt_Uhrzeit"]
[{"$f":"IF(B2=0,\"\",Vorgaben!C$3)","v":"2014-06-28"},{"$f":"'Gruppe D1'!D28","v":"14:15:00"},null,null,null,null,null,null,null,null,null,null,null,null,null,{"$f":"A2","v":"2014-06-28"},{"$f":"B2","v":"14:15:00"},null,1,null,{"$f":"'Gruppe D1'!B28","v":1},{"$f":"'Gruppe D1'!J28","v":"Gruppe D1"},{"$f":"'Gruppe D1'!AD28","v":"Gruppe D2"}]
[{"$f":"IF(B3=0,\"\",Vorgaben!C$3)","v":"2014-06-28"},{"$f":"'Gruppe D1'!D29","v":"14:25:00"},null,null,null,null,null,null,null,null,null,null,null,null,null,{"$f":"A3","v":"2014-06-28"},"14:25:00",null,1,null,{"$f":"'Gruppe D1'!B29","v":2},{"$f":"'Gruppe D1'!J29","v":"Gruppe D3"},{"$f":"'Gruppe D1'!AD29","v":"Gruppe D4"}]
[{"$f":"IF(B4=0,\"\",Vorgaben!C$3)","v":"2014-06-28"},{"$f":"'Gruppe D1'!D30","v":"14:35:00"},null,null,null,null,null,null,null,null,null,null,null,null,null,"2014-06-28","14:35:00",null,1,null,{"$f":"'Gruppe D1'!B30","v":3},{"$f":"'Gruppe D1'!J30","v":"Gruppe D5"},{"$f":"'Gruppe D1'!AD30","v":"Gruppe D6"}]
[{"$f":"IF(B5=0,\"\",Vorgaben!C$3)","v":"2014-06-28"},{"$f":"'Gruppe D1'!D31","v":"14:45:00"},null,null,null,null,null,null,null,null,null,null,null,null,null,"2014-06-28","14:45:00",null,1,null,{"$f":"'Gruppe D1'!B31","v":4},{"$f":"'Gruppe D1'!J31","v":"Gruppe D7"},{"$f":"'Gruppe D1'!AD31","v":"Gruppe D8"}]
[{"$f":"IF(B6=0,\"\",Vorgaben!C$3)","v":"2014-06-28"},{"$f":"'Gruppe D1'!D32","v":"14:55:00"},null,null,null,null,null,null,null,null,null,null,null,null,null,"2014-06-28","14:55:00",null,1,null,{"$f":"'Gruppe D1'!B32","v":5},{"$f":"'Gruppe D1'!J32","v":"Gruppe D4"},{"$f":"'Gruppe D1'!AD32","v":"Gruppe D1"}]
[{"$f":"IF(B7=0,\"\",Vorgaben!C$3)","v":"2014-06-28"},{"$f":"'Gruppe D1'!D33","v":"15:05:00"},null,null,null,null,null,null,null,null,null,null,null,null,null,"2014-06-28","15:05:00",null,1,null,{"$f":"'Gruppe D1'!B33","v":6},{"$f":"'Gruppe D1'!J33","v":"Gruppe D2"},{"$f":"'Gruppe D1'!AD33","v":"Gruppe D3"}]
[{"$f":"IF(B8=0,\"\",Vorgaben!C$3)","v":"2014-06-28"},{"$f":"'Gruppe D1'!D34","v":"15:15:00"},null,null,null,null,null,null,null,null,null,null,null,null,null,"2014-06-28","15:15:00",null,1,null,{"$f":"'Gruppe D1'!B34","v":7},{"$f":"'Gruppe D1'!J34","v":"Gruppe D8"},{"$f":"'Gruppe D1'!AD34","v":"Gruppe D5"}]
[{"$f":"IF(B9=0,\"\",Vorgaben!C$3)","v":"2014-06-28"},{"$f":"'Gruppe D1'!D35","v":"15:25:00"},null,null,null,null,null,null,null,null,null,null,null,null,null,"2014-06-28","15:25:00",null,1,null,{"$f":"'Gruppe D1'!B35","v":8},{"$f":"'Gruppe D1'!J35","v":"Gruppe D6"},{"$f":"'Gruppe D1'!AD35","v":"Gruppe D7"}]
[{"$f":"IF(B10=0,\"\",Vorgaben!C$3)","v":"2014-06-28"},{"$f":"'Gruppe D1'!D36","v":"15:35:00"},null,null,null,null,null,null,null,null,null,null,null,null,null,"2014-06-28","15:35:00",null,1,null,{"$f":"'Gruppe D1'!B36","v":9},{"$f":"'Gruppe D1'!J36","v":"Gruppe D5"},{"$f":"'Gruppe D1'!AD36","v":"Gruppe D4"}]
[{"$f":"IF(B11=0,\"\",Vorgaben!C$3)","v":"2014-06-28"},{"$f":"'Gruppe D1'!D37","v":"15:45:00"},null,null,null,null,null,null,null,null,null,null,null,null,null,"2014-06-28","15:45:00",null,1,null,{"$f":"'Gruppe D1'!B37","v":10},{"$f":"'Gruppe D1'!J37","v":"Gruppe D1"},{"$f":"'Gruppe D1'!AD37","v":"Gruppe D3"}]
[{"$f":"IF(B12=0,\"\",Vorgaben!C$3)","v":"2014-06-28"},{"$f":"'Gruppe D1'!D38","v":"15:55:00"},null,null,null,null,null,null,null,null,null,null,null,null,null,"2014-06-28","15:55:00",null,1,null,{"$f":"'Gruppe D1'!B38","v":11},{"$f":"'Gruppe D1'!J38","v":"Gruppe D2"},{"$f":"'Gruppe D1'!AD38","v":"Gruppe D7"}]
[{"$f":"IF(B13=0,\"\",Vorgaben!C$3)","v":"2014-06-28"},{"$f":"'Gruppe D1'!D39","v":"16:05:00"},null,null,null,null,null,null,null,null,null,null,null,null,null,"2014-06-28","16:05:00",null,1,null,{"$f":"'Gruppe D1'!B39","v":12},{"$f":"'Gruppe D1'!J39","v":"Gruppe D6"},{"$f":"'Gruppe D1'!AD39","v":"Gruppe D8"}]
[{"$f":"IF(B14=0,\"\",Vorgaben!C$3)","v":"2014-06-28"},{"$f":"'Gruppe D1'!D40","v":"16:15:00"},null,null,null,null,null,null,null,null,null,null,null,null,null,"2014-06-28","16:15:00",null,1,null,{"$f":"'Gruppe D1'!B40","v":13},{"$f":"'Gruppe D1'!J40","v":"Gruppe D4"},{"$f":"'Gruppe D1'!AD40","v":"Gruppe D2"}]
[{"$f":"IF(B15=0,\"\",Vorgaben!C$3)","v":"2014-06-28"},{"$f":"'Gruppe D1'!D41","v":"16:25:00"},null,null,null,null,null,null,null,null,null,null,null,null,null,"2014-06-28","16:25:00",null,1,null,{"$f":"'Gruppe D1'!B41","v":14},{"$f":"'Gruppe D1'!J41","v":"Gruppe D7"},{"$f":"'Gruppe D1'!AD41","v":"Gruppe D5"}]
[{"$f":"IF(B16=0,\"\",Vorgaben!C$3)","v":"2014-06-28"},{"$f":"'Gruppe D1'!D42","v":"16:35:00"},null,null,null,null,null,null,null,null,null,null,null,null,null,"2014-06-28","16:35:00",null,1,null,{"$f":"'Gruppe D1'!B42","v":15},{"$f":"'Gruppe D1'!J42","v":"Gruppe D8"},{"$f":"'Gruppe D1'!AD42","v":"Gruppe D1"}]
[{"$f":"IF(Vorgaben!$C$1<37,\"\",IF(B17=0,\"\",Vorgaben!C$3))","v":"2014-06-28"},{"$f":"IF(Vorgaben!$C$1<37,\"\",'Gruppe D1'!D43)","v":"16:45:00"},null,null,null,null,null,null,null,null,null,null,null,null,null,"2014-06-28","16:45:00",null,{"$f":"IF(Vorgaben!$C$1<37,\"\",1)","v":1},null,{"$f":"IF(Vorgaben!$C$1<37,\"\",'Gruppe D1'!B43)","v":16},{"$f":"IF(Vorgaben!$C$1<37,\"\",'Gruppe D1'!J43)","v":"Gruppe D3"},{"$f":"IF(Vorgaben!$C$1<37,\"\",'Gruppe D1'!AD43)","v":"Gruppe D6"}]
[{"$f":"IF(Vorgaben!$C$1<37,\"\",IF(B18=0,\"\",Vorgaben!C$3))","v":"2014-06-28"},{"$f":"IF(Vorgaben!$C$1<37,\"\",'Gruppe D1'!D44)","v":"16:55:00"},null,null,null,null,null,null,null,null,null,null,null,null,null,"2014-06-28","16:55:00",null,{"$f":"IF(Vorgaben!$C$1<37,\"\",1)","v":1},null,{"$f":"IF(Vorgaben!$C$1<37,\"\",'Gruppe D1'!B44)","v":17},{"$f":"IF(Vorgaben!$C$1<37,\"\",'Gruppe D1'!J44)","v":"Gruppe D4"},{"$f":"IF(Vorgaben!$C$1<37,\"\",'Gruppe D1'!AD44)","v":"Gruppe D7"}]
[{"$f":"IF(Vorgaben!$C$1<37,\"\",IF(B19=0,\"\",Vorgaben!C$3))","v":"2014-06-28"},{"$f":"IF(Vorgaben!$C$1<37,\"\",'Gruppe D1'!D45)","v":"17:05:00"},null,null,null,null,null,null,null,null,null,null,null,null,null,"2014-06-28","17:05:00",null,{"$f":"IF(Vorgaben!$C$1<37,\"\",1)","v":1},null,{"$f":"IF(Vorgaben!$C$1<37,\"\",'Gruppe D1'!B45)","v":18},{"$f":"IF(Vorgaben!$C$1<37,\"\",'Gruppe D1'!J45)","v":"Gruppe D2"},{"$f":"IF(Vorgaben!$C$1<37,\"\",'Gruppe D1'!AD45)","v":"Gruppe D8"}]
[{"$f":"IF(Vorgaben!$C$1<37,\"\",IF(B20=0,\"\",Vorgaben!C$3))","v":"2014-06-28"},{"$f":"IF(Vorgaben!$C$1<37,\"\",'Gruppe D1'!D46)","v":"17:15:00"},null,null,null,null,null,null,null,null,null,null,null,null,null,"2014-06-28","17:15:00",null,{"$f":"IF(Vorgaben!$C$1<37,\"\",1)","v":1},null,{"$f":"IF(Vorgaben!$C$1<37,\"\",'Gruppe D1'!B46)","v":19},{"$f":"IF(Vorgaben!$C$1<37,\"\",'Gruppe D1'!J46)","v":"Gruppe D1"},{"$f":"IF(Vorgaben!$C$1<37,\"\",'Gruppe D1'!AD46)","v":"Gruppe D6"}]
[{"$f":"IF(Vorgaben!$C$1<37,\"\",IF(B21=0,\"\",Vorgaben!C$3))","v":"2014-06-28"},{"$f":"IF(Vorgaben!$C$1<37,\"\",'Gruppe D1'!D47)","v":"17:25:00"},null,null,null,null,null,null,null,null,null,null,null,null,null,"2014-06-28","17:25:00",null,{"$f":"IF(Vorgaben!$C$1<37,\"\",1)","v":1},null,{"$f":"IF(Vorgaben!$C$1<37,\"\",'Gruppe D1'!B47)","v":20},{"$f":"IF(Vorgaben!$C$1<37,\"\",'Gruppe D1'!J47)","v":"Gruppe D5"},{"$f":"IF(Vorgaben!$C$1<37,\"\",'Gruppe D1'!AD47)","v":"Gruppe D3"}]
[{"$f":"IF(Vorgaben!$C$1<37,\"\",IF(B22=0,\"\",Vorgaben!C$3))","v":"2014-06-28"},{"$f":"IF(Vorgaben!$C$1<37,\"\",'Gruppe D1'!D48)","v":"17:35:00"},null,null,null,null,null,null,null,null,null,null,null,null,null,"2014-06-28","17:35:00",null,{"$f":"IF(Vorgaben!$C$1<37,\"\",1)","v":1},null,{"$f":"IF(Vorgaben!$C$1<37,\"\",'Gruppe D1'!B48)","v":21},{"$f":"IF(Vorgaben!$C$1<37,\"\",'Gruppe D1'!J48)","v":"Gruppe D8"},{"$f":"IF(Vorgaben!$C$1<37,\"\",'Gruppe D1'!AD48)","v":"Gruppe D4"}]
[{"$f":"IF(Vorgaben!$C$1<37,\"\",IF(Vorgaben!$C$1=42,\"\",IF(B23=0,\"\",Vorgaben!C$3)))","v":"2014-06-28"},{"$f":"IF(Vorgaben!$C$1<37,\"\",IF(Vorgaben!$C$1=42,\"\",'Gruppe D1'!D49))","v":"17:45:00"},null,null,null,null,null,null,null,null,null,null,null,null,null,"2014-06-28","17:45:00",null,{"$f":"IF(Vorgaben!$C$1<37,\"\",IF(Vorgaben!$C$1=42,\"\",1))","v":1},null,{"$f":"IF(Vorgaben!$C$1<37,\"\",IF(Vorgaben!$C$1=42,\"\",'Gruppe D1'!B49))","v":22},{"$f":"IF(Vorgaben!$C$1<37,\"\",IF(Vorgaben!$C$1=42,\"\",'Gruppe D1'!J49))","v":"Gruppe D6"},{"$f":"IF(Vorgaben!$C$1<37,\"\",IF(Vorgaben!$C$1=42,\"\",'Gruppe D1'!AD49))","v":"Gruppe D2"}]
[{"$f":"IF(Vorgaben!$C$1<37,\"\",IF(Vorgaben!$C$1=42,\"\",IF(B24=0,\"\",Vorgaben!C$3)))","v":"2014-06-28"},{"$f":"IF(Vorgaben!$C$1<37,\"\",IF(Vorgaben!$C$1=42,\"\",'Gruppe D1'!D50))","v":"17:55:00"},null,null,null,null,null,null,null,null,null,null,null,null,null,"2014-06-28","17:55:00",null,{"$f":"IF(Vorgaben!$C$1<37,\"\",IF(Vorgaben!$C$1=42,\"\",1))","v":1},null,{"$f":"IF(Vorgaben!$C$1<37,\"\",IF(Vorgaben!$C$1=42,\"\",'Gruppe D1'!B50))","v":23},{"$f":"IF(Vorgaben!$C$1<37,\"\",IF(Vorgaben!$C$1=42,\"\",'Gruppe D1'!J50))","v":"Gruppe D7"},{"$f":"IF(Vorgaben!$C$1<37,\"\",IF(Vorgaben!$C$1=42,\"\",'Gruppe D1'!AD50))","v":"Gruppe D3"}]
[{"$f":"IF(Vorgaben!$C$1<37,\"\",IF(Vorgaben!$C$1=42,\"\",IF(B25=0,\"\",Vorgaben!C$3)))","v":"2014-06-28"},{"$f":"IF(Vorgaben!$C$1<37,\"\",IF(Vorgaben!$C$1=42,\"\",'Gruppe D1'!D51))","v":"18:05:00"},null,null,null,null,null,null,null,null,null,null,null,null,null,"2014-06-28","18:05:00",null,{"$f":"IF(Vorgaben!$C$1<37,\"\",IF(Vorgaben!$C$1=42,\"\",1))","v":1},null,{"$f":"IF(Vorgaben!$C$1<37,\"\",IF(Vorgaben!$C$1=42,\"\",'Gruppe D1'!B51))","v":24},{"$f":"IF(Vorgaben!$C$1<37,\"\",IF(Vorgaben!$C$1=42,\"\",'Gruppe D1'!J51))","v":"Gruppe D5"},{"$f":"IF(Vorgaben!$C$1<37,\"\",IF(Vorgaben!$C$1=42,\"\",'Gruppe D1'!AD51))","v":"Gruppe D1"}]
[{"$f":"IF(Vorgaben!$C$1<37,\"\",IF(Vorgaben!$C$1=42,\"\",IF(B26=0,\"\",Vorgaben!C$3)))","v":"2014-06-28"},{"$f":"IF(Vorgaben!$C$1<37,\"\",IF(Vorgaben!$C$1=42,\"\",'Gruppe D1'!D52))","v":"18:15:00"},null,null,null,null,null,null,null,null,null,null,null,null,null,"2014-06-28","18:15:00",null,{"$f":"IF(Vorgaben!$C$1<37,\"\",IF(Vorgaben!$C$1=42,\"\",1))","v":1},null,{"$f":"IF(Vorgaben!$C$1<37,\"\",IF(Vorgaben!$C$1=42,\"\",'Gruppe D1'!B52))","v":25},{"$f":"IF(Vorgaben!$C$1<37,\"\",IF(Vorgaben!$C$1=42,\"\",'Gruppe D1'!J52))","v":"Gruppe D4"},{"$f":"IF(Vorgaben!$C$1<37,\"\",IF(Vorgaben!$C$1=42,\"\",'Gruppe D1'!AD52))","v":"Gruppe D6"}]
[{"$f":"IF(Vorgaben!$C$1<37,\"\",IF(Vorgaben!$C$1=42,\"\",IF(B27=0,\"\",Vorgaben!C$3)))","v":"2014-06-28"},{"$f":"IF(Vorgaben!$C$1<37,\"\",IF(Vorgaben!$C$1=42,\"\",'Gruppe D1'!D53))","v":"18:25:00"},null,null,null,null,null,null,null,null,null,null,null,null,null,"2014-06-28","18:25:00",null,{"$f":"IF(Vorgaben!$C$1<37,\"\",IF(Vorgaben!$C$1=42,\"\",1))","v":1},null,{"$f":"IF(Vorgaben!$C$1<37,\"\",IF(Vorgaben!$C$1=42,\"\",'Gruppe D1'!B53))","v":26},{"$f":"IF(Vorgaben!$C$1<37,\"\",IF(Vorgaben!$C$1=42,\"\",'Gruppe D1'!J53))","v":"Gruppe D3"},{"$f":"IF(Vorgaben!$C$1<37,\"\",IF(Vorgaben!$C$1=42,\"\",'Gruppe D1'!AD53))","v":"Gruppe D8"}]
[{"$f":"IF(Vorgaben!$C$1<37,\"\",IF(Vorgaben!$C$1=42,\"\",IF(B28=0,\"\",Vorgaben!C$3)))","v":"2014-06-28"},{"$f":"IF(Vorgaben!$C$1<37,\"\",IF(Vorgaben!$C$1=42,\"\",'Gruppe D1'!D54))","v":"18:35:00"},null,null,null,null,null,null,null,null,null,null,null,null,null,"2014-06-28","18:35:00",null,{"$f":"IF(Vorgaben!$C$1<37,\"\",IF(Vorgaben!$C$1=42,\"\",1))","v":1},null,{"$f":"IF(Vorgaben!$C$1<37,\"\",IF(Vorgaben!$C$1=42,\"\",'Gruppe D1'!B54))","v":27},{"$f":"IF(Vorgaben!$C$1<37,\"\",IF(Vorgaben!$C$1=42,\"\",'Gruppe D1'!J54))","v":"Gruppe D2"},{"$f":"IF(Vorgaben!$C$1<37,\"\",IF(Vorgaben!$C$1=42,\"\",'Gruppe D1'!AD54))","v":"Gruppe D5"}]
[{"$f":"IF(Vorgaben!$C$1<37,\"\",IF(Vorgaben!$C$1=42,\"\",IF(B29=0,\"\",Vorgaben!C$3)))","v":"2014-06-28"},{"$f":"IF(Vorgaben!$C$1<37,\"\",IF(Vorgaben!$C$1=42,\"\",'Gruppe D1'!D55))","v":"18:45:00"},null,null,null,null,null,null,null,null,null,null,null,null,null,"2014-06-28","18:45:00",null,{"$f":"IF(Vorgaben!$C$1<37,\"\",IF(Vorgaben!$C$1=42,\"\",1))","v":1},null,{"$f":"IF(Vorgaben!$C$1<37,\"\",IF(Vorgaben!$C$1=42,\"\",'Gruppe D1'!B55))","v":28},{"$f":"IF(Vorgaben!$C$1<37,\"\",IF(Vorgaben!$C$1=42,\"\",'Gruppe D1'!J55))","v":"Gruppe D1"},{"$f":"IF(Vorgaben!$C$1<37,\"\",IF(Vorgaben!$C$1=42,\"\",'Gruppe D1'!AD55))","v":"Gruppe D7"}]

{"sheet":"exportve","index":54,"n_rows":29,"n_cols":31,"rows_kept":29,"cut":false,"hidden":true,"merged":[]}
["Datum","Zeit","Saison","Verband","Mannschaftsart_Key","Mannschaftsart","Spielklasse_Key","Spielklasse","Spielgebiet_Key","Spielgebiet","Rahmenspielplan","Staffel_Nr","Staffel","Staffelkennung","Staffelleiter","Spieldatum","Anstoss","Wochentag","Spieltag","Schluesseltag","Spielkennung","Heim Mannschaft","Gast Mannschaft","freigegeben","Spielstaette","Spielleitung","1. Assistent","2. Assistent","Verlegt_Wochentag","Verlegt_Datum","Verlegt_Uhrzeit"]
[{"$f":"IF(B2=0,\"\",Vorgaben!C$3)","v":"2014-06-28"},{"$f":"'Gruppe E1'!D28","v":"14:15:00"},null,null,null,null,null,null,null,null,null,null,null,null,null,{"$f":"A2","v":"2014-06-28"},{"$f":"B2","v":"14:15:00"},null,1,null,{"$f":"'Gruppe E1'!B28","v":1},{"$f":"'Gruppe E1'!J28","v":"Gruppe E1"},{"$f":"'Gruppe E1'!AD28","v":"Gruppe E2"}]
[{"$f":"IF(B3=0,\"\",Vorgaben!C$3)","v":"2014-06-28"},{"$f":"'Gruppe E1'!D29","v":"14:25:00"},null,null,null,null,null,null,null,null,null,null,null,null,null,{"$f":"A3","v":"2014-06-28"},"14:25:00",null,1,null,{"$f":"'Gruppe E1'!B29","v":2},{"$f":"'Gruppe E1'!J29","v":"Gruppe E3"},{"$f":"'Gruppe E1'!AD29","v":"Gruppe E4"}]
[{"$f":"IF(B4=0,\"\",Vorgaben!C$3)","v":"2014-06-28"},{"$f":"'Gruppe E1'!D30","v":"14:35:00"},null,null,null,null,null,null,null,null,null,null,null,null,null,"2014-06-28","14:35:00",null,1,null,{"$f":"'Gruppe E1'!B30","v":3},{"$f":"'Gruppe E1'!J30","v":"Gruppe E5"},{"$f":"'Gruppe E1'!AD30","v":"Gruppe E6"}]
[{"$f":"IF(B5=0,\"\",Vorgaben!C$3)","v":"2014-06-28"},{"$f":"'Gruppe E1'!D31","v":"14:45:00"},null,null,null,null,null,null,null,null,null,null,null,null,null,"2014-06-28","14:45:00",null,1,null,{"$f":"'Gruppe E1'!B31","v":4},{"$f":"'Gruppe E1'!J31","v":"Gruppe E7"},{"$f":"'Gruppe E1'!AD31","v":"Gruppe E8"}]
[{"$f":"IF(B6=0,\"\",Vorgaben!C$3)","v":"2014-06-28"},{"$f":"'Gruppe E1'!D32","v":"14:55:00"},null,null,null,null,null,null,null,null,null,null,null,null,null,"2014-06-28","14:55:00",null,1,null,{"$f":"'Gruppe E1'!B32","v":5},{"$f":"'Gruppe E1'!J32","v":"Gruppe E4"},{"$f":"'Gruppe E1'!AD32","v":"Gruppe E1"}]
[{"$f":"IF(B7=0,\"\",Vorgaben!C$3)","v":"2014-06-28"},{"$f":"'Gruppe E1'!D33","v":"15:05:00"},null,null,null,null,null,null,null,null,null,null,null,null,null,"2014-06-28","15:05:00",null,1,null,{"$f":"'Gruppe E1'!B33","v":6},{"$f":"'Gruppe E1'!J33","v":"Gruppe E2"},{"$f":"'Gruppe E1'!AD33","v":"Gruppe E3"}]
[{"$f":"IF(B8=0,\"\",Vorgaben!C$3)","v":"2014-06-28"},{"$f":"'Gruppe E1'!D34","v":"15:15:00"},null,null,null,null,null,null,null,null,null,null,null,null,null,"2014-06-28","15:15:00",null,1,null,{"$f":"'Gruppe E1'!B34","v":7},{"$f":"'Gruppe E1'!J34","v":"Gruppe E8"},{"$f":"'Gruppe E1'!AD34","v":"Gruppe E5"}]
[{"$f":"IF(B9=0,\"\",Vorgaben!C$3)","v":"2014-06-28"},{"$f":"'Gruppe E1'!D35","v":"15:25:00"},null,null,null,null,null,null,null,null,null,null,null,null,null,"2014-06-28","15:25:00",null,1,null,{"$f":"'Gruppe E1'!B35","v":8},{"$f":"'Gruppe E1'!J35","v":"Gruppe E6"},{"$f":"'Gruppe E1'!AD35","v":"Gruppe E7"}]
[{"$f":"IF(B10=0,\"\",Vorgaben!C$3)","v":"2014-06-28"},{"$f":"'Gruppe E1'!D36","v":"15:35:00"},null,null,null,null,null,null,null,null,null,null,null,null,null,"2014-06-28","15:35:00",null,1,null,{"$f":"'Gruppe E1'!B36","v":9},{"$f":"'Gruppe E1'!J36","v":"Gruppe E5"},{"$f":"'Gruppe E1'!AD36","v":"Gruppe E4"}]
[{"$f":"IF(B11=0,\"\",Vorgaben!C$3)","v":"2014-06-28"},{"$f":"'Gruppe E1'!D37","v":"15:45:00"},null,null,null,null,null,null,null,null,null,null,null,null,null,"2014-06-28","15:45:00",null,1,null,{"$f":"'Gruppe E1'!B37","v":10},{"$f":"'Gruppe E1'!J37","v":"Gruppe E1"},{"$f":"'Gruppe E1'!AD37","v":"Gruppe E3"}]
[{"$f":"IF(B12=0,\"\",Vorgaben!C$3)","v":"2014-06-28"},{"$f":"'Gruppe E1'!D38","v":"15:55:00"},null,null,null,null,null,null,null,null,null,null,null,null,null,"2014-06-28","15:55:00",null,1,null,{"$f":"'Gruppe E1'!B38","v":11},{"$f":"'Gruppe E1'!J38","v":"Gruppe E2"},{"$f":"'Gruppe E1'!AD38","v":"Gruppe E7"}]
[{"$f":"IF(B13=0,\"\",Vorgaben!C$3)","v":"2014-06-28"},{"$f":"'Gruppe E1'!D39","v":"16:05:00"},null,null,null,null,null,null,null,null,null,null,null,null,null,"2014-06-28","16:05:00",null,1,null,{"$f":"'Gruppe E1'!B39","v":12},{"$f":"'Gruppe E1'!J39","v":"Gruppe E6"},{"$f":"'Gruppe E1'!AD39","v":"Gruppe E8"}]
[{"$f":"IF(B14=0,\"\",Vorgaben!C$3)","v":"2014-06-28"},{"$f":"'Gruppe E1'!D40","v":"16:15:00"},null,null,null,null,null,null,null,null,null,null,null,null,null,"2014-06-28","16:15:00",null,1,null,{"$f":"'Gruppe E1'!B40","v":13},{"$f":"'Gruppe E1'!J40","v":"Gruppe E4"},{"$f":"'Gruppe E1'!AD40","v":"Gruppe E2"}]
[{"$f":"IF(B15=0,\"\",Vorgaben!C$3)","v":"2014-06-28"},{"$f":"'Gruppe E1'!D41","v":"16:25:00"},null,null,null,null,null,null,null,null,null,null,null,null,null,"2014-06-28","16:25:00",null,1,null,{"$f":"'Gruppe E1'!B41","v":14},{"$f":"'Gruppe E1'!J41","v":"Gruppe E7"},{"$f":"'Gruppe E1'!AD41","v":"Gruppe E5"}]
[{"$f":"IF(B16=0,\"\",Vorgaben!C$3)","v":"2014-06-28"},{"$f":"'Gruppe E1'!D42","v":"16:35:00"},null,null,null,null,null,null,null,null,null,null,null,null,null,"2014-06-28","16:35:00",null,1,null,{"$f":"'Gruppe E1'!B42","v":15},{"$f":"'Gruppe E1'!J42","v":"Gruppe E8"},{"$f":"'Gruppe E1'!AD42","v":"Gruppe E1"}]
[{"$f":"IF(Vorgaben!$C$1<37,\"\",IF(B17=0,\"\",Vorgaben!C$3))","v":"2014-06-28"},{"$f":"IF(Vorgaben!$C$1<37,\"\",'Gruppe E1'!D43)","v":"16:45:00"},null,null,null,null,null,null,null,null,null,null,null,null,null,"2014-06-28","16:45:00",null,{"$f":"IF(Vorgaben!$C$1<37,\"\",1)","v":1},null,{"$f":"IF(Vorgaben!$C$1<37,\"\",'Gruppe E1'!B43)","v":16},{"$f":"IF(Vorgaben!$C$1<37,\"\",'Gruppe E1'!J43)","v":"Gruppe E3"},{"$f":"IF(Vorgaben!$C$1<37,\"\",'Gruppe E1'!AD43)","v":"Gruppe E6"}]
[{"$f":"IF(Vorgaben!$C$1<37,\"\",IF(B18=0,\"\",Vorgaben!C$3))","v":"2014-06-28"},{"$f":"IF(Vorgaben!$C$1<37,\"\",'Gruppe E1'!D44)","v":"16:55:00"},null,null,null,null,null,null,null,null,null,null,null,null,null,"2014-06-28","16:55:00",null,{"$f":"IF(Vorgaben!$C$1<37,\"\",1)","v":1},null,{"$f":"IF(Vorgaben!$C$1<37,\"\",'Gruppe E1'!B44)","v":17},{"$f":"IF(Vorgaben!$C$1<37,\"\",'Gruppe E1'!J44)","v":"Gruppe E4"},{"$f":"IF(Vorgaben!$C$1<37,\"\",'Gruppe E1'!AD44)","v":"Gruppe E7"}]
[{"$f":"IF(Vorgaben!$C$1<37,\"\",IF(B19=0,\"\",Vorgaben!C$3))","v":"2014-06-28"},{"$f":"IF(Vorgaben!$C$1<37,\"\",'Gruppe E1'!D45)","v":"17:05:00"},null,null,null,null,null,null,null,null,null,null,null,null,null,"2014-06-28","17:05:00",null,{"$f":"IF(Vorgaben!$C$1<37,\"\",1)","v":1},null,{"$f":"IF(Vorgaben!$C$1<37,\"\",'Gruppe E1'!B45)","v":18},{"$f":"IF(Vorgaben!$C$1<37,\"\",'Gruppe E1'!J45)","v":"Gruppe E2"},{"$f":"IF(Vorgaben!$C$1<37,\"\",'Gruppe E1'!AD45)","v":"Gruppe E8"}]
[{"$f":"IF(Vorgaben!$C$1<37,\"\",IF(B20=0,\"\",Vorgaben!C$3))","v":"2014-06-28"},{"$f":"IF(Vorgaben!$C$1<37,\"\",'Gruppe E1'!D46)","v":"17:15:00"},null,null,null,null,null,null,null,null,null,null,null,null,null,"2014-06-28","17:15:00",null,{"$f":"IF(Vorgaben!$C$1<37,\"\",1)","v":1},null,{"$f":"IF(Vorgaben!$C$1<37,\"\",'Gruppe E1'!B46)","v":19},{"$f":"IF(Vorgaben!$C$1<37,\"\",'Gruppe E1'!J46)","v":"Gruppe E1"},{"$f":"IF(Vorgaben!$C$1<37,\"\",'Gruppe E1'!AD46)","v":"Gruppe E6"}]
[{"$f":"IF(Vorgaben!$C$1<37,\"\",IF(B21=0,\"\",Vorgaben!C$3))","v":"2014-06-28"},{"$f":"IF(Vorgaben!$C$1<37,\"\",'Gruppe E1'!D47)","v":"17:25:00"},null,null,null,null,null,null,null,null,null,null,null,null,null,"2014-06-28","17:25:00",null,{"$f":"IF(Vorgaben!$C$1<37,\"\",1)","v":1},null,{"$f":"IF(Vorgaben!$C$1<37,\"\",'Gruppe E1'!B47)","v":20},{"$f":"IF(Vorgaben!$C$1<37,\"\",'Gruppe E1'!J47)","v":"Gruppe E5"},{"$f":"IF(Vorgaben!$C$1<37,\"\",'Gruppe E1'!AD47)","v":"Gruppe E3"}]
[{"$f":"IF(Vorgaben!$C$1<37,\"\",IF(B22=0,\"\",Vorgaben!C$3))","v":"2014-06-28"},{"$f":"IF(Vorgaben!$C$1<37,\"\",'Gruppe E1'!D48)","v":"17:35:00"},null,null,null,null,null,null,null,null,null,null,null,null,null,"2014-06-28","17:35:00",null,{"$f":"IF(Vorgaben!$C$1<37,\"\",1)","v":1},null,{"$f":"IF(Vorgaben!$C$1<37,\"\",'Gruppe E1'!B48)","v":21},{"$f":"IF(Vorgaben!$C$1<37,\"\",'Gruppe E1'!J48)","v":"Gruppe E8"},{"$f":"IF(Vorgaben!$C$1<37,\"\",'Gruppe E1'!AD48)","v":"Gruppe E4"}]
[{"$f":"IF(Vorgaben!$C$1<37,\"\",IF(Vorgaben!$C$1=42,\"\",IF(B23=0,\"\",Vorgaben!C$3)))","v":"2014-06-28"},{"$f":"IF(Vorgaben!$C$1<37,\"\",IF(Vorgaben!$C$1=42,\"\",'Gruppe E1'!D49))","v":"17:45:00"},null,null,null,null,null,null,null,null,null,null,null,null,null,"2014-06-28","17:45:00",null,{"$f":"IF(Vorgaben!$C$1<37,\"\",IF(Vorgaben!$C$1=42,\"\",1))","v":1},null,{"$f":"IF(Vorgaben!$C$1<37,\"\",IF(Vorgaben!$C$1=42,\"\",'Gruppe E1'!B49))","v":22},{"$f":"IF(Vorgaben!$C$1<37,\"\",IF(Vorgaben!$C$1=42,\"\",'Gruppe E1'!J49))","v":"Gruppe E6"},{"$f":"IF(Vorgaben!$C$1<37,\"\",IF(Vorgaben!$C$1=42,\"\",'Gruppe E1'!AD49))","v":"Gruppe E2"}]
[{"$f":"IF(Vorgaben!$C$1<37,\"\",IF(Vorgaben!$C$1=42,\"\",IF(B24=0,\"\",Vorgaben!C$3)))","v":"2014-06-28"},{"$f":"IF(Vorgaben!$C$1<37,\"\",IF(Vorgaben!$C$1=42,\"\",'Gruppe E1'!D50))","v":"17:55:00"},null,null,null,null,null,null,null,null,null,null,null,null,null,"2014-06-28","17:55:00",null,{"$f":"IF(Vorgaben!$C$1<37,\"\",IF(Vorgaben!$C$1=42,\"\",1))","v":1},null,{"$f":"IF(Vorgaben!$C$1<37,\"\",IF(Vorgaben!$C$1=42,\"\",'Gruppe E1'!B50))","v":23},{"$f":"IF(Vorgaben!$C$1<37,\"\",IF(Vorgaben!$C$1=42,\"\",'Gruppe E1'!J50))","v":"Gruppe E7"},{"$f":"IF(Vorgaben!$C$1<37,\"\",IF(Vorgaben!$C$1=42,\"\",'Gruppe E1'!AD50))","v":"Gruppe E3"}]
[{"$f":"IF(Vorgaben!$C$1<37,\"\",IF(Vorgaben!$C$1=42,\"\",IF(B25=0,\"\",Vorgaben!C$3)))","v":"2014-06-28"},{"$f":"IF(Vorgaben!$C$1<37,\"\",IF(Vorgaben!$C$1=42,\"\",'Gruppe E1'!D51))","v":"18:05:00"},null,null,null,null,null,null,null,null,null,null,null,null,null,"2014-06-28","18:05:00",null,{"$f":"IF(Vorgaben!$C$1<37,\"\",IF(Vorgaben!$C$1=42,\"\",1))","v":1},null,{"$f":"IF(Vorgaben!$C$1<37,\"\",IF(Vorgaben!$C$1=42,\"\",'Gruppe E1'!B51))","v":24},{"$f":"IF(Vorgaben!$C$1<37,\"\",IF(Vorgaben!$C$1=42,\"\",'Gruppe E1'!J51))","v":"Gruppe E5"},{"$f":"IF(Vorgaben!$C$1<37,\"\",IF(Vorgaben!$C$1=42,\"\",'Gruppe E1'!AD51))","v":"Gruppe E1"}]
[{"$f":"IF(Vorgaben!$C$1<37,\"\",IF(Vorgaben!$C$1=42,\"\",IF(B26=0,\"\",Vorgaben!C$3)))","v":"2014-06-28"},{"$f":"IF(Vorgaben!$C$1<37,\"\",IF(Vorgaben!$C$1=42,\"\",'Gruppe E1'!D52))","v":"18:15:00"},null,null,null,null,null,null,null,null,null,null,null,null,null,"2014-06-28","18:15:00",null,{"$f":"IF(Vorgaben!$C$1<37,\"\",IF(Vorgaben!$C$1=42,\"\",1))","v":1},null,{"$f":"IF(Vorgaben!$C$1<37,\"\",IF(Vorgaben!$C$1=42,\"\",'Gruppe E1'!B52))","v":25},{"$f":"IF(Vorgaben!$C$1<37,\"\",IF(Vorgaben!$C$1=42,\"\",'Gruppe E1'!J52))","v":"Gruppe E4"},{"$f":"IF(Vorgaben!$C$1<37,\"\",IF(Vorgaben!$C$1=42,\"\",'Gruppe E1'!AD52))","v":"Gruppe E6"}]
[{"$f":"IF(Vorgaben!$C$1<37,\"\",IF(Vorgaben!$C$1=42,\"\",IF(B27=0,\"\",Vorgaben!C$3)))","v":"2014-06-28"},{"$f":"IF(Vorgaben!$C$1<37,\"\",IF(Vorgaben!$C$1=42,\"\",'Gruppe E1'!D53))","v":"18:25:00"},null,null,null,null,null,null,null,null,null,null,null,null,null,"2014-06-28","18:25:00",null,{"$f":"IF(Vorgaben!$C$1<37,\"\",IF(Vorgaben!$C$1=42,\"\",1))","v":1},null,{"$f":"IF(Vorgaben!$C$1<37,\"\",IF(Vorgaben!$C$1=42,\"\",'Gruppe E1'!B53))","v":26},{"$f":"IF(Vorgaben!$C$1<37,\"\",IF(Vorgaben!$C$1=42,\"\",'Gruppe E1'!J53))","v":"Gruppe E3"},{"$f":"IF(Vorgaben!$C$1<37,\"\",IF(Vorgaben!$C$1=42,\"\",'Gruppe E1'!AD53))","v":"Gruppe E8"}]
[{"$f":"IF(Vorgaben!$C$1<37,\"\",IF(Vorgaben!$C$1=42,\"\",IF(B28=0,\"\",Vorgaben!C$3)))","v":"2014-06-28"},{"$f":"IF(Vorgaben!$C$1<37,\"\",IF(Vorgaben!$C$1=42,\"\",'Gruppe E1'!D54))","v":"18:35:00"},null,null,null,null,null,null,null,null,null,null,null,null,null,"2014-06-28","18:35:00",null,{"$f":"IF(Vorgaben!$C$1<37,\"\",IF(Vorgaben!$C$1=42,\"\",1))","v":1},null,{"$f":"IF(Vorgaben!$C$1<37,\"\",IF(Vorgaben!$C$1=42,\"\",'Gruppe E1'!B54))","v":27},{"$f":"IF(Vorgaben!$C$1<37,\"\",IF(Vorgaben!$C$1=42,\"\",'Gruppe E1'!J54))","v":"Gruppe E2"},{"$f":"IF(Vorgaben!$C$1<37,\"\",IF(Vorgaben!$C$1=42,\"\",'Gruppe E1'!AD54))","v":"Gruppe E5"}]
[{"$f":"IF(Vorgaben!$C$1<37,\"\",IF(Vorgaben!$C$1=42,\"\",IF(B29=0,\"\",Vorgaben!C$3)))","v":"2014-06-28"},{"$f":"IF(Vorgaben!$C$1<37,\"\",IF(Vorgaben!$C$1=42,\"\",'Gruppe E1'!D55))","v":"18:45:00"},null,null,null,null,null,null,null,null,null,null,null,null,null,"2014-06-28","18:45:00",null,{"$f":"IF(Vorgaben!$C$1<37,\"\",IF(Vorgaben!$C$1=42,\"\",1))","v":1},null,{"$f":"IF(Vorgaben!$C$1<37,\"\",IF(Vorgaben!$C$1=42,\"\",'Gruppe E1'!B55))","v":28},{"$f":"IF(Vorgaben!$C$1<37,\"\",IF(Vorgaben!$C$1=42,\"\",'Gruppe E1'!J55))","v":"Gruppe E1"},{"$f":"IF(Vorgaben!$C$1<37,\"\",IF(Vorgaben!$C$1=42,\"\",'Gruppe E1'!AD55))","v":"Gruppe E7"}]

{"sheet":"exportvf","index":55,"n_rows":29,"n_cols":31,"rows_kept":29,"cut":false,"hidden":true,"merged":[]}
["Datum","Zeit","Saison","Verband","Mannschaftsart_Key","Mannschaftsart","Spielklasse_Key","Spielklasse","Spielgebiet_Key","Spielgebiet","Rahmenspielplan","Staffel_Nr","Staffel","Staffelkennung","Staffelleiter","Spieldatum","Anstoss","Wochentag","Spieltag","Schluesseltag","Spielkennung","Heim Mannschaft","Gast Mannschaft","freigegeben","Spielstaette","Spielleitung","1. Assistent","2. Assistent","Verlegt_Wochentag","Verlegt_Datum","Verlegt_Uhrzeit"]
[{"$f":"IF(B2=0,\"\",Vorgaben!C$3)","v":"2014-06-28"},{"$f":"'Gruppe F1'!D28","v":"14:15:00"},null,null,null,null,null,null,null,null,null,null,null,null,null,{"$f":"A2","v":"2014-06-28"},{"$f":"B2","v":"14:15:00"},null,1,null,{"$f":"'Gruppe F1'!B28","v":1},{"$f":"'Gruppe F1'!J28","v":"Gruppe F1"},{"$f":"'Gruppe F1'!AD28","v":"Gruppe F2"}]
[{"$f":"IF(B3=0,\"\",Vorgaben!C$3)","v":"2014-06-28"},{"$f":"'Gruppe F1'!D29","v":"14:25:00"},null,null,null,null,null,null,null,null,null,null,null,null,null,{"$f":"A3","v":"2014-06-28"},"14:25:00",null,1,null,{"$f":"'Gruppe F1'!B29","v":2},{"$f":"'Gruppe F1'!J29","v":"Gruppe F3"},{"$f":"'Gruppe F1'!AD29","v":"Gruppe F4"}]
[{"$f":"IF(B4=0,\"\",Vorgaben!C$3)","v":"2014-06-28"},{"$f":"'Gruppe F1'!D30","v":"14:35:00"},null,null,null,null,null,null,null,null,null,null,null,null,null,"2014-06-28","14:35:00",null,1,null,{"$f":"'Gruppe F1'!B30","v":3},{"$f":"'Gruppe F1'!J30","v":"Gruppe F5"},{"$f":"'Gruppe F1'!AD30","v":"Gruppe F6"}]
[{"$f":"IF(B5=0,\"\",Vorgaben!C$3)","v":"2014-06-28"},{"$f":"'Gruppe F1'!D31","v":"14:45:00"},null,null,null,null,null,null,null,null,null,null,null,null,null,"2014-06-28","14:45:00",null,1,null,{"$f":"'Gruppe F1'!B31","v":4},{"$f":"'Gruppe F1'!J31","v":"Gruppe F7"},{"$f":"'Gruppe F1'!AD31","v":"Gruppe F8"}]
[{"$f":"IF(B6=0,\"\",Vorgaben!C$3)","v":"2014-06-28"},{"$f":"'Gruppe F1'!D32","v":"14:55:00"},null,null,null,null,null,null,null,null,null,null,null,null,null,"2014-06-28","14:55:00",null,1,null,{"$f":"'Gruppe F1'!B32","v":5},{"$f":"'Gruppe F1'!J32","v":"Gruppe F4"},{"$f":"'Gruppe F1'!AD32","v":"Gruppe F1"}]
[{"$f":"IF(B7=0,\"\",Vorgaben!C$3)","v":"2014-06-28"},{"$f":"'Gruppe F1'!D33","v":"15:05:00"},null,null,null,null,null,null,null,null,null,null,null,null,null,"2014-06-28","15:05:00",null,1,null,{"$f":"'Gruppe F1'!B33","v":6},{"$f":"'Gruppe F1'!J33","v":"Gruppe F2"},{"$f":"'Gruppe F1'!AD33","v":"Gruppe F3"}]
[{"$f":"IF(B8=0,\"\",Vorgaben!C$3)","v":"2014-06-28"},{"$f":"'Gruppe F1'!D34","v":"15:15:00"},null,null,null,null,null,null,null,null,null,null,null,null,null,"2014-06-28","15:15:00",null,1,null,{"$f":"'Gruppe F1'!B34","v":7},{"$f":"'Gruppe F1'!J34","v":"Gruppe F8"},{"$f":"'Gruppe F1'!AD34","v":"Gruppe F5"}]
[{"$f":"IF(B9=0,\"\",Vorgaben!C$3)","v":"2014-06-28"},{"$f":"'Gruppe F1'!D35","v":"15:25:00"},null,null,null,null,null,null,null,null,null,null,null,null,null,"2014-06-28","15:25:00",null,1,null,{"$f":"'Gruppe F1'!B35","v":8},{"$f":"'Gruppe F1'!J35","v":"Gruppe F6"},{"$f":"'Gruppe F1'!AD35","v":"Gruppe F7"}]
[{"$f":"IF(B10=0,\"\",Vorgaben!C$3)","v":"2014-06-28"},{"$f":"'Gruppe F1'!D36","v":"15:35:00"},null,null,null,null,null,null,null,null,null,null,null,null,null,"2014-06-28","15:35:00",null,1,null,{"$f":"'Gruppe F1'!B36","v":9},{"$f":"'Gruppe F1'!J36","v":"Gruppe F5"},{"$f":"'Gruppe F1'!AD36","v":"Gruppe F4"}]
[{"$f":"IF(B11=0,\"\",Vorgaben!C$3)","v":"2014-06-28"},{"$f":"'Gruppe F1'!D37","v":"15:45:00"},null,null,null,null,null,null,null,null,null,null,null,null,null,"2014-06-28","15:45:00",null,1,null,{"$f":"'Gruppe F1'!B37","v":10},{"$f":"'Gruppe F1'!J37","v":"Gruppe F1"},{"$f":"'Gruppe F1'!AD37","v":"Gruppe F3"}]
[{"$f":"IF(B12=0,\"\",Vorgaben!C$3)","v":"2014-06-28"},{"$f":"'Gruppe F1'!D38","v":"15:55:00"},null,null,null,null,null,null,null,null,null,null,null,null,null,"2014-06-28","15:55:00",null,1,null,{"$f":"'Gruppe F1'!B38","v":11},{"$f":"'Gruppe F1'!J38","v":"Gruppe F2"},{"$f":"'Gruppe F1'!AD38","v":"Gruppe F7"}]
[{"$f":"IF(B13=0,\"\",Vorgaben!C$3)","v":"2014-06-28"},{"$f":"'Gruppe F1'!D39","v":"16:05:00"},null,null,null,null,null,null,null,null,null,null,null,null,null,"2014-06-28","16:05:00",null,1,null,{"$f":"'Gruppe F1'!B39","v":12},{"$f":"'Gruppe F1'!J39","v":"Gruppe F6"},{"$f":"'Gruppe F1'!AD39","v":"Gruppe F8"}]
[{"$f":"IF(B14=0,\"\",Vorgaben!C$3)","v":"2014-06-28"},{"$f":"'Gruppe F1'!D40","v":"16:15:00"},null,null,null,null,null,null,null,null,null,null,null,null,null,"2014-06-28","16:15:00",null,1,null,{"$f":"'Gruppe F1'!B40","v":13},{"$f":"'Gruppe F1'!J40","v":"Gruppe F4"},{"$f":"'Gruppe F1'!AD40","v":"Gruppe F2"}]
[{"$f":"IF(B15=0,\"\",Vorgaben!C$3)","v":"2014-06-28"},{"$f":"'Gruppe F1'!D41","v":"16:25:00"},null,null,null,null,null,null,null,null,null,null,null,null,null,"2014-06-28","16:25:00",null,1,null,{"$f":"'Gruppe F1'!B41","v":14},{"$f":"'Gruppe F1'!J41","v":"Gruppe F7"},{"$f":"'Gruppe F1'!AD41","v":"Gruppe F5"}]
[{"$f":"IF(B16=0,\"\",Vorgaben!C$3)","v":"2014-06-28"},{"$f":"'Gruppe F1'!D42","v":"16:35:00"},null,null,null,null,null,null,null,null,null,null,null,null,null,"2014-06-28","16:35:00",null,1,null,{"$f":"'Gruppe F1'!B42","v":15},{"$f":"'Gruppe F1'!J42","v":"Gruppe F8"},{"$f":"'Gruppe F1'!AD42","v":"Gruppe F1"}]
[{"$f":"IF(Vorgaben!$C$1<37,\"\",IF(B17=0,\"\",Vorgaben!C$3))","v":"2014-06-28"},{"$f":"IF(Vorgaben!$C$1<37,\"\",'Gruppe F1'!D43)","v":"16:45:00"},null,null,null,null,null,null,null,null,null,null,null,null,null,"2014-06-28","16:45:00",null,{"$f":"IF(Vorgaben!$C$1<37,\"\",1)","v":1},null,{"$f":"IF(Vorgaben!$C$1<37,\"\",'Gruppe F1'!B43)","v":16},{"$f":"IF(Vorgaben!$C$1<37,\"\",'Gruppe F1'!J43)","v":"Gruppe F3"},{"$f":"IF(Vorgaben!$C$1<37,\"\",'Gruppe F1'!AD43)","v":"Gruppe F6"}]
[{"$f":"IF(Vorgaben!$C$1<37,\"\",IF(B18=0,\"\",Vorgaben!C$3))","v":"2014-06-28"},{"$f":"IF(Vorgaben!$C$1<37,\"\",'Gruppe F1'!D44)","v":"16:55:00"},null,null,null,null,null,null,null,null,null,null,null,null,null,"2014-06-28","16:55:00",null,{"$f":"IF(Vorgaben!$C$1<37,\"\",1)","v":1},null,{"$f":"IF(Vorgaben!$C$1<37,\"\",'Gruppe F1'!B44)","v":17},{"$f":"IF(Vorgaben!$C$1<37,\"\",'Gruppe F1'!J44)","v":"Gruppe F4"},{"$f":"IF(Vorgaben!$C$1<37,\"\",'Gruppe F1'!AD44)","v":"Gruppe F7"}]
[{"$f":"IF(Vorgaben!$C$1<37,\"\",IF(B19=0,\"\",Vorgaben!C$3))","v":"2014-06-28"},{"$f":"IF(Vorgaben!$C$1<37,\"\",'Gruppe F1'!D45)","v":"17:05:00"},null,null,null,null,null,null,null,null,null,null,null,null,null,"2014-06-28","17:05:00",null,{"$f":"IF(Vorgaben!$C$1<37,\"\",1)","v":1},null,{"$f":"IF(Vorgaben!$C$1<37,\"\",'Gruppe F1'!B45)","v":18},{"$f":"IF(Vorgaben!$C$1<37,\"\",'Gruppe F1'!J45)","v":"Gruppe F2"},{"$f":"IF(Vorgaben!$C$1<37,\"\",'Gruppe F1'!AD45)","v":"Gruppe F8"}]
[{"$f":"IF(Vorgaben!$C$1<37,\"\",IF(B20=0,\"\",Vorgaben!C$3))","v":"2014-06-28"},{"$f":"IF(Vorgaben!$C$1<37,\"\",'Gruppe F1'!D46)","v":"17:15:00"},null,null,null,null,null,null,null,null,null,null,null,null,null,"2014-06-28","17:15:00",null,{"$f":"IF(Vorgaben!$C$1<37,\"\",1)","v":1},null,{"$f":"IF(Vorgaben!$C$1<37,\"\",'Gruppe F1'!B46)","v":19},{"$f":"IF(Vorgaben!$C$1<37,\"\",'Gruppe F1'!J46)","v":"Gruppe F1"},{"$f":"IF(Vorgaben!$C$1<37,\"\",'Gruppe F1'!AD46)","v":"Gruppe F6"}]
[{"$f":"IF(Vorgaben!$C$1<37,\"\",IF(B21=0,\"\",Vorgaben!C$3))","v":"2014-06-28"},{"$f":"IF(Vorgaben!$C$1<37,\"\",'Gruppe F1'!D47)","v":"17:25:00"},null,null,null,null,null,null,null,null,null,null,null,null,null,"2014-06-28","17:25:00",null,{"$f":"IF(Vorgaben!$C$1<37,\"\",1)","v":1},null,{"$f":"IF(Vorgaben!$C$1<37,\"\",'Gruppe F1'!B47)","v":20},{"$f":"IF(Vorgaben!$C$1<37,\"\",'Gruppe F1'!J47)","v":"Gruppe F5"},{"$f":"IF(Vorgaben!$C$1<37,\"\",'Gruppe F1'!AD47)","v":"Gruppe F3"}]
[{"$f":"IF(Vorgaben!$C$1<37,\"\",IF(B22=0,\"\",Vorgaben!C$3))","v":"2014-06-28"},{"$f":"IF(Vorgaben!$C$1<37,\"\",'Gruppe F1'!D48)","v":"17:35:00"},null,null,null,null,null,null,null,null,null,null,null,null,null,"2014-06-28","17:35:00",null,{"$f":"IF(Vorgaben!$C$1<37,\"\",1)","v":1},null,{"$f":"IF(Vorgaben!$C$1<37,\"\",'Gruppe F1'!B48)","v":21},{"$f":"IF(Vorgaben!$C$1<37,\"\",'Gruppe F1'!J48)","v":"Gruppe F8"},{"$f":"IF(Vorgaben!$C$1<37,\"\",'Gruppe F1'!AD48)","v":"Gruppe F4"}]
[{"$f":"IF(Vorgaben!$C$1<37,\"\",IF(Vorgaben!$C$1=42,\"\",IF(B23=0,\"\",Vorgaben!C$3)))","v":"2014-06-28"},{"$f":"IF(Vorgaben!$C$1<37,\"\",IF(Vorgaben!$C$1=42,\"\",'Gruppe F1'!D49))","v":"17:45:00"},null,null,null,null,null,null,null,null,null,null,null,null,null,"2014-06-28","17:45:00",null,{"$f":"IF(Vorgaben!$C$1<37,\"\",IF(Vorgaben!$C$1=42,\"\",1))","v":1},null,{"$f":"IF(Vorgaben!$C$1<37,\"\",IF(Vorgaben!$C$1=42,\"\",'Gruppe F1'!B49))","v":22},{"$f":"IF(Vorgaben!$C$1<37,\"\",IF(Vorgaben!$C$1=42,\"\",'Gruppe F1'!J49))","v":"Gruppe F6"},{"$f":"IF(Vorgaben!$C$1<37,\"\",IF(Vorgaben!$C$1=42,\"\",'Gruppe F1'!AD49))","v":"Gruppe F2"}]
[{"$f":"IF(Vorgaben!$C$1<37,\"\",IF(Vorgaben!$C$1=42,\"\",IF(B24=0,\"\",Vorgaben!C$3)))","v":"2014-06-28"},{"$f":"IF(Vorgaben!$C$1<37,\"\",IF(Vorgaben!$C$1=42,\"\",'Gruppe F1'!D50))","v":"17:55:00"},null,null,null,null,null,null,null,null,null,null,null,null,null,"2014-06-28","17:55:00",null,{"$f":"IF(Vorgaben!$C$1<37,\"\",IF(Vorgaben!$C$1=42,\"\",1))","v":1},null,{"$f":"IF(Vorgaben!$C$1<37,\"\",IF(Vorgaben!$C$1=42,\"\",'Gruppe F1'!B50))","v":23},{"$f":"IF(Vorgaben!$C$1<37,\"\",IF(Vorgaben!$C$1=42,\"\",'Gruppe F1'!J50))","v":"Gruppe F7"},{"$f":"IF(Vorgaben!$C$1<37,\"\",IF(Vorgaben!$C$1=42,\"\",'Gruppe F1'!AD50))","v":"Gruppe F3"}]
[{"$f":"IF(Vorgaben!$C$1<37,\"\",IF(Vorgaben!$C$1=42,\"\",IF(B25=0,\"\",Vorgaben!C$3)))","v":"2014-06-28"},{"$f":"IF(Vorgaben!$C$1<37,\"\",IF(Vorgaben!$C$1=42,\"\",'Gruppe F1'!D51))","v":"18:05:00"},null,null,null,null,null,null,null,null,null,null,null,null,null,"2014-06-28","18:05:00",null,{"$f":"IF(Vorgaben!$C$1<37,\"\",IF(Vorgaben!$C$1=42,\"\",1))","v":1},null,{"$f":"IF(Vorgaben!$C$1<37,\"\",IF(Vorgaben!$C$1=42,\"\",'Gruppe F1'!B51))","v":24},{"$f":"IF(Vorgaben!$C$1<37,\"\",IF(Vorgaben!$C$1=42,\"\",'Gruppe F1'!J51))","v":"Gruppe F5"},{"$f":"IF(Vorgaben!$C$1<37,\"\",IF(Vorgaben!$C$1=42,\"\",'Gruppe F1'!AD51))","v":"Gruppe F1"}]
[{"$f":"IF(Vorgaben!$C$1<37,\"\",IF(Vorgaben!$C$1=42,\"\",IF(B26=0,\"\",Vorgaben!C$3)))","v":"2014-06-28"},{"$f":"IF(Vorgaben!$C$1<37,\"\",IF(Vorgaben!$C$1=42,\"\",'Gruppe F1'!D52))","v":"18:15:00"},null,null,null,null,null,null,null,null,null,null,null,null,null,"2014-06-28","18:15:00",null,{"$f":"IF(Vorgaben!$C$1<37,\"\",IF(Vorgaben!$C$1=42,\"\",1))","v":1},null,{"$f":"IF(Vorgaben!$C$1<37,\"\",IF(Vorgaben!$C$1=42,\"\",'Gruppe F1'!B52))","v":25},{"$f":"IF(Vorgaben!$C$1<37,\"\",IF(Vorgaben!$C$1=42,\"\",'Gruppe F1'!J52))","v":"Gruppe F4"},{"$f":"IF(Vorgaben!$C$1<37,\"\",IF(Vorgaben!$C$1=42,\"\",'Gruppe F1'!AD52))","v":"Gruppe F6"}]
[{"$f":"IF(Vorgaben!$C$1<37,\"\",IF(Vorgaben!$C$1=42,\"\",IF(B27=0,\"\",Vorgaben!C$3)))","v":"2014-06-28"},{"$f":"IF(Vorgaben!$C$1<37,\"\",IF(Vorgaben!$C$1=42,\"\",'Gruppe F1'!D53))","v":"18:25:00"},null,null,null,null,null,null,null,null,null,null,null,null,null,"2014-06-28","18:25:00",null,{"$f":"IF(Vorgaben!$C$1<37,\"\",IF(Vorgaben!$C$1=42,\"\",1))","v":1},null,{"$f":"IF(Vorgaben!$C$1<37,\"\",IF(Vorgaben!$C$1=42,\"\",'Gruppe F1'!B53))","v":26},{"$f":"IF(Vorgaben!$C$1<37,\"\",IF(Vorgaben!$C$1=42,\"\",'Gruppe F1'!J53))","v":"Gruppe F3"},{"$f":"IF(Vorgaben!$C$1<37,\"\",IF(Vorgaben!$C$1=42,\"\",'Gruppe F1'!AD53))","v":"Gruppe F8"}]
[{"$f":"IF(Vorgaben!$C$1<37,\"\",IF(Vorgaben!$C$1=42,\"\",IF(B28=0,\"\",Vorgaben!C$3)))","v":"2014-06-28"},{"$f":"IF(Vorgaben!$C$1<37,\"\",IF(Vorgaben!$C$1=42,\"\",'Gruppe F1'!D54))","v":"18:35:00"},null,null,null,null,null,null,null,null,null,null,null,null,null,"2014-06-28","18:35:00",null,{"$f":"IF(Vorgaben!$C$1<37,\"\",IF(Vorgaben!$C$1=42,\"\",1))","v":1},null,{"$f":"IF(Vorgaben!$C$1<37,\"\",IF(Vorgaben!$C$1=42,\"\",'Gruppe F1'!B54))","v":27},{"$f":"IF(Vorgaben!$C$1<37,\"\",IF(Vorgaben!$C$1=42,\"\",'Gruppe F1'!J54))","v":"Gruppe F2"},{"$f":"IF(Vorgaben!$C$1<37,\"\",IF(Vorgaben!$C$1=42,\"\",'Gruppe F1'!AD54))","v":"Gruppe F5"}]
[{"$f":"IF(Vorgaben!$C$1<37,\"\",IF(Vorgaben!$C$1=42,\"\",IF(B29=0,\"\",Vorgaben!C$3)))","v":"2014-06-28"},{"$f":"IF(Vorgaben!$C$1<37,\"\",IF(Vorgaben!$C$1=42,\"\",'Gruppe F1'!D55))","v":"18:45:00"},null,null,null,null,null,null,null,null,null,null,null,null,null,"2014-06-28","18:45:00",null,{"$f":"IF(Vorgaben!$C$1<37,\"\",IF(Vorgaben!$C$1=42,\"\",1))","v":1},null,{"$f":"IF(Vorgaben!$C$1<37,\"\",IF(Vorgaben!$C$1=42,\"\",'Gruppe F1'!B55))","v":28},{"$f":"IF(Vorgaben!$C$1<37,\"\",IF(Vorgaben!$C$1=42,\"\",'Gruppe F1'!J55))","v":"Gruppe F1"},{"$f":"IF(Vorgaben!$C$1<37,\"\",IF(Vorgaben!$C$1=42,\"\",'Gruppe F1'!AD55))","v":"Gruppe F7"}]

{"sheet":"exportzwrua","index":56,"n_rows":16,"n_cols":31,"rows_kept":16,"cut":false,"hidden":true,"merged":[]}
["Datum","Zeit","Saison","Verband","Mannschaftsart_Key","Mannschaftsart","Spielklasse_Key","Spielklasse","Spielgebiet_Key","Spielgebiet","Rahmenspielplan","Staffel_Nr","Staffel","Staffelkennung","Staffelleiter","Spieldatum","Anstoss","Wochentag","Spieltag","Schluesseltag","Spielkennung","Heim Mannschaft","Gast Mannschaft","freigegeben","Spielstaette","Spielleitung","1. Assistent","2. Assistent","Verlegt_Wochentag","Verlegt_Datum","Verlegt_Uhrzeit"]
[{"$f":"IF(B2=0,\"\",Vorgaben!G$3)","v":"2014-06-29"},{"$f":"ZwRuA!C14","v":"08:45:00"},null,null,null,null,null,null,null,null,null,null,null,null,null,{"$f":"A2","v":"2014-06-29"},{"$f":"B2","v":"08:45:00"},null,1,null,{"$f":"ZwRuA!B14","v":1},{"$f":"ZwRuA!E14","v":"Gruppe A7"},{"$f":"ZwRuA!J14","v":"Gruppe A4"}]
[{"$f":"IF(B3=0,\"\",Vorgaben!G$3)","v":"2014-06-29"},{"$f":"ZwRuA!C15","v":"08:56:00"},null,null,null,null,null,null,null,null,null,null,null,null,null,{"$f":"A3","v":"2014-06-29"},"08:56:00",null,1,null,{"$f":"ZwRuA!B15","v":2},{"$f":"ZwRuA!E15","v":"Gruppe C5"},{"$f":"ZwRuA!J15","v":"Gruppe C8"}]
[{"$f":"IF(B4=0,\"\",Vorgaben!G$3)","v":"2014-06-29"},{"$f":"ZwRuA!C16","v":"09:07:00"},null,null,null,null,null,null,null,null,null,null,null,null,null,"2014-06-29","09:07:00",null,1,null,{"$f":"ZwRuA!B16","v":3},{"$f":"ZwRuA!E16","v":"Gruppe E2"},{"$f":"ZwRuA!J16","v":"Gruppe E3"}]
[{"$f":"IF(B5=0,\"\",Vorgaben!G$3)","v":"2014-06-29"},{"$f":"ZwRuA!C17","v":"09:18:00"},null,null,null,null,null,null,null,null,null,null,null,null,null,"2014-06-29","09:18:00",null,1,null,{"$f":"ZwRuA!B17","v":4},{"$f":"ZwRuA!E17","v":"Gruppe A4"},{"$f":"ZwRuA!J17","v":"Gruppe C5"}]
[{"$f":"IF(B6=0,\"\",Vorgaben!G$3)","v":"2014-06-29"},{"$f":"ZwRuA!C18","v":"09:29:00"},null,null,null,null,null,null,null,null,null,null,null,null,null,"2014-06-29","09:29:00",null,1,null,{"$f":"ZwRuA!B18","v":5},{"$f":"ZwRuA!E18","v":"Gruppe C8"},{"$f":"ZwRuA!J18","v":"Gruppe E2"}]
[{"$f":"IF(B7=0,\"\",Vorgaben!G$3)","v":"2014-06-29"},{"$f":"ZwRuA!C19","v":"09:40:00"},null,null,null,null,null,null,null,null,null,null,null,null,null,"2014-06-29","09:40:00",null,1,null,{"$f":"ZwRuA!B19","v":6},{"$f":"ZwRuA!E19","v":"Gruppe A7"},{"$f":"ZwRuA!J19","v":"Gruppe C5"}]
[{"$f":"IF(B8=0,\"\",Vorgaben!G$3)","v":"2014-06-29"},{"$f":"ZwRuA!C20","v":"09:51:00"},null,null,null,null,null,null,null,null,null,null,null,null,null,"2014-06-29","09:51:00",null,1,null,{"$f":"ZwRuA!B20","v":7},{"$f":"ZwRuA!E20","v":"Gruppe E2"},{"$f":"ZwRuA!J20","v":"Gruppe A4"}]
[{"$f":"IF(B9=0,\"\",Vorgaben!G$3)","v":"2014-06-29"},{"$f":"ZwRuA!C21","v":"10:02:00"},null,null,null,null,null,null,null,null,null,null,null,null,null,"2014-06-29","10:02:00",null,1,null,{"$f":"ZwRuA!B21","v":8},{"$f":"ZwRuA!E21","v":"Gruppe E3"},{"$f":"ZwRuA!J21","v":"Gruppe A7"}]
[{"$f":"IF(B10=0,\"\",Vorgaben!G$3)","v":"2014-06-29"},{"$f":"ZwRuA!C22","v":"10:13:00"},null,null,null,null,null,null,null,null,null,null,null,null,null,"2014-06-29","10:13:00",null,1,null,{"$f":"ZwRuA!B22","v":9},{"$f":"ZwRuA!E22","v":"Gruppe C5"},{"$f":"ZwRuA!J22","v":"Gruppe E2"}]
[{"$f":"IF(B11=0,\"\",Vorgaben!G$3)","v":"2014-06-29"},{"$f":"ZwRuA!C23","v":"10:24:00"},null,null,null,null,null,null,null,null,null,null,null,null,null,"2014-06-29","10:24:00",null,1,null,{"$f":"ZwRuA!B23","v":10},{"$f":"ZwRuA!E23","v":"Gruppe C8"},{"$f":"ZwRuA!J23","v":"Gruppe E3"}]
[{"$f":"IF(B12=0,\"\",Vorgaben!G$3)","v":"2014-06-29"},{"$f":"ZwRuA!C24","v":"10:35:00"},null,null,null,null,null,null,null,null,null,null,null,null,null,"2014-06-29","10:35:00",null,1,null,{"$f":"ZwRuA!B24","v":11},{"$f":"ZwRuA!E24","v":"Gruppe A7"},{"$f":"ZwRuA!J24","v":"Gruppe E2"}]
[{"$f":"IF(B13=0,\"\",Vorgaben!G$3)","v":"2014-06-29"},{"$f":"ZwRuA!C25","v":"10:46:00"},null,null,null,null,null,null,null,null,null,null,null,null,null,"2014-06-29","10:46:00",null,1,null,{"$f":"ZwRuA!B25","v":12},{"$f":"ZwRuA!E25","v":"Gruppe E3"},{"$f":"ZwRuA!J25","v":"Gruppe A4"}]
[{"$f":"IF(B14=0,\"\",Vorgaben!G$3)","v":"2014-06-29"},{"$f":"ZwRuA!C26","v":"10:57:00"},null,null,null,null,null,null,null,null,null,null,null,null,null,"2014-06-29","10:57:00",null,1,null,{"$f":"ZwRuA!B26","v":13},{"$f":"ZwRuA!E26","v":"Gruppe C8"},{"$f":"ZwRuA!J26","v":"Gruppe A7"}]
[{"$f":"IF(B15=0,\"\",Vorgaben!G$3)","v":"2014-06-29"},{"$f":"ZwRuA!C27","v":"11:08:00"},null,null,null,null,null,null,null,null,null,null,null,null,null,"2014-06-29","11:08:00",null,1,null,{"$f":"ZwRuA!B27","v":14},{"$f":"ZwRuA!E27","v":"Gruppe C5"},{"$f":"ZwRuA!J27","v":"Gruppe E3"}]
[{"$f":"IF(B16=0,\"\",Vorgaben!G$3)","v":"2014-06-29"},{"$f":"ZwRuA!C28","v":"11:19:00"},null,null,null,null,null,null,null,null,null,null,null,null,null,"2014-06-29","11:19:00",null,1,null,{"$f":"ZwRuA!B28","v":15},{"$f":"ZwRuA!E28","v":"Gruppe A4"},{"$f":"ZwRuA!J28","v":"Gruppe C8"}]

{"sheet":"exportzwrub","index":57,"n_rows":16,"n_cols":31,"rows_kept":16,"cut":false,"hidden":true,"merged":[]}
["Datum","Zeit","Saison","Verband","Mannschaftsart_Key","Mannschaftsart","Spielklasse_Key","Spielklasse","Spielgebiet_Key","Spielgebiet","Rahmenspielplan","Staffel_Nr","Staffel","Staffelkennung","Staffelleiter","Spieldatum","Anstoss","Wochentag","Spieltag","Schluesseltag","Spielkennung","Heim Mannschaft","Gast Mannschaft","freigegeben","Spielstaette","Spielleitung","1. Assistent","2. Assistent","Verlegt_Wochentag","Verlegt_Datum","Verlegt_Uhrzeit"]
[{"$f":"IF(B2=0,\"\",Vorgaben!G$3)","v":"2014-06-29"},{"$f":"ZwRuB!C14","v":"08:45:00"},null,null,null,null,null,null,null,null,null,null,null,null,null,{"$f":"A2","v":"2014-06-29"},{"$f":"B2","v":"08:45:00"},null,1,null,{"$f":"ZwRuB!B14","v":16},{"$f":"ZwRuB!E14","v":"Gruppe B3"},{"$f":"ZwRuB!J14","v":"Gruppe B1"}]
[{"$f":"IF(B3=0,\"\",Vorgaben!G$3)","v":"2014-06-29"},{"$f":"ZwRuB!C15","v":"08:56:00"},null,null,null,null,null,null,null,null,null,null,null,null,null,{"$f":"A3","v":"2014-06-29"},"08:56:00",null,1,null,{"$f":"ZwRuB!B15","v":17},{"$f":"ZwRuB!E15","v":"Gruppe D8"},{"$f":"ZwRuB!J15","v":"Gruppe D7"}]
[{"$f":"IF(B4=0,\"\",Vorgaben!G$3)","v":"2014-06-29"},{"$f":"ZwRuB!C16","v":"09:07:00"},null,null,null,null,null,null,null,null,null,null,null,null,null,"2014-06-29","09:07:00",null,1,null,{"$f":"ZwRuB!B16","v":18},{"$f":"ZwRuB!E16","v":"Gruppe F8"},{"$f":"ZwRuB!J16","v":"Gruppe F5"}]
[{"$f":"IF(B5=0,\"\",Vorgaben!G$3)","v":"2014-06-29"},{"$f":"ZwRuB!C17","v":"09:18:00"},null,null,null,null,null,null,null,null,null,null,null,null,null,"2014-06-29","09:18:00",null,1,null,{"$f":"ZwRuB!B17","v":19},{"$f":"ZwRuB!E17","v":"Gruppe B1"},{"$f":"ZwRuB!J17","v":"Gruppe D8"}]
[{"$f":"IF(B6=0,\"\",Vorgaben!G$3)","v":"2014-06-29"},{"$f":"ZwRuB!C18","v":"09:29:00"},null,null,null,null,null,null,null,null,null,null,null,null,null,"2014-06-29","09:29:00",null,1,null,{"$f":"ZwRuB!B18","v":20},{"$f":"ZwRuB!E18","v":"Gruppe D7"},{"$f":"ZwRuB!J18","v":"Gruppe F8"}]
[{"$f":"IF(B7=0,\"\",Vorgaben!G$3)","v":"2014-06-29"},{"$f":"ZwRuB!C19","v":"09:40:00"},null,null,null,null,null,null,null,null,null,null,null,null,null,"2014-06-29","09:40:00",null,1,null,{"$f":"ZwRuB!B19","v":21},{"$f":"ZwRuB!E19","v":"Gruppe B3"},{"$f":"ZwRuB!J19","v":"Gruppe D8"}]
[{"$f":"IF(B8=0,\"\",Vorgaben!G$3)","v":"2014-06-29"},{"$f":"ZwRuB!C20","v":"09:51:00"},null,null,null,null,null,null,null,null,null,null,null,null,null,"2014-06-29","09:51:00",null,1,null,{"$f":"ZwRuB!B20","v":22},{"$f":"ZwRuB!E20","v":"Gruppe F8"},{"$f":"ZwRuB!J20","v":"Gruppe B1"}]
[{"$f":"IF(B9=0,\"\",Vorgaben!G$3)","v":"2014-06-29"},{"$f":"ZwRuB!C21","v":"10:02:00"},null,null,null,null,null,null,null,null,null,null,null,null,null,"2014-06-29","10:02:00",null,1,null,{"$f":"ZwRuB!B21","v":23},{"$f":"ZwRuB!E21","v":"Gruppe F5"},{"$f":"ZwRuB!J21","v":"Gruppe B3"}]
[{"$f":"IF(B10=0,\"\",Vorgaben!G$3)","v":"2014-06-29"},{"$f":"ZwRuB!C22","v":"10:13:00"},null,null,null,null,null,null,null,null,null,null,null,null,null,"2014-06-29","10:13:00",null,1,null,{"$f":"ZwRuB!B22","v":24},{"$f":"ZwRuB!E22","v":"Gruppe D8"},{"$f":"ZwRuB!J22","v":"Gruppe F8"}]
[{"$f":"IF(B11=0,\"\",Vorgaben!G$3)","v":"2014-06-29"},{"$f":"ZwRuB!C23","v":"10:24:00"},null,null,null,null,null,null,null,null,null,null,null,null,null,"2014-06-29","10:24:00",null,1,null,{"$f":"ZwRuB!B23","v":25},{"$f":"ZwRuB!E23","v":"Gruppe D7"},{"$f":"ZwRuB!J23","v":"Gruppe F5"}]
[{"$f":"IF(B12=0,\"\",Vorgaben!G$3)","v":"2014-06-29"},{"$f":"ZwRuB!C24","v":"10:35:00"},null,null,null,null,null,null,null,null,null,null,null,null,null,"2014-06-29","10:35:00",null,1,null,{"$f":"ZwRuB!B24","v":26},{"$f":"ZwRuB!E24","v":"Gruppe B3"},{"$f":"ZwRuB!J24","v":"Gruppe F8"}]
[{"$f":"IF(B13=0,\"\",Vorgaben!G$3)","v":"2014-06-29"},{"$f":"ZwRuB!C25","v":"10:46:00"},null,null,null,null,null,null,null,null,null,null,null,null,null,"2014-06-29","10:46:00",null,1,null,{"$f":"ZwRuB!B25","v":27},{"$f":"ZwRuB!E25","v":"Gruppe F5"},{"$f":"ZwRuB!J25","v":"Gruppe B1"}]
[{"$f":"IF(B14=0,\"\",Vorgaben!G$3)","v":"2014-06-29"},{"$f":"ZwRuB!C26","v":"10:57:00"},null,null,null,null,null,null,null,null,null,null,null,null,null,"2014-06-29","10:57:00",null,1,null,{"$f":"ZwRuB!B26","v":28},{"$f":"ZwRuB!E26","v":"Gruppe D7"},{"$f":"ZwRuB!J26","v":"Gruppe B3"}]
[{"$f":"IF(B15=0,\"\",Vorgaben!G$3)","v":"2014-06-29"},{"$f":"ZwRuB!C27","v":"11:08:00"},null,null,null,null,null,null,null,null,null,null,null,null,null,"2014-06-29","11:08:00",null,1,null,{"$f":"ZwRuB!B27","v":29},{"$f":"ZwRuB!E27","v":"Gruppe D8"},{"$f":"ZwRuB!J27","v":"Gruppe F5"}]
[{"$f":"IF(B16=0,\"\",Vorgaben!G$3)","v":"2014-06-29"},{"$f":"ZwRuB!C28","v":"11:19:00"},null,null,null,null,null,null,null,null,null,null,null,null,null,"2014-06-29","11:19:00",null,1,null,{"$f":"ZwRuB!B28","v":30},{"$f":"ZwRuB!E28","v":"Gruppe B1"},{"$f":"ZwRuB!J28","v":"Gruppe D7"}]

{"sheet":"exportplsp1318","index":58,"n_rows":16,"n_cols":31,"rows_kept":16,"cut":false,"hidden":true,"merged":[]}
["Datum","Zeit","Saison","Verband","Mannschaftsart_Key","Mannschaftsart","Spielklasse_Key","Spielklasse","Spielgebiet_Key","Spielgebiet","Rahmenspielplan","Staffel_Nr","Staffel","Staffelkennung","Staffelleiter","Spieldatum","Anstoss","Wochentag","Spieltag","Schluesseltag","Spielkennung","Heim Mannschaft","Gast Mannschaft","freigegeben","Spielstaette","Spielleitung","1. Assistent","2. Assistent","Verlegt_Wochentag","Verlegt_Datum","Verlegt_Uhrzeit"]
[{"$f":"IF(B2=0,\"\",Vorgaben!G$3)","v":"2014-06-29"},{"$f":"'PlSp13-18'!C14","v":"08:45:00"},null,null,null,null,null,null,null,null,null,null,null,null,null,{"$f":"A2","v":"2014-06-29"},{"$f":"B2","v":"08:45:00"},null,1,null,{"$f":"'PlSp13-18'!B14","v":31},{"$f":"'PlSp13-18'!E14","v":"Gruppe A2"},{"$f":"'PlSp13-18'!J14","v":"Gruppe B6"}]
[{"$f":"IF(B3=0,\"\",Vorgaben!G$3)","v":"2014-06-29"},{"$f":"'PlSp13-18'!C15","v":"09:07:00"},null,null,null,null,null,null,null,null,null,null,null,null,null,{"$f":"A3","v":"2014-06-29"},"09:07:00",null,1,null,{"$f":"'PlSp13-18'!B15","v":32},{"$f":"'PlSp13-18'!E15","v":"Gruppe C4"},{"$f":"'PlSp13-18'!J15","v":"Gruppe D2"}]
[{"$f":"IF(B4=0,\"\",Vorgaben!G$3)","v":"2014-06-29"},{"$f":"'PlSp13-18'!C16","v":"09:18:00"},null,null,null,null,null,null,null,null,null,null,null,null,null,"2014-06-29","09:18:00",null,1,null,{"$f":"'PlSp13-18'!B16","v":33},{"$f":"'PlSp13-18'!E16","v":"Gruppe E7"},{"$f":"'PlSp13-18'!J16","v":"Gruppe F6"}]
[{"$f":"IF(B5=0,\"\",Vorgaben!G$3)","v":"2014-06-29"},{"$f":"'PlSp13-18'!C17","v":"09:40:00"},null,null,null,null,null,null,null,null,null,null,null,null,null,"2014-06-29","09:40:00",null,1,null,{"$f":"'PlSp13-18'!B17","v":34},{"$f":"'PlSp13-18'!E17","v":"Gruppe B6"},{"$f":"'PlSp13-18'!J17","v":"Gruppe C4"}]
[{"$f":"IF(B6=0,\"\",Vorgaben!G$3)","v":"2014-06-29"},{"$f":"'PlSp13-18'!C18","v":"09:51:00"},null,null,null,null,null,null,null,null,null,null,null,null,null,"2014-06-29","09:51:00",null,1,null,{"$f":"'PlSp13-18'!B18","v":35},{"$f":"'PlSp13-18'!E18","v":"Gruppe D2"},{"$f":"'PlSp13-18'!J18","v":"Gruppe E7"}]
[{"$f":"IF(B7=0,\"\",Vorgaben!G$3)","v":"2014-06-29"},{"$f":"'PlSp13-18'!C19","v":"10:13:00"},null,null,null,null,null,null,null,null,null,null,null,null,null,"2014-06-29","10:13:00",null,1,null,{"$f":"'PlSp13-18'!B19","v":36},{"$f":"'PlSp13-18'!E19","v":"Gruppe A2"},{"$f":"'PlSp13-18'!J19","v":"Gruppe C4"}]
[{"$f":"IF(B8=0,\"\",Vorgaben!G$3)","v":"2014-06-29"},{"$f":"'PlSp13-18'!C20","v":"10:24:00"},null,null,null,null,null,null,null,null,null,null,null,null,null,"2014-06-29","10:24:00",null,1,null,{"$f":"'PlSp13-18'!B20","v":37},{"$f":"'PlSp13-18'!E20","v":"Gruppe E7"},{"$f":"'PlSp13-18'!J20","v":"Gruppe B6"}]
[{"$f":"IF(B9=0,\"\",Vorgaben!G$3)","v":"2014-06-29"},{"$f":"'PlSp13-18'!C21","v":"10:46:00"},null,null,null,null,null,null,null,null,null,null,null,null,null,"2014-06-29","10:46:00",null,1,null,{"$f":"'PlSp13-18'!B21","v":38},{"$f":"'PlSp13-18'!E21","v":"Gruppe F6"},{"$f":"'PlSp13-18'!J21","v":"Gruppe A2"}]
[{"$f":"IF(B10=0,\"\",Vorgaben!G$3)","v":"2014-06-29"},{"$f":"'PlSp13-18'!C22","v":"10:57:00"},null,null,null,null,null,null,null,null,null,null,null,null,null,"2014-06-29","10:57:00",null,1,null,{"$f":"'PlSp13-18'!B22","v":39},{"$f":"'PlSp13-18'!E22","v":"Gruppe C4"},{"$f":"'PlSp13-18'!J22","v":"Gruppe E7"}]
[{"$f":"IF(B11=0,\"\",Vorgaben!G$3)","v":"2014-06-29"},{"$f":"'PlSp13-18'!C23","v":"11:19:00"},null,null,null,null,null,null,null,null,null,null,null,null,null,"2014-06-29","11:19:00",null,1,null,{"$f":"'PlSp13-18'!B23","v":40},{"$f":"'PlSp13-18'!E23","v":"Gruppe D2"},{"$f":"'PlSp13-18'!J23","v":"Gruppe F6"}]
[{"$f":"IF(B12=0,\"\",Vorgaben!G$3)","v":"2014-06-29"},{"$f":"'PlSp13-18'!C24","v":"12:15:00"},null,null,null,null,null,null,null,null,null,null,null,null,null,"2014-06-29","12:15:00",null,1,null,{"$f":"'PlSp13-18'!B24","v":41},{"$f":"'PlSp13-18'!E24","v":"Gruppe A2"},{"$f":"'PlSp13-18'!J24","v":"Gruppe E7"}]
[{"$f":"IF(B13=0,\"\",Vorgaben!G$3)","v":"2014-06-29"},{"$f":"'PlSp13-18'!C25","v":"12:37:00"},null,null,null,null,null,null,null,null,null,null,null,null,null,"2014-06-29","12:37:00",null,1,null,{"$f":"'PlSp13-18'!B25","v":42},{"$f":"'PlSp13-18'!E25","v":"Gruppe F6"},{"$f":"'PlSp13-18'!J25","v":"Gruppe B6"}]
[{"$f":"IF(B14=0,\"\",Vorgaben!G$3)","v":"2014-06-29"},{"$f":"'PlSp13-18'!C26","v":"12:48:00"},null,null,null,null,null,null,null,null,null,null,null,null,null,"2014-06-29","12:48:00",null,1,null,{"$f":"'PlSp13-18'!B26","v":43},{"$f":"'PlSp13-18'!E26","v":"Gruppe D2"},{"$f":"'PlSp13-18'!J26","v":"Gruppe A2"}]
[{"$f":"IF(B15=0,\"\",Vorgaben!G$3)","v":"2014-06-29"},{"$f":"'PlSp13-18'!C27","v":"13:10:00"},null,null,null,null,null,null,null,null,null,null,null,null,null,"2014-06-29","13:10:00",null,1,null,{"$f":"'PlSp13-18'!B27","v":44},{"$f":"'PlSp13-18'!E27","v":"Gruppe C4"},{"$f":"'PlSp13-18'!J27","v":"Gruppe F6"}]
[{"$f":"IF(B16=0,\"\",Vorgaben!G$3)","v":"2014-06-29"},{"$f":"'PlSp13-18'!C28","v":"13:21:00"},null,null,null,null,null,null,null,null,null,null,null,null,null,"2014-06-29","13:21:00",null,1,null,{"$f":"'PlSp13-18'!B28","v":45},{"$f":"'PlSp13-18'!E28","v":"Gruppe B6"},{"$f":"'PlSp13-18'!J28","v":"Gruppe D2"}]

{"sheet":"exportplsp1924","index":59,"n_rows":16,"n_cols":31,"rows_kept":16,"cut":false,"hidden":true,"merged":[]}
["Datum","Zeit","Saison","Verband","Mannschaftsart_Key","Mannschaftsart","Spielklasse_Key","Spielklasse","Spielgebiet_Key","Spielgebiet","Rahmenspielplan","Staffel_Nr","Staffel","Staffelkennung","Staffelleiter","Spieldatum","Anstoss","Wochentag","Spieltag","Schluesseltag","Spielkennung","Heim Mannschaft","Gast Mannschaft","freigegeben","Spielstaette","Spielleitung","1. Assistent","2. Assistent","Verlegt_Wochentag","Verlegt_Datum","Verlegt_Uhrzeit"]
[{"$f":"IF(B2=0,\"\",Vorgaben!G$3)","v":"2014-06-29"},{"$f":"'PlSp19-24'!C14","v":"08:56:00"},null,null,null,null,null,null,null,null,null,null,null,null,null,{"$f":"A2","v":"2014-06-29"},{"$f":"B2","v":"08:56:00"},null,1,null,{"$f":"'PlSp19-24'!B14","v":46},{"$f":"'PlSp19-24'!E14","v":"Gruppe A6"},{"$f":"'PlSp19-24'!J14","v":"Gruppe B5"}]
[{"$f":"IF(B3=0,\"\",Vorgaben!G$3)","v":"2014-06-29"},{"$f":"'PlSp19-24'!C15","v":"09:07:00"},null,null,null,null,null,null,null,null,null,null,null,null,null,{"$f":"A3","v":"2014-06-29"},"09:07:00",null,1,null,{"$f":"'PlSp19-24'!B15","v":47},{"$f":"'PlSp19-24'!E15","v":"Gruppe C3"},{"$f":"'PlSp19-24'!J15","v":"Gruppe D3"}]
[{"$f":"IF(B4=0,\"\",Vorgaben!G$3)","v":"2014-06-29"},{"$f":"'PlSp19-24'!C16","v":"09:29:00"},null,null,null,null,null,null,null,null,null,null,null,null,null,"2014-06-29","09:29:00",null,1,null,{"$f":"'PlSp19-24'!B16","v":48},{"$f":"'PlSp19-24'!E16","v":"Gruppe E4"},{"$f":"'PlSp19-24'!J16","v":"Gruppe F4"}]
[{"$f":"IF(B5=0,\"\",Vorgaben!G$3)","v":"2014-06-29"},{"$f":"'PlSp19-24'!C17","v":"09:40:00"},null,null,null,null,null,null,null,null,null,null,null,null,null,"2014-06-29","09:40:00",null,1,null,{"$f":"'PlSp19-24'!B17","v":49},{"$f":"'PlSp19-24'!E17","v":"Gruppe B5"},{"$f":"'PlSp19-24'!J17","v":"Gruppe C3"}]
[{"$f":"IF(B6=0,\"\",Vorgaben!G$3)","v":"2014-06-29"},{"$f":"'PlSp19-24'!C18","v":"10:02:00"},null,null,null,null,null,null,null,null,null,null,null,null,null,"2014-06-29","10:02:00",null,1,null,{"$f":"'PlSp19-24'!B18","v":50},{"$f":"'PlSp19-24'!E18","v":"Gruppe D3"},{"$f":"'PlSp19-24'!J18","v":"Gruppe E4"}]
[{"$f":"IF(B7=0,\"\",Vorgaben!G$3)","v":"2014-06-29"},{"$f":"'PlSp19-24'!C19","v":"10:13:00"},null,null,null,null,null,null,null,null,null,null,null,null,null,"2014-06-29","10:13:00",null,1,null,{"$f":"'PlSp19-24'!B19","v":51},{"$f":"'PlSp19-24'!E19","v":"Gruppe A6"},{"$f":"'PlSp19-24'!J19","v":"Gruppe C3"}]
[{"$f":"IF(B8=0,\"\",Vorgaben!G$3)","v":"2014-06-29"},{"$f":"'PlSp19-24'!C20","v":"10:35:00"},null,null,null,null,null,null,null,null,null,null,null,null,null,"2014-06-29","10:35:00",null,1,null,{"$f":"'PlSp19-24'!B20","v":52},{"$f":"'PlSp19-24'!E20","v":"Gruppe E4"},{"$f":"'PlSp19-24'!J20","v":"Gruppe B5"}]
[{"$f":"IF(B9=0,\"\",Vorgaben!G$3)","v":"2014-06-29"},{"$f":"'PlSp19-24'!C21","v":"10:46:00"},null,null,null,null,null,null,null,null,null,null,null,null,null,"2014-06-29","10:46:00",null,1,null,{"$f":"'PlSp19-24'!B21","v":53},{"$f":"'PlSp19-24'!E21","v":"Gruppe F4"},{"$f":"'PlSp19-24'!J21","v":"Gruppe A6"}]
[{"$f":"IF(B10=0,\"\",Vorgaben!G$3)","v":"2014-06-29"},{"$f":"'PlSp19-24'!C22","v":"11:08:00"},null,null,null,null,null,null,null,null,null,null,null,null,null,"2014-06-29","11:08:00",null,1,null,{"$f":"'PlSp19-24'!B22","v":54},{"$f":"'PlSp19-24'!E22","v":"Gruppe C3"},{"$f":"'PlSp19-24'!J22","v":"Gruppe E4"}]
[{"$f":"IF(B11=0,\"\",Vorgaben!G$3)","v":"2014-06-29"},{"$f":"'PlSp19-24'!C23","v":"11:19:00"},null,null,null,null,null,null,null,null,null,null,null,null,null,"2014-06-29","11:19:00",null,1,null,{"$f":"'PlSp19-24'!B23","v":55},{"$f":"'PlSp19-24'!E23","v":"Gruppe D3"},{"$f":"'PlSp19-24'!J23","v":"Gruppe F4"}]
[{"$f":"IF(B12=0,\"\",Vorgaben!G$3)","v":"2014-06-29"},{"$f":"'PlSp19-24'!C24","v":"12:26:00"},null,null,null,null,null,null,null,null,null,null,null,null,null,"2014-06-29","12:26:00",null,1,null,{"$f":"'PlSp19-24'!B24","v":56},{"$f":"'PlSp19-24'!E24","v":"Gruppe A6"},{"$f":"'PlSp19-24'!J24","v":"Gruppe E4"}]
[{"$f":"IF(B13=0,\"\",Vorgaben!G$3)","v":"2014-06-29"},{"$f":"'PlSp19-24'!C25","v":"12:37:00"},null,null,null,null,null,null,null,null,null,null,null,null,null,"2014-06-29","12:37:00",null,1,null,{"$f":"'PlSp19-24'!B25","v":57},{"$f":"'PlSp19-24'!E25","v":"Gruppe F4"},{"$f":"'PlSp19-24'!J25","v":"Gruppe B5"}]
[{"$f":"IF(B14=0,\"\",Vorgaben!G$3)","v":"2014-06-29"},{"$f":"'PlSp19-24'!C26","v":"12:59:00"},null,null,null,null,null,null,null,null,null,null,null,null,null,"2014-06-29","12:59:00",null,1,null,{"$f":"'PlSp19-24'!B26","v":58},{"$f":"'PlSp19-24'!E26","v":"Gruppe D3"},{"$f":"'PlSp19-24'!J26","v":"Gruppe A6"}]
[{"$f":"IF(B15=0,\"\",Vorgaben!G$3)","v":"2014-06-29"},{"$f":"'PlSp19-24'!C27","v":"13:10:00"},null,null,null,null,null,null,null,null,null,null,null,null,null,"2014-06-29","13:10:00",null,1,null,{"$f":"'PlSp19-24'!B27","v":59},{"$f":"'PlSp19-24'!E27","v":"Gruppe C3"},{"$f":"'PlSp19-24'!J27","v":"Gruppe F4"}]
[{"$f":"IF(B16=0,\"\",Vorgaben!G$3)","v":"2014-06-29"},{"$f":"'PlSp19-24'!C28","v":"13:21:00"},null,null,null,null,null,null,null,null,null,null,null,null,null,"2014-06-29","13:21:00",null,1,null,{"$f":"'PlSp19-24'!B28","v":60},{"$f":"'PlSp19-24'!E28","v":"Gruppe B5"},{"$f":"'PlSp19-24'!J28","v":"Gruppe D3"}]

{"sheet":"exportplsp2530","index":60,"n_rows":16,"n_cols":31,"rows_kept":16,"cut":false,"hidden":true,"merged":[]}
["Datum","Zeit","Saison","Verband","Mannschaftsart_Key","Mannschaftsart","Spielklasse_Key","Spielklasse","Spielgebiet_Key","Spielgebiet","Rahmenspielplan","Staffel_Nr","Staffel","Staffelkennung","Staffelleiter","Spieldatum","Anstoss","Wochentag","Spieltag","Schluesseltag","Spielkennung","Heim Mannschaft","Gast Mannschaft","freigegeben","Spielstaette","Spielleitung","1. Assistent","2. Assistent","Verlegt_Wochentag","Verlegt_Datum","Verlegt_Uhrzeit"]
[{"$f":"IF(B2=0,\"\",Vorgaben!G$3)","v":"2014-06-29"},{"$f":"'PlSp25-30'!C14","v":"08:45:00"},null,null,null,null,null,null,null,null,null,null,null,null,null,{"$f":"A2","v":"2014-06-29"},{"$f":"B2","v":"08:45:00"},null,1,null,{"$f":"'PlSp25-30'!B14","v":61},{"$f":"'PlSp25-30'!E14","v":"Gruppe A3"},{"$f":"'PlSp25-30'!J14","v":"Gruppe B7"}]
[{"$f":"IF(B3=0,\"\",Vorgaben!G$3)","v":"2014-06-29"},{"$f":"'PlSp25-30'!C15","v":"09:07:00"},null,null,null,null,null,null,null,null,null,null,null,null,null,{"$f":"A3","v":"2014-06-29"},"09:07:00",null,1,null,{"$f":"'PlSp25-30'!B15","v":62},{"$f":"'PlSp25-30'!E15","v":"Gruppe C7"},{"$f":"'PlSp25-30'!J15","v":"Gruppe D4"}]
[{"$f":"IF(B4=0,\"\",Vorgaben!G$3)","v":"2014-06-29"},{"$f":"'PlSp25-30'!C16","v":"09:18:00"},null,null,null,null,null,null,null,null,null,null,null,null,null,"2014-06-29","09:18:00",null,1,null,{"$f":"'PlSp25-30'!B16","v":63},{"$f":"'PlSp25-30'!E16","v":"Gruppe E1"},{"$f":"'PlSp25-30'!J16","v":"Gruppe F3"}]
[{"$f":"IF(B5=0,\"\",Vorgaben!G$3)","v":"2014-06-29"},{"$f":"'PlSp25-30'!C17","v":"09:40:00"},null,null,null,null,null,null,null,null,null,null,null,null,null,"2014-06-29","09:40:00",null,1,null,{"$f":"'PlSp25-30'!B17","v":64},{"$f":"'PlSp25-30'!E17","v":"Gruppe B7"},{"$f":"'PlSp25-30'!J17","v":"Gruppe C7"}]
[{"$f":"IF(B6=0,\"\",Vorgaben!G$3)","v":"2014-06-29"},{"$f":"'PlSp25-30'!C18","v":"09:51:00"},null,null,null,null,null,null,null,null,null,null,null,null,null,"2014-06-29","09:51:00",null,1,null,{"$f":"'PlSp25-30'!B18","v":65},{"$f":"'PlSp25-30'!E18","v":"Gruppe D4"},{"$f":"'PlSp25-30'!J18","v":"Gruppe E1"}]
[{"$f":"IF(B7=0,\"\",Vorgaben!G$3)","v":"2014-06-29"},{"$f":"'PlSp25-30'!C19","v":"10:13:00"},null,null,null,null,null,null,null,null,null,null,null,null,null,"2014-06-29","10:13:00",null,1,null,{"$f":"'PlSp25-30'!B19","v":66},{"$f":"'PlSp25-30'!E19","v":"Gruppe A3"},{"$f":"'PlSp25-30'!J19","v":"Gruppe C7"}]
[{"$f":"IF(B8=0,\"\",Vorgaben!G$3)","v":"2014-06-29"},{"$f":"'PlSp25-30'!C20","v":"10:24:00"},null,null,null,null,null,null,null,null,null,null,null,null,null,"2014-06-29","10:24:00",null,1,null,{"$f":"'PlSp25-30'!B20","v":67},{"$f":"'PlSp25-30'!E20","v":"Gruppe E1"},{"$f":"'PlSp25-30'!J20","v":"Gruppe B7"}]
[{"$f":"IF(B9=0,\"\",Vorgaben!G$3)","v":"2014-06-29"},{"$f":"'PlSp25-30'!C21","v":"10:46:00"},null,null,null,null,null,null,null,null,null,null,null,null,null,"2014-06-29","10:46:00",null,1,null,{"$f":"'PlSp25-30'!B21","v":68},{"$f":"'PlSp25-30'!E21","v":"Gruppe F3"},{"$f":"'PlSp25-30'!J21","v":"Gruppe A3"}]
[{"$f":"IF(B10=0,\"\",Vorgaben!G$3)","v":"2014-06-29"},{"$f":"'PlSp25-30'!C22","v":"10:57:00"},null,null,null,null,null,null,null,null,null,null,null,null,null,"2014-06-29","10:57:00",null,1,null,{"$f":"'PlSp25-30'!B22","v":69},{"$f":"'PlSp25-30'!E22","v":"Gruppe C7"},{"$f":"'PlSp25-30'!J22","v":"Gruppe E1"}]
[{"$f":"IF(B11=0,\"\",Vorgaben!G$3)","v":"2014-06-29"},{"$f":"'PlSp25-30'!C23","v":"11:19:00"},null,null,null,null,null,null,null,null,null,null,null,null,null,"2014-06-29","11:19:00",null,1,null,{"$f":"'PlSp25-30'!B23","v":70},{"$f":"'PlSp25-30'!E23","v":"Gruppe D4"},{"$f":"'PlSp25-30'!J23","v":"Gruppe F3"}]
[{"$f":"IF(B12=0,\"\",Vorgaben!G$3)","v":"2014-06-29"},{"$f":"'PlSp25-30'!C24","v":"12:15:00"},null,null,null,null,null,null,null,null,null,null,null,null,null,"2014-06-29","12:15:00",null,1,null,{"$f":"'PlSp25-30'!B24","v":71},{"$f":"'PlSp25-30'!E24","v":"Gruppe A3"},{"$f":"'PlSp25-30'!J24","v":"Gruppe E1"}]
[{"$f":"IF(B13=0,\"\",Vorgaben!G$3)","v":"2014-06-29"},{"$f":"'PlSp25-30'!C25","v":"12:37:00"},null,null,null,null,null,null,null,null,null,null,null,null,null,"2014-06-29","12:37:00",null,1,null,{"$f":"'PlSp25-30'!B25","v":72},{"$f":"'PlSp25-30'!E25","v":"Gruppe F3"},{"$f":"'PlSp25-30'!J25","v":"Gruppe B7"}]
[{"$f":"IF(B14=0,\"\",Vorgaben!G$3)","v":"2014-06-29"},{"$f":"'PlSp25-30'!C26","v":"12:48:00"},null,null,null,null,null,null,null,null,null,null,null,null,null,"2014-06-29","12:48:00",null,1,null,{"$f":"'PlSp25-30'!B26","v":73},{"$f":"'PlSp25-30'!E26","v":"Gruppe D4"},{"$f":"'PlSp25-30'!J26","v":"Gruppe A3"}]
[{"$f":"IF(B15=0,\"\",Vorgaben!G$3)","v":"2014-06-29"},{"$f":"'PlSp25-30'!C27","v":"13:10:00"},null,null,null,null,null,null,null,null,null,null,null,null,null,"2014-06-29","13:10:00",null,1,null,{"$f":"'PlSp25-30'!B27","v":74},{"$f":"'PlSp25-30'!E27","v":"Gruppe C7"},{"$f":"'PlSp25-30'!J27","v":"Gruppe F3"}]
[{"$f":"IF(B16=0,\"\",Vorgaben!G$3)","v":"2014-06-29"},{"$f":"'PlSp25-30'!C28","v":"13:21:00"},null,null,null,null,null,null,null,null,null,null,null,null,null,"2014-06-29","13:21:00",null,1,null,{"$f":"'PlSp25-30'!B28","v":75},{"$f":"'PlSp25-30'!E28","v":"Gruppe B7"},{"$f":"'PlSp25-30'!J28","v":"Gruppe D4"}]

{"sheet":"exportplsp3136","index":61,"n_rows":16,"n_cols":31,"rows_kept":16,"cut":false,"hidden":true,"merged":[]}
["Datum","Zeit","Saison","Verband","Mannschaftsart_Key","Mannschaftsart","Spielklasse_Key","Spielklasse","Spielgebiet_Key","Spielgebiet","Rahmenspielplan","Staffel_Nr","Staffel","Staffelkennung","Staffelleiter","Spieldatum","Anstoss","Wochentag","Spieltag","Schluesseltag","Spielkennung","Heim Mannschaft","Gast Mannschaft","freigegeben","Spielstaette","Spielleitung","1. Assistent","2. Assistent","Verlegt_Wochentag","Verlegt_Datum","Verlegt_Uhrzeit"]
[{"$f":"IF(B2=0,\"\",Vorgaben!G$3)","v":"2014-06-29"},{"$f":"'PlSp31-36'!C14","v":"08:56:00"},null,null,null,null,null,null,null,null,null,null,null,null,null,{"$f":"A2","v":"2014-06-29"},{"$f":"B2","v":"08:56:00"},null,1,null,{"$f":"'PlSp31-36'!B14","v":76},{"$f":"'PlSp31-36'!E14","v":"Gruppe A8"},{"$f":"'PlSp31-36'!J14","v":"Gruppe B8"}]
[{"$f":"IF(B3=0,\"\",Vorgaben!G$3)","v":"2014-06-29"},{"$f":"'PlSp31-36'!C15","v":"09:07:00"},null,null,null,null,null,null,null,null,null,null,null,null,null,{"$f":"A3","v":"2014-06-29"},"09:07:00",null,1,null,{"$f":"'PlSp31-36'!B15","v":77},{"$f":"'PlSp31-36'!E15","v":"Gruppe C2"},{"$f":"'PlSp31-36'!J15","v":"Gruppe D1"}]
[{"$f":"IF(B4=0,\"\",Vorgaben!G$3)","v":"2014-06-29"},{"$f":"'PlSp31-36'!C16","v":"09:29:00"},null,null,null,null,null,null,null,null,null,null,null,null,null,"2014-06-29","09:29:00",null,1,null,{"$f":"'PlSp31-36'!B16","v":78},{"$f":"'PlSp31-36'!E16","v":"Gruppe E6"},{"$f":"'PlSp31-36'!J16","v":"Gruppe F2"}]
[{"$f":"IF(B5=0,\"\",Vorgaben!G$3)","v":"2014-06-29"},{"$f":"'PlSp31-36'!C17","v":"09:40:00"},null,null,null,null,null,null,null,null,null,null,null,null,null,"2014-06-29","09:40:00",null,1,null,{"$f":"'PlSp31-36'!B17","v":79},{"$f":"'PlSp31-36'!E17","v":"Gruppe B8"},{"$f":"'PlSp31-36'!J17","v":"Gruppe C2"}]
[{"$f":"IF(B6=0,\"\",Vorgaben!G$3)","v":"2014-06-29"},{"$f":"'PlSp31-36'!C18","v":"10:02:00"},null,null,null,null,null,null,null,null,null,null,null,null,null,"2014-06-29","10:02:00",null,1,null,{"$f":"'PlSp31-36'!B18","v":80},{"$f":"'PlSp31-36'!E18","v":"Gruppe D1"},{"$f":"'PlSp31-36'!J18","v":"Gruppe E6"}]
[{"$f":"IF(B7=0,\"\",Vorgaben!G$3)","v":"2014-06-29"},{"$f":"'PlSp31-36'!C19","v":"10:13:00"},null,null,null,null,null,null,null,null,null,null,null,null,null,"2014-06-29","10:13:00",null,1,null,{"$f":"'PlSp31-36'!B19","v":81},{"$f":"'PlSp31-36'!E19","v":"Gruppe A8"},{"$f":"'PlSp31-36'!J19","v":"Gruppe C2"}]
[{"$f":"IF(B8=0,\"\",Vorgaben!G$3)","v":"2014-06-29"},{"$f":"'PlSp31-36'!C20","v":"10:35:00"},null,null,null,null,null,null,null,null,null,null,null,null,null,"2014-06-29","10:35:00",null,1,null,{"$f":"'PlSp31-36'!B20","v":82},{"$f":"'PlSp31-36'!E20","v":"Gruppe E6"},{"$f":"'PlSp31-36'!J20","v":"Gruppe B8"}]
[{"$f":"IF(B9=0,\"\",Vorgaben!G$3)","v":"2014-06-29"},{"$f":"'PlSp31-36'!C21","v":"10:46:00"},null,null,null,null,null,null,null,null,null,null,null,null,null,"2014-06-29","10:46:00",null,1,null,{"$f":"'PlSp31-36'!B21","v":83},{"$f":"'PlSp31-36'!E21","v":"Gruppe F2"},{"$f":"'PlSp31-36'!J21","v":"Gruppe A8"}]
[{"$f":"IF(B10=0,\"\",Vorgaben!G$3)","v":"2014-06-29"},{"$f":"'PlSp31-36'!C22","v":"11:08:00"},null,null,null,null,null,null,null,null,null,null,null,null,null,"2014-06-29","11:08:00",null,1,null,{"$f":"'PlSp31-36'!B22","v":84},{"$f":"'PlSp31-36'!E22","v":"Gruppe C2"},{"$f":"'PlSp31-36'!J22","v":"Gruppe E6"}]
[{"$f":"IF(B11=0,\"\",Vorgaben!G$3)","v":"2014-06-29"},{"$f":"'PlSp31-36'!C23","v":"11:19:00"},null,null,null,null,null,null,null,null,null,null,null,null,null,"2014-06-29","11:19:00",null,1,null,{"$f":"'PlSp31-36'!B23","v":85},{"$f":"'PlSp31-36'!E23","v":"Gruppe D1"},{"$f":"'PlSp31-36'!J23","v":"Gruppe F2"}]
[{"$f":"IF(B12=0,\"\",Vorgaben!G$3)","v":"2014-06-29"},{"$f":"'PlSp31-36'!C24","v":"12:26:00"},null,null,null,null,null,null,null,null,null,null,null,null,null,"2014-06-29","12:26:00",null,1,null,{"$f":"'PlSp31-36'!B24","v":86},{"$f":"'PlSp31-36'!E24","v":"Gruppe A8"},{"$f":"'PlSp31-36'!J24","v":"Gruppe E6"}]
[{"$f":"IF(B13=0,\"\",Vorgaben!G$3)","v":"2014-06-29"},{"$f":"'PlSp31-36'!C25","v":"12:37:00"},null,null,null,null,null,null,null,null,null,null,null,null,null,"2014-06-29","12:37:00",null,1,null,{"$f":"'PlSp31-36'!B25","v":87},{"$f":"'PlSp31-36'!E25","v":"Gruppe F2"},{"$f":"'PlSp31-36'!J25","v":"Gruppe B8"}]
[{"$f":"IF(B14=0,\"\",Vorgaben!G$3)","v":"2014-06-29"},{"$f":"'PlSp31-36'!C26","v":"12:59:00"},null,null,null,null,null,null,null,null,null,null,null,null,null,"2014-06-29","12:59:00",null,1,null,{"$f":"'PlSp31-36'!B26","v":88},{"$f":"'PlSp31-36'!E26","v":"Gruppe D1"},{"$f":"'PlSp31-36'!J26","v":"Gruppe A8"}]
[{"$f":"IF(B15=0,\"\",Vorgaben!G$3)","v":"2014-06-29"},{"$f":"'PlSp31-36'!C27","v":"13:10:00"},null,null,null,null,null,null,null,null,null,null,null,null,null,"2014-06-29","13:10:00",null,1,null,{"$f":"'PlSp31-36'!B27","v":89},{"$f":"'PlSp31-36'!E27","v":"Gruppe C2"},{"$f":"'PlSp31-36'!J27","v":"Gruppe F2"}]
[{"$f":"IF(B16=0,\"\",Vorgaben!G$3)","v":"2014-06-29"},{"$f":"'PlSp31-36'!C28","v":"13:21:00"},null,null,null,null,null,null,null,null,null,null,null,null,null,"2014-06-29","13:21:00",null,1,null,{"$f":"'PlSp31-36'!B28","v":90},{"$f":"'PlSp31-36'!E28","v":"Gruppe B8"},{"$f":"'PlSp31-36'!J28","v":"Gruppe D1"}]

{"sheet":"exportplsp3742","index":62,"n_rows":16,"n_cols":31,"rows_kept":16,"cut":false,"hidden":true,"merged":[]}
["Datum","Zeit","Saison","Verband","Mannschaftsart_Key","Mannschaftsart","Spielklasse_Key","Spielklasse","Spielgebiet_Key","Spielgebiet","Rahmenspielplan","Staffel_Nr","Staffel","Staffelkennung","Staffelleiter","Spieldatum","Anstoss","Wochentag","Spieltag","Schluesseltag","Spielkennung","Heim Mannschaft","Gast Mannschaft","freigegeben","Spielstaette","Spielleitung","1. Assistent","2. Assistent","Verlegt_Wochentag","Verlegt_Datum","Verlegt_Uhrzeit"]
[{"$f":"IF(B2=0,\"\",Vorgaben!G$3)","v":"2014-06-29"},{"$f":"'PlSp37-42'!C14","v":"08:45:00"},null,null,null,null,null,null,null,null,null,null,null,null,null,{"$f":"A2","v":"2014-06-29"},{"$f":"B2","v":"08:45:00"},null,1,null,{"$f":"'PlSp37-42'!B14","v":91},{"$f":"'PlSp37-42'!E14","v":"Gruppe A5"},{"$f":"'PlSp37-42'!J14","v":"Gruppe B4"}]
[{"$f":"IF(B3=0,\"\",Vorgaben!G$3)","v":"2014-06-29"},{"$f":"'PlSp37-42'!C15","v":"08:56:00"},null,null,null,null,null,null,null,null,null,null,null,null,null,{"$f":"A3","v":"2014-06-29"},"08:56:00",null,1,null,{"$f":"'PlSp37-42'!B15","v":92},{"$f":"'PlSp37-42'!E15","v":"Gruppe C1"},{"$f":"'PlSp37-42'!J15","v":"Gruppe D5"}]
[{"$f":"IF(B4=0,\"\",Vorgaben!G$3)","v":"2014-06-29"},{"$f":"'PlSp37-42'!C16","v":"09:18:00"},null,null,null,null,null,null,null,null,null,null,null,null,null,"2014-06-29","09:18:00",null,1,null,{"$f":"'PlSp37-42'!B16","v":93},{"$f":"'PlSp37-42'!E16","v":"Gruppe E5"},{"$f":"'PlSp37-42'!J16","v":"Gruppe F1"}]
[{"$f":"IF(B5=0,\"\",Vorgaben!G$3)","v":"2014-06-29"},{"$f":"'PlSp37-42'!C17","v":"09:29:00"},null,null,null,null,null,null,null,null,null,null,null,null,null,"2014-06-29","09:29:00",null,1,null,{"$f":"'PlSp37-42'!B17","v":94},{"$f":"'PlSp37-42'!E17","v":"Gruppe B4"},{"$f":"'PlSp37-42'!J17","v":"Gruppe C1"}]
[{"$f":"IF(B6=0,\"\",Vorgaben!G$3)","v":"2014-06-29"},{"$f":"'PlSp37-42'!C18","v":"09:51:00"},null,null,null,null,null,null,null,null,null,null,null,null,null,"2014-06-29","09:51:00",null,1,null,{"$f":"'PlSp37-42'!B18","v":95},{"$f":"'PlSp37-42'!E18","v":"Gruppe D5"},{"$f":"'PlSp37-42'!J18","v":"Gruppe E5"}]
[{"$f":"IF(B7=0,\"\",Vorgaben!G$3)","v":"2014-06-29"},{"$f":"'PlSp37-42'!C19","v":"10:02:00"},null,null,null,null,null,null,null,null,null,null,null,null,null,"2014-06-29","10:02:00",null,1,null,{"$f":"'PlSp37-42'!B19","v":96},{"$f":"'PlSp37-42'!E19","v":"Gruppe A5"},{"$f":"'PlSp37-42'!J19","v":"Gruppe C1"}]
[{"$f":"IF(B8=0,\"\",Vorgaben!G$3)","v":"2014-06-29"},{"$f":"'PlSp37-42'!C20","v":"10:24:00"},null,null,null,null,null,null,null,null,null,null,null,null,null,"2014-06-29","10:24:00",null,1,null,{"$f":"'PlSp37-42'!B20","v":97},{"$f":"'PlSp37-42'!E20","v":"Gruppe E5"},{"$f":"'PlSp37-42'!J20","v":"Gruppe B4"}]
[{"$f":"IF(B9=0,\"\",Vorgaben!G$3)","v":"2014-06-29"},{"$f":"'PlSp37-42'!C21","v":"10:35:00"},null,null,null,null,null,null,null,null,null,null,null,null,null,"2014-06-29","10:35:00",null,1,null,{"$f":"'PlSp37-42'!B21","v":98},{"$f":"'PlSp37-42'!E21","v":"Gruppe F1"},{"$f":"'PlSp37-42'!J21","v":"Gruppe A5"}]
[{"$f":"IF(B10=0,\"\",Vorgaben!G$3)","v":"2014-06-29"},{"$f":"'PlSp37-42'!C22","v":"10:57:00"},null,null,null,null,null,null,null,null,null,null,null,null,null,"2014-06-29","10:57:00",null,1,null,{"$f":"'PlSp37-42'!B22","v":99},{"$f":"'PlSp37-42'!E22","v":"Gruppe C1"},{"$f":"'PlSp37-42'!J22","v":"Gruppe E5"}]
[{"$f":"IF(B11=0,\"\",Vorgaben!G$3)","v":"2014-06-29"},{"$f":"'PlSp37-42'!C23","v":"11:08:00"},null,null,null,null,null,null,null,null,null,null,null,null,null,"2014-06-29","11:08:00",null,1,null,{"$f":"'PlSp37-42'!B23","v":100},{"$f":"'PlSp37-42'!E23","v":"Gruppe D5"},{"$f":"'PlSp37-42'!J23","v":"Gruppe F1"}]
[{"$f":"IF(B12=0,\"\",Vorgaben!G$3)","v":"2014-06-29"},{"$f":"'PlSp37-42'!C24","v":"12:15:00"},null,null,null,null,null,null,null,null,null,null,null,null,null,"2014-06-29","12:15:00",null,1,null,{"$f":"'PlSp37-42'!B24","v":101},{"$f":"'PlSp37-42'!E24","v":"Gruppe A5"},{"$f":"'PlSp37-42'!J24","v":"Gruppe E5"}]
[{"$f":"IF(B13=0,\"\",Vorgaben!G$3)","v":"2014-06-29"},{"$f":"'PlSp37-42'!C25","v":"12:26:00"},null,null,null,null,null,null,null,null,null,null,null,null,null,"2014-06-29","12:26:00",null,1,null,{"$f":"'PlSp37-42'!B25","v":102},{"$f":"'PlSp37-42'!E25","v":"Gruppe F1"},{"$f":"'PlSp37-42'!J25","v":"Gruppe B4"}]
[{"$f":"IF(B14=0,\"\",Vorgaben!G$3)","v":"2014-06-29"},{"$f":"'PlSp37-42'!C26","v":"12:48:00"},null,null,null,null,null,null,null,null,null,null,null,null,null,"2014-06-29","12:48:00",null,1,null,{"$f":"'PlSp37-42'!B26","v":103},{"$f":"'PlSp37-42'!E26","v":"Gruppe D5"},{"$f":"'PlSp37-42'!J26","v":"Gruppe A5"}]
[{"$f":"IF(B15=0,\"\",Vorgaben!G$3)","v":"2014-06-29"},{"$f":"'PlSp37-42'!C27","v":"12:59:00"},null,null,null,null,null,null,null,null,null,null,null,null,null,"2014-06-29","12:59:00",null,1,null,{"$f":"'PlSp37-42'!B27","v":104},{"$f":"'PlSp37-42'!E27","v":"Gruppe C1"},{"$f":"'PlSp37-42'!J27","v":"Gruppe F1"}]
[{"$f":"IF(B16=0,\"\",Vorgaben!G$3)","v":"2014-06-29"},{"$f":"'PlSp37-42'!C28","v":"13:21:00"},null,null,null,null,null,null,null,null,null,null,null,null,null,"2014-06-29","13:21:00",null,1,null,{"$f":"'PlSp37-42'!B28","v":105},{"$f":"'PlSp37-42'!E28","v":"Gruppe B4"},{"$f":"'PlSp37-42'!J28","v":"Gruppe D5"}]

{"sheet":"exportplsp4348","index":63,"n_rows":16,"n_cols":31,"rows_kept":16,"cut":false,"hidden":true,"merged":[]}
["Datum","Zeit","Saison","Verband","Mannschaftsart_Key","Mannschaftsart","Spielklasse_Key","Spielklasse","Spielgebiet_Key","Spielgebiet","Rahmenspielplan","Staffel_Nr","Staffel","Staffelkennung","Staffelleiter","Spieldatum","Anstoss","Wochentag","Spieltag","Schluesseltag","Spielkennung","Heim Mannschaft","Gast Mannschaft","freigegeben","Spielstaette","Spielleitung","1. Assistent","2. Assistent","Verlegt_Wochentag","Verlegt_Datum","Verlegt_Uhrzeit"]
[{"$f":"IF(B2=0,\"\",Vorgaben!G$3)","v":"2014-06-29"},{"$f":"'PlSp43-48'!C14","v":"08:45:00"},null,null,null,null,null,null,null,null,null,null,null,null,null,{"$f":"A2","v":"2014-06-29"},{"$f":"B2","v":"08:45:00"},null,1,null,{"$f":"'PlSp43-48'!B14","v":106},{"$f":"'PlSp43-48'!E14","v":"Gruppe A1"},{"$f":"'PlSp43-48'!J14","v":"Gruppe B2"}]
[{"$f":"IF(B3=0,\"\",Vorgaben!G$3)","v":"2014-06-29"},{"$f":"'PlSp43-48'!C15","v":"08:56:00"},null,null,null,null,null,null,null,null,null,null,null,null,null,{"$f":"A3","v":"2014-06-29"},"08:56:00",null,1,null,{"$f":"'PlSp43-48'!B15","v":107},{"$f":"'PlSp43-48'!E15","v":"Gruppe C6"},{"$f":"'PlSp43-48'!J15","v":"Gruppe D6"}]
[{"$f":"IF(B4=0,\"\",Vorgaben!G$3)","v":"2014-06-29"},{"$f":"'PlSp43-48'!C16","v":"09:18:00"},null,null,null,null,null,null,null,null,null,null,null,null,null,"2014-06-29","09:18:00",null,1,null,{"$f":"'PlSp43-48'!B16","v":108},{"$f":"'PlSp43-48'!E16","v":"Gruppe E8"},{"$f":"'PlSp43-48'!J16","v":"Gruppe F7"}]
[{"$f":"IF(B5=0,\"\",Vorgaben!G$3)","v":"2014-06-29"},{"$f":"'PlSp43-48'!C17","v":"09:29:00"},null,null,null,null,null,null,null,null,null,null,null,null,null,"2014-06-29","09:29:00",null,1,null,{"$f":"'PlSp43-48'!B17","v":109},{"$f":"'PlSp43-48'!E17","v":"Gruppe B2"},{"$f":"'PlSp43-48'!J17","v":"Gruppe C6"}]
[{"$f":"IF(B6=0,\"\",Vorgaben!G$3)","v":"2014-06-29"},{"$f":"'PlSp43-48'!C18","v":"09:51:00"},null,null,null,null,null,null,null,null,null,null,null,null,null,"2014-06-29","09:51:00",null,1,null,{"$f":"'PlSp43-48'!B18","v":110},{"$f":"'PlSp43-48'!E18","v":"Gruppe D6"},{"$f":"'PlSp43-48'!J18","v":"Gruppe E8"}]
[{"$f":"IF(B7=0,\"\",Vorgaben!G$3)","v":"2014-06-29"},{"$f":"'PlSp43-48'!C19","v":"10:02:00"},null,null,null,null,null,null,null,null,null,null,null,null,null,"2014-06-29","10:02:00",null,1,null,{"$f":"'PlSp43-48'!B19","v":111},{"$f":"'PlSp43-48'!E19","v":"Gruppe A1"},{"$f":"'PlSp43-48'!J19","v":"Gruppe C6"}]
[{"$f":"IF(B8=0,\"\",Vorgaben!G$3)","v":"2014-06-29"},{"$f":"'PlSp43-48'!C20","v":"10:24:00"},null,null,null,null,null,null,null,null,null,null,null,null,null,"2014-06-29","10:24:00",null,1,null,{"$f":"'PlSp43-48'!B20","v":112},{"$f":"'PlSp43-48'!E20","v":"Gruppe E8"},{"$f":"'PlSp43-48'!J20","v":"Gruppe B2"}]
[{"$f":"IF(B9=0,\"\",Vorgaben!G$3)","v":"2014-06-29"},{"$f":"'PlSp43-48'!C21","v":"10:35:00"},null,null,null,null,null,null,null,null,null,null,null,null,null,"2014-06-29","10:35:00",null,1,null,{"$f":"'PlSp43-48'!B21","v":113},{"$f":"'PlSp43-48'!E21","v":"Gruppe F7"},{"$f":"'PlSp43-48'!J21","v":"Gruppe A1"}]
[{"$f":"IF(B10=0,\"\",Vorgaben!G$3)","v":"2014-06-29"},{"$f":"'PlSp43-48'!C22","v":"10:57:00"},null,null,null,null,null,null,null,null,null,null,null,null,null,"2014-06-29","10:57:00",null,1,null,{"$f":"'PlSp43-48'!B22","v":114},{"$f":"'PlSp43-48'!E22","v":"Gruppe C6"},{"$f":"'PlSp43-48'!J22","v":"Gruppe E8"}]
[{"$f":"IF(B11=0,\"\",Vorgaben!G$3)","v":"2014-06-29"},{"$f":"'PlSp43-48'!C23","v":"11:08:00"},null,null,null,null,null,null,null,null,null,null,null,null,null,"2014-06-29","11:08:00",null,1,null,{"$f":"'PlSp43-48'!B23","v":115},{"$f":"'PlSp43-48'!E23","v":"Gruppe D6"},{"$f":"'PlSp43-48'!J23","v":"Gruppe F7"}]
[{"$f":"IF(B12=0,\"\",Vorgaben!G$3)","v":"2014-06-29"},{"$f":"'PlSp43-48'!C24","v":"12:15:00"},null,null,null,null,null,null,null,null,null,null,null,null,null,"2014-06-29","12:15:00",null,1,null,{"$f":"'PlSp43-48'!B24","v":116},{"$f":"'PlSp43-48'!E24","v":"Gruppe A1"},{"$f":"'PlSp43-48'!J24","v":"Gruppe E8"}]
[{"$f":"IF(B13=0,\"\",Vorgaben!G$3)","v":"2014-06-29"},{"$f":"'PlSp43-48'!C25","v":"12:26:00"},null,null,null,null,null,null,null,null,null,null,null,null,null,"2014-06-29","12:26:00",null,1,null,{"$f":"'PlSp43-48'!B25","v":117},{"$f":"'PlSp43-48'!E25","v":"Gruppe F7"},{"$f":"'PlSp43-48'!J25","v":"Gruppe B2"}]
[{"$f":"IF(B14=0,\"\",Vorgaben!G$3)","v":"2014-06-29"},{"$f":"'PlSp43-48'!C26","v":"12:48:00"},null,null,null,null,null,null,null,null,null,null,null,null,null,"2014-06-29","12:48:00",null,1,null,{"$f":"'PlSp43-48'!B26","v":118},{"$f":"'PlSp43-48'!E26","v":"Gruppe D6"},{"$f":"'PlSp43-48'!J26","v":"Gruppe A1"}]
[{"$f":"IF(B15=0,\"\",Vorgaben!G$3)","v":"2014-06-29"},{"$f":"'PlSp43-48'!C27","v":"12:59:00"},null,null,null,null,null,null,null,null,null,null,null,null,null,"2014-06-29","12:59:00",null,1,null,{"$f":"'PlSp43-48'!B27","v":119},{"$f":"'PlSp43-48'!E27","v":"Gruppe C6"},{"$f":"'PlSp43-48'!J27","v":"Gruppe F7"}]
[{"$f":"IF(B16=0,\"\",Vorgaben!G$3)","v":"2014-06-29"},{"$f":"'PlSp43-48'!C28","v":"13:21:00"},null,null,null,null,null,null,null,null,null,null,null,null,null,"2014-06-29","13:21:00",null,1,null,{"$f":"'PlSp43-48'!B28","v":120},{"$f":"'PlSp43-48'!E28","v":"Gruppe B2"},{"$f":"'PlSp43-48'!J28","v":"Gruppe D6"}]